Workbook
Name Department: Dashboard!$E$10
Name DMonth: Dashboard!$I$10
Name Employee: Dashboard!$C$10
Name employeedata: OFFSET(Cal!$CV$6,,,Cal!$CV$3)
Name Month: Calendar!$E$7
Name monthvalue: OFFSET(Cal!$DH$20,,,Cal!$DJ$18)
Name Name: Calendar!$E$8
Name nameall: OFFSET(Cal!$CS$5,,,Cal!$CS$3)
Name namelist: OFFSET(Cal!$CS$6,,,Cal!$CS$3-1)
Name numberdata: OFFSET(Cal!$CW$6,,,Cal!$CV$3)
Name Position: Dashboard!$G$10
Name Year: Menu!$F$7

Sheet Menu
C2: MONTHLY EMPLOYEE TIMESHEET
C3: NAVIGATION MENU
C7: Choose Year | F7: 2023
F9: EMPLOYEE TIMESHEET
F20: OUTPUT

Sheet Employee
C2: MONTHLY EMPLOYEE TIMESHEET
C3: EMPLOYEE DATABASE
C6: Employee ID | D6: Name | E6: Department | F6: Job Title | G6: Salary(Hourly)
C7: M-0001 | D7: Jemima Begum | E7: Operations | F7: Director | G7: 65
C8: M-0002 | D8: Mercedes Banks | E8: Accounting | F8: Vice-Director | G8: 55
C9: M-0003 | D9: Macauley Peck | E9: Marketing | F9: Vice-Director | G9: 55
C10: M-0004 | D10: Hannah Shaw | E10: Sales | F10: Expert | G10: 25
C11: N-0005 | D11: Carmel Beltran | E11: Sales | F11: Salesman | G11: 20
C12: N-0006 | D12: Sarah-Jayne Morrison | E12: Sales | F12: Salesman | G12: 20
C13: E-0007 | D13: Alyce Milner | E13: Sales | F13: Salesman | G13: 16
C14: E-0008 | D14: Aviana Kenny | E14: Operations | F14: Expert | G14: 25

Sheet Jan
C2: MONTHLY EMPLOYEE TIMESHEET
C3: JANUARY
C7: Employee Name | D7: =IFERROR(INDEX(Cal!$C$18:$C$24,WEEKDAY(D8&".01."&Year)),"") -> Sun | E7: =IFERROR(INDEX(Cal!$C$18:$C$24,WEEKDAY(E8&".01."&Year)),"") -> Mon | F7: =IFERROR(INDEX(Cal!$C$18:$C$24,WEEKDAY(F8&".01."&Year)),"") -> Tue | G7: =IFERROR(INDEX(Cal!$C$18:$C$24,WEEKDAY(G8&".01."&Year)),"") -> Wed | H7: =IFERROR(INDEX(Cal!$C$18:$C$24,WEEKDAY(H8&".01."&Year)),"") -> Thu | I7: =IFERROR(INDEX(Cal!$C$18:$C$24,WEEKDAY(I8&".01."&Year)),"") -> Fri | J7: =IFERROR(INDEX(Cal!$C$18:$C$24,WEEKDAY(J8&".01."&Year)),"") -> Sat | K7: =IFERROR(INDEX(Cal!$C$18:$C$24,WEEKDAY(K8&".01."&Year)),"") -> Sun | ... AH7: =IFERROR(INDEX(Cal!$C$18:$C$24,WEEKDAY(AH8&".01."&Year)),"") -> Tue
C8: Jemima Begum | D8: 1 | E8: 2 | F8: 3 | G8: 4 | H8: 5 | I8: 6 | J8: 7 | K8: 8 | L8: 9 | M8: 10 | N8: 11 | O8: 12 | P8: 13 | Q8: 14 | R8: 15 | S8: 16 | T8: 17 | U8: 18 | V8: 19 | W8: 20 | X8: 21 | Y8: 22 | Z8: 23 | AA8: 24 | AB8: 25 | AC8: 26 | AD8: 27 | AE8: 28 | AF8: 29 | AG8: 30 | AH8: 31 | AI8: Total
C9: Standard Hours | E9: 8 | F9: 8 | G9: 8 | H9: 8 | I9: 8 | L9: 8 | M9: 8 | N9: 8 | O9: 8 | P9: 8 | S9: 8 | T9: 8 | U9: 8 | V9: 8 | W9: 8 | Z9: 8 | AA9: 8 | AB9: 8 | AC9: 8 | AD9: 8 | AG9: 8 | AH9: 8 | AI9: =IF(LEN(C8)=0,"",SUM(D9:AH9)) -> 176
C10: Overtime Hours | Q10: 2 | R10: 2 | AI10: =IF(LEN(C8)=0,"",SUM(D10:AH10)) -> 4
C11: Overtime Salary(Hourly) | Q11: 50 | R11: 50 | AI11: =IF(LEN(C8)=0,"",SUMPRODUCT(D10:AH10,D11:AH11)) -> 200
C12: Total Hours | D12: =IFERROR(IF(AND(LEN(D9)=0,LEN(D10)=0),"",D9+D10),"") | E12: =IFERROR(IF(AND(LEN(E9)=0,LEN(E10)=0),"",E9+E10),"") -> 8 | F12: =IFERROR(IF(AND(LEN(F9)=0,LEN(F10)=0),"",F9+F10),"") -> 8 | G12: =IFERROR(IF(AND(LEN(G9)=0,LEN(G10)=0),"",G9+G10),"") -> 8 | H12: =IFERROR(IF(AND(LEN(H9)=0,LEN(H10)=0),"",H9+H10),"") -> 8 | I12: =IFERROR(IF(AND(LEN(I9)=0,LEN(I10)=0),"",I9+I10),"") -> 8 | J12: =IFERROR(IF(AND(LEN(J9)=0,LEN(J10)=0),"",J9+J10),"") | K12: =IFERROR(IF(AND(LEN(K9)=0,LEN(K10)=0),"",K9+K10),"") | ... AH12: =IFERROR(IF(AND(LEN(AH9)=0,LEN(AH10)=0),"",AH9+AH10),"") -> 8 | AI12: =IF(LEN(C8)=0,"",SUM(D12:AH12)) -> 180
C14: Employee Name | D14: =D$7 -> Sun | E14: =E$7 -> Mon | F14: =F$7 -> Tue | G14: =G$7 -> Wed | H14: =H$7 -> Thu | I14: =I$7 -> Fri | J14: =J$7 -> Sat | K14: =K$7 -> Sun | ... AH14: =AH$7 -> Tue
C15: Mercedes Banks | D15: 1 | E15: 2 | F15: 3 | G15: 4 | H15: 5 | I15: 6 | J15: 7 | K15: 8 | L15: 9 | M15: 10 | N15: 11 | O15: 12 | P15: 13 | Q15: 14 | R15: 15 | S15: 16 | T15: 17 | U15: 18 | V15: 19 | W15: 20 | X15: 21 | Y15: 22 | Z15: 23 | AA15: 24 | AB15: 25 | AC15: 26 | AD15: 27 | AE15: 28 | AF15: 29 | AG15: 30 | AH15: 31 | AI15: Total
C16: Standard Hours | E16: 8 | F16: 8 | G16: 8 | H16: 8 | I16: 8 | L16: 8 | M16: 8 | N16: 8 | O16: 8 | P16: 8 | S16: 8 | T16: 8 | U16: 8 | V16: 8 | W16: 8 | Z16: 8 | AA16: 8 | AB16: 8 | AC16: 8 | AD16: 8 | AG16: 8 | AH16: 8 | AI16: =IF(LEN(C15)=0,"",SUM(D16:AH16)) -> 176
C17: Overtime Hours | AI17: =IF(LEN(C15)=0,"",SUM(D17:AH17)) -> 0
C18: Overtime Salary(Hourly) | AI18: =IF(LEN(C15)=0,"",SUMPRODUCT(D17:AH17,D18:AH18)) -> 0
C19: Total Hours | D19: =IFERROR(IF(AND(LEN(D16)=0,LEN(D17)=0),"",D16+D17),"") | E19: =IFERROR(IF(AND(LEN(E16)=0,LEN(E17)=0),"",E16+E17),"") -> 8 | F19: =IFERROR(IF(AND(LEN(F16)=0,LEN(F17)=0),"",F16+F17),"") -> 8 | G19: =IFERROR(IF(AND(LEN(G16)=0,LEN(G17)=0),"",G16+G17),"") -> 8 | H19: =IFERROR(IF(AND(LEN(H16)=0,LEN(H17)=0),"",H16+H17),"") -> 8 | I19: =IFERROR(IF(AND(LEN(I16)=0,LEN(I17)=0),"",I16+I17),"") -> 8 | J19: =IFERROR(IF(AND(LEN(J16)=0,LEN(J17)=0),"",J16+J17),"") | K19: =IFERROR(IF(AND(LEN(K16)=0,LEN(K17)=0),"",K16+K17),"") | ... AH19: =IFERROR(IF(AND(LEN(AH16)=0,LEN(AH17)=0),"",AH16+AH17),"") -> 8 | AI19: =IF(LEN(C15)=0,"",SUM(D19:AH19)) -> 176
C21: Employee Name | D21: =D$7 -> Sun | E21: =E$7 -> Mon | F21: =F$7 -> Tue | G21: =G$7 -> Wed | H21: =H$7 -> Thu | I21: =I$7 -> Fri | J21: =J$7 -> Sat | K21: =K$7 -> Sun | ... AH21: =AH$7 -> Tue
C22: Macauley Peck | D22: 1 | E22: 2 | F22: 3 | G22: 4 | H22: 5 | I22: 6 | J22: 7 | K22: 8 | L22: 9 | M22: 10 | N22: 11 | O22: 12 | P22: 13 | Q22: 14 | R22: 15 | S22: 16 | T22: 17 | U22: 18 | V22: 19 | W22: 20 | X22: 21 | Y22: 22 | Z22: 23 | AA22: 24 | AB22: 25 | AC22: 26 | AD22: 27 | AE22: 28 | AF22: 29 | AG22: 30 | AH22: 31 | AI22: Total
C23: Standard Hours | E23: 8 | F23: 8 | G23: 8 | H23: 8 | I23: 8 | L23: 8 | M23: 8 | N23: 8 | O23: 8 | P23: 8 | S23: 8 | T23: 8 | U23: 8 | V23: 8 | W23: 8 | Z23: 8 | AA23: 8 | AB23: 8 | AC23: 8 | AD23: 8 | AG23: 8 | AH23: 8 | AI23: =IF(LEN(C22)=0,"",SUM(D23:AH23)) -> 176
C24: Overtime Hours | Q24: 2 | R24: 2 | AI24: =IF(LEN(C22)=0,"",SUM(D24:AH24)) -> 4
C25: Overtime Salary(Hourly) | Q25: 70 | R25: 70 | AI25: =IF(LEN(C22)=0,"",SUMPRODUCT(D24:AH24,D25:AH25)) -> 280
C26: Total Hours | D26: =IFERROR(IF(AND(LEN(D23)=0,LEN(D24)=0),"",D23+D24),"") | E26: =IFERROR(IF(AND(LEN(E23)=0,LEN(E24)=0),"",E23+E24),"") -> 8 | F26: =IFERROR(IF(AND(LEN(F23)=0,LEN(F24)=0),"",F23+F24),"") -> 8 | G26: =IFERROR(IF(AND(LEN(G23)=0,LEN(G24)=0),"",G23+G24),"") -> 8 | H26: =IFERROR(IF(AND(LEN(H23)=0,LEN(H24)=0),"",H23+H24),"") -> 8 | I26: =IFERROR(IF(AND(LEN(I23)=0,LEN(I24)=0),"",I23+I24),"") -> 8 | J26: =IFERROR(IF(AND(LEN(J23)=0,LEN(J24)=0),"",J23+J24),"") | K26: =IFERROR(IF(AND(LEN(K23)=0,LEN(K24)=0),"",K23+K24),"") | ... AH26: =IFERROR(IF(AND(LEN(AH23)=0,LEN(AH24)=0),"",AH23+AH24),"") -> 8 | AI26: =IF(LEN(C22)=0,"",SUM(D26:AH26)) -> 180
C28: Employee Name | D28: =D$7 -> Sun | E28: =E$7 -> Mon | F28: =F$7 -> Tue | G28: =G$7 -> Wed | H28: =H$7 -> Thu | I28: =I$7 -> Fri | J28: =J$7 -> Sat | K28: =K$7 -> Sun | ... AH28: =AH$7 -> Tue
C29: Sarah-Jayne Morrison | D29: 1 | E29: 2 | F29: 3 | G29: 4 | H29: 5 | I29: 6 | J29: 7 | K29: 8 | L29: 9 | M29: 10 | N29: 11 | O29: 12 | P29: 13 | Q29: 14 | R29: 15 | S29: 16 | T29: 17 | U29: 18 | V29: 19 | W29: 20 | X29: 21 | Y29: 22 | Z29: 23 | AA29: 24 | AB29: 25 | AC29: 26 | AD29: 27 | AE29: 28 | AF29: 29 | AG29: 30 | AH29: 31 | AI29: Total
C30: Standard Hours | E30: 8 | F30: 8 | G30: 8 | H30: 8 | I30: 8 | L30: 8 | M30: 8 | N30: 8 | O30: 8 | P30: 8 | S30: 8 | T30: 8 | U30: 8 | V30: 8 | W30: 8 | Z30: 8 | AA30: 8 | AB30: 6 | AC30: 8 | AD30: 8 | AG30: 8 | AH30: 8 | AI30: =IF(LEN(C29)=0,"",SUM(D30:AH30)) -> 174
C31: Overtime Hours | Q31: 4 | R31: 4 | AI31: =IF(LEN(C29)=0,"",SUM(D31:AH31)) -> 8
C32: Overtime Salary(Hourly) | Q32: 25 | R32: 25 | AI32: =IF(LEN(C29)=0,"",SUMPRODUCT(D31:AH31,D32:AH32)) -> 200
C33: Total Hours | D33: =IFERROR(IF(AND(LEN(D30)=0,LEN(D31)=0),"",D30+D31),"") | E33: =IFERROR(IF(AND(LEN(E30)=0,LEN(E31)=0),"",E30+E31),"") -> 8 | F33: =IFERROR(IF(AND(LEN(F30)=0,LEN(F31)=0),"",F30+F31),"") -> 8 | G33: =IFERROR(IF(AND(LEN(G30)=0,LEN(G31)=0),"",G30+G31),"") -> 8 | H33: =IFERROR(IF(AND(LEN(H30)=0,LEN(H31)=0),"",H30+H31),"") -> 8 | I33: =IFERROR(IF(AND(LEN(I30)=0,LEN(I31)=0),"",I30+I31),"") -> 8 | J33: =IFERROR(IF(AND(LEN(J30)=0,LEN(J31)=0),"",J30+J31),"") | K33: =IFERROR(IF(AND(LEN(K30)=0,LEN(K31)=0),"",K30+K31),"") | ... AH33: =IFERROR(IF(AND(LEN(AH30)=0,LEN(AH31)=0),"",AH30+AH31),"") -> 8 | AI33: =IF(LEN(C29)=0,"",SUM(D33:AH33)) -> 182
C35: Employee Name | D35: =D$7 -> Sun | E35: =E$7 -> Mon | F35: =F$7 -> Tue | G35: =G$7 -> Wed | H35: =H$7 -> Thu | I35: =I$7 -> Fri | J35: =J$7 -> Sat | K35: =K$7 -> Sun | ... AH35: =AH$7 -> Tue
D36: 1 | E36: 2 | F36: 3 | G36: 4 | H36: 5 | I36: 6 | J36: 7 | K36: 8 | L36: 9 | M36: 10 | N36: 11 | O36: 12 | P36: 13 | Q36: 14 | R36: 15 | S36: 16 | T36: 17 | U36: 18 | V36: 19 | W36: 20 | X36: 21 | Y36: 22 | Z36: 23 | AA36: 24 | AB36: 25 | AC36: 26 | AD36: 27 | AE36: 28 | AF36: 29 | AG36: 30 | AH36: 31 | AI36: Total
C37: Standard Hours | AI37: =IF(LEN(C36)=0,"",SUM(D37:AH37))
C38: Overtime Hours | AI38: =IF(LEN(C36)=0,"",SUM(D38:AH38))
C39: Overtime Salary(Hourly) | AI39: =IF(LEN(C36)=0,"",SUMPRODUCT(D38:AH38,D39:AH39))
C40: Total Hours | D40: =IFERROR(IF(AND(LEN(D37)=0,LEN(D38)=0),"",D37+D38),"") | E40: =IFERROR(IF(AND(LEN(E37)=0,LEN(E38)=0),"",E37+E38),"") | F40: =IFERROR(IF(AND(LEN(F37)=0,LEN(F38)=0),"",F37+F38),"") | G40: =IFERROR(IF(AND(LEN(G37)=0,LEN(G38)=0),"",G37+G38),"") | H40: =IFERROR(IF(AND(LEN(H37)=0,LEN(H38)=0),"",H37+H38),"") | I40: =IFERROR(IF(AND(LEN(I37)=0,LEN(I38)=0),"",I37+I38),"") | J40: =IFERROR(IF(AND(LEN(J37)=0,LEN(J38)=0),"",J37+J38),"") | K40: =IFERROR(IF(AND(LEN(K37)=0,LEN(K38)=0),"",K37+K38),"") | ... AH40: =IFERROR(IF(AND(LEN(AH37)=0,LEN(AH38)=0),"",AH37+AH38),"") | AI40: =IF(LEN(C36)=0,"",SUM(D40:AH40))
C42: Employee Name | D42: =D$7 -> Sun | E42: =E$7 -> Mon | F42: =F$7 -> Tue | G42: =G$7 -> Wed | H42: =H$7 -> Thu | I42: =I$7 -> Fri | J42: =J$7 -> Sat | K42: =K$7 -> Sun | ... AH42: =AH$7 -> Tue
D43: 1 | E43: 2 | F43: 3 | G43: 4 | H43: 5 | I43: 6 | J43: 7 | K43: 8 | L43: 9 | M43: 10 | N43: 11 | O43: 12 | P43: 13 | Q43: 14 | R43: 15 | S43: 16 | T43: 17 | U43: 18 | V43: 19 | W43: 20 | X43: 21 | Y43: 22 | Z43: 23 | AA43: 24 | AB43: 25 | AC43: 26 | AD43: 27 | AE43: 28 | AF43: 29 | AG43: 30 | AH43: 31 | AI43: Total
C44: Standard Hours
C45: Overtime Hours
C46: Overtime Salary(Hourly)
C47: Total Hours
C49: Employee Name | D49: =D$7 -> Sun | E49: =E$7 -> Mon | F49: =F$7 -> Tue | G49: =G$7 -> Wed | H49: =H$7 -> Thu | I49: =I$7 -> Fri | J49: =J$7 -> Sat | K49: =K$7 -> Sun | ... AH49: =AH$7 -> Tue
D50: 1 | E50: 2 | F50: 3 | G50: 4 | H50: 5 | I50: 6 | J50: 7 | K50: 8 | L50: 9 | M50: 10 | N50: 11 | O50: 12 | P50: 13 | Q50: 14 | R50: 15 | S50: 16 | T50: 17 | U50: 18 | V50: 19 | W50: 20 | X50: 21 | Y50: 22 | Z50: 23 | AA50: 24 | AB50: 25 | AC50: 26 | AD50: 27 | AE50: 28 | AF50: 29 | AG50: 30 | AH50: 31 | AI50: Total
C51: Standard Hours
C52: Overtime Hours
C53: Overtime Salary(Hourly)
C54: Total Hours
C56: Employee Name | D56: =D$7 -> Sun | E56: =E$7 -> Mon | F56: =F$7 -> Tue | G56: =G$7 -> Wed | H56: =H$7 -> Thu | I56: =I$7 -> Fri | J56: =J$7 -> Sat | K56: =K$7 -> Sun | ... AH56: =AH$7 -> Tue
D57: 1 | E57: 2 | F57: 3 | G57: 4 | H57: 5 | I57: 6 | J57: 7 | K57: 8 | L57: 9 | M57: 10 | N57: 11 | O57: 12 | P57: 13 | Q57: 14 | R57: 15 | S57: 16 | T57: 17 | U57: 18 | V57: 19 | W57: 20 | X57: 21 | Y57: 22 | Z57: 23 | AA57: 24 | AB57: 25 | AC57: 26 | AD57: 27 | AE57: 28 | AF57: 29 | AG57: 30 | AH57: 31 | AI57: Total
C58: Standard Hours
C59: Overtime Hours
C60: Overtime Salary(Hourly)
C61: Total Hours
C63: Employee Name | D63: =D$7 -> Sun | E63: =E$7 -> Mon | F63: =F$7 -> Tue | G63: =G$7 -> Wed | H63: =H$7 -> Thu | I63: =I$7 -> Fri | J63: =J$7 -> Sat | K63: =K$7 -> Sun | ... AH63: =AH$7 -> Tue
D64: 1 | E64: 2 | F64: 3 | G64: 4 | H64: 5 | I64: 6 | J64: 7 | K64: 8 | L64: 9 | M64: 10 | N64: 11 | O64: 12 | P64: 13 | Q64: 14 | R64: 15 | S64: 16 | T64: 17 | U64: 18 | V64: 19 | W64: 20 | X64: 21 | Y64: 22 | Z64: 23 | AA64: 24 | AB64: 25 | AC64: 26 | AD64: 27 | AE64: 28 | AF64: 29 | AG64: 30 | AH64: 31 | AI64: Total
C65: Standard Hours
C66: Overtime Hours
C67: Overtime Salary(Hourly)
C68: Total Hours
C70: Employee Name | D70: =D$7 -> Sun | E70: =E$7 -> Mon | F70: =F$7 -> Tue | G70: =G$7 -> Wed | H70: =H$7 -> Thu | I70: =I$7 -> Fri | J70: =J$7 -> Sat | K70: =K$7 -> Sun | ... AH70: =AH$7 -> Tue
D71: 1 | E71: 2 | F71: 3 | G71: 4 | H71: 5 | I71: 6 | J71: 7 | K71: 8 | L71: 9 | M71: 10 | N71: 11 | O71: 12 | P71: 13 | Q71: 14 | R71: 15 | S71: 16 | T71: 17 | U71: 18 | V71: 19 | W71: 20 | X71: 21 | Y71: 22 | Z71: 23 | AA71: 24 | AB71: 25 | AC71: 26 | AD71: 27 | AE71: 28 | AF71: 29 | AG71: 30 | AH71: 31 | AI71: Total
C72: Standard Hours
C73: Overtime Hours
C74: Overtime Salary(Hourly)
C75: Total Hours
C77: Employee Name | D77: =D$7 -> Sun | E77: =E$7 -> Mon | F77: =F$7 -> Tue | G77: =G$7 -> Wed | H77: =H$7 -> Thu | I77: =I$7 -> Fri | J77: =J$7 -> Sat | K77: =K$7 -> Sun | ... AH77: =AH$7 -> Tue
D78: 1 | E78: 2 | F78: 3 | G78: 4 | H78: 5 | I78: 6 | J78: 7 | K78: 8 | L78: 9 | M78: 10 | N78: 11 | O78: 12 | P78: 13 | Q78: 14 | R78: 15 | S78: 16 | T78: 17 | U78: 18 | V78: 19 | W78: 20 | X78: 21 | Y78: 22 | Z78: 23 | AA78: 24 | AB78: 25 | AC78: 26 | AD78: 27 | AE78: 28 | AF78: 29 | AG78: 30 | AH78: 31 | AI78: Total
C79: Standard Hours
C80: Overtime Hours
C81: Overtime Salary(Hourly)
C82: Total Hours
C84: Employee Name | D84: =D$7 -> Sun | E84: =E$7 -> Mon | F84: =F$7 -> Tue | G84: =G$7 -> Wed | H84: =H$7 -> Thu | I84: =I$7 -> Fri | J84: =J$7 -> Sat | K84: =K$7 -> Sun | ... AH84: =AH$7 -> Tue
D85: 1 | E85: 2 | F85: 3 | G85: 4 | H85: 5 | I85: 6 | J85: 7 | K85: 8 | L85: 9 | M85: 10 | N85: 11 | O85: 12 | P85: 13 | Q85: 14 | R85: 15 | S85: 16 | T85: 17 | U85: 18 | V85: 19 | W85: 20 | X85: 21 | Y85: 22 | Z85: 23 | AA85: 24 | AB85: 25 | AC85: 26 | AD85: 27 | AE85: 28 | AF85: 29 | AG85: 30 | AH85: 31 | AI85: Total
C86: Standard Hours
C87: Overtime Hours
C88: Overtime Salary(Hourly)
C89: Total Hours
C91: Employee Name | D91: =D$7 -> Sun | E91: =E$7 -> Mon | F91: =F$7 -> Tue | G91: =G$7 -> Wed | H91: =H$7 -> Thu | I91: =I$7 -> Fri | J91: =J$7 -> Sat | K91: =K$7 -> Sun | ... AH91: =AH$7 -> Tue
D92: 1 | E92: 2 | F92: 3 | G92: 4 | H92: 5 | I92: 6 | J92: 7 | K92: 8 | L92: 9 | M92: 10 | N92: 11 | O92: 12 | P92: 13 | Q92: 14 | R92: 15 | S92: 16 | T92: 17 | U92: 18 | V92: 19 | W92: 20 | X92: 21 | Y92: 22 | Z92: 23 | AA92: 24 | AB92: 25 | AC92: 26 | AD92: 27 | AE92: 28 | AF92: 29 | AG92: 30 | AH92: 31 | AI92: Total
C93: Standard Hours
C94: Overtime Hours
C95: Overtime Salary(Hourly)
C96: Total Hours
C98: Employee Name | D98: =D$7 -> Sun | E98: =E$7 -> Mon | F98: =F$7 -> Tue | G98: =G$7 -> Wed | H98: =H$7 -> Thu | I98: =I$7 -> Fri | J98: =J$7 -> Sat | K98: =K$7 -> Sun | ... AH98: =AH$7 -> Tue
D99: 1 | E99: 2 | F99: 3 | G99: 4 | H99: 5 | I99: 6 | J99: 7 | K99: 8 | L99: 9 | M99: 10 | N99: 11 | O99: 12 | P99: 13 | Q99: 14 | R99: 15 | S99: 16 | T99: 17 | U99: 18 | V99: 19 | W99: 20 | X99: 21 | Y99: 22 | Z99: 23 | AA99: 24 | AB99: 25 | AC99: 26 | AD99: 27 | AE99: 28 | AF99: 29 | AG99: 30 | AH99: 31 | AI99: Total
C100: Standard Hours
C101: Overtime Hours
C102: Overtime Salary(Hourly)
C103: Total Hours
C105: Employee Name | D105: =D$7 -> Sun | E105: =E$7 -> Mon | F105: =F$7 -> Tue | G105: =G$7 -> Wed | H105: =H$7 -> Thu | I105: =I$7 -> Fri | J105: =J$7 -> Sat | K105: =K$7 -> Sun | ... AH105: =AH$7 -> Tue
D106: 1 | E106: 2 | F106: 3 | G106: 4 | H106: 5 | I106: 6 | J106: 7 | K106: 8 | L106: 9 | M106: 10 | N106: 11 | O106: 12 | P106: 13 | Q106: 14 | R106: 15 | S106: 16 | T106: 17 | U106: 18 | V106: 19 | W106: 20 | X106: 21 | Y106: 22 | Z106: 23 | AA106: 24 | AB106: 25 | AC106: 26 | AD106: 27 | AE106: 28 | AF106: 29 | AG106: 30 | AH106: 31 | AI106: Total
C107: Standard Hours
C108: Overtime Hours
C109: Overtime Salary(Hourly)
C110: Total Hours
C112: Employee Name | D112: =D$7 -> Sun | E112: =E$7 -> Mon | F112: =F$7 -> Tue | G112: =G$7 -> Wed | H112: =H$7 -> Thu | I112: =I$7 -> Fri | J112: =J$7 -> Sat | K112: =K$7 -> Sun | ... AH112: =AH$7 -> Tue
D113: 1 | E113: 2 | F113: 3 | G113: 4 | H113: 5 | I113: 6 | J113: 7 | K113: 8 | L113: 9 | M113: 10 | N113: 11 | O113: 12 | P113: 13 | Q113: 14 | R113: 15 | S113: 16 | T113: 17 | U113: 18 | V113: 19 | W113: 20 | X113: 21 | Y113: 22 | Z113: 23 | AA113: 24 | AB113: 25 | AC113: 26 | AD113: 27 | AE113: 28 | AF113: 29 | AG113: 30 | AH113: 31 | AI113: Total
C114: Standard Hours
C115: Overtime Hours
C116: Overtime Salary(Hourly)
C117: Total Hours
C119: Employee Name | D119: =D$7 -> Sun | E119: =E$7 -> Mon | F119: =F$7 -> Tue | G119: =G$7 -> Wed | H119: =H$7 -> Thu | I119: =I$7 -> Fri | J119: =J$7 -> Sat | K119: =K$7 -> Sun | ... AH119: =AH$7 -> Tue
D120: 1 | E120: 2 | F120: 3 | G120: 4 | H120: 5 | I120: 6 | J120: 7 | K120: 8 | L120: 9 | M120: 10 | N120: 11 | O120: 12 | P120: 13 | Q120: 14 | R120: 15 | S120: 16 | T120: 17 | U120: 18 | V120: 19 | W120: 20 | X120: 21 | Y120: 22 | Z120: 23 | AA120: 24 | AB120: 25 | AC120: 26 | AD120: 27 | AE120: 28 | AF120: 29 | AG120: 30 | AH120: 31 | AI120: Total
...

Sheet Feb
C2: MONTHLY EMPLOYEE TIMESHEET
C3: FEBRUARY
C7: Employee Name | D7: =IFERROR(INDEX(Cal!$C$18:$C$24,WEEKDAY(D8&".02."&Year)),"") -> Wed | E7: =IFERROR(INDEX(Cal!$C$18:$C$24,WEEKDAY(E8&".02."&Year)),"") -> Thu | F7: =IFERROR(INDEX(Cal!$C$18:$C$24,WEEKDAY(F8&".02."&Year)),"") -> Fri | G7: =IFERROR(INDEX(Cal!$C$18:$C$24,WEEKDAY(G8&".02."&Year)),"") -> Sat | H7: =IFERROR(INDEX(Cal!$C$18:$C$24,WEEKDAY(H8&".02."&Year)),"") -> Sun | I7: =IFERROR(INDEX(Cal!$C$18:$C$24,WEEKDAY(I8&".02."&Year)),"") -> Mon | J7: =IFERROR(INDEX(Cal!$C$18:$C$24,WEEKDAY(J8&".02."&Year)),"") -> Tue | K7: =IFERROR(INDEX(Cal!$C$18:$C$24,WEEKDAY(K8&".02."&Year)),"") -> Wed | ... AF7: =IFERROR(INDEX(Cal!$C$18:$C$24,WEEKDAY(AF8&".02."&Year)),"")
C8: Jemima Begum | D8: 1 | E8: 2 | F8: 3 | G8: 4 | H8: 5 | I8: 6 | J8: 7 | K8: 8 | L8: 9 | M8: 10 | N8: 11 | O8: 12 | P8: 13 | Q8: 14 | R8: 15 | S8: 16 | T8: 17 | U8: 18 | V8: 19 | W8: 20 | X8: 21 | Y8: 22 | Z8: 23 | AA8: 24 | AB8: 25 | AC8: 26 | AD8: 27 | AE8: 28 | AF8: 29 | AI8: Total
C9: Standard Hours | D9: 6 | E9: 6 | F9: 6 | G9: 6 | I9: 6 | J9: 6 | K9: 6 | L9: 6 | M9: 6 | P9: 6 | Q9: 6 | R9: 6 | S9: 6 | T9: 6 | W9: 6 | X9: 6 | Y9: 6 | Z9: 6 | AA9: 6 | AD9: 6 | AE9: 6 | AI9: =IF(LEN(C8)=0,"",IF(LEN($AF$7)=0,SUM(D9:AE9),SUM(D9:AF9))) -> 126
C10: Overtime Hours | AI10: =IF(LEN(C8)=0,"",IF(LEN($AF$7)=0,SUM(D10:AE10),SUM(D10:AF10))) -> 0
C11: Overtime hours Salary | AI11: =IF(LEN(C8)=0,"",IF(LEN($AF$7)=0,SUMPRODUCT(D11:AE11,D10:AE10),SUMPRODUCT(D11:AF11,D10:AF10))) -> 0
C12: Total Hours | D12: =IFERROR(IF(AND(LEN(D9)=0,LEN(D10)=0),"",D9+D10),"") -> 6 | E12: =IFERROR(IF(AND(LEN(E9)=0,LEN(E10)=0),"",E9+E10),"") -> 6 | F12: =IFERROR(IF(AND(LEN(F9)=0,LEN(F10)=0),"",F9+F10),"") -> 6 | G12: =IFERROR(IF(AND(LEN(G9)=0,LEN(G10)=0),"",G9+G10),"") -> 6 | H12: =IFERROR(IF(AND(LEN(H9)=0,LEN(H10)=0),"",H9+H10),"") | I12: =IFERROR(IF(AND(LEN(I9)=0,LEN(I10)=0),"",I9+I10),"") -> 6 | J12: =IFERROR(IF(AND(LEN(J9)=0,LEN(J10)=0),"",J9+J10),"") -> 6 | K12: =IFERROR(IF(AND(LEN(K9)=0,LEN(K10)=0),"",K9+K10),"") -> 6 | ... AH12: =IFERROR(IF(AND(LEN(AH9)=0,LEN(AH10)=0),"",AH9+AH10),"") | AI12: =IF(LEN(C8)=0,"",IF(LEN($AF$7)=0,SUM(D12:AE12),SUM(D12:AF12))) -> 126
C14: Employee Name | D14: =D$7 -> Wed | E14: =E$7 -> Thu | F14: =F$7 -> Fri | G14: =G$7 -> Sat | H14: =H$7 -> Sun | I14: =I$7 -> Mon | J14: =J$7 -> Tue | K14: =K$7 -> Wed | ... AF14: =AF$7
C15: Mercedes Banks | D15: 1 | E15: 2 | F15: 3 | G15: 4 | H15: 5 | I15: 6 | J15: 7 | K15: 8 | L15: 9 | M15: 10 | N15: 11 | O15: 12 | P15: 13 | Q15: 14 | R15: 15 | S15: 16 | T15: 17 | U15: 18 | V15: 19 | W15: 20 | X15: 21 | Y15: 22 | Z15: 23 | AA15: 24 | AB15: 25 | AC15: 26 | AD15: 27 | AE15: 28 | AF15: 29 | AI15: Total
C16: Standard Hours | D16: 8 | E16: 8 | F16: 8 | K16: 8 | L16: 8 | M16: 8 | N16: 8 | O16: 8 | R16: 8 | S16: 8 | T16: 8 | U16: 8 | V16: 6 | Y16: 8 | Z16: 8 | AA16: 8 | AD16: 8 | AE16: 8 | AI16: =IF(LEN(C15)=0,"",IF(LEN($AF$7)=0,SUM(D16:AE16),SUM(D16:AF16))) -> 142
C17: Overtime Hours | V17: 2 | AI17: =IF(LEN(C15)=0,"",IF(LEN($AF$7)=0,SUM(D17:AE17),SUM(D17:AF17))) -> 2
C18: Overtime Salary(Hourly) | V18: 50 | AI18: =IF(LEN(C15)=0,"",IF(LEN($AF$7)=0,SUMPRODUCT(D18:AE18,D17:AE17),SUMPRODUCT(D18:AF18,D17:AF17))) -> 100
C19: Total Hours | D19: =IFERROR(IF(AND(LEN(D16)=0,LEN(D17)=0),"",D16+D17),"") -> 8 | E19: =IFERROR(IF(AND(LEN(E16)=0,LEN(E17)=0),"",E16+E17),"") -> 8 | F19: =IFERROR(IF(AND(LEN(F16)=0,LEN(F17)=0),"",F16+F17),"") -> 8 | G19: =IFERROR(IF(AND(LEN(G16)=0,LEN(G17)=0),"",G16+G17),"") | H19: =IFERROR(IF(AND(LEN(H16)=0,LEN(H17)=0),"",H16+H17),"") | I19: =IFERROR(IF(AND(LEN(I16)=0,LEN(I17)=0),"",I16+I17),"") | J19: =IFERROR(IF(AND(LEN(J16)=0,LEN(J17)=0),"",J16+J17),"") | K19: =IFERROR(IF(AND(LEN(K16)=0,LEN(K17)=0),"",K16+K17),"") -> 8 | ... AH19: =IFERROR(IF(AND(LEN(AH16)=0,LEN(AH17)=0),"",AH16+AH17),"") | AI19: =IF(LEN(C15)=0,"",IF(LEN($AF$7)=0,SUM(D19:AE19),SUM(D19:AF19))) -> 144
C21: Employee Name | D21: =D$7 -> Wed | E21: =E$7 -> Thu | F21: =F$7 -> Fri | G21: =G$7 -> Sat | H21: =H$7 -> Sun | I21: =I$7 -> Mon | J21: =J$7 -> Tue | K21: =K$7 -> Wed | ... AF21: =AF$7
C22: Macauley Peck | D22: 1 | E22: 2 | F22: 3 | G22: 4 | H22: 5 | I22: 6 | J22: 7 | K22: 8 | L22: 9 | M22: 10 | N22: 11 | O22: 12 | P22: 13 | Q22: 14 | R22: 15 | S22: 16 | T22: 17 | U22: 18 | V22: 19 | W22: 20 | X22: 21 | Y22: 22 | Z22: 23 | AA22: 24 | AB22: 25 | AC22: 26 | AD22: 27 | AE22: 28 | AF22: 29 | AI22: Total
C23: Standard Hours | D23: 8 | E23: 8 | F23: 8 | H23: 8 | I23: 8 | J23: 8 | K23: 8 | L23: 8 | M23: 8 | P23: 8 | Q23: 8 | R23: 8 | S23: 8 | T23: 8 | W23: 8 | X23: 8 | Y23: 8 | Z23: 8 | AA23: 8 | AD23: 8 | AE23: 8 | AI23: =IF(LEN(C22)=0,"",IF(LEN($AF$7)=0,SUM(D23:AE23),SUM(D23:AF23))) -> 168
C24: Overtime Hours | AI24: =IF(LEN(C22)=0,"",IF(LEN($AF$7)=0,SUM(D24:AE24),SUM(D24:AF24))) -> 0
C25: Overtime Salary(Hourly) | AI25: =IF(LEN(C22)=0,"",IF(LEN($AF$7)=0,SUMPRODUCT(D25:AE25,D24:AE24),SUMPRODUCT(D25:AF25,D24:AF24))) -> 0
C26: Total Hours | D26: =IFERROR(IF(AND(LEN(D23)=0,LEN(D24)=0),"",D23+D24),"") -> 8 | E26: =IFERROR(IF(AND(LEN(E23)=0,LEN(E24)=0),"",E23+E24),"") -> 8 | F26: =IFERROR(IF(AND(LEN(F23)=0,LEN(F24)=0),"",F23+F24),"") -> 8 | G26: =IFERROR(IF(AND(LEN(G23)=0,LEN(G24)=0),"",G23+G24),"") | H26: =IFERROR(IF(AND(LEN(H23)=0,LEN(H24)=0),"",H23+H24),"") -> 8 | I26: =IFERROR(IF(AND(LEN(I23)=0,LEN(I24)=0),"",I23+I24),"") -> 8 | J26: =IFERROR(IF(AND(LEN(J23)=0,LEN(J24)=0),"",J23+J24),"") -> 8 | K26: =IFERROR(IF(AND(LEN(K23)=0,LEN(K24)=0),"",K23+K24),"") -> 8 | ... AH26: =IFERROR(IF(AND(LEN(AH23)=0,LEN(AH24)=0),"",AH23+AH24),"") | AI26: =IF(LEN(C22)=0,"",IF(LEN($AF$7)=0,SUM(D26:AE26),SUM(D26:AF26))) -> 168
C28: Employee Name | D28: =D$7 -> Wed | E28: =E$7 -> Thu | F28: =F$7 -> Fri | G28: =G$7 -> Sat | H28: =H$7 -> Sun | I28: =I$7 -> Mon | J28: =J$7 -> Tue | K28: =K$7 -> Wed | ... AF28: =AF$7
C29: Sarah-Jayne Morrison | D29: 1 | E29: 2 | F29: 3 | G29: 4 | H29: 5 | I29: 6 | J29: 7 | K29: 8 | L29: 9 | M29: 10 | N29: 11 | O29: 12 | P29: 13 | Q29: 14 | R29: 15 | S29: 16 | T29: 17 | U29: 18 | V29: 19 | W29: 20 | X29: 21 | Y29: 22 | Z29: 23 | AA29: 24 | AB29: 25 | AC29: 26 | AD29: 27 | AE29: 28 | AF29: 29 | AI29: Total
C30: Standard Hours | D30: 4 | E30: 4 | F30: 4 | G30: 4 | I30: 4 | J30: 4 | K30: 4 | L30: 4 | M30: 4 | N30: 4 | R30: 4 | S30: 4 | T30: 4 | U30: 4 | V30: 4 | W30: 4 | Y30: 4 | Z30: 4 | AA30: 4 | AB30: 4 | AD30: 4 | AE30: 4 | AI30: =IF(LEN(C29)=0,"",IF(LEN($AF$7)=0,SUM(D30:AE30),SUM(D30:AF30))) -> 88
C31: Overtime Hours | O31: 6 | AI31: =IF(LEN(C29)=0,"",IF(LEN($AF$7)=0,SUM(D31:AE31),SUM(D31:AF31))) -> 6
C32: Overtime Salary(Hourly) | O32: 40 | AI32: =IF(LEN(C29)=0,"",IF(LEN($AF$7)=0,SUMPRODUCT(D32:AE32,D31:AE31),SUMPRODUCT(D32:AF32,D31:AF31))) -> 240
C33: Total Hours | D33: =IFERROR(IF(AND(LEN(D30)=0,LEN(D31)=0),"",D30+D31),"") -> 4 | E33: =IFERROR(IF(AND(LEN(E30)=0,LEN(E31)=0),"",E30+E31),"") -> 4 | F33: =IFERROR(IF(AND(LEN(F30)=0,LEN(F31)=0),"",F30+F31),"") -> 4 | G33: =IFERROR(IF(AND(LEN(G30)=0,LEN(G31)=0),"",G30+G31),"") -> 4 | H33: =IFERROR(IF(AND(LEN(H30)=0,LEN(H31)=0),"",H30+H31),"") | I33: =IFERROR(IF(AND(LEN(I30)=0,LEN(I31)=0),"",I30+I31),"") -> 4 | J33: =IFERROR(IF(AND(LEN(J30)=0,LEN(J31)=0),"",J30+J31),"") -> 4 | K33: =IFERROR(IF(AND(LEN(K30)=0,LEN(K31)=0),"",K30+K31),"") -> 4 | ... AH33: =IFERROR(IF(AND(LEN(AH30)=0,LEN(AH31)=0),"",AH30+AH31),"") | AI33: =IF(LEN(C29)=0,"",IF(LEN($AF$7)=0,SUM(D33:AE33),SUM(D33:AF33))) -> 94
C35: Employee Name | D35: =D$7 -> Wed | E35: =E$7 -> Thu | F35: =F$7 -> Fri | G35: =G$7 -> Sat | H35: =H$7 -> Sun | I35: =I$7 -> Mon | J35: =J$7 -> Tue | K35: =K$7 -> Wed | ... AF35: =AF$7
D36: 1 | E36: 2 | F36: 3 | G36: 4 | H36: 5 | I36: 6 | J36: 7 | K36: 8 | L36: 9 | M36: 10 | N36: 11 | O36: 12 | P36: 13 | Q36: 14 | R36: 15 | S36: 16 | T36: 17 | U36: 18 | V36: 19 | W36: 20 | X36: 21 | Y36: 22 | Z36: 23 | AA36: 24 | AB36: 25 | AC36: 26 | AD36: 27 | AE36: 28 | AF36: 29 | AI36: Total
C37: Standard Hours
C38: Overtime Hours
C39: Overtime Salary(Hourly)
C40: Total Hours
C42: Employee Name | D42: =D$7 -> Wed | E42: =E$7 -> Thu | F42: =F$7 -> Fri | G42: =G$7 -> Sat | H42: =H$7 -> Sun | I42: =I$7 -> Mon | J42: =J$7 -> Tue | K42: =K$7 -> Wed | ... AF42: =AF$7
D43: 1 | E43: 2 | F43: 3 | G43: 4 | H43: 5 | I43: 6 | J43: 7 | K43: 8 | L43: 9 | M43: 10 | N43: 11 | O43: 12 | P43: 13 | Q43: 14 | R43: 15 | S43: 16 | T43: 17 | U43: 18 | V43: 19 | W43: 20 | X43: 21 | Y43: 22 | Z43: 23 | AA43: 24 | AB43: 25 | AC43: 26 | AD43: 27 | AE43: 28 | AF43: 29 | AI43: Total
C44: Standard Hours
C45: Overtime Hours
C46: Overtime Salary(Hourly)
C47: Total Hours
C49: Employee Name | D49: =D$7 -> Wed | E49: =E$7 -> Thu | F49: =F$7 -> Fri | G49: =G$7 -> Sat | H49: =H$7 -> Sun | I49: =I$7 -> Mon | J49: =J$7 -> Tue | K49: =K$7 -> Wed | ... AF49: =AF$7
D50: 1 | E50: 2 | F50: 3 | G50: 4 | H50: 5 | I50: 6 | J50: 7 | K50: 8 | L50: 9 | M50: 10 | N50: 11 | O50: 12 | P50: 13 | Q50: 14 | R50: 15 | S50: 16 | T50: 17 | U50: 18 | V50: 19 | W50: 20 | X50: 21 | Y50: 22 | Z50: 23 | AA50: 24 | AB50: 25 | AC50: 26 | AD50: 27 | AE50: 28 | AF50: 29 | AI50: Total
C51: Standard Hours
C52: Overtime Hours
C53: Overtime Salary(Hourly)
C54: Total Hours
C56: Employee Name | D56: =D$7 -> Wed | E56: =E$7 -> Thu | F56: =F$7 -> Fri | G56: =G$7 -> Sat | H56: =H$7 -> Sun | I56: =I$7 -> Mon | J56: =J$7 -> Tue | K56: =K$7 -> Wed | ... AF56: =AF$7
D57: 1 | E57: 2 | F57: 3 | G57: 4 | H57: 5 | I57: 6 | J57: 7 | K57: 8 | L57: 9 | M57: 10 | N57: 11 | O57: 12 | P57: 13 | Q57: 14 | R57: 15 | S57: 16 | T57: 17 | U57: 18 | V57: 19 | W57: 20 | X57: 21 | Y57: 22 | Z57: 23 | AA57: 24 | AB57: 25 | AC57: 26 | AD57: 27 | AE57: 28 | AF57: 29 | AI57: Total
C58: Standard Hours
C59: Overtime Hours
C60: Overtime Salary(Hourly)
C61: Total Hours
C63: Employee Name | D63: =D$7 -> Wed | E63: =E$7 -> Thu | F63: =F$7 -> Fri | G63: =G$7 -> Sat | H63: =H$7 -> Sun | I63: =I$7 -> Mon | J63: =J$7 -> Tue | K63: =K$7 -> Wed | ... AF63: =AF$7
D64: 1 | E64: 2 | F64: 3 | G64: 4 | H64: 5 | I64: 6 | J64: 7 | K64: 8 | L64: 9 | M64: 10 | N64: 11 | O64: 12 | P64: 13 | Q64: 14 | R64: 15 | S64: 16 | T64: 17 | U64: 18 | V64: 19 | W64: 20 | X64: 21 | Y64: 22 | Z64: 23 | AA64: 24 | AB64: 25 | AC64: 26 | AD64: 27 | AE64: 28 | AF64: 29 | AI64: Total
C65: Standard Hours
C66: Overtime Hours
C67: Overtime Salary(Hourly)
C68: Total Hours
C70: Employee Name | D70: =D$7 -> Wed | E70: =E$7 -> Thu | F70: =F$7 -> Fri | G70: =G$7 -> Sat | H70: =H$7 -> Sun | I70: =I$7 -> Mon | J70: =J$7 -> Tue | K70: =K$7 -> Wed | ... AF70: =AF$7
D71: 1 | E71: 2 | F71: 3 | G71: 4 | H71: 5 | I71: 6 | J71: 7 | K71: 8 | L71: 9 | M71: 10 | N71: 11 | O71: 12 | P71: 13 | Q71: 14 | R71: 15 | S71: 16 | T71: 17 | U71: 18 | V71: 19 | W71: 20 | X71: 21 | Y71: 22 | Z71: 23 | AA71: 24 | AB71: 25 | AC71: 26 | AD71: 27 | AE71: 28 | AF71: 29 | AI71: Total
C72: Standard Hours
C73: Overtime Hours
C74: Overtime Salary(Hourly)
C75: Total Hours
C77: Employee Name | D77: =D$7 -> Wed | E77: =E$7 -> Thu | F77: =F$7 -> Fri | G77: =G$7 -> Sat | H77: =H$7 -> Sun | I77: =I$7 -> Mon | J77: =J$7 -> Tue | K77: =K$7 -> Wed | ... AF77: =AF$7
D78: 1 | E78: 2 | F78: 3 | G78: 4 | H78: 5 | I78: 6 | J78: 7 | K78: 8 | L78: 9 | M78: 10 | N78: 11 | O78: 12 | P78: 13 | Q78: 14 | R78: 15 | S78: 16 | T78: 17 | U78: 18 | V78: 19 | W78: 20 | X78: 21 | Y78: 22 | Z78: 23 | AA78: 24 | AB78: 25 | AC78: 26 | AD78: 27 | AE78: 28 | AF78: 29 | AI78: Total
C79: Standard Hours
C80: Overtime Hours
C81: Overtime Salary(Hourly)
C82: Total Hours
C84: Employee Name | D84: =D$7 -> Wed | E84: =E$7 -> Thu | F84: =F$7 -> Fri | G84: =G$7 -> Sat | H84: =H$7 -> Sun | I84: =I$7 -> Mon | J84: =J$7 -> Tue | K84: =K$7 -> Wed | ... AF84: =AF$7
D85: 1 | E85: 2 | F85: 3 | G85: 4 | H85: 5 | I85: 6 | J85: 7 | K85: 8 | L85: 9 | M85: 10 | N85: 11 | O85: 12 | P85: 13 | Q85: 14 | R85: 15 | S85: 16 | T85: 17 | U85: 18 | V85: 19 | W85: 20 | X85: 21 | Y85: 22 | Z85: 23 | AA85: 24 | AB85: 25 | AC85: 26 | AD85: 27 | AE85: 28 | AF85: 29 | AI85: Total
C86: Standard Hours
C87: Overtime Hours
C88: Overtime Salary(Hourly)
C89: Total Hours
C91: Employee Name | D91: =D$7 -> Wed | E91: =E$7 -> Thu | F91: =F$7 -> Fri | G91: =G$7 -> Sat | H91: =H$7 -> Sun | I91: =I$7 -> Mon | J91: =J$7 -> Tue | K91: =K$7 -> Wed | ... AF91: =AF$7
D92: 1 | E92: 2 | F92: 3 | G92: 4 | H92: 5 | I92: 6 | J92: 7 | K92: 8 | L92: 9 | M92: 10 | N92: 11 | O92: 12 | P92: 13 | Q92: 14 | R92: 15 | S92: 16 | T92: 17 | U92: 18 | V92: 19 | W92: 20 | X92: 21 | Y92: 22 | Z92: 23 | AA92: 24 | AB92: 25 | AC92: 26 | AD92: 27 | AE92: 28 | AF92: 29 | AI92: Total
C93: Standard Hours
C94: Overtime Hours
C95: Overtime Salary(Hourly)
C96: Total Hours
C98: Employee Name | D98: =D$7 -> Wed | E98: =E$7 -> Thu | F98: =F$7 -> Fri | G98: =G$7 -> Sat | H98: =H$7 -> Sun | I98: =I$7 -> Mon | J98: =J$7 -> Tue | K98: =K$7 -> Wed | ... AF98: =AF$7
D99: 1 | E99: 2 | F99: 3 | G99: 4 | H99: 5 | I99: 6 | J99: 7 | K99: 8 | L99: 9 | M99: 10 | N99: 11 | O99: 12 | P99: 13 | Q99: 14 | R99: 15 | S99: 16 | T99: 17 | U99: 18 | V99: 19 | W99: 20 | X99: 21 | Y99: 22 | Z99: 23 | AA99: 24 | AB99: 25 | AC99: 26 | AD99: 27 | AE99: 28 | AF99: 29 | AI99: Total
C100: Standard Hours
C101: Overtime Hours
C102: Overtime Salary(Hourly)
C103: Total Hours
C105: Employee Name | D105: =D$7 -> Wed | E105: =E$7 -> Thu | F105: =F$7 -> Fri | G105: =G$7 -> Sat | H105: =H$7 -> Sun | I105: =I$7 -> Mon | J105: =J$7 -> Tue | K105: =K$7 -> Wed | ... AF105: =AF$7
D106: 1 | E106: 2 | F106: 3 | G106: 4 | H106: 5 | I106: 6 | J106: 7 | K106: 8 | L106: 9 | M106: 10 | N106: 11 | O106: 12 | P106: 13 | Q106: 14 | R106: 15 | S106: 16 | T106: 17 | U106: 18 | V106: 19 | W106: 20 | X106: 21 | Y106: 22 | Z106: 23 | AA106: 24 | AB106: 25 | AC106: 26 | AD106: 27 | AE106: 28 | AF106: 29 | AI106: Total
C107: Standard Hours
C108: Overtime Hours
C109: Overtime Salary(Hourly)
C110: Total Hours
C112: Employee Name | D112: =D$7 -> Wed | E112: =E$7 -> Thu | F112: =F$7 -> Fri | G112: =G$7 -> Sat | H112: =H$7 -> Sun | I112: =I$7 -> Mon | J112: =J$7 -> Tue | K112: =K$7 -> Wed | ... AF112: =AF$7
D113: 1 | E113: 2 | F113: 3 | G113: 4 | H113: 5 | I113: 6 | J113: 7 | K113: 8 | L113: 9 | M113: 10 | N113: 11 | O113: 12 | P113: 13 | Q113: 14 | R113: 15 | S113: 16 | T113: 17 | U113: 18 | V113: 19 | W113: 20 | X113: 21 | Y113: 22 | Z113: 23 | AA113: 24 | AB113: 25 | AC113: 26 | AD113: 27 | AE113: 28 | AF113: 29 | AI113: Total
C114: Standard Hours
C115: Overtime Hours
C116: Overtime Salary(Hourly)
C117: Total Hours
C119: Employee Name | D119: =D$7 -> Wed | E119: =E$7 -> Thu | F119: =F$7 -> Fri | G119: =G$7 -> Sat | H119: =H$7 -> Sun | I119: =I$7 -> Mon | J119: =J$7 -> Tue | K119: =K$7 -> Wed | ... AF119: =AF$7
D120: 1 | E120: 2 | F120: 3 | G120: 4 | H120: 5 | I120: 6 | J120: 7 | K120: 8 | L120: 9 | M120: 10 | N120: 11 | O120: 12 | P120: 13 | Q120: 14 | R120: 15 | S120: 16 | T120: 17 | U120: 18 | V120: 19 | W120: 20 | X120: 21 | Y120: 22 | Z120: 23 | AA120: 24 | AB120: 25 | AC120: 26 | AD120: 27 | AE120: 28 | AF120: 29 | AI120: Total
...

Sheet Mar
C2: MONTHLY EMPLOYEE TIMESHEET
C3: MARCH
C7: Employee Name | D7: =IFERROR(INDEX(Cal!$C$18:$C$24,WEEKDAY(D8&".03."&Year)),"") -> Wed | E7: =IFERROR(INDEX(Cal!$C$18:$C$24,WEEKDAY(E8&".03."&Year)),"") -> Thu | F7: =IFERROR(INDEX(Cal!$C$18:$C$24,WEEKDAY(F8&".03."&Year)),"") -> Fri | G7: =IFERROR(INDEX(Cal!$C$18:$C$24,WEEKDAY(G8&".03."&Year)),"") -> Sat | H7: =IFERROR(INDEX(Cal!$C$18:$C$24,WEEKDAY(H8&".03."&Year)),"") -> Sun | I7: =IFERROR(INDEX(Cal!$C$18:$C$24,WEEKDAY(I8&".03."&Year)),"") -> Mon | J7: =IFERROR(INDEX(Cal!$C$18:$C$24,WEEKDAY(J8&".03."&Year)),"") -> Tue | K7: =IFERROR(INDEX(Cal!$C$18:$C$24,WEEKDAY(K8&".03."&Year)),"") -> Wed | ... AH7: =IFERROR(INDEX(Cal!$C$18:$C$24,WEEKDAY(AH8&".03."&Year)),"") -> Fri
C8: Jemima Begum | D8: 1 | E8: 2 | F8: 3 | G8: 4 | H8: 5 | I8: 6 | J8: 7 | K8: 8 | L8: 9 | M8: 10 | N8: 11 | O8: 12 | P8: 13 | Q8: 14 | R8: 15 | S8: 16 | T8: 17 | U8: 18 | V8: 19 | W8: 20 | X8: 21 | Y8: 22 | Z8: 23 | AA8: 24 | AB8: 25 | AC8: 26 | AD8: 27 | AE8: 28 | AF8: 29 | AG8: 30 | AH8: 31 | AI8: Total
C9: Standard Hours | D9: 7 | E9: 7 | F9: 7 | G9: 7 | H9: 7 | K9: 7 | L9: 7 | M9: 7 | N9: 7 | O9: 7 | R9: 7 | S9: 7 | T9: 7 | W9: 7 | X9: 7 | Y9: 7 | Z9: 7 | AA9: 7 | AD9: 7 | AE9: 7 | AF9: 7 | AG9: 7 | AH9: 7 | AI9: =IF(LEN(C8)=0,"",SUM(D9:AH9)) -> 161
C10: Overtime Hours | AI10: =IF(LEN(C8)=0,"",SUM(D10:AH10)) -> 0
C11: Overtime Salary(Hourly) | AI11: =IF(LEN(C8)=0,"",SUMPRODUCT(D10:AH10,D11:AH11)) -> 0
C12: Total Hours | D12: =IFERROR(IF(AND(LEN(D9)=0,LEN(D10)=0),"",D9+D10),"") -> 7 | E12: =IFERROR(IF(AND(LEN(E9)=0,LEN(E10)=0),"",E9+E10),"") -> 7 | F12: =IFERROR(IF(AND(LEN(F9)=0,LEN(F10)=0),"",F9+F10),"") -> 7 | G12: =IFERROR(IF(AND(LEN(G9)=0,LEN(G10)=0),"",G9+G10),"") -> 7 | H12: =IFERROR(IF(AND(LEN(H9)=0,LEN(H10)=0),"",H9+H10),"") -> 7 | I12: =IFERROR(IF(AND(LEN(I9)=0,LEN(I10)=0),"",I9+I10),"") | J12: =IFERROR(IF(AND(LEN(J9)=0,LEN(J10)=0),"",J9+J10),"") | K12: =IFERROR(IF(AND(LEN(K9)=0,LEN(K10)=0),"",K9+K10),"") -> 7 | ... AH12: =IFERROR(IF(AND(LEN(AH9)=0,LEN(AH10)=0),"",AH9+AH10),"") -> 7 | AI12: =IF(LEN(C8)=0,"",SUM(D12:AH12)) -> 161
C14: Employee Name | D14: =D$7 -> Wed | E14: =E$7 -> Thu | F14: =F$7 -> Fri | G14: =G$7 -> Sat | H14: =H$7 -> Sun | I14: =I$7 -> Mon | J14: =J$7 -> Tue | K14: =K$7 -> Wed | ... AH14: =AH$7 -> Fri
C15: Mercedes Banks | D15: 1 | E15: 2 | F15: 3 | G15: 4 | H15: 5 | I15: 6 | J15: 7 | K15: 8 | L15: 9 | M15: 10 | N15: 11 | O15: 12 | P15: 13 | Q15: 14 | R15: 15 | S15: 16 | T15: 17 | U15: 18 | V15: 19 | W15: 20 | X15: 21 | Y15: 22 | Z15: 23 | AA15: 24 | AB15: 25 | AC15: 26 | AD15: 27 | AE15: 28 | AF15: 29 | AG15: 30 | AH15: 31 | AI15: Total
C16: Standard Hours | D16: 8 | E16: 8 | F16: 8 | I16: 8 | J16: 8 | K16: 8 | L16: 8 | M16: 8 | P16: 8 | Q16: 8 | R16: 8 | S16: 8 | T16: 8 | W16: 8 | X16: 8 | Y16: 8 | Z16: 8 | AA16: 8 | AD16: 8 | AE16: 8 | AF16: 8 | AG16: 8 | AH16: 8 | AI16: =IF(LEN(C15)=0,"",SUM(D16:AH16)) -> 184
C17: Overtime Hours | AI17: =IF(LEN(C15)=0,"",SUM(D17:AH17)) -> 0
C18: Overtime Salary(Hourly) | AI18: =IF(LEN(C15)=0,"",SUMPRODUCT(D17:AH17,D18:AH18)) -> 0
C19: Total Hours | D19: =IFERROR(IF(AND(LEN(D16)=0,LEN(D17)=0),"",D16+D17),"") -> 8 | E19: =IFERROR(IF(AND(LEN(E16)=0,LEN(E17)=0),"",E16+E17),"") -> 8 | F19: =IFERROR(IF(AND(LEN(F16)=0,LEN(F17)=0),"",F16+F17),"") -> 8 | G19: =IFERROR(IF(AND(LEN(G16)=0,LEN(G17)=0),"",G16+G17),"") | H19: =IFERROR(IF(AND(LEN(H16)=0,LEN(H17)=0),"",H16+H17),"") | I19: =IFERROR(IF(AND(LEN(I16)=0,LEN(I17)=0),"",I16+I17),"") -> 8 | J19: =IFERROR(IF(AND(LEN(J16)=0,LEN(J17)=0),"",J16+J17),"") -> 8 | K19: =IFERROR(IF(AND(LEN(K16)=0,LEN(K17)=0),"",K16+K17),"") -> 8 | ... AH19: =IFERROR(IF(AND(LEN(AH16)=0,LEN(AH17)=0),"",AH16+AH17),"") -> 8 | AI19: =IF(LEN(C15)=0,"",SUM(D19:AH19)) -> 184
C21: Employee Name | D21: =D$7 -> Wed | E21: =E$7 -> Thu | F21: =F$7 -> Fri | G21: =G$7 -> Sat | H21: =H$7 -> Sun | I21: =I$7 -> Mon | J21: =J$7 -> Tue | K21: =K$7 -> Wed | ... AH21: =AH$7 -> Fri
C22: Macauley Peck | D22: 1 | E22: 2 | F22: 3 | G22: 4 | H22: 5 | I22: 6 | J22: 7 | K22: 8 | L22: 9 | M22: 10 | N22: 11 | O22: 12 | P22: 13 | Q22: 14 | R22: 15 | S22: 16 | T22: 17 | U22: 18 | V22: 19 | W22: 20 | X22: 21 | Y22: 22 | Z22: 23 | AA22: 24 | AB22: 25 | AC22: 26 | AD22: 27 | AE22: 28 | AF22: 29 | AG22: 30 | AH22: 31 | AI22: Total
C23: Standard Hours | D23: 8 | E23: 8 | F23: 8 | I23: 8 | J23: 8 | K23: 8 | L23: 8 | M23: 8 | P23: 8 | Q23: 8 | R23: 8 | S23: 8 | T23: 8 | W23: 8 | X23: 8 | Y23: 8 | Z23: 8 | AA23: 8 | AD23: 8 | AE23: 8 | AF23: 8 | AG23: 8 | AH23: 8 | AI23: =IF(LEN(C22)=0,"",SUM(D23:AH23)) -> 184
C24: Overtime Hours | AI24: =IF(LEN(C22)=0,"",SUM(D24:AH24)) -> 0
C25: Overtime Salary(Hourly) | AI25: =IF(LEN(C22)=0,"",SUMPRODUCT(D24:AH24,D25:AH25)) -> 0
C26: Total Hours | D26: =IFERROR(IF(AND(LEN(D23)=0,LEN(D24)=0),"",D23+D24),"") -> 8 | E26: =IFERROR(IF(AND(LEN(E23)=0,LEN(E24)=0),"",E23+E24),"") -> 8 | F26: =IFERROR(IF(AND(LEN(F23)=0,LEN(F24)=0),"",F23+F24),"") -> 8 | G26: =IFERROR(IF(AND(LEN(G23)=0,LEN(G24)=0),"",G23+G24),"") | H26: =IFERROR(IF(AND(LEN(H23)=0,LEN(H24)=0),"",H23+H24),"") | I26: =IFERROR(IF(AND(LEN(I23)=0,LEN(I24)=0),"",I23+I24),"") -> 8 | J26: =IFERROR(IF(AND(LEN(J23)=0,LEN(J24)=0),"",J23+J24),"") -> 8 | K26: =IFERROR(IF(AND(LEN(K23)=0,LEN(K24)=0),"",K23+K24),"") -> 8 | ... AH26: =IFERROR(IF(AND(LEN(AH23)=0,LEN(AH24)=0),"",AH23+AH24),"") -> 8 | AI26: =IF(LEN(C22)=0,"",SUM(D26:AH26)) -> 184
C28: Employee Name | D28: =D$7 -> Wed | E28: =E$7 -> Thu | F28: =F$7 -> Fri | G28: =G$7 -> Sat | H28: =H$7 -> Sun | I28: =I$7 -> Mon | J28: =J$7 -> Tue | K28: =K$7 -> Wed | ... AH28: =AH$7 -> Fri
C29: Sarah-Jayne Morrison | D29: 1 | E29: 2 | F29: 3 | G29: 4 | H29: 5 | I29: 6 | J29: 7 | K29: 8 | L29: 9 | M29: 10 | N29: 11 | O29: 12 | P29: 13 | Q29: 14 | R29: 15 | S29: 16 | T29: 17 | U29: 18 | V29: 19 | W29: 20 | X29: 21 | Y29: 22 | Z29: 23 | AA29: 24 | AB29: 25 | AC29: 26 | AD29: 27 | AE29: 28 | AF29: 29 | AG29: 30 | AH29: 31 | AI29: Total
C30: Standard Hours | D30: 8 | E30: 8 | F30: 8 | I30: 8 | J30: 8 | K30: 8 | L30: 8 | M30: 8 | P30: 8 | Q30: 8 | R30: 8 | S30: 8 | T30: 8 | W30: 8 | X30: 8 | Y30: 8 | Z30: 8 | AA30: 8 | AD30: 8 | AE30: 8 | AF30: 8 | AG30: 8 | AH30: 8 | AI30: =IF(LEN(C29)=0,"",SUM(D30:AH30)) -> 184
C31: Overtime Hours | AI31: =IF(LEN(C29)=0,"",SUM(D31:AH31)) -> 0
C32: Overtime Salary(Hourly) | AI32: =IF(LEN(C29)=0,"",SUMPRODUCT(D31:AH31,D32:AH32)) -> 0
C33: Total Hours | D33: =IFERROR(IF(AND(LEN(D30)=0,LEN(D31)=0),"",D30+D31),"") -> 8 | E33: =IFERROR(IF(AND(LEN(E30)=0,LEN(E31)=0),"",E30+E31),"") -> 8 | F33: =IFERROR(IF(AND(LEN(F30)=0,LEN(F31)=0),"",F30+F31),"") -> 8 | G33: =IFERROR(IF(AND(LEN(G30)=0,LEN(G31)=0),"",G30+G31),"") | H33: =IFERROR(IF(AND(LEN(H30)=0,LEN(H31)=0),"",H30+H31),"") | I33: =IFERROR(IF(AND(LEN(I30)=0,LEN(I31)=0),"",I30+I31),"") -> 8 | J33: =IFERROR(IF(AND(LEN(J30)=0,LEN(J31)=0),"",J30+J31),"") -> 8 | K33: =IFERROR(IF(AND(LEN(K30)=0,LEN(K31)=0),"",K30+K31),"") -> 8 | ... AH33: =IFERROR(IF(AND(LEN(AH30)=0,LEN(AH31)=0),"",AH30+AH31),"") -> 8 | AI33: =IF(LEN(C29)=0,"",SUM(D33:AH33)) -> 184
C35: Employee Name | D35: =D$7 -> Wed | E35: =E$7 -> Thu | F35: =F$7 -> Fri | G35: =G$7 -> Sat | H35: =H$7 -> Sun | I35: =I$7 -> Mon | J35: =J$7 -> Tue | K35: =K$7 -> Wed | ... AH35: =AH$7 -> Fri
D36: 1 | E36: 2 | F36: 3 | G36: 4 | H36: 5 | I36: 6 | J36: 7 | K36: 8 | L36: 9 | M36: 10 | N36: 11 | O36: 12 | P36: 13 | Q36: 14 | R36: 15 | S36: 16 | T36: 17 | U36: 18 | V36: 19 | W36: 20 | X36: 21 | Y36: 22 | Z36: 23 | AA36: 24 | AB36: 25 | AC36: 26 | AD36: 27 | AE36: 28 | AF36: 29 | AG36: 30 | AH36: 31 | AI36: Total
C37: Standard Hours | AI37: =IF(LEN(C36)=0,"",SUM(D37:AH37))
C38: Overtime Hours | AI38: =IF(LEN(C36)=0,"",SUM(D38:AH38))
C39: Overtime Salary(Hourly) | AI39: =IF(LEN(C36)=0,"",SUMPRODUCT(D38:AH38,D39:AH39))
C40: Total Hours | D40: =IFERROR(IF(AND(LEN(D37)=0,LEN(D38)=0),"",D37+D38),"") | E40: =IFERROR(IF(AND(LEN(E37)=0,LEN(E38)=0),"",E37+E38),"") | F40: =IFERROR(IF(AND(LEN(F37)=0,LEN(F38)=0),"",F37+F38),"") | G40: =IFERROR(IF(AND(LEN(G37)=0,LEN(G38)=0),"",G37+G38),"") | H40: =IFERROR(IF(AND(LEN(H37)=0,LEN(H38)=0),"",H37+H38),"") | I40: =IFERROR(IF(AND(LEN(I37)=0,LEN(I38)=0),"",I37+I38),"") | J40: =IFERROR(IF(AND(LEN(J37)=0,LEN(J38)=0),"",J37+J38),"") | K40: =IFERROR(IF(AND(LEN(K37)=0,LEN(K38)=0),"",K37+K38),"") | ... AH40: =IFERROR(IF(AND(LEN(AH37)=0,LEN(AH38)=0),"",AH37+AH38),"") | AI40: =IF(LEN(C36)=0,"",SUM(D40:AH40))
C42: Employee Name | D42: =D$7 -> Wed | E42: =E$7 -> Thu | F42: =F$7 -> Fri | G42: =G$7 -> Sat | H42: =H$7 -> Sun | I42: =I$7 -> Mon | J42: =J$7 -> Tue | K42: =K$7 -> Wed | ... AH42: =AH$7 -> Fri
D43: 1 | E43: 2 | F43: 3 | G43: 4 | H43: 5 | I43: 6 | J43: 7 | K43: 8 | L43: 9 | M43: 10 | N43: 11 | O43: 12 | P43: 13 | Q43: 14 | R43: 15 | S43: 16 | T43: 17 | U43: 18 | V43: 19 | W43: 20 | X43: 21 | Y43: 22 | Z43: 23 | AA43: 24 | AB43: 25 | AC43: 26 | AD43: 27 | AE43: 28 | AF43: 29 | AG43: 30 | AH43: 31 | AI43: Total
C44: Standard Hours
C45: Overtime Hours
C46: Overtime Salary(Hourly)
C47: Total Hours
C49: Employee Name | D49: =D$7 -> Wed | E49: =E$7 -> Thu | F49: =F$7 -> Fri | G49: =G$7 -> Sat | H49: =H$7 -> Sun | I49: =I$7 -> Mon | J49: =J$7 -> Tue | K49: =K$7 -> Wed | ... AH49: =AH$7 -> Fri
D50: 1 | E50: 2 | F50: 3 | G50: 4 | H50: 5 | I50: 6 | J50: 7 | K50: 8 | L50: 9 | M50: 10 | N50: 11 | O50: 12 | P50: 13 | Q50: 14 | R50: 15 | S50: 16 | T50: 17 | U50: 18 | V50: 19 | W50: 20 | X50: 21 | Y50: 22 | Z50: 23 | AA50: 24 | AB50: 25 | AC50: 26 | AD50: 27 | AE50: 28 | AF50: 29 | AG50: 30 | AH50: 31 | AI50: Total
C51: Standard Hours
C52: Overtime Hours
C53: Overtime Salary(Hourly)
C54: Total Hours
C56: Employee Name | D56: =D$7 -> Wed | E56: =E$7 -> Thu | F56: =F$7 -> Fri | G56: =G$7 -> Sat | H56: =H$7 -> Sun | I56: =I$7 -> Mon | J56: =J$7 -> Tue | K56: =K$7 -> Wed | ... AH56: =AH$7 -> Fri
D57: 1 | E57: 2 | F57: 3 | G57: 4 | H57: 5 | I57: 6 | J57: 7 | K57: 8 | L57: 9 | M57: 10 | N57: 11 | O57: 12 | P57: 13 | Q57: 14 | R57: 15 | S57: 16 | T57: 17 | U57: 18 | V57: 19 | W57: 20 | X57: 21 | Y57: 22 | Z57: 23 | AA57: 24 | AB57: 25 | AC57: 26 | AD57: 27 | AE57: 28 | AF57: 29 | AG57: 30 | AH57: 31 | AI57: Total
C58: Standard Hours
C59: Overtime Hours
C60: Overtime Salary(Hourly)
C61: Total Hours
C63: Employee Name | D63: =D$7 -> Wed | E63: =E$7 -> Thu | F63: =F$7 -> Fri | G63: =G$7 -> Sat | H63: =H$7 -> Sun | I63: =I$7 -> Mon | J63: =J$7 -> Tue | K63: =K$7 -> Wed | ... AH63: =AH$7 -> Fri
D64: 1 | E64: 2 | F64: 3 | G64: 4 | H64: 5 | I64: 6 | J64: 7 | K64: 8 | L64: 9 | M64: 10 | N64: 11 | O64: 12 | P64: 13 | Q64: 14 | R64: 15 | S64: 16 | T64: 17 | U64: 18 | V64: 19 | W64: 20 | X64: 21 | Y64: 22 | Z64: 23 | AA64: 24 | AB64: 25 | AC64: 26 | AD64: 27 | AE64: 28 | AF64: 29 | AG64: 30 | AH64: 31 | AI64: Total
C65: Standard Hours
C66: Overtime Hours
C67: Overtime Salary(Hourly)
C68: Total Hours
C70: Employee Name | D70: =D$7 -> Wed | E70: =E$7 -> Thu | F70: =F$7 -> Fri | G70: =G$7 -> Sat | H70: =H$7 -> Sun | I70: =I$7 -> Mon | J70: =J$7 -> Tue | K70: =K$7 -> Wed | ... AH70: =AH$7 -> Fri
D71: 1 | E71: 2 | F71: 3 | G71: 4 | H71: 5 | I71: 6 | J71: 7 | K71: 8 | L71: 9 | M71: 10 | N71: 11 | O71: 12 | P71: 13 | Q71: 14 | R71: 15 | S71: 16 | T71: 17 | U71: 18 | V71: 19 | W71: 20 | X71: 21 | Y71: 22 | Z71: 23 | AA71: 24 | AB71: 25 | AC71: 26 | AD71: 27 | AE71: 28 | AF71: 29 | AG71: 30 | AH71: 31 | AI71: Total
C72: Standard Hours
C73: Overtime Hours
C74: Overtime Salary(Hourly)
C75: Total Hours
C77: Employee Name | D77: =D$7 -> Wed | E77: =E$7 -> Thu | F77: =F$7 -> Fri | G77: =G$7 -> Sat | H77: =H$7 -> Sun | I77: =I$7 -> Mon | J77: =J$7 -> Tue | K77: =K$7 -> Wed | ... AH77: =AH$7 -> Fri
D78: 1 | E78: 2 | F78: 3 | G78: 4 | H78: 5 | I78: 6 | J78: 7 | K78: 8 | L78: 9 | M78: 10 | N78: 11 | O78: 12 | P78: 13 | Q78: 14 | R78: 15 | S78: 16 | T78: 17 | U78: 18 | V78: 19 | W78: 20 | X78: 21 | Y78: 22 | Z78: 23 | AA78: 24 | AB78: 25 | AC78: 26 | AD78: 27 | AE78: 28 | AF78: 29 | AG78: 30 | AH78: 31 | AI78: Total
C79: Standard Hours
C80: Overtime Hours
C81: Overtime Salary(Hourly)
C82: Total Hours
C84: Employee Name | D84: =D$7 -> Wed | E84: =E$7 -> Thu | F84: =F$7 -> Fri | G84: =G$7 -> Sat | H84: =H$7 -> Sun | I84: =I$7 -> Mon | J84: =J$7 -> Tue | K84: =K$7 -> Wed | ... AH84: =AH$7 -> Fri
D85: 1 | E85: 2 | F85: 3 | G85: 4 | H85: 5 | I85: 6 | J85: 7 | K85: 8 | L85: 9 | M85: 10 | N85: 11 | O85: 12 | P85: 13 | Q85: 14 | R85: 15 | S85: 16 | T85: 17 | U85: 18 | V85: 19 | W85: 20 | X85: 21 | Y85: 22 | Z85: 23 | AA85: 24 | AB85: 25 | AC85: 26 | AD85: 27 | AE85: 28 | AF85: 29 | AG85: 30 | AH85: 31 | AI85: Total
C86: Standard Hours
C87: Overtime Hours
C88: Overtime Salary(Hourly)
C89: Total Hours
C91: Employee Name | D91: =D$7 -> Wed | E91: =E$7 -> Thu | F91: =F$7 -> Fri | G91: =G$7 -> Sat | H91: =H$7 -> Sun | I91: =I$7 -> Mon | J91: =J$7 -> Tue | K91: =K$7 -> Wed | ... AH91: =AH$7 -> Fri
D92: 1 | E92: 2 | F92: 3 | G92: 4 | H92: 5 | I92: 6 | J92: 7 | K92: 8 | L92: 9 | M92: 10 | N92: 11 | O92: 12 | P92: 13 | Q92: 14 | R92: 15 | S92: 16 | T92: 17 | U92: 18 | V92: 19 | W92: 20 | X92: 21 | Y92: 22 | Z92: 23 | AA92: 24 | AB92: 25 | AC92: 26 | AD92: 27 | AE92: 28 | AF92: 29 | AG92: 30 | AH92: 31 | AI92: Total
C93: Standard Hours
C94: Overtime Hours
C95: Overtime Salary(Hourly)
C96: Total Hours
C98: Employee Name | D98: =D$7 -> Wed | E98: =E$7 -> Thu | F98: =F$7 -> Fri | G98: =G$7 -> Sat | H98: =H$7 -> Sun | I98: =I$7 -> Mon | J98: =J$7 -> Tue | K98: =K$7 -> Wed | ... AH98: =AH$7 -> Fri
D99: 1 | E99: 2 | F99: 3 | G99: 4 | H99: 5 | I99: 6 | J99: 7 | K99: 8 | L99: 9 | M99: 10 | N99: 11 | O99: 12 | P99: 13 | Q99: 14 | R99: 15 | S99: 16 | T99: 17 | U99: 18 | V99: 19 | W99: 20 | X99: 21 | Y99: 22 | Z99: 23 | AA99: 24 | AB99: 25 | AC99: 26 | AD99: 27 | AE99: 28 | AF99: 29 | AG99: 30 | AH99: 31 | AI99: Total
C100: Standard Hours
C101: Overtime Hours
C102: Overtime Salary(Hourly)
C103: Total Hours
C105: Employee Name | D105: =D$7 -> Wed | E105: =E$7 -> Thu | F105: =F$7 -> Fri | G105: =G$7 -> Sat | H105: =H$7 -> Sun | I105: =I$7 -> Mon | J105: =J$7 -> Tue | K105: =K$7 -> Wed | ... AH105: =AH$7 -> Fri
D106: 1 | E106: 2 | F106: 3 | G106: 4 | H106: 5 | I106: 6 | J106: 7 | K106: 8 | L106: 9 | M106: 10 | N106: 11 | O106: 12 | P106: 13 | Q106: 14 | R106: 15 | S106: 16 | T106: 17 | U106: 18 | V106: 19 | W106: 20 | X106: 21 | Y106: 22 | Z106: 23 | AA106: 24 | AB106: 25 | AC106: 26 | AD106: 27 | AE106: 28 | AF106: 29 | AG106: 30 | AH106: 31 | AI106: Total
C107: Standard Hours
C108: Overtime Hours
C109: Overtime Salary(Hourly)
C110: Total Hours
C112: Employee Name | D112: =D$7 -> Wed | E112: =E$7 -> Thu | F112: =F$7 -> Fri | G112: =G$7 -> Sat | H112: =H$7 -> Sun | I112: =I$7 -> Mon | J112: =J$7 -> Tue | K112: =K$7 -> Wed | ... AH112: =AH$7 -> Fri
D113: 1 | E113: 2 | F113: 3 | G113: 4 | H113: 5 | I113: 6 | J113: 7 | K113: 8 | L113: 9 | M113: 10 | N113: 11 | O113: 12 | P113: 13 | Q113: 14 | R113: 15 | S113: 16 | T113: 17 | U113: 18 | V113: 19 | W113: 20 | X113: 21 | Y113: 22 | Z113: 23 | AA113: 24 | AB113: 25 | AC113: 26 | AD113: 27 | AE113: 28 | AF113: 29 | AG113: 30 | AH113: 31 | AI113: Total
C114: Standard Hours
C115: Overtime Hours
C116: Overtime Salary(Hourly)
C117: Total Hours
C119: Employee Name | D119: =D$7 -> Wed | E119: =E$7 -> Thu | F119: =F$7 -> Fri | G119: =G$7 -> Sat | H119: =H$7 -> Sun | I119: =I$7 -> Mon | J119: =J$7 -> Tue | K119: =K$7 -> Wed | ... AH119: =AH$7 -> Fri
D120: 1 | E120: 2 | F120: 3 | G120: 4 | H120: 5 | I120: 6 | J120: 7 | K120: 8 | L120: 9 | M120: 10 | N120: 11 | O120: 12 | P120: 13 | Q120: 14 | R120: 15 | S120: 16 | T120: 17 | U120: 18 | V120: 19 | W120: 20 | X120: 21 | Y120: 22 | Z120: 23 | AA120: 24 | AB120: 25 | AC120: 26 | AD120: 27 | AE120: 28 | AF120: 29 | AG120: 30 | AH120: 31 | AI120: Total
...

Sheet Apr
C2: MONTHLY EMPLOYEE TIMESHEET
C3: APRIL
C7: Employee Name | D7: =IFERROR(INDEX(Cal!$C$18:$C$24,WEEKDAY(D8&".04."&Year)),"") -> Sat | E7: =IFERROR(INDEX(Cal!$C$18:$C$24,WEEKDAY(E8&".04."&Year)),"") -> Sun | F7: =IFERROR(INDEX(Cal!$C$18:$C$24,WEEKDAY(F8&".04."&Year)),"") -> Mon | G7: =IFERROR(INDEX(Cal!$C$18:$C$24,WEEKDAY(G8&".04."&Year)),"") -> Tue | H7: =IFERROR(INDEX(Cal!$C$18:$C$24,WEEKDAY(H8&".04."&Year)),"") -> Wed | I7: =IFERROR(INDEX(Cal!$C$18:$C$24,WEEKDAY(I8&".04."&Year)),"") -> Thu | J7: =IFERROR(INDEX(Cal!$C$18:$C$24,WEEKDAY(J8&".04."&Year)),"") -> Fri | K7: =IFERROR(INDEX(Cal!$C$18:$C$24,WEEKDAY(K8&".04."&Year)),"") -> Sat | ... AG7: =IFERROR(INDEX(Cal!$C$18:$C$24,WEEKDAY(AG8&".04."&Year)),"") -> Sun
C8: Jemima Begum | D8: 1 | E8: 2 | F8: 3 | G8: 4 | H8: 5 | I8: 6 | J8: 7 | K8: 8 | L8: 9 | M8: 10 | N8: 11 | O8: 12 | P8: 13 | Q8: 14 | R8: 15 | S8: 16 | T8: 17 | U8: 18 | V8: 19 | W8: 20 | X8: 21 | Y8: 22 | Z8: 23 | AA8: 24 | AB8: 25 | AC8: 26 | AD8: 27 | AE8: 28 | AF8: 29 | AG8: 30 | AI8: Total
C9: Standard Hours | F9: 8 | G9: 8 | H9: 8 | I9: 8 | J9: 8 | M9: 8 | N9: 8 | O9: 8 | P9: 8 | Q9: 8 | T9: 8 | U9: 8 | V9: 8 | W9: 8 | X9: 8 | AA9: 8 | AB9: 8 | AC9: 8 | AD9: 8 | AE9: 8 | AI9: =IF(LEN(C8)=0,"",SUM(D9:AG9)) -> 160
C10: Overtime Hours | R10: 4 | Y10: 4 | AG10: 4 | AI10: =IF(LEN(C8)=0,"",SUM(D10:AG10)) -> 12
C11: Overtime Salary(Hourly) | R11: 50 | Y11: 50 | AG11: 60 | AI11: =IF(LEN(C8)=0,"",SUMPRODUCT(D10:AG10,D11:AG11)) -> 640
C12: Total Hours | D12: =IFERROR(IF(AND(LEN(D9)=0,LEN(D10)=0),"",D9+D10),"") | E12: =IFERROR(IF(AND(LEN(E9)=0,LEN(E10)=0),"",E9+E10),"") | F12: =IFERROR(IF(AND(LEN(F9)=0,LEN(F10)=0),"",F9+F10),"") -> 8 | G12: =IFERROR(IF(AND(LEN(G9)=0,LEN(G10)=0),"",G9+G10),"") -> 8 | H12: =IFERROR(IF(AND(LEN(H9)=0,LEN(H10)=0),"",H9+H10),"") -> 8 | I12: =IFERROR(IF(AND(LEN(I9)=0,LEN(I10)=0),"",I9+I10),"") -> 8 | J12: =IFERROR(IF(AND(LEN(J9)=0,LEN(J10)=0),"",J9+J10),"") -> 8 | K12: =IFERROR(IF(AND(LEN(K9)=0,LEN(K10)=0),"",K9+K10),"") | ... AH12: =IFERROR(IF(AND(LEN(AH9)=0,LEN(AH10)=0),"",AH9+AH10),"") | AI12: =IF(LEN(C8)=0,"",SUM(D12:AG12)) -> 172
C14: Employee Name | D14: =D$7 -> Sat | E14: =E$7 -> Sun | F14: =F$7 -> Mon | G14: =G$7 -> Tue | H14: =H$7 -> Wed | I14: =I$7 -> Thu | J14: =J$7 -> Fri | K14: =K$7 -> Sat | ... AG14: =AG$7 -> Sun
C15: Mercedes Banks | D15: 1 | E15: 2 | F15: 3 | G15: 4 | H15: 5 | I15: 6 | J15: 7 | K15: 8 | L15: 9 | M15: 10 | N15: 11 | O15: 12 | P15: 13 | Q15: 14 | R15: 15 | S15: 16 | T15: 17 | U15: 18 | V15: 19 | W15: 20 | X15: 21 | Y15: 22 | Z15: 23 | AA15: 24 | AB15: 25 | AC15: 26 | AD15: 27 | AE15: 28 | AF15: 29 | AG15: 30 | AI15: Total
C16: Standard Hours | F16: 8 | G16: 8 | H16: 8 | I16: 8 | J16: 8 | M16: 8 | N16: 8 | O16: 8 | P16: 8 | Q16: 8 | T16: 8 | U16: 8 | V16: 8 | W16: 8 | X16: 8 | AA16: 8 | AB16: 8 | AC16: 8 | AD16: 8 | AE16: 8 | AI16: =IF(LEN(C15)=0,"",SUM(D16:AG16)) -> 160
C17: Overtime Hours | K17: 4 | S17: 4 | Z17: 4 | AF17: 4 | AI17: =IF(LEN(C15)=0,"",SUM(D17:AG17)) -> 16
C18: Overtime Salary(Hourly) | K18: 50 | S18: 60 | Z18: 60 | AF18: 50 | AI18: =IF(LEN(C15)=0,"",SUMPRODUCT(D17:AG17,D18:AG18)) -> 880
C19: Total Hours | D19: =IFERROR(IF(AND(LEN(D16)=0,LEN(D17)=0),"",D16+D17),"") | E19: =IFERROR(IF(AND(LEN(E16)=0,LEN(E17)=0),"",E16+E17),"") | F19: =IFERROR(IF(AND(LEN(F16)=0,LEN(F17)=0),"",F16+F17),"") -> 8 | G19: =IFERROR(IF(AND(LEN(G16)=0,LEN(G17)=0),"",G16+G17),"") -> 8 | H19: =IFERROR(IF(AND(LEN(H16)=0,LEN(H17)=0),"",H16+H17),"") -> 8 | I19: =IFERROR(IF(AND(LEN(I16)=0,LEN(I17)=0),"",I16+I17),"") -> 8 | J19: =IFERROR(IF(AND(LEN(J16)=0,LEN(J17)=0),"",J16+J17),"") -> 8 | K19: =IFERROR(IF(AND(LEN(K16)=0,LEN(K17)=0),"",K16+K17),"") -> 4 | ... AH19: =IFERROR(IF(AND(LEN(AH16)=0,LEN(AH17)=0),"",AH16+AH17),"") | AI19: =IF(LEN(C15)=0,"",SUM(D19:AG19)) -> 176
C21: Employee Name | D21: =D$7 -> Sat | E21: =E$7 -> Sun | F21: =F$7 -> Mon | G21: =G$7 -> Tue | H21: =H$7 -> Wed | I21: =I$7 -> Thu | J21: =J$7 -> Fri | K21: =K$7 -> Sat | ... AG21: =AG$7 -> Sun
C22: Macauley Peck | D22: 1 | E22: 2 | F22: 3 | G22: 4 | H22: 5 | I22: 6 | J22: 7 | K22: 8 | L22: 9 | M22: 10 | N22: 11 | O22: 12 | P22: 13 | Q22: 14 | R22: 15 | S22: 16 | T22: 17 | U22: 18 | V22: 19 | W22: 20 | X22: 21 | Y22: 22 | Z22: 23 | AA22: 24 | AB22: 25 | AC22: 26 | AD22: 27 | AE22: 28 | AF22: 29 | AG22: 30 | AI22: Total
C23: Standard Hours | F23: 8 | G23: 8 | H23: 8 | I23: 8 | J23: 8 | N23: 8 | O23: 8 | P23: 8 | Q23: 8 | U23: 8 | V23: 8 | W23: 8 | X23: 8 | AA23: 8 | AB23: 8 | AC23: 8 | AD23: 8 | AE23: 8 | AI23: =IF(LEN(C22)=0,"",SUM(D23:AG23)) -> 144
C24: Overtime Hours | K24: 2 | L24: 4 | R24: 2 | S24: 4 | Y24: 4 | AI24: =IF(LEN(C22)=0,"",SUM(D24:AG24)) -> 16
C25: Overtime Salary(Hourly) | K25: 60 | L25: 60 | R25: 60 | S25: 60 | Y25: 60 | AI25: =IF(LEN(C22)=0,"",SUMPRODUCT(D24:AG24,D25:AG25)) -> 960
C26: Total Hours | D26: =IFERROR(IF(AND(LEN(D23)=0,LEN(D24)=0),"",D23+D24),"") | E26: =IFERROR(IF(AND(LEN(E23)=0,LEN(E24)=0),"",E23+E24),"") | F26: =IFERROR(IF(AND(LEN(F23)=0,LEN(F24)=0),"",F23+F24),"") -> 8 | G26: =IFERROR(IF(AND(LEN(G23)=0,LEN(G24)=0),"",G23+G24),"") -> 8 | H26: =IFERROR(IF(AND(LEN(H23)=0,LEN(H24)=0),"",H23+H24),"") -> 8 | I26: =IFERROR(IF(AND(LEN(I23)=0,LEN(I24)=0),"",I23+I24),"") -> 8 | J26: =IFERROR(IF(AND(LEN(J23)=0,LEN(J24)=0),"",J23+J24),"") -> 8 | K26: =IFERROR(IF(AND(LEN(K23)=0,LEN(K24)=0),"",K23+K24),"") -> 2 | ... AH26: =IFERROR(IF(AND(LEN(AH23)=0,LEN(AH24)=0),"",AH23+AH24),"") | AI26: =IF(LEN(C22)=0,"",SUM(D26:AG26)) -> 160
C28: Employee Name | D28: =D$7 -> Sat | E28: =E$7 -> Sun | F28: =F$7 -> Mon | G28: =G$7 -> Tue | H28: =H$7 -> Wed | I28: =I$7 -> Thu | J28: =J$7 -> Fri | K28: =K$7 -> Sat | ... AG28: =AG$7 -> Sun
C29: Sarah-Jayne Morrison | D29: 1 | E29: 2 | F29: 3 | G29: 4 | H29: 5 | I29: 6 | J29: 7 | K29: 8 | L29: 9 | M29: 10 | N29: 11 | O29: 12 | P29: 13 | Q29: 14 | R29: 15 | S29: 16 | T29: 17 | U29: 18 | V29: 19 | W29: 20 | X29: 21 | Y29: 22 | Z29: 23 | AA29: 24 | AB29: 25 | AC29: 26 | AD29: 27 | AE29: 28 | AF29: 29 | AG29: 30 | AI29: Total
C30: Standard Hours | G30: 8 | H30: 8 | I30: 8 | J30: 8 | M30: 8 | N30: 8 | O30: 8 | P30: 8 | Q30: 8 | T30: 8 | U30: 8 | V30: 8 | W30: 8 | X30: 8 | AA30: 8 | AB30: 8 | AC30: 8 | AD30: 8 | AE30: 8 | AI30: =IF(LEN(C29)=0,"",SUM(D30:AG30)) -> 152
C31: Overtime Hours | E31: 4 | K31: 4 | AG31: 2 | AI31: =IF(LEN(C29)=0,"",SUM(D31:AG31)) -> 10
C32: Overtime Salary(Hourly) | E32: 50 | K32: 50 | AG32: 50 | AI32: =IF(LEN(C29)=0,"",SUMPRODUCT(D31:AG31,D32:AG32)) -> 500
C33: Total Hours | D33: =IFERROR(IF(AND(LEN(D30)=0,LEN(D31)=0),"",D30+D31),"") | E33: =IFERROR(IF(AND(LEN(E30)=0,LEN(E31)=0),"",E30+E31),"") -> 4 | F33: =IFERROR(IF(AND(LEN(F30)=0,LEN(F31)=0),"",F30+F31),"") | G33: =IFERROR(IF(AND(LEN(G30)=0,LEN(G31)=0),"",G30+G31),"") -> 8 | H33: =IFERROR(IF(AND(LEN(H30)=0,LEN(H31)=0),"",H30+H31),"") -> 8 | I33: =IFERROR(IF(AND(LEN(I30)=0,LEN(I31)=0),"",I30+I31),"") -> 8 | J33: =IFERROR(IF(AND(LEN(J30)=0,LEN(J31)=0),"",J30+J31),"") -> 8 | K33: =IFERROR(IF(AND(LEN(K30)=0,LEN(K31)=0),"",K30+K31),"") -> 4 | ... AH33: =IFERROR(IF(AND(LEN(AH30)=0,LEN(AH31)=0),"",AH30+AH31),"") | AI33: =IF(LEN(C29)=0,"",SUM(D33:AG33)) -> 162
C35: Employee Name | D35: =D$7 -> Sat | E35: =E$7 -> Sun | F35: =F$7 -> Mon | G35: =G$7 -> Tue | H35: =H$7 -> Wed | I35: =I$7 -> Thu | J35: =J$7 -> Fri | K35: =K$7 -> Sat | ... AG35: =AG$7 -> Sun
D36: 1 | E36: 2 | F36: 3 | G36: 4 | H36: 5 | I36: 6 | J36: 7 | K36: 8 | L36: 9 | M36: 10 | N36: 11 | O36: 12 | P36: 13 | Q36: 14 | R36: 15 | S36: 16 | T36: 17 | U36: 18 | V36: 19 | W36: 20 | X36: 21 | Y36: 22 | Z36: 23 | AA36: 24 | AB36: 25 | AC36: 26 | AD36: 27 | AE36: 28 | AF36: 29 | AG36: 30 | AI36: Total
C37: Standard Hours | AI37: =IF(LEN(C36)=0,"",SUM(D37:AG37))
C38: Overtime Hours | AI38: =IF(LEN(C36)=0,"",SUM(D38:AG38))
C39: Overtime Salary(Hourly) | AI39: =IF(LEN(C36)=0,"",SUMPRODUCT(D38:AG38,D39:AG39))
C40: Total Hours | D40: =IFERROR(IF(AND(LEN(D37)=0,LEN(D38)=0),"",D37+D38),"") | E40: =IFERROR(IF(AND(LEN(E37)=0,LEN(E38)=0),"",E37+E38),"") | F40: =IFERROR(IF(AND(LEN(F37)=0,LEN(F38)=0),"",F37+F38),"") | G40: =IFERROR(IF(AND(LEN(G37)=0,LEN(G38)=0),"",G37+G38),"") | H40: =IFERROR(IF(AND(LEN(H37)=0,LEN(H38)=0),"",H37+H38),"") | I40: =IFERROR(IF(AND(LEN(I37)=0,LEN(I38)=0),"",I37+I38),"") | J40: =IFERROR(IF(AND(LEN(J37)=0,LEN(J38)=0),"",J37+J38),"") | K40: =IFERROR(IF(AND(LEN(K37)=0,LEN(K38)=0),"",K37+K38),"") | ... AH40: =IFERROR(IF(AND(LEN(AH37)=0,LEN(AH38)=0),"",AH37+AH38),"") | AI40: =IF(LEN(C36)=0,"",SUM(D40:AG40))
C42: Employee Name | D42: =D$7 -> Sat | E42: =E$7 -> Sun | F42: =F$7 -> Mon | G42: =G$7 -> Tue | H42: =H$7 -> Wed | I42: =I$7 -> Thu | J42: =J$7 -> Fri | K42: =K$7 -> Sat | ... AG42: =AG$7 -> Sun
D43: 1 | E43: 2 | F43: 3 | G43: 4 | H43: 5 | I43: 6 | J43: 7 | K43: 8 | L43: 9 | M43: 10 | N43: 11 | O43: 12 | P43: 13 | Q43: 14 | R43: 15 | S43: 16 | T43: 17 | U43: 18 | V43: 19 | W43: 20 | X43: 21 | Y43: 22 | Z43: 23 | AA43: 24 | AB43: 25 | AC43: 26 | AD43: 27 | AE43: 28 | AF43: 29 | AG43: 30 | AI43: Total
C44: Standard Hours
C45: Overtime Hours
C46: Overtime Salary(Hourly)
C47: Total Hours
C49: Employee Name | D49: =D$7 -> Sat | E49: =E$7 -> Sun | F49: =F$7 -> Mon | G49: =G$7 -> Tue | H49: =H$7 -> Wed | I49: =I$7 -> Thu | J49: =J$7 -> Fri | K49: =K$7 -> Sat | ... AG49: =AG$7 -> Sun
D50: 1 | E50: 2 | F50: 3 | G50: 4 | H50: 5 | I50: 6 | J50: 7 | K50: 8 | L50: 9 | M50: 10 | N50: 11 | O50: 12 | P50: 13 | Q50: 14 | R50: 15 | S50: 16 | T50: 17 | U50: 18 | V50: 19 | W50: 20 | X50: 21 | Y50: 22 | Z50: 23 | AA50: 24 | AB50: 25 | AC50: 26 | AD50: 27 | AE50: 28 | AF50: 29 | AG50: 30 | AI50: Total
C51: Standard Hours
C52: Overtime Hours
C53: Overtime Salary(Hourly)
C54: Total Hours
C56: Employee Name | D56: =D$7 -> Sat | E56: =E$7 -> Sun | F56: =F$7 -> Mon | G56: =G$7 -> Tue | H56: =H$7 -> Wed | I56: =I$7 -> Thu | J56: =J$7 -> Fri | K56: =K$7 -> Sat | ... AG56: =AG$7 -> Sun
D57: 1 | E57: 2 | F57: 3 | G57: 4 | H57: 5 | I57: 6 | J57: 7 | K57: 8 | L57: 9 | M57: 10 | N57: 11 | O57: 12 | P57: 13 | Q57: 14 | R57: 15 | S57: 16 | T57: 17 | U57: 18 | V57: 19 | W57: 20 | X57: 21 | Y57: 22 | Z57: 23 | AA57: 24 | AB57: 25 | AC57: 26 | AD57: 27 | AE57: 28 | AF57: 29 | AG57: 30 | AI57: Total
C58: Standard Hours
C59: Overtime Hours
C60: Overtime Salary(Hourly)
C61: Total Hours
C63: Employee Name | D63: =D$7 -> Sat | E63: =E$7 -> Sun | F63: =F$7 -> Mon | G63: =G$7 -> Tue | H63: =H$7 -> Wed | I63: =I$7 -> Thu | J63: =J$7 -> Fri | K63: =K$7 -> Sat | ... AG63: =AG$7 -> Sun
D64: 1 | E64: 2 | F64: 3 | G64: 4 | H64: 5 | I64: 6 | J64: 7 | K64: 8 | L64: 9 | M64: 10 | N64: 11 | O64: 12 | P64: 13 | Q64: 14 | R64: 15 | S64: 16 | T64: 17 | U64: 18 | V64: 19 | W64: 20 | X64: 21 | Y64: 22 | Z64: 23 | AA64: 24 | AB64: 25 | AC64: 26 | AD64: 27 | AE64: 28 | AF64: 29 | AG64: 30 | AI64: Total
C65: Standard Hours
C66: Overtime Hours
C67: Overtime Salary(Hourly)
C68: Total Hours
C70: Employee Name | D70: =D$7 -> Sat | E70: =E$7 -> Sun | F70: =F$7 -> Mon | G70: =G$7 -> Tue | H70: =H$7 -> Wed | I70: =I$7 -> Thu | J70: =J$7 -> Fri | K70: =K$7 -> Sat | ... AG70: =AG$7 -> Sun
D71: 1 | E71: 2 | F71: 3 | G71: 4 | H71: 5 | I71: 6 | J71: 7 | K71: 8 | L71: 9 | M71: 10 | N71: 11 | O71: 12 | P71: 13 | Q71: 14 | R71: 15 | S71: 16 | T71: 17 | U71: 18 | V71: 19 | W71: 20 | X71: 21 | Y71: 22 | Z71: 23 | AA71: 24 | AB71: 25 | AC71: 26 | AD71: 27 | AE71: 28 | AF71: 29 | AG71: 30 | AI71: Total
C72: Standard Hours
C73: Overtime Hours
C74: Overtime Salary(Hourly)
C75: Total Hours
C77: Employee Name | D77: =D$7 -> Sat | E77: =E$7 -> Sun | F77: =F$7 -> Mon | G77: =G$7 -> Tue | H77: =H$7 -> Wed | I77: =I$7 -> Thu | J77: =J$7 -> Fri | K77: =K$7 -> Sat | ... AG77: =AG$7 -> Sun
D78: 1 | E78: 2 | F78: 3 | G78: 4 | H78: 5 | I78: 6 | J78: 7 | K78: 8 | L78: 9 | M78: 10 | N78: 11 | O78: 12 | P78: 13 | Q78: 14 | R78: 15 | S78: 16 | T78: 17 | U78: 18 | V78: 19 | W78: 20 | X78: 21 | Y78: 22 | Z78: 23 | AA78: 24 | AB78: 25 | AC78: 26 | AD78: 27 | AE78: 28 | AF78: 29 | AG78: 30 | AI78: Total
C79: Standard Hours
C80: Overtime Hours
C81: Overtime Salary(Hourly)
C82: Total Hours
C84: Employee Name | D84: =D$7 -> Sat | E84: =E$7 -> Sun | F84: =F$7 -> Mon | G84: =G$7 -> Tue | H84: =H$7 -> Wed | I84: =I$7 -> Thu | J84: =J$7 -> Fri | K84: =K$7 -> Sat | ... AG84: =AG$7 -> Sun
D85: 1 | E85: 2 | F85: 3 | G85: 4 | H85: 5 | I85: 6 | J85: 7 | K85: 8 | L85: 9 | M85: 10 | N85: 11 | O85: 12 | P85: 13 | Q85: 14 | R85: 15 | S85: 16 | T85: 17 | U85: 18 | V85: 19 | W85: 20 | X85: 21 | Y85: 22 | Z85: 23 | AA85: 24 | AB85: 25 | AC85: 26 | AD85: 27 | AE85: 28 | AF85: 29 | AG85: 30 | AI85: Total
C86: Standard Hours
C87: Overtime Hours
C88: Overtime Salary(Hourly)
C89: Total Hours
C91: Employee Name | D91: =D$7 -> Sat | E91: =E$7 -> Sun | F91: =F$7 -> Mon | G91: =G$7 -> Tue | H91: =H$7 -> Wed | I91: =I$7 -> Thu | J91: =J$7 -> Fri | K91: =K$7 -> Sat | ... AG91: =AG$7 -> Sun
D92: 1 | E92: 2 | F92: 3 | G92: 4 | H92: 5 | I92: 6 | J92: 7 | K92: 8 | L92: 9 | M92: 10 | N92: 11 | O92: 12 | P92: 13 | Q92: 14 | R92: 15 | S92: 16 | T92: 17 | U92: 18 | V92: 19 | W92: 20 | X92: 21 | Y92: 22 | Z92: 23 | AA92: 24 | AB92: 25 | AC92: 26 | AD92: 27 | AE92: 28 | AF92: 29 | AG92: 30 | AI92: Total
C93: Standard Hours
C94: Overtime Hours
C95: Overtime Salary(Hourly)
C96: Total Hours
C98: Employee Name | D98: =D$7 -> Sat | E98: =E$7 -> Sun | F98: =F$7 -> Mon | G98: =G$7 -> Tue | H98: =H$7 -> Wed | I98: =I$7 -> Thu | J98: =J$7 -> Fri | K98: =K$7 -> Sat | ... AG98: =AG$7 -> Sun
D99: 1 | E99: 2 | F99: 3 | G99: 4 | H99: 5 | I99: 6 | J99: 7 | K99: 8 | L99: 9 | M99: 10 | N99: 11 | O99: 12 | P99: 13 | Q99: 14 | R99: 15 | S99: 16 | T99: 17 | U99: 18 | V99: 19 | W99: 20 | X99: 21 | Y99: 22 | Z99: 23 | AA99: 24 | AB99: 25 | AC99: 26 | AD99: 27 | AE99: 28 | AF99: 29 | AG99: 30 | AI99: Total
C100: Standard Hours
C101: Overtime Hours
C102: Overtime Salary(Hourly)
C103: Total Hours
C105: Employee Name | D105: =D$7 -> Sat | E105: =E$7 -> Sun | F105: =F$7 -> Mon | G105: =G$7 -> Tue | H105: =H$7 -> Wed | I105: =I$7 -> Thu | J105: =J$7 -> Fri | K105: =K$7 -> Sat | ... AG105: =AG$7 -> Sun
D106: 1 | E106: 2 | F106: 3 | G106: 4 | H106: 5 | I106: 6 | J106: 7 | K106: 8 | L106: 9 | M106: 10 | N106: 11 | O106: 12 | P106: 13 | Q106: 14 | R106: 15 | S106: 16 | T106: 17 | U106: 18 | V106: 19 | W106: 20 | X106: 21 | Y106: 22 | Z106: 23 | AA106: 24 | AB106: 25 | AC106: 26 | AD106: 27 | AE106: 28 | AF106: 29 | AG106: 30 | AI106: Total
C107: Standard Hours
C108: Overtime Hours
C109: Overtime Salary(Hourly)
C110: Total Hours
C112: Employee Name | D112: =D$7 -> Sat | E112: =E$7 -> Sun | F112: =F$7 -> Mon | G112: =G$7 -> Tue | H112: =H$7 -> Wed | I112: =I$7 -> Thu | J112: =J$7 -> Fri | K112: =K$7 -> Sat | ... AG112: =AG$7 -> Sun
D113: 1 | E113: 2 | F113: 3 | G113: 4 | H113: 5 | I113: 6 | J113: 7 | K113: 8 | L113: 9 | M113: 10 | N113: 11 | O113: 12 | P113: 13 | Q113: 14 | R113: 15 | S113: 16 | T113: 17 | U113: 18 | V113: 19 | W113: 20 | X113: 21 | Y113: 22 | Z113: 23 | AA113: 24 | AB113: 25 | AC113: 26 | AD113: 27 | AE113: 28 | AF113: 29 | AG113: 30 | AI113: Total
C114: Standard Hours
C115: Overtime Hours
C116: Overtime Salary(Hourly)
C117: Total Hours
C119: Employee Name | D119: =D$7 -> Sat | E119: =E$7 -> Sun | F119: =F$7 -> Mon | G119: =G$7 -> Tue | H119: =H$7 -> Wed | I119: =I$7 -> Thu | J119: =J$7 -> Fri | K119: =K$7 -> Sat | ... AG119: =AG$7 -> Sun
D120: 1 | E120: 2 | F120: 3 | G120: 4 | H120: 5 | I120: 6 | J120: 7 | K120: 8 | L120: 9 | M120: 10 | N120: 11 | O120: 12 | P120: 13 | Q120: 14 | R120: 15 | S120: 16 | T120: 17 | U120: 18 | V120: 19 | W120: 20 | X120: 21 | Y120: 22 | Z120: 23 | AA120: 24 | AB120: 25 | AC120: 26 | AD120: 27 | AE120: 28 | AF120: 29 | AG120: 30 | AI120: Total
...

Sheet May
C2: MONTHLY EMPLOYEE TIMESHEET
C3: MAY
C7: Employee Name | D7: =IFERROR(INDEX(Cal!$C$18:$C$24,WEEKDAY(D8&".05."&Year)),"") -> Mon | E7: =IFERROR(INDEX(Cal!$C$18:$C$24,WEEKDAY(E8&".05."&Year)),"") -> Tue | F7: =IFERROR(INDEX(Cal!$C$18:$C$24,WEEKDAY(F8&".05."&Year)),"") -> Wed | G7: =IFERROR(INDEX(Cal!$C$18:$C$24,WEEKDAY(G8&".05."&Year)),"") -> Thu | H7: =IFERROR(INDEX(Cal!$C$18:$C$24,WEEKDAY(H8&".05."&Year)),"") -> Fri | I7: =IFERROR(INDEX(Cal!$C$18:$C$24,WEEKDAY(I8&".05."&Year)),"") -> Sat | J7: =IFERROR(INDEX(Cal!$C$18:$C$24,WEEKDAY(J8&".05."&Year)),"") -> Sun | K7: =IFERROR(INDEX(Cal!$C$18:$C$24,WEEKDAY(K8&".05."&Year)),"") -> Mon | ... AH7: =IFERROR(INDEX(Cal!$C$18:$C$24,WEEKDAY(AH8&".05."&Year)),"") -> Wed
C8: Jemima Begum | D8: 1 | E8: 2 | F8: 3 | G8: 4 | H8: 5 | I8: 6 | J8: 7 | K8: 8 | L8: 9 | M8: 10 | N8: 11 | O8: 12 | P8: 13 | Q8: 14 | R8: 15 | S8: 16 | T8: 17 | U8: 18 | V8: 19 | W8: 20 | X8: 21 | Y8: 22 | Z8: 23 | AA8: 24 | AB8: 25 | AC8: 26 | AD8: 27 | AE8: 28 | AF8: 29 | AG8: 30 | AH8: 31 | AI8: Total
C9: Standard Hours | D9: 8 | E9: 8 | F9: 8 | G9: 8 | H9: 8 | K9: 6 | L9: 8 | M9: 8 | N9: 8 | O9: 8 | P9: 8 | R9: 4 | S9: 4 | T9: 4 | U9: 4 | V9: 4 | W9: 4 | Y9: 8 | Z9: 8 | AA9: 8 | AB9: 8 | AC9: 8 | AF9: 8 | AG9: 8 | AH9: 8 | AI9: =IF(LEN(C8)=0,"",SUM(D9:AH9)) -> 174
C10: Overtime Hours | AI10: =IF(LEN(C8)=0,"",SUM(D10:AH10)) -> 0
C11: Overtime Salary(Hourly) | AI11: =IF(LEN(C8)=0,"",SUMPRODUCT(D10:AH10,D11:AH11)) -> 0
C12: Total Hours | D12: =IFERROR(IF(AND(LEN(D9)=0,LEN(D10)=0),"",D9+D10),"") -> 8 | E12: =IFERROR(IF(AND(LEN(E9)=0,LEN(E10)=0),"",E9+E10),"") -> 8 | F12: =IFERROR(IF(AND(LEN(F9)=0,LEN(F10)=0),"",F9+F10),"") -> 8 | G12: =IFERROR(IF(AND(LEN(G9)=0,LEN(G10)=0),"",G9+G10),"") -> 8 | H12: =IFERROR(IF(AND(LEN(H9)=0,LEN(H10)=0),"",H9+H10),"") -> 8 | I12: =IFERROR(IF(AND(LEN(I9)=0,LEN(I10)=0),"",I9+I10),"") | J12: =IFERROR(IF(AND(LEN(J9)=0,LEN(J10)=0),"",J9+J10),"") | K12: =IFERROR(IF(AND(LEN(K9)=0,LEN(K10)=0),"",K9+K10),"") -> 6 | ... AH12: =IFERROR(IF(AND(LEN(AH9)=0,LEN(AH10)=0),"",AH9+AH10),"") -> 8 | AI12: =IF(LEN(C8)=0,"",SUM(D12:AH12)) -> 174
C14: Employee Name | D14: =D$7 -> Mon | E14: =E$7 -> Tue | F14: =F$7 -> Wed | G14: =G$7 -> Thu | H14: =H$7 -> Fri | I14: =I$7 -> Sat | J14: =J$7 -> Sun | K14: =K$7 -> Mon | ... AH14: =AH$7 -> Wed
C15: Mercedes Banks | D15: 1 | E15: 2 | F15: 3 | G15: 4 | H15: 5 | I15: 6 | J15: 7 | K15: 8 | L15: 9 | M15: 10 | N15: 11 | O15: 12 | P15: 13 | Q15: 14 | R15: 15 | S15: 16 | T15: 17 | U15: 18 | V15: 19 | W15: 20 | X15: 21 | Y15: 22 | Z15: 23 | AA15: 24 | AB15: 25 | AC15: 26 | AD15: 27 | AE15: 28 | AF15: 29 | AG15: 30 | AH15: 31 | AI15: Total
C16: Standard Hours | D16: 8 | E16: 8 | F16: 8 | G16: 8 | H16: 8 | K16: 8 | L16: 8 | M16: 8 | N16: 8 | O16: 8 | R16: 8 | S16: 8 | T16: 8 | U16: 8 | V16: 8 | Y16: 8 | Z16: 8 | AA16: 8 | AB16: 8 | AC16: 8 | AF16: 4 | AG16: 4 | AH16: 4 | AI16: =IF(LEN(C15)=0,"",SUM(D16:AH16)) -> 172
C17: Overtime Hours | R17: 2 | S17: 2 | AI17: =IF(LEN(C15)=0,"",SUM(D17:AH17)) -> 4
C18: Overtime Salary(Hourly) | R18: 40 | S18: 40 | AI18: =IF(LEN(C15)=0,"",SUMPRODUCT(D17:AH17,D18:AH18)) -> 160
C19: Total Hours | D19: =IFERROR(IF(AND(LEN(D16)=0,LEN(D17)=0),"",D16+D17),"") -> 8 | E19: =IFERROR(IF(AND(LEN(E16)=0,LEN(E17)=0),"",E16+E17),"") -> 8 | F19: =IFERROR(IF(AND(LEN(F16)=0,LEN(F17)=0),"",F16+F17),"") -> 8 | G19: =IFERROR(IF(AND(LEN(G16)=0,LEN(G17)=0),"",G16+G17),"") -> 8 | H19: =IFERROR(IF(AND(LEN(H16)=0,LEN(H17)=0),"",H16+H17),"") -> 8 | I19: =IFERROR(IF(AND(LEN(I16)=0,LEN(I17)=0),"",I16+I17),"") | J19: =IFERROR(IF(AND(LEN(J16)=0,LEN(J17)=0),"",J16+J17),"") | K19: =IFERROR(IF(AND(LEN(K16)=0,LEN(K17)=0),"",K16+K17),"") -> 8 | ... AH19: =IFERROR(IF(AND(LEN(AH16)=0,LEN(AH17)=0),"",AH16+AH17),"") -> 4 | AI19: =IF(LEN(C15)=0,"",SUM(D19:AH19)) -> 176
C21: Employee Name | D21: =D$7 -> Mon | E21: =E$7 -> Tue | F21: =F$7 -> Wed | G21: =G$7 -> Thu | H21: =H$7 -> Fri | I21: =I$7 -> Sat | J21: =J$7 -> Sun | K21: =K$7 -> Mon | ... AH21: =AH$7 -> Wed
D22: 1 | E22: 2 | F22: 3 | G22: 4 | H22: 5 | I22: 6 | J22: 7 | K22: 8 | L22: 9 | M22: 10 | N22: 11 | O22: 12 | P22: 13 | Q22: 14 | R22: 15 | S22: 16 | T22: 17 | U22: 18 | V22: 19 | W22: 20 | X22: 21 | Y22: 22 | Z22: 23 | AA22: 24 | AB22: 25 | AC22: 26 | AD22: 27 | AE22: 28 | AF22: 29 | AG22: 30 | AH22: 31 | AI22: Total
C23: Standard Hours | AI23: =IF(LEN(C22)=0,"",SUM(D23:AH23))
C24: Overtime Hours | AI24: =IF(LEN(C22)=0,"",SUM(D24:AH24))
C25: Overtime Salary(Hourly) | AI25: =IF(LEN(C22)=0,"",SUMPRODUCT(D24:AH24,D25:AH25))
C26: Total Hours | D26: =IFERROR(IF(AND(LEN(D23)=0,LEN(D24)=0),"",D23+D24),"") | E26: =IFERROR(IF(AND(LEN(E23)=0,LEN(E24)=0),"",E23+E24),"") | F26: =IFERROR(IF(AND(LEN(F23)=0,LEN(F24)=0),"",F23+F24),"") | G26: =IFERROR(IF(AND(LEN(G23)=0,LEN(G24)=0),"",G23+G24),"") | H26: =IFERROR(IF(AND(LEN(H23)=0,LEN(H24)=0),"",H23+H24),"") | I26: =IFERROR(IF(AND(LEN(I23)=0,LEN(I24)=0),"",I23+I24),"") | J26: =IFERROR(IF(AND(LEN(J23)=0,LEN(J24)=0),"",J23+J24),"") | K26: =IFERROR(IF(AND(LEN(K23)=0,LEN(K24)=0),"",K23+K24),"") | ... AH26: =IFERROR(IF(AND(LEN(AH23)=0,LEN(AH24)=0),"",AH23+AH24),"") | AI26: =IF(LEN(C22)=0,"",SUM(D26:AH26))
C28: Employee Name | D28: =D$7 -> Mon | E28: =E$7 -> Tue | F28: =F$7 -> Wed | G28: =G$7 -> Thu | H28: =H$7 -> Fri | I28: =I$7 -> Sat | J28: =J$7 -> Sun | K28: =K$7 -> Mon | ... AH28: =AH$7 -> Wed
D29: 1 | E29: 2 | F29: 3 | G29: 4 | H29: 5 | I29: 6 | J29: 7 | K29: 8 | L29: 9 | M29: 10 | N29: 11 | O29: 12 | P29: 13 | Q29: 14 | R29: 15 | S29: 16 | T29: 17 | U29: 18 | V29: 19 | W29: 20 | X29: 21 | Y29: 22 | Z29: 23 | AA29: 24 | AB29: 25 | AC29: 26 | AD29: 27 | AE29: 28 | AF29: 29 | AG29: 30 | AH29: 31 | AI29: Total
C30: Standard Hours | AI30: =IF(LEN(C29)=0,"",SUM(D30:AH30))
C31: Overtime Hours | AI31: =IF(LEN(C29)=0,"",SUM(D31:AH31))
C32: Overtime Salary(Hourly) | AI32: =IF(LEN(C29)=0,"",SUMPRODUCT(D31:AH31,D32:AH32))
C33: Total Hours | D33: =IFERROR(IF(AND(LEN(D30)=0,LEN(D31)=0),"",D30+D31),"") | E33: =IFERROR(IF(AND(LEN(E30)=0,LEN(E31)=0),"",E30+E31),"") | F33: =IFERROR(IF(AND(LEN(F30)=0,LEN(F31)=0),"",F30+F31),"") | G33: =IFERROR(IF(AND(LEN(G30)=0,LEN(G31)=0),"",G30+G31),"") | H33: =IFERROR(IF(AND(LEN(H30)=0,LEN(H31)=0),"",H30+H31),"") | I33: =IFERROR(IF(AND(LEN(I30)=0,LEN(I31)=0),"",I30+I31),"") | J33: =IFERROR(IF(AND(LEN(J30)=0,LEN(J31)=0),"",J30+J31),"") | K33: =IFERROR(IF(AND(LEN(K30)=0,LEN(K31)=0),"",K30+K31),"") | ... AH33: =IFERROR(IF(AND(LEN(AH30)=0,LEN(AH31)=0),"",AH30+AH31),"") | AI33: =IF(LEN(C29)=0,"",SUM(D33:AH33))
C35: Employee Name | D35: =D$7 -> Mon | E35: =E$7 -> Tue | F35: =F$7 -> Wed | G35: =G$7 -> Thu | H35: =H$7 -> Fri | I35: =I$7 -> Sat | J35: =J$7 -> Sun | K35: =K$7 -> Mon | ... AH35: =AH$7 -> Wed
D36: 1 | E36: 2 | F36: 3 | G36: 4 | H36: 5 | I36: 6 | J36: 7 | K36: 8 | L36: 9 | M36: 10 | N36: 11 | O36: 12 | P36: 13 | Q36: 14 | R36: 15 | S36: 16 | T36: 17 | U36: 18 | V36: 19 | W36: 20 | X36: 21 | Y36: 22 | Z36: 23 | AA36: 24 | AB36: 25 | AC36: 26 | AD36: 27 | AE36: 28 | AF36: 29 | AG36: 30 | AH36: 31 | AI36: Total
C37: Standard Hours | AI37: =IF(LEN(C36)=0,"",SUM(D37:AH37))
C38: Overtime Hours | AI38: =IF(LEN(C36)=0,"",SUM(D38:AH38))
C39: Overtime Salary(Hourly) | AI39: =IF(LEN(C36)=0,"",SUMPRODUCT(D38:AH38,D39:AH39))
C40: Total Hours | D40: =IFERROR(IF(AND(LEN(D37)=0,LEN(D38)=0),"",D37+D38),"") | E40: =IFERROR(IF(AND(LEN(E37)=0,LEN(E38)=0),"",E37+E38),"") | F40: =IFERROR(IF(AND(LEN(F37)=0,LEN(F38)=0),"",F37+F38),"") | G40: =IFERROR(IF(AND(LEN(G37)=0,LEN(G38)=0),"",G37+G38),"") | H40: =IFERROR(IF(AND(LEN(H37)=0,LEN(H38)=0),"",H37+H38),"") | I40: =IFERROR(IF(AND(LEN(I37)=0,LEN(I38)=0),"",I37+I38),"") | J40: =IFERROR(IF(AND(LEN(J37)=0,LEN(J38)=0),"",J37+J38),"") | K40: =IFERROR(IF(AND(LEN(K37)=0,LEN(K38)=0),"",K37+K38),"") | ... AH40: =IFERROR(IF(AND(LEN(AH37)=0,LEN(AH38)=0),"",AH37+AH38),"") | AI40: =IF(LEN(C36)=0,"",SUM(D40:AH40))
C42: Employee Name | D42: =D$7 -> Mon | E42: =E$7 -> Tue | F42: =F$7 -> Wed | G42: =G$7 -> Thu | H42: =H$7 -> Fri | I42: =I$7 -> Sat | J42: =J$7 -> Sun | K42: =K$7 -> Mon | ... AH42: =AH$7 -> Wed
D43: 1 | E43: 2 | F43: 3 | G43: 4 | H43: 5 | I43: 6 | J43: 7 | K43: 8 | L43: 9 | M43: 10 | N43: 11 | O43: 12 | P43: 13 | Q43: 14 | R43: 15 | S43: 16 | T43: 17 | U43: 18 | V43: 19 | W43: 20 | X43: 21 | Y43: 22 | Z43: 23 | AA43: 24 | AB43: 25 | AC43: 26 | AD43: 27 | AE43: 28 | AF43: 29 | AG43: 30 | AH43: 31 | AI43: Total
C44: Standard Hours
C45: Overtime Hours
C46: Overtime Salary(Hourly)
C47: Total Hours
C49: Employee Name | D49: =D$7 -> Mon | E49: =E$7 -> Tue | F49: =F$7 -> Wed | G49: =G$7 -> Thu | H49: =H$7 -> Fri | I49: =I$7 -> Sat | J49: =J$7 -> Sun | K49: =K$7 -> Mon | ... AH49: =AH$7 -> Wed
D50: 1 | E50: 2 | F50: 3 | G50: 4 | H50: 5 | I50: 6 | J50: 7 | K50: 8 | L50: 9 | M50: 10 | N50: 11 | O50: 12 | P50: 13 | Q50: 14 | R50: 15 | S50: 16 | T50: 17 | U50: 18 | V50: 19 | W50: 20 | X50: 21 | Y50: 22 | Z50: 23 | AA50: 24 | AB50: 25 | AC50: 26 | AD50: 27 | AE50: 28 | AF50: 29 | AG50: 30 | AH50: 31 | AI50: Total
C51: Standard Hours
C52: Overtime Hours
C53: Overtime Salary(Hourly)
C54: Total Hours
C56: Employee Name | D56: =D$7 -> Mon | E56: =E$7 -> Tue | F56: =F$7 -> Wed | G56: =G$7 -> Thu | H56: =H$7 -> Fri | I56: =I$7 -> Sat | J56: =J$7 -> Sun | K56: =K$7 -> Mon | ... AH56: =AH$7 -> Wed
D57: 1 | E57: 2 | F57: 3 | G57: 4 | H57: 5 | I57: 6 | J57: 7 | K57: 8 | L57: 9 | M57: 10 | N57: 11 | O57: 12 | P57: 13 | Q57: 14 | R57: 15 | S57: 16 | T57: 17 | U57: 18 | V57: 19 | W57: 20 | X57: 21 | Y57: 22 | Z57: 23 | AA57: 24 | AB57: 25 | AC57: 26 | AD57: 27 | AE57: 28 | AF57: 29 | AG57: 30 | AH57: 31 | AI57: Total
C58: Standard Hours
C59: Overtime Hours
C60: Overtime Salary(Hourly)
C61: Total Hours
C63: Employee Name | D63: =D$7 -> Mon | E63: =E$7 -> Tue | F63: =F$7 -> Wed | G63: =G$7 -> Thu | H63: =H$7 -> Fri | I63: =I$7 -> Sat | J63: =J$7 -> Sun | K63: =K$7 -> Mon | ... AH63: =AH$7 -> Wed
D64: 1 | E64: 2 | F64: 3 | G64: 4 | H64: 5 | I64: 6 | J64: 7 | K64: 8 | L64: 9 | M64: 10 | N64: 11 | O64: 12 | P64: 13 | Q64: 14 | R64: 15 | S64: 16 | T64: 17 | U64: 18 | V64: 19 | W64: 20 | X64: 21 | Y64: 22 | Z64: 23 | AA64: 24 | AB64: 25 | AC64: 26 | AD64: 27 | AE64: 28 | AF64: 29 | AG64: 30 | AH64: 31 | AI64: Total
C65: Standard Hours
C66: Overtime Hours
C67: Overtime Salary(Hourly)
C68: Total Hours
C70: Employee Name | D70: =D$7 -> Mon | E70: =E$7 -> Tue | F70: =F$7 -> Wed | G70: =G$7 -> Thu | H70: =H$7 -> Fri | I70: =I$7 -> Sat | J70: =J$7 -> Sun | K70: =K$7 -> Mon | ... AH70: =AH$7 -> Wed
D71: 1 | E71: 2 | F71: 3 | G71: 4 | H71: 5 | I71: 6 | J71: 7 | K71: 8 | L71: 9 | M71: 10 | N71: 11 | O71: 12 | P71: 13 | Q71: 14 | R71: 15 | S71: 16 | T71: 17 | U71: 18 | V71: 19 | W71: 20 | X71: 21 | Y71: 22 | Z71: 23 | AA71: 24 | AB71: 25 | AC71: 26 | AD71: 27 | AE71: 28 | AF71: 29 | AG71: 30 | AH71: 31 | AI71: Total
C72: Standard Hours
C73: Overtime Hours
C74: Overtime Salary(Hourly)
C75: Total Hours
C77: Employee Name | D77: =D$7 -> Mon | E77: =E$7 -> Tue | F77: =F$7 -> Wed | G77: =G$7 -> Thu | H77: =H$7 -> Fri | I77: =I$7 -> Sat | J77: =J$7 -> Sun | K77: =K$7 -> Mon | ... AH77: =AH$7 -> Wed
D78: 1 | E78: 2 | F78: 3 | G78: 4 | H78: 5 | I78: 6 | J78: 7 | K78: 8 | L78: 9 | M78: 10 | N78: 11 | O78: 12 | P78: 13 | Q78: 14 | R78: 15 | S78: 16 | T78: 17 | U78: 18 | V78: 19 | W78: 20 | X78: 21 | Y78: 22 | Z78: 23 | AA78: 24 | AB78: 25 | AC78: 26 | AD78: 27 | AE78: 28 | AF78: 29 | AG78: 30 | AH78: 31 | AI78: Total
C79: Standard Hours
C80: Overtime Hours
C81: Overtime Salary(Hourly)
C82: Total Hours
C84: Employee Name | D84: =D$7 -> Mon | E84: =E$7 -> Tue | F84: =F$7 -> Wed | G84: =G$7 -> Thu | H84: =H$7 -> Fri | I84: =I$7 -> Sat | J84: =J$7 -> Sun | K84: =K$7 -> Mon | ... AH84: =AH$7 -> Wed
D85: 1 | E85: 2 | F85: 3 | G85: 4 | H85: 5 | I85: 6 | J85: 7 | K85: 8 | L85: 9 | M85: 10 | N85: 11 | O85: 12 | P85: 13 | Q85: 14 | R85: 15 | S85: 16 | T85: 17 | U85: 18 | V85: 19 | W85: 20 | X85: 21 | Y85: 22 | Z85: 23 | AA85: 24 | AB85: 25 | AC85: 26 | AD85: 27 | AE85: 28 | AF85: 29 | AG85: 30 | AH85: 31 | AI85: Total
C86: Standard Hours
C87: Overtime Hours
C88: Overtime Salary(Hourly)
C89: Total Hours
C91: Employee Name | D91: =D$7 -> Mon | E91: =E$7 -> Tue | F91: =F$7 -> Wed | G91: =G$7 -> Thu | H91: =H$7 -> Fri | I91: =I$7 -> Sat | J91: =J$7 -> Sun | K91: =K$7 -> Mon | ... AH91: =AH$7 -> Wed
D92: 1 | E92: 2 | F92: 3 | G92: 4 | H92: 5 | I92: 6 | J92: 7 | K92: 8 | L92: 9 | M92: 10 | N92: 11 | O92: 12 | P92: 13 | Q92: 14 | R92: 15 | S92: 16 | T92: 17 | U92: 18 | V92: 19 | W92: 20 | X92: 21 | Y92: 22 | Z92: 23 | AA92: 24 | AB92: 25 | AC92: 26 | AD92: 27 | AE92: 28 | AF92: 29 | AG92: 30 | AH92: 31 | AI92: Total
C93: Standard Hours
C94: Overtime Hours
C95: Overtime Salary(Hourly)
C96: Total Hours
C98: Employee Name | D98: =D$7 -> Mon | E98: =E$7 -> Tue | F98: =F$7 -> Wed | G98: =G$7 -> Thu | H98: =H$7 -> Fri | I98: =I$7 -> Sat | J98: =J$7 -> Sun | K98: =K$7 -> Mon | ... AH98: =AH$7 -> Wed
D99: 1 | E99: 2 | F99: 3 | G99: 4 | H99: 5 | I99: 6 | J99: 7 | K99: 8 | L99: 9 | M99: 10 | N99: 11 | O99: 12 | P99: 13 | Q99: 14 | R99: 15 | S99: 16 | T99: 17 | U99: 18 | V99: 19 | W99: 20 | X99: 21 | Y99: 22 | Z99: 23 | AA99: 24 | AB99: 25 | AC99: 26 | AD99: 27 | AE99: 28 | AF99: 29 | AG99: 30 | AH99: 31 | AI99: Total
C100: Standard Hours
C101: Overtime Hours
C102: Overtime Salary(Hourly)
C103: Total Hours
C105: Employee Name | D105: =D$7 -> Mon | E105: =E$7 -> Tue | F105: =F$7 -> Wed | G105: =G$7 -> Thu | H105: =H$7 -> Fri | I105: =I$7 -> Sat | J105: =J$7 -> Sun | K105: =K$7 -> Mon | ... AH105: =AH$7 -> Wed
D106: 1 | E106: 2 | F106: 3 | G106: 4 | H106: 5 | I106: 6 | J106: 7 | K106: 8 | L106: 9 | M106: 10 | N106: 11 | O106: 12 | P106: 13 | Q106: 14 | R106: 15 | S106: 16 | T106: 17 | U106: 18 | V106: 19 | W106: 20 | X106: 21 | Y106: 22 | Z106: 23 | AA106: 24 | AB106: 25 | AC106: 26 | AD106: 27 | AE106: 28 | AF106: 29 | AG106: 30 | AH106: 31 | AI106: Total
C107: Standard Hours
C108: Overtime Hours
C109: Overtime Salary(Hourly)
C110: Total Hours
C112: Employee Name | D112: =D$7 -> Mon | E112: =E$7 -> Tue | F112: =F$7 -> Wed | G112: =G$7 -> Thu | H112: =H$7 -> Fri | I112: =I$7 -> Sat | J112: =J$7 -> Sun | K112: =K$7 -> Mon | ... AH112: =AH$7 -> Wed
D113: 1 | E113: 2 | F113: 3 | G113: 4 | H113: 5 | I113: 6 | J113: 7 | K113: 8 | L113: 9 | M113: 10 | N113: 11 | O113: 12 | P113: 13 | Q113: 14 | R113: 15 | S113: 16 | T113: 17 | U113: 18 | V113: 19 | W113: 20 | X113: 21 | Y113: 22 | Z113: 23 | AA113: 24 | AB113: 25 | AC113: 26 | AD113: 27 | AE113: 28 | AF113: 29 | AG113: 30 | AH113: 31 | AI113: Total
C114: Standard Hours
C115: Overtime Hours
C116: Overtime Salary(Hourly)
C117: Total Hours
C119: Employee Name | D119: =D$7 -> Mon | E119: =E$7 -> Tue | F119: =F$7 -> Wed | G119: =G$7 -> Thu | H119: =H$7 -> Fri | I119: =I$7 -> Sat | J119: =J$7 -> Sun | K119: =K$7 -> Mon | ... AH119: =AH$7 -> Wed
D120: 1 | E120: 2 | F120: 3 | G120: 4 | H120: 5 | I120: 6 | J120: 7 | K120: 8 | L120: 9 | M120: 10 | N120: 11 | O120: 12 | P120: 13 | Q120: 14 | R120: 15 | S120: 16 | T120: 17 | U120: 18 | V120: 19 | W120: 20 | X120: 21 | Y120: 22 | Z120: 23 | AA120: 24 | AB120: 25 | AC120: 26 | AD120: 27 | AE120: 28 | AF120: 29 | AG120: 30 | AH120: 31 | AI120: Total
...

Sheet Jun
C2: MONTHLY EMPLOYEE TIMESHEET
C3: JUNE
C7: Employee Name | D7: =IFERROR(INDEX(Cal!$C$18:$C$24,WEEKDAY(D8&".06."&Year)),"") -> Thu | E7: =IFERROR(INDEX(Cal!$C$18:$C$24,WEEKDAY(E8&".06."&Year)),"") -> Fri | F7: =IFERROR(INDEX(Cal!$C$18:$C$24,WEEKDAY(F8&".06."&Year)),"") -> Sat | G7: =IFERROR(INDEX(Cal!$C$18:$C$24,WEEKDAY(G8&".06."&Year)),"") -> Sun | H7: =IFERROR(INDEX(Cal!$C$18:$C$24,WEEKDAY(H8&".06."&Year)),"") -> Mon | I7: =IFERROR(INDEX(Cal!$C$18:$C$24,WEEKDAY(I8&".06."&Year)),"") -> Tue | J7: =IFERROR(INDEX(Cal!$C$18:$C$24,WEEKDAY(J8&".06."&Year)),"") -> Wed | K7: =IFERROR(INDEX(Cal!$C$18:$C$24,WEEKDAY(K8&".06."&Year)),"") -> Thu | ... AG7: =IFERROR(INDEX(Cal!$C$18:$C$24,WEEKDAY(AG8&".06."&Year)),"") -> Fri
D8: 1 | E8: 2 | F8: 3 | G8: 4 | H8: 5 | I8: 6 | J8: 7 | K8: 8 | L8: 9 | M8: 10 | N8: 11 | O8: 12 | P8: 13 | Q8: 14 | R8: 15 | S8: 16 | T8: 17 | U8: 18 | V8: 19 | W8: 20 | X8: 21 | Y8: 22 | Z8: 23 | AA8: 24 | AB8: 25 | AC8: 26 | AD8: 27 | AE8: 28 | AF8: 29 | AG8: 30 | AI8: Total
C9: Standard Hours | AI9: =IF(LEN(C8)=0,"",SUM(D9:AG9))
C10: Overtime Hours | AI10: =IF(LEN(C8)=0,"",SUM(D10:AG10))
C11: Overtime Salary(Hourly) | AI11: =IF(LEN(C8)=0,"",SUMPRODUCT(D10:AG10,D11:AG11))
C12: Total Hours | D12: =IFERROR(IF(AND(LEN(D9)=0,LEN(D10)=0),"",D9+D10),"") | E12: =IFERROR(IF(AND(LEN(E9)=0,LEN(E10)=0),"",E9+E10),"") | F12: =IFERROR(IF(AND(LEN(F9)=0,LEN(F10)=0),"",F9+F10),"") | G12: =IFERROR(IF(AND(LEN(G9)=0,LEN(G10)=0),"",G9+G10),"") | H12: =IFERROR(IF(AND(LEN(H9)=0,LEN(H10)=0),"",H9+H10),"") | I12: =IFERROR(IF(AND(LEN(I9)=0,LEN(I10)=0),"",I9+I10),"") | J12: =IFERROR(IF(AND(LEN(J9)=0,LEN(J10)=0),"",J9+J10),"") | K12: =IFERROR(IF(AND(LEN(K9)=0,LEN(K10)=0),"",K9+K10),"") | ... AG12: =IFERROR(IF(AND(LEN(AG9)=0,LEN(AG10)=0),"",AG9+AG10),"") | AI12: =IF(LEN(C8)=0,"",SUM(D12:AG12))
C14: Employee Name | D14: =D$7 -> Thu | E14: =E$7 -> Fri | F14: =F$7 -> Sat | G14: =G$7 -> Sun | H14: =H$7 -> Mon | I14: =I$7 -> Tue | J14: =J$7 -> Wed | K14: =K$7 -> Thu | ... AG14: =AG$7 -> Fri
D15: 1 | E15: 2 | F15: 3 | G15: 4 | H15: 5 | I15: 6 | J15: 7 | K15: 8 | L15: 9 | M15: 10 | N15: 11 | O15: 12 | P15: 13 | Q15: 14 | R15: 15 | S15: 16 | T15: 17 | U15: 18 | V15: 19 | W15: 20 | X15: 21 | Y15: 22 | Z15: 23 | AA15: 24 | AB15: 25 | AC15: 26 | AD15: 27 | AE15: 28 | AF15: 29 | AG15: 30 | AI15: Total
C16: Standard Hours | AI16: =IF(LEN(C15)=0,"",SUM(D16:AG16))
C17: Overtime Hours | AI17: =IF(LEN(C15)=0,"",SUM(D17:AG17))
C18: Overtime Salary(Hourly) | AI18: =IF(LEN(C15)=0,"",SUMPRODUCT(D17:AG17,D18:AG18))
C19: Total Hours | D19: =IFERROR(IF(AND(LEN(D16)=0,LEN(D17)=0),"",D16+D17),"") | E19: =IFERROR(IF(AND(LEN(E16)=0,LEN(E17)=0),"",E16+E17),"") | F19: =IFERROR(IF(AND(LEN(F16)=0,LEN(F17)=0),"",F16+F17),"") | G19: =IFERROR(IF(AND(LEN(G16)=0,LEN(G17)=0),"",G16+G17),"") | H19: =IFERROR(IF(AND(LEN(H16)=0,LEN(H17)=0),"",H16+H17),"") | I19: =IFERROR(IF(AND(LEN(I16)=0,LEN(I17)=0),"",I16+I17),"") | J19: =IFERROR(IF(AND(LEN(J16)=0,LEN(J17)=0),"",J16+J17),"") | K19: =IFERROR(IF(AND(LEN(K16)=0,LEN(K17)=0),"",K16+K17),"") | ... AG19: =IFERROR(IF(AND(LEN(AG16)=0,LEN(AG17)=0),"",AG16+AG17),"") | AI19: =IF(LEN(C15)=0,"",SUM(D19:AG19))
C21: Employee Name | D21: =D$7 -> Thu | E21: =E$7 -> Fri | F21: =F$7 -> Sat | G21: =G$7 -> Sun | H21: =H$7 -> Mon | I21: =I$7 -> Tue | J21: =J$7 -> Wed | K21: =K$7 -> Thu | ... AG21: =AG$7 -> Fri
D22: 1 | E22: 2 | F22: 3 | G22: 4 | H22: 5 | I22: 6 | J22: 7 | K22: 8 | L22: 9 | M22: 10 | N22: 11 | O22: 12 | P22: 13 | Q22: 14 | R22: 15 | S22: 16 | T22: 17 | U22: 18 | V22: 19 | W22: 20 | X22: 21 | Y22: 22 | Z22: 23 | AA22: 24 | AB22: 25 | AC22: 26 | AD22: 27 | AE22: 28 | AF22: 29 | AG22: 30 | AI22: Total
C23: Standard Hours | AI23: =IF(LEN(C22)=0,"",SUM(D23:AG23))
C24: Overtime Hours | AI24: =IF(LEN(C22)=0,"",SUM(D24:AG24))
C25: Overtime Salary(Hourly) | AI25: =IF(LEN(C22)=0,"",SUMPRODUCT(D24:AG24,D25:AG25))
C26: Total Hours | D26: =IFERROR(IF(AND(LEN(D23)=0,LEN(D24)=0),"",D23+D24),"") | E26: =IFERROR(IF(AND(LEN(E23)=0,LEN(E24)=0),"",E23+E24),"") | F26: =IFERROR(IF(AND(LEN(F23)=0,LEN(F24)=0),"",F23+F24),"") | G26: =IFERROR(IF(AND(LEN(G23)=0,LEN(G24)=0),"",G23+G24),"") | H26: =IFERROR(IF(AND(LEN(H23)=0,LEN(H24)=0),"",H23+H24),"") | I26: =IFERROR(IF(AND(LEN(I23)=0,LEN(I24)=0),"",I23+I24),"") | J26: =IFERROR(IF(AND(LEN(J23)=0,LEN(J24)=0),"",J23+J24),"") | K26: =IFERROR(IF(AND(LEN(K23)=0,LEN(K24)=0),"",K23+K24),"") | ... AG26: =IFERROR(IF(AND(LEN(AG23)=0,LEN(AG24)=0),"",AG23+AG24),"") | AI26: =IF(LEN(C22)=0,"",SUM(D26:AG26))
C28: Employee Name | D28: =D$7 -> Thu | E28: =E$7 -> Fri | F28: =F$7 -> Sat | G28: =G$7 -> Sun | H28: =H$7 -> Mon | I28: =I$7 -> Tue | J28: =J$7 -> Wed | K28: =K$7 -> Thu | ... AG28: =AG$7 -> Fri
D29: 1 | E29: 2 | F29: 3 | G29: 4 | H29: 5 | I29: 6 | J29: 7 | K29: 8 | L29: 9 | M29: 10 | N29: 11 | O29: 12 | P29: 13 | Q29: 14 | R29: 15 | S29: 16 | T29: 17 | U29: 18 | V29: 19 | W29: 20 | X29: 21 | Y29: 22 | Z29: 23 | AA29: 24 | AB29: 25 | AC29: 26 | AD29: 27 | AE29: 28 | AF29: 29 | AG29: 30 | AI29: Total
C30: Standard Hours | AI30: =IF(LEN(C29)=0,"",SUM(D30:AG30))
C31: Overtime Hours | AI31: =IF(LEN(C29)=0,"",SUM(D31:AG31))
C32: Overtime Salary(Hourly) | AI32: =IF(LEN(C29)=0,"",SUMPRODUCT(D31:AG31,D32:AG32))
C33: Total Hours | D33: =IFERROR(IF(AND(LEN(D30)=0,LEN(D31)=0),"",D30+D31),"") | E33: =IFERROR(IF(AND(LEN(E30)=0,LEN(E31)=0),"",E30+E31),"") | F33: =IFERROR(IF(AND(LEN(F30)=0,LEN(F31)=0),"",F30+F31),"") | G33: =IFERROR(IF(AND(LEN(G30)=0,LEN(G31)=0),"",G30+G31),"") | H33: =IFERROR(IF(AND(LEN(H30)=0,LEN(H31)=0),"",H30+H31),"") | I33: =IFERROR(IF(AND(LEN(I30)=0,LEN(I31)=0),"",I30+I31),"") | J33: =IFERROR(IF(AND(LEN(J30)=0,LEN(J31)=0),"",J30+J31),"") | K33: =IFERROR(IF(AND(LEN(K30)=0,LEN(K31)=0),"",K30+K31),"") | ... AG33: =IFERROR(IF(AND(LEN(AG30)=0,LEN(AG31)=0),"",AG30+AG31),"") | AI33: =IF(LEN(C29)=0,"",SUM(D33:AG33))
C35: Employee Name | D35: =D$7 -> Thu | E35: =E$7 -> Fri | F35: =F$7 -> Sat | G35: =G$7 -> Sun | H35: =H$7 -> Mon | I35: =I$7 -> Tue | J35: =J$7 -> Wed | K35: =K$7 -> Thu | ... AG35: =AG$7 -> Fri
D36: 1 | E36: 2 | F36: 3 | G36: 4 | H36: 5 | I36: 6 | J36: 7 | K36: 8 | L36: 9 | M36: 10 | N36: 11 | O36: 12 | P36: 13 | Q36: 14 | R36: 15 | S36: 16 | T36: 17 | U36: 18 | V36: 19 | W36: 20 | X36: 21 | Y36: 22 | Z36: 23 | AA36: 24 | AB36: 25 | AC36: 26 | AD36: 27 | AE36: 28 | AF36: 29 | AG36: 30 | AI36: Total
C37: Standard Hours
C38: Overtime Hours
C39: Overtime Salary(Hourly)
C40: Total Hours
C42: Employee Name | D42: =D$7 -> Thu | E42: =E$7 -> Fri | F42: =F$7 -> Sat | G42: =G$7 -> Sun | H42: =H$7 -> Mon | I42: =I$7 -> Tue | J42: =J$7 -> Wed | K42: =K$7 -> Thu | ... AG42: =AG$7 -> Fri
D43: 1 | E43: 2 | F43: 3 | G43: 4 | H43: 5 | I43: 6 | J43: 7 | K43: 8 | L43: 9 | M43: 10 | N43: 11 | O43: 12 | P43: 13 | Q43: 14 | R43: 15 | S43: 16 | T43: 17 | U43: 18 | V43: 19 | W43: 20 | X43: 21 | Y43: 22 | Z43: 23 | AA43: 24 | AB43: 25 | AC43: 26 | AD43: 27 | AE43: 28 | AF43: 29 | AG43: 30 | AI43: Total
C44: Standard Hours
C45: Overtime Hours
C46: Overtime Salary(Hourly)
C47: Total Hours
C49: Employee Name | D49: =D$7 -> Thu | E49: =E$7 -> Fri | F49: =F$7 -> Sat | G49: =G$7 -> Sun | H49: =H$7 -> Mon | I49: =I$7 -> Tue | J49: =J$7 -> Wed | K49: =K$7 -> Thu | ... AG49: =AG$7 -> Fri
D50: 1 | E50: 2 | F50: 3 | G50: 4 | H50: 5 | I50: 6 | J50: 7 | K50: 8 | L50: 9 | M50: 10 | N50: 11 | O50: 12 | P50: 13 | Q50: 14 | R50: 15 | S50: 16 | T50: 17 | U50: 18 | V50: 19 | W50: 20 | X50: 21 | Y50: 22 | Z50: 23 | AA50: 24 | AB50: 25 | AC50: 26 | AD50: 27 | AE50: 28 | AF50: 29 | AG50: 30 | AI50: Total
C51: Standard Hours
C52: Overtime Hours
C53: Overtime Salary(Hourly)
C54: Total Hours
C56: Employee Name | D56: =D$7 -> Thu | E56: =E$7 -> Fri | F56: =F$7 -> Sat | G56: =G$7 -> Sun | H56: =H$7 -> Mon | I56: =I$7 -> Tue | J56: =J$7 -> Wed | K56: =K$7 -> Thu | ... AG56: =AG$7 -> Fri
D57: 1 | E57: 2 | F57: 3 | G57: 4 | H57: 5 | I57: 6 | J57: 7 | K57: 8 | L57: 9 | M57: 10 | N57: 11 | O57: 12 | P57: 13 | Q57: 14 | R57: 15 | S57: 16 | T57: 17 | U57: 18 | V57: 19 | W57: 20 | X57: 21 | Y57: 22 | Z57: 23 | AA57: 24 | AB57: 25 | AC57: 26 | AD57: 27 | AE57: 28 | AF57: 29 | AG57: 30 | AI57: Total
C58: Standard Hours
C59: Overtime Hours
C60: Overtime Salary(Hourly)
C61: Total Hours
C63: Employee Name | D63: =D$7 -> Thu | E63: =E$7 -> Fri | F63: =F$7 -> Sat | G63: =G$7 -> Sun | H63: =H$7 -> Mon | I63: =I$7 -> Tue | J63: =J$7 -> Wed | K63: =K$7 -> Thu | ... AG63: =AG$7 -> Fri
D64: 1 | E64: 2 | F64: 3 | G64: 4 | H64: 5 | I64: 6 | J64: 7 | K64: 8 | L64: 9 | M64: 10 | N64: 11 | O64: 12 | P64: 13 | Q64: 14 | R64: 15 | S64: 16 | T64: 17 | U64: 18 | V64: 19 | W64: 20 | X64: 21 | Y64: 22 | Z64: 23 | AA64: 24 | AB64: 25 | AC64: 26 | AD64: 27 | AE64: 28 | AF64: 29 | AG64: 30 | AI64: Total
C65: Standard Hours
C66: Overtime Hours
C67: Overtime Salary(Hourly)
C68: Total Hours
C70: Employee Name | D70: =D$7 -> Thu | E70: =E$7 -> Fri | F70: =F$7 -> Sat | G70: =G$7 -> Sun | H70: =H$7 -> Mon | I70: =I$7 -> Tue | J70: =J$7 -> Wed | K70: =K$7 -> Thu | ... AG70: =AG$7 -> Fri
D71: 1 | E71: 2 | F71: 3 | G71: 4 | H71: 5 | I71: 6 | J71: 7 | K71: 8 | L71: 9 | M71: 10 | N71: 11 | O71: 12 | P71: 13 | Q71: 14 | R71: 15 | S71: 16 | T71: 17 | U71: 18 | V71: 19 | W71: 20 | X71: 21 | Y71: 22 | Z71: 23 | AA71: 24 | AB71: 25 | AC71: 26 | AD71: 27 | AE71: 28 | AF71: 29 | AG71: 30 | AI71: Total
C72: Standard Hours
C73: Overtime Hours
C74: Overtime Salary(Hourly)
C75: Total Hours
C77: Employee Name | D77: =D$7 -> Thu | E77: =E$7 -> Fri | F77: =F$7 -> Sat | G77: =G$7 -> Sun | H77: =H$7 -> Mon | I77: =I$7 -> Tue | J77: =J$7 -> Wed | K77: =K$7 -> Thu | ... AG77: =AG$7 -> Fri
D78: 1 | E78: 2 | F78: 3 | G78: 4 | H78: 5 | I78: 6 | J78: 7 | K78: 8 | L78: 9 | M78: 10 | N78: 11 | O78: 12 | P78: 13 | Q78: 14 | R78: 15 | S78: 16 | T78: 17 | U78: 18 | V78: 19 | W78: 20 | X78: 21 | Y78: 22 | Z78: 23 | AA78: 24 | AB78: 25 | AC78: 26 | AD78: 27 | AE78: 28 | AF78: 29 | AG78: 30 | AI78: Total
C79: Standard Hours
C80: Overtime Hours
C81: Overtime Salary(Hourly)
C82: Total Hours
C84: Employee Name | D84: =D$7 -> Thu | E84: =E$7 -> Fri | F84: =F$7 -> Sat | G84: =G$7 -> Sun | H84: =H$7 -> Mon | I84: =I$7 -> Tue | J84: =J$7 -> Wed | K84: =K$7 -> Thu | ... AG84: =AG$7 -> Fri
D85: 1 | E85: 2 | F85: 3 | G85: 4 | H85: 5 | I85: 6 | J85: 7 | K85: 8 | L85: 9 | M85: 10 | N85: 11 | O85: 12 | P85: 13 | Q85: 14 | R85: 15 | S85: 16 | T85: 17 | U85: 18 | V85: 19 | W85: 20 | X85: 21 | Y85: 22 | Z85: 23 | AA85: 24 | AB85: 25 | AC85: 26 | AD85: 27 | AE85: 28 | AF85: 29 | AG85: 30 | AI85: Total
C86: Standard Hours
C87: Overtime Hours
C88: Overtime Salary(Hourly)
C89: Total Hours
C91: Employee Name | D91: =D$7 -> Thu | E91: =E$7 -> Fri | F91: =F$7 -> Sat | G91: =G$7 -> Sun | H91: =H$7 -> Mon | I91: =I$7 -> Tue | J91: =J$7 -> Wed | K91: =K$7 -> Thu | ... AG91: =AG$7 -> Fri
D92: 1 | E92: 2 | F92: 3 | G92: 4 | H92: 5 | I92: 6 | J92: 7 | K92: 8 | L92: 9 | M92: 10 | N92: 11 | O92: 12 | P92: 13 | Q92: 14 | R92: 15 | S92: 16 | T92: 17 | U92: 18 | V92: 19 | W92: 20 | X92: 21 | Y92: 22 | Z92: 23 | AA92: 24 | AB92: 25 | AC92: 26 | AD92: 27 | AE92: 28 | AF92: 29 | AG92: 30 | AI92: Total
C93: Standard Hours
C94: Overtime Hours
C95: Overtime Salary(Hourly)
C96: Total Hours
C98: Employee Name | D98: =D$7 -> Thu | E98: =E$7 -> Fri | F98: =F$7 -> Sat | G98: =G$7 -> Sun | H98: =H$7 -> Mon | I98: =I$7 -> Tue | J98: =J$7 -> Wed | K98: =K$7 -> Thu | ... AG98: =AG$7 -> Fri
D99: 1 | E99: 2 | F99: 3 | G99: 4 | H99: 5 | I99: 6 | J99: 7 | K99: 8 | L99: 9 | M99: 10 | N99: 11 | O99: 12 | P99: 13 | Q99: 14 | R99: 15 | S99: 16 | T99: 17 | U99: 18 | V99: 19 | W99: 20 | X99: 21 | Y99: 22 | Z99: 23 | AA99: 24 | AB99: 25 | AC99: 26 | AD99: 27 | AE99: 28 | AF99: 29 | AG99: 30 | AI99: Total
C100: Standard Hours
C101: Overtime Hours
C102: Overtime Salary(Hourly)
C103: Total Hours
C105: Employee Name | D105: =D$7 -> Thu | E105: =E$7 -> Fri | F105: =F$7 -> Sat | G105: =G$7 -> Sun | H105: =H$7 -> Mon | I105: =I$7 -> Tue | J105: =J$7 -> Wed | K105: =K$7 -> Thu | ... AG105: =AG$7 -> Fri
D106: 1 | E106: 2 | F106: 3 | G106: 4 | H106: 5 | I106: 6 | J106: 7 | K106: 8 | L106: 9 | M106: 10 | N106: 11 | O106: 12 | P106: 13 | Q106: 14 | R106: 15 | S106: 16 | T106: 17 | U106: 18 | V106: 19 | W106: 20 | X106: 21 | Y106: 22 | Z106: 23 | AA106: 24 | AB106: 25 | AC106: 26 | AD106: 27 | AE106: 28 | AF106: 29 | AG106: 30 | AI106: Total
C107: Standard Hours
C108: Overtime Hours
C109: Overtime Salary(Hourly)
C110: Total Hours
C112: Employee Name | D112: =D$7 -> Thu | E112: =E$7 -> Fri | F112: =F$7 -> Sat | G112: =G$7 -> Sun | H112: =H$7 -> Mon | I112: =I$7 -> Tue | J112: =J$7 -> Wed | K112: =K$7 -> Thu | ... AG112: =AG$7 -> Fri
D113: 1 | E113: 2 | F113: 3 | G113: 4 | H113: 5 | I113: 6 | J113: 7 | K113: 8 | L113: 9 | M113: 10 | N113: 11 | O113: 12 | P113: 13 | Q113: 14 | R113: 15 | S113: 16 | T113: 17 | U113: 18 | V113: 19 | W113: 20 | X113: 21 | Y113: 22 | Z113: 23 | AA113: 24 | AB113: 25 | AC113: 26 | AD113: 27 | AE113: 28 | AF113: 29 | AG113: 30 | AI113: Total
C114: Standard Hours
C115: Overtime Hours
C116: Overtime Salary(Hourly)
C117: Total Hours
C119: Employee Name | D119: =D$7 -> Thu | E119: =E$7 -> Fri | F119: =F$7 -> Sat | G119: =G$7 -> Sun | H119: =H$7 -> Mon | I119: =I$7 -> Tue | J119: =J$7 -> Wed | K119: =K$7 -> Thu | ... AG119: =AG$7 -> Fri
D120: 1 | E120: 2 | F120: 3 | G120: 4 | H120: 5 | I120: 6 | J120: 7 | K120: 8 | L120: 9 | M120: 10 | N120: 11 | O120: 12 | P120: 13 | Q120: 14 | R120: 15 | S120: 16 | T120: 17 | U120: 18 | V120: 19 | W120: 20 | X120: 21 | Y120: 22 | Z120: 23 | AA120: 24 | AB120: 25 | AC120: 26 | AD120: 27 | AE120: 28 | AF120: 29 | AG120: 30 | AI120: Total
...

Sheet Jul
C2: MONTHLY EMPLOYEE TIMESHEET
C3: JULY
C7: Employee Name | D7: =IFERROR(INDEX(Cal!$C$18:$C$24,WEEKDAY(D8&".07."&Year)),"") -> Sat | E7: =IFERROR(INDEX(Cal!$C$18:$C$24,WEEKDAY(E8&".07."&Year)),"") -> Sun | F7: =IFERROR(INDEX(Cal!$C$18:$C$24,WEEKDAY(F8&".07."&Year)),"") -> Mon | G7: =IFERROR(INDEX(Cal!$C$18:$C$24,WEEKDAY(G8&".07."&Year)),"") -> Tue | H7: =IFERROR(INDEX(Cal!$C$18:$C$24,WEEKDAY(H8&".07."&Year)),"") -> Wed | I7: =IFERROR(INDEX(Cal!$C$18:$C$24,WEEKDAY(I8&".07."&Year)),"") -> Thu | J7: =IFERROR(INDEX(Cal!$C$18:$C$24,WEEKDAY(J8&".07."&Year)),"") -> Fri | K7: =IFERROR(INDEX(Cal!$C$18:$C$24,WEEKDAY(K8&".07."&Year)),"") -> Sat | ... AH7: =IFERROR(INDEX(Cal!$C$18:$C$24,WEEKDAY(AH8&".07."&Year)),"") -> Mon
D8: 1 | E8: 2 | F8: 3 | G8: 4 | H8: 5 | I8: 6 | J8: 7 | K8: 8 | L8: 9 | M8: 10 | N8: 11 | O8: 12 | P8: 13 | Q8: 14 | R8: 15 | S8: 16 | T8: 17 | U8: 18 | V8: 19 | W8: 20 | X8: 21 | Y8: 22 | Z8: 23 | AA8: 24 | AB8: 25 | AC8: 26 | AD8: 27 | AE8: 28 | AF8: 29 | AG8: 30 | AH8: 31 | AI8: Total
C9: Standard Hours | AI9: =IF(LEN(C8)=0,"",SUM(D9:AH9))
C10: Overtime Hours | AI10: =IF(LEN(C8)=0,"",SUM(D10:AH10))
C11: Overtime Salary(Hourly) | AI11: =IF(LEN(C8)=0,"",SUMPRODUCT(D10:AH10,D11:AH11))
C12: Total Hours | D12: =IFERROR(IF(AND(LEN(D9)=0,LEN(D10)=0),"",D9+D10),"") | E12: =IFERROR(IF(AND(LEN(E9)=0,LEN(E10)=0),"",E9+E10),"") | F12: =IFERROR(IF(AND(LEN(F9)=0,LEN(F10)=0),"",F9+F10),"") | G12: =IFERROR(IF(AND(LEN(G9)=0,LEN(G10)=0),"",G9+G10),"") | H12: =IFERROR(IF(AND(LEN(H9)=0,LEN(H10)=0),"",H9+H10),"") | I12: =IFERROR(IF(AND(LEN(I9)=0,LEN(I10)=0),"",I9+I10),"") | J12: =IFERROR(IF(AND(LEN(J9)=0,LEN(J10)=0),"",J9+J10),"") | K12: =IFERROR(IF(AND(LEN(K9)=0,LEN(K10)=0),"",K9+K10),"") | ... AH12: =IFERROR(IF(AND(LEN(AH9)=0,LEN(AH10)=0),"",AH9+AH10),"") | AI12: =IF(LEN(C8)=0,"",SUM(D12:AH12))
C14: Employee Name | D14: =D$7 -> Sat | E14: =E$7 -> Sun | F14: =F$7 -> Mon | G14: =G$7 -> Tue | H14: =H$7 -> Wed | I14: =I$7 -> Thu | J14: =J$7 -> Fri | K14: =K$7 -> Sat | ... AH14: =AH$7 -> Mon
D15: 1 | E15: 2 | F15: 3 | G15: 4 | H15: 5 | I15: 6 | J15: 7 | K15: 8 | L15: 9 | M15: 10 | N15: 11 | O15: 12 | P15: 13 | Q15: 14 | R15: 15 | S15: 16 | T15: 17 | U15: 18 | V15: 19 | W15: 20 | X15: 21 | Y15: 22 | Z15: 23 | AA15: 24 | AB15: 25 | AC15: 26 | AD15: 27 | AE15: 28 | AF15: 29 | AG15: 30 | AH15: 31 | AI15: Total
C16: Standard Hours | AI16: =IF(LEN(C15)=0,"",SUM(D16:AH16))
C17: Overtime Hours | AI17: =IF(LEN(C15)=0,"",SUM(D17:AH17))
C18: Overtime Salary(Hourly) | AI18: =IF(LEN(C15)=0,"",SUMPRODUCT(D17:AH17,D18:AH18))
C19: Total Hours | D19: =IFERROR(IF(AND(LEN(D16)=0,LEN(D17)=0),"",D16+D17),"") | E19: =IFERROR(IF(AND(LEN(E16)=0,LEN(E17)=0),"",E16+E17),"") | F19: =IFERROR(IF(AND(LEN(F16)=0,LEN(F17)=0),"",F16+F17),"") | G19: =IFERROR(IF(AND(LEN(G16)=0,LEN(G17)=0),"",G16+G17),"") | H19: =IFERROR(IF(AND(LEN(H16)=0,LEN(H17)=0),"",H16+H17),"") | I19: =IFERROR(IF(AND(LEN(I16)=0,LEN(I17)=0),"",I16+I17),"") | J19: =IFERROR(IF(AND(LEN(J16)=0,LEN(J17)=0),"",J16+J17),"") | K19: =IFERROR(IF(AND(LEN(K16)=0,LEN(K17)=0),"",K16+K17),"") | ... AH19: =IFERROR(IF(AND(LEN(AH16)=0,LEN(AH17)=0),"",AH16+AH17),"") | AI19: =IF(LEN(C15)=0,"",SUM(D19:AH19))
C21: Employee Name | D21: =D$7 -> Sat | E21: =E$7 -> Sun | F21: =F$7 -> Mon | G21: =G$7 -> Tue | H21: =H$7 -> Wed | I21: =I$7 -> Thu | J21: =J$7 -> Fri | K21: =K$7 -> Sat | ... AH21: =AH$7 -> Mon
D22: 1 | E22: 2 | F22: 3 | G22: 4 | H22: 5 | I22: 6 | J22: 7 | K22: 8 | L22: 9 | M22: 10 | N22: 11 | O22: 12 | P22: 13 | Q22: 14 | R22: 15 | S22: 16 | T22: 17 | U22: 18 | V22: 19 | W22: 20 | X22: 21 | Y22: 22 | Z22: 23 | AA22: 24 | AB22: 25 | AC22: 26 | AD22: 27 | AE22: 28 | AF22: 29 | AG22: 30 | AH22: 31 | AI22: Total
C23: Standard Hours | AI23: =IF(LEN(C22)=0,"",SUM(D23:AH23))
C24: Overtime Hours | AI24: =IF(LEN(C22)=0,"",SUM(D24:AH24))
C25: Overtime Salary(Hourly) | AI25: =IF(LEN(C22)=0,"",SUMPRODUCT(D24:AH24,D25:AH25))
C26: Total Hours | D26: =IFERROR(IF(AND(LEN(D23)=0,LEN(D24)=0),"",D23+D24),"") | E26: =IFERROR(IF(AND(LEN(E23)=0,LEN(E24)=0),"",E23+E24),"") | F26: =IFERROR(IF(AND(LEN(F23)=0,LEN(F24)=0),"",F23+F24),"") | G26: =IFERROR(IF(AND(LEN(G23)=0,LEN(G24)=0),"",G23+G24),"") | H26: =IFERROR(IF(AND(LEN(H23)=0,LEN(H24)=0),"",H23+H24),"") | I26: =IFERROR(IF(AND(LEN(I23)=0,LEN(I24)=0),"",I23+I24),"") | J26: =IFERROR(IF(AND(LEN(J23)=0,LEN(J24)=0),"",J23+J24),"") | K26: =IFERROR(IF(AND(LEN(K23)=0,LEN(K24)=0),"",K23+K24),"") | ... AH26: =IFERROR(IF(AND(LEN(AH23)=0,LEN(AH24)=0),"",AH23+AH24),"") | AI26: =IF(LEN(C22)=0,"",SUM(D26:AH26))
C28: Employee Name | D28: =D$7 -> Sat | E28: =E$7 -> Sun | F28: =F$7 -> Mon | G28: =G$7 -> Tue | H28: =H$7 -> Wed | I28: =I$7 -> Thu | J28: =J$7 -> Fri | K28: =K$7 -> Sat | ... AH28: =AH$7 -> Mon
D29: 1 | E29: 2 | F29: 3 | G29: 4 | H29: 5 | I29: 6 | J29: 7 | K29: 8 | L29: 9 | M29: 10 | N29: 11 | O29: 12 | P29: 13 | Q29: 14 | R29: 15 | S29: 16 | T29: 17 | U29: 18 | V29: 19 | W29: 20 | X29: 21 | Y29: 22 | Z29: 23 | AA29: 24 | AB29: 25 | AC29: 26 | AD29: 27 | AE29: 28 | AF29: 29 | AG29: 30 | AH29: 31 | AI29: Total
C30: Standard Hours | AI30: =IF(LEN(C29)=0,"",SUM(D30:AH30))
C31: Overtime Hours | AI31: =IF(LEN(C29)=0,"",SUM(D31:AH31))
C32: Overtime Salary(Hourly) | AI32: =IF(LEN(C29)=0,"",SUMPRODUCT(D31:AH31,D32:AH32))
C33: Total Hours | D33: =IFERROR(IF(AND(LEN(D30)=0,LEN(D31)=0),"",D30+D31),"") | E33: =IFERROR(IF(AND(LEN(E30)=0,LEN(E31)=0),"",E30+E31),"") | F33: =IFERROR(IF(AND(LEN(F30)=0,LEN(F31)=0),"",F30+F31),"") | G33: =IFERROR(IF(AND(LEN(G30)=0,LEN(G31)=0),"",G30+G31),"") | H33: =IFERROR(IF(AND(LEN(H30)=0,LEN(H31)=0),"",H30+H31),"") | I33: =IFERROR(IF(AND(LEN(I30)=0,LEN(I31)=0),"",I30+I31),"") | J33: =IFERROR(IF(AND(LEN(J30)=0,LEN(J31)=0),"",J30+J31),"") | K33: =IFERROR(IF(AND(LEN(K30)=0,LEN(K31)=0),"",K30+K31),"") | ... AH33: =IFERROR(IF(AND(LEN(AH30)=0,LEN(AH31)=0),"",AH30+AH31),"") | AI33: =IF(LEN(C29)=0,"",SUM(D33:AH33))
C35: Employee Name | D35: =D$7 -> Sat | E35: =E$7 -> Sun | F35: =F$7 -> Mon | G35: =G$7 -> Tue | H35: =H$7 -> Wed | I35: =I$7 -> Thu | J35: =J$7 -> Fri | K35: =K$7 -> Sat | ... AH35: =AH$7 -> Mon
D36: 1 | E36: 2 | F36: 3 | G36: 4 | H36: 5 | I36: 6 | J36: 7 | K36: 8 | L36: 9 | M36: 10 | N36: 11 | O36: 12 | P36: 13 | Q36: 14 | R36: 15 | S36: 16 | T36: 17 | U36: 18 | V36: 19 | W36: 20 | X36: 21 | Y36: 22 | Z36: 23 | AA36: 24 | AB36: 25 | AC36: 26 | AD36: 27 | AE36: 28 | AF36: 29 | AG36: 30 | AH36: 31 | AI36: Total
C37: Standard Hours | AI37: =IF(LEN(C36)=0,"",SUM(D37:AH37))
C38: Overtime Hours | AI38: =IF(LEN(C36)=0,"",SUM(D38:AH38))
C39: Overtime Salary(Hourly) | AI39: =IF(LEN(C36)=0,"",SUMPRODUCT(D38:AH38,D39:AH39))
C40: Total Hours | D40: =IFERROR(IF(AND(LEN(D37)=0,LEN(D38)=0),"",D37+D38),"") | E40: =IFERROR(IF(AND(LEN(E37)=0,LEN(E38)=0),"",E37+E38),"") | F40: =IFERROR(IF(AND(LEN(F37)=0,LEN(F38)=0),"",F37+F38),"") | G40: =IFERROR(IF(AND(LEN(G37)=0,LEN(G38)=0),"",G37+G38),"") | H40: =IFERROR(IF(AND(LEN(H37)=0,LEN(H38)=0),"",H37+H38),"") | I40: =IFERROR(IF(AND(LEN(I37)=0,LEN(I38)=0),"",I37+I38),"") | J40: =IFERROR(IF(AND(LEN(J37)=0,LEN(J38)=0),"",J37+J38),"") | K40: =IFERROR(IF(AND(LEN(K37)=0,LEN(K38)=0),"",K37+K38),"") | ... AH40: =IFERROR(IF(AND(LEN(AH37)=0,LEN(AH38)=0),"",AH37+AH38),"") | AI40: =IF(LEN(C36)=0,"",SUM(D40:AH40))
C42: Employee Name | D42: =D$7 -> Sat | E42: =E$7 -> Sun | F42: =F$7 -> Mon | G42: =G$7 -> Tue | H42: =H$7 -> Wed | I42: =I$7 -> Thu | J42: =J$7 -> Fri | K42: =K$7 -> Sat | ... AH42: =AH$7 -> Mon
D43: 1 | E43: 2 | F43: 3 | G43: 4 | H43: 5 | I43: 6 | J43: 7 | K43: 8 | L43: 9 | M43: 10 | N43: 11 | O43: 12 | P43: 13 | Q43: 14 | R43: 15 | S43: 16 | T43: 17 | U43: 18 | V43: 19 | W43: 20 | X43: 21 | Y43: 22 | Z43: 23 | AA43: 24 | AB43: 25 | AC43: 26 | AD43: 27 | AE43: 28 | AF43: 29 | AG43: 30 | AH43: 31 | AI43: Total
C44: Standard Hours
C45: Overtime Hours
C46: Overtime Salary(Hourly)
C47: Total Hours
C49: Employee Name | D49: =D$7 -> Sat | E49: =E$7 -> Sun | F49: =F$7 -> Mon | G49: =G$7 -> Tue | H49: =H$7 -> Wed | I49: =I$7 -> Thu | J49: =J$7 -> Fri | K49: =K$7 -> Sat | ... AH49: =AH$7 -> Mon
D50: 1 | E50: 2 | F50: 3 | G50: 4 | H50: 5 | I50: 6 | J50: 7 | K50: 8 | L50: 9 | M50: 10 | N50: 11 | O50: 12 | P50: 13 | Q50: 14 | R50: 15 | S50: 16 | T50: 17 | U50: 18 | V50: 19 | W50: 20 | X50: 21 | Y50: 22 | Z50: 23 | AA50: 24 | AB50: 25 | AC50: 26 | AD50: 27 | AE50: 28 | AF50: 29 | AG50: 30 | AH50: 31 | AI50: Total
C51: Standard Hours
C52: Overtime Hours
C53: Overtime Salary(Hourly)
C54: Total Hours
C56: Employee Name | D56: =D$7 -> Sat | E56: =E$7 -> Sun | F56: =F$7 -> Mon | G56: =G$7 -> Tue | H56: =H$7 -> Wed | I56: =I$7 -> Thu | J56: =J$7 -> Fri | K56: =K$7 -> Sat | ... AH56: =AH$7 -> Mon
D57: 1 | E57: 2 | F57: 3 | G57: 4 | H57: 5 | I57: 6 | J57: 7 | K57: 8 | L57: 9 | M57: 10 | N57: 11 | O57: 12 | P57: 13 | Q57: 14 | R57: 15 | S57: 16 | T57: 17 | U57: 18 | V57: 19 | W57: 20 | X57: 21 | Y57: 22 | Z57: 23 | AA57: 24 | AB57: 25 | AC57: 26 | AD57: 27 | AE57: 28 | AF57: 29 | AG57: 30 | AH57: 31 | AI57: Total
C58: Standard Hours
C59: Overtime Hours
C60: Overtime Salary(Hourly)
C61: Total Hours
C63: Employee Name | D63: =D$7 -> Sat | E63: =E$7 -> Sun | F63: =F$7 -> Mon | G63: =G$7 -> Tue | H63: =H$7 -> Wed | I63: =I$7 -> Thu | J63: =J$7 -> Fri | K63: =K$7 -> Sat | ... AH63: =AH$7 -> Mon
D64: 1 | E64: 2 | F64: 3 | G64: 4 | H64: 5 | I64: 6 | J64: 7 | K64: 8 | L64: 9 | M64: 10 | N64: 11 | O64: 12 | P64: 13 | Q64: 14 | R64: 15 | S64: 16 | T64: 17 | U64: 18 | V64: 19 | W64: 20 | X64: 21 | Y64: 22 | Z64: 23 | AA64: 24 | AB64: 25 | AC64: 26 | AD64: 27 | AE64: 28 | AF64: 29 | AG64: 30 | AH64: 31 | AI64: Total
C65: Standard Hours
C66: Overtime Hours
C67: Overtime Salary(Hourly)
C68: Total Hours
C70: Employee Name | D70: =D$7 -> Sat | E70: =E$7 -> Sun | F70: =F$7 -> Mon | G70: =G$7 -> Tue | H70: =H$7 -> Wed | I70: =I$7 -> Thu | J70: =J$7 -> Fri | K70: =K$7 -> Sat | ... AH70: =AH$7 -> Mon
D71: 1 | E71: 2 | F71: 3 | G71: 4 | H71: 5 | I71: 6 | J71: 7 | K71: 8 | L71: 9 | M71: 10 | N71: 11 | O71: 12 | P71: 13 | Q71: 14 | R71: 15 | S71: 16 | T71: 17 | U71: 18 | V71: 19 | W71: 20 | X71: 21 | Y71: 22 | Z71: 23 | AA71: 24 | AB71: 25 | AC71: 26 | AD71: 27 | AE71: 28 | AF71: 29 | AG71: 30 | AH71: 31 | AI71: Total
C72: Standard Hours
C73: Overtime Hours
C74: Overtime Salary(Hourly)
C75: Total Hours
C77: Employee Name | D77: =D$7 -> Sat | E77: =E$7 -> Sun | F77: =F$7 -> Mon | G77: =G$7 -> Tue | H77: =H$7 -> Wed | I77: =I$7 -> Thu | J77: =J$7 -> Fri | K77: =K$7 -> Sat | ... AH77: =AH$7 -> Mon
D78: 1 | E78: 2 | F78: 3 | G78: 4 | H78: 5 | I78: 6 | J78: 7 | K78: 8 | L78: 9 | M78: 10 | N78: 11 | O78: 12 | P78: 13 | Q78: 14 | R78: 15 | S78: 16 | T78: 17 | U78: 18 | V78: 19 | W78: 20 | X78: 21 | Y78: 22 | Z78: 23 | AA78: 24 | AB78: 25 | AC78: 26 | AD78: 27 | AE78: 28 | AF78: 29 | AG78: 30 | AH78: 31 | AI78: Total
C79: Standard Hours
C80: Overtime Hours
C81: Overtime Salary(Hourly)
C82: Total Hours
C84: Employee Name | D84: =D$7 -> Sat | E84: =E$7 -> Sun | F84: =F$7 -> Mon | G84: =G$7 -> Tue | H84: =H$7 -> Wed | I84: =I$7 -> Thu | J84: =J$7 -> Fri | K84: =K$7 -> Sat | ... AH84: =AH$7 -> Mon
D85: 1 | E85: 2 | F85: 3 | G85: 4 | H85: 5 | I85: 6 | J85: 7 | K85: 8 | L85: 9 | M85: 10 | N85: 11 | O85: 12 | P85: 13 | Q85: 14 | R85: 15 | S85: 16 | T85: 17 | U85: 18 | V85: 19 | W85: 20 | X85: 21 | Y85: 22 | Z85: 23 | AA85: 24 | AB85: 25 | AC85: 26 | AD85: 27 | AE85: 28 | AF85: 29 | AG85: 30 | AH85: 31 | AI85: Total
C86: Standard Hours
C87: Overtime Hours
C88: Overtime Salary(Hourly)
C89: Total Hours
C91: Employee Name | D91: =D$7 -> Sat | E91: =E$7 -> Sun | F91: =F$7 -> Mon | G91: =G$7 -> Tue | H91: =H$7 -> Wed | I91: =I$7 -> Thu | J91: =J$7 -> Fri | K91: =K$7 -> Sat | ... AH91: =AH$7 -> Mon
D92: 1 | E92: 2 | F92: 3 | G92: 4 | H92: 5 | I92: 6 | J92: 7 | K92: 8 | L92: 9 | M92: 10 | N92: 11 | O92: 12 | P92: 13 | Q92: 14 | R92: 15 | S92: 16 | T92: 17 | U92: 18 | V92: 19 | W92: 20 | X92: 21 | Y92: 22 | Z92: 23 | AA92: 24 | AB92: 25 | AC92: 26 | AD92: 27 | AE92: 28 | AF92: 29 | AG92: 30 | AH92: 31 | AI92: Total
C93: Standard Hours
C94: Overtime Hours
C95: Overtime Salary(Hourly)
C96: Total Hours
C98: Employee Name | D98: =D$7 -> Sat | E98: =E$7 -> Sun | F98: =F$7 -> Mon | G98: =G$7 -> Tue | H98: =H$7 -> Wed | I98: =I$7 -> Thu | J98: =J$7 -> Fri | K98: =K$7 -> Sat | ... AH98: =AH$7 -> Mon
D99: 1 | E99: 2 | F99: 3 | G99: 4 | H99: 5 | I99: 6 | J99: 7 | K99: 8 | L99: 9 | M99: 10 | N99: 11 | O99: 12 | P99: 13 | Q99: 14 | R99: 15 | S99: 16 | T99: 17 | U99: 18 | V99: 19 | W99: 20 | X99: 21 | Y99: 22 | Z99: 23 | AA99: 24 | AB99: 25 | AC99: 26 | AD99: 27 | AE99: 28 | AF99: 29 | AG99: 30 | AH99: 31 | AI99: Total
C100: Standard Hours
C101: Overtime Hours
C102: Overtime Salary(Hourly)
C103: Total Hours
C105: Employee Name | D105: =D$7 -> Sat | E105: =E$7 -> Sun | F105: =F$7 -> Mon | G105: =G$7 -> Tue | H105: =H$7 -> Wed | I105: =I$7 -> Thu | J105: =J$7 -> Fri | K105: =K$7 -> Sat | ... AH105: =AH$7 -> Mon
D106: 1 | E106: 2 | F106: 3 | G106: 4 | H106: 5 | I106: 6 | J106: 7 | K106: 8 | L106: 9 | M106: 10 | N106: 11 | O106: 12 | P106: 13 | Q106: 14 | R106: 15 | S106: 16 | T106: 17 | U106: 18 | V106: 19 | W106: 20 | X106: 21 | Y106: 22 | Z106: 23 | AA106: 24 | AB106: 25 | AC106: 26 | AD106: 27 | AE106: 28 | AF106: 29 | AG106: 30 | AH106: 31 | AI106: Total
C107: Standard Hours
C108: Overtime Hours
C109: Overtime Salary(Hourly)
C110: Total Hours
C112: Employee Name | D112: =D$7 -> Sat | E112: =E$7 -> Sun | F112: =F$7 -> Mon | G112: =G$7 -> Tue | H112: =H$7 -> Wed | I112: =I$7 -> Thu | J112: =J$7 -> Fri | K112: =K$7 -> Sat | ... AH112: =AH$7 -> Mon
D113: 1 | E113: 2 | F113: 3 | G113: 4 | H113: 5 | I113: 6 | J113: 7 | K113: 8 | L113: 9 | M113: 10 | N113: 11 | O113: 12 | P113: 13 | Q113: 14 | R113: 15 | S113: 16 | T113: 17 | U113: 18 | V113: 19 | W113: 20 | X113: 21 | Y113: 22 | Z113: 23 | AA113: 24 | AB113: 25 | AC113: 26 | AD113: 27 | AE113: 28 | AF113: 29 | AG113: 30 | AH113: 31 | AI113: Total
C114: Standard Hours
C115: Overtime Hours
C116: Overtime Salary(Hourly)
C117: Total Hours
C119: Employee Name | D119: =D$7 -> Sat | E119: =E$7 -> Sun | F119: =F$7 -> Mon | G119: =G$7 -> Tue | H119: =H$7 -> Wed | I119: =I$7 -> Thu | J119: =J$7 -> Fri | K119: =K$7 -> Sat | ... AH119: =AH$7 -> Mon
D120: 1 | E120: 2 | F120: 3 | G120: 4 | H120: 5 | I120: 6 | J120: 7 | K120: 8 | L120: 9 | M120: 10 | N120: 11 | O120: 12 | P120: 13 | Q120: 14 | R120: 15 | S120: 16 | T120: 17 | U120: 18 | V120: 19 | W120: 20 | X120: 21 | Y120: 22 | Z120: 23 | AA120: 24 | AB120: 25 | AC120: 26 | AD120: 27 | AE120: 28 | AF120: 29 | AG120: 30 | AH120: 31 | AI120: Total
...

Sheet Aug
C2: MONTHLY EMPLOYEE TIMESHEET
C3: AUGUST
C7: Employee Name | D7: =IFERROR(INDEX(Cal!$C$18:$C$24,WEEKDAY(D8&".08."&Year)),"") -> Tue | E7: =IFERROR(INDEX(Cal!$C$18:$C$24,WEEKDAY(E8&".08."&Year)),"") -> Wed | F7: =IFERROR(INDEX(Cal!$C$18:$C$24,WEEKDAY(F8&".08."&Year)),"") -> Thu | G7: =IFERROR(INDEX(Cal!$C$18:$C$24,WEEKDAY(G8&".08."&Year)),"") -> Fri | H7: =IFERROR(INDEX(Cal!$C$18:$C$24,WEEKDAY(H8&".08."&Year)),"") -> Sat | I7: =IFERROR(INDEX(Cal!$C$18:$C$24,WEEKDAY(I8&".08."&Year)),"") -> Sun | J7: =IFERROR(INDEX(Cal!$C$18:$C$24,WEEKDAY(J8&".08."&Year)),"") -> Mon | K7: =IFERROR(INDEX(Cal!$C$18:$C$24,WEEKDAY(K8&".08."&Year)),"") -> Tue | ... AH7: =IFERROR(INDEX(Cal!$C$18:$C$24,WEEKDAY(AH8&".08."&Year)),"") -> Thu
D8: 1 | E8: 2 | F8: 3 | G8: 4 | H8: 5 | I8: 6 | J8: 7 | K8: 8 | L8: 9 | M8: 10 | N8: 11 | O8: 12 | P8: 13 | Q8: 14 | R8: 15 | S8: 16 | T8: 17 | U8: 18 | V8: 19 | W8: 20 | X8: 21 | Y8: 22 | Z8: 23 | AA8: 24 | AB8: 25 | AC8: 26 | AD8: 27 | AE8: 28 | AF8: 29 | AG8: 30 | AH8: 31 | AI8: Total
C9: Standard Hours | AI9: =IF(LEN(C8)=0,"",SUM(D9:AH9))
C10: Overtime Hours | AI10: =IF(LEN(C8)=0,"",SUM(D10:AH10))
C11: Overtime Salary(Hourly) | AI11: =IF(LEN(C8)=0,"",SUMPRODUCT(D10:AH10,D11:AH11))
C12: Total Hours | D12: =IFERROR(IF(AND(LEN(D9)=0,LEN(D10)=0),"",D9+D10),"") | E12: =IFERROR(IF(AND(LEN(E9)=0,LEN(E10)=0),"",E9+E10),"") | F12: =IFERROR(IF(AND(LEN(F9)=0,LEN(F10)=0),"",F9+F10),"") | G12: =IFERROR(IF(AND(LEN(G9)=0,LEN(G10)=0),"",G9+G10),"") | H12: =IFERROR(IF(AND(LEN(H9)=0,LEN(H10)=0),"",H9+H10),"") | I12: =IFERROR(IF(AND(LEN(I9)=0,LEN(I10)=0),"",I9+I10),"") | J12: =IFERROR(IF(AND(LEN(J9)=0,LEN(J10)=0),"",J9+J10),"") | K12: =IFERROR(IF(AND(LEN(K9)=0,LEN(K10)=0),"",K9+K10),"") | ... AH12: =IFERROR(IF(AND(LEN(AH9)=0,LEN(AH10)=0),"",AH9+AH10),"") | AI12: =IF(LEN(C8)=0,"",SUM(D12:AH12))
C14: Employee Name | D14: =D$7 -> Tue | E14: =E$7 -> Wed | F14: =F$7 -> Thu | G14: =G$7 -> Fri | H14: =H$7 -> Sat | I14: =I$7 -> Sun | J14: =J$7 -> Mon | K14: =K$7 -> Tue | ... AH14: =AH$7 -> Thu
D15: 1 | E15: 2 | F15: 3 | G15: 4 | H15: 5 | I15: 6 | J15: 7 | K15: 8 | L15: 9 | M15: 10 | N15: 11 | O15: 12 | P15: 13 | Q15: 14 | R15: 15 | S15: 16 | T15: 17 | U15: 18 | V15: 19 | W15: 20 | X15: 21 | Y15: 22 | Z15: 23 | AA15: 24 | AB15: 25 | AC15: 26 | AD15: 27 | AE15: 28 | AF15: 29 | AG15: 30 | AH15: 31 | AI15: Total
C16: Standard Hours | AI16: =IF(LEN(C15)=0,"",SUM(D16:AH16))
C17: Overtime Hours | AI17: =IF(LEN(C15)=0,"",SUM(D17:AH17))
C18: Overtime Salary(Hourly) | AI18: =IF(LEN(C15)=0,"",SUMPRODUCT(D17:AH17,D18:AH18))
C19: Total Hours | D19: =IFERROR(IF(AND(LEN(D16)=0,LEN(D17)=0),"",D16+D17),"") | E19: =IFERROR(IF(AND(LEN(E16)=0,LEN(E17)=0),"",E16+E17),"") | F19: =IFERROR(IF(AND(LEN(F16)=0,LEN(F17)=0),"",F16+F17),"") | G19: =IFERROR(IF(AND(LEN(G16)=0,LEN(G17)=0),"",G16+G17),"") | H19: =IFERROR(IF(AND(LEN(H16)=0,LEN(H17)=0),"",H16+H17),"") | I19: =IFERROR(IF(AND(LEN(I16)=0,LEN(I17)=0),"",I16+I17),"") | J19: =IFERROR(IF(AND(LEN(J16)=0,LEN(J17)=0),"",J16+J17),"") | K19: =IFERROR(IF(AND(LEN(K16)=0,LEN(K17)=0),"",K16+K17),"") | ... AH19: =IFERROR(IF(AND(LEN(AH16)=0,LEN(AH17)=0),"",AH16+AH17),"") | AI19: =IF(LEN(C15)=0,"",SUM(D19:AH19))
C21: Employee Name | D21: =D$7 -> Tue | E21: =E$7 -> Wed | F21: =F$7 -> Thu | G21: =G$7 -> Fri | H21: =H$7 -> Sat | I21: =I$7 -> Sun | J21: =J$7 -> Mon | K21: =K$7 -> Tue | ... AH21: =AH$7 -> Thu
D22: 1 | E22: 2 | F22: 3 | G22: 4 | H22: 5 | I22: 6 | J22: 7 | K22: 8 | L22: 9 | M22: 10 | N22: 11 | O22: 12 | P22: 13 | Q22: 14 | R22: 15 | S22: 16 | T22: 17 | U22: 18 | V22: 19 | W22: 20 | X22: 21 | Y22: 22 | Z22: 23 | AA22: 24 | AB22: 25 | AC22: 26 | AD22: 27 | AE22: 28 | AF22: 29 | AG22: 30 | AH22: 31 | AI22: Total
C23: Standard Hours | AI23: =IF(LEN(C22)=0,"",SUM(D23:AH23))
C24: Overtime Hours | AI24: =IF(LEN(C22)=0,"",SUM(D24:AH24))
C25: Overtime Salary(Hourly) | AI25: =IF(LEN(C22)=0,"",SUMPRODUCT(D24:AH24,D25:AH25))
C26: Total Hours | D26: =IFERROR(IF(AND(LEN(D23)=0,LEN(D24)=0),"",D23+D24),"") | E26: =IFERROR(IF(AND(LEN(E23)=0,LEN(E24)=0),"",E23+E24),"") | F26: =IFERROR(IF(AND(LEN(F23)=0,LEN(F24)=0),"",F23+F24),"") | G26: =IFERROR(IF(AND(LEN(G23)=0,LEN(G24)=0),"",G23+G24),"") | H26: =IFERROR(IF(AND(LEN(H23)=0,LEN(H24)=0),"",H23+H24),"") | I26: =IFERROR(IF(AND(LEN(I23)=0,LEN(I24)=0),"",I23+I24),"") | J26: =IFERROR(IF(AND(LEN(J23)=0,LEN(J24)=0),"",J23+J24),"") | K26: =IFERROR(IF(AND(LEN(K23)=0,LEN(K24)=0),"",K23+K24),"") | ... AH26: =IFERROR(IF(AND(LEN(AH23)=0,LEN(AH24)=0),"",AH23+AH24),"") | AI26: =IF(LEN(C22)=0,"",SUM(D26:AH26))
C28: Employee Name | D28: =D$7 -> Tue | E28: =E$7 -> Wed | F28: =F$7 -> Thu | G28: =G$7 -> Fri | H28: =H$7 -> Sat | I28: =I$7 -> Sun | J28: =J$7 -> Mon | K28: =K$7 -> Tue | ... AH28: =AH$7 -> Thu
D29: 1 | E29: 2 | F29: 3 | G29: 4 | H29: 5 | I29: 6 | J29: 7 | K29: 8 | L29: 9 | M29: 10 | N29: 11 | O29: 12 | P29: 13 | Q29: 14 | R29: 15 | S29: 16 | T29: 17 | U29: 18 | V29: 19 | W29: 20 | X29: 21 | Y29: 22 | Z29: 23 | AA29: 24 | AB29: 25 | AC29: 26 | AD29: 27 | AE29: 28 | AF29: 29 | AG29: 30 | AH29: 31 | AI29: Total
C30: Standard Hours | AI30: =IF(LEN(C29)=0,"",SUM(D30:AH30))
C31: Overtime Hours | AI31: =IF(LEN(C29)=0,"",SUM(D31:AH31))
C32: Overtime Salary(Hourly) | AI32: =IF(LEN(C29)=0,"",SUMPRODUCT(D31:AH31,D32:AH32))
C33: Total Hours | D33: =IFERROR(IF(AND(LEN(D30)=0,LEN(D31)=0),"",D30+D31),"") | E33: =IFERROR(IF(AND(LEN(E30)=0,LEN(E31)=0),"",E30+E31),"") | F33: =IFERROR(IF(AND(LEN(F30)=0,LEN(F31)=0),"",F30+F31),"") | G33: =IFERROR(IF(AND(LEN(G30)=0,LEN(G31)=0),"",G30+G31),"") | H33: =IFERROR(IF(AND(LEN(H30)=0,LEN(H31)=0),"",H30+H31),"") | I33: =IFERROR(IF(AND(LEN(I30)=0,LEN(I31)=0),"",I30+I31),"") | J33: =IFERROR(IF(AND(LEN(J30)=0,LEN(J31)=0),"",J30+J31),"") | K33: =IFERROR(IF(AND(LEN(K30)=0,LEN(K31)=0),"",K30+K31),"") | ... AH33: =IFERROR(IF(AND(LEN(AH30)=0,LEN(AH31)=0),"",AH30+AH31),"") | AI33: =IF(LEN(C29)=0,"",SUM(D33:AH33))
C35: Employee Name | D35: =D$7 -> Tue | E35: =E$7 -> Wed | F35: =F$7 -> Thu | G35: =G$7 -> Fri | H35: =H$7 -> Sat | I35: =I$7 -> Sun | J35: =J$7 -> Mon | K35: =K$7 -> Tue | ... AH35: =AH$7 -> Thu
D36: 1 | E36: 2 | F36: 3 | G36: 4 | H36: 5 | I36: 6 | J36: 7 | K36: 8 | L36: 9 | M36: 10 | N36: 11 | O36: 12 | P36: 13 | Q36: 14 | R36: 15 | S36: 16 | T36: 17 | U36: 18 | V36: 19 | W36: 20 | X36: 21 | Y36: 22 | Z36: 23 | AA36: 24 | AB36: 25 | AC36: 26 | AD36: 27 | AE36: 28 | AF36: 29 | AG36: 30 | AH36: 31 | AI36: Total
C37: Standard Hours | AI37: =IF(LEN(C36)=0,"",SUM(D37:AH37))
C38: Overtime Hours | AI38: =IF(LEN(C36)=0,"",SUM(D38:AH38))
C39: Overtime Salary(Hourly) | AI39: =IF(LEN(C36)=0,"",SUMPRODUCT(D38:AH38,D39:AH39))
C40: Total Hours | D40: =IFERROR(IF(AND(LEN(D37)=0,LEN(D38)=0),"",D37+D38),"") | E40: =IFERROR(IF(AND(LEN(E37)=0,LEN(E38)=0),"",E37+E38),"") | F40: =IFERROR(IF(AND(LEN(F37)=0,LEN(F38)=0),"",F37+F38),"") | G40: =IFERROR(IF(AND(LEN(G37)=0,LEN(G38)=0),"",G37+G38),"") | H40: =IFERROR(IF(AND(LEN(H37)=0,LEN(H38)=0),"",H37+H38),"") | I40: =IFERROR(IF(AND(LEN(I37)=0,LEN(I38)=0),"",I37+I38),"") | J40: =IFERROR(IF(AND(LEN(J37)=0,LEN(J38)=0),"",J37+J38),"") | K40: =IFERROR(IF(AND(LEN(K37)=0,LEN(K38)=0),"",K37+K38),"") | ... AH40: =IFERROR(IF(AND(LEN(AH37)=0,LEN(AH38)=0),"",AH37+AH38),"") | AI40: =IF(LEN(C36)=0,"",SUM(D40:AH40))
C42: Employee Name | D42: =D$7 -> Tue | E42: =E$7 -> Wed | F42: =F$7 -> Thu | G42: =G$7 -> Fri | H42: =H$7 -> Sat | I42: =I$7 -> Sun | J42: =J$7 -> Mon | K42: =K$7 -> Tue | ... AH42: =AH$7 -> Thu
D43: 1 | E43: 2 | F43: 3 | G43: 4 | H43: 5 | I43: 6 | J43: 7 | K43: 8 | L43: 9 | M43: 10 | N43: 11 | O43: 12 | P43: 13 | Q43: 14 | R43: 15 | S43: 16 | T43: 17 | U43: 18 | V43: 19 | W43: 20 | X43: 21 | Y43: 22 | Z43: 23 | AA43: 24 | AB43: 25 | AC43: 26 | AD43: 27 | AE43: 28 | AF43: 29 | AG43: 30 | AH43: 31 | AI43: Total
C44: Standard Hours
C45: Overtime Hours
C46: Overtime Salary(Hourly)
C47: Total Hours
C49: Employee Name | D49: =D$7 -> Tue | E49: =E$7 -> Wed | F49: =F$7 -> Thu | G49: =G$7 -> Fri | H49: =H$7 -> Sat | I49: =I$7 -> Sun | J49: =J$7 -> Mon | K49: =K$7 -> Tue | ... AH49: =AH$7 -> Thu
D50: 1 | E50: 2 | F50: 3 | G50: 4 | H50: 5 | I50: 6 | J50: 7 | K50: 8 | L50: 9 | M50: 10 | N50: 11 | O50: 12 | P50: 13 | Q50: 14 | R50: 15 | S50: 16 | T50: 17 | U50: 18 | V50: 19 | W50: 20 | X50: 21 | Y50: 22 | Z50: 23 | AA50: 24 | AB50: 25 | AC50: 26 | AD50: 27 | AE50: 28 | AF50: 29 | AG50: 30 | AH50: 31 | AI50: Total
C51: Standard Hours
C52: Overtime Hours
C53: Overtime Salary(Hourly)
C54: Total Hours
C56: Employee Name | D56: =D$7 -> Tue | E56: =E$7 -> Wed | F56: =F$7 -> Thu | G56: =G$7 -> Fri | H56: =H$7 -> Sat | I56: =I$7 -> Sun | J56: =J$7 -> Mon | K56: =K$7 -> Tue | ... AH56: =AH$7 -> Thu
D57: 1 | E57: 2 | F57: 3 | G57: 4 | H57: 5 | I57: 6 | J57: 7 | K57: 8 | L57: 9 | M57: 10 | N57: 11 | O57: 12 | P57: 13 | Q57: 14 | R57: 15 | S57: 16 | T57: 17 | U57: 18 | V57: 19 | W57: 20 | X57: 21 | Y57: 22 | Z57: 23 | AA57: 24 | AB57: 25 | AC57: 26 | AD57: 27 | AE57: 28 | AF57: 29 | AG57: 30 | AH57: 31 | AI57: Total
C58: Standard Hours
C59: Overtime Hours
C60: Overtime Salary(Hourly)
C61: Total Hours
C63: Employee Name | D63: =D$7 -> Tue | E63: =E$7 -> Wed | F63: =F$7 -> Thu | G63: =G$7 -> Fri | H63: =H$7 -> Sat | I63: =I$7 -> Sun | J63: =J$7 -> Mon | K63: =K$7 -> Tue | ... AH63: =AH$7 -> Thu
D64: 1 | E64: 2 | F64: 3 | G64: 4 | H64: 5 | I64: 6 | J64: 7 | K64: 8 | L64: 9 | M64: 10 | N64: 11 | O64: 12 | P64: 13 | Q64: 14 | R64: 15 | S64: 16 | T64: 17 | U64: 18 | V64: 19 | W64: 20 | X64: 21 | Y64: 22 | Z64: 23 | AA64: 24 | AB64: 25 | AC64: 26 | AD64: 27 | AE64: 28 | AF64: 29 | AG64: 30 | AH64: 31 | AI64: Total
C65: Standard Hours
C66: Overtime Hours
C67: Overtime Salary(Hourly)
C68: Total Hours
C70: Employee Name | D70: =D$7 -> Tue | E70: =E$7 -> Wed | F70: =F$7 -> Thu | G70: =G$7 -> Fri | H70: =H$7 -> Sat | I70: =I$7 -> Sun | J70: =J$7 -> Mon | K70: =K$7 -> Tue | ... AH70: =AH$7 -> Thu
D71: 1 | E71: 2 | F71: 3 | G71: 4 | H71: 5 | I71: 6 | J71: 7 | K71: 8 | L71: 9 | M71: 10 | N71: 11 | O71: 12 | P71: 13 | Q71: 14 | R71: 15 | S71: 16 | T71: 17 | U71: 18 | V71: 19 | W71: 20 | X71: 21 | Y71: 22 | Z71: 23 | AA71: 24 | AB71: 25 | AC71: 26 | AD71: 27 | AE71: 28 | AF71: 29 | AG71: 30 | AH71: 31 | AI71: Total
C72: Standard Hours
C73: Overtime Hours
C74: Overtime Salary(Hourly)
C75: Total Hours
C77: Employee Name | D77: =D$7 -> Tue | E77: =E$7 -> Wed | F77: =F$7 -> Thu | G77: =G$7 -> Fri | H77: =H$7 -> Sat | I77: =I$7 -> Sun | J77: =J$7 -> Mon | K77: =K$7 -> Tue | ... AH77: =AH$7 -> Thu
D78: 1 | E78: 2 | F78: 3 | G78: 4 | H78: 5 | I78: 6 | J78: 7 | K78: 8 | L78: 9 | M78: 10 | N78: 11 | O78: 12 | P78: 13 | Q78: 14 | R78: 15 | S78: 16 | T78: 17 | U78: 18 | V78: 19 | W78: 20 | X78: 21 | Y78: 22 | Z78: 23 | AA78: 24 | AB78: 25 | AC78: 26 | AD78: 27 | AE78: 28 | AF78: 29 | AG78: 30 | AH78: 31 | AI78: Total
C79: Standard Hours
C80: Overtime Hours
C81: Overtime Salary(Hourly)
C82: Total Hours
C84: Employee Name | D84: =D$7 -> Tue | E84: =E$7 -> Wed | F84: =F$7 -> Thu | G84: =G$7 -> Fri | H84: =H$7 -> Sat | I84: =I$7 -> Sun | J84: =J$7 -> Mon | K84: =K$7 -> Tue | ... AH84: =AH$7 -> Thu
D85: 1 | E85: 2 | F85: 3 | G85: 4 | H85: 5 | I85: 6 | J85: 7 | K85: 8 | L85: 9 | M85: 10 | N85: 11 | O85: 12 | P85: 13 | Q85: 14 | R85: 15 | S85: 16 | T85: 17 | U85: 18 | V85: 19 | W85: 20 | X85: 21 | Y85: 22 | Z85: 23 | AA85: 24 | AB85: 25 | AC85: 26 | AD85: 27 | AE85: 28 | AF85: 29 | AG85: 30 | AH85: 31 | AI85: Total
C86: Standard Hours
C87: Overtime Hours
C88: Overtime Salary(Hourly)
C89: Total Hours
C91: Employee Name | D91: =D$7 -> Tue | E91: =E$7 -> Wed | F91: =F$7 -> Thu | G91: =G$7 -> Fri | H91: =H$7 -> Sat | I91: =I$7 -> Sun | J91: =J$7 -> Mon | K91: =K$7 -> Tue | ... AH91: =AH$7 -> Thu
D92: 1 | E92: 2 | F92: 3 | G92: 4 | H92: 5 | I92: 6 | J92: 7 | K92: 8 | L92: 9 | M92: 10 | N92: 11 | O92: 12 | P92: 13 | Q92: 14 | R92: 15 | S92: 16 | T92: 17 | U92: 18 | V92: 19 | W92: 20 | X92: 21 | Y92: 22 | Z92: 23 | AA92: 24 | AB92: 25 | AC92: 26 | AD92: 27 | AE92: 28 | AF92: 29 | AG92: 30 | AH92: 31 | AI92: Total
C93: Standard Hours
C94: Overtime Hours
C95: Overtime Salary(Hourly)
C96: Total Hours
C98: Employee Name | D98: =D$7 -> Tue | E98: =E$7 -> Wed | F98: =F$7 -> Thu | G98: =G$7 -> Fri | H98: =H$7 -> Sat | I98: =I$7 -> Sun | J98: =J$7 -> Mon | K98: =K$7 -> Tue | ... AH98: =AH$7 -> Thu
D99: 1 | E99: 2 | F99: 3 | G99: 4 | H99: 5 | I99: 6 | J99: 7 | K99: 8 | L99: 9 | M99: 10 | N99: 11 | O99: 12 | P99: 13 | Q99: 14 | R99: 15 | S99: 16 | T99: 17 | U99: 18 | V99: 19 | W99: 20 | X99: 21 | Y99: 22 | Z99: 23 | AA99: 24 | AB99: 25 | AC99: 26 | AD99: 27 | AE99: 28 | AF99: 29 | AG99: 30 | AH99: 31 | AI99: Total
C100: Standard Hours
C101: Overtime Hours
C102: Overtime Salary(Hourly)
C103: Total Hours
C105: Employee Name | D105: =D$7 -> Tue | E105: =E$7 -> Wed | F105: =F$7 -> Thu | G105: =G$7 -> Fri | H105: =H$7 -> Sat | I105: =I$7 -> Sun | J105: =J$7 -> Mon | K105: =K$7 -> Tue | ... AH105: =AH$7 -> Thu
D106: 1 | E106: 2 | F106: 3 | G106: 4 | H106: 5 | I106: 6 | J106: 7 | K106: 8 | L106: 9 | M106: 10 | N106: 11 | O106: 12 | P106: 13 | Q106: 14 | R106: 15 | S106: 16 | T106: 17 | U106: 18 | V106: 19 | W106: 20 | X106: 21 | Y106: 22 | Z106: 23 | AA106: 24 | AB106: 25 | AC106: 26 | AD106: 27 | AE106: 28 | AF106: 29 | AG106: 30 | AH106: 31 | AI106: Total
C107: Standard Hours
C108: Overtime Hours
C109: Overtime Salary(Hourly)
C110: Total Hours
C112: Employee Name | D112: =D$7 -> Tue | E112: =E$7 -> Wed | F112: =F$7 -> Thu | G112: =G$7 -> Fri | H112: =H$7 -> Sat | I112: =I$7 -> Sun | J112: =J$7 -> Mon | K112: =K$7 -> Tue | ... AH112: =AH$7 -> Thu
D113: 1 | E113: 2 | F113: 3 | G113: 4 | H113: 5 | I113: 6 | J113: 7 | K113: 8 | L113: 9 | M113: 10 | N113: 11 | O113: 12 | P113: 13 | Q113: 14 | R113: 15 | S113: 16 | T113: 17 | U113: 18 | V113: 19 | W113: 20 | X113: 21 | Y113: 22 | Z113: 23 | AA113: 24 | AB113: 25 | AC113: 26 | AD113: 27 | AE113: 28 | AF113: 29 | AG113: 30 | AH113: 31 | AI113: Total
C114: Standard Hours
C115: Overtime Hours
C116: Overtime Salary(Hourly)
C117: Total Hours
C119: Employee Name | D119: =D$7 -> Tue | E119: =E$7 -> Wed | F119: =F$7 -> Thu | G119: =G$7 -> Fri | H119: =H$7 -> Sat | I119: =I$7 -> Sun | J119: =J$7 -> Mon | K119: =K$7 -> Tue | ... AH119: =AH$7 -> Thu
D120: 1 | E120: 2 | F120: 3 | G120: 4 | H120: 5 | I120: 6 | J120: 7 | K120: 8 | L120: 9 | M120: 10 | N120: 11 | O120: 12 | P120: 13 | Q120: 14 | R120: 15 | S120: 16 | T120: 17 | U120: 18 | V120: 19 | W120: 20 | X120: 21 | Y120: 22 | Z120: 23 | AA120: 24 | AB120: 25 | AC120: 26 | AD120: 27 | AE120: 28 | AF120: 29 | AG120: 30 | AH120: 31 | AI120: Total
...

Sheet Sep
C2: MONTHLY EMPLOYEE TIMESHEET
C3: SEPTEMBER
C7: Employee Name | D7: =IFERROR(INDEX(Cal!$C$18:$C$24,WEEKDAY(D8&".09."&Year)),"") -> Fri | E7: =IFERROR(INDEX(Cal!$C$18:$C$24,WEEKDAY(E8&".09."&Year)),"") -> Sat | F7: =IFERROR(INDEX(Cal!$C$18:$C$24,WEEKDAY(F8&".09."&Year)),"") -> Sun | G7: =IFERROR(INDEX(Cal!$C$18:$C$24,WEEKDAY(G8&".09."&Year)),"") -> Mon | H7: =IFERROR(INDEX(Cal!$C$18:$C$24,WEEKDAY(H8&".09."&Year)),"") -> Tue | I7: =IFERROR(INDEX(Cal!$C$18:$C$24,WEEKDAY(I8&".09."&Year)),"") -> Wed | J7: =IFERROR(INDEX(Cal!$C$18:$C$24,WEEKDAY(J8&".09."&Year)),"") -> Thu | K7: =IFERROR(INDEX(Cal!$C$18:$C$24,WEEKDAY(K8&".09."&Year)),"") -> Fri | ... AG7: =IFERROR(INDEX(Cal!$C$18:$C$24,WEEKDAY(AG8&".09."&Year)),"") -> Sat
D8: 1 | E8: 2 | F8: 3 | G8: 4 | H8: 5 | I8: 6 | J8: 7 | K8: 8 | L8: 9 | M8: 10 | N8: 11 | O8: 12 | P8: 13 | Q8: 14 | R8: 15 | S8: 16 | T8: 17 | U8: 18 | V8: 19 | W8: 20 | X8: 21 | Y8: 22 | Z8: 23 | AA8: 24 | AB8: 25 | AC8: 26 | AD8: 27 | AE8: 28 | AF8: 29 | AG8: 30 | AI8: Total
C9: Standard Hours | AI9: =IF(LEN(C8)=0,"",SUM(D9:AG9))
C10: Overtime Hours | AI10: =IF(LEN(C8)=0,"",SUM(D10:AG10))
C11: Overtime Salary(Hourly) | AI11: =IF(LEN(C8)=0,"",SUMPRODUCT(D10:AG10,D11:AG11))
C12: Total Hours | D12: =IFERROR(IF(AND(LEN(D9)=0,LEN(D10)=0),"",D9+D10),"") | E12: =IFERROR(IF(AND(LEN(E9)=0,LEN(E10)=0),"",E9+E10),"") | F12: =IFERROR(IF(AND(LEN(F9)=0,LEN(F10)=0),"",F9+F10),"") | G12: =IFERROR(IF(AND(LEN(G9)=0,LEN(G10)=0),"",G9+G10),"") | H12: =IFERROR(IF(AND(LEN(H9)=0,LEN(H10)=0),"",H9+H10),"") | I12: =IFERROR(IF(AND(LEN(I9)=0,LEN(I10)=0),"",I9+I10),"") | J12: =IFERROR(IF(AND(LEN(J9)=0,LEN(J10)=0),"",J9+J10),"") | K12: =IFERROR(IF(AND(LEN(K9)=0,LEN(K10)=0),"",K9+K10),"") | ... AG12: =IFERROR(IF(AND(LEN(AG9)=0,LEN(AG10)=0),"",AG9+AG10),"") | AI12: =IF(LEN(C8)=0,"",SUM(D12:AG12))
C14: Employee Name | D14: =D$7 -> Fri | E14: =E$7 -> Sat | F14: =F$7 -> Sun | G14: =G$7 -> Mon | H14: =H$7 -> Tue | I14: =I$7 -> Wed | J14: =J$7 -> Thu | K14: =K$7 -> Fri | ... AG14: =AG$7 -> Sat
D15: 1 | E15: 2 | F15: 3 | G15: 4 | H15: 5 | I15: 6 | J15: 7 | K15: 8 | L15: 9 | M15: 10 | N15: 11 | O15: 12 | P15: 13 | Q15: 14 | R15: 15 | S15: 16 | T15: 17 | U15: 18 | V15: 19 | W15: 20 | X15: 21 | Y15: 22 | Z15: 23 | AA15: 24 | AB15: 25 | AC15: 26 | AD15: 27 | AE15: 28 | AF15: 29 | AG15: 30 | AI15: Total
C16: Standard Hours | AI16: =IF(LEN(C15)=0,"",SUM(D16:AG16))
C17: Overtime Hours | AI17: =IF(LEN(C15)=0,"",SUM(D17:AG17))
C18: Overtime Salary(Hourly) | AI18: =IF(LEN(C15)=0,"",SUMPRODUCT(D17:AG17,D18:AG18))
C19: Total Hours | D19: =IFERROR(IF(AND(LEN(D16)=0,LEN(D17)=0),"",D16+D17),"") | E19: =IFERROR(IF(AND(LEN(E16)=0,LEN(E17)=0),"",E16+E17),"") | F19: =IFERROR(IF(AND(LEN(F16)=0,LEN(F17)=0),"",F16+F17),"") | G19: =IFERROR(IF(AND(LEN(G16)=0,LEN(G17)=0),"",G16+G17),"") | H19: =IFERROR(IF(AND(LEN(H16)=0,LEN(H17)=0),"",H16+H17),"") | I19: =IFERROR(IF(AND(LEN(I16)=0,LEN(I17)=0),"",I16+I17),"") | J19: =IFERROR(IF(AND(LEN(J16)=0,LEN(J17)=0),"",J16+J17),"") | K19: =IFERROR(IF(AND(LEN(K16)=0,LEN(K17)=0),"",K16+K17),"") | ... AG19: =IFERROR(IF(AND(LEN(AG16)=0,LEN(AG17)=0),"",AG16+AG17),"") | AI19: =IF(LEN(C15)=0,"",SUM(D19:AG19))
C21: Employee Name | D21: =D$7 -> Fri | E21: =E$7 -> Sat | F21: =F$7 -> Sun | G21: =G$7 -> Mon | H21: =H$7 -> Tue | I21: =I$7 -> Wed | J21: =J$7 -> Thu | K21: =K$7 -> Fri | ... AG21: =AG$7 -> Sat
D22: 1 | E22: 2 | F22: 3 | G22: 4 | H22: 5 | I22: 6 | J22: 7 | K22: 8 | L22: 9 | M22: 10 | N22: 11 | O22: 12 | P22: 13 | Q22: 14 | R22: 15 | S22: 16 | T22: 17 | U22: 18 | V22: 19 | W22: 20 | X22: 21 | Y22: 22 | Z22: 23 | AA22: 24 | AB22: 25 | AC22: 26 | AD22: 27 | AE22: 28 | AF22: 29 | AG22: 30 | AI22: Total
C23: Standard Hours | AI23: =IF(LEN(C22)=0,"",SUM(D23:AG23))
C24: Overtime Hours | AI24: =IF(LEN(C22)=0,"",SUM(D24:AG24))
C25: Overtime Salary(Hourly) | AI25: =IF(LEN(C22)=0,"",SUMPRODUCT(D24:AG24,D25:AG25))
C26: Total Hours | D26: =IFERROR(IF(AND(LEN(D23)=0,LEN(D24)=0),"",D23+D24),"") | E26: =IFERROR(IF(AND(LEN(E23)=0,LEN(E24)=0),"",E23+E24),"") | F26: =IFERROR(IF(AND(LEN(F23)=0,LEN(F24)=0),"",F23+F24),"") | G26: =IFERROR(IF(AND(LEN(G23)=0,LEN(G24)=0),"",G23+G24),"") | H26: =IFERROR(IF(AND(LEN(H23)=0,LEN(H24)=0),"",H23+H24),"") | I26: =IFERROR(IF(AND(LEN(I23)=0,LEN(I24)=0),"",I23+I24),"") | J26: =IFERROR(IF(AND(LEN(J23)=0,LEN(J24)=0),"",J23+J24),"") | K26: =IFERROR(IF(AND(LEN(K23)=0,LEN(K24)=0),"",K23+K24),"") | ... AG26: =IFERROR(IF(AND(LEN(AG23)=0,LEN(AG24)=0),"",AG23+AG24),"") | AI26: =IF(LEN(C22)=0,"",SUM(D26:AG26))
C28: Employee Name | D28: =D$7 -> Fri | E28: =E$7 -> Sat | F28: =F$7 -> Sun | G28: =G$7 -> Mon | H28: =H$7 -> Tue | I28: =I$7 -> Wed | J28: =J$7 -> Thu | K28: =K$7 -> Fri | ... AG28: =AG$7 -> Sat
D29: 1 | E29: 2 | F29: 3 | G29: 4 | H29: 5 | I29: 6 | J29: 7 | K29: 8 | L29: 9 | M29: 10 | N29: 11 | O29: 12 | P29: 13 | Q29: 14 | R29: 15 | S29: 16 | T29: 17 | U29: 18 | V29: 19 | W29: 20 | X29: 21 | Y29: 22 | Z29: 23 | AA29: 24 | AB29: 25 | AC29: 26 | AD29: 27 | AE29: 28 | AF29: 29 | AG29: 30 | AI29: Total
C30: Standard Hours | AI30: =IF(LEN(C29)=0,"",SUM(D30:AG30))
C31: Overtime Hours | AI31: =IF(LEN(C29)=0,"",SUM(D31:AG31))
C32: Overtime Salary(Hourly) | AI32: =IF(LEN(C29)=0,"",SUMPRODUCT(D31:AG31,D32:AG32))
C33: Total Hours | D33: =IFERROR(IF(AND(LEN(D30)=0,LEN(D31)=0),"",D30+D31),"") | E33: =IFERROR(IF(AND(LEN(E30)=0,LEN(E31)=0),"",E30+E31),"") | F33: =IFERROR(IF(AND(LEN(F30)=0,LEN(F31)=0),"",F30+F31),"") | G33: =IFERROR(IF(AND(LEN(G30)=0,LEN(G31)=0),"",G30+G31),"") | H33: =IFERROR(IF(AND(LEN(H30)=0,LEN(H31)=0),"",H30+H31),"") | I33: =IFERROR(IF(AND(LEN(I30)=0,LEN(I31)=0),"",I30+I31),"") | J33: =IFERROR(IF(AND(LEN(J30)=0,LEN(J31)=0),"",J30+J31),"") | K33: =IFERROR(IF(AND(LEN(K30)=0,LEN(K31)=0),"",K30+K31),"") | ... AG33: =IFERROR(IF(AND(LEN(AG30)=0,LEN(AG31)=0),"",AG30+AG31),"") | AI33: =IF(LEN(C29)=0,"",SUM(D33:AG33))
C35: Employee Name | D35: =D$7 -> Fri | E35: =E$7 -> Sat | F35: =F$7 -> Sun | G35: =G$7 -> Mon | H35: =H$7 -> Tue | I35: =I$7 -> Wed | J35: =J$7 -> Thu | K35: =K$7 -> Fri | ... AG35: =AG$7 -> Sat
D36: 1 | E36: 2 | F36: 3 | G36: 4 | H36: 5 | I36: 6 | J36: 7 | K36: 8 | L36: 9 | M36: 10 | N36: 11 | O36: 12 | P36: 13 | Q36: 14 | R36: 15 | S36: 16 | T36: 17 | U36: 18 | V36: 19 | W36: 20 | X36: 21 | Y36: 22 | Z36: 23 | AA36: 24 | AB36: 25 | AC36: 26 | AD36: 27 | AE36: 28 | AF36: 29 | AG36: 30 | AI36: Total
C37: Standard Hours | AI37: =IF(LEN(C36)=0,"",SUM(D37:AG37))
C38: Overtime Hours | AI38: =IF(LEN(C36)=0,"",SUM(D38:AG38))
C39: Overtime Salary(Hourly) | AI39: =IF(LEN(C36)=0,"",SUMPRODUCT(D38:AG38,D39:AG39))
C40: Total Hours | D40: =IFERROR(IF(AND(LEN(D37)=0,LEN(D38)=0),"",D37+D38),"") | E40: =IFERROR(IF(AND(LEN(E37)=0,LEN(E38)=0),"",E37+E38),"") | F40: =IFERROR(IF(AND(LEN(F37)=0,LEN(F38)=0),"",F37+F38),"") | G40: =IFERROR(IF(AND(LEN(G37)=0,LEN(G38)=0),"",G37+G38),"") | H40: =IFERROR(IF(AND(LEN(H37)=0,LEN(H38)=0),"",H37+H38),"") | I40: =IFERROR(IF(AND(LEN(I37)=0,LEN(I38)=0),"",I37+I38),"") | J40: =IFERROR(IF(AND(LEN(J37)=0,LEN(J38)=0),"",J37+J38),"") | K40: =IFERROR(IF(AND(LEN(K37)=0,LEN(K38)=0),"",K37+K38),"") | ... AG40: =IFERROR(IF(AND(LEN(AG37)=0,LEN(AG38)=0),"",AG37+AG38),"") | AI40: =IF(LEN(C36)=0,"",SUM(D40:AG40))
C42: Employee Name | D42: =D$7 -> Fri | E42: =E$7 -> Sat | F42: =F$7 -> Sun | G42: =G$7 -> Mon | H42: =H$7 -> Tue | I42: =I$7 -> Wed | J42: =J$7 -> Thu | K42: =K$7 -> Fri | ... AG42: =AG$7 -> Sat
D43: 1 | E43: 2 | F43: 3 | G43: 4 | H43: 5 | I43: 6 | J43: 7 | K43: 8 | L43: 9 | M43: 10 | N43: 11 | O43: 12 | P43: 13 | Q43: 14 | R43: 15 | S43: 16 | T43: 17 | U43: 18 | V43: 19 | W43: 20 | X43: 21 | Y43: 22 | Z43: 23 | AA43: 24 | AB43: 25 | AC43: 26 | AD43: 27 | AE43: 28 | AF43: 29 | AG43: 30 | AI43: Total
C44: Standard Hours
C45: Overtime Hours
C46: Overtime Salary(Hourly)
C47: Total Hours
C49: Employee Name | D49: =D$7 -> Fri | E49: =E$7 -> Sat | F49: =F$7 -> Sun | G49: =G$7 -> Mon | H49: =H$7 -> Tue | I49: =I$7 -> Wed | J49: =J$7 -> Thu | K49: =K$7 -> Fri | ... AG49: =AG$7 -> Sat
D50: 1 | E50: 2 | F50: 3 | G50: 4 | H50: 5 | I50: 6 | J50: 7 | K50: 8 | L50: 9 | M50: 10 | N50: 11 | O50: 12 | P50: 13 | Q50: 14 | R50: 15 | S50: 16 | T50: 17 | U50: 18 | V50: 19 | W50: 20 | X50: 21 | Y50: 22 | Z50: 23 | AA50: 24 | AB50: 25 | AC50: 26 | AD50: 27 | AE50: 28 | AF50: 29 | AG50: 30 | AI50: Total
C51: Standard Hours
C52: Overtime Hours
C53: Overtime Salary(Hourly)
C54: Total Hours
C56: Employee Name | D56: =D$7 -> Fri | E56: =E$7 -> Sat | F56: =F$7 -> Sun | G56: =G$7 -> Mon | H56: =H$7 -> Tue | I56: =I$7 -> Wed | J56: =J$7 -> Thu | K56: =K$7 -> Fri | ... AG56: =AG$7 -> Sat
D57: 1 | E57: 2 | F57: 3 | G57: 4 | H57: 5 | I57: 6 | J57: 7 | K57: 8 | L57: 9 | M57: 10 | N57: 11 | O57: 12 | P57: 13 | Q57: 14 | R57: 15 | S57: 16 | T57: 17 | U57: 18 | V57: 19 | W57: 20 | X57: 21 | Y57: 22 | Z57: 23 | AA57: 24 | AB57: 25 | AC57: 26 | AD57: 27 | AE57: 28 | AF57: 29 | AG57: 30 | AI57: Total
C58: Standard Hours
C59: Overtime Hours
C60: Overtime Salary(Hourly)
C61: Total Hours
C63: Employee Name | D63: =D$7 -> Fri | E63: =E$7 -> Sat | F63: =F$7 -> Sun | G63: =G$7 -> Mon | H63: =H$7 -> Tue | I63: =I$7 -> Wed | J63: =J$7 -> Thu | K63: =K$7 -> Fri | ... AG63: =AG$7 -> Sat
D64: 1 | E64: 2 | F64: 3 | G64: 4 | H64: 5 | I64: 6 | J64: 7 | K64: 8 | L64: 9 | M64: 10 | N64: 11 | O64: 12 | P64: 13 | Q64: 14 | R64: 15 | S64: 16 | T64: 17 | U64: 18 | V64: 19 | W64: 20 | X64: 21 | Y64: 22 | Z64: 23 | AA64: 24 | AB64: 25 | AC64: 26 | AD64: 27 | AE64: 28 | AF64: 29 | AG64: 30 | AI64: Total
C65: Standard Hours
C66: Overtime Hours
C67: Overtime Salary(Hourly)
C68: Total Hours
C70: Employee Name | D70: =D$7 -> Fri | E70: =E$7 -> Sat | F70: =F$7 -> Sun | G70: =G$7 -> Mon | H70: =H$7 -> Tue | I70: =I$7 -> Wed | J70: =J$7 -> Thu | K70: =K$7 -> Fri | ... AG70: =AG$7 -> Sat
D71: 1 | E71: 2 | F71: 3 | G71: 4 | H71: 5 | I71: 6 | J71: 7 | K71: 8 | L71: 9 | M71: 10 | N71: 11 | O71: 12 | P71: 13 | Q71: 14 | R71: 15 | S71: 16 | T71: 17 | U71: 18 | V71: 19 | W71: 20 | X71: 21 | Y71: 22 | Z71: 23 | AA71: 24 | AB71: 25 | AC71: 26 | AD71: 27 | AE71: 28 | AF71: 29 | AG71: 30 | AI71: Total
C72: Standard Hours
C73: Overtime Hours
C74: Overtime Salary(Hourly)
C75: Total Hours
C77: Employee Name | D77: =D$7 -> Fri | E77: =E$7 -> Sat | F77: =F$7 -> Sun | G77: =G$7 -> Mon | H77: =H$7 -> Tue | I77: =I$7 -> Wed | J77: =J$7 -> Thu | K77: =K$7 -> Fri | ... AG77: =AG$7 -> Sat
D78: 1 | E78: 2 | F78: 3 | G78: 4 | H78: 5 | I78: 6 | J78: 7 | K78: 8 | L78: 9 | M78: 10 | N78: 11 | O78: 12 | P78: 13 | Q78: 14 | R78: 15 | S78: 16 | T78: 17 | U78: 18 | V78: 19 | W78: 20 | X78: 21 | Y78: 22 | Z78: 23 | AA78: 24 | AB78: 25 | AC78: 26 | AD78: 27 | AE78: 28 | AF78: 29 | AG78: 30 | AI78: Total
C79: Standard Hours
C80: Overtime Hours
C81: Overtime Salary(Hourly)
C82: Total Hours
C84: Employee Name | D84: =D$7 -> Fri | E84: =E$7 -> Sat | F84: =F$7 -> Sun | G84: =G$7 -> Mon | H84: =H$7 -> Tue | I84: =I$7 -> Wed | J84: =J$7 -> Thu | K84: =K$7 -> Fri | ... AG84: =AG$7 -> Sat
D85: 1 | E85: 2 | F85: 3 | G85: 4 | H85: 5 | I85: 6 | J85: 7 | K85: 8 | L85: 9 | M85: 10 | N85: 11 | O85: 12 | P85: 13 | Q85: 14 | R85: 15 | S85: 16 | T85: 17 | U85: 18 | V85: 19 | W85: 20 | X85: 21 | Y85: 22 | Z85: 23 | AA85: 24 | AB85: 25 | AC85: 26 | AD85: 27 | AE85: 28 | AF85: 29 | AG85: 30 | AI85: Total
C86: Standard Hours
C87: Overtime Hours
C88: Overtime Salary(Hourly)
C89: Total Hours
C91: Employee Name | D91: =D$7 -> Fri | E91: =E$7 -> Sat | F91: =F$7 -> Sun | G91: =G$7 -> Mon | H91: =H$7 -> Tue | I91: =I$7 -> Wed | J91: =J$7 -> Thu | K91: =K$7 -> Fri | ... AG91: =AG$7 -> Sat
D92: 1 | E92: 2 | F92: 3 | G92: 4 | H92: 5 | I92: 6 | J92: 7 | K92: 8 | L92: 9 | M92: 10 | N92: 11 | O92: 12 | P92: 13 | Q92: 14 | R92: 15 | S92: 16 | T92: 17 | U92: 18 | V92: 19 | W92: 20 | X92: 21 | Y92: 22 | Z92: 23 | AA92: 24 | AB92: 25 | AC92: 26 | AD92: 27 | AE92: 28 | AF92: 29 | AG92: 30 | AI92: Total
C93: Standard Hours
C94: Overtime Hours
C95: Overtime Salary(Hourly)
C96: Total Hours
C98: Employee Name | D98: =D$7 -> Fri | E98: =E$7 -> Sat | F98: =F$7 -> Sun | G98: =G$7 -> Mon | H98: =H$7 -> Tue | I98: =I$7 -> Wed | J98: =J$7 -> Thu | K98: =K$7 -> Fri | ... AG98: =AG$7 -> Sat
D99: 1 | E99: 2 | F99: 3 | G99: 4 | H99: 5 | I99: 6 | J99: 7 | K99: 8 | L99: 9 | M99: 10 | N99: 11 | O99: 12 | P99: 13 | Q99: 14 | R99: 15 | S99: 16 | T99: 17 | U99: 18 | V99: 19 | W99: 20 | X99: 21 | Y99: 22 | Z99: 23 | AA99: 24 | AB99: 25 | AC99: 26 | AD99: 27 | AE99: 28 | AF99: 29 | AG99: 30 | AI99: Total
C100: Standard Hours
C101: Overtime Hours
C102: Overtime Salary(Hourly)
C103: Total Hours
C105: Employee Name | D105: =D$7 -> Fri | E105: =E$7 -> Sat | F105: =F$7 -> Sun | G105: =G$7 -> Mon | H105: =H$7 -> Tue | I105: =I$7 -> Wed | J105: =J$7 -> Thu | K105: =K$7 -> Fri | ... AG105: =AG$7 -> Sat
D106: 1 | E106: 2 | F106: 3 | G106: 4 | H106: 5 | I106: 6 | J106: 7 | K106: 8 | L106: 9 | M106: 10 | N106: 11 | O106: 12 | P106: 13 | Q106: 14 | R106: 15 | S106: 16 | T106: 17 | U106: 18 | V106: 19 | W106: 20 | X106: 21 | Y106: 22 | Z106: 23 | AA106: 24 | AB106: 25 | AC106: 26 | AD106: 27 | AE106: 28 | AF106: 29 | AG106: 30 | AI106: Total
C107: Standard Hours
C108: Overtime Hours
C109: Overtime Salary(Hourly)
C110: Total Hours
C112: Employee Name | D112: =D$7 -> Fri | E112: =E$7 -> Sat | F112: =F$7 -> Sun | G112: =G$7 -> Mon | H112: =H$7 -> Tue | I112: =I$7 -> Wed | J112: =J$7 -> Thu | K112: =K$7 -> Fri | ... AG112: =AG$7 -> Sat
D113: 1 | E113: 2 | F113: 3 | G113: 4 | H113: 5 | I113: 6 | J113: 7 | K113: 8 | L113: 9 | M113: 10 | N113: 11 | O113: 12 | P113: 13 | Q113: 14 | R113: 15 | S113: 16 | T113: 17 | U113: 18 | V113: 19 | W113: 20 | X113: 21 | Y113: 22 | Z113: 23 | AA113: 24 | AB113: 25 | AC113: 26 | AD113: 27 | AE113: 28 | AF113: 29 | AG113: 30 | AI113: Total
C114: Standard Hours
C115: Overtime Hours
C116: Overtime Salary(Hourly)
C117: Total Hours
C119: Employee Name | D119: =D$7 -> Fri | E119: =E$7 -> Sat | F119: =F$7 -> Sun | G119: =G$7 -> Mon | H119: =H$7 -> Tue | I119: =I$7 -> Wed | J119: =J$7 -> Thu | K119: =K$7 -> Fri | ... AG119: =AG$7 -> Sat
D120: 1 | E120: 2 | F120: 3 | G120: 4 | H120: 5 | I120: 6 | J120: 7 | K120: 8 | L120: 9 | M120: 10 | N120: 11 | O120: 12 | P120: 13 | Q120: 14 | R120: 15 | S120: 16 | T120: 17 | U120: 18 | V120: 19 | W120: 20 | X120: 21 | Y120: 22 | Z120: 23 | AA120: 24 | AB120: 25 | AC120: 26 | AD120: 27 | AE120: 28 | AF120: 29 | AG120: 30 | AI120: Total
...

Sheet Oct
C2: MONTHLY EMPLOYEE TIMESHEET
C3: OCTOBER
C7: Employee Name | D7: =IFERROR(INDEX(Cal!$C$18:$C$24,WEEKDAY(D8&".10."&Year)),"") -> Sun | E7: =IFERROR(INDEX(Cal!$C$18:$C$24,WEEKDAY(E8&".10."&Year)),"") -> Mon | F7: =IFERROR(INDEX(Cal!$C$18:$C$24,WEEKDAY(F8&".10."&Year)),"") -> Tue | G7: =IFERROR(INDEX(Cal!$C$18:$C$24,WEEKDAY(G8&".10."&Year)),"") -> Wed | H7: =IFERROR(INDEX(Cal!$C$18:$C$24,WEEKDAY(H8&".10."&Year)),"") -> Thu | I7: =IFERROR(INDEX(Cal!$C$18:$C$24,WEEKDAY(I8&".10."&Year)),"") -> Fri | J7: =IFERROR(INDEX(Cal!$C$18:$C$24,WEEKDAY(J8&".10."&Year)),"") -> Sat | K7: =IFERROR(INDEX(Cal!$C$18:$C$24,WEEKDAY(K8&".10."&Year)),"") -> Sun | ... AH7: =IFERROR(INDEX(Cal!$C$18:$C$24,WEEKDAY(AH8&".10."&Year)),"") -> Tue
D8: 1 | E8: 2 | F8: 3 | G8: 4 | H8: 5 | I8: 6 | J8: 7 | K8: 8 | L8: 9 | M8: 10 | N8: 11 | O8: 12 | P8: 13 | Q8: 14 | R8: 15 | S8: 16 | T8: 17 | U8: 18 | V8: 19 | W8: 20 | X8: 21 | Y8: 22 | Z8: 23 | AA8: 24 | AB8: 25 | AC8: 26 | AD8: 27 | AE8: 28 | AF8: 29 | AG8: 30 | AH8: 31 | AI8: Total
C9: Standard Hours | AI9: =IF(LEN(C8)=0,"",SUM(D9:AH9))
C10: Overtime Hours | AI10: =IF(LEN(C8)=0,"",SUM(D10:AH10))
C11: Overtime Salary(Hourly) | AI11: =IF(LEN(C8)=0,"",SUMPRODUCT(D10:AH10,D11:AH11))
C12: Total Hours | D12: =IFERROR(IF(AND(LEN(D9)=0,LEN(D10)=0),"",D9+D10),"") | E12: =IFERROR(IF(AND(LEN(E9)=0,LEN(E10)=0),"",E9+E10),"") | F12: =IFERROR(IF(AND(LEN(F9)=0,LEN(F10)=0),"",F9+F10),"") | G12: =IFERROR(IF(AND(LEN(G9)=0,LEN(G10)=0),"",G9+G10),"") | H12: =IFERROR(IF(AND(LEN(H9)=0,LEN(H10)=0),"",H9+H10),"") | I12: =IFERROR(IF(AND(LEN(I9)=0,LEN(I10)=0),"",I9+I10),"") | J12: =IFERROR(IF(AND(LEN(J9)=0,LEN(J10)=0),"",J9+J10),"") | K12: =IFERROR(IF(AND(LEN(K9)=0,LEN(K10)=0),"",K9+K10),"") | ... AH12: =IFERROR(IF(AND(LEN(AH9)=0,LEN(AH10)=0),"",AH9+AH10),"") | AI12: =IF(LEN(C8)=0,"",SUM(D12:AH12))
C14: Employee Name | D14: =D$7 -> Sun | E14: =E$7 -> Mon | F14: =F$7 -> Tue | G14: =G$7 -> Wed | H14: =H$7 -> Thu | I14: =I$7 -> Fri | J14: =J$7 -> Sat | K14: =K$7 -> Sun | ... AH14: =AH$7 -> Tue
D15: 1 | E15: 2 | F15: 3 | G15: 4 | H15: 5 | I15: 6 | J15: 7 | K15: 8 | L15: 9 | M15: 10 | N15: 11 | O15: 12 | P15: 13 | Q15: 14 | R15: 15 | S15: 16 | T15: 17 | U15: 18 | V15: 19 | W15: 20 | X15: 21 | Y15: 22 | Z15: 23 | AA15: 24 | AB15: 25 | AC15: 26 | AD15: 27 | AE15: 28 | AF15: 29 | AG15: 30 | AH15: 31 | AI15: Total
C16: Standard Hours | AI16: =IF(LEN(C15)=0,"",SUM(D16:AH16))
C17: Overtime Hours | AI17: =IF(LEN(C15)=0,"",SUM(D17:AH17))
C18: Overtime Salary(Hourly) | AI18: =IF(LEN(C15)=0,"",SUMPRODUCT(D17:AH17,D18:AH18))
C19: Total Hours | D19: =IFERROR(IF(AND(LEN(D16)=0,LEN(D17)=0),"",D16+D17),"") | E19: =IFERROR(IF(AND(LEN(E16)=0,LEN(E17)=0),"",E16+E17),"") | F19: =IFERROR(IF(AND(LEN(F16)=0,LEN(F17)=0),"",F16+F17),"") | G19: =IFERROR(IF(AND(LEN(G16)=0,LEN(G17)=0),"",G16+G17),"") | H19: =IFERROR(IF(AND(LEN(H16)=0,LEN(H17)=0),"",H16+H17),"") | I19: =IFERROR(IF(AND(LEN(I16)=0,LEN(I17)=0),"",I16+I17),"") | J19: =IFERROR(IF(AND(LEN(J16)=0,LEN(J17)=0),"",J16+J17),"") | K19: =IFERROR(IF(AND(LEN(K16)=0,LEN(K17)=0),"",K16+K17),"") | ... AH19: =IFERROR(IF(AND(LEN(AH16)=0,LEN(AH17)=0),"",AH16+AH17),"") | AI19: =IF(LEN(C15)=0,"",SUM(D19:AH19))
C21: Employee Name | D21: =D$7 -> Sun | E21: =E$7 -> Mon | F21: =F$7 -> Tue | G21: =G$7 -> Wed | H21: =H$7 -> Thu | I21: =I$7 -> Fri | J21: =J$7 -> Sat | K21: =K$7 -> Sun | ... AH21: =AH$7 -> Tue
D22: 1 | E22: 2 | F22: 3 | G22: 4 | H22: 5 | I22: 6 | J22: 7 | K22: 8 | L22: 9 | M22: 10 | N22: 11 | O22: 12 | P22: 13 | Q22: 14 | R22: 15 | S22: 16 | T22: 17 | U22: 18 | V22: 19 | W22: 20 | X22: 21 | Y22: 22 | Z22: 23 | AA22: 24 | AB22: 25 | AC22: 26 | AD22: 27 | AE22: 28 | AF22: 29 | AG22: 30 | AH22: 31 | AI22: Total
C23: Standard Hours | AI23: =IF(LEN(C22)=0,"",SUM(D23:AH23))
C24: Overtime Hours | AI24: =IF(LEN(C22)=0,"",SUM(D24:AH24))
C25: Overtime Salary(Hourly) | AI25: =IF(LEN(C22)=0,"",SUMPRODUCT(D24:AH24,D25:AH25))
C26: Total Hours | D26: =IFERROR(IF(AND(LEN(D23)=0,LEN(D24)=0),"",D23+D24),"") | E26: =IFERROR(IF(AND(LEN(E23)=0,LEN(E24)=0),"",E23+E24),"") | F26: =IFERROR(IF(AND(LEN(F23)=0,LEN(F24)=0),"",F23+F24),"") | G26: =IFERROR(IF(AND(LEN(G23)=0,LEN(G24)=0),"",G23+G24),"") | H26: =IFERROR(IF(AND(LEN(H23)=0,LEN(H24)=0),"",H23+H24),"") | I26: =IFERROR(IF(AND(LEN(I23)=0,LEN(I24)=0),"",I23+I24),"") | J26: =IFERROR(IF(AND(LEN(J23)=0,LEN(J24)=0),"",J23+J24),"") | K26: =IFERROR(IF(AND(LEN(K23)=0,LEN(K24)=0),"",K23+K24),"") | ... AH26: =IFERROR(IF(AND(LEN(AH23)=0,LEN(AH24)=0),"",AH23+AH24),"") | AI26: =IF(LEN(C22)=0,"",SUM(D26:AH26))
C28: Employee Name | D28: =D$7 -> Sun | E28: =E$7 -> Mon | F28: =F$7 -> Tue | G28: =G$7 -> Wed | H28: =H$7 -> Thu | I28: =I$7 -> Fri | J28: =J$7 -> Sat | K28: =K$7 -> Sun | ... AH28: =AH$7 -> Tue
D29: 1 | E29: 2 | F29: 3 | G29: 4 | H29: 5 | I29: 6 | J29: 7 | K29: 8 | L29: 9 | M29: 10 | N29: 11 | O29: 12 | P29: 13 | Q29: 14 | R29: 15 | S29: 16 | T29: 17 | U29: 18 | V29: 19 | W29: 20 | X29: 21 | Y29: 22 | Z29: 23 | AA29: 24 | AB29: 25 | AC29: 26 | AD29: 27 | AE29: 28 | AF29: 29 | AG29: 30 | AH29: 31 | AI29: Total
C30: Standard Hours | AI30: =IF(LEN(C29)=0,"",SUM(D30:AH30))
C31: Overtime Hours | AI31: =IF(LEN(C29)=0,"",SUM(D31:AH31))
C32: Overtime Salary(Hourly) | AI32: =IF(LEN(C29)=0,"",SUMPRODUCT(D31:AH31,D32:AH32))
C33: Total Hours | D33: =IFERROR(IF(AND(LEN(D30)=0,LEN(D31)=0),"",D30+D31),"") | E33: =IFERROR(IF(AND(LEN(E30)=0,LEN(E31)=0),"",E30+E31),"") | F33: =IFERROR(IF(AND(LEN(F30)=0,LEN(F31)=0),"",F30+F31),"") | G33: =IFERROR(IF(AND(LEN(G30)=0,LEN(G31)=0),"",G30+G31),"") | H33: =IFERROR(IF(AND(LEN(H30)=0,LEN(H31)=0),"",H30+H31),"") | I33: =IFERROR(IF(AND(LEN(I30)=0,LEN(I31)=0),"",I30+I31),"") | J33: =IFERROR(IF(AND(LEN(J30)=0,LEN(J31)=0),"",J30+J31),"") | K33: =IFERROR(IF(AND(LEN(K30)=0,LEN(K31)=0),"",K30+K31),"") | ... AH33: =IFERROR(IF(AND(LEN(AH30)=0,LEN(AH31)=0),"",AH30+AH31),"") | AI33: =IF(LEN(C29)=0,"",SUM(D33:AH33))
C35: Employee Name | D35: =D$7 -> Sun | E35: =E$7 -> Mon | F35: =F$7 -> Tue | G35: =G$7 -> Wed | H35: =H$7 -> Thu | I35: =I$7 -> Fri | J35: =J$7 -> Sat | K35: =K$7 -> Sun | ... AH35: =AH$7 -> Tue
D36: 1 | E36: 2 | F36: 3 | G36: 4 | H36: 5 | I36: 6 | J36: 7 | K36: 8 | L36: 9 | M36: 10 | N36: 11 | O36: 12 | P36: 13 | Q36: 14 | R36: 15 | S36: 16 | T36: 17 | U36: 18 | V36: 19 | W36: 20 | X36: 21 | Y36: 22 | Z36: 23 | AA36: 24 | AB36: 25 | AC36: 26 | AD36: 27 | AE36: 28 | AF36: 29 | AG36: 30 | AH36: 31 | AI36: Total
C37: Standard Hours | AI37: =IF(LEN(C36)=0,"",SUM(D37:AH37))
C38: Overtime Hours | AI38: =IF(LEN(C36)=0,"",SUM(D38:AH38))
C39: Overtime Salary(Hourly) | AI39: =IF(LEN(C36)=0,"",SUMPRODUCT(D38:AH38,D39:AH39))
C40: Total Hours | D40: =IFERROR(IF(AND(LEN(D37)=0,LEN(D38)=0),"",D37+D38),"") | E40: =IFERROR(IF(AND(LEN(E37)=0,LEN(E38)=0),"",E37+E38),"") | F40: =IFERROR(IF(AND(LEN(F37)=0,LEN(F38)=0),"",F37+F38),"") | G40: =IFERROR(IF(AND(LEN(G37)=0,LEN(G38)=0),"",G37+G38),"") | H40: =IFERROR(IF(AND(LEN(H37)=0,LEN(H38)=0),"",H37+H38),"") | I40: =IFERROR(IF(AND(LEN(I37)=0,LEN(I38)=0),"",I37+I38),"") | J40: =IFERROR(IF(AND(LEN(J37)=0,LEN(J38)=0),"",J37+J38),"") | K40: =IFERROR(IF(AND(LEN(K37)=0,LEN(K38)=0),"",K37+K38),"") | ... AH40: =IFERROR(IF(AND(LEN(AH37)=0,LEN(AH38)=0),"",AH37+AH38),"") | AI40: =IF(LEN(C36)=0,"",SUM(D40:AH40))
C42: Employee Name | D42: =D$7 -> Sun | E42: =E$7 -> Mon | F42: =F$7 -> Tue | G42: =G$7 -> Wed | H42: =H$7 -> Thu | I42: =I$7 -> Fri | J42: =J$7 -> Sat | K42: =K$7 -> Sun | ... AH42: =AH$7 -> Tue
D43: 1 | E43: 2 | F43: 3 | G43: 4 | H43: 5 | I43: 6 | J43: 7 | K43: 8 | L43: 9 | M43: 10 | N43: 11 | O43: 12 | P43: 13 | Q43: 14 | R43: 15 | S43: 16 | T43: 17 | U43: 18 | V43: 19 | W43: 20 | X43: 21 | Y43: 22 | Z43: 23 | AA43: 24 | AB43: 25 | AC43: 26 | AD43: 27 | AE43: 28 | AF43: 29 | AG43: 30 | AH43: 31 | AI43: Total
C44: Standard Hours
C45: Overtime Hours
C46: Overtime Salary(Hourly)
C47: Total Hours
C49: Employee Name | D49: =D$7 -> Sun | E49: =E$7 -> Mon | F49: =F$7 -> Tue | G49: =G$7 -> Wed | H49: =H$7 -> Thu | I49: =I$7 -> Fri | J49: =J$7 -> Sat | K49: =K$7 -> Sun | ... AH49: =AH$7 -> Tue
D50: 1 | E50: 2 | F50: 3 | G50: 4 | H50: 5 | I50: 6 | J50: 7 | K50: 8 | L50: 9 | M50: 10 | N50: 11 | O50: 12 | P50: 13 | Q50: 14 | R50: 15 | S50: 16 | T50: 17 | U50: 18 | V50: 19 | W50: 20 | X50: 21 | Y50: 22 | Z50: 23 | AA50: 24 | AB50: 25 | AC50: 26 | AD50: 27 | AE50: 28 | AF50: 29 | AG50: 30 | AH50: 31 | AI50: Total
C51: Standard Hours
C52: Overtime Hours
C53: Overtime Salary(Hourly)
C54: Total Hours
C56: Employee Name | D56: =D$7 -> Sun | E56: =E$7 -> Mon | F56: =F$7 -> Tue | G56: =G$7 -> Wed | H56: =H$7 -> Thu | I56: =I$7 -> Fri | J56: =J$7 -> Sat | K56: =K$7 -> Sun | ... AH56: =AH$7 -> Tue
D57: 1 | E57: 2 | F57: 3 | G57: 4 | H57: 5 | I57: 6 | J57: 7 | K57: 8 | L57: 9 | M57: 10 | N57: 11 | O57: 12 | P57: 13 | Q57: 14 | R57: 15 | S57: 16 | T57: 17 | U57: 18 | V57: 19 | W57: 20 | X57: 21 | Y57: 22 | Z57: 23 | AA57: 24 | AB57: 25 | AC57: 26 | AD57: 27 | AE57: 28 | AF57: 29 | AG57: 30 | AH57: 31 | AI57: Total
C58: Standard Hours
C59: Overtime Hours
C60: Overtime Salary(Hourly)
C61: Total Hours
C63: Employee Name | D63: =D$7 -> Sun | E63: =E$7 -> Mon | F63: =F$7 -> Tue | G63: =G$7 -> Wed | H63: =H$7 -> Thu | I63: =I$7 -> Fri | J63: =J$7 -> Sat | K63: =K$7 -> Sun | ... AH63: =AH$7 -> Tue
D64: 1 | E64: 2 | F64: 3 | G64: 4 | H64: 5 | I64: 6 | J64: 7 | K64: 8 | L64: 9 | M64: 10 | N64: 11 | O64: 12 | P64: 13 | Q64: 14 | R64: 15 | S64: 16 | T64: 17 | U64: 18 | V64: 19 | W64: 20 | X64: 21 | Y64: 22 | Z64: 23 | AA64: 24 | AB64: 25 | AC64: 26 | AD64: 27 | AE64: 28 | AF64: 29 | AG64: 30 | AH64: 31 | AI64: Total
C65: Standard Hours
C66: Overtime Hours
C67: Overtime Salary(Hourly)
C68: Total Hours
C70: Employee Name | D70: =D$7 -> Sun | E70: =E$7 -> Mon | F70: =F$7 -> Tue | G70: =G$7 -> Wed | H70: =H$7 -> Thu | I70: =I$7 -> Fri | J70: =J$7 -> Sat | K70: =K$7 -> Sun | ... AH70: =AH$7 -> Tue
D71: 1 | E71: 2 | F71: 3 | G71: 4 | H71: 5 | I71: 6 | J71: 7 | K71: 8 | L71: 9 | M71: 10 | N71: 11 | O71: 12 | P71: 13 | Q71: 14 | R71: 15 | S71: 16 | T71: 17 | U71: 18 | V71: 19 | W71: 20 | X71: 21 | Y71: 22 | Z71: 23 | AA71: 24 | AB71: 25 | AC71: 26 | AD71: 27 | AE71: 28 | AF71: 29 | AG71: 30 | AH71: 31 | AI71: Total
C72: Standard Hours
C73: Overtime Hours
C74: Overtime Salary(Hourly)
C75: Total Hours
C77: Employee Name | D77: =D$7 -> Sun | E77: =E$7 -> Mon | F77: =F$7 -> Tue | G77: =G$7 -> Wed | H77: =H$7 -> Thu | I77: =I$7 -> Fri | J77: =J$7 -> Sat | K77: =K$7 -> Sun | ... AH77: =AH$7 -> Tue
D78: 1 | E78: 2 | F78: 3 | G78: 4 | H78: 5 | I78: 6 | J78: 7 | K78: 8 | L78: 9 | M78: 10 | N78: 11 | O78: 12 | P78: 13 | Q78: 14 | R78: 15 | S78: 16 | T78: 17 | U78: 18 | V78: 19 | W78: 20 | X78: 21 | Y78: 22 | Z78: 23 | AA78: 24 | AB78: 25 | AC78: 26 | AD78: 27 | AE78: 28 | AF78: 29 | AG78: 30 | AH78: 31 | AI78: Total
C79: Standard Hours
C80: Overtime Hours
C81: Overtime Salary(Hourly)
C82: Total Hours
C84: Employee Name | D84: =D$7 -> Sun | E84: =E$7 -> Mon | F84: =F$7 -> Tue | G84: =G$7 -> Wed | H84: =H$7 -> Thu | I84: =I$7 -> Fri | J84: =J$7 -> Sat | K84: =K$7 -> Sun | ... AH84: =AH$7 -> Tue
D85: 1 | E85: 2 | F85: 3 | G85: 4 | H85: 5 | I85: 6 | J85: 7 | K85: 8 | L85: 9 | M85: 10 | N85: 11 | O85: 12 | P85: 13 | Q85: 14 | R85: 15 | S85: 16 | T85: 17 | U85: 18 | V85: 19 | W85: 20 | X85: 21 | Y85: 22 | Z85: 23 | AA85: 24 | AB85: 25 | AC85: 26 | AD85: 27 | AE85: 28 | AF85: 29 | AG85: 30 | AH85: 31 | AI85: Total
C86: Standard Hours
C87: Overtime Hours
C88: Overtime Salary(Hourly)
C89: Total Hours
C91: Employee Name | D91: =D$7 -> Sun | E91: =E$7 -> Mon | F91: =F$7 -> Tue | G91: =G$7 -> Wed | H91: =H$7 -> Thu | I91: =I$7 -> Fri | J91: =J$7 -> Sat | K91: =K$7 -> Sun | ... AH91: =AH$7 -> Tue
D92: 1 | E92: 2 | F92: 3 | G92: 4 | H92: 5 | I92: 6 | J92: 7 | K92: 8 | L92: 9 | M92: 10 | N92: 11 | O92: 12 | P92: 13 | Q92: 14 | R92: 15 | S92: 16 | T92: 17 | U92: 18 | V92: 19 | W92: 20 | X92: 21 | Y92: 22 | Z92: 23 | AA92: 24 | AB92: 25 | AC92: 26 | AD92: 27 | AE92: 28 | AF92: 29 | AG92: 30 | AH92: 31 | AI92: Total
C93: Standard Hours
C94: Overtime Hours
C95: Overtime Salary(Hourly)
C96: Total Hours
C98: Employee Name | D98: =D$7 -> Sun | E98: =E$7 -> Mon | F98: =F$7 -> Tue | G98: =G$7 -> Wed | H98: =H$7 -> Thu | I98: =I$7 -> Fri | J98: =J$7 -> Sat | K98: =K$7 -> Sun | ... AH98: =AH$7 -> Tue
D99: 1 | E99: 2 | F99: 3 | G99: 4 | H99: 5 | I99: 6 | J99: 7 | K99: 8 | L99: 9 | M99: 10 | N99: 11 | O99: 12 | P99: 13 | Q99: 14 | R99: 15 | S99: 16 | T99: 17 | U99: 18 | V99: 19 | W99: 20 | X99: 21 | Y99: 22 | Z99: 23 | AA99: 24 | AB99: 25 | AC99: 26 | AD99: 27 | AE99: 28 | AF99: 29 | AG99: 30 | AH99: 31 | AI99: Total
C100: Standard Hours
C101: Overtime Hours
C102: Overtime Salary(Hourly)
C103: Total Hours
C105: Employee Name | D105: =D$7 -> Sun | E105: =E$7 -> Mon | F105: =F$7 -> Tue | G105: =G$7 -> Wed | H105: =H$7 -> Thu | I105: =I$7 -> Fri | J105: =J$7 -> Sat | K105: =K$7 -> Sun | ... AH105: =AH$7 -> Tue
D106: 1 | E106: 2 | F106: 3 | G106: 4 | H106: 5 | I106: 6 | J106: 7 | K106: 8 | L106: 9 | M106: 10 | N106: 11 | O106: 12 | P106: 13 | Q106: 14 | R106: 15 | S106: 16 | T106: 17 | U106: 18 | V106: 19 | W106: 20 | X106: 21 | Y106: 22 | Z106: 23 | AA106: 24 | AB106: 25 | AC106: 26 | AD106: 27 | AE106: 28 | AF106: 29 | AG106: 30 | AH106: 31 | AI106: Total
C107: Standard Hours
C108: Overtime Hours
C109: Overtime Salary(Hourly)
C110: Total Hours
C112: Employee Name | D112: =D$7 -> Sun | E112: =E$7 -> Mon | F112: =F$7 -> Tue | G112: =G$7 -> Wed | H112: =H$7 -> Thu | I112: =I$7 -> Fri | J112: =J$7 -> Sat | K112: =K$7 -> Sun | ... AH112: =AH$7 -> Tue
D113: 1 | E113: 2 | F113: 3 | G113: 4 | H113: 5 | I113: 6 | J113: 7 | K113: 8 | L113: 9 | M113: 10 | N113: 11 | O113: 12 | P113: 13 | Q113: 14 | R113: 15 | S113: 16 | T113: 17 | U113: 18 | V113: 19 | W113: 20 | X113: 21 | Y113: 22 | Z113: 23 | AA113: 24 | AB113: 25 | AC113: 26 | AD113: 27 | AE113: 28 | AF113: 29 | AG113: 30 | AH113: 31 | AI113: Total
C114: Standard Hours
C115: Overtime Hours
C116: Overtime Salary(Hourly)
C117: Total Hours
C119: Employee Name | D119: =D$7 -> Sun | E119: =E$7 -> Mon | F119: =F$7 -> Tue | G119: =G$7 -> Wed | H119: =H$7 -> Thu | I119: =I$7 -> Fri | J119: =J$7 -> Sat | K119: =K$7 -> Sun | ... AH119: =AH$7 -> Tue
D120: 1 | E120: 2 | F120: 3 | G120: 4 | H120: 5 | I120: 6 | J120: 7 | K120: 8 | L120: 9 | M120: 10 | N120: 11 | O120: 12 | P120: 13 | Q120: 14 | R120: 15 | S120: 16 | T120: 17 | U120: 18 | V120: 19 | W120: 20 | X120: 21 | Y120: 22 | Z120: 23 | AA120: 24 | AB120: 25 | AC120: 26 | AD120: 27 | AE120: 28 | AF120: 29 | AG120: 30 | AH120: 31 | AI120: Total
...

Sheet Nov
C2: MONTHLY EMPLOYEE TIMESHEET
C3: NOVEMBER
C7: Employee Name | D7: =IFERROR(INDEX(Cal!$C$18:$C$24,WEEKDAY(D8&".11."&Year)),"") -> Wed | E7: =IFERROR(INDEX(Cal!$C$18:$C$24,WEEKDAY(E8&".11."&Year)),"") -> Thu | F7: =IFERROR(INDEX(Cal!$C$18:$C$24,WEEKDAY(F8&".11."&Year)),"") -> Fri | G7: =IFERROR(INDEX(Cal!$C$18:$C$24,WEEKDAY(G8&".11."&Year)),"") -> Sat | H7: =IFERROR(INDEX(Cal!$C$18:$C$24,WEEKDAY(H8&".11."&Year)),"") -> Sun | I7: =IFERROR(INDEX(Cal!$C$18:$C$24,WEEKDAY(I8&".11."&Year)),"") -> Mon | J7: =IFERROR(INDEX(Cal!$C$18:$C$24,WEEKDAY(J8&".11."&Year)),"") -> Tue | K7: =IFERROR(INDEX(Cal!$C$18:$C$24,WEEKDAY(K8&".11."&Year)),"") -> Wed | ... AG7: =IFERROR(INDEX(Cal!$C$18:$C$24,WEEKDAY(AG8&".11."&Year)),"") -> Thu
D8: 1 | E8: 2 | F8: 3 | G8: 4 | H8: 5 | I8: 6 | J8: 7 | K8: 8 | L8: 9 | M8: 10 | N8: 11 | O8: 12 | P8: 13 | Q8: 14 | R8: 15 | S8: 16 | T8: 17 | U8: 18 | V8: 19 | W8: 20 | X8: 21 | Y8: 22 | Z8: 23 | AA8: 24 | AB8: 25 | AC8: 26 | AD8: 27 | AE8: 28 | AF8: 29 | AG8: 30 | AI8: Total
C9: Standard Hours | AI9: =IF(LEN(C8)=0,"",SUM(D9:AG9))
C10: Overtime Hours | AI10: =IF(LEN(C8)=0,"",SUM(D10:AG10))
C11: Overtime Salary(Hourly) | AI11: =IF(LEN(C8)=0,"",SUMPRODUCT(D10:AG10,D11:AG11))
C12: Total Hours | D12: =IFERROR(IF(AND(LEN(D9)=0,LEN(D10)=0),"",D9+D10),"") | E12: =IFERROR(IF(AND(LEN(E9)=0,LEN(E10)=0),"",E9+E10),"") | F12: =IFERROR(IF(AND(LEN(F9)=0,LEN(F10)=0),"",F9+F10),"") | G12: =IFERROR(IF(AND(LEN(G9)=0,LEN(G10)=0),"",G9+G10),"") | H12: =IFERROR(IF(AND(LEN(H9)=0,LEN(H10)=0),"",H9+H10),"") | I12: =IFERROR(IF(AND(LEN(I9)=0,LEN(I10)=0),"",I9+I10),"") | J12: =IFERROR(IF(AND(LEN(J9)=0,LEN(J10)=0),"",J9+J10),"") | K12: =IFERROR(IF(AND(LEN(K9)=0,LEN(K10)=0),"",K9+K10),"") | ... AG12: =IFERROR(IF(AND(LEN(AG9)=0,LEN(AG10)=0),"",AG9+AG10),"") | AI12: =IF(LEN(C8)=0,"",SUM(D12:AG12))
C14: Employee Name | D14: =D$7 -> Wed | E14: =E$7 -> Thu | F14: =F$7 -> Fri | G14: =G$7 -> Sat | H14: =H$7 -> Sun | I14: =I$7 -> Mon | J14: =J$7 -> Tue | K14: =K$7 -> Wed | ... AG14: =AG$7 -> Thu
D15: 1 | E15: 2 | F15: 3 | G15: 4 | H15: 5 | I15: 6 | J15: 7 | K15: 8 | L15: 9 | M15: 10 | N15: 11 | O15: 12 | P15: 13 | Q15: 14 | R15: 15 | S15: 16 | T15: 17 | U15: 18 | V15: 19 | W15: 20 | X15: 21 | Y15: 22 | Z15: 23 | AA15: 24 | AB15: 25 | AC15: 26 | AD15: 27 | AE15: 28 | AF15: 29 | AG15: 30 | AI15: Total
C16: Standard Hours | AI16: =IF(LEN(C15)=0,"",SUM(D16:AG16))
C17: Overtime Hours | AI17: =IF(LEN(C15)=0,"",SUM(D17:AG17))
C18: Overtime Salary(Hourly) | AI18: =IF(LEN(C15)=0,"",SUMPRODUCT(D17:AG17,D18:AG18))
C19: Total Hours | D19: =IFERROR(IF(AND(LEN(D16)=0,LEN(D17)=0),"",D16+D17),"") | E19: =IFERROR(IF(AND(LEN(E16)=0,LEN(E17)=0),"",E16+E17),"") | F19: =IFERROR(IF(AND(LEN(F16)=0,LEN(F17)=0),"",F16+F17),"") | G19: =IFERROR(IF(AND(LEN(G16)=0,LEN(G17)=0),"",G16+G17),"") | H19: =IFERROR(IF(AND(LEN(H16)=0,LEN(H17)=0),"",H16+H17),"") | I19: =IFERROR(IF(AND(LEN(I16)=0,LEN(I17)=0),"",I16+I17),"") | J19: =IFERROR(IF(AND(LEN(J16)=0,LEN(J17)=0),"",J16+J17),"") | K19: =IFERROR(IF(AND(LEN(K16)=0,LEN(K17)=0),"",K16+K17),"") | ... AG19: =IFERROR(IF(AND(LEN(AG16)=0,LEN(AG17)=0),"",AG16+AG17),"") | AI19: =IF(LEN(C15)=0,"",SUM(D19:AG19))
C21: Employee Name | D21: =D$7 -> Wed | E21: =E$7 -> Thu | F21: =F$7 -> Fri | G21: =G$7 -> Sat | H21: =H$7 -> Sun | I21: =I$7 -> Mon | J21: =J$7 -> Tue | K21: =K$7 -> Wed | ... AG21: =AG$7 -> Thu
D22: 1 | E22: 2 | F22: 3 | G22: 4 | H22: 5 | I22: 6 | J22: 7 | K22: 8 | L22: 9 | M22: 10 | N22: 11 | O22: 12 | P22: 13 | Q22: 14 | R22: 15 | S22: 16 | T22: 17 | U22: 18 | V22: 19 | W22: 20 | X22: 21 | Y22: 22 | Z22: 23 | AA22: 24 | AB22: 25 | AC22: 26 | AD22: 27 | AE22: 28 | AF22: 29 | AG22: 30 | AI22: Total
C23: Standard Hours | AI23: =IF(LEN(C22)=0,"",SUM(D23:AG23))
C24: Overtime Hours | AI24: =IF(LEN(C22)=0,"",SUM(D24:AG24))
C25: Overtime Salary(Hourly) | AI25: =IF(LEN(C22)=0,"",SUMPRODUCT(D24:AG24,D25:AG25))
C26: Total Hours | D26: =IFERROR(IF(AND(LEN(D23)=0,LEN(D24)=0),"",D23+D24),"") | E26: =IFERROR(IF(AND(LEN(E23)=0,LEN(E24)=0),"",E23+E24),"") | F26: =IFERROR(IF(AND(LEN(F23)=0,LEN(F24)=0),"",F23+F24),"") | G26: =IFERROR(IF(AND(LEN(G23)=0,LEN(G24)=0),"",G23+G24),"") | H26: =IFERROR(IF(AND(LEN(H23)=0,LEN(H24)=0),"",H23+H24),"") | I26: =IFERROR(IF(AND(LEN(I23)=0,LEN(I24)=0),"",I23+I24),"") | J26: =IFERROR(IF(AND(LEN(J23)=0,LEN(J24)=0),"",J23+J24),"") | K26: =IFERROR(IF(AND(LEN(K23)=0,LEN(K24)=0),"",K23+K24),"") | ... AG26: =IFERROR(IF(AND(LEN(AG23)=0,LEN(AG24)=0),"",AG23+AG24),"") | AI26: =IF(LEN(C22)=0,"",SUM(D26:AG26))
C28: Employee Name | D28: =D$7 -> Wed | E28: =E$7 -> Thu | F28: =F$7 -> Fri | G28: =G$7 -> Sat | H28: =H$7 -> Sun | I28: =I$7 -> Mon | J28: =J$7 -> Tue | K28: =K$7 -> Wed | ... AG28: =AG$7 -> Thu
D29: 1 | E29: 2 | F29: 3 | G29: 4 | H29: 5 | I29: 6 | J29: 7 | K29: 8 | L29: 9 | M29: 10 | N29: 11 | O29: 12 | P29: 13 | Q29: 14 | R29: 15 | S29: 16 | T29: 17 | U29: 18 | V29: 19 | W29: 20 | X29: 21 | Y29: 22 | Z29: 23 | AA29: 24 | AB29: 25 | AC29: 26 | AD29: 27 | AE29: 28 | AF29: 29 | AG29: 30 | AI29: Total
C30: Standard Hours | AI30: =IF(LEN(C29)=0,"",SUM(D30:AG30))
C31: Overtime Hours | AI31: =IF(LEN(C29)=0,"",SUM(D31:AG31))
C32: Overtime Salary(Hourly) | AI32: =IF(LEN(C29)=0,"",SUMPRODUCT(D31:AG31,D32:AG32))
C33: Total Hours | D33: =IFERROR(IF(AND(LEN(D30)=0,LEN(D31)=0),"",D30+D31),"") | E33: =IFERROR(IF(AND(LEN(E30)=0,LEN(E31)=0),"",E30+E31),"") | F33: =IFERROR(IF(AND(LEN(F30)=0,LEN(F31)=0),"",F30+F31),"") | G33: =IFERROR(IF(AND(LEN(G30)=0,LEN(G31)=0),"",G30+G31),"") | H33: =IFERROR(IF(AND(LEN(H30)=0,LEN(H31)=0),"",H30+H31),"") | I33: =IFERROR(IF(AND(LEN(I30)=0,LEN(I31)=0),"",I30+I31),"") | J33: =IFERROR(IF(AND(LEN(J30)=0,LEN(J31)=0),"",J30+J31),"") | K33: =IFERROR(IF(AND(LEN(K30)=0,LEN(K31)=0),"",K30+K31),"") | ... AG33: =IFERROR(IF(AND(LEN(AG30)=0,LEN(AG31)=0),"",AG30+AG31),"") | AI33: =IF(LEN(C29)=0,"",SUM(D33:AG33))
C35: Employee Name | D35: =D$7 -> Wed | E35: =E$7 -> Thu | F35: =F$7 -> Fri | G35: =G$7 -> Sat | H35: =H$7 -> Sun | I35: =I$7 -> Mon | J35: =J$7 -> Tue | K35: =K$7 -> Wed | ... AG35: =AG$7 -> Thu
D36: 1 | E36: 2 | F36: 3 | G36: 4 | H36: 5 | I36: 6 | J36: 7 | K36: 8 | L36: 9 | M36: 10 | N36: 11 | O36: 12 | P36: 13 | Q36: 14 | R36: 15 | S36: 16 | T36: 17 | U36: 18 | V36: 19 | W36: 20 | X36: 21 | Y36: 22 | Z36: 23 | AA36: 24 | AB36: 25 | AC36: 26 | AD36: 27 | AE36: 28 | AF36: 29 | AG36: 30 | AI36: Total
C37: Standard Hours | AI37: =IF(LEN(C36)=0,"",SUM(D37:AG37))
C38: Overtime Hours | AI38: =IF(LEN(C36)=0,"",SUM(D38:AG38))
C39: Overtime Salary(Hourly) | AI39: =IF(LEN(C36)=0,"",SUMPRODUCT(D38:AG38,D39:AG39))
C40: Total Hours | D40: =IFERROR(IF(AND(LEN(D37)=0,LEN(D38)=0),"",D37+D38),"") | E40: =IFERROR(IF(AND(LEN(E37)=0,LEN(E38)=0),"",E37+E38),"") | F40: =IFERROR(IF(AND(LEN(F37)=0,LEN(F38)=0),"",F37+F38),"") | G40: =IFERROR(IF(AND(LEN(G37)=0,LEN(G38)=0),"",G37+G38),"") | H40: =IFERROR(IF(AND(LEN(H37)=0,LEN(H38)=0),"",H37+H38),"") | I40: =IFERROR(IF(AND(LEN(I37)=0,LEN(I38)=0),"",I37+I38),"") | J40: =IFERROR(IF(AND(LEN(J37)=0,LEN(J38)=0),"",J37+J38),"") | K40: =IFERROR(IF(AND(LEN(K37)=0,LEN(K38)=0),"",K37+K38),"") | ... AG40: =IFERROR(IF(AND(LEN(AG37)=0,LEN(AG38)=0),"",AG37+AG38),"") | AI40: =IF(LEN(C36)=0,"",SUM(D40:AG40))
C42: Employee Name | D42: =D$7 -> Wed | E42: =E$7 -> Thu | F42: =F$7 -> Fri | G42: =G$7 -> Sat | H42: =H$7 -> Sun | I42: =I$7 -> Mon | J42: =J$7 -> Tue | K42: =K$7 -> Wed | ... AG42: =AG$7 -> Thu
D43: 1 | E43: 2 | F43: 3 | G43: 4 | H43: 5 | I43: 6 | J43: 7 | K43: 8 | L43: 9 | M43: 10 | N43: 11 | O43: 12 | P43: 13 | Q43: 14 | R43: 15 | S43: 16 | T43: 17 | U43: 18 | V43: 19 | W43: 20 | X43: 21 | Y43: 22 | Z43: 23 | AA43: 24 | AB43: 25 | AC43: 26 | AD43: 27 | AE43: 28 | AF43: 29 | AG43: 30 | AI43: Total
C44: Standard Hours
C45: Overtime Hours
C46: Overtime Salary(Hourly)
C47: Total Hours
C49: Employee Name | D49: =D$7 -> Wed | E49: =E$7 -> Thu | F49: =F$7 -> Fri | G49: =G$7 -> Sat | H49: =H$7 -> Sun | I49: =I$7 -> Mon | J49: =J$7 -> Tue | K49: =K$7 -> Wed | ... AG49: =AG$7 -> Thu
D50: 1 | E50: 2 | F50: 3 | G50: 4 | H50: 5 | I50: 6 | J50: 7 | K50: 8 | L50: 9 | M50: 10 | N50: 11 | O50: 12 | P50: 13 | Q50: 14 | R50: 15 | S50: 16 | T50: 17 | U50: 18 | V50: 19 | W50: 20 | X50: 21 | Y50: 22 | Z50: 23 | AA50: 24 | AB50: 25 | AC50: 26 | AD50: 27 | AE50: 28 | AF50: 29 | AG50: 30 | AI50: Total
C51: Standard Hours
C52: Overtime Hours
C53: Overtime Salary(Hourly)
C54: Total Hours
C56: Employee Name | D56: =D$7 -> Wed | E56: =E$7 -> Thu | F56: =F$7 -> Fri | G56: =G$7 -> Sat | H56: =H$7 -> Sun | I56: =I$7 -> Mon | J56: =J$7 -> Tue | K56: =K$7 -> Wed | ... AG56: =AG$7 -> Thu
D57: 1 | E57: 2 | F57: 3 | G57: 4 | H57: 5 | I57: 6 | J57: 7 | K57: 8 | L57: 9 | M57: 10 | N57: 11 | O57: 12 | P57: 13 | Q57: 14 | R57: 15 | S57: 16 | T57: 17 | U57: 18 | V57: 19 | W57: 20 | X57: 21 | Y57: 22 | Z57: 23 | AA57: 24 | AB57: 25 | AC57: 26 | AD57: 27 | AE57: 28 | AF57: 29 | AG57: 30 | AI57: Total
C58: Standard Hours
C59: Overtime Hours
C60: Overtime Salary(Hourly)
C61: Total Hours
C63: Employee Name | D63: =D$7 -> Wed | E63: =E$7 -> Thu | F63: =F$7 -> Fri | G63: =G$7 -> Sat | H63: =H$7 -> Sun | I63: =I$7 -> Mon | J63: =J$7 -> Tue | K63: =K$7 -> Wed | ... AG63: =AG$7 -> Thu
D64: 1 | E64: 2 | F64: 3 | G64: 4 | H64: 5 | I64: 6 | J64: 7 | K64: 8 | L64: 9 | M64: 10 | N64: 11 | O64: 12 | P64: 13 | Q64: 14 | R64: 15 | S64: 16 | T64: 17 | U64: 18 | V64: 19 | W64: 20 | X64: 21 | Y64: 22 | Z64: 23 | AA64: 24 | AB64: 25 | AC64: 26 | AD64: 27 | AE64: 28 | AF64: 29 | AG64: 30 | AI64: Total
C65: Standard Hours
C66: Overtime Hours
C67: Overtime Salary(Hourly)
C68: Total Hours
C70: Employee Name | D70: =D$7 -> Wed | E70: =E$7 -> Thu | F70: =F$7 -> Fri | G70: =G$7 -> Sat | H70: =H$7 -> Sun | I70: =I$7 -> Mon | J70: =J$7 -> Tue | K70: =K$7 -> Wed | ... AG70: =AG$7 -> Thu
D71: 1 | E71: 2 | F71: 3 | G71: 4 | H71: 5 | I71: 6 | J71: 7 | K71: 8 | L71: 9 | M71: 10 | N71: 11 | O71: 12 | P71: 13 | Q71: 14 | R71: 15 | S71: 16 | T71: 17 | U71: 18 | V71: 19 | W71: 20 | X71: 21 | Y71: 22 | Z71: 23 | AA71: 24 | AB71: 25 | AC71: 26 | AD71: 27 | AE71: 28 | AF71: 29 | AG71: 30 | AI71: Total
C72: Standard Hours
C73: Overtime Hours
C74: Overtime Salary(Hourly)
C75: Total Hours
C77: Employee Name | D77: =D$7 -> Wed | E77: =E$7 -> Thu | F77: =F$7 -> Fri | G77: =G$7 -> Sat | H77: =H$7 -> Sun | I77: =I$7 -> Mon | J77: =J$7 -> Tue | K77: =K$7 -> Wed | ... AG77: =AG$7 -> Thu
D78: 1 | E78: 2 | F78: 3 | G78: 4 | H78: 5 | I78: 6 | J78: 7 | K78: 8 | L78: 9 | M78: 10 | N78: 11 | O78: 12 | P78: 13 | Q78: 14 | R78: 15 | S78: 16 | T78: 17 | U78: 18 | V78: 19 | W78: 20 | X78: 21 | Y78: 22 | Z78: 23 | AA78: 24 | AB78: 25 | AC78: 26 | AD78: 27 | AE78: 28 | AF78: 29 | AG78: 30 | AI78: Total
C79: Standard Hours
C80: Overtime Hours
C81: Overtime Salary(Hourly)
C82: Total Hours
C84: Employee Name | D84: =D$7 -> Wed | E84: =E$7 -> Thu | F84: =F$7 -> Fri | G84: =G$7 -> Sat | H84: =H$7 -> Sun | I84: =I$7 -> Mon | J84: =J$7 -> Tue | K84: =K$7 -> Wed | ... AG84: =AG$7 -> Thu
D85: 1 | E85: 2 | F85: 3 | G85: 4 | H85: 5 | I85: 6 | J85: 7 | K85: 8 | L85: 9 | M85: 10 | N85: 11 | O85: 12 | P85: 13 | Q85: 14 | R85: 15 | S85: 16 | T85: 17 | U85: 18 | V85: 19 | W85: 20 | X85: 21 | Y85: 22 | Z85: 23 | AA85: 24 | AB85: 25 | AC85: 26 | AD85: 27 | AE85: 28 | AF85: 29 | AG85: 30 | AI85: Total
C86: Standard Hours
C87: Overtime Hours
C88: Overtime Salary(Hourly)
C89: Total Hours
C91: Employee Name | D91: =D$7 -> Wed | E91: =E$7 -> Thu | F91: =F$7 -> Fri | G91: =G$7 -> Sat | H91: =H$7 -> Sun | I91: =I$7 -> Mon | J91: =J$7 -> Tue | K91: =K$7 -> Wed | ... AG91: =AG$7 -> Thu
D92: 1 | E92: 2 | F92: 3 | G92: 4 | H92: 5 | I92: 6 | J92: 7 | K92: 8 | L92: 9 | M92: 10 | N92: 11 | O92: 12 | P92: 13 | Q92: 14 | R92: 15 | S92: 16 | T92: 17 | U92: 18 | V92: 19 | W92: 20 | X92: 21 | Y92: 22 | Z92: 23 | AA92: 24 | AB92: 25 | AC92: 26 | AD92: 27 | AE92: 28 | AF92: 29 | AG92: 30 | AI92: Total
C93: Standard Hours
C94: Overtime Hours
C95: Overtime Salary(Hourly)
C96: Total Hours
C98: Employee Name | D98: =D$7 -> Wed | E98: =E$7 -> Thu | F98: =F$7 -> Fri | G98: =G$7 -> Sat | H98: =H$7 -> Sun | I98: =I$7 -> Mon | J98: =J$7 -> Tue | K98: =K$7 -> Wed | ... AG98: =AG$7 -> Thu
D99: 1 | E99: 2 | F99: 3 | G99: 4 | H99: 5 | I99: 6 | J99: 7 | K99: 8 | L99: 9 | M99: 10 | N99: 11 | O99: 12 | P99: 13 | Q99: 14 | R99: 15 | S99: 16 | T99: 17 | U99: 18 | V99: 19 | W99: 20 | X99: 21 | Y99: 22 | Z99: 23 | AA99: 24 | AB99: 25 | AC99: 26 | AD99: 27 | AE99: 28 | AF99: 29 | AG99: 30 | AI99: Total
C100: Standard Hours
C101: Overtime Hours
C102: Overtime Salary(Hourly)
C103: Total Hours
C105: Employee Name | D105: =D$7 -> Wed | E105: =E$7 -> Thu | F105: =F$7 -> Fri | G105: =G$7 -> Sat | H105: =H$7 -> Sun | I105: =I$7 -> Mon | J105: =J$7 -> Tue | K105: =K$7 -> Wed | ... AG105: =AG$7 -> Thu
D106: 1 | E106: 2 | F106: 3 | G106: 4 | H106: 5 | I106: 6 | J106: 7 | K106: 8 | L106: 9 | M106: 10 | N106: 11 | O106: 12 | P106: 13 | Q106: 14 | R106: 15 | S106: 16 | T106: 17 | U106: 18 | V106: 19 | W106: 20 | X106: 21 | Y106: 22 | Z106: 23 | AA106: 24 | AB106: 25 | AC106: 26 | AD106: 27 | AE106: 28 | AF106: 29 | AG106: 30 | AI106: Total
C107: Standard Hours
C108: Overtime Hours
C109: Overtime Salary(Hourly)
C110: Total Hours
C112: Employee Name | D112: =D$7 -> Wed | E112: =E$7 -> Thu | F112: =F$7 -> Fri | G112: =G$7 -> Sat | H112: =H$7 -> Sun | I112: =I$7 -> Mon | J112: =J$7 -> Tue | K112: =K$7 -> Wed | ... AG112: =AG$7 -> Thu
D113: 1 | E113: 2 | F113: 3 | G113: 4 | H113: 5 | I113: 6 | J113: 7 | K113: 8 | L113: 9 | M113: 10 | N113: 11 | O113: 12 | P113: 13 | Q113: 14 | R113: 15 | S113: 16 | T113: 17 | U113: 18 | V113: 19 | W113: 20 | X113: 21 | Y113: 22 | Z113: 23 | AA113: 24 | AB113: 25 | AC113: 26 | AD113: 27 | AE113: 28 | AF113: 29 | AG113: 30 | AI113: Total
C114: Standard Hours
C115: Overtime Hours
C116: Overtime Salary(Hourly)
C117: Total Hours
C119: Employee Name | D119: =D$7 -> Wed | E119: =E$7 -> Thu | F119: =F$7 -> Fri | G119: =G$7 -> Sat | H119: =H$7 -> Sun | I119: =I$7 -> Mon | J119: =J$7 -> Tue | K119: =K$7 -> Wed | ... AG119: =AG$7 -> Thu
D120: 1 | E120: 2 | F120: 3 | G120: 4 | H120: 5 | I120: 6 | J120: 7 | K120: 8 | L120: 9 | M120: 10 | N120: 11 | O120: 12 | P120: 13 | Q120: 14 | R120: 15 | S120: 16 | T120: 17 | U120: 18 | V120: 19 | W120: 20 | X120: 21 | Y120: 22 | Z120: 23 | AA120: 24 | AB120: 25 | AC120: 26 | AD120: 27 | AE120: 28 | AF120: 29 | AG120: 30 | AI120: Total
...

Sheet Dec
C2: MONTHLY EMPLOYEE TIMESHEET
C3: DECEMBER
C7: Employee Name | D7: =IFERROR(INDEX(Cal!$C$18:$C$24,WEEKDAY(D8&".12."&Year)),"") -> Fri | E7: =IFERROR(INDEX(Cal!$C$18:$C$24,WEEKDAY(E8&".12."&Year)),"") -> Sat | F7: =IFERROR(INDEX(Cal!$C$18:$C$24,WEEKDAY(F8&".12."&Year)),"") -> Sun | G7: =IFERROR(INDEX(Cal!$C$18:$C$24,WEEKDAY(G8&".12."&Year)),"") -> Mon | H7: =IFERROR(INDEX(Cal!$C$18:$C$24,WEEKDAY(H8&".12."&Year)),"") -> Tue | I7: =IFERROR(INDEX(Cal!$C$18:$C$24,WEEKDAY(I8&".12."&Year)),"") -> Wed | J7: =IFERROR(INDEX(Cal!$C$18:$C$24,WEEKDAY(J8&".12."&Year)),"") -> Thu | K7: =IFERROR(INDEX(Cal!$C$18:$C$24,WEEKDAY(K8&".12."&Year)),"") -> Fri | ... AH7: =IFERROR(INDEX(Cal!$C$18:$C$24,WEEKDAY(AH8&".12."&Year)),"") -> Sun
D8: 1 | E8: 2 | F8: 3 | G8: 4 | H8: 5 | I8: 6 | J8: 7 | K8: 8 | L8: 9 | M8: 10 | N8: 11 | O8: 12 | P8: 13 | Q8: 14 | R8: 15 | S8: 16 | T8: 17 | U8: 18 | V8: 19 | W8: 20 | X8: 21 | Y8: 22 | Z8: 23 | AA8: 24 | AB8: 25 | AC8: 26 | AD8: 27 | AE8: 28 | AF8: 29 | AG8: 30 | AH8: 31 | AI8: Total
C9: Standard Hours | AI9: =IF(LEN(C8)=0,"",SUM(D9:AH9))
C10: Overtime Hours | AI10: =IF(LEN(C8)=0,"",SUM(D10:AH10))
C11: Overtime Salary(Hourly) | AI11: =IF(LEN(C8)=0,"",SUMPRODUCT(D10:AH10,D11:AH11))
C12: Total Hours | D12: =IFERROR(IF(AND(LEN(D9)=0,LEN(D10)=0),"",D9+D10),"") | E12: =IFERROR(IF(AND(LEN(E9)=0,LEN(E10)=0),"",E9+E10),"") | F12: =IFERROR(IF(AND(LEN(F9)=0,LEN(F10)=0),"",F9+F10),"") | G12: =IFERROR(IF(AND(LEN(G9)=0,LEN(G10)=0),"",G9+G10),"") | H12: =IFERROR(IF(AND(LEN(H9)=0,LEN(H10)=0),"",H9+H10),"") | I12: =IFERROR(IF(AND(LEN(I9)=0,LEN(I10)=0),"",I9+I10),"") | J12: =IFERROR(IF(AND(LEN(J9)=0,LEN(J10)=0),"",J9+J10),"") | K12: =IFERROR(IF(AND(LEN(K9)=0,LEN(K10)=0),"",K9+K10),"") | ... AH12: =IFERROR(IF(AND(LEN(AH9)=0,LEN(AH10)=0),"",AH9+AH10),"") | AI12: =IF(LEN(C8)=0,"",SUM(D12:AH12))
C14: Employee Name | D14: =D$7 -> Fri | E14: =E$7 -> Sat | F14: =F$7 -> Sun | G14: =G$7 -> Mon | H14: =H$7 -> Tue | I14: =I$7 -> Wed | J14: =J$7 -> Thu | K14: =K$7 -> Fri | ... AH14: =AH$7 -> Sun
D15: 1 | E15: 2 | F15: 3 | G15: 4 | H15: 5 | I15: 6 | J15: 7 | K15: 8 | L15: 9 | M15: 10 | N15: 11 | O15: 12 | P15: 13 | Q15: 14 | R15: 15 | S15: 16 | T15: 17 | U15: 18 | V15: 19 | W15: 20 | X15: 21 | Y15: 22 | Z15: 23 | AA15: 24 | AB15: 25 | AC15: 26 | AD15: 27 | AE15: 28 | AF15: 29 | AG15: 30 | AH15: 31 | AI15: Total
C16: Standard Hours | AI16: =IF(LEN(C15)=0,"",SUM(D16:AH16))
C17: Overtime Hours | AI17: =IF(LEN(C15)=0,"",SUM(D17:AH17))
C18: Overtime Salary(Hourly) | AI18: =IF(LEN(C15)=0,"",SUMPRODUCT(D17:AH17,D18:AH18))
C19: Total Hours | D19: =IFERROR(IF(AND(LEN(D16)=0,LEN(D17)=0),"",D16+D17),"") | E19: =IFERROR(IF(AND(LEN(E16)=0,LEN(E17)=0),"",E16+E17),"") | F19: =IFERROR(IF(AND(LEN(F16)=0,LEN(F17)=0),"",F16+F17),"") | G19: =IFERROR(IF(AND(LEN(G16)=0,LEN(G17)=0),"",G16+G17),"") | H19: =IFERROR(IF(AND(LEN(H16)=0,LEN(H17)=0),"",H16+H17),"") | I19: =IFERROR(IF(AND(LEN(I16)=0,LEN(I17)=0),"",I16+I17),"") | J19: =IFERROR(IF(AND(LEN(J16)=0,LEN(J17)=0),"",J16+J17),"") | K19: =IFERROR(IF(AND(LEN(K16)=0,LEN(K17)=0),"",K16+K17),"") | ... AH19: =IFERROR(IF(AND(LEN(AH16)=0,LEN(AH17)=0),"",AH16+AH17),"") | AI19: =IF(LEN(C15)=0,"",SUM(D19:AH19))
C21: Employee Name | D21: =D$7 -> Fri | E21: =E$7 -> Sat | F21: =F$7 -> Sun | G21: =G$7 -> Mon | H21: =H$7 -> Tue | I21: =I$7 -> Wed | J21: =J$7 -> Thu | K21: =K$7 -> Fri | ... AH21: =AH$7 -> Sun
D22: 1 | E22: 2 | F22: 3 | G22: 4 | H22: 5 | I22: 6 | J22: 7 | K22: 8 | L22: 9 | M22: 10 | N22: 11 | O22: 12 | P22: 13 | Q22: 14 | R22: 15 | S22: 16 | T22: 17 | U22: 18 | V22: 19 | W22: 20 | X22: 21 | Y22: 22 | Z22: 23 | AA22: 24 | AB22: 25 | AC22: 26 | AD22: 27 | AE22: 28 | AF22: 29 | AG22: 30 | AH22: 31 | AI22: Total
C23: Standard Hours | AI23: =IF(LEN(C22)=0,"",SUM(D23:AH23))
C24: Overtime Hours | AI24: =IF(LEN(C22)=0,"",SUM(D24:AH24))
C25: Overtime Salary(Hourly) | AI25: =IF(LEN(C22)=0,"",SUMPRODUCT(D24:AH24,D25:AH25))
C26: Total Hours | D26: =IFERROR(IF(AND(LEN(D23)=0,LEN(D24)=0),"",D23+D24),"") | E26: =IFERROR(IF(AND(LEN(E23)=0,LEN(E24)=0),"",E23+E24),"") | F26: =IFERROR(IF(AND(LEN(F23)=0,LEN(F24)=0),"",F23+F24),"") | G26: =IFERROR(IF(AND(LEN(G23)=0,LEN(G24)=0),"",G23+G24),"") | H26: =IFERROR(IF(AND(LEN(H23)=0,LEN(H24)=0),"",H23+H24),"") | I26: =IFERROR(IF(AND(LEN(I23)=0,LEN(I24)=0),"",I23+I24),"") | J26: =IFERROR(IF(AND(LEN(J23)=0,LEN(J24)=0),"",J23+J24),"") | K26: =IFERROR(IF(AND(LEN(K23)=0,LEN(K24)=0),"",K23+K24),"") | ... AH26: =IFERROR(IF(AND(LEN(AH23)=0,LEN(AH24)=0),"",AH23+AH24),"") | AI26: =IF(LEN(C22)=0,"",SUM(D26:AH26))
C28: Employee Name | D28: =D$7 -> Fri | E28: =E$7 -> Sat | F28: =F$7 -> Sun | G28: =G$7 -> Mon | H28: =H$7 -> Tue | I28: =I$7 -> Wed | J28: =J$7 -> Thu | K28: =K$7 -> Fri | ... AH28: =AH$7 -> Sun
D29: 1 | E29: 2 | F29: 3 | G29: 4 | H29: 5 | I29: 6 | J29: 7 | K29: 8 | L29: 9 | M29: 10 | N29: 11 | O29: 12 | P29: 13 | Q29: 14 | R29: 15 | S29: 16 | T29: 17 | U29: 18 | V29: 19 | W29: 20 | X29: 21 | Y29: 22 | Z29: 23 | AA29: 24 | AB29: 25 | AC29: 26 | AD29: 27 | AE29: 28 | AF29: 29 | AG29: 30 | AH29: 31 | AI29: Total
C30: Standard Hours | AI30: =IF(LEN(C29)=0,"",SUM(D30:AH30))
C31: Overtime Hours | AI31: =IF(LEN(C29)=0,"",SUM(D31:AH31))
C32: Overtime Salary(Hourly) | AI32: =IF(LEN(C29)=0,"",SUMPRODUCT(D31:AH31,D32:AH32))
C33: Total Hours | D33: =IFERROR(IF(AND(LEN(D30)=0,LEN(D31)=0),"",D30+D31),"") | E33: =IFERROR(IF(AND(LEN(E30)=0,LEN(E31)=0),"",E30+E31),"") | F33: =IFERROR(IF(AND(LEN(F30)=0,LEN(F31)=0),"",F30+F31),"") | G33: =IFERROR(IF(AND(LEN(G30)=0,LEN(G31)=0),"",G30+G31),"") | H33: =IFERROR(IF(AND(LEN(H30)=0,LEN(H31)=0),"",H30+H31),"") | I33: =IFERROR(IF(AND(LEN(I30)=0,LEN(I31)=0),"",I30+I31),"") | J33: =IFERROR(IF(AND(LEN(J30)=0,LEN(J31)=0),"",J30+J31),"") | K33: =IFERROR(IF(AND(LEN(K30)=0,LEN(K31)=0),"",K30+K31),"") | ... AH33: =IFERROR(IF(AND(LEN(AH30)=0,LEN(AH31)=0),"",AH30+AH31),"") | AI33: =IF(LEN(C29)=0,"",SUM(D33:AH33))
C35: Employee Name | D35: =D$7 -> Fri | E35: =E$7 -> Sat | F35: =F$7 -> Sun | G35: =G$7 -> Mon | H35: =H$7 -> Tue | I35: =I$7 -> Wed | J35: =J$7 -> Thu | K35: =K$7 -> Fri | ... AH35: =AH$7 -> Sun
D36: 1 | E36: 2 | F36: 3 | G36: 4 | H36: 5 | I36: 6 | J36: 7 | K36: 8 | L36: 9 | M36: 10 | N36: 11 | O36: 12 | P36: 13 | Q36: 14 | R36: 15 | S36: 16 | T36: 17 | U36: 18 | V36: 19 | W36: 20 | X36: 21 | Y36: 22 | Z36: 23 | AA36: 24 | AB36: 25 | AC36: 26 | AD36: 27 | AE36: 28 | AF36: 29 | AG36: 30 | AH36: 31 | AI36: Total
C37: Standard Hours | AI37: =IF(LEN(C36)=0,"",SUM(D37:AH37))
C38: Overtime Hours | AI38: =IF(LEN(C36)=0,"",SUM(D38:AH38))
C39: Overtime Salary(Hourly) | AI39: =IF(LEN(C36)=0,"",SUMPRODUCT(D38:AH38,D39:AH39))
C40: Total Hours | D40: =IFERROR(IF(AND(LEN(D37)=0,LEN(D38)=0),"",D37+D38),"") | E40: =IFERROR(IF(AND(LEN(E37)=0,LEN(E38)=0),"",E37+E38),"") | F40: =IFERROR(IF(AND(LEN(F37)=0,LEN(F38)=0),"",F37+F38),"") | G40: =IFERROR(IF(AND(LEN(G37)=0,LEN(G38)=0),"",G37+G38),"") | H40: =IFERROR(IF(AND(LEN(H37)=0,LEN(H38)=0),"",H37+H38),"") | I40: =IFERROR(IF(AND(LEN(I37)=0,LEN(I38)=0),"",I37+I38),"") | J40: =IFERROR(IF(AND(LEN(J37)=0,LEN(J38)=0),"",J37+J38),"") | K40: =IFERROR(IF(AND(LEN(K37)=0,LEN(K38)=0),"",K37+K38),"") | ... AH40: =IFERROR(IF(AND(LEN(AH37)=0,LEN(AH38)=0),"",AH37+AH38),"") | AI40: =IF(LEN(C36)=0,"",SUM(D40:AH40))
C42: Employee Name | D42: =D$7 -> Fri | E42: =E$7 -> Sat | F42: =F$7 -> Sun | G42: =G$7 -> Mon | H42: =H$7 -> Tue | I42: =I$7 -> Wed | J42: =J$7 -> Thu | K42: =K$7 -> Fri | ... AH42: =AH$7 -> Sun
D43: 1 | E43: 2 | F43: 3 | G43: 4 | H43: 5 | I43: 6 | J43: 7 | K43: 8 | L43: 9 | M43: 10 | N43: 11 | O43: 12 | P43: 13 | Q43: 14 | R43: 15 | S43: 16 | T43: 17 | U43: 18 | V43: 19 | W43: 20 | X43: 21 | Y43: 22 | Z43: 23 | AA43: 24 | AB43: 25 | AC43: 26 | AD43: 27 | AE43: 28 | AF43: 29 | AG43: 30 | AH43: 31 | AI43: Total
C44: Standard Hours
C45: Overtime Hours
C46: Overtime Salary(Hourly)
C47: Total Hours
C49: Employee Name | D49: =D$7 -> Fri | E49: =E$7 -> Sat | F49: =F$7 -> Sun | G49: =G$7 -> Mon | H49: =H$7 -> Tue | I49: =I$7 -> Wed | J49: =J$7 -> Thu | K49: =K$7 -> Fri | ... AH49: =AH$7 -> Sun
D50: 1 | E50: 2 | F50: 3 | G50: 4 | H50: 5 | I50: 6 | J50: 7 | K50: 8 | L50: 9 | M50: 10 | N50: 11 | O50: 12 | P50: 13 | Q50: 14 | R50: 15 | S50: 16 | T50: 17 | U50: 18 | V50: 19 | W50: 20 | X50: 21 | Y50: 22 | Z50: 23 | AA50: 24 | AB50: 25 | AC50: 26 | AD50: 27 | AE50: 28 | AF50: 29 | AG50: 30 | AH50: 31 | AI50: Total
C51: Standard Hours
C52: Overtime Hours
C53: Overtime Salary(Hourly)
C54: Total Hours
C56: Employee Name | D56: =D$7 -> Fri | E56: =E$7 -> Sat | F56: =F$7 -> Sun | G56: =G$7 -> Mon | H56: =H$7 -> Tue | I56: =I$7 -> Wed | J56: =J$7 -> Thu | K56: =K$7 -> Fri | ... AH56: =AH$7 -> Sun
D57: 1 | E57: 2 | F57: 3 | G57: 4 | H57: 5 | I57: 6 | J57: 7 | K57: 8 | L57: 9 | M57: 10 | N57: 11 | O57: 12 | P57: 13 | Q57: 14 | R57: 15 | S57: 16 | T57: 17 | U57: 18 | V57: 19 | W57: 20 | X57: 21 | Y57: 22 | Z57: 23 | AA57: 24 | AB57: 25 | AC57: 26 | AD57: 27 | AE57: 28 | AF57: 29 | AG57: 30 | AH57: 31 | AI57: Total
C58: Standard Hours
C59: Overtime Hours
C60: Overtime Salary(Hourly)
C61: Total Hours
C63: Employee Name | D63: =D$7 -> Fri | E63: =E$7 -> Sat | F63: =F$7 -> Sun | G63: =G$7 -> Mon | H63: =H$7 -> Tue | I63: =I$7 -> Wed | J63: =J$7 -> Thu | K63: =K$7 -> Fri | ... AH63: =AH$7 -> Sun
D64: 1 | E64: 2 | F64: 3 | G64: 4 | H64: 5 | I64: 6 | J64: 7 | K64: 8 | L64: 9 | M64: 10 | N64: 11 | O64: 12 | P64: 13 | Q64: 14 | R64: 15 | S64: 16 | T64: 17 | U64: 18 | V64: 19 | W64: 20 | X64: 21 | Y64: 22 | Z64: 23 | AA64: 24 | AB64: 25 | AC64: 26 | AD64: 27 | AE64: 28 | AF64: 29 | AG64: 30 | AH64: 31 | AI64: Total
C65: Standard Hours
C66: Overtime Hours
C67: Overtime Salary(Hourly)
C68: Total Hours
C70: Employee Name | D70: =D$7 -> Fri | E70: =E$7 -> Sat | F70: =F$7 -> Sun | G70: =G$7 -> Mon | H70: =H$7 -> Tue | I70: =I$7 -> Wed | J70: =J$7 -> Thu | K70: =K$7 -> Fri | ... AH70: =AH$7 -> Sun
D71: 1 | E71: 2 | F71: 3 | G71: 4 | H71: 5 | I71: 6 | J71: 7 | K71: 8 | L71: 9 | M71: 10 | N71: 11 | O71: 12 | P71: 13 | Q71: 14 | R71: 15 | S71: 16 | T71: 17 | U71: 18 | V71: 19 | W71: 20 | X71: 21 | Y71: 22 | Z71: 23 | AA71: 24 | AB71: 25 | AC71: 26 | AD71: 27 | AE71: 28 | AF71: 29 | AG71: 30 | AH71: 31 | AI71: Total
C72: Standard Hours
C73: Overtime Hours
C74: Overtime Salary(Hourly)
C75: Total Hours
C77: Employee Name | D77: =D$7 -> Fri | E77: =E$7 -> Sat | F77: =F$7 -> Sun | G77: =G$7 -> Mon | H77: =H$7 -> Tue | I77: =I$7 -> Wed | J77: =J$7 -> Thu | K77: =K$7 -> Fri | ... AH77: =AH$7 -> Sun
D78: 1 | E78: 2 | F78: 3 | G78: 4 | H78: 5 | I78: 6 | J78: 7 | K78: 8 | L78: 9 | M78: 10 | N78: 11 | O78: 12 | P78: 13 | Q78: 14 | R78: 15 | S78: 16 | T78: 17 | U78: 18 | V78: 19 | W78: 20 | X78: 21 | Y78: 22 | Z78: 23 | AA78: 24 | AB78: 25 | AC78: 26 | AD78: 27 | AE78: 28 | AF78: 29 | AG78: 30 | AH78: 31 | AI78: Total
C79: Standard Hours
C80: Overtime Hours
C81: Overtime Salary(Hourly)
C82: Total Hours
C84: Employee Name | D84: =D$7 -> Fri | E84: =E$7 -> Sat | F84: =F$7 -> Sun | G84: =G$7 -> Mon | H84: =H$7 -> Tue | I84: =I$7 -> Wed | J84: =J$7 -> Thu | K84: =K$7 -> Fri | ... AH84: =AH$7 -> Sun
D85: 1 | E85: 2 | F85: 3 | G85: 4 | H85: 5 | I85: 6 | J85: 7 | K85: 8 | L85: 9 | M85: 10 | N85: 11 | O85: 12 | P85: 13 | Q85: 14 | R85: 15 | S85: 16 | T85: 17 | U85: 18 | V85: 19 | W85: 20 | X85: 21 | Y85: 22 | Z85: 23 | AA85: 24 | AB85: 25 | AC85: 26 | AD85: 27 | AE85: 28 | AF85: 29 | AG85: 30 | AH85: 31 | AI85: Total
C86: Standard Hours
C87: Overtime Hours
C88: Overtime Salary(Hourly)
C89: Total Hours
C91: Employee Name | D91: =D$7 -> Fri | E91: =E$7 -> Sat | F91: =F$7 -> Sun | G91: =G$7 -> Mon | H91: =H$7 -> Tue | I91: =I$7 -> Wed | J91: =J$7 -> Thu | K91: =K$7 -> Fri | ... AH91: =AH$7 -> Sun
D92: 1 | E92: 2 | F92: 3 | G92: 4 | H92: 5 | I92: 6 | J92: 7 | K92: 8 | L92: 9 | M92: 10 | N92: 11 | O92: 12 | P92: 13 | Q92: 14 | R92: 15 | S92: 16 | T92: 17 | U92: 18 | V92: 19 | W92: 20 | X92: 21 | Y92: 22 | Z92: 23 | AA92: 24 | AB92: 25 | AC92: 26 | AD92: 27 | AE92: 28 | AF92: 29 | AG92: 30 | AH92: 31 | AI92: Total
C93: Standard Hours
C94: Overtime Hours
C95: Overtime Salary(Hourly)
C96: Total Hours
C98: Employee Name | D98: =D$7 -> Fri | E98: =E$7 -> Sat | F98: =F$7 -> Sun | G98: =G$7 -> Mon | H98: =H$7 -> Tue | I98: =I$7 -> Wed | J98: =J$7 -> Thu | K98: =K$7 -> Fri | ... AH98: =AH$7 -> Sun
D99: 1 | E99: 2 | F99: 3 | G99: 4 | H99: 5 | I99: 6 | J99: 7 | K99: 8 | L99: 9 | M99: 10 | N99: 11 | O99: 12 | P99: 13 | Q99: 14 | R99: 15 | S99: 16 | T99: 17 | U99: 18 | V99: 19 | W99: 20 | X99: 21 | Y99: 22 | Z99: 23 | AA99: 24 | AB99: 25 | AC99: 26 | AD99: 27 | AE99: 28 | AF99: 29 | AG99: 30 | AH99: 31 | AI99: Total
C100: Standard Hours
C101: Overtime Hours
C102: Overtime Salary(Hourly)
C103: Total Hours
C105: Employee Name | D105: =D$7 -> Fri | E105: =E$7 -> Sat | F105: =F$7 -> Sun | G105: =G$7 -> Mon | H105: =H$7 -> Tue | I105: =I$7 -> Wed | J105: =J$7 -> Thu | K105: =K$7 -> Fri | ... AH105: =AH$7 -> Sun
D106: 1 | E106: 2 | F106: 3 | G106: 4 | H106: 5 | I106: 6 | J106: 7 | K106: 8 | L106: 9 | M106: 10 | N106: 11 | O106: 12 | P106: 13 | Q106: 14 | R106: 15 | S106: 16 | T106: 17 | U106: 18 | V106: 19 | W106: 20 | X106: 21 | Y106: 22 | Z106: 23 | AA106: 24 | AB106: 25 | AC106: 26 | AD106: 27 | AE106: 28 | AF106: 29 | AG106: 30 | AH106: 31 | AI106: Total
C107: Standard Hours
C108: Overtime Hours
C109: Overtime Salary(Hourly)
C110: Total Hours
C112: Employee Name | D112: =D$7 -> Fri | E112: =E$7 -> Sat | F112: =F$7 -> Sun | G112: =G$7 -> Mon | H112: =H$7 -> Tue | I112: =I$7 -> Wed | J112: =J$7 -> Thu | K112: =K$7 -> Fri | ... AH112: =AH$7 -> Sun
D113: 1 | E113: 2 | F113: 3 | G113: 4 | H113: 5 | I113: 6 | J113: 7 | K113: 8 | L113: 9 | M113: 10 | N113: 11 | O113: 12 | P113: 13 | Q113: 14 | R113: 15 | S113: 16 | T113: 17 | U113: 18 | V113: 19 | W113: 20 | X113: 21 | Y113: 22 | Z113: 23 | AA113: 24 | AB113: 25 | AC113: 26 | AD113: 27 | AE113: 28 | AF113: 29 | AG113: 30 | AH113: 31 | AI113: Total
C114: Standard Hours
C115: Overtime Hours
C116: Overtime Salary(Hourly)
C117: Total Hours
C119: Employee Name | D119: =D$7 -> Fri | E119: =E$7 -> Sat | F119: =F$7 -> Sun | G119: =G$7 -> Mon | H119: =H$7 -> Tue | I119: =I$7 -> Wed | J119: =J$7 -> Thu | K119: =K$7 -> Fri | ... AH119: =AH$7 -> Sun
D120: 1 | E120: 2 | F120: 3 | G120: 4 | H120: 5 | I120: 6 | J120: 7 | K120: 8 | L120: 9 | M120: 10 | N120: 11 | O120: 12 | P120: 13 | Q120: 14 | R120: 15 | S120: 16 | T120: 17 | U120: 18 | V120: 19 | W120: 20 | X120: 21 | Y120: 22 | Z120: 23 | AA120: 24 | AB120: 25 | AC120: 26 | AD120: 27 | AE120: 28 | AF120: 29 | AG120: 30 | AH120: 31 | AI120: Total
...

Sheet Calendar
C2: MONTHLY EMPLOYEE TIMESHEET
C3: CALENDAR VIEW
C7: Month: | E7: January | Q7: =Month -> January | S7: =IFERROR(SUM($T15,$T20,$T25,$T30,$T35,T40),"") -> 46310
C8: Employee: | E8: All | Q8: Total PAY
E10: Sunday | G10: Monday | I10: Tuesday | K10: Wednesday | M10: Thursday | O10: Friday | Q10: Saturday | S10: Weekly Total
E12: =IFERROR(IF(WEEKDAY(DATE(Year,MATCH($E$7,Cal!$B$4:$B$15,0),1),1)=1,1,""),"") -> 1 | G12: =IFERROR(IF(WEEKDAY(DATE(Year,MATCH($E$7,Cal!$B$4:$B$15,0),1),1)=2,1,IFERROR(IF(E12>0,E12+1,""),"")),"") -> 2 | I12: =IFERROR(IF(WEEKDAY(DATE(Year,MATCH($E$7,Cal!$B$4:$B$15,0),1),1)=3,1,IFERROR(IF(G12>0,G12+1,""),"")),"") -> 3 | K12: =IFERROR(IF(WEEKDAY(DATE(Year,MATCH($E$7,Cal!$B$4:$B$15,0),1),1)=4,1,IFERROR(IF(I12>0,I12+1,""),"")),"") -> 4 | M12: =IFERROR(IF(WEEKDAY(DATE(Year,MATCH($E$7,Cal!$B$4:$B$15,0),1),1)=5,1,IFERROR(IF(K12>0,K12+1,""),"")),"") -> 5 | O12: =IFERROR(IF(WEEKDAY(DATE(Year,MATCH($E$7,Cal!$B$4:$B$15,0),1),1)=6,1,IFERROR(IF(M12>0,M12+1,""),"")),"") -> 6 | Q12: =IFERROR(IF(WEEKDAY(DATE(Year,MATCH($E$7,Cal!$B$4:$B$15,0),1),1)=7,1,IFERROR(IF(O12>0,O12+1,""),"")),"") -> 7 | S12: Week - 1
C13: Standard Hours | E13: =IF(LEN(E12)=0,"",INDEX(Cal!$J$18:$AN$18,E12)) -> 0 | G13: =IF(LEN(G12)=0,"",INDEX(Cal!$J$18:$AN$18,G12)) -> 32 | I13: =IF(LEN(I12)=0,"",INDEX(Cal!$J$18:$AN$18,I12)) -> 32 | K13: =IF(LEN(K12)=0,"",INDEX(Cal!$J$18:$AN$18,K12)) -> 32 | M13: =IF(LEN(M12)=0,"",INDEX(Cal!$J$18:$AN$18,M12)) -> 32 | O13: =IF(LEN(O12)=0,"",INDEX(Cal!$J$18:$AN$18,O12)) -> 32 | Q13: =IF(LEN(Q12)=0,"",INDEX(Cal!$J$18:$AN$18,Q12)) -> 0 | S13: {=IFERROR(SUM(IF(LEN(E12:Q12)>0,E13:Q13,0)),"")} -> 160 | T13: {=IFERROR(SUM(IF(Cal!$AQ$17:$BU$17<=MAX(E12:Q12,1),Cal!$AQ$18:$BU$18,0)),"")} -> 10400
C14: Overtime Hours | E14: =IF(LEN(E12)=0,"",INDEX(Cal!$J$35:$AN$35,E12)) -> 0 | G14: =IF(LEN(G12)=0,"",INDEX(Cal!$J$35:$AN$35,G12)) -> 0 | I14: =IF(LEN(I12)=0,"",INDEX(Cal!$J$35:$AN$35,I12)) -> 0 | K14: =IF(LEN(K12)=0,"",INDEX(Cal!$J$35:$AN$35,K12)) -> 0 | M14: =IF(LEN(M12)=0,"",INDEX(Cal!$J$35:$AN$35,M12)) -> 0 | O14: =IF(LEN(O12)=0,"",INDEX(Cal!$J$35:$AN$35,O12)) -> 0 | Q14: =IF(LEN(Q12)=0,"",INDEX(Cal!$J$35:$AN$35,Q12)) -> 0 | S14: {=IFERROR(SUM(IF(LEN(E12:Q12)>0,E14:Q14,0)),"")} -> 0 | T14: {=IFERROR(SUM(IF(Cal!$AQ$34:$BU$34<=MAX(E12:Q12,1),Cal!$AQ$35:$BU$35,0)),"")} -> 0
C15: Total Hours | E15: =IF(LEN(E12)>0,SUM(E13:E14),"") -> 0 | G15: =IF(LEN(G12)>0,SUM(G13:G14),"") -> 32 | I15: =IF(LEN(I12)>0,SUM(I13:I14),"") -> 32 | K15: =IF(LEN(K12)>0,SUM(K13:K14),"") -> 32 | M15: =IF(LEN(M12)>0,SUM(M13:M14),"") -> 32 | O15: =IF(LEN(O12)>0,SUM(O13:O14),"") -> 32 | Q15: =IF(LEN(Q12)>0,SUM(Q13:Q14),"") -> 0 | S15: =SUM($S13:$S14) -> 160 | T15: =SUM($T13:$T14) -> 10400
E17: =IFERROR(Q12+1,"") -> 8 | G17: =IFERROR(E17+1,"") -> 9 | I17: =IFERROR(G17+1,"") -> 10 | K17: =IFERROR(I17+1,"") -> 11 | M17: =IFERROR(K17+1,"") -> 12 | O17: =IFERROR(M17+1,"") -> 13 | Q17: =IFERROR(O17+1,"") -> 14 | S17: Week - 2
C18: Standard Hours | E18: =IF(LEN(E17)=0,"",INDEX(Cal!$J$18:$AN$18,E17)) -> 0 | G18: =IF(LEN(G17)=0,"",INDEX(Cal!$J$18:$AN$18,G17)) -> 32 | I18: =IF(LEN(I17)=0,"",INDEX(Cal!$J$18:$AN$18,I17)) -> 32 | K18: =IF(LEN(K17)=0,"",INDEX(Cal!$J$18:$AN$18,K17)) -> 32 | M18: =IF(LEN(M17)=0,"",INDEX(Cal!$J$18:$AN$18,M17)) -> 32 | O18: =IF(LEN(O17)=0,"",INDEX(Cal!$J$18:$AN$18,O17)) -> 32 | Q18: =IF(LEN(Q17)=0,"",INDEX(Cal!$J$18:$AN$18,Q17)) -> 0 | S18: =IFERROR(SUM(E18:Q18),"") -> 160 | T18: =IFERROR(SUMIFS(Cal!$AQ$18:$BU$18,Cal!$AQ$17:$BU$17,">"&MAX(E12:Q12,1),Cal!$AQ$17:$BU$17,"<="&MAX(E17:Q17,1)),"") -> 10400
C19: Overtime Hours | E19: =IF(LEN(E17)=0,"",INDEX(Cal!$J$35:$AN$35,E17)) -> 0 | G19: =IF(LEN(G17)=0,"",INDEX(Cal!$J$35:$AN$35,G17)) -> 0 | I19: =IF(LEN(I17)=0,"",INDEX(Cal!$J$35:$AN$35,I17)) -> 0 | K19: =IF(LEN(K17)=0,"",INDEX(Cal!$J$35:$AN$35,K17)) -> 0 | M19: =IF(LEN(M17)=0,"",INDEX(Cal!$J$35:$AN$35,M17)) -> 0 | O19: =IF(LEN(O17)=0,"",INDEX(Cal!$J$35:$AN$35,O17)) -> 0 | Q19: =IF(LEN(Q17)=0,"",INDEX(Cal!$J$35:$AN$35,Q17)) -> 8 | S19: =IFERROR(SUM(E19:Q19),"") -> 8 | T19: =IFERROR(SUMIFS(Cal!$AQ$35:$BU$35,Cal!$AQ$34:$BU$34,">"&MAX(E12:Q12,1),Cal!$AQ$34:$BU$34,"<="&MAX(E17:Q17,1)),"") -> 340
C20: Total Hours | E20: =IF(LEN(E17)>0,SUM(E18:E19),"") -> 0 | G20: =IF(LEN(G17)>0,SUM(G18:G19),"") -> 32 | I20: =IF(LEN(I17)>0,SUM(I18:I19),"") -> 32 | K20: =IF(LEN(K17)>0,SUM(K18:K19),"") -> 32 | M20: =IF(LEN(M17)>0,SUM(M18:M19),"") -> 32 | O20: =IF(LEN(O17)>0,SUM(O18:O19),"") -> 32 | Q20: =IF(LEN(Q17)>0,SUM(Q18:Q19),"") -> 8 | S20: =SUM($S18:$S19) -> 168 | T20: =SUM($T18:$T19) -> 10740
E22: =IFERROR(Q17+1,"") -> 15 | G22: =IFERROR(E22+1,"") -> 16 | I22: =IFERROR(G22+1,"") -> 17 | K22: =IFERROR(I22+1,"") -> 18 | M22: =IFERROR(K22+1,"") -> 19 | O22: =IFERROR(M22+1,"") -> 20 | Q22: =IFERROR(O22+1,"") -> 21 | S22: Week - 3
C23: Standard Hours | E23: =IF(LEN(E22)=0,"",INDEX(Cal!$J$18:$AN$18,E22)) -> 0 | G23: =IF(LEN(G22)=0,"",INDEX(Cal!$J$18:$AN$18,G22)) -> 32 | I23: =IF(LEN(I22)=0,"",INDEX(Cal!$J$18:$AN$18,I22)) -> 32 | K23: =IF(LEN(K22)=0,"",INDEX(Cal!$J$18:$AN$18,K22)) -> 32 | M23: =IF(LEN(M22)=0,"",INDEX(Cal!$J$18:$AN$18,M22)) -> 32 | O23: =IF(LEN(O22)=0,"",INDEX(Cal!$J$18:$AN$18,O22)) -> 32 | Q23: =IF(LEN(Q22)=0,"",INDEX(Cal!$J$18:$AN$18,Q22)) -> 0 | S23: =IFERROR(SUM(E23:Q23),"") -> 160 | T23: =IFERROR(SUMIFS(Cal!$AQ$18:$BU$18,Cal!$AQ$17:$BU$17,">"&MAX(E17:Q17,1),Cal!$AQ$17:$BU$17,"<="&MAX(E22:Q22,1)),"") -> 10400
C24: Overtime Hours | E24: =IF(LEN(E22)=0,"",INDEX(Cal!$J$35:$AN$35,E22)) -> 8 | G24: =IF(LEN(G22)=0,"",INDEX(Cal!$J$35:$AN$35,G22)) -> 0 | I24: =IF(LEN(I22)=0,"",INDEX(Cal!$J$35:$AN$35,I22)) -> 0 | K24: =IF(LEN(K22)=0,"",INDEX(Cal!$J$35:$AN$35,K22)) -> 0 | M24: =IF(LEN(M22)=0,"",INDEX(Cal!$J$35:$AN$35,M22)) -> 0 | O24: =IF(LEN(O22)=0,"",INDEX(Cal!$J$35:$AN$35,O22)) -> 0 | Q24: =IF(LEN(Q22)=0,"",INDEX(Cal!$J$35:$AN$35,Q22)) -> 0 | S24: =IFERROR(SUM(E24:Q24),"") -> 8 | T24: =IFERROR(SUMIFS(Cal!$AQ$35:$BU$35,Cal!$AQ$34:$BU$34,">"&MAX(E17:Q17,1),Cal!$AQ$34:$BU$34,"<="&MAX(E22:Q22,1)),"") -> 340
C25: Total Hours | E25: =IF(LEN(E22)>0,SUM(E23:E24),"") -> 8 | G25: =IF(LEN(G22)>0,SUM(G23:G24),"") -> 32 | I25: =IF(LEN(I22)>0,SUM(I23:I24),"") -> 32 | K25: =IF(LEN(K22)>0,SUM(K23:K24),"") -> 32 | M25: =IF(LEN(M22)>0,SUM(M23:M24),"") -> 32 | O25: =IF(LEN(O22)>0,SUM(O23:O24),"") -> 32 | Q25: =IF(LEN(Q22)>0,SUM(Q23:Q24),"") -> 0 | S25: =SUM($S23:$S24) -> 168 | T25: =SUM($T23:$T24) -> 10740
E27: =IFERROR(Q22+1,"") -> 22 | G27: =IFERROR(E27+1,"") -> 23 | I27: =IFERROR(G27+1,"") -> 24 | K27: =IFERROR(I27+1,"") -> 25 | M27: =IFERROR(K27+1,"") -> 26 | O27: =IFERROR(M27+1,"") -> 27 | Q27: =IFERROR(O27+1,"") -> 28 | S27: Week - 4
C28: Standard Hours | E28: =IF(LEN(E27)=0,"",INDEX(Cal!$J$18:$AN$18,E27)) -> 0 | G28: =IF(LEN(G27)=0,"",INDEX(Cal!$J$18:$AN$18,G27)) -> 32 | I28: =IF(LEN(I27)=0,"",INDEX(Cal!$J$18:$AN$18,I27)) -> 32 | K28: =IF(LEN(K27)=0,"",INDEX(Cal!$J$18:$AN$18,K27)) -> 30 | M28: =IF(LEN(M27)=0,"",INDEX(Cal!$J$18:$AN$18,M27)) -> 32 | O28: =IF(LEN(O27)=0,"",INDEX(Cal!$J$18:$AN$18,O27)) -> 32 | Q28: =IF(LEN(Q27)=0,"",INDEX(Cal!$J$18:$AN$18,Q27)) -> 0 | S28: =IFERROR(SUM(E28:Q28),"") -> 158 | T28: =IFERROR(SUMIFS(Cal!$AQ$18:$BU$18,Cal!$AQ$17:$BU$17,">"&MAX(E22:Q22,1),Cal!$AQ$17:$BU$17,"<="&MAX(E27:Q27,1)),"") -> 10270
C29: Overtime Hours | E29: =IF(LEN(E27)=0,"",INDEX(Cal!$J$35:$AN$35,E27)) -> 0 | G29: =IF(LEN(G27)=0,"",INDEX(Cal!$J$35:$AN$35,G27)) -> 0 | I29: =IF(LEN(I27)=0,"",INDEX(Cal!$J$35:$AN$35,I27)) -> 0 | K29: =IF(LEN(K27)=0,"",INDEX(Cal!$J$35:$AN$35,K27)) -> 0 | M29: =IF(LEN(M27)=0,"",INDEX(Cal!$J$35:$AN$35,M27)) -> 0 | O29: =IF(LEN(O27)=0,"",INDEX(Cal!$J$35:$AN$35,O27)) -> 0 | Q29: =IF(LEN(Q27)=0,"",INDEX(Cal!$J$35:$AN$35,Q27)) -> 0 | S29: =IFERROR(SUM(E29:Q29),"") -> 0 | T29: =IFERROR(SUMIFS(Cal!$AQ$35:$BU$35,Cal!$AQ$34:$BU$34,">"&MAX(E22:Q22,1),Cal!$AQ$34:$BU$34,"<="&MAX(E27:Q27,1)),"") -> 0
C30: Total Hours | E30: =IF(LEN(E27)>0,SUM(E28:E29),"") -> 0 | G30: =IF(LEN(G27)>0,SUM(G28:G29),"") -> 32 | I30: =IF(LEN(I27)>0,SUM(I28:I29),"") -> 32 | K30: =IF(LEN(K27)>0,SUM(K28:K29),"") -> 30 | M30: =IF(LEN(M27)>0,SUM(M28:M29),"") -> 32 | O30: =IF(LEN(O27)>0,SUM(O28:O29),"") -> 32 | Q30: =IF(LEN(Q27)>0,SUM(Q28:Q29),"") -> 0 | S30: =SUM($S28:$S29) -> 158 | T30: =SUM($T28:$T29) -> 10270
E32: =IFERROR(IF(Q27+1>INDEX(Cal!$B$3:$E$15,MATCH($Q$7,Cal!$B$3:$B$15,0),MATCH("Month length",Cal!$B$3:$F$3,0)),"",Q27+1),"") -> 29 | G32: =IFERROR(IF(E32+1>INDEX(Cal!$B$3:$E$15,MATCH($Q$7,Cal!$B$3:$B$15,0),MATCH("Month length",Cal!$B$3:$F$3,0)),"",E32+1),"") -> 30 | I32: =IFERROR(IF(G32+1>INDEX(Cal!$B$3:$E$15,MATCH($Q$7,Cal!$B$3:$B$15,0),MATCH("Month length",Cal!$B$3:$F$3,0)),"",G32+1),"") -> 31 | K32: =IFERROR(IF(I32+1>INDEX(Cal!$B$3:$E$15,MATCH($Q$7,Cal!$B$3:$B$15,0),MATCH("Month length",Cal!$B$3:$F$3,0)),"",I32+1),"") | M32: =IFERROR(IF(K32+1>INDEX(Cal!$B$3:$E$15,MATCH($Q$7,Cal!$B$3:$B$15,0),MATCH("Month length",Cal!$B$3:$F$3,0)),"",K32+1),"") | O32: =IFERROR(IF(M32+1>INDEX(Cal!$B$3:$E$15,MATCH($Q$7,Cal!$B$3:$B$15,0),MATCH("Month length",Cal!$B$3:$F$3,0)),"",M32+1),"") | Q32: =IFERROR(IF(O32+1>INDEX(Cal!$B$3:$E$15,MATCH($Q$7,Cal!$B$3:$B$15,0),MATCH("Month length",Cal!$B$3:$F$3,0)),"",O32+1),"") | S32: Week - 5
C33: Standard Hours | E33: =IF(LEN(E32)=0,"",INDEX(Cal!$J$18:$AN$18,E32)) -> 0 | G33: =IF(LEN(G32)=0,"",INDEX(Cal!$J$18:$AN$18,G32)) -> 32 | I33: =IF(LEN(I32)=0,"",INDEX(Cal!$J$18:$AN$18,I32)) -> 32 | K33: =IF(LEN(K32)=0,"",INDEX(Cal!$J$18:$AN$18,K32)) | M33: =IF(LEN(M32)=0,"",INDEX(Cal!$J$18:$AN$18,M32)) | O33: =IF(LEN(O32)=0,"",INDEX(Cal!$J$18:$AN$18,O32)) | Q33: =IF(LEN(Q32)=0,"",INDEX(Cal!$J$18:$AN$18,Q32)) | S33: =IFERROR(SUM(E33:Q33),"") -> 64 | T33: =IFERROR(SUMIFS(Cal!$AQ$18:$BU$18,Cal!$AQ$17:$BU$17,">"&MAX(E27:Q27,1),Cal!$AQ$17:$BU$17,"<="&MAX(E32:Q32,1)),"") -> 4160
C34: Overtime Hours | E34: =IF(LEN(E32)=0,"",INDEX(Cal!$J$35:$AN$35,E32)) -> 0 | G34: =IF(LEN(G32)=0,"",INDEX(Cal!$J$35:$AN$35,G32)) -> 0 | I34: =IF(LEN(I32)=0,"",INDEX(Cal!$J$35:$AN$35,I32)) -> 0 | K34: =IF(LEN(K32)=0,"",INDEX(Cal!$J$35:$AN$35,K32)) | M34: =IF(LEN(M32)=0,"",INDEX(Cal!$J$35:$AN$35,M32)) | O34: =IF(LEN(O32)=0,"",INDEX(Cal!$J$35:$AN$35,O32)) | Q34: =IF(LEN(Q32)=0,"",INDEX(Cal!$J$35:$AN$35,Q32)) | S34: =IFERROR(SUM(E34:Q34),"") -> 0 | T34: =IFERROR(SUMIFS(Cal!$AQ$35:$BU$35,Cal!$AQ$34:$BU$34,">"&MAX(E27:Q27,1),Cal!$AQ$34:$BU$34,"<="&MAX(E32:Q32,1)),"") -> 0
C35: Total Hours | E35: =IF(LEN(E32)>0,SUM(E33:E34),"") -> 0 | G35: =IF(LEN(G32)>0,SUM(G33:G34),"") -> 32 | I35: =IF(LEN(I32)>0,SUM(I33:I34),"") -> 32 | K35: =IF(LEN(K32)>0,SUM(K33:K34),"") | M35: =IF(LEN(M32)>0,SUM(M33:M34),"") | O35: =IF(LEN(O32)>0,SUM(O33:O34),"") | Q35: =IF(LEN(Q32)>0,SUM(Q33:Q34),"") | S35: =SUM($S33:$S34) -> 64 | T35: =SUM($T33:$T34) -> 4160
E37: =IFERROR(IF(Q32+1>INDEX(Cal!$B$3:$E$15,MATCH($Q$7,Cal!$B$3:$B$15,0),MATCH("Month length",Cal!$B$3:$F$3,0)),"",Q32+1),"") | G37: =IFERROR(IF(E37+1>INDEX(Cal!$B$3:$E$15,MATCH($Q$7,Cal!$B$3:$B$15,0),MATCH("Month length",Cal!$B$3:$F$3,0)),"",E37+1),"") | I37: =IFERROR(IF(G37+1>INDEX(Cal!$B$3:$E$15,MATCH($Q$7,Cal!$B$3:$B$15,0),MATCH("Month length",Cal!$B$3:$F$3,0)),"",G37+1),"") | K37: =IFERROR(IF(I37+1>INDEX(Cal!$B$3:$E$15,MATCH($Q$7,Cal!$B$3:$B$15,0),MATCH("Month length",Cal!$B$3:$F$3,0)),"",I37+1),"") | M37: =IFERROR(IF(K37+1>INDEX(Cal!$B$3:$E$15,MATCH($Q$7,Cal!$B$3:$B$15,0),MATCH("Month length",Cal!$B$3:$F$3,0)),"",K37+1),"") | O37: =IFERROR(IF(M37+1>INDEX(Cal!$B$3:$E$15,MATCH($Q$7,Cal!$B$3:$B$15,0),MATCH("Month length",Cal!$B$3:$F$3,0)),"",M37+1),"") | Q37: =IFERROR(IF(O37+1>INDEX(Cal!$B$3:$E$15,MATCH($Q$7,Cal!$B$3:$B$15,0),MATCH("Month length",Cal!$B$3:$F$3,0)),"",O37+1),"") | S37: Week - 6
C38: Standard Hours | E38: =IF(LEN(E37)=0,"",INDEX(Cal!$J$18:$AN$18,E37)) | G38: =IF(LEN(G37)=0,"",INDEX(Cal!$J$18:$AN$18,G37)) | I38: =IF(LEN(I37)=0,"",INDEX(Cal!$J$18:$AN$18,I37)) | K38: =IF(LEN(K37)=0,"",INDEX(Cal!$J$18:$AN$18,K37)) | M38: =IF(LEN(M37)=0,"",INDEX(Cal!$J$18:$AN$18,M37)) | O38: =IF(LEN(O37)=0,"",INDEX(Cal!$J$18:$AN$18,O37)) | Q38: =IF(LEN(Q37)=0,"",INDEX(Cal!$J$18:$AN$18,Q37)) | S38: {=SUM(IF(LEN(E37:Q37)>0,E38:Q38,0))} -> 0 | T38: =SUMIFS(Cal!$AQ$18:$BU$18,Cal!$AQ$17:$BU$17,">"&MAX(E32:Q32,1),Cal!$AQ$17:$BU$17,"<="&MAX(E37:Q37,1)) -> 0
C39: Overtime Hours | E39: =IF(LEN(E37)=0,"",INDEX(Cal!$J$35:$AN$35,E37)) | G39: =IF(LEN(G37)=0,"",INDEX(Cal!$J$35:$AN$35,G37)) | I39: =IF(LEN(I37)=0,"",INDEX(Cal!$J$35:$AN$35,I37)) | K39: =IF(LEN(K37)=0,"",INDEX(Cal!$J$35:$AN$35,K37)) | M39: =IF(LEN(M37)=0,"",INDEX(Cal!$J$35:$AN$35,M37)) | O39: =IF(LEN(O37)=0,"",INDEX(Cal!$J$35:$AN$35,O37)) | Q39: =IF(LEN(Q37)=0,"",INDEX(Cal!$J$35:$AN$35,Q37)) | S39: {=SUM(IF(LEN(E37:Q37)>0,E39:Q39,0))} -> 0 | T39: =SUMIFS(Cal!$AQ$21:$BU$21,Cal!$AQ$3:$BU$3,">"&MAX(E32:Q32,1),Cal!$AQ$3:$BU$3,"<="&MAX(E37:Q37,1)) -> 0
C40: Total Hours | E40: =IF(LEN(E37)>0,SUM(E38:E39),"") | G40: =IF(LEN(G37)>0,SUM(G38:G39),"") | I40: =IF(LEN(I37)>0,SUM(I38:I39),"") | K40: =IF(LEN(K37)>0,SUM(K38:K39),"") | M40: =IF(LEN(M37)>0,SUM(M38:M39),"") | O40: =IF(LEN(O37)>0,SUM(O38:O39),"") | Q40: =IF(LEN(Q37)>0,SUM(Q38:Q39),"") | S40: =SUM($S38:$S39) -> 0 | T40: =SUM($T38:$T39) -> 0

Sheet Dashboard
C2: MONTHLY EMPLOYEE TIMESHEET
C3: DASHBOARD
C7: Show by: | D7: Standard Working Hours
C9: Name | E9: Department | G9: Position | I9: Month
C10: All | E10: All | G10: All | I10: All

Sheet Cal
J2: Standard Hour Calculation | AQ2: Standard Payment Calculation | CB2: =MAX(COUNT(CB6:CB15)*7,7) -> 28 | CC2: =MAX(COUNT(CC6:CC15)*7,7) -> 28 | CD2: =MAX(COUNT(CD6:CD15)*7,7) -> 28 | CE2: =MAX(COUNT(CE6:CE15)*7,7) -> 28 | CF2: =MAX(COUNT(CF6:CF15)*7,7) -> 14 | CG2: =MAX(COUNT(CG6:CG15)*7,7) -> 7 | CH2: =MAX(COUNT(CH6:CH15)*7,7) -> 7 | CI2: =MAX(COUNT(CI6:CI15)*7,7) -> 7 | ... CM2: =MAX(COUNT(CM6:CM15)*7,7) -> 7 | CS2: Max | CV2: Max | DA2: Max | DD2: Max
B3: Month (name) | C3: Year | D3: Month (number) | E3: Month length | F3: Months nr | G3: Years | J3: 1 | K3: 2 | L3: 3 | M3: 4 | N3: 5 | O3: 6 | P3: 7 | Q3: 8 | R3: 9 | S3: 10 | T3: 11 | U3: 12 | V3: 13 | W3: 14 | X3: 15 | Y3: 16 | Z3: 17 | AA3: 18 | AB3: 19 | AC3: 20 | AD3: 21 | AE3: 22 | AF3: 23 | AG3: 24 | AH3: 25 | AI3: 26 | AJ3: 27 | AK3: 28 | AL3: 29 | AM3: 30 | AN3: 31 | AQ3: 1 | AR3: 2 | AS3: 3 | AT3: 4 | AU3: 5 | AV3: 6 | AW3: 7 | AX3: 8 | AY3: 9 | AZ3: 10 | BA3: 11 | BB3: 12 | BC3: 13 | BD3: 14 | BE3: 15 | BF3: 16 | BG3: 17 | BH3: 18 | BI3: 19 | BJ3: 20 | BK3: 21 | BL3: 22 | BM3: 23 | BN3: 24 | BO3: 25 | BP3: 26 | BQ3: 27 | BR3: 28 | BS3: 29 | BT3: 30 | BU3: 31 | BX3: =COUNTA(BX6:BX15)-COUNTBLANK(BX6:BX15) -> 8 | CB3: January | CC3: February | CD3: March | CE3: April | CF3: May | CG3: June | CH3: July | CI3: August | CJ3: September | CK3: October | CL3: November | CM3: December | CS3: {=MAX(IF(LEN(CS5:CS15)>0,$BW$5:$BW$15,""))+1} -> 9 | CV3: {=MAX(IF(LEN(CV6:CV15)>0,$BW$6:$BW$15,""),1)} -> 4 | DA3: {=MAX(IF(LEN(DA5:DA15)>0,$BW$5:$BW$15,""))+1} -> 5 | DD3: {=MAX(IF(LEN(DD5:DD15)>0,$BW$5:$BW$15,""))+1} -> 5
B4: January | C4: =Year -> 2023 | D4: 1 | E4: =DAY(EOMONTH(DATE(Year,D4,1),0)) -> 31 | F4: =WEEKNUM(DATE(Year,D4,E4),1)-WEEKNUM(DATE(Year,D4,1),1)+1 -> 5 | G4: =G5-1 -> 2021 | I4: January | J4: {=SUMPRODUCT((IF(OR(Calendar!$E$8="All",Calendar!$E$8=""),LEN(Jan!$C$8:$C$40)>0,Jan!$C$8:$C$40=Calendar!$E$8))*1,(Jan!$C$9:$C$41="Standard Hours")*1,Jan!D$9:D$41)} -> 0 | K4: {=SUMPRODUCT((IF(OR(Calendar!$E$8="All",Calendar!$E$8=""),LEN(Jan!$C$8:$C$40)>0,Jan!$C$8:$C$40=Calendar!$E$8))*1,(Jan!$C$9:$C$41="Standard Hours")*1,Jan!E$9:E$41)} -> 32 | L4: {=SUMPRODUCT((IF(OR(Calendar!$E$8="All",Calendar!$E$8=""),LEN(Jan!$C$8:$C$40)>0,Jan!$C$8:$C$40=Calendar!$E$8))*1,(Jan!$C$9:$C$41="Standard Hours")*1,Jan!F$9:F$41)} -> 32 | M4: {=SUMPRODUCT((IF(OR(Calendar!$E$8="All",Calendar!$E$8=""),LEN(Jan!$C$8:$C$40)>0,Jan!$C$8:$C$40=Calendar!$E$8))*1,(Jan!$C$9:$C$41="Standard Hours")*1,Jan!G$9:G$41)} -> 32 | N4: {=SUMPRODUCT((IF(OR(Calendar!$E$8="All",Calendar!$E$8=""),LEN(Jan!$C$8:$C$40)>0,Jan!$C$8:$C$40=Calendar!$E$8))*1,(Jan!$C$9:$C$41="Standard Hours")*1,Jan!H$9:H$41)} -> 32 | O4: {=SUMPRODUCT((IF(OR(Calendar!$E$8="All",Calendar!$E$8=""),LEN(Jan!$C$8:$C$40)>0,Jan!$C$8:$C$40=Calendar!$E$8))*1,(Jan!$C$9:$C$41="Standard Hours")*1,Jan!I$9:I$41)} -> 32 | P4: {=SUMPRODUCT((IF(OR(Calendar!$E$8="All",Calendar!$E$8=""),LEN(Jan!$C$8:$C$40)>0,Jan!$C$8:$C$40=Calendar!$E$8))*1,(Jan!$C$9:$C$41="Standard Hours")*1,Jan!J$9:J$41)} -> 0 | Q4: {=SUMPRODUCT((IF(OR(Calendar!$E$8="All",Calendar!$E$8=""),LEN(Jan!$C$8:$C$40)>0,Jan!$C$8:$C$40=Calendar!$E$8))*1,(Jan!$C$9:$C$41="Standard Hours")*1,Jan!K$9:K$41)} -> 0 | ... AN4: {=SUMPRODUCT((IF(OR(Calendar!$E$8="All",Calendar!$E$8=""),LEN(Jan!$C$8:$C$40)>0,Jan!$C$8:$C$40=Calendar!$E$8))*1,(Jan!$C$9:$C$41="Standard Hours")*1,Jan!AH$9:AH$41)} -> 32 | AP4: January | AQ4: {=SUM(IFERROR(IF(OR(Calendar!$E$8="All",Calendar!$E$8=""),LEN(Jan!$C$8:$C$40)>0,Jan!$C$8:$C$40=Calendar!$E$8)*(Jan!$C$9:$C$41="Standard Hours")*Jan!D$9:D$41*INDEX(Employee!$G$7:$G$16,MATCH(Jan!$C$8:$C$40,Employee!$D$7:$D$16,0)),""))} -> 0 | AR4: {=SUM(IFERROR(IF(OR(Calendar!$E$8="All",Calendar!$E$8=""),LEN(Jan!$C$8:$C$40)>0,Jan!$C$8:$C$40=Calendar!$E$8)*(Jan!$C$9:$C$41="Standard Hours")*Jan!E$9:E$41*INDEX(Employee!$G$7:$G$16,MATCH(Jan!$C$8:$C$40,Employee!$D$7:$D$16,0)),""))} -> 2080 | AS4: {=SUM(IFERROR(IF(OR(Calendar!$E$8="All",Calendar!$E$8=""),LEN(Jan!$C$8:$C$40)>0,Jan!$C$8:$C$40=Calendar!$E$8)*(Jan!$C$9:$C$41="Standard Hours")*Jan!F$9:F$41*INDEX(Employee!$G$7:$G$16,MATCH(Jan!$C$8:$C$40,Employee!$D$7:$D$16,0)),""))} -> 2080 | AT4: {=SUM(IFERROR(IF(OR(Calendar!$E$8="All",Calendar!$E$8=""),LEN(Jan!$C$8:$C$40)>0,Jan!$C$8:$C$40=Calendar!$E$8)*(Jan!$C$9:$C$41="Standard Hours")*Jan!G$9:G$41*INDEX(Employee!$G$7:$G$16,MATCH(Jan!$C$8:$C$40,Employee!$D$7:$D$16,0)),""))} -> 2080 | AU4: {=SUM(IFERROR(IF(OR(Calendar!$E$8="All",Calendar!$E$8=""),LEN(Jan!$C$8:$C$40)>0,Jan!$C$8:$C$40=Calendar!$E$8)*(Jan!$C$9:$C$41="Standard Hours")*Jan!H$9:H$41*INDEX(Employee!$G$7:$G$16,MATCH(Jan!$C$8:$C$40,Employee!$D$7:$D$16,0)),""))} -> 2080 | AV4: {=SUM(IFERROR(IF(OR(Calendar!$E$8="All",Calendar!$E$8=""),LEN(Jan!$C$8:$C$40)>0,Jan!$C$8:$C$40=Calendar!$E$8)*(Jan!$C$9:$C$41="Standard Hours")*Jan!I$9:I$41*INDEX(Employee!$G$7:$G$16,MATCH(Jan!$C$8:$C$40,Employee!$D$7:$D$16,0)),""))} -> 2080 | AW4: {=SUM(IFERROR(IF(OR(Calendar!$E$8="All",Calendar!$E$8=""),LEN(Jan!$C$8:$C$40)>0,Jan!$C$8:$C$40=Calendar!$E$8)*(Jan!$C$9:$C$41="Standard Hours")*Jan!J$9:J$41*INDEX(Employee!$G$7:$G$16,MATCH(Jan!$C$8:$C$40,Employee!$D$7:$D$16,0)),""))} -> 0 | AX4: {=SUM(IFERROR(IF(OR(Calendar!$E$8="All",Calendar!$E$8=""),LEN(Jan!$C$8:$C$40)>0,Jan!$C$8:$C$40=Calendar!$E$8)*(Jan!$C$9:$C$41="Standard Hours")*Jan!K$9:K$41*INDEX(Employee!$G$7:$G$16,MATCH(Jan!$C$8:$C$40,Employee!$D$7:$D$16,0)),""))} -> 0 | ... BU4: {=SUM(IFERROR(IF(OR(Calendar!$E$8="All",Calendar!$E$8=""),LEN(Jan!$C$8:$C$40)>0,Jan!$C$8:$C$40=Calendar!$E$8)*(Jan!$C$9:$C$41="Standard Hours")*Jan!AH$9:AH$41*INDEX(Employee!$G$7:$G$16,MATCH(Jan!$C$8:$C$40,Employee!$D$7:$D$16,0)),""))} -> 2080 | BW4: Index | BX4: Employee | BY4: Department | BZ4: Position | CA4: Salary | CB4: =IF(LEN(_xlnm.Criteria)=0,F18,_xlnm.Criteria) -> Standard Working Hours | CO4: Active | CS4: Employee | DA4: Department | DD4: Position | DG4: ="Monthly "&CB4 -> Monthly Standard Working Hours
