Workbook
Name Department: Dashboard!$E$10
Name DMonth: Dashboard!$I$10
Name Employee: Dashboard!$C$10
Name employeedata: OFFSET(Cal!$CV$6,,,Cal!$CV$3)
Name Month: Calendar!$E$7
Name monthvalue: OFFSET(Cal!$DH$20,,,Cal!$DJ$18)
Name Name: Calendar!$E$8
Name nameall: OFFSET(Cal!$CS$5,,,Cal!$CS$3)
Name namelist: OFFSET(Cal!$CS$6,,,Cal!$CS$3-1)
Name numberdata: OFFSET(Cal!$CW$6,,,Cal!$CV$3)
Name Position: Dashboard!$G$10
Name Year: Menu!$F$7

Sheet Menu
C2: MONTHLY EMPLOYEE TIMESHEET
C3: NAVIGATION MENU
C7: Choose Year | F7: 2023
F9: EMPLOYEE TIMESHEET
F20: OUTPUT

Sheet Employee
C2: MONTHLY EMPLOYEE TIMESHEET
C3: EMPLOYEE DATABASE
C6: Employee ID | D6: Name | E6: Department | F6: Job Title | G6: Salary(Hourly)
C7: M-0001 | D7: Jemima Begum | E7: Operations | F7: Director | G7: 65
C8: M-0002 | D8: Mercedes Banks | E8: Accounting | F8: Vice-Director | G8: 55
C9: M-0003 | D9: Macauley Peck | E9: Marketing | F9: Vice-Director | G9: 55
C10: M-0004 | D10: Hannah Shaw | E10: Sales | F10: Expert | G10: 25
C11: N-0005 | D11: Carmel Beltran | E11: Sales | F11: Salesman | G11: 20
C12: N-0006 | D12: Sarah-Jayne Morrison | E12: Sales | F12: Salesman | G12: 20
C13: E-0007 | D13: Alyce Milner | E13: Sales | F13: Salesman | G13: 16
C14: E-0008 | D14: Aviana Kenny | E14: Operations | F14: Expert | G14: 25

Sheet Jan
C2: MONTHLY EMPLOYEE TIMESHEET
C3: JANUARY
C7: Employee Name | D7: =IFERROR(INDEX(Cal!$C$18:$C$24,WEEKDAY(D8&".01."&Year)),"") -> Sun | E7: =IFERROR(INDEX(Cal!$C$18:$C$24,WEEKDAY(E8&".01."&Year)),"") -> Mon | F7: =IFERROR(INDEX(Cal!$C$18:$C$24,WEEKDAY(F8&".01."&Year)),"") -> Tue | G7: =IFERROR(INDEX(Cal!$C$18:$C$24,WEEKDAY(G8&".01."&Year)),"") -> Wed | H7: =IFERROR(INDEX(Cal!$C$18:$C$24,WEEKDAY(H8&".01."&Year)),"") -> Thu | I7: =IFERROR(INDEX(Cal!$C$18:$C$24,WEEKDAY(I8&".01."&Year)),"") -> Fri | J7: =IFERROR(INDEX(Cal!$C$18:$C$24,WEEKDAY(J8&".01."&Year)),"") -> Sat | K7: =IFERROR(INDEX(Cal!$C$18:$C$24,WEEKDAY(K8&".01."&Year)),"") -> Sun | ... AH7: =IFERROR(INDEX(Cal!$C$18:$C$24,WEEKDAY(AH8&".01."&Year)),"") -> Tue
C8: Jemima Begum | D8: 1 | E8: 2 | F8: 3 | G8: 4 | H8: 5 | I8: 6 | J8: 7 | K8: 8 | L8: 9 | M8: 10 | N8: 11 | O8: 12 | P8: 13 | Q8: 14 | R8: 15 | S8: 16 | T8: 17 | U8: 18 | V8: 19 | W8: 20 | X8: 21 | Y8: 22 | Z8: 23 | AA8: 24 | AB8: 25 | AC8: 26 | AD8: 27 | AE8: 28 | AF8: 29 | AG8: 30 | AH8: 31 | AI8: Total
C9: Standard Hours | E9: 8 | F9: 8 | G9: 8 | H9: 8 | I9: 8 | L9: 8 | M9: 8 | N9: 8 | O9: 8 | P9: 8 | S9: 8 | T9: 8 | U9: 8 | V9: 8 | W9: 8 | Z9: 8 | AA9: 8 | AB9: 8 | AC9: 8 | AD9: 8 | AG9: 8 | AH9: 8 | AI9: =IF(LEN(C8)=0,"",SUM(D9:AH9)) -> 176
C10: Overtime Hours | Q10: 2 | R10: 2 | AI10: =IF(LEN(C8)=0,"",SUM(D10:AH10)) -> 4
C11: Overtime Salary(Hourly) | Q11: 50 | R11: 50 | AI11: =IF(LEN(C8)=0,"",SUMPRODUCT(D10:AH10,D11:AH11)) -> 200
C12: Total Hours | D12: =IFERROR(IF(AND(LEN(D9)=0,LEN(D10)=0),"",D9+D10),"") | E12: =IFERROR(IF(AND(LEN(E9)=0,LEN(E10)=0),"",E9+E10),"") -> 8 | F12: =IFERROR(IF(AND(LEN(F9)=0,LEN(F10)=0),"",F9+F10),"") -> 8 | G12: =IFERROR(IF(AND(LEN(G9)=0,LEN(G10)=0),"",G9+G10),"") -> 8 | H12: =IFERROR(IF(AND(LEN(H9)=0,LEN(H10)=0),"",H9+H10),"") -> 8 | I12: =IFERROR(IF(AND(LEN(I9)=0,LEN(I10)=0),"",I9+I10),"") -> 8 | J12: =IFERROR(IF(AND(LEN(J9)=0,LEN(J10)=0),"",J9+J10),"") | K12: =IFERROR(IF(AND(LEN(K9)=0,LEN(K10)=0),"",K9+K10),"") | ... AH12: =IFERROR(IF(AND(LEN(AH9)=0,LEN(AH10)=0),"",AH9+AH10),"") -> 8 | AI12: =IF(LEN(C8)=0,"",SUM(D12:AH12)) -> 180
C14: Employee Name | D14: =D$7 -> Sun | E14: =E$7 -> Mon | F14: =F$7 -> Tue | G14: =G$7 -> Wed | H14: =H$7 -> Thu | I14: =I$7 -> Fri | J14: =J$7 -> Sat | K14: =K$7 -> Sun | ... AH14: =AH$7 -> Tue
C15: Mercedes Banks | D15: 1 | E15: 2 | F15: 3 | G15: 4 | H15: 5 | I15: 6 | J15: 7 | K15: 8 | L15: 9 | M15: 10 | N15: 11 | O15: 12 | P15: 13 | Q15: 14 | R15: 15 | S15: 16 | T15: 17 | U15: 18 | V15: 19 | W15: 20 | X15: 21 | Y15: 22 | Z15: 23 | AA15: 24 | AB15: 25 | AC15: 26 | AD15: 27 | AE15: 28 | AF15: 29 | AG15: 30 | AH15: 31 | AI15: Total
C16: Standard Hours | E16: 8 | F16: 8 | G16: 8 | H16: 8 | I16: 8 | L16: 8 | M16: 8 | N16: 8 | O16: 8 | P16: 8 | S16: 8 | T16: 8 | U16: 8 | V16: 8 | W16: 8 | Z16: 8 | AA16: 8 | AB16: 8 | AC16: 8 | AD16: 8 | AG16: 8 | AH16: 8 | AI16: =IF(LEN(C15)=0,"",SUM(D16:AH16)) -> 176
C17: Overtime Hours | AI17: =IF(LEN(C15)=0,"",SUM(D17:AH17)) -> 0
C18: Overtime Salary(Hourly) | AI18: =IF(LEN(C15)=0,"",SUMPRODUCT(D17:AH17,D18:AH18)) -> 0
C19: Total Hours | D19: =IFERROR(IF(AND(LEN(D16)=0,LEN(D17)=0),"",D16+D17),"") | E19: =IFERROR(IF(AND(LEN(E16)=0,LEN(E17)=0),"",E16+E17),"") -> 8 | F19: =IFERROR(IF(AND(LEN(F16)=0,LEN(F17)=0),"",F16+F17),"") -> 8 | G19: =IFERROR(IF(AND(LEN(G16)=0,LEN(G17)=0),"",G16+G17),"") -> 8 | H19: =IFERROR(IF(AND(LEN(H16)=0,LEN(H17)=0),"",H16+H17),"") -> 8 | I19: =IFERROR(IF(AND(LEN(I16)=0,LEN(I17)=0),"",I16+I17),"") -> 8 | J19: =IFERROR(IF(AND(LEN(J16)=0,LEN(J17)=0),"",J16+J17),"") | K19: =IFERROR(IF(AND(LEN(K16)=0,LEN(K17)=0),"",K16+K17),"") | ... AH19: =IFERROR(IF(AND(LEN(AH16)=0,LEN(AH17)=0),"",AH16+AH17),"") -> 8 | AI19: =IF(LEN(C15)=0,"",SUM(D19:AH19)) -> 176
C21: Employee Name | D21: =D$7 -> Sun | E21: =E$7 -> Mon | F21: =F$7 -> Tue | G21: =G$7 -> Wed | H21: =H$7 -> Thu | I21: =I$7 -> Fri | J21: =J$7 -> Sat | K21: =K$7 -> Sun | ... AH21: =AH$7 -> Tue
C22: Macauley Peck | D22: 1 | E22: 2 | F22: 3 | G22: 4 | H22: 5 | I22: 6 | J22: 7 | K22: 8 | L22: 9 | M22: 10 | N22: 11 | O22: 12 | P22: 13 | Q22: 14 | R22: 15 | S22: 16 | T22: 17 | U22: 18 | V22: 19 | W22: 20 | X22: 21 | Y22: 22 | Z22: 23 | AA22: 24 | AB22: 25 | AC22: 26 | AD22: 27 | AE22: 28 | AF22: 29 | AG22: 30 | AH22: 31 | AI22: Total
C23: Standard Hours | E23: 8 | F23: 8 | G23: 8 | H23: 8 | I23: 8 | L23: 8 | M23: 8 | N23: 8 | O23: 8 | P23: 8 | S23: 8 | T23: 8 | U23: 8 | V23: 8 | W23: 8 | Z23: 8 | AA23: 8 | AB23: 8 | AC23: 8 | AD23: 8 | AG23: 8 | AH23: 8 | AI23: =IF(LEN(C22)=0,"",SUM(D23:AH23)) -> 176
C24: Overtime Hours | Q24: 2 | R24: 2 | AI24: =IF(LEN(C22)=0,"",SUM(D24:AH24)) -> 4
C25: Overtime Salary(Hourly) | Q25: 70 | R25: 70 | AI25: =IF(LEN(C22)=0,"",SUMPRODUCT(D24:AH24,D25:AH25)) -> 280
C26: Total Hours | D26: =IFERROR(IF(AND(LEN(D23)=0,LEN(D24)=0),"",D23+D24),"") | E26: =IFERROR(IF(AND(LEN(E23)=0,LEN(E24)=0),"",E23+E24),"") -> 8 | F26: =IFERROR(IF(AND(LEN(F23)=0,LEN(F24)=0),"",F23+F24),"") -> 8 | G26: =IFERROR(IF(AND(LEN(G23)=0,LEN(G24)=0),"",G23+G24),"") -> 8 | H26: =IFERROR(IF(AND(LEN(H23)=0,LEN(H24)=0),"",H23+H24),"") -> 8 | I26: =IFERROR(IF(AND(LEN(I23)=0,LEN(I24)=0),"",I23+I24),"") -> 8 | J26: =IFERROR(IF(AND(LEN(J23)=0,LEN(J24)=0),"",J23+J24),"") | K26: =IFERROR(IF(AND(LEN(K23)=0,LEN(K24)=0),"",K23+K24),"") | ... AH26: =IFERROR(IF(AND(LEN(AH23)=0,LEN(AH24)=0),"",AH23+AH24),"") -> 8 | AI26: =IF(LEN(C22)=0,"",SUM(D26:AH26)) -> 180
C28: Employee Name | D28: =D$7 -> Sun | E28: =E$7 -> Mon | F28: =F$7 -> Tue | G28: =G$7 -> Wed | H28: =H$7 -> Thu | I28: =I$7 -> Fri | J28: =J$7 -> Sat | K28: =K$7 -> Sun | ... AH28: =AH$7 -> Tue
C29: Sarah-Jayne Morrison | D29: 1 | E29: 2 | F29: 3 | G29: 4 | H29: 5 | I29: 6 | J29: 7 | K29: 8 | L29: 9 | M29: 10 | N29: 11 | O29: 12 | P29: 13 | Q29: 14 | R29: 15 | S29: 16 | T29: 17 | U29: 18 | V29: 19 | W29: 20 | X29: 21 | Y29: 22 | Z29: 23 | AA29: 24 | AB29: 25 | AC29: 26 | AD29: 27 | AE29: 28 | AF29: 29 | AG29: 30 | AH29: 31 | AI29: Total
C30: Standard Hours | E30: 8 | F30: 8 | G30: 8 | H30: 8 | I30: 8 | L30: 8 | M30: 8 | N30: 8 | O30: 8 | P30: 8 | S30: 8 | T30: 8 | U30: 8 | V30: 8 | W30: 8 | Z30: 8 | AA30: 8 | AB30: 6 | AC30: 8 | AD30: 8 | AG30: 8 | AH30: 8 | AI30: =IF(LEN(C29)=0,"",SUM(D30:AH30)) -> 174
C31: Overtime Hours | Q31: 4 | R31: 4 | AI31: =IF(LEN(C29)=0,"",SUM(D31:AH31)) -> 8
C32: Overtime Salary(Hourly) | Q32: 25 | R32: 25 | AI32: =IF(LEN(C29)=0,"",SUMPRODUCT(D31:AH31,D32:AH32)) -> 200
C33: Total Hours | D33: =IFERROR(IF(AND(LEN(D30)=0,LEN(D31)=0),"",D30+D31),"") | E33: =IFERROR(IF(AND(LEN(E30)=0,LEN(E31)=0),"",E30+E31),"") -> 8 | F33: =IFERROR(IF(AND(LEN(F30)=0,LEN(F31)=0),"",F30+F31),"") -> 8 | G33: =IFERROR(IF(AND(LEN(G30)=0,LEN(G31)=0),"",G30+G31),"") -> 8 | H33: =IFERROR(IF(AND(LEN(H30)=0,LEN(H31)=0),"",H30+H31),"") -> 8 | I33: =IFERROR(IF(AND(LEN(I30)=0,LEN(I31)=0),"",I30+I31),"") -> 8 | J33: =IFERROR(IF(AND(LEN(J30)=0,LEN(J31)=0),"",J30+J31),"") | K33: =IFERROR(IF(AND(LEN(K30)=0,LEN(K31)=0),"",K30+K31),"") | ... AH33: =IFERROR(IF(AND(LEN(AH30)=0,LEN(AH31)=0),"",AH30+AH31),"") -> 8 | AI33: =IF(LEN(C29)=0,"",SUM(D33:AH33)) -> 182
C35: Employee Name | D35: =D$7 -> Sun | E35: =E$7 -> Mon | F35: =F$7 -> Tue | G35: =G$7 -> Wed | H35: =H$7 -> Thu | I35: =I$7 -> Fri | J35: =J$7 -> Sat | K35: =K$7 -> Sun | ... AH35: =AH$7 -> Tue
D36: 1 | E36: 2 | F36: 3 | G36: 4 | H36: 5 | I36: 6 | J36: 7 | K36: 8 | L36: 9 | M36: 10 | N36: 11 | O36: 12 | P36: 13 | Q36: 14 | R36: 15 | S36: 16 | T36: 17 | U36: 18 | V36: 19 | W36: 20 | X36: 21 | Y36: 22 | Z36: 23 | AA36: 24 | AB36: 25 | AC36: 26 | AD36: 27 | AE36: 28 | AF36: 29 | AG36: 30 | AH36: 31 | AI36: Total
C37: Standard Hours | AI37: =IF(LEN(C36)=0,"",SUM(D37:AH37))
C38: Overtime Hours | AI38: =IF(LEN(C36)=0,"",SUM(D38:AH38))
C39: Overtime Salary(Hourly) | AI39: =IF(LEN(C36)=0,"",SUMPRODUCT(D38:AH38,D39:AH39))
C40: Total Hours | D40: =IFERROR(IF(AND(LEN(D37)=0,LEN(D38)=0),"",D37+D38),"") | E40: =IFERROR(IF(AND(LEN(E37)=0,LEN(E38)=0),"",E37+E38),"") | F40: =IFERROR(IF(AND(LEN(F37)=0,LEN(F38)=0),"",F37+F38),"") | G40: =IFERROR(IF(AND(LEN(G37)=0,LEN(G38)=0),"",G37+G38),"") | H40: =IFERROR(IF(AND(LEN(H37)=0,LEN(H38)=0),"",H37+H38),"") | I40: =IFERROR(IF(AND(LEN(I37)=0,LEN(I38)=0),"",I37+I38),"") | J40: =IFERROR(IF(AND(LEN(J37)=0,LEN(J38)=0),"",J37+J38),"") | K40: =IFERROR(IF(AND(LEN(K37)=0,LEN(K38)=0),"",K37+K38),"") | ... AH40: =IFERROR(IF(AND(LEN(AH37)=0,LEN(AH38)=0),"",AH37+AH38),"") | AI40: =IF(LEN(C36)=0,"",SUM(D40:AH40))
C42: Employee Name | D42: =D$7 -> Sun | E42: =E$7 -> Mon | F42: =F$7 -> Tue | G42: =G$7 -> Wed | H42: =H$7 -> Thu | I42: =I$7 -> Fri | J42: =J$7 -> Sat | K42: =K$7 -> Sun | ... AH42: =AH$7 -> Tue
D43: 1 | E43: 2 | F43: 3 | G43: 4 | H43: 5 | I43: 6 | J43: 7 | K43: 8 | L43: 9 | M43: 10 | N43: 11 | O43: 12 | P43: 13 | Q43: 14 | R43: 15 | S43: 16 | T43: 17 | U43: 18 | V43: 19 | W43: 20 | X43: 21 | Y43: 22 | Z43: 23 | AA43: 24 | AB43: 25 | AC43: 26 | AD43: 27 | AE43: 28 | AF43: 29 | AG43: 30 | AH43: 31 | AI43: Total
C44: Standard Hours
C45: Overtime Hours
C46: Overtime Salary(Hourly)
C47: Total Hours
C49: Employee Name | D49: =D$7 -> Sun | E49: =E$7 -> Mon | F49: =F$7 -> Tue | G49: =G$7 -> Wed | H49: =H$7 -> Thu | I49: =I$7 -> Fri | J49: =J$7 -> Sat | K49: =K$7 -> Sun | ... AH49: =AH$7 -> Tue
D50: 1 | E50: 2 | F50: 3 | G50: 4 | H50: 5 | I50: 6 | J50: 7 | K50: 8 | L50: 9 | M50: 10 | N50: 11 | O50: 12 | P50: 13 | Q50: 14 | R50: 15 | S50: 16 | T50: 17 | U50: 18 | V50: 19 | W50: 20 | X50: 21 | Y50: 22 | Z50: 23 | AA50: 24 | AB50: 25 | AC50: 26 | AD50: 27 | AE50: 28 | AF50: 29 | AG50: 30 | AH50: 31 | AI50: Total
...

Sheet Feb
C2: MONTHLY EMPLOYEE TIMESHEET
C3: FEBRUARY
C7: Employee Name | D7: =IFERROR(INDEX(Cal!$C$18:$C$24,WEEKDAY(D8&".02."&Year)),"") -> Wed | E7: =IFERROR(INDEX(Cal!$C$18:$C$24,WEEKDAY(E8&".02."&Year)),"") -> Thu | F7: =IFERROR(INDEX(Cal!$C$18:$C$24,WEEKDAY(F8&".02."&Year)),"") -> Fri | G7: =IFERROR(INDEX(Cal!$C$18:$C$24,WEEKDAY(G8&".02."&Year)),"") -> Sat | H7: =IFERROR(INDEX(Cal!$C$18:$C$24,WEEKDAY(H8&".02."&Year)),"") -> Sun | I7: =IFERROR(INDEX(Cal!$C$18:$C$24,WEEKDAY(I8&".02."&Year)),"") -> Mon | J7: =IFERROR(INDEX(Cal!$C$18:$C$24,WEEKDAY(J8&".02."&Year)),"") -> Tue | K7: =IFERROR(INDEX(Cal!$C$18:$C$24,WEEKDAY(K8&".02."&Year)),"") -> Wed | ... AF7: =IFERROR(INDEX(Cal!$C$18:$C$24,WEEKDAY(AF8&".02."&Year)),"")
C8: Jemima Begum | D8: 1 | E8: 2 | F8: 3 | G8: 4 | H8: 5 | I8: 6 | J8: 7 | K8: 8 | L8: 9 | M8: 10 | N8: 11 | O8: 12 | P8: 13 | Q8: 14 | R8: 15 | S8: 16 | T8: 17 | U8: 18 | V8: 19 | W8: 20 | X8: 21 | Y8: 22 | Z8: 23 | AA8: 24 | AB8: 25 | AC8: 26 | AD8: 27 | AE8: 28 | AF8: 29 | AI8: Total
C9: Standard Hours | D9: 6 | E9: 6 | F9: 6 | G9: 6 | I9: 6 | J9: 6 | K9: 6 | L9: 6 | M9: 6 | P9: 6 | Q9: 6 | R9: 6 | S9: 6 | T9: 6 | W9: 6 | X9: 6 | Y9: 6 | Z9: 6 | AA9: 6 | AD9: 6 | AE9: 6 | AI9: =IF(LEN(C8)=0,"",IF(LEN($AF$7)=0,SUM(D9:AE9),SUM(D9:AF9))) -> 126
C10: Overtime Hours | AI10: =IF(LEN(C8)=0,"",IF(LEN($AF$7)=0,SUM(D10:AE10),SUM(D10:AF10))) -> 0
C11: Overtime hours Salary | AI11: =IF(LEN(C8)=0,"",IF(LEN($AF$7)=0,SUMPRODUCT(D11:AE11,D10:AE10),SUMPRODUCT(D11:AF11,D10:AF10))) -> 0
C12: Total Hours | D12: =IFERROR(IF(AND(LEN(D9)=0,LEN(D10)=0),"",D9+D10),"") -> 6 | E12: =IFERROR(IF(AND(LEN(E9)=0,LEN(E10)=0),"",E9+E10),"") -> 6 | F12: =IFERROR(IF(AND(LEN(F9)=0,LEN(F10)=0),"",F9+F10),"") -> 6 | G12: =IFERROR(IF(AND(LEN(G9)=0,LEN(G10)=0),"",G9+G10),"") -> 6 | H12: =IFERROR(IF(AND(LEN(H9)=0,LEN(H10)=0),"",H9+H10),"") | I12: =IFERROR(IF(AND(LEN(I9)=0,LEN(I10)=0),"",I9+I10),"") -> 6 | J12: =IFERROR(IF(AND(LEN(J9)=0,LEN(J10)=0),"",J9+J10),"") -> 6 | K12: =IFERROR(IF(AND(LEN(K9)=0,LEN(K10)=0),"",K9+K10),"") -> 6 | ... AH12: =IFERROR(IF(AND(LEN(AH9)=0,LEN(AH10)=0),"",AH9+AH10),"") | AI12: =IF(LEN(C8)=0,"",IF(LEN($AF$7)=0,SUM(D12:AE12),SUM(D12:AF12))) -> 126
C14: Employee Name | D14: =D$7 -> Wed | E14: =E$7 -> Thu | F14: =F$7 -> Fri | G14: =G$7 -> Sat | H14: =H$7 -> Sun | I14: =I$7 -> Mon | J14: =J$7 -> Tue | K14: =K$7 -> Wed | ... AF14: =AF$7
C15: Mercedes Banks | D15: 1 | E15: 2 | F15: 3 | G15: 4 | H15: 5 | I15: 6 | J15: 7 | K15: 8 | L15: 9 | M15: 10 | N15: 11 | O15: 12 | P15: 13 | Q15: 14 | R15: 15 | S15: 16 | T15: 17 | U15: 18 | V15: 19 | W15: 20 | X15: 21 | Y15: 22 | Z15: 23 | AA15: 24 | AB15: 25 | AC15: 26 | AD15: 27 | AE15: 28 | AF15: 29 | AI15: Total
C16: Standard Hours | D16: 8 | E16: 8 | F16: 8 | K16: 8 | L16: 8 | M16: 8 | N16: 8 | O16: 8 | R16: 8 | S16: 8 | T16: 8 | U16: 8 | V16: 6 | Y16: 8 | Z16: 8 | AA16: 8 | AD16: 8 | AE16: 8 | AI16: =IF(LEN(C15)=0,"",IF(LEN($AF$7)=0,SUM(D16:AE16),SUM(D16:AF16))) -> 142
C17: Overtime Hours | V17: 2 | AI17: =IF(LEN(C15)=0,"",IF(LEN($AF$7)=0,SUM(D17:AE17),SUM(D17:AF17))) -> 2
C18: Overtime Salary(Hourly) | V18: 50 | AI18: =IF(LEN(C15)=0,"",IF(LEN($AF$7)=0,SUMPRODUCT(D18:AE18,D17:AE17),SUMPRODUCT(D18:AF18,D17:AF17))) -> 100
C19: Total Hours | D19: =IFERROR(IF(AND(LEN(D16)=0,LEN(D17)=0),"",D16+D17),"") -> 8 | E19: =IFERROR(IF(AND(LEN(E16)=0,LEN(E17)=0),"",E16+E17),"") -> 8 | F19: =IFERROR(IF(AND(LEN(F16)=0,LEN(F17)=0),"",F16+F17),"") -> 8 | G19: =IFERROR(IF(AND(LEN(G16)=0,LEN(G17)=0),"",G16+G17),"") | H19: =IFERROR(IF(AND(LEN(H16)=0,LEN(H17)=0),"",H16+H17),"") | I19: =IFERROR(IF(AND(LEN(I16)=0,LEN(I17)=0),"",I16+I17),"") | J19: =IFERROR(IF(AND(LEN(J16)=0,LEN(J17)=0),"",J16+J17),"") | K19: =IFERROR(IF(AND(LEN(K16)=0,LEN(K17)=0),"",K16+K17),"") -> 8 | ... AH19: =IFERROR(IF(AND(LEN(AH16)=0,LEN(AH17)=0),"",AH16+AH17),"") | AI19: =IF(LEN(C15)=0,"",IF(LEN($AF$7)=0,SUM(D19:AE19),SUM(D19:AF19))) -> 144
C21: Employee Name | D21: =D$7 -> Wed | E21: =E$7 -> Thu | F21: =F$7 -> Fri | G21: =G$7 -> Sat | H21: =H$7 -> Sun | I21: =I$7 -> Mon | J21: =J$7 -> Tue | K21: =K$7 -> Wed | ... AF21: =AF$7
C22: Macauley Peck | D22: 1 | E22: 2 | F22: 3 | G22: 4 | H22: 5 | I22: 6 | J22: 7 | K22: 8 | L22: 9 | M22: 10 | N22: 11 | O22: 12 | P22: 13 | Q22: 14 | R22: 15 | S22: 16 | T22: 17 | U22: 18 | V22: 19 | W22: 20 | X22: 21 | Y22: 22 | Z22: 23 | AA22: 24 | AB22: 25 | AC22: 26 | AD22: 27 | AE22: 28 | AF22: 29 | AI22: Total
C23: Standard Hours | D23: 8 | E23: 8 | F23: 8 | H23: 8 | I23: 8 | J23: 8 | K23: 8 | L23: 8 | M23: 8 | P23: 8 | Q23: 8 | R23: 8 | S23: 8 | T23: 8 | W23: 8 | X23: 8 | Y23: 8 | Z23: 8 | AA23: 8 | AD23: 8 | AE23: 8 | AI23: =IF(LEN(C22)=0,"",IF(LEN($AF$7)=0,SUM(D23:AE23),SUM(D23:AF23))) -> 168
C24: Overtime Hours | AI24: =IF(LEN(C22)=0,"",IF(LEN($AF$7)=0,SUM(D24:AE24),SUM(D24:AF24))) -> 0
C25: Overtime Salary(Hourly) | AI25: =IF(LEN(C22)=0,"",IF(LEN($AF$7)=0,SUMPRODUCT(D25:AE25,D24:AE24),SUMPRODUCT(D25:AF25,D24:AF24))) -> 0
C26: Total Hours | D26: =IFERROR(IF(AND(LEN(D23)=0,LEN(D24)=0),"",D23+D24),"") -> 8 | E26: =IFERROR(IF(AND(LEN(E23)=0,LEN(E24)=0),"",E23+E24),"") -> 8 | F26: =IFERROR(IF(AND(LEN(F23)=0,LEN(F24)=0),"",F23+F24),"") -> 8 | G26: =IFERROR(IF(AND(LEN(G23)=0,LEN(G24)=0),"",G23+G24),"") | H26: =IFERROR(IF(AND(LEN(H23)=0,LEN(H24)=0),"",H23+H24),"") -> 8 | I26: =IFERROR(IF(AND(LEN(I23)=0,LEN(I24)=0),"",I23+I24),"") -> 8 | J26: =IFERROR(IF(AND(LEN(J23)=0,LEN(J24)=0),"",J23+J24),"") -> 8 | K26: =IFERROR(IF(AND(LEN(K23)=0,LEN(K24)=0),"",K23+K24),"") -> 8 | ... AH26: =IFERROR(IF(AND(LEN(AH23)=0,LEN(AH24)=0),"",AH23+AH24),"") | AI26: =IF(LEN(C22)=0,"",IF(LEN($AF$7)=0,SUM(D26:AE26),SUM(D26:AF26))) -> 168
C28: Employee Name | D28: =D$7 -> Wed | E28: =E$7 -> Thu | F28: =F$7 -> Fri | G28: =G$7 -> Sat | H28: =H$7 -> Sun | I28: =I$7 -> Mon | J28: =J$7 -> Tue | K28: =K$7 -> Wed | ... AF28: =AF$7
C29: Sarah-Jayne Morrison | D29: 1 | E29: 2 | F29: 3 | G29: 4 | H29: 5 | I29: 6 | J29: 7 | K29: 8 | L29: 9 | M29: 10 | N29: 11 | O29: 12 | P29: 13 | Q29: 14 | R29: 15 | S29: 16 | T29: 17 | U29: 18 | V29: 19 | W29: 20 | X29: 21 | Y29: 22 | Z29: 23 | AA29: 24 | AB29: 25 | AC29: 26 | AD29: 27 | AE29: 28 | AF29: 29 | AI29: Total
C30: Standard Hours | D30: 4 | E30: 4 | F30: 4 | G30: 4 | I30: 4 | J30: 4 | K30: 4 | L30: 4 | M30: 4 | N30: 4 | R30: 4 | S30: 4 | T30: 4 | U30: 4 | V30: 4 | W30: 4 | Y30: 4 | Z30: 4 | AA30: 4 | AB30: 4 | AD30: 4 | AE30: 4 | AI30: =IF(LEN(C29)=0,"",IF(LEN($AF$7)=0,SUM(D30:AE30),SUM(D30:AF30))) -> 88
C31: Overtime Hours | O31: 6 | AI31: =IF(LEN(C29)=0,"",IF(LEN($AF$7)=0,SUM(D31:AE31),SUM(D31:AF31))) -> 6
C32: Overtime Salary(Hourly) | O32: 40 | AI32: =IF(LEN(C29)=0,"",IF(LEN($AF$7)=0,SUMPRODUCT(D32:AE32,D31:AE31),SUMPRODUCT(D32:AF32,D31:AF31))) -> 240
C33: Total Hours | D33: =IFERROR(IF(AND(LEN(D30)=0,LEN(D31)=0),"",D30+D31),"") -> 4 | E33: =IFERROR(IF(AND(LEN(E30)=0,LEN(E31)=0),"",E30+E31),"") -> 4 | F33: =IFERROR(IF(AND(LEN(F30)=0,LEN(F31)=0),"",F30+F31),"") -> 4 | G33: =IFERROR(IF(AND(LEN(G30)=0,LEN(G31)=0),"",G30+G31),"") -> 4 | H33: =IFERROR(IF(AND(LEN(H30)=0,LEN(H31)=0),"",H30+H31),"") | I33: =IFERROR(IF(AND(LEN(I30)=0,LEN(I31)=0),"",I30+I31),"") -> 4 | J33: =IFERROR(IF(AND(LEN(J30)=0,LEN(J31)=0),"",J30+J31),"") -> 4 | K33: =IFERROR(IF(AND(LEN(K30)=0,LEN(K31)=0),"",K30+K31),"") -> 4 | ... AH33: =IFERROR(IF(AND(LEN(AH30)=0,LEN(AH31)=0),"",AH30+AH31),"") | AI33: =IF(LEN(C29)=0,"",IF(LEN($AF$7)=0,SUM(D33:AE33),SUM(D33:AF33))) -> 94
C35: Employee Name | D35: =D$7 -> Wed | E35: =E$7 -> Thu | F35: =F$7 -> Fri | G35: =G$7 -> Sat | H35: =H$7 -> Sun | I35: =I$7 -> Mon | J35: =J$7 -> Tue | K35: =K$7 -> Wed | ... AF35: =AF$7
D36: 1 | E36: 2 | F36: 3 | G36: 4 | H36: 5 | I36: 6 | J36: 7 | K36: 8 | L36: 9 | M36: 10 | N36: 11 | O36: 12 | P36: 13 | Q36: 14 | R36: 15 | S36: 16 | T36: 17 | U36: 18 | V36: 19 | W36: 20 | X36: 21 | Y36: 22 | Z36: 23 | AA36: 24 | AB36: 25 | AC36: 26 | AD36: 27 | AE36: 28 | AF36: 29 | AI36: Total
C37: Standard Hours
C38: Overtime Hours
C39: Overtime Salary(Hourly)
C40: Total Hours
C42: Employee Name | D42: =D$7 -> Wed | E42: =E$7 -> Thu | F42: =F$7 -> Fri | G42: =G$7 -> Sat | H42: =H$7 -> Sun | I42: =I$7 -> Mon | J42: =J$7 -> Tue | K42: =K$7 -> Wed | ... AF42: =AF$7
D43: 1 | E43: 2 | F43: 3 | G43: 4 | H43: 5 | I43: 6 | J43: 7 | K43: 8 | L43: 9 | M43: 10 | N43: 11 | O43: 12 | P43: 13 | Q43: 14 | R43: 15 | S43: 16 | T43: 17 | U43: 18 | V43: 19 | W43: 20 | X43: 21 | Y43: 22 | Z43: 23 | AA43: 24 | AB43: 25 | AC43: 26 | AD43: 27 | AE43: 28 | AF43: 29 | AI43: Total
C44: Standard Hours
C45: Overtime Hours
C46: Overtime Salary(Hourly)
C47: Total Hours
C49: Employee Name | D49: =D$7 -> Wed | E49: =E$7 -> Thu | F49: =F$7 -> Fri | G49: =G$7 -> Sat | H49: =H$7 -> Sun | I49: =I$7 -> Mon | J49: =J$7 -> Tue | K49: =K$7 -> Wed | ... AF49: =AF$7
D50: 1 | E50: 2 | F50: 3 | G50: 4 | H50: 5 | I50: 6 | J50: 7 | K50: 8 | L50: 9 | M50: 10 | N50: 11 | O50: 12 | P50: 13 | Q50: 14 | R50: 15 | S50: 16 | T50: 17 | U50: 18 | V50: 19 | W50: 20 | X50: 21 | Y50: 22 | Z50: 23 | AA50: 24 | AB50: 25 | AC50: 26 | AD50: 27 | AE50: 28 | AF50: 29 | AI50: Total
...

Sheet Mar
C2: MONTHLY EMPLOYEE TIMESHEET
C3: MARCH
C7: Employee Name | D7: =IFERROR(INDEX(Cal!$C$18:$C$24,WEEKDAY(D8&".03."&Year)),"") -> Wed | E7: =IFERROR(INDEX(Cal!$C$18:$C$24,WEEKDAY(E8&".03."&Year)),"") -> Thu | F7: =IFERROR(INDEX(Cal!$C$18:$C$24,WEEKDAY(F8&".03."&Year)),"") -> Fri | G7: =IFERROR(INDEX(Cal!$C$18:$C$24,WEEKDAY(G8&".03."&Year)),"") -> Sat | H7: =IFERROR(INDEX(Cal!$C$18:$C$24,WEEKDAY(H8&".03."&Year)),"") -> Sun | I7: =IFERROR(INDEX(Cal!$C$18:$C$24,WEEKDAY(I8&".03."&Year)),"") -> Mon | J7: =IFERROR(INDEX(Cal!$C$18:$C$24,WEEKDAY(J8&".03."&Year)),"") -> Tue | K7: =IFERROR(INDEX(Cal!$C$18:$C$24,WEEKDAY(K8&".03."&Year)),"") -> Wed | ... AH7: =IFERROR(INDEX(Cal!$C$18:$C$24,WEEKDAY(AH8&".03."&Year)),"") -> Fri
C8: Jemima Begum | D8: 1 | E8: 2 | F8: 3 | G8: 4 | H8: 5 | I8: 6 | J8: 7 | K8: 8 | L8: 9 | M8: 10 | N8: 11 | O8: 12 | P8: 13 | Q8: 14 | R8: 15 | S8: 16 | T8: 17 | U8: 18 | V8: 19 | W8: 20 | X8: 21 | Y8: 22 | Z8: 23 | AA8: 24 | AB8: 25 | AC8: 26 | AD8: 27 | AE8: 28 | AF8: 29 | AG8: 30 | AH8: 31 | AI8: Total
C9: Standard Hours | D9: 7 | E9: 7 | F9: 7 | G9: 7 | H9: 7 | K9: 7 | L9: 7 | M9: 7 | N9: 7 | O9: 7 | R9: 7 | S9: 7 | T9: 7 | W9: 7 | X9: 7 | Y9: 7 | Z9: 7 | AA9: 7 | AD9: 7 | AE9: 7 | AF9: 7 | AG9: 7 | AH9: 7 | AI9: =IF(LEN(C8)=0,"",SUM(D9:AH9)) -> 161
C10: Overtime Hours | AI10: =IF(LEN(C8)=0,"",SUM(D10:AH10)) -> 0
C11: Overtime Salary(Hourly) | AI11: =IF(LEN(C8)=0,"",SUMPRODUCT(D10:AH10,D11:AH11)) -> 0
C12: Total Hours | D12: =IFERROR(IF(AND(LEN(D9)=0,LEN(D10)=0),"",D9+D10),"") -> 7 | E12: =IFERROR(IF(AND(LEN(E9)=0,LEN(E10)=0),"",E9+E10),"") -> 7 | F12: =IFERROR(IF(AND(LEN(F9)=0,LEN(F10)=0),"",F9+F10),"") -> 7 | G12: =IFERROR(IF(AND(LEN(G9)=0,LEN(G10)=0),"",G9+G10),"") -> 7 | H12: =IFERROR(IF(AND(LEN(H9)=0,LEN(H10)=0),"",H9+H10),"") -> 7 | I12: =IFERROR(IF(AND(LEN(I9)=0,LEN(I10)=0),"",I9+I10),"") | J12: =IFERROR(IF(AND(LEN(J9)=0,LEN(J10)=0),"",J9+J10),"") | K12: =IFERROR(IF(AND(LEN(K9)=0,LEN(K10)=0),"",K9+K10),"") -> 7 | ... AH12: =IFERROR(IF(AND(LEN(AH9)=0,LEN(AH10)=0),"",AH9+AH10),"") -> 7 | AI12: =IF(LEN(C8)=0,"",SUM(D12:AH12)) -> 161
C14: Employee Name | D14: =D$7 -> Wed | E14: =E$7 -> Thu | F14: =F$7 -> Fri | G14: =G$7 -> Sat | H14: =H$7 -> Sun | I14: =I$7 -> Mon | J14: =J$7 -> Tue | K14: =K$7 -> Wed | ... AH14: =AH$7 -> Fri
C15: Mercedes Banks | D15: 1 | E15: 2 | F15: 3 | G15: 4 | H15: 5 | I15: 6 | J15: 7 | K15: 8 | L15: 9 | M15: 10 | N15: 11 | O15: 12 | P15: 13 | Q15: 14 | R15: 15 | S15: 16 | T15: 17 | U15: 18 | V15: 19 | W15: 20 | X15: 21 | Y15: 22 | Z15: 23 | AA15: 24 | AB15: 25 | AC15: 26 | AD15: 27 | AE15: 28 | AF15: 29 | AG15: 30 | AH15: 31 | AI15: Total
C16: Standard Hours | D16: 8 | E16: 8 | F16: 8 | I16: 8 | J16: 8 | K16: 8 | L16: 8 | M16: 8 | P16: 8 | Q16: 8 | R16: 8 | S16: 8 | T16: 8 | W16: 8 | X16: 8 | Y16: 8 | Z16: 8 | AA16: 8 | AD16: 8 | AE16: 8 | AF16: 8 | AG16: 8 | AH16: 8 | AI16: =IF(LEN(C15)=0,"",SUM(D16:AH16)) -> 184
C17: Overtime Hours | AI17: =IF(LEN(C15)=0,"",SUM(D17:AH17)) -> 0
C18: Overtime Salary(Hourly) | AI18: =IF(LEN(C15)=0,"",SUMPRODUCT(D17:AH17,D18:AH18)) -> 0
C19: Total Hours | D19: =IFERROR(IF(AND(LEN(D16)=0,LEN(D17)=0),"",D16+D17),"") -> 8 | E19: =IFERROR(IF(AND(LEN(E16)=0,LEN(E17)=0),"",E16+E17),"") -> 8 | F19: =IFERROR(IF(AND(LEN(F16)=0,LEN(F17)=0),"",F16+F17),"") -> 8 | G19: =IFERROR(IF(AND(LEN(G16)=0,LEN(G17)=0),"",G16+G17),"") | H19: =IFERROR(IF(AND(LEN(H16)=0,LEN(H17)=0),"",H16+H17),"") | I19: =IFERROR(IF(AND(LEN(I16)=0,LEN(I17)=0),"",I16+I17),"") -> 8 | J19: =IFERROR(IF(AND(LEN(J16)=0,LEN(J17)=0),"",J16+J17),"") -> 8 | K19: =IFERROR(IF(AND(LEN(K16)=0,LEN(K17)=0),"",K16+K17),"") -> 8 | ... AH19: =IFERROR(IF(AND(LEN(AH16)=0,LEN(AH17)=0),"",AH16+AH17),"") -> 8 | AI19: =IF(LEN(C15)=0,"",SUM(D19:AH19)) -> 184
C21: Employee Name | D21: =D$7 -> Wed | E21: =E$7 -> Thu | F21: =F$7 -> Fri | G21: =G$7 -> Sat | H21: =H$7 -> Sun | I21: =I$7 -> Mon | J21: =J$7 -> Tue | K21: =K$7 -> Wed | ... AH21: =AH$7 -> Fri
C22: Macauley Peck | D22: 1 | E22: 2 | F22: 3 | G22: 4 | H22: 5 | I22: 6 | J22: 7 | K22: 8 | L22: 9 | M22: 10 | N22: 11 | O22: 12 | P22: 13 | Q22: 14 | R22: 15 | S22: 16 | T22: 17 | U22: 18 | V22: 19 | W22: 20 | X22: 21 | Y22: 22 | Z22: 23 | AA22: 24 | AB22: 25 | AC22: 26 | AD22: 27 | AE22: 28 | AF22: 29 | AG22: 30 | AH22: 31 | AI22: Total
C23: Standard Hours | D23: 8 | E23: 8 | F23: 8 | I23: 8 | J23: 8 | K23: 8 | L23: 8 | M23: 8 | P23: 8 | Q23: 8 | R23: 8 | S23: 8 | T23: 8 | W23: 8 | X23: 8 | Y23: 8 | Z23: 8 | AA23: 8 | AD23: 8 | AE23: 8 | AF23: 8 | AG23: 8 | AH23: 8 | AI23: =IF(LEN(C22)=0,"",SUM(D23:AH23)) -> 184
C24: Overtime Hours | AI24: =IF(LEN(C22)=0,"",SUM(D24:AH24)) -> 0
C25: Overtime Salary(Hourly) | AI25: =IF(LEN(C22)=0,"",SUMPRODUCT(D24:AH24,D25:AH25)) -> 0
C26: Total Hours | D26: =IFERROR(IF(AND(LEN(D23)=0,LEN(D24)=0),"",D23+D24),"") -> 8 | E26: =IFERROR(IF(AND(LEN(E23)=0,LEN(E24)=0),"",E23+E24),"") -> 8 | F26: =IFERROR(IF(AND(LEN(F23)=0,LEN(F24)=0),"",F23+F24),"") -> 8 | G26: =IFERROR(IF(AND(LEN(G23)=0,LEN(G24)=0),"",G23+G24),"") | H26: =IFERROR(IF(AND(LEN(H23)=0,LEN(H24)=0),"",H23+H24),"") | I26: =IFERROR(IF(AND(LEN(I23)=0,LEN(I24)=0),"",I23+I24),"") -> 8 | J26: =IFERROR(IF(AND(LEN(J23)=0,LEN(J24)=0),"",J23+J24),"") -> 8 | K26: =IFERROR(IF(AND(LEN(K23)=0,LEN(K24)=0),"",K23+K24),"") -> 8 | ... AH26: =IFERROR(IF(AND(LEN(AH23)=0,LEN(AH24)=0),"",AH23+AH24),"") -> 8 | AI26: =IF(LEN(C22)=0,"",SUM(D26:AH26)) -> 184
C28: Employee Name | D28: =D$7 -> Wed | E28: =E$7 -> Thu | F28: =F$7 -> Fri | G28: =G$7 -> Sat | H28: =H$7 -> Sun | I28: =I$7 -> Mon | J28: =J$7 -> Tue | K28: =K$7 -> Wed | ... AH28: =AH$7 -> Fri
C29: Sarah-Jayne Morrison | D29: 1 | E29: 2 | F29: 3 | G29: 4 | H29: 5 | I29: 6 | J29: 7 | K29: 8 | L29: 9 | M29: 10 | N29: 11 | O29: 12 | P29: 13 | Q29: 14 | R29: 15 | S29: 16 | T29: 17 | U29: 18 | V29: 19 | W29: 20 | X29: 21 | Y29: 22 | Z29: 23 | AA29: 24 | AB29: 25 | AC29: 26 | AD29: 27 | AE29: 28 | AF29: 29 | AG29: 30 | AH29: 31 | AI29: Total
C30: Standard Hours | D30: 8 | E30: 8 | F30: 8 | I30: 8 | J30: 8 | K30: 8 | L30: 8 | M30: 8 | P30: 8 | Q30: 8 | R30: 8 | S30: 8 | T30: 8 | W30: 8 | X30: 8 | Y30: 8 | Z30: 8 | AA30: 8 | AD30: 8 | AE30: 8 | AF30: 8 | AG30: 8 | AH30: 8 | AI30: =IF(LEN(C29)=0,"",SUM(D30:AH30)) -> 184
C31: Overtime Hours | AI31: =IF(LEN(C29)=0,"",SUM(D31:AH31)) -> 0
C32: Overtime Salary(Hourly) | AI32: =IF(LEN(C29)=0,"",SUMPRODUCT(D31:AH31,D32:AH32)) -> 0
C33: Total Hours | D33: =IFERROR(IF(AND(LEN(D30)=0,LEN(D31)=0),"",D30+D31),"") -> 8 | E33: =IFERROR(IF(AND(LEN(E30)=0,LEN(E31)=0),"",E30+E31),"") -> 8 | F33: =IFERROR(IF(AND(LEN(F30)=0,LEN(F31)=0),"",F30+F31),"") -> 8 | G33: =IFERROR(IF(AND(LEN(G30)=0,LEN(G31)=0),"",G30+G31),"") | H33: =IFERROR(IF(AND(LEN(H30)=0,LEN(H31)=0),"",H30+H31),"") | I33: =IFERROR(IF(AND(LEN(I30)=0,LEN(I31)=0),"",I30+I31),"") -> 8 | J33: =IFERROR(IF(AND(LEN(J30)=0,LEN(J31)=0),"",J30+J31),"") -> 8 | K33: =IFERROR(IF(AND(LEN(K30)=0,LEN(K31)=0),"",K30+K31),"") -> 8 | ... AH33: =IFERROR(IF(AND(LEN(AH30)=0,LEN(AH31)=0),"",AH30+AH31),"") -> 8 | AI33: =IF(LEN(C29)=0,"",SUM(D33:AH33)) -> 184
C35: Employee Name | D35: =D$7 -> Wed | E35: =E$7 -> Thu | F35: =F$7 -> Fri | G35: =G$7 -> Sat | H35: =H$7 -> Sun | I35: =I$7 -> Mon | J35: =J$7 -> Tue | K35: =K$7 -> Wed | ... AH35: =AH$7 -> Fri
D36: 1 | E36: 2 | F36: 3 | G36: 4 | H36: 5 | I36: 6 | J36: 7 | K36: 8 | L36: 9 | M36: 10 | N36: 11 | O36: 12 | P36: 13 | Q36: 14 | R36: 15 | S36: 16 | T36: 17 | U36: 18 | V36: 19 | W36: 20 | X36: 21 | Y36: 22 | Z36: 23 | AA36: 24 | AB36: 25 | AC36: 26 | AD36: 27 | AE36: 28 | AF36: 29 | AG36: 30 | AH36: 31 | AI36: Total
C37: Standard Hours | AI37: =IF(LEN(C36)=0,"",SUM(D37:AH37))
C38: Overtime Hours | AI38: =IF(LEN(C36)=0,"",SUM(D38:AH38))
C39: Overtime Salary(Hourly) | AI39: =IF(LEN(C36)=0,"",SUMPRODUCT(D38:AH38,D39:AH39))
C40: Total Hours | D40: =IFERROR(IF(AND(LEN(D37)=0,LEN(D38)=0),"",D37+D38),"") | E40: =IFERROR(IF(AND(LEN(E37)=0,LEN(E38)=0),"",E37+E38),"") | F40: =IFERROR(IF(AND(LEN(F37)=0,LEN(F38)=0),"",F37+F38),"") | G40: =IFERROR(IF(AND(LEN(G37)=0,LEN(G38)=0),"",G37+G38),"") | H40: =IFERROR(IF(AND(LEN(H37)=0,LEN(H38)=0),"",H37+H38),"") | I40: =IFERROR(IF(AND(LEN(I37)=0,LEN(I38)=0),"",I37+I38),"") | J40: =IFERROR(IF(AND(LEN(J37)=0,LEN(J38)=0),"",J37+J38),"") | K40: =IFERROR(IF(AND(LEN(K37)=0,LEN(K38)=0),"",K37+K38),"") | ... AH40: =IFERROR(IF(AND(LEN(AH37)=0,LEN(AH38)=0),"",AH37+AH38),"") | AI40: =IF(LEN(C36)=0,"",SUM(D40:AH40))
C42: Employee Name | D42: =D$7 -> Wed | E42: =E$7 -> Thu | F42: =F$7 -> Fri | G42: =G$7 -> Sat | H42: =H$7 -> Sun | I42: =I$7 -> Mon | J42: =J$7 -> Tue | K42: =K$7 -> Wed | ... AH42: =AH$7 -> Fri
D43: 1 | E43: 2 | F43: 3 | G43: 4 | H43: 5 | I43: 6 | J43: 7 | K43: 8 | L43: 9 | M43: 10 | N43: 11 | O43: 12 | P43: 13 | Q43: 14 | R43: 15 | S43: 16 | T43: 17 | U43: 18 | V43: 19 | W43: 20 | X43: 21 | Y43: 22 | Z43: 23 | AA43: 24 | AB43: 25 | AC43: 26 | AD43: 27 | AE43: 28 | AF43: 29 | AG43: 30 | AH43: 31 | AI43: Total
C44: Standard Hours
C45: Overtime Hours
C46: Overtime Salary(Hourly)
C47: Total Hours
C49: Employee Name | D49: =D$7 -> Wed | E49: =E$7 -> Thu | F49: =F$7 -> Fri | G49: =G$7 -> Sat | H49: =H$7 -> Sun | I49: =I$7 -> Mon | J49: =J$7 -> Tue | K49: =K$7 -> Wed | ... AH49: =AH$7 -> Fri
D50: 1 | E50: 2 | F50: 3 | G50: 4 | H50: 5 | I50: 6 | J50: 7 | K50: 8 | L50: 9 | M50: 10 | N50: 11 | O50: 12 | P50: 13 | Q50: 14 | R50: 15 | S50: 16 | T50: 17 | U50: 18 | V50: 19 | W50: 20 | X50: 21 | Y50: 22 | Z50: 23 | AA50: 24 | AB50: 25 | AC50: 26 | AD50: 27 | AE50: 28 | AF50: 29 | AG50: 30 | AH50: 31 | AI50: Total
...

Sheet Apr
C2: MONTHLY EMPLOYEE TIMESHEET
C3: APRIL
C7: Employee Name | D7: =IFERROR(INDEX(Cal!$C$18:$C$24,WEEKDAY(D8&".04."&Year)),"") -> Sat | E7: =IFERROR(INDEX(Cal!$C$18:$C$24,WEEKDAY(E8&".04."&Year)),"") -> Sun | F7: =IFERROR(INDEX(Cal!$C$18:$C$24,WEEKDAY(F8&".04."&Year)),"") -> Mon | G7: =IFERROR(INDEX(Cal!$C$18:$C$24,WEEKDAY(G8&".04."&Year)),"") -> Tue | H7: =IFERROR(INDEX(Cal!$C$18:$C$24,WEEKDAY(H8&".04."&Year)),"") -> Wed | I7: =IFERROR(INDEX(Cal!$C$18:$C$24,WEEKDAY(I8&".04."&Year)),"") -> Thu | J7: =IFERROR(INDEX(Cal!$C$18:$C$24,WEEKDAY(J8&".04."&Year)),"") -> Fri | K7: =IFERROR(INDEX(Cal!$C$18:$C$24,WEEKDAY(K8&".04."&Year)),"") -> Sat | ... AG7: =IFERROR(INDEX(Cal!$C$18:$C$24,WEEKDAY(AG8&".04."&Year)),"") -> Sun
C8: Jemima Begum | D8: 1 | E8: 2 | F8: 3 | G8: 4 | H8: 5 | I8: 6 | J8: 7 | K8: 8 | L8: 9 | M8: 10 | N8: 11 | O8: 12 | P8: 13 | Q8: 14 | R8: 15 | S8: 16 | T8: 17 | U8: 18 | V8: 19 | W8: 20 | X8: 21 | Y8: 22 | Z8: 23 | AA8: 24 | AB8: 25 | AC8: 26 | AD8: 27 | AE8: 28 | AF8: 29 | AG8: 30 | AI8: Total
C9: Standard Hours | F9: 8 | G9: 8 | H9: 8 | I9: 8 | J9: 8 | M9: 8 | N9: 8 | O9: 8 | P9: 8 | Q9: 8 | T9: 8 | U9: 8 | V9: 8 | W9: 8 | X9: 8 | AA9: 8 | AB9: 8 | AC9: 8 | AD9: 8 | AE9: 8 | AI9: =IF(LEN(C8)=0,"",SUM(D9:AG9)) -> 160
C10: Overtime Hours | R10: 4 | Y10: 4 | AG10: 4 | AI10: =IF(LEN(C8)=0,"",SUM(D10:AG10)) -> 12
C11: Overtime Salary(Hourly) | R11: 50 | Y11: 50 | AG11: 60 | AI11: =IF(LEN(C8)=0,"",SUMPRODUCT(D10:AG10,D11:AG11)) -> 640
C12: Total Hours | D12: =IFERROR(IF(AND(LEN(D9)=0,LEN(D10)=0),"",D9+D10),"") | E12: =IFERROR(IF(AND(LEN(E9)=0,LEN(E10)=0),"",E9+E10),"") | F12: =IFERROR(IF(AND(LEN(F9)=0,LEN(F10)=0),"",F9+F10),"") -> 8 | G12: =IFERROR(IF(AND(LEN(G9)=0,LEN(G10)=0),"",G9+G10),"") -> 8 | H12: =IFERROR(IF(AND(LEN(H9)=0,LEN(H10)=0),"",H9+H10),"") -> 8 | I12: =IFERROR(IF(AND(LEN(I9)=0,LEN(I10)=0),"",I9+I10),"") -> 8 | J12: =IFERROR(IF(AND(LEN(J9)=0,LEN(J10)=0),"",J9+J10),"") -> 8 | K12: =IFERROR(IF(AND(LEN(K9)=0,LEN(K10)=0),"",K9+K10),"") | ... AH12: =IFERROR(IF(AND(LEN(AH9)=0,LEN(AH10)=0),"",AH9+AH10),"") | AI12: =IF(LEN(C8)=0,"",SUM(D12:AG12)) -> 172
C14: Employee Name | D14: =D$7 -> Sat | E14: =E$7 -> Sun | F14: =F$7 -> Mon | G14: =G$7 -> Tue | H14: =H$7 -> Wed | I14: =I$7 -> Thu | J14: =J$7 -> Fri | K14: =K$7 -> Sat | ... AG14: =AG$7 -> Sun
C15: Mercedes Banks | D15: 1 | E15: 2 | F15: 3 | G15: 4 | H15: 5 | I15: 6 | J15: 7 | K15: 8 | L15: 9 | M15: 10 | N15: 11 | O15: 12 | P15: 13 | Q15: 14 | R15: 15 | S15: 16 | T15: 17 | U15: 18 | V15: 19 | W15: 20 | X15: 21 | Y15: 22 | Z15: 23 | AA15: 24 | AB15: 25 | AC15: 26 | AD15: 27 | AE15: 28 | AF15: 29 | AG15: 30 | AI15: Total
C16: Standard Hours | F16: 8 | G16: 8 | H16: 8 | I16: 8 | J16: 8 | M16: 8 | N16: 8 | O16: 8 | P16: 8 | Q16: 8 | T16: 8 | U16: 8 | V16: 8 | W16: 8 | X16: 8 | AA16: 8 | AB16: 8 | AC16: 8 | AD16: 8 | AE16: 8 | AI16: =IF(LEN(C15)=0,"",SUM(D16:AG16)) -> 160
C17: Overtime Hours | K17: 4 | S17: 4 | Z17: 4 | AF17: 4 | AI17: =IF(LEN(C15)=0,"",SUM(D17:AG17)) -> 16
C18: Overtime Salary(Hourly) | K18: 50 | S18: 60 | Z18: 60 | AF18: 50 | AI18: =IF(LEN(C15)=0,"",SUMPRODUCT(D17:AG17,D18:AG18)) -> 880
C19: Total Hours | D19: =IFERROR(IF(AND(LEN(D16)=0,LEN(D17)=0),"",D16+D17),"") | E19: =IFERROR(IF(AND(LEN(E16)=0,LEN(E17)=0),"",E16+E17),"") | F19: =IFERROR(IF(AND(LEN(F16)=0,LEN(F17)=0),"",F16+F17),"") -> 8 | G19: =IFERROR(IF(AND(LEN(G16)=0,LEN(G17)=0),"",G16+G17),"") -> 8 | H19: =IFERROR(IF(AND(LEN(H16)=0,LEN(H17)=0),"",H16+H17),"") -> 8 | I19: =IFERROR(IF(AND(LEN(I16)=0,LEN(I17)=0),"",I16+I17),"") -> 8 | J19: =IFERROR(IF(AND(LEN(J16)=0,LEN(J17)=0),"",J16+J17),"") -> 8 | K19: =IFERROR(IF(AND(LEN(K16)=0,LEN(K17)=0),"",K16+K17),"") -> 4 | ... AH19: =IFERROR(IF(AND(LEN(AH16)=0,LEN(AH17)=0),"",AH16+AH17),"") | AI19: =IF(LEN(C15)=0,"",SUM(D19:AG19)) -> 176
C21: Employee Name | D21: =D$7 -> Sat | E21: =E$7 -> Sun | F21: =F$7 -> Mon | G21: =G$7 -> Tue | H21: =H$7 -> Wed | I21: =I$7 -> Thu | J21: =J$7 -> Fri | K21: =K$7 -> Sat | ... AG21: =AG$7 -> Sun
C22: Macauley Peck | D22: 1 | E22: 2 | F22: 3 | G22: 4 | H22: 5 | I22: 6 | J22: 7 | K22: 8 | L22: 9 | M22: 10 | N22: 11 | O22: 12 | P22: 13 | Q22: 14 | R22: 15 | S22: 16 | T22: 17 | U22: 18 | V22: 19 | W22: 20 | X22: 21 | Y22: 22 | Z22: 23 | AA22: 24 | AB22: 25 | AC22: 26 | AD22: 27 | AE22: 28 | AF22: 29 | AG22: 30 | AI22: Total
C23: Standard Hours | F23: 8 | G23: 8 | H23: 8 | I23: 8 | J23: 8 | N23: 8 | O23: 8 | P23: 8 | Q23: 8 | U23: 8 | V23: 8 | W23: 8 | X23: 8 | AA23: 8 | AB23: 8 | AC23: 8 | AD23: 8 | AE23: 8 | AI23: =IF(LEN(C22)=0,"",SUM(D23:AG23)) -> 144
C24: Overtime Hours | K24: 2 | L24: 4 | R24: 2 | S24: 4 | Y24: 4 | AI24: =IF(LEN(C22)=0,"",SUM(D24:AG24)) -> 16
C25: Overtime Salary(Hourly) | K25: 60 | L25: 60 | R25: 60 | S25: 60 | Y25: 60 | AI25: =IF(LEN(C22)=0,"",SUMPRODUCT(D24:AG24,D25:AG25)) -> 960
C26: Total Hours | D26: =IFERROR(IF(AND(LEN(D23)=0,LEN(D24)=0),"",D23+D24),"") | E26: =IFERROR(IF(AND(LEN(E23)=0,LEN(E24)=0),"",E23+E24),"") | F26: =IFERROR(IF(AND(LEN(F23)=0,LEN(F24)=0),"",F23+F24),"") -> 8 | G26: =IFERROR(IF(AND(LEN(G23)=0,LEN(G24)=0),"",G23+G24),"") -> 8 | H26: =IFERROR(IF(AND(LEN(H23)=0,LEN(H24)=0),"",H23+H24),"") -> 8 | I26: =IFERROR(IF(AND(LEN(I23)=0,LEN(I24)=0),"",I23+I24),"") -> 8 | J26: =IFERROR(IF(AND(LEN(J23)=0,LEN(J24)=0),"",J23+J24),"") -> 8 | K26: =IFERROR(IF(AND(LEN(K23)=0,LEN(K24)=0),"",K23+K24),"") -> 2 | ... AH26: =IFERROR(IF(AND(LEN(AH23)=0,LEN(AH24)=0),"",AH23+AH24),"") | AI26: =IF(LEN(C22)=0,"",SUM(D26:AG26)) -> 160
C28: Employee Name | D28: =D$7 -> Sat | E28: =E$7 -> Sun | F28: =F$7 -> Mon | G28: =G$7 -> Tue | H28: =H$7 -> Wed | I28: =I$7 -> Thu | J28: =J$7 -> Fri | K28: =K$7 -> Sat | ... AG28: =AG$7 -> Sun
C29: Sarah-Jayne Morrison | D29: 1 | E29: 2 | F29: 3 | G29: 4 | H29: 5 | I29: 6 | J29: 7 | K29: 8 | L29: 9 | M29: 10 | N29: 11 | O29: 12 | P29: 13 | Q29: 14 | R29: 15 | S29: 16 | T29: 17 | U29: 18 | V29: 19 | W29: 20 | X29: 21 | Y29: 22 | Z29: 23 | AA29: 24 | AB29: 25 | AC29: 26 | AD29: 27 | AE29: 28 | AF29: 29 | AG29: 30 | AI29: Total
C30: Standard Hours | G30: 8 | H30: 8 | I30: 8 | J30: 8 | M30: 8 | N30: 8 | O30: 8 | P30: 8 | Q30: 8 | T30: 8 | U30: 8 | V30: 8 | W30: 8 | X30: 8 | AA30: 8 | AB30: 8 | AC30: 8 | AD30: 8 | AE30: 8 | AI30: =IF(LEN(C29)=0,"",SUM(D30:AG30)) -> 152
C31: Overtime Hours | E31: 4 | K31: 4 | AG31: 2 | AI31: =IF(LEN(C29)=0,"",SUM(D31:AG31)) -> 10
C32: Overtime Salary(Hourly) | E32: 50 | K32: 50 | AG32: 50 | AI32: =IF(LEN(C29)=0,"",SUMPRODUCT(D31:AG31,D32:AG32)) -> 500
C33: Total Hours | D33: =IFERROR(IF(AND(LEN(D30)=0,LEN(D31)=0),"",D30+D31),"") | E33: =IFERROR(IF(AND(LEN(E30)=0,LEN(E31)=0),"",E30+E31),"") -> 4 | F33: =IFERROR(IF(AND(LEN(F30)=0,LEN(F31)=0),"",F30+F31),"") | G33: =IFERROR(IF(AND(LEN(G30)=0,LEN(G31)=0),"",G30+G31),"") -> 8 | H33: =IFERROR(IF(AND(LEN(H30)=0,LEN(H31)=0),"",H30+H31),"") -> 8 | I33: =IFERROR(IF(AND(LEN(I30)=0,LEN(I31)=0),"",I30+I31),"") -> 8 | J33: =IFERROR(IF(AND(LEN(J30)=0,LEN(J31)=0),"",J30+J31),"") -> 8 | K33: =IFERROR(IF(AND(LEN(K30)=0,LEN(K31)=0),"",K30+K31),"") -> 4 | ... AH33: =IFERROR(IF(AND(LEN(AH30)=0,LEN(AH31)=0),"",AH30+AH31),"") | AI33: =IF(LEN(C29)=0,"",SUM(D33:AG33)) -> 162
C35: Employee Name | D35: =D$7 -> Sat | E35: =E$7 -> Sun | F35: =F$7 -> Mon | G35: =G$7 -> Tue | H35: =H$7 -> Wed | I35: =I$7 -> Thu | J35: =J$7 -> Fri | K35: =K$7 -> Sat | ... AG35: =AG$7 -> Sun
D36: 1 | E36: 2 | F36: 3 | G36: 4 | H36: 5 | I36: 6 | J36: 7 | K36: 8 | L36: 9 | M36: 10 | N36: 11 | O36: 12 | P36: 13 | Q36: 14 | R36: 15 | S36: 16 | T36: 17 | U36: 18 | V36: 19 | W36: 20 | X36: 21 | Y36: 22 | Z36: 23 | AA36: 24 | AB36: 25 | AC36: 26 | AD36: 27 | AE36: 28 | AF36: 29 | AG36: 30 | AI36: Total
C37: Standard Hours | AI37: =IF(LEN(C36)=0,"",SUM(D37:AG37))
C38: Overtime Hours | AI38: =IF(LEN(C36)=0,"",SUM(D38:AG38))
C39: Overtime Salary(Hourly) | AI39: =IF(LEN(C36)=0,"",SUMPRODUCT(D38:AG38,D39:AG39))
C40: Total Hours | D40: =IFERROR(IF(AND(LEN(D37)=0,LEN(D38)=0),"",D37+D38),"") | E40: =IFERROR(IF(AND(LEN(E37)=0,LEN(E38)=0),"",E37+E38),"") | F40: =IFERROR(IF(AND(LEN(F37)=0,LEN(F38)=0),"",F37+F38),"") | G40: =IFERROR(IF(AND(LEN(G37)=0,LEN(G38)=0),"",G37+G38),"") | H40: =IFERROR(IF(AND(LEN(H37)=0,LEN(H38)=0),"",H37+H38),"") | I40: =IFERROR(IF(AND(LEN(I37)=0,LEN(I38)=0),"",I37+I38),"") | J40: =IFERROR(IF(AND(LEN(J37)=0,LEN(J38)=0),"",J37+J38),"") | K40: =IFERROR(IF(AND(LEN(K37)=0,LEN(K38)=0),"",K37+K38),"") | ... AH40: =IFERROR(IF(AND(LEN(AH37)=0,LEN(AH38)=0),"",AH37+AH38),"") | AI40: =IF(LEN(C36)=0,"",SUM(D40:AG40))
C42: Employee Name | D42: =D$7 -> Sat | E42: =E$7 -> Sun | F42: =F$7 -> Mon | G42: =G$7 -> Tue | H42: =H$7 -> Wed | I42: =I$7 -> Thu | J42: =J$7 -> Fri | K42: =K$7 -> Sat | ... AG42: =AG$7 -> Sun
D43: 1 | E43: 2 | F43: 3 | G43: 4 | H43: 5 | I43: 6 | J43: 7 | K43: 8 | L43: 9 | M43: 10 | N43: 11 | O43: 12 | P43: 13 | Q43: 14 | R43: 15 | S43: 16 | T43: 17 | U43: 18 | V43: 19 | W43: 20 | X43: 21 | Y43: 22 | Z43: 23 | AA43: 24 | AB43: 25 | AC43: 26 | AD43: 27 | AE43: 28 | AF43: 29 | AG43: 30 | AI43: Total
C44: Standard Hours
C45: Overtime Hours
C46: Overtime Salary(Hourly)
C47: Total Hours
C49: Employee Name | D49: =D$7 -> Sat | E49: =E$7 -> Sun | F49: =F$7 -> Mon | G49: =G$7 -> Tue | H49: =H$7 -> Wed | I49: =I$7 -> Thu | J49: =J$7 -> Fri | K49: =K$7 -> Sat | ... AG49: =AG$7 -> Sun
D50: 1 | E50: 2 | F50: 3 | G50: 4 | H50: 5 | I50: 6 | J50: 7 | K50: 8 | L50: 9 | M50: 10 | N50: 11 | O50: 12 | P50: 13 | Q50: 14 | R50: 15 | S50: 16 | T50: 17 | U50: 18 | V50: 19 | W50: 20 | X50: 21 | Y50: 22 | Z50: 23 | AA50: 24 | AB50: 25 | AC50: 26 | AD50: 27 | AE50: 28 | AF50: 29 | AG50: 30 | AI50: Total
...

Sheet May
C2: MONTHLY EMPLOYEE TIMESHEET
C3: MAY
C7: Employee Name | D7: =IFERROR(INDEX(Cal!$C$18:$C$24,WEEKDAY(D8&".05."&Year)),"") -> Mon | E7: =IFERROR(INDEX(Cal!$C$18:$C$24,WEEKDAY(E8&".05."&Year)),"") -> Tue | F7: =IFERROR(INDEX(Cal!$C$18:$C$24,WEEKDAY(F8&".05."&Year)),"") -> Wed | G7: =IFERROR(INDEX(Cal!$C$18:$C$24,WEEKDAY(G8&".05."&Year)),"") -> Thu | H7: =IFERROR(INDEX(Cal!$C$18:$C$24,WEEKDAY(H8&".05."&Year)),"") -> Fri | I7: =IFERROR(INDEX(Cal!$C$18:$C$24,WEEKDAY(I8&".05."&Year)),"") -> Sat | J7: =IFERROR(INDEX(Cal!$C$18:$C$24,WEEKDAY(J8&".05."&Year)),"") -> Sun | K7: =IFERROR(INDEX(Cal!$C$18:$C$24,WEEKDAY(K8&".05."&Year)),"") -> Mon | ... AH7: =IFERROR(INDEX(Cal!$C$18:$C$24,WEEKDAY(AH8&".05."&Year)),"") -> Wed
C8: Jemima Begum | D8: 1 | E8: 2 | F8: 3 | G8: 4 | H8: 5 | I8: 6 | J8: 7 | K8: 8 | L8: 9 | M8: 10 | N8: 11 | O8: 12 | P8: 13 | Q8: 14 | R8: 15 | S8: 16 | T8: 17 | U8: 18 | V8: 19 | W8: 20 | X8: 21 | Y8: 22 | Z8: 23 | AA8: 24 | AB8: 25 | AC8: 26 | AD8: 27 | AE8: 28 | AF8: 29 | AG8: 30 | AH8: 31 | AI8: Total
C9: Standard Hours | D9: 8 | E9: 8 | F9: 8 | G9: 8 | H9: 8 | K9: 6 | L9: 8 | M9: 8 | N9: 8 | O9: 8 | P9: 8 | R9: 4 | S9: 4 | T9: 4 | U9: 4 | V9: 4 | W9: 4 | Y9: 8 | Z9: 8 | AA9: 8 | AB9: 8 | AC9: 8 | AF9: 8 | AG9: 8 | AH9: 8 | AI9: =IF(LEN(C8)=0,"",SUM(D9:AH9)) -> 174
C10: Overtime Hours | AI10: =IF(LEN(C8)=0,"",SUM(D10:AH10)) -> 0
C11: Overtime Salary(Hourly) | AI11: =IF(LEN(C8)=0,"",SUMPRODUCT(D10:AH10,D11:AH11)) -> 0
C12: Total Hours | D12: =IFERROR(IF(AND(LEN(D9)=0,LEN(D10)=0),"",D9+D10),"") -> 8 | E12: =IFERROR(IF(AND(LEN(E9)=0,LEN(E10)=0),"",E9+E10),"") -> 8 | F12: =IFERROR(IF(AND(LEN(F9)=0,LEN(F10)=0),"",F9+F10),"") -> 8 | G12: =IFERROR(IF(AND(LEN(G9)=0,LEN(G10)=0),"",G9+G10),"") -> 8 | H12: =IFERROR(IF(AND(LEN(H9)=0,LEN(H10)=0),"",H9+H10),"") -> 8 | I12: =IFERROR(IF(AND(LEN(I9)=0,LEN(I10)=0),"",I9+I10),"") | J12: =IFERROR(IF(AND(LEN(J9)=0,LEN(J10)=0),"",J9+J10),"") | K12: =IFERROR(IF(AND(LEN(K9)=0,LEN(K10)=0),"",K9+K10),"") -> 6 | ... AH12: =IFERROR(IF(AND(LEN(AH9)=0,LEN(AH10)=0),"",AH9+AH10),"") -> 8 | AI12: =IF(LEN(C8)=0,"",SUM(D12:AH12)) -> 174
C14: Employee Name | D14: =D$7 -> Mon | E14: =E$7 -> Tue | F14: =F$7 -> Wed | G14: =G$7 -> Thu | H14: =H$7 -> Fri | I14: =I$7 -> Sat | J14: =J$7 -> Sun | K14: =K$7 -> Mon | ... AH14: =AH$7 -> Wed
C15: Mercedes Banks | D15: 1 | E15: 2 | F15: 3 | G15: 4 | H15: 5 | I15: 6 | J15: 7 | K15: 8 | L15: 9 | M15: 10 | N15: 11 | O15: 12 | P15: 13 | Q15: 14 | R15: 15 | S15: 16 | T15: 17 | U15: 18 | V15: 19 | W15: 20 | X15: 21 | Y15: 22 | Z15: 23 | AA15: 24 | AB15: 25 | AC15: 26 | AD15: 27 | AE15: 28 | AF15: 29 | AG15: 30 | AH15: 31 | AI15: Total
C16: Standard Hours | D16: 8 | E16: 8 | F16: 8 | G16: 8 | H16: 8 | K16: 8 | L16: 8 | M16: 8 | N16: 8 | O16: 8 | R16: 8 | S16: 8 | T16: 8 | U16: 8 | V16: 8 | Y16: 8 | Z16: 8 | AA16: 8 | AB16: 8 | AC16: 8 | AF16: 4 | AG16: 4 | AH16: 4 | AI16: =IF(LEN(C15)=0,"",SUM(D16:AH16)) -> 172
C17: Overtime Hours | R17: 2 | S17: 2 | AI17: =IF(LEN(C15)=0,"",SUM(D17:AH17)) -> 4
C18: Overtime Salary(Hourly) | R18: 40 | S18: 40 | AI18: =IF(LEN(C15)=0,"",SUMPRODUCT(D17:AH17,D18:AH18)) -> 160
C19: Total Hours | D19: =IFERROR(IF(AND(LEN(D16)=0,LEN(D17)=0),"",D16+D17),"") -> 8 | E19: =IFERROR(IF(AND(LEN(E16)=0,LEN(E17)=0),"",E16+E17),"") -> 8 | F19: =IFERROR(IF(AND(LEN(F16)=0,LEN(F17)=0),"",F16+F17),"") -> 8 | G19: =IFERROR(IF(AND(LEN(G16)=0,LEN(G17)=0),"",G16+G17),"") -> 8 | H19: =IFERROR(IF(AND(LEN(H16)=0,LEN(H17)=0),"",H16+H17),"") -> 8 | I19: =IFERROR(IF(AND(LEN(I16)=0,LEN(I17)=0),"",I16+I17),"") | J19: =IFERROR(IF(AND(LEN(J16)=0,LEN(J17)=0),"",J16+J17),"") | K19: =IFERROR(IF(AND(LEN(K16)=0,LEN(K17)=0),"",K16+K17),"") -> 8 | ... AH19: =IFERROR(IF(AND(LEN(AH16)=0,LEN(AH17)=0),"",AH16+AH17),"") -> 4 | AI19: =IF(LEN(C15)=0,"",SUM(D19:AH19)) -> 176
C21: Employee Name | D21: =D$7 -> Mon | E21: =E$7 -> Tue | F21: =F$7 -> Wed | G21: =G$7 -> Thu | H21: =H$7 -> Fri | I21: =I$7 -> Sat | J21: =J$7 -> Sun | K21: =K$7 -> Mon | ... AH21: =AH$7 -> Wed
D22: 1 | E22: 2 | F22: 3 | G22: 4 | H22: 5 | I22: 6 | J22: 7 | K22: 8 | L22: 9 | M22: 10 | N22: 11 | O22: 12 | P22: 13 | Q22: 14 | R22: 15 | S22: 16 | T22: 17 | U22: 18 | V22: 19 | W22: 20 | X22: 21 | Y22: 22 | Z22: 23 | AA22: 24 | AB22: 25 | AC22: 26 | AD22: 27 | AE22: 28 | AF22: 29 | AG22: 30 | AH22: 31 | AI22: Total
C23: Standard Hours | AI23: =IF(LEN(C22)=0,"",SUM(D23:AH23))
C24: Overtime Hours | AI24: =IF(LEN(C22)=0,"",SUM(D24:AH24))
C25: Overtime Salary(Hourly) | AI25: =IF(LEN(C22)=0,"",SUMPRODUCT(D24:AH24,D25:AH25))
C26: Total Hours | D26: =IFERROR(IF(AND(LEN(D23)=0,LEN(D24)=0),"",D23+D24),"") | E26: =IFERROR(IF(AND(LEN(E23)=0,LEN(E24)=0),"",E23+E24),"") | F26: =IFERROR(IF(AND(LEN(F23)=0,LEN(F24)=0),"",F23+F24),"") | G26: =IFERROR(IF(AND(LEN(G23)=0,LEN(G24)=0),"",G23+G24),"") | H26: =IFERROR(IF(AND(LEN(H23)=0,LEN(H24)=0),"",H23+H24),"") | I26: =IFERROR(IF(AND(LEN(I23)=0,LEN(I24)=0),"",I23+I24),"") | J26: =IFERROR(IF(AND(LEN(J23)=0,LEN(J24)=0),"",J23+J24),"") | K26: =IFERROR(IF(AND(LEN(K23)=0,LEN(K24)=0),"",K23+K24),"") | ... AH26: =IFERROR(IF(AND(LEN(AH23)=0,LEN(AH24)=0),"",AH23+AH24),"") | AI26: =IF(LEN(C22)=0,"",SUM(D26:AH26))
C28: Employee Name | D28: =D$7 -> Mon | E28: =E$7 -> Tue | F28: =F$7 -> Wed | G28: =G$7 -> Thu | H28: =H$7 -> Fri | I28: =I$7 -> Sat | J28: =J$7 -> Sun | K28: =K$7 -> Mon | ... AH28: =AH$7 -> Wed
D29: 1 | E29: 2 | F29: 3 | G29: 4 | H29: 5 | I29: 6 | J29: 7 | K29: 8 | L29: 9 | M29: 10 | N29: 11 | O29: 12 | P29: 13 | Q29: 14 | R29: 15 | S29: 16 | T29: 17 | U29: 18 | V29: 19 | W29: 20 | X29: 21 | Y29: 22 | Z29: 23 | AA29: 24 | AB29: 25 | AC29: 26 | AD29: 27 | AE29: 28 | AF29: 29 | AG29: 30 | AH29: 31 | AI29: Total
C30: Standard Hours | AI30: =IF(LEN(C29)=0,"",SUM(D30:AH30))
C31: Overtime Hours | AI31: =IF(LEN(C29)=0,"",SUM(D31:AH31))
C32: Overtime Salary(Hourly) | AI32: =IF(LEN(C29)=0,"",SUMPRODUCT(D31:AH31,D32:AH32))
C33: Total Hours | D33: =IFERROR(IF(AND(LEN(D30)=0,LEN(D31)=0),"",D30+D31),"") | E33: =IFERROR(IF(AND(LEN(E30)=0,LEN(E31)=0),"",E30+E31),"") | F33: =IFERROR(IF(AND(LEN(F30)=0,LEN(F31)=0),"",F30+F31),"") | G33: =IFERROR(IF(AND(LEN(G30)=0,LEN(G31)=0),"",G30+G31),"") | H33: =IFERROR(IF(AND(LEN(H30)=0,LEN(H31)=0),"",H30+H31),"") | I33: =IFERROR(IF(AND(LEN(I30)=0,LEN(I31)=0),"",I30+I31),"") | J33: =IFERROR(IF(AND(LEN(J30)=0,LEN(J31)=0),"",J30+J31),"") | K33: =IFERROR(IF(AND(LEN(K30)=0,LEN(K31)=0),"",K30+K31),"") | ... AH33: =IFERROR(IF(AND(LEN(AH30)=0,LEN(AH31)=0),"",AH30+AH31),"") | AI33: =IF(LEN(C29)=0,"",SUM(D33:AH33))
C35: Employee Name | D35: =D$7 -> Mon | E35: =E$7 -> Tue | F35: =F$7 -> Wed | G35: =G$7 -> Thu | H35: =H$7 -> Fri | I35: =I$7 -> Sat | J35: =J$7 -> Sun | K35: =K$7 -> Mon | ... AH35: =AH$7 -> Wed
D36: 1 | E36: 2 | F36: 3 | G36: 4 | H36: 5 | I36: 6 | J36: 7 | K36: 8 | L36: 9 | M36: 10 | N36: 11 | O36: 12 | P36: 13 | Q36: 14 | R36: 15 | S36: 16 | T36: 17 | U36: 18 | V36: 19 | W36: 20 | X36: 21 | Y36: 22 | Z36: 23 | AA36: 24 | AB36: 25 | AC36: 26 | AD36: 27 | AE36: 28 | AF36: 29 | AG36: 30 | AH36: 31 | AI36: Total
C37: Standard Hours | AI37: =IF(LEN(C36)=0,"",SUM(D37:AH37))
C38: Overtime Hours | AI38: =IF(LEN(C36)=0,"",SUM(D38:AH38))
C39: Overtime Salary(Hourly) | AI39: =IF(LEN(C36)=0,"",SUMPRODUCT(D38:AH38,D39:AH39))
C40: Total Hours | D40: =IFERROR(IF(AND(LEN(D37)=0,LEN(D38)=0),"",D37+D38),"") | E40: =IFERROR(IF(AND(LEN(E37)=0,LEN(E38)=0),"",E37+E38),"") | F40: =IFERROR(IF(AND(LEN(F37)=0,LEN(F38)=0),"",F37+F38),"") | G40: =IFERROR(IF(AND(LEN(G37)=0,LEN(G38)=0),"",G37+G38),"") | H40: =IFERROR(IF(AND(LEN(H37)=0,LEN(H38)=0),"",H37+H38),"") | I40: =IFERROR(IF(AND(LEN(I37)=0,LEN(I38)=0),"",I37+I38),"") | J40: =IFERROR(IF(AND(LEN(J37)=0,LEN(J38)=0),"",J37+J38),"") | K40: =IFERROR(IF(AND(LEN(K37)=0,LEN(K38)=0),"",K37+K38),"") | ... AH40: =IFERROR(IF(AND(LEN(AH37)=0,LEN(AH38)=0),"",AH37+AH38),"") | AI40: =IF(LEN(C36)=0,"",SUM(D40:AH40))
C42: Employee Name | D42: =D$7 -> Mon | E42: =E$7 -> Tue | F42: =F$7 -> Wed | G42: =G$7 -> Thu | H42: =H$7 -> Fri | I42: =I$7 -> Sat | J42: =J$7 -> Sun | K42: =K$7 -> Mon | ... AH42: =AH$7 -> Wed
D43: 1 | E43: 2 | F43: 3 | G43: 4 | H43: 5 | I43: 6 | J43: 7 | K43: 8 | L43: 9 | M43: 10 | N43: 11 | O43: 12 | P43: 13 | Q43: 14 | R43: 15 | S43: 16 | T43: 17 | U43: 18 | V43: 19 | W43: 20 | X43: 21 | Y43: 22 | Z43: 23 | AA43: 24 | AB43: 25 | AC43: 26 | AD43: 27 | AE43: 28 | AF43: 29 | AG43: 30 | AH43: 31 | AI43: Total
C44: Standard Hours
C45: Overtime Hours
C46: Overtime Salary(Hourly)
C47: Total Hours
C49: Employee Name | D49: =D$7 -> Mon | E49: =E$7 -> Tue | F49: =F$7 -> Wed | G49: =G$7 -> Thu | H49: =H$7 -> Fri | I49: =I$7 -> Sat | J49: =J$7 -> Sun | K49: =K$7 -> Mon | ... AH49: =AH$7 -> Wed
D50: 1 | E50: 2 | F50: 3 | G50: 4 | H50: 5 | I50: 6 | J50: 7 | K50: 8 | L50: 9 | M50: 10 | N50: 11 | O50: 12 | P50: 13 | Q50: 14 | R50: 15 | S50: 16 | T50: 17 | U50: 18 | V50: 19 | W50: 20 | X50: 21 | Y50: 22 | Z50: 23 | AA50: 24 | AB50: 25 | AC50: 26 | AD50: 27 | AE50: 28 | AF50: 29 | AG50: 30 | AH50: 31 | AI50: Total
...

Sheet Jun
C2: MONTHLY EMPLOYEE TIMESHEET
C3: JUNE
C7: Employee Name | D7: =IFERROR(INDEX(Cal!$C$18:$C$24,WEEKDAY(D8&".06."&Year)),"") -> Thu | E7: =IFERROR(INDEX(Cal!$C$18:$C$24,WEEKDAY(E8&".06."&Year)),"") -> Fri | F7: =IFERROR(INDEX(Cal!$C$18:$C$24,WEEKDAY(F8&".06."&Year)),"") -> Sat | G7: =IFERROR(INDEX(Cal!$C$18:$C$24,WEEKDAY(G8&".06."&Year)),"") -> Sun | H7: =IFERROR(INDEX(Cal!$C$18:$C$24,WEEKDAY(H8&".06."&Year)),"") -> Mon | I7: =IFERROR(INDEX(Cal!$C$18:$C$24,WEEKDAY(I8&".06."&Year)),"") -> Tue | J7: =IFERROR(INDEX(Cal!$C$18:$C$24,WEEKDAY(J8&".06."&Year)),"") -> Wed | K7: =IFERROR(INDEX(Cal!$C$18:$C$24,WEEKDAY(K8&".06."&Year)),"") -> Thu | ... AG7: =IFERROR(INDEX(Cal!$C$18:$C$24,WEEKDAY(AG8&".06."&Year)),"") -> Fri
D8: 1 | E8: 2 | F8: 3 | G8: 4 | H8: 5 | I8: 6 | J8: 7 | K8: 8 | L8: 9 | M8: 10 | N8: 11 | O8: 12 | P8: 13 | Q8: 14 | R8: 15 | S8: 16 | T8: 17 | U8: 18 | V8: 19 | W8: 20 | X8: 21 | Y8: 22 | Z8: 23 | AA8: 24 | AB8: 25 | AC8: 26 | AD8: 27 | AE8: 28 | AF8: 29 | AG8: 30 | AI8: Total
C9: Standard Hours | AI9: =IF(LEN(C8)=0,"",SUM(D9:AG9))
C10: Overtime Hours | AI10: =IF(LEN(C8)=0,"",SUM(D10:AG10))
C11: Overtime Salary(Hourly) | AI11: =IF(LEN(C8)=0,"",SUMPRODUCT(D10:AG10,D11:AG11))
C12: Total Hours | D12: =IFERROR(IF(AND(LEN(D9)=0,LEN(D10)=0),"",D9+D10),"") | E12: =IFERROR(IF(AND(LEN(E9)=0,LEN(E10)=0),"",E9+E10),"") | F12: =IFERROR(IF(AND(LEN(F9)=0,LEN(F10)=0),"",F9+F10),"") | G12: =IFERROR(IF(AND(LEN(G9)=0,LEN(G10)=0),"",G9+G10),"") | H12: =IFERROR(IF(AND(LEN(H9)=0,LEN(H10)=0),"",H9+H10),"") | I12: =IFERROR(IF(AND(LEN(I9)=0,LEN(I10)=0),"",I9+I10),"") | J12: =IFERROR(IF(AND(LEN(J9)=0,LEN(J10)=0),"",J9+J10),"") | K12: =IFERROR(IF(AND(LEN(K9)=0,LEN(K10)=0),"",K9+K10),"") | ... AG12: =IFERROR(IF(AND(LEN(AG9)=0,LEN(AG10)=0),"",AG9+AG10),"") | AI12: =IF(LEN(C8)=0,"",SUM(D12:AG12))
C14: Employee Name | D14: =D$7 -> Thu | E14: =E$7 -> Fri | F14: =F$7 -> Sat | G14: =G$7 -> Sun | H14: =H$7 -> Mon | I14: =I$7 -> Tue | J14: =J$7 -> Wed | K14: =K$7 -> Thu | ... AG14: =AG$7 -> Fri
D15: 1 | E15: 2 | F15: 3 | G15: 4 | H15: 5 | I15: 6 | J15: 7 | K15: 8 | L15: 9 | M15: 10 | N15: 11 | O15: 12 | P15: 13 | Q15: 14 | R15: 15 | S15: 16 | T15: 17 | U15: 18 | V15: 19 | W15: 20 | X15: 21 | Y15: 22 | Z15: 23 | AA15: 24 | AB15: 25 | AC15: 26 | AD15: 27 | AE15: 28 | AF15: 29 | AG15: 30 | AI15: Total
C16: Standard Hours | AI16: =IF(LEN(C15)=0,"",SUM(D16:AG16))
C17: Overtime Hours | AI17: =IF(LEN(C15)=0,"",SUM(D17:AG17))
C18: Overtime Salary(Hourly) | AI18: =IF(LEN(C15)=0,"",SUMPRODUCT(D17:AG17,D18:AG18))
C19: Total Hours | D19: =IFERROR(IF(AND(LEN(D16)=0,LEN(D17)=0),"",D16+D17),"") | E19: =IFERROR(IF(AND(LEN(E16)=0,LEN(E17)=0),"",E16+E17),"") | F19: =IFERROR(IF(AND(LEN(F16)=0,LEN(F17)=0),"",F16+F17),"") | G19: =IFERROR(IF(AND(LEN(G16)=0,LEN(G17)=0),"",G16+G17),"") | H19: =IFERROR(IF(AND(LEN(H16)=0,LEN(H17)=0),"",H16+H17),"") | I19: =IFERROR(IF(AND(LEN(I16)=0,LEN(I17)=0),"",I16+I17),"") | J19: =IFERROR(IF(AND(LEN(J16)=0,LEN(J17)=0),"",J16+J17),"") | K19: =IFERROR(IF(AND(LEN(K16)=0,LEN(K17)=0),"",K16+K17),"") | ... AG19: =IFERROR(IF(AND(LEN(AG16)=0,LEN(AG17)=0),"",AG16+AG17),"") | AI19: =IF(LEN(C15)=0,"",SUM(D19:AG19))
C21: Employee Name | D21: =D$7 -> Thu | E21: =E$7 -> Fri | F21: =F$7 -> Sat | G21: =G$7 -> Sun | H21: =H$7 -> Mon | I21: =I$7 -> Tue | J21: =J$7 -> Wed | K21: =K$7 -> Thu | ... AG21: =AG$7 -> Fri
D22: 1 | E22: 2 | F22: 3 | G22: 4 | H22: 5 | I22: 6 | J22: 7 | K22: 8 | L22: 9 | M22: 10 | N22: 11 | O22: 12 | P22: 13 | Q22: 14 | R22: 15 | S22: 16 | T22: 17 | U22: 18 | V22: 19 | W22: 20 | X22: 21 | Y22: 22 | Z22: 23 | AA22: 24 | AB22: 25 | AC22: 26 | AD22: 27 | AE22: 28 | AF22: 29 | AG22: 30 | AI22: Total
C23: Standard Hours | AI23: =IF(LEN(C22)=0,"",SUM(D23:AG23))
C24: Overtime Hours | AI24: =IF(LEN(C22)=0,"",SUM(D24:AG24))
C25: Overtime Salary(Hourly) | AI25: =IF(LEN(C22)=0,"",SUMPRODUCT(D24:AG24,D25:AG25))
C26: Total Hours | D26: =IFERROR(IF(AND(LEN(D23)=0,LEN(D24)=0),"",D23+D24),"") | E26: =IFERROR(IF(AND(LEN(E23)=0,LEN(E24)=0),"",E23+E24),"") | F26: =IFERROR(IF(AND(LEN(F23)=0,LEN(F24)=0),"",F23+F24),"") | G26: =IFERROR(IF(AND(LEN(G23)=0,LEN(G24)=0),"",G23+G24),"") | H26: =IFERROR(IF(AND(LEN(H23)=0,LEN(H24)=0),"",H23+H24),"") | I26: =IFERROR(IF(AND(LEN(I23)=0,LEN(I24)=0),"",I23+I24),"") | J26: =IFERROR(IF(AND(LEN(J23)=0,LEN(J24)=0),"",J23+J24),"") | K26: =IFERROR(IF(AND(LEN(K23)=0,LEN(K24)=0),"",K23+K24),"") | ... AG26: =IFERROR(IF(AND(LEN(AG23)=0,LEN(AG24)=0),"",AG23+AG24),"") | AI26: =IF(LEN(C22)=0,"",SUM(D26:AG26))
C28: Employee Name | D28: =D$7 -> Thu | E28: =E$7 -> Fri | F28: =F$7 -> Sat | G28: =G$7 -> Sun | H28: =H$7 -> Mon | I28: =I$7 -> Tue | J28: =J$7 -> Wed | K28: =K$7 -> Thu | ... AG28: =AG$7 -> Fri
D29: 1 | E29: 2 | F29: 3 | G29: 4 | H29: 5 | I29: 6 | J29: 7 | K29: 8 | L29: 9 | M29: 10 | N29: 11 | O29: 12 | P29: 13 | Q29: 14 | R29: 15 | S29: 16 | T29: 17 | U29: 18 | V29: 19 | W29: 20 | X29: 21 | Y29: 22 | Z29: 23 | AA29: 24 | AB29: 25 | AC29: 26 | AD29: 27 | AE29: 28 | AF29: 29 | AG29: 30 | AI29: Total
C30: Standard Hours | AI30: =IF(LEN(C29)=0,"",SUM(D30:AG30))
C31: Overtime Hours | AI31: =IF(LEN(C29)=0,"",SUM(D31:AG31))
C32: Overtime Salary(Hourly) | AI32: =IF(LEN(C29)=0,"",SUMPRODUCT(D31:AG31,D32:AG32))
C33: Total Hours | D33: =IFERROR(IF(AND(LEN(D30)=0,LEN(D31)=0),"",D30+D31),"") | E33: =IFERROR(IF(AND(LEN(E30)=0,LEN(E31)=0),"",E30+E31),"") | F33: =IFERROR(IF(AND(LEN(F30)=0,LEN(F31)=0),"",F30+F31),"") | G33: =IFERROR(IF(AND(LEN(G30)=0,LEN(G31)=0),"",G30+G31),"") | H33: =IFERROR(IF(AND(LEN(H30)=0,LEN(H31)=0),"",H30+H31),"") | I33: =IFERROR(IF(AND(LEN(I30)=0,LEN(I31)=0),"",I30+I31),"") | J33: =IFERROR(IF(AND(LEN(J30)=0,LEN(J31)=0),"",J30+J31),"") | K33: =IFERROR(IF(AND(LEN(K30)=0,LEN(K31)=0),"",K30+K31),"") | ... AG33: =IFERROR(IF(AND(LEN(AG30)=0,LEN(AG31)=0),"",AG30+AG31),"") | AI33: =IF(LEN(C29)=0,"",SUM(D33:AG33))
C35: Employee Name | D35: =D$7 -> Thu | E35: =E$7 -> Fri | F35: =F$7 -> Sat | G35: =G$7 -> Sun | H35: =H$7 -> Mon | I35: =I$7 -> Tue | J35: =J$7 -> Wed | K35: =K$7 -> Thu | ... AG35: =AG$7 -> Fri
D36: 1 | E36: 2 | F36: 3 | G36: 4 | H36: 5 | I36: 6 | J36: 7 | K36: 8 | L36: 9 | M36: 10 | N36: 11 | O36: 12 | P36: 13 | Q36: 14 | R36: 15 | S36: 16 | T36: 17 | U36: 18 | V36: 19 | W36: 20 | X36: 21 | Y36: 22 | Z36: 23 | AA36: 24 | AB36: 25 | AC36: 26 | AD36: 27 | AE36: 28 | AF36: 29 | AG36: 30 | AI36: Total
C37: Standard Hours
C38: Overtime Hours
C39: Overtime Salary(Hourly)
C40: Total Hours
C42: Employee Name | D42: =D$7 -> Thu | E42: =E$7 -> Fri | F42: =F$7 -> Sat | G42: =G$7 -> Sun | H42: =H$7 -> Mon | I42: =I$7 -> Tue | J42: =J$7 -> Wed | K42: =K$7 -> Thu | ... AG42: =AG$7 -> Fri
D43: 1 | E43: 2 | F43: 3 | G43: 4 | H43: 5 | I43: 6 | J43: 7 | K43: 8 | L43: 9 | M43: 10 | N43: 11 | O43: 12 | P43: 13 | Q43: 14 | R43: 15 | S43: 16 | T43: 17 | U43: 18 | V43: 19 | W43: 20 | X43: 21 | Y43: 22 | Z43: 23 | AA43: 24 | AB43: 25 | AC43: 26 | AD43: 27 | AE43: 28 | AF43: 29 | AG43: 30 | AI43: Total
C44: Standard Hours
C45: Overtime Hours
C46: Overtime Salary(Hourly)
C47: Total Hours
C49: Employee Name | D49: =D$7 -> Thu | E49: =E$7 -> Fri | F49: =F$7 -> Sat | G49: =G$7 -> Sun | H49: =H$7 -> Mon | I49: =I$7 -> Tue | J49: =J$7 -> Wed | K49: =K$7 -> Thu | ... AG49: =AG$7 -> Fri
D50: 1 | E50: 2 | F50: 3 | G50: 4 | H50: 5 | I50: 6 | J50: 7 | K50: 8 | L50: 9 | M50: 10 | N50: 11 | O50: 12 | P50: 13 | Q50: 14 | R50: 15 | S50: 16 | T50: 17 | U50: 18 | V50: 19 | W50: 20 | X50: 21 | Y50: 22 | Z50: 23 | AA50: 24 | AB50: 25 | AC50: 26 | AD50: 27 | AE50: 28 | AF50: 29 | AG50: 30 | AI50: Total
...

Sheet Jul
C2: MONTHLY EMPLOYEE TIMESHEET
C3: JULY
C7: Employee Name | D7: =IFERROR(INDEX(Cal!$C$18:$C$24,WEEKDAY(D8&".07."&Year)),"") -> Sat | E7: =IFERROR(INDEX(Cal!$C$18:$C$24,WEEKDAY(E8&".07."&Year)),"") -> Sun | F7: =IFERROR(INDEX(Cal!$C$18:$C$24,WEEKDAY(F8&".07."&Year)),"") -> Mon | G7: =IFERROR(INDEX(Cal!$C$18:$C$24,WEEKDAY(G8&".07."&Year)),"") -> Tue | H7: =IFERROR(INDEX(Cal!$C$18:$C$24,WEEKDAY(H8&".07."&Year)),"") -> Wed | I7: =IFERROR(INDEX(Cal!$C$18:$C$24,WEEKDAY(I8&".07."&Year)),"") -> Thu | J7: =IFERROR(INDEX(Cal!$C$18:$C$24,WEEKDAY(J8&".07."&Year)),"") -> Fri | K7: =IFERROR(INDEX(Cal!$C$18:$C$24,WEEKDAY(K8&".07."&Year)),"") -> Sat | ... AH7: =IFERROR(INDEX(Cal!$C$18:$C$24,WEEKDAY(AH8&".07."&Year)),"") -> Mon
D8: 1 | E8: 2 | F8: 3 | G8: 4 | H8: 5 | I8: 6 | J8: 7 | K8: 8 | L8: 9 | M8: 10 | N8: 11 | O8: 12 | P8: 13 | Q8: 14 | R8: 15 | S8: 16 | T8: 17 | U8: 18 | V8: 19 | W8: 20 | X8: 21 | Y8: 22 | Z8: 23 | AA8: 24 | AB8: 25 | AC8: 26 | AD8: 27 | AE8: 28 | AF8: 29 | AG8: 30 | AH8: 31 | AI8: Total
C9: Standard Hours | AI9: =IF(LEN(C8)=0,"",SUM(D9:AH9))
C10: Overtime Hours | AI10: =IF(LEN(C8)=0,"",SUM(D10:AH10))
C11: Overtime Salary(Hourly) | AI11: =IF(LEN(C8)=0,"",SUMPRODUCT(D10:AH10,D11:AH11))
C12: Total Hours | D12: =IFERROR(IF(AND(LEN(D9)=0,LEN(D10)=0),"",D9+D10),"") | E12: =IFERROR(IF(AND(LEN(E9)=0,LEN(E10)=0),"",E9+E10),"") | F12: =IFERROR(IF(AND(LEN(F9)=0,LEN(F10)=0),"",F9+F10),"") | G12: =IFERROR(IF(AND(LEN(G9)=0,LEN(G10)=0),"",G9+G10),"") | H12: =IFERROR(IF(AND(LEN(H9)=0,LEN(H10)=0),"",H9+H10),"") | I12: =IFERROR(IF(AND(LEN(I9)=0,LEN(I10)=0),"",I9+I10),"") | J12: =IFERROR(IF(AND(LEN(J9)=0,LEN(J10)=0),"",J9+J10),"") | K12: =IFERROR(IF(AND(LEN(K9)=0,LEN(K10)=0),"",K9+K10),"") | ... AH12: =IFERROR(IF(AND(LEN(AH9)=0,LEN(AH10)=0),"",AH9+AH10),"") | AI12: =IF(LEN(C8)=0,"",SUM(D12:AH12))
C14: Employee Name | D14: =D$7 -> Sat | E14: =E$7 -> Sun | F14: =F$7 -> Mon | G14: =G$7 -> Tue | H14: =H$7 -> Wed | I14: =I$7 -> Thu | J14: =J$7 -> Fri | K14: =K$7 -> Sat | ... AH14: =AH$7 -> Mon
D15: 1 | E15: 2 | F15: 3 | G15: 4 | H15: 5 | I15: 6 | J15: 7 | K15: 8 | L15: 9 | M15: 10 | N15: 11 | O15: 12 | P15: 13 | Q15: 14 | R15: 15 | S15: 16 | T15: 17 | U15: 18 | V15: 19 | W15: 20 | X15: 21 | Y15: 22 | Z15: 23 | AA15: 24 | AB15: 25 | AC15: 26 | AD15: 27 | AE15: 28 | AF15: 29 | AG15: 30 | AH15: 31 | AI15: Total
C16: Standard Hours | AI16: =IF(LEN(C15)=0,"",SUM(D16:AH16))
C17: Overtime Hours | AI17: =IF(LEN(C15)=0,"",SUM(D17:AH17))
C18: Overtime Salary(Hourly) | AI18: =IF(LEN(C15)=0,"",SUMPRODUCT(D17:AH17,D18:AH18))
C19: Total Hours | D19: =IFERROR(IF(AND(LEN(D16)=0,LEN(D17)=0),"",D16+D17),"") | E19: =IFERROR(IF(AND(LEN(E16)=0,LEN(E17)=0),"",E16+E17),"") | F19: =IFERROR(IF(AND(LEN(F16)=0,LEN(F17)=0),"",F16+F17),"") | G19: =IFERROR(IF(AND(LEN(G16)=0,LEN(G17)=0),"",G16+G17),"") | H19: =IFERROR(IF(AND(LEN(H16)=0,LEN(H17)=0),"",H16+H17),"") | I19: =IFERROR(IF(AND(LEN(I16)=0,LEN(I17)=0),"",I16+I17),"") | J19: =IFERROR(IF(AND(LEN(J16)=0,LEN(J17)=0),"",J16+J17),"") | K19: =IFERROR(IF(AND(LEN(K16)=0,LEN(K17)=0),"",K16+K17),"") | ... AH19: =IFERROR(IF(AND(LEN(AH16)=0,LEN(AH17)=0),"",AH16+AH17),"") | AI19: =IF(LEN(C15)=0,"",SUM(D19:AH19))
C21: Employee Name | D21: =D$7 -> Sat | E21: =E$7 -> Sun | F21: =F$7 -> Mon | G21: =G$7 -> Tue | H21: =H$7 -> Wed | I21: =I$7 -> Thu | J21: =J$7 -> Fri | K21: =K$7 -> Sat | ... AH21: =AH$7 -> Mon
D22: 1 | E22: 2 | F22: 3 | G22: 4 | H22: 5 | I22: 6 | J22: 7 | K22: 8 | L22: 9 | M22: 10 | N22: 11 | O22: 12 | P22: 13 | Q22: 14 | R22: 15 | S22: 16 | T22: 17 | U22: 18 | V22: 19 | W22: 20 | X22: 21 | Y22: 22 | Z22: 23 | AA22: 24 | AB22: 25 | AC22: 26 | AD22: 27 | AE22: 28 | AF22: 29 | AG22: 30 | AH22: 31 | AI22: Total
C23: Standard Hours | AI23: =IF(LEN(C22)=0,"",SUM(D23:AH23))
C24: Overtime Hours | AI24: =IF(LEN(C22)=0,"",SUM(D24:AH24))
C25: Overtime Salary(Hourly) | AI25: =IF(LEN(C22)=0,"",SUMPRODUCT(D24:AH24,D25:AH25))
