Workbook

Sheet Jobs
B2: AUTOMATIC SCHEDULE GENERATOR
B3: JOB LIST
B5: MONTH | C5: DAY | D5: YEAR | E5: JOB LIST | F5: NOTES | H5: Day of Week | J5: Control Panel
B6: 9 | C6: 11 | D6: 2021 | E6: Important meeting with client | H6: =INDEX(Calc!$P$4:$P$503,Calc!$J4,1) -> Saturday | J6: =IF(LEN($E6)>40,"← "&LEN($E6)&" characters !","")
B7: 9 | C7: 12 | D7: 2021 | E7: Meeting with suppliers | H7: =INDEX(Calc!$P$4:$P$503,Calc!$J5,1) -> Sunday | J7: =IF(LEN($E7)>40,"← "&LEN($E7)&" characters !","")
B8: 9 | C8: 13 | D8: 2021 | E8: Buy new equipment | H8: =INDEX(Calc!$P$4:$P$503,Calc!$J6,1) -> Monday | J8: =IF(LEN($E8)>40,"← "&LEN($E8)&" characters !","")
B9: 10 | C9: 7 | D9: 2021 | E9: CNC cutting part 1 | H9: =INDEX(Calc!$P$4:$P$503,Calc!$J7,1) -> Thursday | J9: =IF(LEN($E9)>40,"← "&LEN($E9)&" characters !","")
B10: 10 | C10: 8 | D10: 2021 | E10: Josey - Re-Facing | H10: =INDEX(Calc!$P$4:$P$503,Calc!$J8,1) -> Friday | J10: =IF(LEN($E10)>40,"← "&LEN($E10)&" characters !","")
B11: 10 | C11: 9 | D11: 2021 | E11: Josey - Delivery | H11: =INDEX(Calc!$P$4:$P$503,Calc!$J9,1) -> Saturday | J11: =IF(LEN($E11)>40,"← "&LEN($E11)&" characters !","")
B12: 10 | C12: 10 | D12: 2021 | E12: Josey - Installation | H12: =INDEX(Calc!$P$4:$P$503,Calc!$J10,1) -> Sunday | J12: =IF(LEN($E12)>40,"← "&LEN($E12)&" characters !","")
B13: 11 | C13: 4 | D13: 2021 | E13: Joshi - CNC cutting | H13: =INDEX(Calc!$P$4:$P$503,Calc!$J11,1) -> Thursday | J13: =IF(LEN($E13)>40,"← "&LEN($E13)&" characters !","")
B14: 11 | C14: 5 | D14: 2021 | E14: Deal with the payments | H14: =INDEX(Calc!$P$4:$P$503,Calc!$J12,1) -> Friday | J14: =IF(LEN($E14)>40,"← "&LEN($E14)&" characters !","")
B15: 11 | C15: 6 | D15: 2021 | E15: Joshi - Assembly | H15: =INDEX(Calc!$P$4:$P$503,Calc!$J13,1) -> Saturday | J15: =IF(LEN($E15)>40,"← "&LEN($E15)&" characters !","")
B16: 12 | C16: 11 | D16: 2021 | E16: Joshi - Delivery | H16: =INDEX(Calc!$P$4:$P$503,Calc!$J14,1) -> Saturday | J16: =IF(LEN($E16)>40,"← "&LEN($E16)&" characters !","")
B17: 12 | C17: 12 | D17: 2021 | E17: Joshi - Installation | H17: =INDEX(Calc!$P$4:$P$503,Calc!$J15,1) -> Sunday | J17: =IF(LEN($E17)>40,"← "&LEN($E17)&" characters !","")
... B27: 1 | C27: 18 | D27: 2022 | E27: Update to be sent | H27: =INDEX(Calc!$P$4:$P$503,Calc!$J25,1) -> Tuesday | J27: =IF(LEN($E27)>40,"← "&LEN($E27)&" characters !","")
H28: =INDEX(Calc!$P$4:$P$503,Calc!$J26,1) | J28: =IF(LEN($E28)>40,"← "&LEN($E28)&" characters !","")
H29: =INDEX(Calc!$P$4:$P$503,Calc!$J27,1) | J29: =IF(LEN($E29)>40,"← "&LEN($E29)&" characters !","")
H30: =INDEX(Calc!$P$4:$P$503,Calc!$J28,1) | J30: =IF(LEN($E30)>40,"← "&LEN($E30)&" characters !","")

Sheet Calendar
B2: AUTOMATIC SCHEDULE GENERATOR
B3: CALENDAR
B5: MONTH | C5: January | E5: YEAR | F5: 2022
B8: =IFERROR(IF(WEEKDAY(Calc!$R$4)=2,Calc!$R$4,""),"") | C8: =IFERROR(IF(LEN(B8)>0,B8+1,IF(WEEKDAY(Calc!$R$4)=3,Calc!$R$4,"")),"") | D8: =IFERROR(IF(LEN(C8)>0,C8+1,IF(WEEKDAY(Calc!$R$4)=4,Calc!$R$4,"")),"") | E8: =IFERROR(IF(LEN(D8)>0,D8+1,IF(WEEKDAY(Calc!$R$4)=5,Calc!$R$4,"")),"") | F8: =IFERROR(IF(LEN(E8)>0,E8+1,IF(WEEKDAY(Calc!$R$4)=6,Calc!$R$4,"")),"") | G8: =IFERROR(IF(LEN(F8)>0,F8+1,IF(WEEKDAY(Calc!$R$4)=7,Calc!$R$4,"")),"") -> 44562 | H8: =IFERROR(IF(LEN(G8)>0,G8+1,IF(WEEKDAY(Calc!$R$4)=1,Calc!$R$4,"")),"") -> 44563
B9: {=IFERROR(IF(LEN(B$8)=0,"",LEFT(INDEX(Jobs!$E$6:$E$505,SMALL(IF(Calc!$O$4:$O$503=B$8,ROW(Jobs!$E$6:$E$505),""),Calc!$V4)-ROW(Jobs!$E$6:$E$505)+1),40)),"")} | C9: {=IFERROR(IF(LEN(C$8)=0,"",LEFT(INDEX(Jobs!$E$6:$E$505,SMALL(IF(Calc!$O$4:$O$503=C$8,ROW(Jobs!$E$6:$E$505),""),Calc!$V4)-ROW(Jobs!$E$6:$E$505)+1),40)),"")} | D9: {=IFERROR(IF(LEN(D$8)=0,"",LEFT(INDEX(Jobs!$E$6:$E$505,SMALL(IF(Calc!$O$4:$O$503=D$8,ROW(Jobs!$E$6:$E$505),""),Calc!$V4)-ROW(Jobs!$E$6:$E$505)+1),40)),"")} | E9: {=IFERROR(IF(LEN(E$8)=0,"",LEFT(INDEX(Jobs!$E$6:$E$505,SMALL(IF(Calc!$O$4:$O$503=E$8,ROW(Jobs!$E$6:$E$505),""),Calc!$V4)-ROW(Jobs!$E$6:$E$505)+1),40)),"")} | F9: {=IFERROR(IF(LEN(F$8)=0,"",LEFT(INDEX(Jobs!$E$6:$E$505,SMALL(IF(Calc!$O$4:$O$503=F$8,ROW(Jobs!$E$6:$E$505),""),Calc!$V4)-ROW(Jobs!$E$6:$E$505)+1),40)),"")} | G9: {=IFERROR(IF(LEN(G$8)=0,"",LEFT(INDEX(Jobs!$E$6:$E$505,SMALL(IF(Calc!$O$4:$O$503=G$8,ROW(Jobs!$E$6:$E$505),""),Calc!$V4)-ROW(Jobs!$E$6:$E$505)+1),40)),"")} | H9: {=IFERROR(IF(LEN(H$8)=0,"",LEFT(INDEX(Jobs!$E$6:$E$505,SMALL(IF(Calc!$O$4:$O$503=H$8,ROW(Jobs!$E$6:$E$505),""),Calc!$V4)-ROW(Jobs!$E$6:$E$505)+1),40)),"")}
B10: {=IFERROR(IF(LEN(B$8)=0,"",LEFT(INDEX(Jobs!$E$6:$E$505,SMALL(IF(Calc!$O$4:$O$503=B$8,ROW(Jobs!$E$6:$E$505),""),Calc!$V5)-ROW(Jobs!$E$6:$E$505)+1),40)),"")} | C10: {=IFERROR(IF(LEN(C$8)=0,"",LEFT(INDEX(Jobs!$E$6:$E$505,SMALL(IF(Calc!$O$4:$O$503=C$8,ROW(Jobs!$E$6:$E$505),""),Calc!$V5)-ROW(Jobs!$E$6:$E$505)+1),40)),"")} | D10: {=IFERROR(IF(LEN(D$8)=0,"",LEFT(INDEX(Jobs!$E$6:$E$505,SMALL(IF(Calc!$O$4:$O$503=D$8,ROW(Jobs!$E$6:$E$505),""),Calc!$V5)-ROW(Jobs!$E$6:$E$505)+1),40)),"")} | E10: {=IFERROR(IF(LEN(E$8)=0,"",LEFT(INDEX(Jobs!$E$6:$E$505,SMALL(IF(Calc!$O$4:$O$503=E$8,ROW(Jobs!$E$6:$E$505),""),Calc!$V5)-ROW(Jobs!$E$6:$E$505)+1),40)),"")} | F10: {=IFERROR(IF(LEN(F$8)=0,"",LEFT(INDEX(Jobs!$E$6:$E$505,SMALL(IF(Calc!$O$4:$O$503=F$8,ROW(Jobs!$E$6:$E$505),""),Calc!$V5)-ROW(Jobs!$E$6:$E$505)+1),40)),"")} | G10: {=IFERROR(IF(LEN(G$8)=0,"",LEFT(INDEX(Jobs!$E$6:$E$505,SMALL(IF(Calc!$O$4:$O$503=G$8,ROW(Jobs!$E$6:$E$505),""),Calc!$V5)-ROW(Jobs!$E$6:$E$505)+1),40)),"")} | H10: {=IFERROR(IF(LEN(H$8)=0,"",LEFT(INDEX(Jobs!$E$6:$E$505,SMALL(IF(Calc!$O$4:$O$503=H$8,ROW(Jobs!$E$6:$E$505),""),Calc!$V5)-ROW(Jobs!$E$6:$E$505)+1),40)),"")}
B11: {=IFERROR(IF(LEN(B$8)=0,"",LEFT(INDEX(Jobs!$E$6:$E$505,SMALL(IF(Calc!$O$4:$O$503=B$8,ROW(Jobs!$E$6:$E$505),""),Calc!$V6)-ROW(Jobs!$E$6:$E$505)+1),40)),"")} | C11: {=IFERROR(IF(LEN(C$8)=0,"",LEFT(INDEX(Jobs!$E$6:$E$505,SMALL(IF(Calc!$O$4:$O$503=C$8,ROW(Jobs!$E$6:$E$505),""),Calc!$V6)-ROW(Jobs!$E$6:$E$505)+1),40)),"")} | D11: {=IFERROR(IF(LEN(D$8)=0,"",LEFT(INDEX(Jobs!$E$6:$E$505,SMALL(IF(Calc!$O$4:$O$503=D$8,ROW(Jobs!$E$6:$E$505),""),Calc!$V6)-ROW(Jobs!$E$6:$E$505)+1),40)),"")} | E11: {=IFERROR(IF(LEN(E$8)=0,"",LEFT(INDEX(Jobs!$E$6:$E$505,SMALL(IF(Calc!$O$4:$O$503=E$8,ROW(Jobs!$E$6:$E$505),""),Calc!$V6)-ROW(Jobs!$E$6:$E$505)+1),40)),"")} | F11: {=IFERROR(IF(LEN(F$8)=0,"",LEFT(INDEX(Jobs!$E$6:$E$505,SMALL(IF(Calc!$O$4:$O$503=F$8,ROW(Jobs!$E$6:$E$505),""),Calc!$V6)-ROW(Jobs!$E$6:$E$505)+1),40)),"")} | G11: {=IFERROR(IF(LEN(G$8)=0,"",LEFT(INDEX(Jobs!$E$6:$E$505,SMALL(IF(Calc!$O$4:$O$503=G$8,ROW(Jobs!$E$6:$E$505),""),Calc!$V6)-ROW(Jobs!$E$6:$E$505)+1),40)),"")} | H11: {=IFERROR(IF(LEN(H$8)=0,"",LEFT(INDEX(Jobs!$E$6:$E$505,SMALL(IF(Calc!$O$4:$O$503=H$8,ROW(Jobs!$E$6:$E$505),""),Calc!$V6)-ROW(Jobs!$E$6:$E$505)+1),40)),"")}
B12: {=IFERROR(IF(LEN(B$8)=0,"",LEFT(INDEX(Jobs!$E$6:$E$505,SMALL(IF(Calc!$O$4:$O$503=B$8,ROW(Jobs!$E$6:$E$505),""),Calc!$V7)-ROW(Jobs!$E$6:$E$505)+1),40)),"")} | C12: {=IFERROR(IF(LEN(C$8)=0,"",LEFT(INDEX(Jobs!$E$6:$E$505,SMALL(IF(Calc!$O$4:$O$503=C$8,ROW(Jobs!$E$6:$E$505),""),Calc!$V7)-ROW(Jobs!$E$6:$E$505)+1),40)),"")} | D12: {=IFERROR(IF(LEN(D$8)=0,"",LEFT(INDEX(Jobs!$E$6:$E$505,SMALL(IF(Calc!$O$4:$O$503=D$8,ROW(Jobs!$E$6:$E$505),""),Calc!$V7)-ROW(Jobs!$E$6:$E$505)+1),40)),"")} | E12: {=IFERROR(IF(LEN(E$8)=0,"",LEFT(INDEX(Jobs!$E$6:$E$505,SMALL(IF(Calc!$O$4:$O$503=E$8,ROW(Jobs!$E$6:$E$505),""),Calc!$V7)-ROW(Jobs!$E$6:$E$505)+1),40)),"")} | F12: {=IFERROR(IF(LEN(F$8)=0,"",LEFT(INDEX(Jobs!$E$6:$E$505,SMALL(IF(Calc!$O$4:$O$503=F$8,ROW(Jobs!$E$6:$E$505),""),Calc!$V7)-ROW(Jobs!$E$6:$E$505)+1),40)),"")} | G12: {=IFERROR(IF(LEN(G$8)=0,"",LEFT(INDEX(Jobs!$E$6:$E$505,SMALL(IF(Calc!$O$4:$O$503=G$8,ROW(Jobs!$E$6:$E$505),""),Calc!$V7)-ROW(Jobs!$E$6:$E$505)+1),40)),"")} | H12: {=IFERROR(IF(LEN(H$8)=0,"",LEFT(INDEX(Jobs!$E$6:$E$505,SMALL(IF(Calc!$O$4:$O$503=H$8,ROW(Jobs!$E$6:$E$505),""),Calc!$V7)-ROW(Jobs!$E$6:$E$505)+1),40)),"")}
B13: {=IFERROR(IF(LEN(B$8)=0,"",LEFT(INDEX(Jobs!$E$6:$E$505,SMALL(IF(Calc!$O$4:$O$503=B$8,ROW(Jobs!$E$6:$E$505),""),Calc!$V8)-ROW(Jobs!$E$6:$E$505)+1),40)),"")} | C13: {=IFERROR(IF(LEN(C$8)=0,"",LEFT(INDEX(Jobs!$E$6:$E$505,SMALL(IF(Calc!$O$4:$O$503=C$8,ROW(Jobs!$E$6:$E$505),""),Calc!$V8)-ROW(Jobs!$E$6:$E$505)+1),40)),"")} | D13: {=IFERROR(IF(LEN(D$8)=0,"",LEFT(INDEX(Jobs!$E$6:$E$505,SMALL(IF(Calc!$O$4:$O$503=D$8,ROW(Jobs!$E$6:$E$505),""),Calc!$V8)-ROW(Jobs!$E$6:$E$505)+1),40)),"")} | E13: {=IFERROR(IF(LEN(E$8)=0,"",LEFT(INDEX(Jobs!$E$6:$E$505,SMALL(IF(Calc!$O$4:$O$503=E$8,ROW(Jobs!$E$6:$E$505),""),Calc!$V8)-ROW(Jobs!$E$6:$E$505)+1),40)),"")} | F13: {=IFERROR(IF(LEN(F$8)=0,"",LEFT(INDEX(Jobs!$E$6:$E$505,SMALL(IF(Calc!$O$4:$O$503=F$8,ROW(Jobs!$E$6:$E$505),""),Calc!$V8)-ROW(Jobs!$E$6:$E$505)+1),40)),"")} | G13: {=IFERROR(IF(LEN(G$8)=0,"",LEFT(INDEX(Jobs!$E$6:$E$505,SMALL(IF(Calc!$O$4:$O$503=G$8,ROW(Jobs!$E$6:$E$505),""),Calc!$V8)-ROW(Jobs!$E$6:$E$505)+1),40)),"")} | H13: {=IFERROR(IF(LEN(H$8)=0,"",LEFT(INDEX(Jobs!$E$6:$E$505,SMALL(IF(Calc!$O$4:$O$503=H$8,ROW(Jobs!$E$6:$E$505),""),Calc!$V8)-ROW(Jobs!$E$6:$E$505)+1),40)),"")}
B14: {=IFERROR(IF(LEN(B$8)=0,"",LEFT(INDEX(Jobs!$E$6:$E$505,SMALL(IF(Calc!$O$4:$O$503=B$8,ROW(Jobs!$E$6:$E$505),""),Calc!$V9)-ROW(Jobs!$E$6:$E$505)+1),40)),"")} | C14: {=IFERROR(IF(LEN(C$8)=0,"",LEFT(INDEX(Jobs!$E$6:$E$505,SMALL(IF(Calc!$O$4:$O$503=C$8,ROW(Jobs!$E$6:$E$505),""),Calc!$V9)-ROW(Jobs!$E$6:$E$505)+1),40)),"")} | D14: {=IFERROR(IF(LEN(D$8)=0,"",LEFT(INDEX(Jobs!$E$6:$E$505,SMALL(IF(Calc!$O$4:$O$503=D$8,ROW(Jobs!$E$6:$E$505),""),Calc!$V9)-ROW(Jobs!$E$6:$E$505)+1),40)),"")} | E14: {=IFERROR(IF(LEN(E$8)=0,"",LEFT(INDEX(Jobs!$E$6:$E$505,SMALL(IF(Calc!$O$4:$O$503=E$8,ROW(Jobs!$E$6:$E$505),""),Calc!$V9)-ROW(Jobs!$E$6:$E$505)+1),40)),"")} | F14: {=IFERROR(IF(LEN(F$8)=0,"",LEFT(INDEX(Jobs!$E$6:$E$505,SMALL(IF(Calc!$O$4:$O$503=F$8,ROW(Jobs!$E$6:$E$505),""),Calc!$V9)-ROW(Jobs!$E$6:$E$505)+1),40)),"")} | G14: {=IFERROR(IF(LEN(G$8)=0,"",LEFT(INDEX(Jobs!$E$6:$E$505,SMALL(IF(Calc!$O$4:$O$503=G$8,ROW(Jobs!$E$6:$E$505),""),Calc!$V9)-ROW(Jobs!$E$6:$E$505)+1),40)),"")} | H14: {=IFERROR(IF(LEN(H$8)=0,"",LEFT(INDEX(Jobs!$E$6:$E$505,SMALL(IF(Calc!$O$4:$O$503=H$8,ROW(Jobs!$E$6:$E$505),""),Calc!$V9)-ROW(Jobs!$E$6:$E$505)+1),40)),"")}
B15: {=IFERROR(IF(LEN(B$8)=0,"",LEFT(INDEX(Jobs!$E$6:$E$505,SMALL(IF(Calc!$O$4:$O$503=B$8,ROW(Jobs!$E$6:$E$505),""),Calc!$V10)-ROW(Jobs!$E$6:$E$505)+1),40)),"")} | C15: {=IFERROR(IF(LEN(C$8)=0,"",LEFT(INDEX(Jobs!$E$6:$E$505,SMALL(IF(Calc!$O$4:$O$503=C$8,ROW(Jobs!$E$6:$E$505),""),Calc!$V10)-ROW(Jobs!$E$6:$E$505)+1),40)),"")} | D15: {=IFERROR(IF(LEN(D$8)=0,"",LEFT(INDEX(Jobs!$E$6:$E$505,SMALL(IF(Calc!$O$4:$O$503=D$8,ROW(Jobs!$E$6:$E$505),""),Calc!$V10)-ROW(Jobs!$E$6:$E$505)+1),40)),"")} | E15: {=IFERROR(IF(LEN(E$8)=0,"",LEFT(INDEX(Jobs!$E$6:$E$505,SMALL(IF(Calc!$O$4:$O$503=E$8,ROW(Jobs!$E$6:$E$505),""),Calc!$V10)-ROW(Jobs!$E$6:$E$505)+1),40)),"")} | F15: {=IFERROR(IF(LEN(F$8)=0,"",LEFT(INDEX(Jobs!$E$6:$E$505,SMALL(IF(Calc!$O$4:$O$503=F$8,ROW(Jobs!$E$6:$E$505),""),Calc!$V10)-ROW(Jobs!$E$6:$E$505)+1),40)),"")} | G15: {=IFERROR(IF(LEN(G$8)=0,"",LEFT(INDEX(Jobs!$E$6:$E$505,SMALL(IF(Calc!$O$4:$O$503=G$8,ROW(Jobs!$E$6:$E$505),""),Calc!$V10)-ROW(Jobs!$E$6:$E$505)+1),40)),"")} | H15: {=IFERROR(IF(LEN(H$8)=0,"",LEFT(INDEX(Jobs!$E$6:$E$505,SMALL(IF(Calc!$O$4:$O$503=H$8,ROW(Jobs!$E$6:$E$505),""),Calc!$V10)-ROW(Jobs!$E$6:$E$505)+1),40)),"")}
B17: =IFERROR(IF(LEN(H8)<1,"",IF(MONTH(H8+1)=MONTH(H8),H8+1,"")),"") -> 44564 | C17: =IFERROR(IF(LEN(B17)<1,"",IF(MONTH(B17+1)=MONTH(B17),B17+1,"")),"") -> 44565 | D17: =IFERROR(IF(LEN(C17)<1,"",IF(MONTH(C17+1)=MONTH(C17),C17+1,"")),"") -> 44566 | E17: =IFERROR(IF(LEN(D17)<1,"",IF(MONTH(D17+1)=MONTH(D17),D17+1,"")),"") -> 44567 | F17: =IFERROR(IF(LEN(E17)<1,"",IF(MONTH(E17+1)=MONTH(E17),E17+1,"")),"") -> 44568 | G17: =IFERROR(IF(LEN(F17)<1,"",IF(MONTH(F17+1)=MONTH(F17),F17+1,"")),"") -> 44569 | H17: =IFERROR(IF(LEN(G17)<1,"",IF(MONTH(G17+1)=MONTH(G17),G17+1,"")),"") -> 44570
B18: {=IFERROR(IF(LEN(B$17)=0,"",LEFT(INDEX(Jobs!$E$6:$E$505,SMALL(IF(Calc!$O$4:$O$503=B$17,ROW(Jobs!$E$6:$E$505),""),Calc!$V4)-ROW(Jobs!$E$6:$E$505)+1),40)),"")} | C18: {=IFERROR(IF(LEN(C$17)=0,"",LEFT(INDEX(Jobs!$E$6:$E$505,SMALL(IF(Calc!$O$4:$O$503=C$17,ROW(Jobs!$E$6:$E$505),""),Calc!$V4)-ROW(Jobs!$E$6:$E$505)+1),40)),"")} -> Singh - Delivery | D18: {=IFERROR(IF(LEN(D$17)=0,"",LEFT(INDEX(Jobs!$E$6:$E$505,SMALL(IF(Calc!$O$4:$O$503=D$17,ROW(Jobs!$E$6:$E$505),""),Calc!$V4)-ROW(Jobs!$E$6:$E$505)+1),40)),"")} | E18: {=IFERROR(IF(LEN(E$17)=0,"",LEFT(INDEX(Jobs!$E$6:$E$505,SMALL(IF(Calc!$O$4:$O$503=E$17,ROW(Jobs!$E$6:$E$505),""),Calc!$V4)-ROW(Jobs!$E$6:$E$505)+1),40)),"")} | F18: {=IFERROR(IF(LEN(F$17)=0,"",LEFT(INDEX(Jobs!$E$6:$E$505,SMALL(IF(Calc!$O$4:$O$503=F$17,ROW(Jobs!$E$6:$E$505),""),Calc!$V4)-ROW(Jobs!$E$6:$E$505)+1),40)),"")} | G18: {=IFERROR(IF(LEN(G$17)=0,"",LEFT(INDEX(Jobs!$E$6:$E$505,SMALL(IF(Calc!$O$4:$O$503=G$17,ROW(Jobs!$E$6:$E$505),""),Calc!$V4)-ROW(Jobs!$E$6:$E$505)+1),40)),"")} | H18: {=IFERROR(IF(LEN(H$17)=0,"",LEFT(INDEX(Jobs!$E$6:$E$505,SMALL(IF(Calc!$O$4:$O$503=H$17,ROW(Jobs!$E$6:$E$505),""),Calc!$V4)-ROW(Jobs!$E$6:$E$505)+1),40)),"")} -> Meeting with agency
B19: {=IFERROR(IF(LEN(B$17)=0,"",LEFT(INDEX(Jobs!$E$6:$E$505,SMALL(IF(Calc!$O$4:$O$503=B$17,ROW(Jobs!$E$6:$E$505),""),Calc!$V5)-ROW(Jobs!$E$6:$E$505)+1),40)),"")} | C19: {=IFERROR(IF(LEN(C$17)=0,"",LEFT(INDEX(Jobs!$E$6:$E$505,SMALL(IF(Calc!$O$4:$O$503=C$17,ROW(Jobs!$E$6:$E$505),""),Calc!$V5)-ROW(Jobs!$E$6:$E$505)+1),40)),"")} | D19: {=IFERROR(IF(LEN(D$17)=0,"",LEFT(INDEX(Jobs!$E$6:$E$505,SMALL(IF(Calc!$O$4:$O$503=D$17,ROW(Jobs!$E$6:$E$505),""),Calc!$V5)-ROW(Jobs!$E$6:$E$505)+1),40)),"")} | E19: {=IFERROR(IF(LEN(E$17)=0,"",LEFT(INDEX(Jobs!$E$6:$E$505,SMALL(IF(Calc!$O$4:$O$503=E$17,ROW(Jobs!$E$6:$E$505),""),Calc!$V5)-ROW(Jobs!$E$6:$E$505)+1),40)),"")} | F19: {=IFERROR(IF(LEN(F$17)=0,"",LEFT(INDEX(Jobs!$E$6:$E$505,SMALL(IF(Calc!$O$4:$O$503=F$17,ROW(Jobs!$E$6:$E$505),""),Calc!$V5)-ROW(Jobs!$E$6:$E$505)+1),40)),"")} | G19: {=IFERROR(IF(LEN(G$17)=0,"",LEFT(INDEX(Jobs!$E$6:$E$505,SMALL(IF(Calc!$O$4:$O$503=G$17,ROW(Jobs!$E$6:$E$505),""),Calc!$V5)-ROW(Jobs!$E$6:$E$505)+1),40)),"")} | H19: {=IFERROR(IF(LEN(H$17)=0,"",LEFT(INDEX(Jobs!$E$6:$E$505,SMALL(IF(Calc!$O$4:$O$503=H$17,ROW(Jobs!$E$6:$E$505),""),Calc!$V5)-ROW(Jobs!$E$6:$E$505)+1),40)),"")}
B20: {=IFERROR(IF(LEN(B$17)=0,"",LEFT(INDEX(Jobs!$E$6:$E$505,SMALL(IF(Calc!$O$4:$O$503=B$17,ROW(Jobs!$E$6:$E$505),""),Calc!$V6)-ROW(Jobs!$E$6:$E$505)+1),40)),"")} | C20: {=IFERROR(IF(LEN(C$17)=0,"",LEFT(INDEX(Jobs!$E$6:$E$505,SMALL(IF(Calc!$O$4:$O$503=C$17,ROW(Jobs!$E$6:$E$505),""),Calc!$V6)-ROW(Jobs!$E$6:$E$505)+1),40)),"")} | D20: {=IFERROR(IF(LEN(D$17)=0,"",LEFT(INDEX(Jobs!$E$6:$E$505,SMALL(IF(Calc!$O$4:$O$503=D$17,ROW(Jobs!$E$6:$E$505),""),Calc!$V6)-ROW(Jobs!$E$6:$E$505)+1),40)),"")} | E20: {=IFERROR(IF(LEN(E$17)=0,"",LEFT(INDEX(Jobs!$E$6:$E$505,SMALL(IF(Calc!$O$4:$O$503=E$17,ROW(Jobs!$E$6:$E$505),""),Calc!$V6)-ROW(Jobs!$E$6:$E$505)+1),40)),"")} | F20: {=IFERROR(IF(LEN(F$17)=0,"",LEFT(INDEX(Jobs!$E$6:$E$505,SMALL(IF(Calc!$O$4:$O$503=F$17,ROW(Jobs!$E$6:$E$505),""),Calc!$V6)-ROW(Jobs!$E$6:$E$505)+1),40)),"")} | G20: {=IFERROR(IF(LEN(G$17)=0,"",LEFT(INDEX(Jobs!$E$6:$E$505,SMALL(IF(Calc!$O$4:$O$503=G$17,ROW(Jobs!$E$6:$E$505),""),Calc!$V6)-ROW(Jobs!$E$6:$E$505)+1),40)),"")} | H20: {=IFERROR(IF(LEN(H$17)=0,"",LEFT(INDEX(Jobs!$E$6:$E$505,SMALL(IF(Calc!$O$4:$O$503=H$17,ROW(Jobs!$E$6:$E$505),""),Calc!$V6)-ROW(Jobs!$E$6:$E$505)+1),40)),"")}
B21: {=IFERROR(IF(LEN(B$17)=0,"",LEFT(INDEX(Jobs!$E$6:$E$505,SMALL(IF(Calc!$O$4:$O$503=B$17,ROW(Jobs!$E$6:$E$505),""),Calc!$V7)-ROW(Jobs!$E$6:$E$505)+1),40)),"")} | C21: {=IFERROR(IF(LEN(C$17)=0,"",LEFT(INDEX(Jobs!$E$6:$E$505,SMALL(IF(Calc!$O$4:$O$503=C$17,ROW(Jobs!$E$6:$E$505),""),Calc!$V7)-ROW(Jobs!$E$6:$E$505)+1),40)),"")} | D21: {=IFERROR(IF(LEN(D$17)=0,"",LEFT(INDEX(Jobs!$E$6:$E$505,SMALL(IF(Calc!$O$4:$O$503=D$17,ROW(Jobs!$E$6:$E$505),""),Calc!$V7)-ROW(Jobs!$E$6:$E$505)+1),40)),"")} | E21: {=IFERROR(IF(LEN(E$17)=0,"",LEFT(INDEX(Jobs!$E$6:$E$505,SMALL(IF(Calc!$O$4:$O$503=E$17,ROW(Jobs!$E$6:$E$505),""),Calc!$V7)-ROW(Jobs!$E$6:$E$505)+1),40)),"")} | F21: {=IFERROR(IF(LEN(F$17)=0,"",LEFT(INDEX(Jobs!$E$6:$E$505,SMALL(IF(Calc!$O$4:$O$503=F$17,ROW(Jobs!$E$6:$E$505),""),Calc!$V7)-ROW(Jobs!$E$6:$E$505)+1),40)),"")} | G21: {=IFERROR(IF(LEN(G$17)=0,"",LEFT(INDEX(Jobs!$E$6:$E$505,SMALL(IF(Calc!$O$4:$O$503=G$17,ROW(Jobs!$E$6:$E$505),""),Calc!$V7)-ROW(Jobs!$E$6:$E$505)+1),40)),"")} | H21: {=IFERROR(IF(LEN(H$17)=0,"",LEFT(INDEX(Jobs!$E$6:$E$505,SMALL(IF(Calc!$O$4:$O$503=H$17,ROW(Jobs!$E$6:$E$505),""),Calc!$V7)-ROW(Jobs!$E$6:$E$505)+1),40)),"")}
B22: {=IFERROR(IF(LEN(B$17)=0,"",LEFT(INDEX(Jobs!$E$6:$E$505,SMALL(IF(Calc!$O$4:$O$503=B$17,ROW(Jobs!$E$6:$E$505),""),Calc!$V8)-ROW(Jobs!$E$6:$E$505)+1),40)),"")} | C22: {=IFERROR(IF(LEN(C$17)=0,"",LEFT(INDEX(Jobs!$E$6:$E$505,SMALL(IF(Calc!$O$4:$O$503=C$17,ROW(Jobs!$E$6:$E$505),""),Calc!$V8)-ROW(Jobs!$E$6:$E$505)+1),40)),"")} | D22: {=IFERROR(IF(LEN(D$17)=0,"",LEFT(INDEX(Jobs!$E$6:$E$505,SMALL(IF(Calc!$O$4:$O$503=D$17,ROW(Jobs!$E$6:$E$505),""),Calc!$V8)-ROW(Jobs!$E$6:$E$505)+1),40)),"")} | E22: {=IFERROR(IF(LEN(E$17)=0,"",LEFT(INDEX(Jobs!$E$6:$E$505,SMALL(IF(Calc!$O$4:$O$503=E$17,ROW(Jobs!$E$6:$E$505),""),Calc!$V8)-ROW(Jobs!$E$6:$E$505)+1),40)),"")} | F22: {=IFERROR(IF(LEN(F$17)=0,"",LEFT(INDEX(Jobs!$E$6:$E$505,SMALL(IF(Calc!$O$4:$O$503=F$17,ROW(Jobs!$E$6:$E$505),""),Calc!$V8)-ROW(Jobs!$E$6:$E$505)+1),40)),"")} | G22: {=IFERROR(IF(LEN(G$17)=0,"",LEFT(INDEX(Jobs!$E$6:$E$505,SMALL(IF(Calc!$O$4:$O$503=G$17,ROW(Jobs!$E$6:$E$505),""),Calc!$V8)-ROW(Jobs!$E$6:$E$505)+1),40)),"")} | H22: {=IFERROR(IF(LEN(H$17)=0,"",LEFT(INDEX(Jobs!$E$6:$E$505,SMALL(IF(Calc!$O$4:$O$503=H$17,ROW(Jobs!$E$6:$E$505),""),Calc!$V8)-ROW(Jobs!$E$6:$E$505)+1),40)),"")}
B23: {=IFERROR(IF(LEN(B$17)=0,"",LEFT(INDEX(Jobs!$E$6:$E$505,SMALL(IF(Calc!$O$4:$O$503=B$17,ROW(Jobs!$E$6:$E$505),""),Calc!$V9)-ROW(Jobs!$E$6:$E$505)+1),40)),"")} | C23: {=IFERROR(IF(LEN(C$17)=0,"",LEFT(INDEX(Jobs!$E$6:$E$505,SMALL(IF(Calc!$O$4:$O$503=C$17,ROW(Jobs!$E$6:$E$505),""),Calc!$V9)-ROW(Jobs!$E$6:$E$505)+1),40)),"")} | D23: {=IFERROR(IF(LEN(D$17)=0,"",LEFT(INDEX(Jobs!$E$6:$E$505,SMALL(IF(Calc!$O$4:$O$503=D$17,ROW(Jobs!$E$6:$E$505),""),Calc!$V9)-ROW(Jobs!$E$6:$E$505)+1),40)),"")} | E23: {=IFERROR(IF(LEN(E$17)=0,"",LEFT(INDEX(Jobs!$E$6:$E$505,SMALL(IF(Calc!$O$4:$O$503=E$17,ROW(Jobs!$E$6:$E$505),""),Calc!$V9)-ROW(Jobs!$E$6:$E$505)+1),40)),"")} | F23: {=IFERROR(IF(LEN(F$17)=0,"",LEFT(INDEX(Jobs!$E$6:$E$505,SMALL(IF(Calc!$O$4:$O$503=F$17,ROW(Jobs!$E$6:$E$505),""),Calc!$V9)-ROW(Jobs!$E$6:$E$505)+1),40)),"")} | G23: {=IFERROR(IF(LEN(G$17)=0,"",LEFT(INDEX(Jobs!$E$6:$E$505,SMALL(IF(Calc!$O$4:$O$503=G$17,ROW(Jobs!$E$6:$E$505),""),Calc!$V9)-ROW(Jobs!$E$6:$E$505)+1),40)),"")} | H23: {=IFERROR(IF(LEN(H$17)=0,"",LEFT(INDEX(Jobs!$E$6:$E$505,SMALL(IF(Calc!$O$4:$O$503=H$17,ROW(Jobs!$E$6:$E$505),""),Calc!$V9)-ROW(Jobs!$E$6:$E$505)+1),40)),"")}
B24: {=IFERROR(IF(LEN(B$17)=0,"",LEFT(INDEX(Jobs!$E$6:$E$505,SMALL(IF(Calc!$O$4:$O$503=B$17,ROW(Jobs!$E$6:$E$505),""),Calc!$V10)-ROW(Jobs!$E$6:$E$505)+1),40)),"")} | C24: {=IFERROR(IF(LEN(C$17)=0,"",LEFT(INDEX(Jobs!$E$6:$E$505,SMALL(IF(Calc!$O$4:$O$503=C$17,ROW(Jobs!$E$6:$E$505),""),Calc!$V10)-ROW(Jobs!$E$6:$E$505)+1),40)),"")} | D24: {=IFERROR(IF(LEN(D$17)=0,"",LEFT(INDEX(Jobs!$E$6:$E$505,SMALL(IF(Calc!$O$4:$O$503=D$17,ROW(Jobs!$E$6:$E$505),""),Calc!$V10)-ROW(Jobs!$E$6:$E$505)+1),40)),"")} | E24: {=IFERROR(IF(LEN(E$17)=0,"",LEFT(INDEX(Jobs!$E$6:$E$505,SMALL(IF(Calc!$O$4:$O$503=E$17,ROW(Jobs!$E$6:$E$505),""),Calc!$V10)-ROW(Jobs!$E$6:$E$505)+1),40)),"")} | F24: {=IFERROR(IF(LEN(F$17)=0,"",LEFT(INDEX(Jobs!$E$6:$E$505,SMALL(IF(Calc!$O$4:$O$503=F$17,ROW(Jobs!$E$6:$E$505),""),Calc!$V10)-ROW(Jobs!$E$6:$E$505)+1),40)),"")} | G24: {=IFERROR(IF(LEN(G$17)=0,"",LEFT(INDEX(Jobs!$E$6:$E$505,SMALL(IF(Calc!$O$4:$O$503=G$17,ROW(Jobs!$E$6:$E$505),""),Calc!$V10)-ROW(Jobs!$E$6:$E$505)+1),40)),"")} | H24: {=IFERROR(IF(LEN(H$17)=0,"",LEFT(INDEX(Jobs!$E$6:$E$505,SMALL(IF(Calc!$O$4:$O$503=H$17,ROW(Jobs!$E$6:$E$505),""),Calc!$V10)-ROW(Jobs!$E$6:$E$505)+1),40)),"")}
B26: =IFERROR(IF(LEN(H17)<1,"",IF(MONTH(H17+1)=MONTH(H17),H17+1,"")),"") -> 44571 | C26: =IFERROR(IF(LEN(B26)<1,"",IF(MONTH(B26+1)=MONTH(B26),B26+1,"")),"") -> 44572 | D26: =IFERROR(IF(LEN(C26)<1,"",IF(MONTH(C26+1)=MONTH(C26),C26+1,"")),"") -> 44573 | E26: =IFERROR(IF(LEN(D26)<1,"",IF(MONTH(D26+1)=MONTH(D26),D26+1,"")),"") -> 44574 | F26: =IFERROR(IF(LEN(E26)<1,"",IF(MONTH(E26+1)=MONTH(E26),E26+1,"")),"") -> 44575 | G26: =IFERROR(IF(LEN(F26)<1,"",IF(MONTH(F26+1)=MONTH(F26),F26+1,"")),"") -> 44576 | H26: =IFERROR(IF(LEN(G26)<1,"",IF(MONTH(G26+1)=MONTH(G26),G26+1,"")),"") -> 44577
B27: {=IFERROR(IF(LEN(B$26)=0,"",LEFT(INDEX(Jobs!$E$6:$E$505,SMALL(IF(Calc!$O$4:$O$503=B$26,ROW(Jobs!$E$6:$E$505),""),Calc!$V4)-ROW(Jobs!$E$6:$E$505)+1),40)),"")} | C27: {=IFERROR(IF(LEN(C$26)=0,"",LEFT(INDEX(Jobs!$E$6:$E$505,SMALL(IF(Calc!$O$4:$O$503=C$26,ROW(Jobs!$E$6:$E$505),""),Calc!$V4)-ROW(Jobs!$E$6:$E$505)+1),40)),"")} -> Very important presentation | D27: {=IFERROR(IF(LEN(D$26)=0,"",LEFT(INDEX(Jobs!$E$6:$E$505,SMALL(IF(Calc!$O$4:$O$503=D$26,ROW(Jobs!$E$6:$E$505),""),Calc!$V4)-ROW(Jobs!$E$6:$E$505)+1),40)),"")} | E27: {=IFERROR(IF(LEN(E$26)=0,"",LEFT(INDEX(Jobs!$E$6:$E$505,SMALL(IF(Calc!$O$4:$O$503=E$26,ROW(Jobs!$E$6:$E$505),""),Calc!$V4)-ROW(Jobs!$E$6:$E$505)+1),40)),"")} -> New Year celebration at company | F27: {=IFERROR(IF(LEN(F$26)=0,"",LEFT(INDEX(Jobs!$E$6:$E$505,SMALL(IF(Calc!$O$4:$O$503=F$26,ROW(Jobs!$E$6:$E$505),""),Calc!$V4)-ROW(Jobs!$E$6:$E$505)+1),40)),"")} | G27: {=IFERROR(IF(LEN(G$26)=0,"",LEFT(INDEX(Jobs!$E$6:$E$505,SMALL(IF(Calc!$O$4:$O$503=G$26,ROW(Jobs!$E$6:$E$505),""),Calc!$V4)-ROW(Jobs!$E$6:$E$505)+1),40)),"")} -> New year celebration at Brad's | H27: {=IFERROR(IF(LEN(H$26)=0,"",LEFT(INDEX(Jobs!$E$6:$E$505,SMALL(IF(Calc!$O$4:$O$503=H$26,ROW(Jobs!$E$6:$E$505),""),Calc!$V4)-ROW(Jobs!$E$6:$E$505)+1),40)),"")}
B28: {=IFERROR(IF(LEN(B$26)=0,"",LEFT(INDEX(Jobs!$E$6:$E$505,SMALL(IF(Calc!$O$4:$O$503=B$26,ROW(Jobs!$E$6:$E$505),""),Calc!$V5)-ROW(Jobs!$E$6:$E$505)+1),40)),"")} | C28: {=IFERROR(IF(LEN(C$26)=0,"",LEFT(INDEX(Jobs!$E$6:$E$505,SMALL(IF(Calc!$O$4:$O$503=C$26,ROW(Jobs!$E$6:$E$505),""),Calc!$V5)-ROW(Jobs!$E$6:$E$505)+1),40)),"")} | D28: {=IFERROR(IF(LEN(D$26)=0,"",LEFT(INDEX(Jobs!$E$6:$E$505,SMALL(IF(Calc!$O$4:$O$503=D$26,ROW(Jobs!$E$6:$E$505),""),Calc!$V5)-ROW(Jobs!$E$6:$E$505)+1),40)),"")} | E28: {=IFERROR(IF(LEN(E$26)=0,"",LEFT(INDEX(Jobs!$E$6:$E$505,SMALL(IF(Calc!$O$4:$O$503=E$26,ROW(Jobs!$E$6:$E$505),""),Calc!$V5)-ROW(Jobs!$E$6:$E$505)+1),40)),"")} | F28: {=IFERROR(IF(LEN(F$26)=0,"",LEFT(INDEX(Jobs!$E$6:$E$505,SMALL(IF(Calc!$O$4:$O$503=F$26,ROW(Jobs!$E$6:$E$505),""),Calc!$V5)-ROW(Jobs!$E$6:$E$505)+1),40)),"")} | G28: {=IFERROR(IF(LEN(G$26)=0,"",LEFT(INDEX(Jobs!$E$6:$E$505,SMALL(IF(Calc!$O$4:$O$503=G$26,ROW(Jobs!$E$6:$E$505),""),Calc!$V5)-ROW(Jobs!$E$6:$E$505)+1),40)),"")} | H28: {=IFERROR(IF(LEN(H$26)=0,"",LEFT(INDEX(Jobs!$E$6:$E$505,SMALL(IF(Calc!$O$4:$O$503=H$26,ROW(Jobs!$E$6:$E$505),""),Calc!$V5)-ROW(Jobs!$E$6:$E$505)+1),40)),"")}
B29: {=IFERROR(IF(LEN(B$26)=0,"",LEFT(INDEX(Jobs!$E$6:$E$505,SMALL(IF(Calc!$O$4:$O$503=B$26,ROW(Jobs!$E$6:$E$505),""),Calc!$V6)-ROW(Jobs!$E$6:$E$505)+1),40)),"")} | C29: {=IFERROR(IF(LEN(C$26)=0,"",LEFT(INDEX(Jobs!$E$6:$E$505,SMALL(IF(Calc!$O$4:$O$503=C$26,ROW(Jobs!$E$6:$E$505),""),Calc!$V6)-ROW(Jobs!$E$6:$E$505)+1),40)),"")} | D29: {=IFERROR(IF(LEN(D$26)=0,"",LEFT(INDEX(Jobs!$E$6:$E$505,SMALL(IF(Calc!$O$4:$O$503=D$26,ROW(Jobs!$E$6:$E$505),""),Calc!$V6)-ROW(Jobs!$E$6:$E$505)+1),40)),"")} | E29: {=IFERROR(IF(LEN(E$26)=0,"",LEFT(INDEX(Jobs!$E$6:$E$505,SMALL(IF(Calc!$O$4:$O$503=E$26,ROW(Jobs!$E$6:$E$505),""),Calc!$V6)-ROW(Jobs!$E$6:$E$505)+1),40)),"")} | F29: {=IFERROR(IF(LEN(F$26)=0,"",LEFT(INDEX(Jobs!$E$6:$E$505,SMALL(IF(Calc!$O$4:$O$503=F$26,ROW(Jobs!$E$6:$E$505),""),Calc!$V6)-ROW(Jobs!$E$6:$E$505)+1),40)),"")} | G29: {=IFERROR(IF(LEN(G$26)=0,"",LEFT(INDEX(Jobs!$E$6:$E$505,SMALL(IF(Calc!$O$4:$O$503=G$26,ROW(Jobs!$E$6:$E$505),""),Calc!$V6)-ROW(Jobs!$E$6:$E$505)+1),40)),"")} | H29: {=IFERROR(IF(LEN(H$26)=0,"",LEFT(INDEX(Jobs!$E$6:$E$505,SMALL(IF(Calc!$O$4:$O$503=H$26,ROW(Jobs!$E$6:$E$505),""),Calc!$V6)-ROW(Jobs!$E$6:$E$505)+1),40)),"")}
B30: {=IFERROR(IF(LEN(B$26)=0,"",LEFT(INDEX(Jobs!$E$6:$E$505,SMALL(IF(Calc!$O$4:$O$503=B$26,ROW(Jobs!$E$6:$E$505),""),Calc!$V7)-ROW(Jobs!$E$6:$E$505)+1),40)),"")} | C30: {=IFERROR(IF(LEN(C$26)=0,"",LEFT(INDEX(Jobs!$E$6:$E$505,SMALL(IF(Calc!$O$4:$O$503=C$26,ROW(Jobs!$E$6:$E$505),""),Calc!$V7)-ROW(Jobs!$E$6:$E$505)+1),40)),"")} | D30: {=IFERROR(IF(LEN(D$26)=0,"",LEFT(INDEX(Jobs!$E$6:$E$505,SMALL(IF(Calc!$O$4:$O$503=D$26,ROW(Jobs!$E$6:$E$505),""),Calc!$V7)-ROW(Jobs!$E$6:$E$505)+1),40)),"")} | E30: {=IFERROR(IF(LEN(E$26)=0,"",LEFT(INDEX(Jobs!$E$6:$E$505,SMALL(IF(Calc!$O$4:$O$503=E$26,ROW(Jobs!$E$6:$E$505),""),Calc!$V7)-ROW(Jobs!$E$6:$E$505)+1),40)),"")} | F30: {=IFERROR(IF(LEN(F$26)=0,"",LEFT(INDEX(Jobs!$E$6:$E$505,SMALL(IF(Calc!$O$4:$O$503=F$26,ROW(Jobs!$E$6:$E$505),""),Calc!$V7)-ROW(Jobs!$E$6:$E$505)+1),40)),"")} | G30: {=IFERROR(IF(LEN(G$26)=0,"",LEFT(INDEX(Jobs!$E$6:$E$505,SMALL(IF(Calc!$O$4:$O$503=G$26,ROW(Jobs!$E$6:$E$505),""),Calc!$V7)-ROW(Jobs!$E$6:$E$505)+1),40)),"")} | H30: {=IFERROR(IF(LEN(H$26)=0,"",LEFT(INDEX(Jobs!$E$6:$E$505,SMALL(IF(Calc!$O$4:$O$503=H$26,ROW(Jobs!$E$6:$E$505),""),Calc!$V7)-ROW(Jobs!$E$6:$E$505)+1),40)),"")}
B31: {=IFERROR(IF(LEN(B$26)=0,"",LEFT(INDEX(Jobs!$E$6:$E$505,SMALL(IF(Calc!$O$4:$O$503=B$26,ROW(Jobs!$E$6:$E$505),""),Calc!$V8)-ROW(Jobs!$E$6:$E$505)+1),40)),"")} | C31: {=IFERROR(IF(LEN(C$26)=0,"",LEFT(INDEX(Jobs!$E$6:$E$505,SMALL(IF(Calc!$O$4:$O$503=C$26,ROW(Jobs!$E$6:$E$505),""),Calc!$V8)-ROW(Jobs!$E$6:$E$505)+1),40)),"")} | D31: {=IFERROR(IF(LEN(D$26)=0,"",LEFT(INDEX(Jobs!$E$6:$E$505,SMALL(IF(Calc!$O$4:$O$503=D$26,ROW(Jobs!$E$6:$E$505),""),Calc!$V8)-ROW(Jobs!$E$6:$E$505)+1),40)),"")} | E31: {=IFERROR(IF(LEN(E$26)=0,"",LEFT(INDEX(Jobs!$E$6:$E$505,SMALL(IF(Calc!$O$4:$O$503=E$26,ROW(Jobs!$E$6:$E$505),""),Calc!$V8)-ROW(Jobs!$E$6:$E$505)+1),40)),"")} | F31: {=IFERROR(IF(LEN(F$26)=0,"",LEFT(INDEX(Jobs!$E$6:$E$505,SMALL(IF(Calc!$O$4:$O$503=F$26,ROW(Jobs!$E$6:$E$505),""),Calc!$V8)-ROW(Jobs!$E$6:$E$505)+1),40)),"")} | G31: {=IFERROR(IF(LEN(G$26)=0,"",LEFT(INDEX(Jobs!$E$6:$E$505,SMALL(IF(Calc!$O$4:$O$503=G$26,ROW(Jobs!$E$6:$E$505),""),Calc!$V8)-ROW(Jobs!$E$6:$E$505)+1),40)),"")} | H31: {=IFERROR(IF(LEN(H$26)=0,"",LEFT(INDEX(Jobs!$E$6:$E$505,SMALL(IF(Calc!$O$4:$O$503=H$26,ROW(Jobs!$E$6:$E$505),""),Calc!$V8)-ROW(Jobs!$E$6:$E$505)+1),40)),"")}
B32: {=IFERROR(IF(LEN(B$26)=0,"",LEFT(INDEX(Jobs!$E$6:$E$505,SMALL(IF(Calc!$O$4:$O$503=B$26,ROW(Jobs!$E$6:$E$505),""),Calc!$V9)-ROW(Jobs!$E$6:$E$505)+1),40)),"")} | C32: {=IFERROR(IF(LEN(C$26)=0,"",LEFT(INDEX(Jobs!$E$6:$E$505,SMALL(IF(Calc!$O$4:$O$503=C$26,ROW(Jobs!$E$6:$E$505),""),Calc!$V9)-ROW(Jobs!$E$6:$E$505)+1),40)),"")} | D32: {=IFERROR(IF(LEN(D$26)=0,"",LEFT(INDEX(Jobs!$E$6:$E$505,SMALL(IF(Calc!$O$4:$O$503=D$26,ROW(Jobs!$E$6:$E$505),""),Calc!$V9)-ROW(Jobs!$E$6:$E$505)+1),40)),"")} | E32: {=IFERROR(IF(LEN(E$26)=0,"",LEFT(INDEX(Jobs!$E$6:$E$505,SMALL(IF(Calc!$O$4:$O$503=E$26,ROW(Jobs!$E$6:$E$505),""),Calc!$V9)-ROW(Jobs!$E$6:$E$505)+1),40)),"")} | F32: {=IFERROR(IF(LEN(F$26)=0,"",LEFT(INDEX(Jobs!$E$6:$E$505,SMALL(IF(Calc!$O$4:$O$503=F$26,ROW(Jobs!$E$6:$E$505),""),Calc!$V9)-ROW(Jobs!$E$6:$E$505)+1),40)),"")} | G32: {=IFERROR(IF(LEN(G$26)=0,"",LEFT(INDEX(Jobs!$E$6:$E$505,SMALL(IF(Calc!$O$4:$O$503=G$26,ROW(Jobs!$E$6:$E$505),""),Calc!$V9)-ROW(Jobs!$E$6:$E$505)+1),40)),"")} | H32: {=IFERROR(IF(LEN(H$26)=0,"",LEFT(INDEX(Jobs!$E$6:$E$505,SMALL(IF(Calc!$O$4:$O$503=H$26,ROW(Jobs!$E$6:$E$505),""),Calc!$V9)-ROW(Jobs!$E$6:$E$505)+1),40)),"")}
B33: {=IFERROR(IF(LEN(B$26)=0,"",LEFT(INDEX(Jobs!$E$6:$E$505,SMALL(IF(Calc!$O$4:$O$503=B$26,ROW(Jobs!$E$6:$E$505),""),Calc!$V10)-ROW(Jobs!$E$6:$E$505)+1),40)),"")} | C33: {=IFERROR(IF(LEN(C$26)=0,"",LEFT(INDEX(Jobs!$E$6:$E$505,SMALL(IF(Calc!$O$4:$O$503=C$26,ROW(Jobs!$E$6:$E$505),""),Calc!$V10)-ROW(Jobs!$E$6:$E$505)+1),40)),"")} | D33: {=IFERROR(IF(LEN(D$26)=0,"",LEFT(INDEX(Jobs!$E$6:$E$505,SMALL(IF(Calc!$O$4:$O$503=D$26,ROW(Jobs!$E$6:$E$505),""),Calc!$V10)-ROW(Jobs!$E$6:$E$505)+1),40)),"")} | E33: {=IFERROR(IF(LEN(E$26)=0,"",LEFT(INDEX(Jobs!$E$6:$E$505,SMALL(IF(Calc!$O$4:$O$503=E$26,ROW(Jobs!$E$6:$E$505),""),Calc!$V10)-ROW(Jobs!$E$6:$E$505)+1),40)),"")} | F33: {=IFERROR(IF(LEN(F$26)=0,"",LEFT(INDEX(Jobs!$E$6:$E$505,SMALL(IF(Calc!$O$4:$O$503=F$26,ROW(Jobs!$E$6:$E$505),""),Calc!$V10)-ROW(Jobs!$E$6:$E$505)+1),40)),"")} | G33: {=IFERROR(IF(LEN(G$26)=0,"",LEFT(INDEX(Jobs!$E$6:$E$505,SMALL(IF(Calc!$O$4:$O$503=G$26,ROW(Jobs!$E$6:$E$505),""),Calc!$V10)-ROW(Jobs!$E$6:$E$505)+1),40)),"")} | H33: {=IFERROR(IF(LEN(H$26)=0,"",LEFT(INDEX(Jobs!$E$6:$E$505,SMALL(IF(Calc!$O$4:$O$503=H$26,ROW(Jobs!$E$6:$E$505),""),Calc!$V10)-ROW(Jobs!$E$6:$E$505)+1),40)),"")}
B35: =IFERROR(IF(LEN(H26)<1,"",IF(MONTH(H26+1)=MONTH(H26),H26+1,"")),"") -> 44578 | C35: =IFERROR(IF(LEN(B35)<1,"",IF(MONTH(B35+1)=MONTH(B35),B35+1,"")),"") -> 44579 | D35: =IFERROR(IF(LEN(C35)<1,"",IF(MONTH(C35+1)=MONTH(C35),C35+1,"")),"") -> 44580 | E35: =IFERROR(IF(LEN(D35)<1,"",IF(MONTH(D35+1)=MONTH(D35),D35+1,"")),"") -> 44581 | F35: =IFERROR(IF(LEN(E35)<1,"",IF(MONTH(E35+1)=MONTH(E35),E35+1,"")),"") -> 44582 | G35: =IFERROR(IF(LEN(F35)<1,"",IF(MONTH(F35+1)=MONTH(F35),F35+1,"")),"") -> 44583 | H35: =IFERROR(IF(LEN(G35)<1,"",IF(MONTH(G35+1)=MONTH(G35),G35+1,"")),"") -> 44584
B36: {=IFERROR(IF(LEN(B$35)=0,"",LEFT(INDEX(Jobs!$E$6:$E$505,SMALL(IF(Calc!$O$4:$O$503=B$35,ROW(Jobs!$E$6:$E$505),""),Calc!$V4)-ROW(Jobs!$E$6:$E$505)+1),40)),"")} -> Meeting International | C36: {=IFERROR(IF(LEN(C$35)=0,"",LEFT(INDEX(Jobs!$E$6:$E$505,SMALL(IF(Calc!$O$4:$O$503=C$35,ROW(Jobs!$E$6:$E$505),""),Calc!$V4)-ROW(Jobs!$E$6:$E$505)+1),40)),"")} -> Update to be sent | D36: {=IFERROR(IF(LEN(D$35)=0,"",LEFT(INDEX(Jobs!$E$6:$E$505,SMALL(IF(Calc!$O$4:$O$503=D$35,ROW(Jobs!$E$6:$E$505),""),Calc!$V4)-ROW(Jobs!$E$6:$E$505)+1),40)),"")} | E36: {=IFERROR(IF(LEN(E$35)=0,"",LEFT(INDEX(Jobs!$E$6:$E$505,SMALL(IF(Calc!$O$4:$O$503=E$35,ROW(Jobs!$E$6:$E$505),""),Calc!$V4)-ROW(Jobs!$E$6:$E$505)+1),40)),"")} | F36: {=IFERROR(IF(LEN(F$35)=0,"",LEFT(INDEX(Jobs!$E$6:$E$505,SMALL(IF(Calc!$O$4:$O$503=F$35,ROW(Jobs!$E$6:$E$505),""),Calc!$V4)-ROW(Jobs!$E$6:$E$505)+1),40)),"")} | G36: {=IFERROR(IF(LEN(G$35)=0,"",LEFT(INDEX(Jobs!$E$6:$E$505,SMALL(IF(Calc!$O$4:$O$503=G$35,ROW(Jobs!$E$6:$E$505),""),Calc!$V4)-ROW(Jobs!$E$6:$E$505)+1),40)),"")} | H36: {=IFERROR(IF(LEN(H$35)=0,"",LEFT(INDEX(Jobs!$E$6:$E$505,SMALL(IF(Calc!$O$4:$O$503=H$35,ROW(Jobs!$E$6:$E$505),""),Calc!$V4)-ROW(Jobs!$E$6:$E$505)+1),40)),"")}
B37: {=IFERROR(IF(LEN(B$35)=0,"",LEFT(INDEX(Jobs!$E$6:$E$505,SMALL(IF(Calc!$O$4:$O$503=B$35,ROW(Jobs!$E$6:$E$505),""),Calc!$V5)-ROW(Jobs!$E$6:$E$505)+1),40)),"")} | C37: {=IFERROR(IF(LEN(C$35)=0,"",LEFT(INDEX(Jobs!$E$6:$E$505,SMALL(IF(Calc!$O$4:$O$503=C$35,ROW(Jobs!$E$6:$E$505),""),Calc!$V5)-ROW(Jobs!$E$6:$E$505)+1),40)),"")} | D37: {=IFERROR(IF(LEN(D$35)=0,"",LEFT(INDEX(Jobs!$E$6:$E$505,SMALL(IF(Calc!$O$4:$O$503=D$35,ROW(Jobs!$E$6:$E$505),""),Calc!$V5)-ROW(Jobs!$E$6:$E$505)+1),40)),"")} | E37: {=IFERROR(IF(LEN(E$35)=0,"",LEFT(INDEX(Jobs!$E$6:$E$505,SMALL(IF(Calc!$O$4:$O$503=E$35,ROW(Jobs!$E$6:$E$505),""),Calc!$V5)-ROW(Jobs!$E$6:$E$505)+1),40)),"")} | F37: {=IFERROR(IF(LEN(F$35)=0,"",LEFT(INDEX(Jobs!$E$6:$E$505,SMALL(IF(Calc!$O$4:$O$503=F$35,ROW(Jobs!$E$6:$E$505),""),Calc!$V5)-ROW(Jobs!$E$6:$E$505)+1),40)),"")} | G37: {=IFERROR(IF(LEN(G$35)=0,"",LEFT(INDEX(Jobs!$E$6:$E$505,SMALL(IF(Calc!$O$4:$O$503=G$35,ROW(Jobs!$E$6:$E$505),""),Calc!$V5)-ROW(Jobs!$E$6:$E$505)+1),40)),"")} | H37: {=IFERROR(IF(LEN(H$35)=0,"",LEFT(INDEX(Jobs!$E$6:$E$505,SMALL(IF(Calc!$O$4:$O$503=H$35,ROW(Jobs!$E$6:$E$505),""),Calc!$V5)-ROW(Jobs!$E$6:$E$505)+1),40)),"")}
B38: {=IFERROR(IF(LEN(B$35)=0,"",LEFT(INDEX(Jobs!$E$6:$E$505,SMALL(IF(Calc!$O$4:$O$503=B$35,ROW(Jobs!$E$6:$E$505),""),Calc!$V6)-ROW(Jobs!$E$6:$E$505)+1),40)),"")} | C38: {=IFERROR(IF(LEN(C$35)=0,"",LEFT(INDEX(Jobs!$E$6:$E$505,SMALL(IF(Calc!$O$4:$O$503=C$35,ROW(Jobs!$E$6:$E$505),""),Calc!$V6)-ROW(Jobs!$E$6:$E$505)+1),40)),"")} | D38: {=IFERROR(IF(LEN(D$35)=0,"",LEFT(INDEX(Jobs!$E$6:$E$505,SMALL(IF(Calc!$O$4:$O$503=D$35,ROW(Jobs!$E$6:$E$505),""),Calc!$V6)-ROW(Jobs!$E$6:$E$505)+1),40)),"")} | E38: {=IFERROR(IF(LEN(E$35)=0,"",LEFT(INDEX(Jobs!$E$6:$E$505,SMALL(IF(Calc!$O$4:$O$503=E$35,ROW(Jobs!$E$6:$E$505),""),Calc!$V6)-ROW(Jobs!$E$6:$E$505)+1),40)),"")} | F38: {=IFERROR(IF(LEN(F$35)=0,"",LEFT(INDEX(Jobs!$E$6:$E$505,SMALL(IF(Calc!$O$4:$O$503=F$35,ROW(Jobs!$E$6:$E$505),""),Calc!$V6)-ROW(Jobs!$E$6:$E$505)+1),40)),"")} | G38: {=IFERROR(IF(LEN(G$35)=0,"",LEFT(INDEX(Jobs!$E$6:$E$505,SMALL(IF(Calc!$O$4:$O$503=G$35,ROW(Jobs!$E$6:$E$505),""),Calc!$V6)-ROW(Jobs!$E$6:$E$505)+1),40)),"")} | H38: {=IFERROR(IF(LEN(H$35)=0,"",LEFT(INDEX(Jobs!$E$6:$E$505,SMALL(IF(Calc!$O$4:$O$503=H$35,ROW(Jobs!$E$6:$E$505),""),Calc!$V6)-ROW(Jobs!$E$6:$E$505)+1),40)),"")}
B39: {=IFERROR(IF(LEN(B$35)=0,"",LEFT(INDEX(Jobs!$E$6:$E$505,SMALL(IF(Calc!$O$4:$O$503=B$35,ROW(Jobs!$E$6:$E$505),""),Calc!$V7)-ROW(Jobs!$E$6:$E$505)+1),40)),"")} | C39: {=IFERROR(IF(LEN(C$35)=0,"",LEFT(INDEX(Jobs!$E$6:$E$505,SMALL(IF(Calc!$O$4:$O$503=C$35,ROW(Jobs!$E$6:$E$505),""),Calc!$V7)-ROW(Jobs!$E$6:$E$505)+1),40)),"")} | D39: {=IFERROR(IF(LEN(D$35)=0,"",LEFT(INDEX(Jobs!$E$6:$E$505,SMALL(IF(Calc!$O$4:$O$503=D$35,ROW(Jobs!$E$6:$E$505),""),Calc!$V7)-ROW(Jobs!$E$6:$E$505)+1),40)),"")} | E39: {=IFERROR(IF(LEN(E$35)=0,"",LEFT(INDEX(Jobs!$E$6:$E$505,SMALL(IF(Calc!$O$4:$O$503=E$35,ROW(Jobs!$E$6:$E$505),""),Calc!$V7)-ROW(Jobs!$E$6:$E$505)+1),40)),"")} | F39: {=IFERROR(IF(LEN(F$35)=0,"",LEFT(INDEX(Jobs!$E$6:$E$505,SMALL(IF(Calc!$O$4:$O$503=F$35,ROW(Jobs!$E$6:$E$505),""),Calc!$V7)-ROW(Jobs!$E$6:$E$505)+1),40)),"")} | G39: {=IFERROR(IF(LEN(G$35)=0,"",LEFT(INDEX(Jobs!$E$6:$E$505,SMALL(IF(Calc!$O$4:$O$503=G$35,ROW(Jobs!$E$6:$E$505),""),Calc!$V7)-ROW(Jobs!$E$6:$E$505)+1),40)),"")} | H39: {=IFERROR(IF(LEN(H$35)=0,"",LEFT(INDEX(Jobs!$E$6:$E$505,SMALL(IF(Calc!$O$4:$O$503=H$35,ROW(Jobs!$E$6:$E$505),""),Calc!$V7)-ROW(Jobs!$E$6:$E$505)+1),40)),"")}
B40: {=IFERROR(IF(LEN(B$35)=0,"",LEFT(INDEX(Jobs!$E$6:$E$505,SMALL(IF(Calc!$O$4:$O$503=B$35,ROW(Jobs!$E$6:$E$505),""),Calc!$V8)-ROW(Jobs!$E$6:$E$505)+1),40)),"")} | C40: {=IFERROR(IF(LEN(C$35)=0,"",LEFT(INDEX(Jobs!$E$6:$E$505,SMALL(IF(Calc!$O$4:$O$503=C$35,ROW(Jobs!$E$6:$E$505),""),Calc!$V8)-ROW(Jobs!$E$6:$E$505)+1),40)),"")} | D40: {=IFERROR(IF(LEN(D$35)=0,"",LEFT(INDEX(Jobs!$E$6:$E$505,SMALL(IF(Calc!$O$4:$O$503=D$35,ROW(Jobs!$E$6:$E$505),""),Calc!$V8)-ROW(Jobs!$E$6:$E$505)+1),40)),"")} | E40: {=IFERROR(IF(LEN(E$35)=0,"",LEFT(INDEX(Jobs!$E$6:$E$505,SMALL(IF(Calc!$O$4:$O$503=E$35,ROW(Jobs!$E$6:$E$505),""),Calc!$V8)-ROW(Jobs!$E$6:$E$505)+1),40)),"")} | F40: {=IFERROR(IF(LEN(F$35)=0,"",LEFT(INDEX(Jobs!$E$6:$E$505,SMALL(IF(Calc!$O$4:$O$503=F$35,ROW(Jobs!$E$6:$E$505),""),Calc!$V8)-ROW(Jobs!$E$6:$E$505)+1),40)),"")} | G40: {=IFERROR(IF(LEN(G$35)=0,"",LEFT(INDEX(Jobs!$E$6:$E$505,SMALL(IF(Calc!$O$4:$O$503=G$35,ROW(Jobs!$E$6:$E$505),""),Calc!$V8)-ROW(Jobs!$E$6:$E$505)+1),40)),"")} | H40: {=IFERROR(IF(LEN(H$35)=0,"",LEFT(INDEX(Jobs!$E$6:$E$505,SMALL(IF(Calc!$O$4:$O$503=H$35,ROW(Jobs!$E$6:$E$505),""),Calc!$V8)-ROW(Jobs!$E$6:$E$505)+1),40)),"")}
B41: {=IFERROR(IF(LEN(B$35)=0,"",LEFT(INDEX(Jobs!$E$6:$E$505,SMALL(IF(Calc!$O$4:$O$503=B$35,ROW(Jobs!$E$6:$E$505),""),Calc!$V9)-ROW(Jobs!$E$6:$E$505)+1),40)),"")} | C41: {=IFERROR(IF(LEN(C$35)=0,"",LEFT(INDEX(Jobs!$E$6:$E$505,SMALL(IF(Calc!$O$4:$O$503=C$35,ROW(Jobs!$E$6:$E$505),""),Calc!$V9)-ROW(Jobs!$E$6:$E$505)+1),40)),"")} | D41: {=IFERROR(IF(LEN(D$35)=0,"",LEFT(INDEX(Jobs!$E$6:$E$505,SMALL(IF(Calc!$O$4:$O$503=D$35,ROW(Jobs!$E$6:$E$505),""),Calc!$V9)-ROW(Jobs!$E$6:$E$505)+1),40)),"")} | E41: {=IFERROR(IF(LEN(E$35)=0,"",LEFT(INDEX(Jobs!$E$6:$E$505,SMALL(IF(Calc!$O$4:$O$503=E$35,ROW(Jobs!$E$6:$E$505),""),Calc!$V9)-ROW(Jobs!$E$6:$E$505)+1),40)),"")} | F41: {=IFERROR(IF(LEN(F$35)=0,"",LEFT(INDEX(Jobs!$E$6:$E$505,SMALL(IF(Calc!$O$4:$O$503=F$35,ROW(Jobs!$E$6:$E$505),""),Calc!$V9)-ROW(Jobs!$E$6:$E$505)+1),40)),"")} | G41: {=IFERROR(IF(LEN(G$35)=0,"",LEFT(INDEX(Jobs!$E$6:$E$505,SMALL(IF(Calc!$O$4:$O$503=G$35,ROW(Jobs!$E$6:$E$505),""),Calc!$V9)-ROW(Jobs!$E$6:$E$505)+1),40)),"")} | H41: {=IFERROR(IF(LEN(H$35)=0,"",LEFT(INDEX(Jobs!$E$6:$E$505,SMALL(IF(Calc!$O$4:$O$503=H$35,ROW(Jobs!$E$6:$E$505),""),Calc!$V9)-ROW(Jobs!$E$6:$E$505)+1),40)),"")}
B42: {=IFERROR(IF(LEN(B$35)=0,"",LEFT(INDEX(Jobs!$E$6:$E$505,SMALL(IF(Calc!$O$4:$O$503=B$35,ROW(Jobs!$E$6:$E$505),""),Calc!$V10)-ROW(Jobs!$E$6:$E$505)+1),40)),"")} | C42: {=IFERROR(IF(LEN(C$35)=0,"",LEFT(INDEX(Jobs!$E$6:$E$505,SMALL(IF(Calc!$O$4:$O$503=C$35,ROW(Jobs!$E$6:$E$505),""),Calc!$V10)-ROW(Jobs!$E$6:$E$505)+1),40)),"")} | D42: {=IFERROR(IF(LEN(D$35)=0,"",LEFT(INDEX(Jobs!$E$6:$E$505,SMALL(IF(Calc!$O$4:$O$503=D$35,ROW(Jobs!$E$6:$E$505),""),Calc!$V10)-ROW(Jobs!$E$6:$E$505)+1),40)),"")} | E42: {=IFERROR(IF(LEN(E$35)=0,"",LEFT(INDEX(Jobs!$E$6:$E$505,SMALL(IF(Calc!$O$4:$O$503=E$35,ROW(Jobs!$E$6:$E$505),""),Calc!$V10)-ROW(Jobs!$E$6:$E$505)+1),40)),"")} | F42: {=IFERROR(IF(LEN(F$35)=0,"",LEFT(INDEX(Jobs!$E$6:$E$505,SMALL(IF(Calc!$O$4:$O$503=F$35,ROW(Jobs!$E$6:$E$505),""),Calc!$V10)-ROW(Jobs!$E$6:$E$505)+1),40)),"")} | G42: {=IFERROR(IF(LEN(G$35)=0,"",LEFT(INDEX(Jobs!$E$6:$E$505,SMALL(IF(Calc!$O$4:$O$503=G$35,ROW(Jobs!$E$6:$E$505),""),Calc!$V10)-ROW(Jobs!$E$6:$E$505)+1),40)),"")} | H42: {=IFERROR(IF(LEN(H$35)=0,"",LEFT(INDEX(Jobs!$E$6:$E$505,SMALL(IF(Calc!$O$4:$O$503=H$35,ROW(Jobs!$E$6:$E$505),""),Calc!$V10)-ROW(Jobs!$E$6:$E$505)+1),40)),"")}
B44: =IFERROR(IF(LEN(H35)<1,"",IF(MONTH(H35+1)=MONTH(H35),H35+1,"")),"") -> 44585 | C44: =IFERROR(IF(LEN(B44)<1,"",IF(MONTH(B44+1)=MONTH(B44),B44+1,"")),"") -> 44586 | D44: =IFERROR(IF(LEN(C44)<1,"",IF(MONTH(C44+1)=MONTH(C44),C44+1,"")),"") -> 44587 | E44: =IFERROR(IF(LEN(D44)<1,"",IF(MONTH(D44+1)=MONTH(D44),D44+1,"")),"") -> 44588 | F44: =IFERROR(IF(LEN(E44)<1,"",IF(MONTH(E44+1)=MONTH(E44),E44+1,"")),"") -> 44589 | G44: =IFERROR(IF(LEN(F44)<1,"",IF(MONTH(F44+1)=MONTH(F44),F44+1,"")),"") -> 44590 | H44: =IFERROR(IF(LEN(G44)<1,"",IF(MONTH(G44+1)=MONTH(G44),G44+1,"")),"") -> 44591
B45: {=IFERROR(IF(LEN(B$44)=0,"",LEFT(INDEX(Jobs!$E$6:$E$505,SMALL(IF(Calc!$O$4:$O$503=B$44,ROW(Jobs!$E$6:$E$505),""),Calc!$V4)-ROW(Jobs!$E$6:$E$505)+1),40)),"")} | C45: {=IFERROR(IF(LEN(C$44)=0,"",LEFT(INDEX(Jobs!$E$6:$E$505,SMALL(IF(Calc!$O$4:$O$503=C$44,ROW(Jobs!$E$6:$E$505),""),Calc!$V4)-ROW(Jobs!$E$6:$E$505)+1),40)),"")} | D45: {=IFERROR(IF(LEN(D$44)=0,"",LEFT(INDEX(Jobs!$E$6:$E$505,SMALL(IF(Calc!$O$4:$O$503=D$44,ROW(Jobs!$E$6:$E$505),""),Calc!$V4)-ROW(Jobs!$E$6:$E$505)+1),40)),"")} | E45: {=IFERROR(IF(LEN(E$44)=0,"",LEFT(INDEX(Jobs!$E$6:$E$505,SMALL(IF(Calc!$O$4:$O$503=E$44,ROW(Jobs!$E$6:$E$505),""),Calc!$V4)-ROW(Jobs!$E$6:$E$505)+1),40)),"")} | F45: {=IFERROR(IF(LEN(F$44)=0,"",LEFT(INDEX(Jobs!$E$6:$E$505,SMALL(IF(Calc!$O$4:$O$503=F$44,ROW(Jobs!$E$6:$E$505),""),Calc!$V4)-ROW(Jobs!$E$6:$E$505)+1),40)),"")} | G45: {=IFERROR(IF(LEN(G$44)=0,"",LEFT(INDEX(Jobs!$E$6:$E$505,SMALL(IF(Calc!$O$4:$O$503=G$44,ROW(Jobs!$E$6:$E$505),""),Calc!$V4)-ROW(Jobs!$E$6:$E$505)+1),40)),"")} | H45: {=IFERROR(IF(LEN(H$44)=0,"",LEFT(INDEX(Jobs!$E$6:$E$505,SMALL(IF(Calc!$O$4:$O$503=H$44,ROW(Jobs!$E$6:$E$505),""),Calc!$V4)-ROW(Jobs!$E$6:$E$505)+1),40)),"")}
B46: {=IFERROR(IF(LEN(B$44)=0,"",LEFT(INDEX(Jobs!$E$6:$E$505,SMALL(IF(Calc!$O$4:$O$503=B$44,ROW(Jobs!$E$6:$E$505),""),Calc!$V5)-ROW(Jobs!$E$6:$E$505)+1),40)),"")} | C46: {=IFERROR(IF(LEN(C$44)=0,"",LEFT(INDEX(Jobs!$E$6:$E$505,SMALL(IF(Calc!$O$4:$O$503=C$44,ROW(Jobs!$E$6:$E$505),""),Calc!$V5)-ROW(Jobs!$E$6:$E$505)+1),40)),"")} | D46: {=IFERROR(IF(LEN(D$44)=0,"",LEFT(INDEX(Jobs!$E$6:$E$505,SMALL(IF(Calc!$O$4:$O$503=D$44,ROW(Jobs!$E$6:$E$505),""),Calc!$V5)-ROW(Jobs!$E$6:$E$505)+1),40)),"")} | E46: {=IFERROR(IF(LEN(E$44)=0,"",LEFT(INDEX(Jobs!$E$6:$E$505,SMALL(IF(Calc!$O$4:$O$503=E$44,ROW(Jobs!$E$6:$E$505),""),Calc!$V5)-ROW(Jobs!$E$6:$E$505)+1),40)),"")} | F46: {=IFERROR(IF(LEN(F$44)=0,"",LEFT(INDEX(Jobs!$E$6:$E$505,SMALL(IF(Calc!$O$4:$O$503=F$44,ROW(Jobs!$E$6:$E$505),""),Calc!$V5)-ROW(Jobs!$E$6:$E$505)+1),40)),"")} | G46: {=IFERROR(IF(LEN(G$44)=0,"",LEFT(INDEX(Jobs!$E$6:$E$505,SMALL(IF(Calc!$O$4:$O$503=G$44,ROW(Jobs!$E$6:$E$505),""),Calc!$V5)-ROW(Jobs!$E$6:$E$505)+1),40)),"")} | H46: {=IFERROR(IF(LEN(H$44)=0,"",LEFT(INDEX(Jobs!$E$6:$E$505,SMALL(IF(Calc!$O$4:$O$503=H$44,ROW(Jobs!$E$6:$E$505),""),Calc!$V5)-ROW(Jobs!$E$6:$E$505)+1),40)),"")}
B47: {=IFERROR(IF(LEN(B$44)=0,"",LEFT(INDEX(Jobs!$E$6:$E$505,SMALL(IF(Calc!$O$4:$O$503=B$44,ROW(Jobs!$E$6:$E$505),""),Calc!$V6)-ROW(Jobs!$E$6:$E$505)+1),40)),"")} | C47: {=IFERROR(IF(LEN(C$44)=0,"",LEFT(INDEX(Jobs!$E$6:$E$505,SMALL(IF(Calc!$O$4:$O$503=C$44,ROW(Jobs!$E$6:$E$505),""),Calc!$V6)-ROW(Jobs!$E$6:$E$505)+1),40)),"")} | D47: {=IFERROR(IF(LEN(D$44)=0,"",LEFT(INDEX(Jobs!$E$6:$E$505,SMALL(IF(Calc!$O$4:$O$503=D$44,ROW(Jobs!$E$6:$E$505),""),Calc!$V6)-ROW(Jobs!$E$6:$E$505)+1),40)),"")} | E47: {=IFERROR(IF(LEN(E$44)=0,"",LEFT(INDEX(Jobs!$E$6:$E$505,SMALL(IF(Calc!$O$4:$O$503=E$44,ROW(Jobs!$E$6:$E$505),""),Calc!$V6)-ROW(Jobs!$E$6:$E$505)+1),40)),"")} | F47: {=IFERROR(IF(LEN(F$44)=0,"",LEFT(INDEX(Jobs!$E$6:$E$505,SMALL(IF(Calc!$O$4:$O$503=F$44,ROW(Jobs!$E$6:$E$505),""),Calc!$V6)-ROW(Jobs!$E$6:$E$505)+1),40)),"")} | G47: {=IFERROR(IF(LEN(G$44)=0,"",LEFT(INDEX(Jobs!$E$6:$E$505,SMALL(IF(Calc!$O$4:$O$503=G$44,ROW(Jobs!$E$6:$E$505),""),Calc!$V6)-ROW(Jobs!$E$6:$E$505)+1),40)),"")} | H47: {=IFERROR(IF(LEN(H$44)=0,"",LEFT(INDEX(Jobs!$E$6:$E$505,SMALL(IF(Calc!$O$4:$O$503=H$44,ROW(Jobs!$E$6:$E$505),""),Calc!$V6)-ROW(Jobs!$E$6:$E$505)+1),40)),"")}
B48: {=IFERROR(IF(LEN(B$44)=0,"",LEFT(INDEX(Jobs!$E$6:$E$505,SMALL(IF(Calc!$O$4:$O$503=B$44,ROW(Jobs!$E$6:$E$505),""),Calc!$V7)-ROW(Jobs!$E$6:$E$505)+1),40)),"")} | C48: {=IFERROR(IF(LEN(C$44)=0,"",LEFT(INDEX(Jobs!$E$6:$E$505,SMALL(IF(Calc!$O$4:$O$503=C$44,ROW(Jobs!$E$6:$E$505),""),Calc!$V7)-ROW(Jobs!$E$6:$E$505)+1),40)),"")} | D48: {=IFERROR(IF(LEN(D$44)=0,"",LEFT(INDEX(Jobs!$E$6:$E$505,SMALL(IF(Calc!$O$4:$O$503=D$44,ROW(Jobs!$E$6:$E$505),""),Calc!$V7)-ROW(Jobs!$E$6:$E$505)+1),40)),"")} | E48: {=IFERROR(IF(LEN(E$44)=0,"",LEFT(INDEX(Jobs!$E$6:$E$505,SMALL(IF(Calc!$O$4:$O$503=E$44,ROW(Jobs!$E$6:$E$505),""),Calc!$V7)-ROW(Jobs!$E$6:$E$505)+1),40)),"")} | F48: {=IFERROR(IF(LEN(F$44)=0,"",LEFT(INDEX(Jobs!$E$6:$E$505,SMALL(IF(Calc!$O$4:$O$503=F$44,ROW(Jobs!$E$6:$E$505),""),Calc!$V7)-ROW(Jobs!$E$6:$E$505)+1),40)),"")} | G48: {=IFERROR(IF(LEN(G$44)=0,"",LEFT(INDEX(Jobs!$E$6:$E$505,SMALL(IF(Calc!$O$4:$O$503=G$44,ROW(Jobs!$E$6:$E$505),""),Calc!$V7)-ROW(Jobs!$E$6:$E$505)+1),40)),"")} | H48: {=IFERROR(IF(LEN(H$44)=0,"",LEFT(INDEX(Jobs!$E$6:$E$505,SMALL(IF(Calc!$O$4:$O$503=H$44,ROW(Jobs!$E$6:$E$505),""),Calc!$V7)-ROW(Jobs!$E$6:$E$505)+1),40)),"")}
...

Sheet Calc
B2: 12 | C2: 31 | D2: 12
B3: Year | C3: Day | D3: Month | E3: Month Name | G3: Code | H3: Weekday | K3: Day | L3: Month | M3: Year | O3: Date | P3: Week Day | R3: Date | T3: Dates | V3: Index | X3: Section 5 - Status in Calendar | Z3: Section 6 - Status in Calendar
B4: 2021 | C4: 1 | D4: 1 | E4: January | G4: 1 | H4: Monday | J4: 1 | K4: =IF(LEN(INDEX(Jobs!$B$6:$D$505,$J4,MATCH(K$3,Jobs!$B$5:$D$5,0)))=0,"",INDEX(Jobs!$B$6:$D$505,$J4,MATCH(K$3,Jobs!$B$5:$D$5,0))) -> 11 | L4: =IF(LEN(INDEX(Jobs!$B$6:$D$505,$J4,MATCH(L$3,Jobs!$B$5:$D$5,0)))=0,"",INDEX(Jobs!$B$6:$D$505,$J4,MATCH(L$3,Jobs!$B$5:$D$5,0))) -> 9 | M4: =IF(LEN(INDEX(Jobs!$B$6:$D$505,$J4,MATCH(M$3,Jobs!$B$5:$D$5,0)))=0,"",INDEX(Jobs!$B$6:$D$505,$J4,MATCH(M$3,Jobs!$B$5:$D$5,0))) -> 2021 | O4: =IFERROR(DATE($M4,$L4,$K4),"") -> 44450 | P4: =IF(LEN($O4)=0,"",INDEX($G$4:$H$10,WEEKDAY($O4,11),2)) -> Saturday | R4: =DATE(Calendar!$F$5,INDEX($D$4:$E$15,MATCH(Calendar!$C$5,$E$4:$E$15,0),1),1) -> 44562 | T4: 44197 | V4: 1 | X4: =IF(LEN(Calendar!$B$44)>0,"Active","Passive") -> Active | Z4: =IF(LEN(Calendar!$B$53)>0,"Active","Passive") -> Active
B5: 2022 | C5: 2 | D5: 2 | E5: February | G5: 2 | H5: Tuesday | J5: 2 | K5: =IF(LEN(INDEX(Jobs!$B$6:$D$505,$J5,MATCH(K$3,Jobs!$B$5:$D$5,0)))=0,"",INDEX(Jobs!$B$6:$D$505,$J5,MATCH(K$3,Jobs!$B$5:$D$5,0))) -> 12 | L5: =IF(LEN(INDEX(Jobs!$B$6:$D$505,$J5,MATCH(L$3,Jobs!$B$5:$D$5,0)))=0,"",INDEX(Jobs!$B$6:$D$505,$J5,MATCH(L$3,Jobs!$B$5:$D$5,0))) -> 9 | M5: =IF(LEN(INDEX(Jobs!$B$6:$D$505,$J5,MATCH(M$3,Jobs!$B$5:$D$5,0)))=0,"",INDEX(Jobs!$B$6:$D$505,$J5,MATCH(M$3,Jobs!$B$5:$D$5,0))) -> 2021 | O5: =IFERROR(DATE($M5,$L5,$K5),"") -> 44451 | P5: =IF(LEN($O5)=0,"",INDEX($G$4:$H$10,WEEKDAY($O5,11),2)) -> Sunday | T5: 44228 | V5: 2
B6: 2023 | C6: 3 | D6: 3 | E6: March | G6: 3 | H6: Wednesday | J6: 3 | K6: =IF(LEN(INDEX(Jobs!$B$6:$D$505,$J6,MATCH(K$3,Jobs!$B$5:$D$5,0)))=0,"",INDEX(Jobs!$B$6:$D$505,$J6,MATCH(K$3,Jobs!$B$5:$D$5,0))) -> 13 | L6: =IF(LEN(INDEX(Jobs!$B$6:$D$505,$J6,MATCH(L$3,Jobs!$B$5:$D$5,0)))=0,"",INDEX(Jobs!$B$6:$D$505,$J6,MATCH(L$3,Jobs!$B$5:$D$5,0))) -> 9 | M6: =IF(LEN(INDEX(Jobs!$B$6:$D$505,$J6,MATCH(M$3,Jobs!$B$5:$D$5,0)))=0,"",INDEX(Jobs!$B$6:$D$505,$J6,MATCH(M$3,Jobs!$B$5:$D$5,0))) -> 2021 | O6: =IFERROR(DATE($M6,$L6,$K6),"") -> 44452 | P6: =IF(LEN($O6)=0,"",INDEX($G$4:$H$10,WEEKDAY($O6,11),2)) -> Monday | T6: 44256 | V6: 3
B7: 2024 | C7: 4 | D7: 4 | E7: April | G7: 4 | H7: Thursday | J7: 4 | K7: =IF(LEN(INDEX(Jobs!$B$6:$D$505,$J7,MATCH(K$3,Jobs!$B$5:$D$5,0)))=0,"",INDEX(Jobs!$B$6:$D$505,$J7,MATCH(K$3,Jobs!$B$5:$D$5,0))) -> 7 | L7: =IF(LEN(INDEX(Jobs!$B$6:$D$505,$J7,MATCH(L$3,Jobs!$B$5:$D$5,0)))=0,"",INDEX(Jobs!$B$6:$D$505,$J7,MATCH(L$3,Jobs!$B$5:$D$5,0))) -> 10 | M7: =IF(LEN(INDEX(Jobs!$B$6:$D$505,$J7,MATCH(M$3,Jobs!$B$5:$D$5,0)))=0,"",INDEX(Jobs!$B$6:$D$505,$J7,MATCH(M$3,Jobs!$B$5:$D$5,0))) -> 2021 | O7: =IFERROR(DATE($M7,$L7,$K7),"") -> 44476 | P7: =IF(LEN($O7)=0,"",INDEX($G$4:$H$10,WEEKDAY($O7,11),2)) -> Thursday | T7: 44287 | V7: 4
B8: 2025 | C8: 5 | D8: 5 | E8: May | G8: 5 | H8: Friday | J8: 5 | K8: =IF(LEN(INDEX(Jobs!$B$6:$D$505,$J8,MATCH(K$3,Jobs!$B$5:$D$5,0)))=0,"",INDEX(Jobs!$B$6:$D$505,$J8,MATCH(K$3,Jobs!$B$5:$D$5,0))) -> 8 | L8: =IF(LEN(INDEX(Jobs!$B$6:$D$505,$J8,MATCH(L$3,Jobs!$B$5:$D$5,0)))=0,"",INDEX(Jobs!$B$6:$D$505,$J8,MATCH(L$3,Jobs!$B$5:$D$5,0))) -> 10 | M8: =IF(LEN(INDEX(Jobs!$B$6:$D$505,$J8,MATCH(M$3,Jobs!$B$5:$D$5,0)))=0,"",INDEX(Jobs!$B$6:$D$505,$J8,MATCH(M$3,Jobs!$B$5:$D$5,0))) -> 2021 | O8: =IFERROR(DATE($M8,$L8,$K8),"") -> 44477 | P8: =IF(LEN($O8)=0,"",INDEX($G$4:$H$10,WEEKDAY($O8,11),2)) -> Friday | T8: 44317 | V8: 5
B9: 2026 | C9: 6 | D9: 6 | E9: June | G9: 6 | H9: Saturday | J9: 6 | K9: =IF(LEN(INDEX(Jobs!$B$6:$D$505,$J9,MATCH(K$3,Jobs!$B$5:$D$5,0)))=0,"",INDEX(Jobs!$B$6:$D$505,$J9,MATCH(K$3,Jobs!$B$5:$D$5,0))) -> 9 | L9: =IF(LEN(INDEX(Jobs!$B$6:$D$505,$J9,MATCH(L$3,Jobs!$B$5:$D$5,0)))=0,"",INDEX(Jobs!$B$6:$D$505,$J9,MATCH(L$3,Jobs!$B$5:$D$5,0))) -> 10 | M9: =IF(LEN(INDEX(Jobs!$B$6:$D$505,$J9,MATCH(M$3,Jobs!$B$5:$D$5,0)))=0,"",INDEX(Jobs!$B$6:$D$505,$J9,MATCH(M$3,Jobs!$B$5:$D$5,0))) -> 2021 | O9: =IFERROR(DATE($M9,$L9,$K9),"") -> 44478 | P9: =IF(LEN($O9)=0,"",INDEX($G$4:$H$10,WEEKDAY($O9,11),2)) -> Saturday | T9: 44348 | V9: 6
B10: 2027 | C10: 7 | D10: 7 | E10: July | G10: 7 | H10: Sunday | J10: 7 | K10: =IF(LEN(INDEX(Jobs!$B$6:$D$505,$J10,MATCH(K$3,Jobs!$B$5:$D$5,0)))=0,"",INDEX(Jobs!$B$6:$D$505,$J10,MATCH(K$3,Jobs!$B$5:$D$5,0))) -> 10 | L10: =IF(LEN(INDEX(Jobs!$B$6:$D$505,$J10,MATCH(L$3,Jobs!$B$5:$D$5,0)))=0,"",INDEX(Jobs!$B$6:$D$505,$J10,MATCH(L$3,Jobs!$B$5:$D$5,0))) -> 10 | M10: =IF(LEN(INDEX(Jobs!$B$6:$D$505,$J10,MATCH(M$3,Jobs!$B$5:$D$5,0)))=0,"",INDEX(Jobs!$B$6:$D$505,$J10,MATCH(M$3,Jobs!$B$5:$D$5,0))) -> 2021 | O10: =IFERROR(DATE($M10,$L10,$K10),"") -> 44479 | P10: =IF(LEN($O10)=0,"",INDEX($G$4:$H$10,WEEKDAY($O10,11),2)) -> Sunday | T10: 44378 | V10: 7
B11: 2028 | C11: 8 | D11: 8 | E11: August | J11: 8 | K11: =IF(LEN(INDEX(Jobs!$B$6:$D$505,$J11,MATCH(K$3,Jobs!$B$5:$D$5,0)))=0,"",INDEX(Jobs!$B$6:$D$505,$J11,MATCH(K$3,Jobs!$B$5:$D$5,0))) -> 4 | L11: =IF(LEN(INDEX(Jobs!$B$6:$D$505,$J11,MATCH(L$3,Jobs!$B$5:$D$5,0)))=0,"",INDEX(Jobs!$B$6:$D$505,$J11,MATCH(L$3,Jobs!$B$5:$D$5,0))) -> 11 | M11: =IF(LEN(INDEX(Jobs!$B$6:$D$505,$J11,MATCH(M$3,Jobs!$B$5:$D$5,0)))=0,"",INDEX(Jobs!$B$6:$D$505,$J11,MATCH(M$3,Jobs!$B$5:$D$5,0))) -> 2021 | O11: =IFERROR(DATE($M11,$L11,$K11),"") -> 44504 | P11: =IF(LEN($O11)=0,"",INDEX($G$4:$H$10,WEEKDAY($O11,11),2)) -> Thursday | T11: 44409
B12: 2029 | C12: 9 | D12: 9 | E12: September | J12: 9 | K12: =IF(LEN(INDEX(Jobs!$B$6:$D$505,$J12,MATCH(K$3,Jobs!$B$5:$D$5,0)))=0,"",INDEX(Jobs!$B$6:$D$505,$J12,MATCH(K$3,Jobs!$B$5:$D$5,0))) -> 5 | L12: =IF(LEN(INDEX(Jobs!$B$6:$D$505,$J12,MATCH(L$3,Jobs!$B$5:$D$5,0)))=0,"",INDEX(Jobs!$B$6:$D$505,$J12,MATCH(L$3,Jobs!$B$5:$D$5,0))) -> 11 | M12: =IF(LEN(INDEX(Jobs!$B$6:$D$505,$J12,MATCH(M$3,Jobs!$B$5:$D$5,0)))=0,"",INDEX(Jobs!$B$6:$D$505,$J12,MATCH(M$3,Jobs!$B$5:$D$5,0))) -> 2021 | O12: =IFERROR(DATE($M12,$L12,$K12),"") -> 44505 | P12: =IF(LEN($O12)=0,"",INDEX($G$4:$H$10,WEEKDAY($O12,11),2)) -> Friday | T12: 44440
B13: 2030 | C13: 10 | D13: 10 | E13: October | J13: 10 | K13: =IF(LEN(INDEX(Jobs!$B$6:$D$505,$J13,MATCH(K$3,Jobs!$B$5:$D$5,0)))=0,"",INDEX(Jobs!$B$6:$D$505,$J13,MATCH(K$3,Jobs!$B$5:$D$5,0))) -> 6 | L13: =IF(LEN(INDEX(Jobs!$B$6:$D$505,$J13,MATCH(L$3,Jobs!$B$5:$D$5,0)))=0,"",INDEX(Jobs!$B$6:$D$505,$J13,MATCH(L$3,Jobs!$B$5:$D$5,0))) -> 11 | M13: =IF(LEN(INDEX(Jobs!$B$6:$D$505,$J13,MATCH(M$3,Jobs!$B$5:$D$5,0)))=0,"",INDEX(Jobs!$B$6:$D$505,$J13,MATCH(M$3,Jobs!$B$5:$D$5,0))) -> 2021 | O13: =IFERROR(DATE($M13,$L13,$K13),"") -> 44506 | P13: =IF(LEN($O13)=0,"",INDEX($G$4:$H$10,WEEKDAY($O13,11),2)) -> Saturday | T13: 44470
B14: 2031 | C14: 11 | D14: 11 | E14: November | J14: 11 | K14: =IF(LEN(INDEX(Jobs!$B$6:$D$505,$J14,MATCH(K$3,Jobs!$B$5:$D$5,0)))=0,"",INDEX(Jobs!$B$6:$D$505,$J14,MATCH(K$3,Jobs!$B$5:$D$5,0))) -> 11 | L14: =IF(LEN(INDEX(Jobs!$B$6:$D$505,$J14,MATCH(L$3,Jobs!$B$5:$D$5,0)))=0,"",INDEX(Jobs!$B$6:$D$505,$J14,MATCH(L$3,Jobs!$B$5:$D$5,0))) -> 12 | M14: =IF(LEN(INDEX(Jobs!$B$6:$D$505,$J14,MATCH(M$3,Jobs!$B$5:$D$5,0)))=0,"",INDEX(Jobs!$B$6:$D$505,$J14,MATCH(M$3,Jobs!$B$5:$D$5,0))) -> 2021 | O14: =IFERROR(DATE($M14,$L14,$K14),"") -> 44541 | P14: =IF(LEN($O14)=0,"",INDEX($G$4:$H$10,WEEKDAY($O14,11),2)) -> Saturday | T14: 44501
B15: 2032 | C15: 12 | D15: 12 | E15: December | J15: 12 | K15: =IF(LEN(INDEX(Jobs!$B$6:$D$505,$J15,MATCH(K$3,Jobs!$B$5:$D$5,0)))=0,"",INDEX(Jobs!$B$6:$D$505,$J15,MATCH(K$3,Jobs!$B$5:$D$5,0))) -> 12 | L15: =IF(LEN(INDEX(Jobs!$B$6:$D$505,$J15,MATCH(L$3,Jobs!$B$5:$D$5,0)))=0,"",INDEX(Jobs!$B$6:$D$505,$J15,MATCH(L$3,Jobs!$B$5:$D$5,0))) -> 12 | M15: =IF(LEN(INDEX(Jobs!$B$6:$D$505,$J15,MATCH(M$3,Jobs!$B$5:$D$5,0)))=0,"",INDEX(Jobs!$B$6:$D$505,$J15,MATCH(M$3,Jobs!$B$5:$D$5,0))) -> 2021 | O15: =IFERROR(DATE($M15,$L15,$K15),"") -> 44542 | P15: =IF(LEN($O15)=0,"",INDEX($G$4:$H$10,WEEKDAY($O15,11),2)) -> Sunday | T15: 44531
C16: 13 | J16: 13 | K16: =IF(LEN(INDEX(Jobs!$B$6:$D$505,$J16,MATCH(K$3,Jobs!$B$5:$D$5,0)))=0,"",INDEX(Jobs!$B$6:$D$505,$J16,MATCH(K$3,Jobs!$B$5:$D$5,0))) -> 13 | L16: =IF(LEN(INDEX(Jobs!$B$6:$D$505,$J16,MATCH(L$3,Jobs!$B$5:$D$5,0)))=0,"",INDEX(Jobs!$B$6:$D$505,$J16,MATCH(L$3,Jobs!$B$5:$D$5,0))) -> 12 | M16: =IF(LEN(INDEX(Jobs!$B$6:$D$505,$J16,MATCH(M$3,Jobs!$B$5:$D$5,0)))=0,"",INDEX(Jobs!$B$6:$D$505,$J16,MATCH(M$3,Jobs!$B$5:$D$5,0))) -> 2021 | O16: =IFERROR(DATE($M16,$L16,$K16),"") -> 44543 | P16: =IF(LEN($O16)=0,"",INDEX($G$4:$H$10,WEEKDAY($O16,11),2)) -> Monday | T16: 44562
C17: 14 | J17: 14 | K17: =IF(LEN(INDEX(Jobs!$B$6:$D$505,$J17,MATCH(K$3,Jobs!$B$5:$D$5,0)))=0,"",INDEX(Jobs!$B$6:$D$505,$J17,MATCH(K$3,Jobs!$B$5:$D$5,0))) -> 14 | L17: =IF(LEN(INDEX(Jobs!$B$6:$D$505,$J17,MATCH(L$3,Jobs!$B$5:$D$5,0)))=0,"",INDEX(Jobs!$B$6:$D$505,$J17,MATCH(L$3,Jobs!$B$5:$D$5,0))) -> 12 | M17: =IF(LEN(INDEX(Jobs!$B$6:$D$505,$J17,MATCH(M$3,Jobs!$B$5:$D$5,0)))=0,"",INDEX(Jobs!$B$6:$D$505,$J17,MATCH(M$3,Jobs!$B$5:$D$5,0))) -> 2021 | O17: =IFERROR(DATE($M17,$L17,$K17),"") -> 44544 | P17: =IF(LEN($O17)=0,"",INDEX($G$4:$H$10,WEEKDAY($O17,11),2)) -> Tuesday | T17: 44593
C18: 15 | J18: 15 | K18: =IF(LEN(INDEX(Jobs!$B$6:$D$505,$J18,MATCH(K$3,Jobs!$B$5:$D$5,0)))=0,"",INDEX(Jobs!$B$6:$D$505,$J18,MATCH(K$3,Jobs!$B$5:$D$5,0))) -> 15 | L18: =IF(LEN(INDEX(Jobs!$B$6:$D$505,$J18,MATCH(L$3,Jobs!$B$5:$D$5,0)))=0,"",INDEX(Jobs!$B$6:$D$505,$J18,MATCH(L$3,Jobs!$B$5:$D$5,0))) -> 12 | M18: =IF(LEN(INDEX(Jobs!$B$6:$D$505,$J18,MATCH(M$3,Jobs!$B$5:$D$5,0)))=0,"",INDEX(Jobs!$B$6:$D$505,$J18,MATCH(M$3,Jobs!$B$5:$D$5,0))) -> 2021 | O18: =IFERROR(DATE($M18,$L18,$K18),"") -> 44545 | P18: =IF(LEN($O18)=0,"",INDEX($G$4:$H$10,WEEKDAY($O18,11),2)) -> Wednesday | T18: 44621
C19: 16 | J19: 16 | K19: =IF(LEN(INDEX(Jobs!$B$6:$D$505,$J19,MATCH(K$3,Jobs!$B$5:$D$5,0)))=0,"",INDEX(Jobs!$B$6:$D$505,$J19,MATCH(K$3,Jobs!$B$5:$D$5,0))) -> 4 | L19: =IF(LEN(INDEX(Jobs!$B$6:$D$505,$J19,MATCH(L$3,Jobs!$B$5:$D$5,0)))=0,"",INDEX(Jobs!$B$6:$D$505,$J19,MATCH(L$3,Jobs!$B$5:$D$5,0))) -> 1 | M19: =IF(LEN(INDEX(Jobs!$B$6:$D$505,$J19,MATCH(M$3,Jobs!$B$5:$D$5,0)))=0,"",INDEX(Jobs!$B$6:$D$505,$J19,MATCH(M$3,Jobs!$B$5:$D$5,0))) -> 2022 | O19: =IFERROR(DATE($M19,$L19,$K19),"") -> 44565 | P19: =IF(LEN($O19)=0,"",INDEX($G$4:$H$10,WEEKDAY($O19,11),2)) -> Tuesday | T19: 44652
C20: 17 | J20: 17 | K20: =IF(LEN(INDEX(Jobs!$B$6:$D$505,$J20,MATCH(K$3,Jobs!$B$5:$D$5,0)))=0,"",INDEX(Jobs!$B$6:$D$505,$J20,MATCH(K$3,Jobs!$B$5:$D$5,0))) -> 9 | L20: =IF(LEN(INDEX(Jobs!$B$6:$D$505,$J20,MATCH(L$3,Jobs!$B$5:$D$5,0)))=0,"",INDEX(Jobs!$B$6:$D$505,$J20,MATCH(L$3,Jobs!$B$5:$D$5,0))) -> 1 | M20: =IF(LEN(INDEX(Jobs!$B$6:$D$505,$J20,MATCH(M$3,Jobs!$B$5:$D$5,0)))=0,"",INDEX(Jobs!$B$6:$D$505,$J20,MATCH(M$3,Jobs!$B$5:$D$5,0))) -> 2022 | O20: =IFERROR(DATE($M20,$L20,$K20),"") -> 44570 | P20: =IF(LEN($O20)=0,"",INDEX($G$4:$H$10,WEEKDAY($O20,11),2)) -> Sunday | T20: 44682
C21: 18 | J21: 18 | K21: =IF(LEN(INDEX(Jobs!$B$6:$D$505,$J21,MATCH(K$3,Jobs!$B$5:$D$5,0)))=0,"",INDEX(Jobs!$B$6:$D$505,$J21,MATCH(K$3,Jobs!$B$5:$D$5,0))) -> 11 | L21: =IF(LEN(INDEX(Jobs!$B$6:$D$505,$J21,MATCH(L$3,Jobs!$B$5:$D$5,0)))=0,"",INDEX(Jobs!$B$6:$D$505,$J21,MATCH(L$3,Jobs!$B$5:$D$5,0))) -> 1 | M21: =IF(LEN(INDEX(Jobs!$B$6:$D$505,$J21,MATCH(M$3,Jobs!$B$5:$D$5,0)))=0,"",INDEX(Jobs!$B$6:$D$505,$J21,MATCH(M$3,Jobs!$B$5:$D$5,0))) -> 2022 | O21: =IFERROR(DATE($M21,$L21,$K21),"") -> 44572 | P21: =IF(LEN($O21)=0,"",INDEX($G$4:$H$10,WEEKDAY($O21,11),2)) -> Tuesday | T21: 44713
C22: 19 | J22: 19 | K22: =IF(LEN(INDEX(Jobs!$B$6:$D$505,$J22,MATCH(K$3,Jobs!$B$5:$D$5,0)))=0,"",INDEX(Jobs!$B$6:$D$505,$J22,MATCH(K$3,Jobs!$B$5:$D$5,0))) -> 13 | L22: =IF(LEN(INDEX(Jobs!$B$6:$D$505,$J22,MATCH(L$3,Jobs!$B$5:$D$5,0)))=0,"",INDEX(Jobs!$B$6:$D$505,$J22,MATCH(L$3,Jobs!$B$5:$D$5,0))) -> 1 | M22: =IF(LEN(INDEX(Jobs!$B$6:$D$505,$J22,MATCH(M$3,Jobs!$B$5:$D$5,0)))=0,"",INDEX(Jobs!$B$6:$D$505,$J22,MATCH(M$3,Jobs!$B$5:$D$5,0))) -> 2022 | O22: =IFERROR(DATE($M22,$L22,$K22),"") -> 44574 | P22: =IF(LEN($O22)=0,"",INDEX($G$4:$H$10,WEEKDAY($O22,11),2)) -> Thursday | T22: 44743
C23: 20 | J23: 20 | K23: =IF(LEN(INDEX(Jobs!$B$6:$D$505,$J23,MATCH(K$3,Jobs!$B$5:$D$5,0)))=0,"",INDEX(Jobs!$B$6:$D$505,$J23,MATCH(K$3,Jobs!$B$5:$D$5,0))) -> 15 | L23: =IF(LEN(INDEX(Jobs!$B$6:$D$505,$J23,MATCH(L$3,Jobs!$B$5:$D$5,0)))=0,"",INDEX(Jobs!$B$6:$D$505,$J23,MATCH(L$3,Jobs!$B$5:$D$5,0))) -> 1 | M23: =IF(LEN(INDEX(Jobs!$B$6:$D$505,$J23,MATCH(M$3,Jobs!$B$5:$D$5,0)))=0,"",INDEX(Jobs!$B$6:$D$505,$J23,MATCH(M$3,Jobs!$B$5:$D$5,0))) -> 2022 | O23: =IFERROR(DATE($M23,$L23,$K23),"") -> 44576 | P23: =IF(LEN($O23)=0,"",INDEX($G$4:$H$10,WEEKDAY($O23,11),2)) -> Saturday | T23: 44774
C24: 21 | J24: 21 | K24: =IF(LEN(INDEX(Jobs!$B$6:$D$505,$J24,MATCH(K$3,Jobs!$B$5:$D$5,0)))=0,"",INDEX(Jobs!$B$6:$D$505,$J24,MATCH(K$3,Jobs!$B$5:$D$5,0))) -> 17 | L24: =IF(LEN(INDEX(Jobs!$B$6:$D$505,$J24,MATCH(L$3,Jobs!$B$5:$D$5,0)))=0,"",INDEX(Jobs!$B$6:$D$505,$J24,MATCH(L$3,Jobs!$B$5:$D$5,0))) -> 1 | M24: =IF(LEN(INDEX(Jobs!$B$6:$D$505,$J24,MATCH(M$3,Jobs!$B$5:$D$5,0)))=0,"",INDEX(Jobs!$B$6:$D$505,$J24,MATCH(M$3,Jobs!$B$5:$D$5,0))) -> 2022 | O24: =IFERROR(DATE($M24,$L24,$K24),"") -> 44578 | P24: =IF(LEN($O24)=0,"",INDEX($G$4:$H$10,WEEKDAY($O24,11),2)) -> Monday | T24: 44805
C25: 22 | J25: 22 | K25: =IF(LEN(INDEX(Jobs!$B$6:$D$505,$J25,MATCH(K$3,Jobs!$B$5:$D$5,0)))=0,"",INDEX(Jobs!$B$6:$D$505,$J25,MATCH(K$3,Jobs!$B$5:$D$5,0))) -> 18 | L25: =IF(LEN(INDEX(Jobs!$B$6:$D$505,$J25,MATCH(L$3,Jobs!$B$5:$D$5,0)))=0,"",INDEX(Jobs!$B$6:$D$505,$J25,MATCH(L$3,Jobs!$B$5:$D$5,0))) -> 1 | M25: =IF(LEN(INDEX(Jobs!$B$6:$D$505,$J25,MATCH(M$3,Jobs!$B$5:$D$5,0)))=0,"",INDEX(Jobs!$B$6:$D$505,$J25,MATCH(M$3,Jobs!$B$5:$D$5,0))) -> 2022 | O25: =IFERROR(DATE($M25,$L25,$K25),"") -> 44579 | P25: =IF(LEN($O25)=0,"",INDEX($G$4:$H$10,WEEKDAY($O25,11),2)) -> Tuesday | T25: 44835
C26: 23 | J26: 23 | K26: =IF(LEN(INDEX(Jobs!$B$6:$D$505,$J26,MATCH(K$3,Jobs!$B$5:$D$5,0)))=0,"",INDEX(Jobs!$B$6:$D$505,$J26,MATCH(K$3,Jobs!$B$5:$D$5,0))) | L26: =IF(LEN(INDEX(Jobs!$B$6:$D$505,$J26,MATCH(L$3,Jobs!$B$5:$D$5,0)))=0,"",INDEX(Jobs!$B$6:$D$505,$J26,MATCH(L$3,Jobs!$B$5:$D$5,0))) | M26: =IF(LEN(INDEX(Jobs!$B$6:$D$505,$J26,MATCH(M$3,Jobs!$B$5:$D$5,0)))=0,"",INDEX(Jobs!$B$6:$D$505,$J26,MATCH(M$3,Jobs!$B$5:$D$5,0))) | O26: =IFERROR(DATE($M26,$L26,$K26),"") | P26: =IF(LEN($O26)=0,"",INDEX($G$4:$H$10,WEEKDAY($O26,11),2)) | T26: 44866
C27: 24 | J27: 24 | K27: =IF(LEN(INDEX(Jobs!$B$6:$D$505,$J27,MATCH(K$3,Jobs!$B$5:$D$5,0)))=0,"",INDEX(Jobs!$B$6:$D$505,$J27,MATCH(K$3,Jobs!$B$5:$D$5,0))) | L27: =IF(LEN(INDEX(Jobs!$B$6:$D$505,$J27,MATCH(L$3,Jobs!$B$5:$D$5,0)))=0,"",INDEX(Jobs!$B$6:$D$505,$J27,MATCH(L$3,Jobs!$B$5:$D$5,0))) | M27: =IF(LEN(INDEX(Jobs!$B$6:$D$505,$J27,MATCH(M$3,Jobs!$B$5:$D$5,0)))=0,"",INDEX(Jobs!$B$6:$D$505,$J27,MATCH(M$3,Jobs!$B$5:$D$5,0))) | O27: =IFERROR(DATE($M27,$L27,$K27),"") | P27: =IF(LEN($O27)=0,"",INDEX($G$4:$H$10,WEEKDAY($O27,11),2)) | T27: 44896
C28: 25 | J28: 25 | K28: =IF(LEN(INDEX(Jobs!$B$6:$D$505,$J28,MATCH(K$3,Jobs!$B$5:$D$5,0)))=0,"",INDEX(Jobs!$B$6:$D$505,$J28,MATCH(K$3,Jobs!$B$5:$D$5,0))) | L28: =IF(LEN(INDEX(Jobs!$B$6:$D$505,$J28,MATCH(L$3,Jobs!$B$5:$D$5,0)))=0,"",INDEX(Jobs!$B$6:$D$505,$J28,MATCH(L$3,Jobs!$B$5:$D$5,0))) | M28: =IF(LEN(INDEX(Jobs!$B$6:$D$505,$J28,MATCH(M$3,Jobs!$B$5:$D$5,0)))=0,"",INDEX(Jobs!$B$6:$D$505,$J28,MATCH(M$3,Jobs!$B$5:$D$5,0))) | O28: =IFERROR(DATE($M28,$L28,$K28),"") | P28: =IF(LEN($O28)=0,"",INDEX($G$4:$H$10,WEEKDAY($O28,11),2)) | T28: 44927
C29: 26 | T29: 44958
C30: 27 | T30: 44986
C31: 28 | T31: 45017
C32: 29 | T32: 45047
C33: 30 | T33: 45078
C34: 31 | T34: 45108
T35: 45139
T36: 45170
T37: 45200
T38: 45231
T39: 45261
T40: 45292
T41: 45323
...
