Workbook

Sheet Matrix
B2: VRIO ANAYSIS TEMPLATE
B3: VRIO MATRIX
C7: RESOURCES / ASSETS | E7: V | G7: R | I7: I | K7: O | M7: RESULT
E8: Valuable? | G8: Rare? | I8: Inimitable? | K8: Organized?
C9: Proprietary Technology | E9: ✔ | G9: ✔ | I9: ✘ | K9: ✔ | M9: Temporary Advantage
C10: Skilled R&D Team | E10: ✔ | G10: ✔ | I10: ✔ | K10: ✔ | M10: Competitive Parity
C11: Customer Service | E11: ✔ | G11: ✘ | I11: ✘ | K11: ✔ | M11: Sustainable Advantage
C12: Brand Reputation | E12: ✔ | G12: ✔ | I12: ✘ | K12: ✔ | M12: Competitive Parity

Sheet ActionPlan
B2: VRIO ANAYSIS TEMPLATE
B3: ACTION PLAN
B5: Resource / Asset | C5: Action | D5: Responsible | E5: Priority | F5: Progress (%)
B6: Skilled R&D Team | C6: Continue to invest in leadership. | D6: James Anderson | E6: Low | F6: 30
B7: Customer Service | C7: Consider strategies to enhance the rarity or inimitability. | D7: Emily Johnson | E7: Medium | F7: 60
B8: Proprietary Technology | C8: Maintain efficiency but don’t heavily invest. | D8: Michael Brown | E8: Medium | F8: 40
B9: Proprietary Technology | C9: Develop new capabilities. | D9: Michael Brown | E9: Low | F9: 90
B10: Brand Reputation | C10: Work on social responsibility. | D10: Brian Taylor | E10: High | F10: 60

Sheet Dashboard
B2: VRIO ANAYSIS TEMPLATE
B3: DASHBOARD
C7: TOTAL ASSET # | E7: Valuable | G7: Rare | I7: Inimitable | K7: Organized
C8: =IFERROR(Calc!$E$4,"") -> 4 | E8: =IFERROR(Calc!$E$5,"") -> 4 | G8: =IFERROR(Calc!$E$6,"") -> 3 | I8: =IFERROR(Calc!$E$7,"") -> 1 | K8: =IFERROR(Calc!$E$8,"") -> 4
C23: VRIO Analysis Notes
C24: We should focus on developing inimitable assets for the business.
C25: This analysis show a comparative advantage for the company.

Sheet Calc
B3: Dropdown Menus | D3: Info Box Numbers
B4: Matrix Labels | D4: Resource # | E4: =IFERROR(COUNTIF(Matrix!$C$9:$C$14,"?*"),0) -> 4
B5: ✘ | D5: Valuable | E5: =IFERROR(COUNTIF(Matrix!$E$9:$E$14,Calc!$B$6),0) -> 4
B6: ✔ | D6: Rare | E6: =IFERROR(COUNTIF(Matrix!$G$9:$G$14,Calc!$B$6),0) -> 3
D7: Inimitable | E7: =IFERROR(COUNTIF(Matrix!$I$9:$I$14,Calc!$B$6),0) -> 1
D8: Organized | E8: =IFERROR(COUNTIF(Matrix!$K$9:$K$14,Calc!$B$6),0) -> 4
B9: Results Dropdown
B10: Sustainable Advantage
B11: Temporary Advantage | D11: Actions By Priority Chart
B12: Competitive Parity | D12: Action # | E12: =IFERROR(COUNTIF(ActionPlan!$C$6:$C$13,"?*"),0) -> 5
B13: Unused Competitive Advantage | D13: =B32 -> Low | E13: =IFERROR(COUNTIF(ActionPlan!$E$6:$E$13,Calc!$D13),0) -> 2
B14: Competitive Disadvantage | D14: =B33 -> Medium | E14: =IFERROR(COUNTIF(ActionPlan!$E$6:$E$13,Calc!$D14),0) -> 2
D15: =B34 -> High | E15: =IFERROR(COUNTIF(ActionPlan!$E$6:$E$13,Calc!$D15),0) -> 1
B17: Action Progress Dropdown
B18: 0 | D18: Doughnut Chart
B19: 10 | D19: Full | E19: 100
B20: 20 | D20: Completed | E20: =IFERROR(SUM(ActionPlan!$F$6:$F$13)/E12,0) -> 56
B21: 30 | D21: Remaining | E21: =E19-E20 -> 44
B22: 40
B23: 50 | D23: Completion % | E23: =IFERROR(E20/100,"") -> 0.56
B24: 60
B25: 70
B26: 80 | D26: Print Areas
B27: 90 | D27: Action Plan Print Row | E27: =IFERROR(MAX(4+$E$12,5),5) -> 9
B28: 100 | D28: Action Plan Print Column | E28: =IFERROR(MAX(COUNTIF(ActionPlan!$B$5:$F$5,"?*"),5),5) -> 5
D29: Matrix Print Row | E29: =IFERROR(MAX($E$4+2,3),3) -> 6
D30: Matrix Print Column | E30: 11
B31: Priority Dropdown
B32: Low
B33: Medium
B34: High
