Workbook

Sheet SoarAnalysis
B2: SOAR ANALYSIS TEMPLATE
B3: SOAR ANALYSIS
C7: S | E7: O | G7: A | I7: R
C8: Strengths | E8: Opportunities | G8: Aspirations | I8: Results
C9: Robust R&D department | E9: Increasing demand for renewable energy | G9: Become a market leader in the renewable energy sector by 2030 | I9: Increase in annual revenue by 20%
C10: Expertise in renewable energy technology | E10: Potential collaboration with major construction companies | G10: Develop a new line of solar products | I10: Launch of consumer solar products by Q2 2025
C11: 30% market share | E11: Artificial photosynthesis and bio-batteries | I11: Quarterly customer satisfaction surveys
C12: Strong intellectual property in solar panels | E12: Government incentives for green technology
C13: Established distribution network

Sheet Matrix
B2: SOAR ANALYSIS TEMPLATE
B3: SOAR MATRIX
C7: STRENGTHS | D7: OPPORTUNITIES
C8: =IFERROR(IF(LEN(INDEX(SoarAnalysis!$C$9:$C$38,ROW(A8)-ROW($A$7)))=0,"",CHAR(149)&" "&INDEX(SoarAnalysis!$C$9:$C$38,ROW(A8)-ROW($A$7))),"") -> • Robust R&D department | D8: =IFERROR(IF(LEN(INDEX(SoarAnalysis!$E$9:$E$38,ROW(A8)-ROW($A$7)))=0,"",CHAR(149)&" "&INDEX(SoarAnalysis!$E$9:$E$38,ROW(A8)-ROW($A$7))),"") -> • Increasing demand for renewable energy
C9: =IFERROR(IF(LEN(INDEX(SoarAnalysis!$C$9:$C$38,ROW(A9)-ROW($A$7)))=0,"",CHAR(149)&" "&INDEX(SoarAnalysis!$C$9:$C$38,ROW(A9)-ROW($A$7))),"") -> • Expertise in renewable energy technology | D9: =IFERROR(IF(LEN(INDEX(SoarAnalysis!$E$9:$E$38,ROW(A9)-ROW($A$7)))=0,"",CHAR(149)&" "&INDEX(SoarAnalysis!$E$9:$E$38,ROW(A9)-ROW($A$7))),"") -> • Potential collaboration with major construction companies
C10: =IFERROR(IF(LEN(INDEX(SoarAnalysis!$C$9:$C$38,ROW(A10)-ROW($A$7)))=0,"",CHAR(149)&" "&INDEX(SoarAnalysis!$C$9:$C$38,ROW(A10)-ROW($A$7))),"") -> • 30% market share | D10: =IFERROR(IF(LEN(INDEX(SoarAnalysis!$E$9:$E$38,ROW(A10)-ROW($A$7)))=0,"",CHAR(149)&" "&INDEX(SoarAnalysis!$E$9:$E$38,ROW(A10)-ROW($A$7))),"") -> • Artificial photosynthesis and bio-batteries
C11: =IFERROR(IF(LEN(INDEX(SoarAnalysis!$C$9:$C$38,ROW(A11)-ROW($A$7)))=0,"",CHAR(149)&" "&INDEX(SoarAnalysis!$C$9:$C$38,ROW(A11)-ROW($A$7))),"") -> • Strong intellectual property in solar panels | D11: =IFERROR(IF(LEN(INDEX(SoarAnalysis!$E$9:$E$38,ROW(A11)-ROW($A$7)))=0,"",CHAR(149)&" "&INDEX(SoarAnalysis!$E$9:$E$38,ROW(A11)-ROW($A$7))),"") -> • Government incentives for green technology
C12: =IFERROR(IF(LEN(INDEX(SoarAnalysis!$C$9:$C$38,ROW(A12)-ROW($A$7)))=0,"",CHAR(149)&" "&INDEX(SoarAnalysis!$C$9:$C$38,ROW(A12)-ROW($A$7))),"") -> • Established distribution network | D12: =IFERROR(IF(LEN(INDEX(SoarAnalysis!$E$9:$E$38,ROW(A12)-ROW($A$7)))=0,"",CHAR(149)&" "&INDEX(SoarAnalysis!$E$9:$E$38,ROW(A12)-ROW($A$7))),"")
C13: =IFERROR(IF(LEN(INDEX(SoarAnalysis!$C$9:$C$38,ROW(A13)-ROW($A$7)))=0,"",CHAR(149)&" "&INDEX(SoarAnalysis!$C$9:$C$38,ROW(A13)-ROW($A$7))),"") | D13: =IFERROR(IF(LEN(INDEX(SoarAnalysis!$E$9:$E$38,ROW(A13)-ROW($A$7)))=0,"",CHAR(149)&" "&INDEX(SoarAnalysis!$E$9:$E$38,ROW(A13)-ROW($A$7))),"")
C14: =IFERROR(IF(LEN(INDEX(SoarAnalysis!$C$9:$C$38,ROW(A14)-ROW($A$7)))=0,"",CHAR(149)&" "&INDEX(SoarAnalysis!$C$9:$C$38,ROW(A14)-ROW($A$7))),"") | D14: =IFERROR(IF(LEN(INDEX(SoarAnalysis!$E$9:$E$38,ROW(A14)-ROW($A$7)))=0,"",CHAR(149)&" "&INDEX(SoarAnalysis!$E$9:$E$38,ROW(A14)-ROW($A$7))),"")
C15: =IFERROR(IF(LEN(INDEX(SoarAnalysis!$C$9:$C$38,ROW(A15)-ROW($A$7)))=0,"",CHAR(149)&" "&INDEX(SoarAnalysis!$C$9:$C$38,ROW(A15)-ROW($A$7))),"") | D15: =IFERROR(IF(LEN(INDEX(SoarAnalysis!$E$9:$E$38,ROW(A15)-ROW($A$7)))=0,"",CHAR(149)&" "&INDEX(SoarAnalysis!$E$9:$E$38,ROW(A15)-ROW($A$7))),"")
C16: =IFERROR(IF(LEN(INDEX(SoarAnalysis!$C$9:$C$38,ROW(A16)-ROW($A$7)))=0,"",CHAR(149)&" "&INDEX(SoarAnalysis!$C$9:$C$38,ROW(A16)-ROW($A$7))),"") | D16: =IFERROR(IF(LEN(INDEX(SoarAnalysis!$E$9:$E$38,ROW(A16)-ROW($A$7)))=0,"",CHAR(149)&" "&INDEX(SoarAnalysis!$E$9:$E$38,ROW(A16)-ROW($A$7))),"")
C17: =IFERROR(IF(LEN(INDEX(SoarAnalysis!$C$9:$C$38,ROW(A17)-ROW($A$7)))=0,"",CHAR(149)&" "&INDEX(SoarAnalysis!$C$9:$C$38,ROW(A17)-ROW($A$7))),"") | D17: =IFERROR(IF(LEN(INDEX(SoarAnalysis!$E$9:$E$38,ROW(A17)-ROW($A$7)))=0,"",CHAR(149)&" "&INDEX(SoarAnalysis!$E$9:$E$38,ROW(A17)-ROW($A$7))),"")
C38: ASPIRATIONS | D38: RESULTS
C39: =IFERROR(IF(LEN(INDEX(SoarAnalysis!$G$9:$G$38,ROW(A39)-ROW($A$38)))=0,"",CHAR(149)&" "&INDEX(SoarAnalysis!$G$9:$G$38,ROW(A39)-ROW($A$38))),"") -> • Become a market leader in the renewable energy sector by 2030 | D39: =IFERROR(IF(LEN(INDEX(SoarAnalysis!$I$9:$I$38,ROW(A39)-ROW($A$38)))=0,"",CHAR(149)&" "&INDEX(SoarAnalysis!$I$9:$I$38,ROW(A39)-ROW($A$38))),"") -> • Increase in annual revenue by 20%
C40: =IFERROR(IF(LEN(INDEX(SoarAnalysis!$G$9:$G$38,ROW(A40)-ROW($A$38)))=0,"",CHAR(149)&" "&INDEX(SoarAnalysis!$G$9:$G$38,ROW(A40)-ROW($A$38))),"") -> • Develop a new line of solar products | D40: =IFERROR(IF(LEN(INDEX(SoarAnalysis!$I$9:$I$38,ROW(A40)-ROW($A$38)))=0,"",CHAR(149)&" "&INDEX(SoarAnalysis!$I$9:$I$38,ROW(A40)-ROW($A$38))),"") -> • Launch of consumer solar products by Q2 2025
C41: =IFERROR(IF(LEN(INDEX(SoarAnalysis!$G$9:$G$38,ROW(A41)-ROW($A$38)))=0,"",CHAR(149)&" "&INDEX(SoarAnalysis!$G$9:$G$38,ROW(A41)-ROW($A$38))),"") | D41: =IFERROR(IF(LEN(INDEX(SoarAnalysis!$I$9:$I$38,ROW(A41)-ROW($A$38)))=0,"",CHAR(149)&" "&INDEX(SoarAnalysis!$I$9:$I$38,ROW(A41)-ROW($A$38))),"") -> • Quarterly customer satisfaction surveys
C42: =IFERROR(IF(LEN(INDEX(SoarAnalysis!$G$9:$G$38,ROW(A42)-ROW($A$38)))=0,"",CHAR(149)&" "&INDEX(SoarAnalysis!$G$9:$G$38,ROW(A42)-ROW($A$38))),"") | D42: =IFERROR(IF(LEN(INDEX(SoarAnalysis!$I$9:$I$38,ROW(A42)-ROW($A$38)))=0,"",CHAR(149)&" "&INDEX(SoarAnalysis!$I$9:$I$38,ROW(A42)-ROW($A$38))),"")
C43: =IFERROR(IF(LEN(INDEX(SoarAnalysis!$G$9:$G$38,ROW(A43)-ROW($A$38)))=0,"",CHAR(149)&" "&INDEX(SoarAnalysis!$G$9:$G$38,ROW(A43)-ROW($A$38))),"") | D43: =IFERROR(IF(LEN(INDEX(SoarAnalysis!$I$9:$I$38,ROW(A43)-ROW($A$38)))=0,"",CHAR(149)&" "&INDEX(SoarAnalysis!$I$9:$I$38,ROW(A43)-ROW($A$38))),"")
C44: =IFERROR(IF(LEN(INDEX(SoarAnalysis!$G$9:$G$38,ROW(A44)-ROW($A$38)))=0,"",CHAR(149)&" "&INDEX(SoarAnalysis!$G$9:$G$38,ROW(A44)-ROW($A$38))),"") | D44: =IFERROR(IF(LEN(INDEX(SoarAnalysis!$I$9:$I$38,ROW(A44)-ROW($A$38)))=0,"",CHAR(149)&" "&INDEX(SoarAnalysis!$I$9:$I$38,ROW(A44)-ROW($A$38))),"")
C45: =IFERROR(IF(LEN(INDEX(SoarAnalysis!$G$9:$G$38,ROW(A45)-ROW($A$38)))=0,"",CHAR(149)&" "&INDEX(SoarAnalysis!$G$9:$G$38,ROW(A45)-ROW($A$38))),"") | D45: =IFERROR(IF(LEN(INDEX(SoarAnalysis!$I$9:$I$38,ROW(A45)-ROW($A$38)))=0,"",CHAR(149)&" "&INDEX(SoarAnalysis!$I$9:$I$38,ROW(A45)-ROW($A$38))),"")
C46: =IFERROR(IF(LEN(INDEX(SoarAnalysis!$G$9:$G$38,ROW(A46)-ROW($A$38)))=0,"",CHAR(149)&" "&INDEX(SoarAnalysis!$G$9:$G$38,ROW(A46)-ROW($A$38))),"") | D46: =IFERROR(IF(LEN(INDEX(SoarAnalysis!$I$9:$I$38,ROW(A46)-ROW($A$38)))=0,"",CHAR(149)&" "&INDEX(SoarAnalysis!$I$9:$I$38,ROW(A46)-ROW($A$38))),"")
C47: =IFERROR(IF(LEN(INDEX(SoarAnalysis!$G$9:$G$38,ROW(A47)-ROW($A$38)))=0,"",CHAR(149)&" "&INDEX(SoarAnalysis!$G$9:$G$38,ROW(A47)-ROW($A$38))),"") | D47: =IFERROR(IF(LEN(INDEX(SoarAnalysis!$I$9:$I$38,ROW(A47)-ROW($A$38)))=0,"",CHAR(149)&" "&INDEX(SoarAnalysis!$I$9:$I$38,ROW(A47)-ROW($A$38))),"")
C48: =IFERROR(IF(LEN(INDEX(SoarAnalysis!$G$9:$G$38,ROW(A48)-ROW($A$38)))=0,"",CHAR(149)&" "&INDEX(SoarAnalysis!$G$9:$G$38,ROW(A48)-ROW($A$38))),"") | D48: =IFERROR(IF(LEN(INDEX(SoarAnalysis!$I$9:$I$38,ROW(A48)-ROW($A$38)))=0,"",CHAR(149)&" "&INDEX(SoarAnalysis!$I$9:$I$38,ROW(A48)-ROW($A$38))),"")

Sheet ActionPlan
B2: SOAR ANALYSIS TEMPLATE
B3: ACTION PLAN
B5: Action | C5: Responsible | D5: Priority | E5: Due Date | F5: Progress (%)
B6: Develop Consumer Solar Prototype | C6: Jane Doe | D6: High | E6: 45565 | F6: 20
B7: Market Analysis for Southeast Asia | C7: Lisa Green | D7: Medium | E7: 45393 | F7: 100
B8: Hire Project Manager for Vietnam Facility | C8: Emily Roes | D8: High | E8: 45383 | F8: 40
B9: Initiate Solar Panel Efficiency Improvement Project | C9: Mark Bright | D9: Medium | E9: 45473 | F9: 100
B10: Research New Energy Storage Technologies | C10: Omar Fast | D10: Low | E10: 45672 | F10: 10
B11: Secure Additional Funding for Expansion | C11: Tom Banke | D11: High | E11: 45657 | F11: 80

Sheet Calc
B3: Action Progress Dropdown | D3: Action Plan Print Row
B4: 0 | D4: =IFERROR(MAX(COUNTIF(ActionPlan!B6:B13,"?*")+4,5),104) -> 10
B5: 10 | D5: Action Plan Print Column
B6: 20 | D6: =IFERROR(MAX(COUNTIF(ActionPlan!B5:F5,"?*"),5),5) -> 5
B7: 30
B8: 40
B9: 50
B10: 60
B11: 70
B12: 80
B13: 90
B14: 100
B17: Priority Dropdown
B18: Low
B19: Medium
B20: High
