Workbook
Name colorlist: Cal!$E$24:$E$29
Name headx: Cal!$F$13
Name home: Menu!$M$8
Name precedentdd: OFFSET(Cal!$C$4,,,Cal!$B$2)
Name sumadj: Cal!$F$18
Name sumfilter: Cal!$F$17

Sheet Menu
D2: SITE MAP GENERATOR TEMPLATE
D3: MENU
L5: Error Check → | M5: =Cal!BT5 -> All is ok! You can check the sitemap
C6: ID | D6: Name | E6: Precedent | F6: Exist? (Optional) | G6: Error Check | I6: URL
C7: 1 | D7: home | E7: Main Page | G7: =IF(SUM(Cal!BO5:BR5)>0,"!","") | I7: =IFERROR(IF(LEN(D7)=0,"",INDEX(Cal!$N$5:$N$20,ROW(A7)-ROW($A$6))),"") -> /home
C8: 2 | D8: services | E8: Main Page | F8: No | G8: =IF(SUM(Cal!BO6:BR6)>0,"!","") | I8: =IFERROR(IF(LEN(D8)=0,"",INDEX(Cal!$N$5:$N$20,ROW(A8)-ROW($A$6))),"") -> /services | L8: Main Page URL | M8: https://www.example.com
C9: 3 | D9: marketing | E9: 2 | G9: =IF(SUM(Cal!BO7:BR7)>0,"!","") | I9: =IFERROR(IF(LEN(D9)=0,"",INDEX(Cal!$N$5:$N$20,ROW(A9)-ROW($A$6))),"") -> /services/marketing
C10: 4 | D10: seo | E10: 2 | G10: =IF(SUM(Cal!BO8:BR8)>0,"!","") | I10: =IFERROR(IF(LEN(D10)=0,"",INDEX(Cal!$N$5:$N$20,ROW(A10)-ROW($A$6))),"") -> /services/seo
C11: 5 | D11: ppc | E11: 3 | G11: =IF(SUM(Cal!BO9:BR9)>0,"!","") | I11: =IFERROR(IF(LEN(D11)=0,"",INDEX(Cal!$N$5:$N$20,ROW(A11)-ROW($A$6))),"") -> /services/marketing/ppc | L11: Section | M11: Show/Hide | O11: Category | P11: Color
C12: 6 | D12: social-media | E12: 3 | G12: =IF(SUM(Cal!BO10:BR10)>0,"!","") | I12: =IFERROR(IF(LEN(D12)=0,"",INDEX(Cal!$N$5:$N$20,ROW(A12)-ROW($A$6))),"") -> /services/marketing/social-media | L12: Show ID | M12: Show | O12: 1.Level | P12: Blue
C13: 7 | D13: content | E13: 3 | G13: =IF(SUM(Cal!BO11:BR11)>0,"!","") | I13: =IFERROR(IF(LEN(D13)=0,"",INDEX(Cal!$N$5:$N$20,ROW(A13)-ROW($A$6))),"") -> /services/marketing/content | L13: Show URL | M13: Show | O13: 2.Level | P13: Red
C14: 8 | D14: emailing | E14: 2 | G14: =IF(SUM(Cal!BO12:BR12)>0,"!","") | I14: =IFERROR(IF(LEN(D14)=0,"",INDEX(Cal!$N$5:$N$20,ROW(A14)-ROW($A$6))),"") -> /services/emailing | O14: 3.Level | P14: Green
C15: 9 | D15: blog | E15: Main Page | G15: =IF(SUM(Cal!BO13:BR13)>0,"!","") | I15: =IFERROR(IF(LEN(D15)=0,"",INDEX(Cal!$N$5:$N$20,ROW(A15)-ROW($A$6))),"") -> /blog | O15: 4.Level | P15: Gray
C16: 10 | D16: seo-tips | E16: 9 | G16: =IF(SUM(Cal!BO14:BR14)>0,"!","") | I16: =IFERROR(IF(LEN(D16)=0,"",INDEX(Cal!$N$5:$N$20,ROW(A16)-ROW($A$6))),"") -> /blog/seo-tips | O16: 5.Level | P16: Yellow
C17: 11 | D17: ppc-tips | E17: 9 | G17: =IF(SUM(Cal!BO15:BR15)>0,"!","") | I17: =IFERROR(IF(LEN(D17)=0,"",INDEX(Cal!$N$5:$N$20,ROW(A17)-ROW($A$6))),"") -> /blog/ppc-tips
C18: 12 | D18: social-media-tips | E18: 9 | F18: No | G18: =IF(SUM(Cal!BO16:BR16)>0,"!","") | I18: =IFERROR(IF(LEN(D18)=0,"",INDEX(Cal!$N$5:$N$20,ROW(A18)-ROW($A$6))),"") -> /blog/social-media-tips
G19: =IF(SUM(Cal!BO17:BR17)>0,"!","") | I19: =IFERROR(IF(LEN(D19)=0,"",INDEX(Cal!$N$5:$N$20,ROW(A19)-ROW($A$6))),"")
G20: =IF(SUM(Cal!BO18:BR18)>0,"!","") | I20: =IFERROR(IF(LEN(D20)=0,"",INDEX(Cal!$N$5:$N$20,ROW(A20)-ROW($A$6))),"")
G21: =IF(SUM(Cal!BO19:BR19)>0,"!","") | I21: =IFERROR(IF(LEN(D21)=0,"",INDEX(Cal!$N$5:$N$20,ROW(A21)-ROW($A$6))),"")
G22: =IF(SUM(Cal!BO20:BR20)>0,"!","") | I22: =IFERROR(IF(LEN(D22)=0,"",INDEX(Cal!$N$5:$N$20,ROW(A22)-ROW($A$6))),"")

Sheet Sitemap
D2: SITE MAP GENERATOR TEMPLATE
D3: SITE MAP
D5: =IFERROR(IF(IFERROR(MATCH(Sitemap!D$6,Cal!$T$5:$T$20,0),FALSE),Cal!$F$6,IF(IFERROR(MATCH(Sitemap!D$6,Cal!$U$5:$U$20,0),FALSE),Cal!$F$7,IF(IFERROR(MATCH(Sitemap!D$6,Cal!$V$5:$V$20,0),FALSE),Cal!$F$8,IF(IFERROR(MATCH(Sitemap!D$6,Cal!$W$5:$W$20,0),FALSE),Cal!$F$9,IF(IFERROR(MATCH(Sitemap!D$6,Cal!$X$5:$X$20,0),FALSE),Cal!$F$10,""))))),"") -> Blue | G5: =IFERROR(IF(IFERROR(MATCH(Sitemap!G$6,Cal!$T$5:$T$20,0),FALSE),Cal!$F$6,IF(IFERROR(MATCH(Sitemap!G$6,Cal!$U$5:$U$20,0),FALSE),Cal!$F$7,IF(IFERROR(MATCH(Sitemap!G$6,Cal!$V$5:$V$20,0),FALSE),Cal!$F$8,IF(IFERROR(MATCH(Sitemap!G$6,Cal!$W$5:$W$20,0),FALSE),Cal!$F$9,IF(IFERROR(MATCH(Sitemap!G$6,Cal!$X$5:$X$20,0),FALSE),Cal!$F$10,""))))),"") -> Blue | J5: =IFERROR(IF(IFERROR(MATCH(Sitemap!J$6,Cal!$T$5:$T$20,0),FALSE),Cal!$F$6,IF(IFERROR(MATCH(Sitemap!J$6,Cal!$U$5:$U$20,0),FALSE),Cal!$F$7,IF(IFERROR(MATCH(Sitemap!J$6,Cal!$V$5:$V$20,0),FALSE),Cal!$F$8,IF(IFERROR(MATCH(Sitemap!J$6,Cal!$W$5:$W$20,0),FALSE),Cal!$F$9,IF(IFERROR(MATCH(Sitemap!J$6,Cal!$X$5:$X$20,0),FALSE),Cal!$F$10,""))))),"") -> Red | M5: =IFERROR(IF(IFERROR(MATCH(Sitemap!M$6,Cal!$T$5:$T$20,0),FALSE),Cal!$F$6,IF(IFERROR(MATCH(Sitemap!M$6,Cal!$U$5:$U$20,0),FALSE),Cal!$F$7,IF(IFERROR(MATCH(Sitemap!M$6,Cal!$V$5:$V$20,0),FALSE),Cal!$F$8,IF(IFERROR(MATCH(Sitemap!M$6,Cal!$W$5:$W$20,0),FALSE),Cal!$F$9,IF(IFERROR(MATCH(Sitemap!M$6,Cal!$X$5:$X$20,0),FALSE),Cal!$F$10,""))))),"") -> Green | P5: =IFERROR(IF(IFERROR(MATCH(Sitemap!P$6,Cal!$T$5:$T$20,0),FALSE),Cal!$F$6,IF(IFERROR(MATCH(Sitemap!P$6,Cal!$U$5:$U$20,0),FALSE),Cal!$F$7,IF(IFERROR(MATCH(Sitemap!P$6,Cal!$V$5:$V$20,0),FALSE),Cal!$F$8,IF(IFERROR(MATCH(Sitemap!P$6,Cal!$W$5:$W$20,0),FALSE),Cal!$F$9,IF(IFERROR(MATCH(Sitemap!P$6,Cal!$X$5:$X$20,0),FALSE),Cal!$F$10,""))))),"") -> Blue | S5: =IFERROR(IF(IFERROR(MATCH(Sitemap!S$6,Cal!$T$5:$T$20,0),FALSE),Cal!$F$6,IF(IFERROR(MATCH(Sitemap!S$6,Cal!$U$5:$U$20,0),FALSE),Cal!$F$7,IF(IFERROR(MATCH(Sitemap!S$6,Cal!$V$5:$V$20,0),FALSE),Cal!$F$8,IF(IFERROR(MATCH(Sitemap!S$6,Cal!$W$5:$W$20,0),FALSE),Cal!$F$9,IF(IFERROR(MATCH(Sitemap!S$6,Cal!$X$5:$X$20,0),FALSE),Cal!$F$10,""))))),"") -> Red | V5: =IFERROR(IF(IFERROR(MATCH(Sitemap!V$6,Cal!$T$5:$T$20,0),FALSE),Cal!$F$6,IF(IFERROR(MATCH(Sitemap!V$6,Cal!$U$5:$U$20,0),FALSE),Cal!$F$7,IF(IFERROR(MATCH(Sitemap!V$6,Cal!$V$5:$V$20,0),FALSE),Cal!$F$8,IF(IFERROR(MATCH(Sitemap!V$6,Cal!$W$5:$W$20,0),FALSE),Cal!$F$9,IF(IFERROR(MATCH(Sitemap!V$6,Cal!$X$5:$X$20,0),FALSE),Cal!$F$10,""))))),"") | Y5: =IFERROR(IF(IFERROR(MATCH(Sitemap!Y$6,Cal!$T$5:$T$20,0),FALSE),Cal!$F$6,IF(IFERROR(MATCH(Sitemap!Y$6,Cal!$U$5:$U$20,0),FALSE),Cal!$F$7,IF(IFERROR(MATCH(Sitemap!Y$6,Cal!$V$5:$V$20,0),FALSE),Cal!$F$8,IF(IFERROR(MATCH(Sitemap!Y$6,Cal!$W$5:$W$20,0),FALSE),Cal!$F$9,IF(IFERROR(MATCH(Sitemap!Y$6,Cal!$X$5:$X$20,0),FALSE),Cal!$F$10,""))))),"") | AB5: =IFERROR(IF(IFERROR(MATCH(Sitemap!AB$6,Cal!$T$5:$T$20,0),FALSE),Cal!$F$6,IF(IFERROR(MATCH(Sitemap!AB$6,Cal!$U$5:$U$20,0),FALSE),Cal!$F$7,IF(IFERROR(MATCH(Sitemap!AB$6,Cal!$V$5:$V$20,0),FALSE),Cal!$F$8,IF(IFERROR(MATCH(Sitemap!AB$6,Cal!$W$5:$W$20,0),FALSE),Cal!$F$9,IF(IFERROR(MATCH(Sitemap!AB$6,Cal!$X$5:$X$20,0),FALSE),Cal!$F$10,""))))),"") | AE5: =IFERROR(IF(IFERROR(MATCH(Sitemap!AE$6,Cal!$T$5:$T$20,0),FALSE),Cal!$F$6,IF(IFERROR(MATCH(Sitemap!AE$6,Cal!$U$5:$U$20,0),FALSE),Cal!$F$7,IF(IFERROR(MATCH(Sitemap!AE$6,Cal!$V$5:$V$20,0),FALSE),Cal!$F$8,IF(IFERROR(MATCH(Sitemap!AE$6,Cal!$W$5:$W$20,0),FALSE),Cal!$F$9,IF(IFERROR(MATCH(Sitemap!AE$6,Cal!$X$5:$X$20,0),FALSE),Cal!$F$10,""))))),"") | AH5: =IFERROR(IF(IFERROR(MATCH(Sitemap!AH$6,Cal!$T$5:$T$20,0),FALSE),Cal!$F$6,IF(IFERROR(MATCH(Sitemap!AH$6,Cal!$U$5:$U$20,0),FALSE),Cal!$F$7,IF(IFERROR(MATCH(Sitemap!AH$6,Cal!$V$5:$V$20,0),FALSE),Cal!$F$8,IF(IFERROR(MATCH(Sitemap!AH$6,Cal!$W$5:$W$20,0),FALSE),Cal!$F$9,IF(IFERROR(MATCH(Sitemap!AH$6,Cal!$X$5:$X$20,0),FALSE),Cal!$F$10,""))))),"") | AK5: =IFERROR(IF(IFERROR(MATCH(Sitemap!AK$6,Cal!$T$5:$T$20,0),FALSE),Cal!$F$6,IF(IFERROR(MATCH(Sitemap!AK$6,Cal!$U$5:$U$20,0),FALSE),Cal!$F$7,IF(IFERROR(MATCH(Sitemap!AK$6,Cal!$V$5:$V$20,0),FALSE),Cal!$F$8,IF(IFERROR(MATCH(Sitemap!AK$6,Cal!$W$5:$W$20,0),FALSE),Cal!$F$9,IF(IFERROR(MATCH(Sitemap!AK$6,Cal!$X$5:$X$20,0),FALSE),Cal!$F$10,""))))),"") | AN5: =IFERROR(IF(IFERROR(MATCH(Sitemap!AN$6,Cal!$T$5:$T$20,0),FALSE),Cal!$F$6,IF(IFERROR(MATCH(Sitemap!AN$6,Cal!$U$5:$U$20,0),FALSE),Cal!$F$7,IF(IFERROR(MATCH(Sitemap!AN$6,Cal!$V$5:$V$20,0),FALSE),Cal!$F$8,IF(IFERROR(MATCH(Sitemap!AN$6,Cal!$W$5:$W$20,0),FALSE),Cal!$F$9,IF(IFERROR(MATCH(Sitemap!AN$6,Cal!$X$5:$X$20,0),FALSE),Cal!$F$10,""))))),"") | AQ5: =IFERROR(IF(IFERROR(MATCH(Sitemap!AQ$6,Cal!$T$5:$T$20,0),FALSE),Cal!$F$6,IF(IFERROR(MATCH(Sitemap!AQ$6,Cal!$U$5:$U$20,0),FALSE),Cal!$F$7,IF(IFERROR(MATCH(Sitemap!AQ$6,Cal!$V$5:$V$20,0),FALSE),Cal!$F$8,IF(IFERROR(MATCH(Sitemap!AQ$6,Cal!$W$5:$W$20,0),FALSE),Cal!$F$9,IF(IFERROR(MATCH(Sitemap!AQ$6,Cal!$X$5:$X$20,0),FALSE),Cal!$F$10,""))))),"") | AT5: =IFERROR(IF(IFERROR(MATCH(Sitemap!AT$6,Cal!$T$5:$T$20,0),FALSE),Cal!$F$6,IF(IFERROR(MATCH(Sitemap!AT$6,Cal!$U$5:$U$20,0),FALSE),Cal!$F$7,IF(IFERROR(MATCH(Sitemap!AT$6,Cal!$V$5:$V$20,0),FALSE),Cal!$F$8,IF(IFERROR(MATCH(Sitemap!AT$6,Cal!$W$5:$W$20,0),FALSE),Cal!$F$9,IF(IFERROR(MATCH(Sitemap!AT$6,Cal!$X$5:$X$20,0),FALSE),Cal!$F$10,""))))),"")
D6: 0 | E6: =D6+1 -> 1 | F6: =E6+1 -> 2 | G6: =F6+1 -> 3 | H6: =G6+1 -> 4 | I6: =H6+1 -> 5 | J6: =I6+1 -> 6 | K6: =J6+1 -> 7 | L6: =K6+1 -> 8 | ... AV6: =AU6+1 -> 44
B8: 0 | D8: =IF(D6=headx,Cal!$E$13,"") | E8: =IF(E6=headx,Cal!$E$13,"") | F8: =IF(F6=headx,Cal!$E$13,"") | G8: =IF(G6=headx,Cal!$E$13,"") | H8: =IF(H6=headx,Cal!$E$13,"") | I8: =IF(I6=headx,Cal!$E$13,"") | J8: =IF(J6=headx,Cal!$E$13,"") -> https://www.example.com | K8: =IF(K6=headx,Cal!$E$13,"") | ... AV8: =IF(AV6=headx,Cal!$E$13,"")
B9: 1 | D9: =IF(AND(Cal!$AT$21<=Sitemap!D6,Cal!$AT$22>Sitemap!D6),"*x4*","") -> *x4* | E9: =IF(AND(Cal!$AT$21<=Sitemap!E6,Cal!$AT$22>Sitemap!E6),"*x4*","") -> *x4* | F9: =IF(AND(Cal!$AT$21<=Sitemap!F6,Cal!$AT$22>Sitemap!F6),"*x4*","") -> *x4* | G9: =IF(AND(Cal!$AT$21<=Sitemap!G6,Cal!$AT$22>Sitemap!G6),"*x4*","") -> *x4* | H9: =IF(AND(Cal!$AT$21<=Sitemap!H6,Cal!$AT$22>Sitemap!H6),"*x4*","") -> *x4* | I9: =IF(AND(Cal!$AT$21<=Sitemap!I6,Cal!$AT$22>Sitemap!I6),"*x4*","") -> *x4* | J9: =IF(AND(Cal!$AT$21<=Sitemap!J6,Cal!$AT$22>Sitemap!J6),"*x4*","") -> *x4* | K9: =IF(AND(Cal!$AT$21<=Sitemap!K6,Cal!$AT$22>Sitemap!K6),"*x4*","") -> *x4* | ... AV9: =IF(AND(Cal!$AT$21<=Sitemap!AV6,Cal!$AT$22>Sitemap!AV6),"*x4*","")
B10: 2 | D10: =IF(ISNUMBER(MATCH(Sitemap!D$6,Cal!$AX$5:$AX$20,0)),"*x4*",IF(ISNUMBER(MATCH(Sitemap!D$6,Cal!$AT$5:$AT$20,0)),"*x3*","")) -> *x3* | G10: =IF(ISNUMBER(MATCH(Sitemap!G$6,Cal!$AX$5:$AX$20,0)),"*x4*",IF(ISNUMBER(MATCH(Sitemap!G$6,Cal!$AT$5:$AT$20,0)),"*x3*","")) -> *x4* | J10: =IF(ISNUMBER(MATCH(Sitemap!J$6,Cal!$AX$5:$AX$20,0)),"*x4*",IF(ISNUMBER(MATCH(Sitemap!J$6,Cal!$AT$5:$AT$20,0)),"*x3*","")) | M10: =IF(ISNUMBER(MATCH(Sitemap!M$6,Cal!$AX$5:$AX$20,0)),"*x4*",IF(ISNUMBER(MATCH(Sitemap!M$6,Cal!$AT$5:$AT$20,0)),"*x3*","")) | P10: =IF(ISNUMBER(MATCH(Sitemap!P$6,Cal!$AX$5:$AX$20,0)),"*x4*",IF(ISNUMBER(MATCH(Sitemap!P$6,Cal!$AT$5:$AT$20,0)),"*x3*","")) -> *x3* | S10: =IF(ISNUMBER(MATCH(Sitemap!S$6,Cal!$AX$5:$AX$20,0)),"*x4*",IF(ISNUMBER(MATCH(Sitemap!S$6,Cal!$AT$5:$AT$20,0)),"*x3*","")) | V10: =IF(ISNUMBER(MATCH(Sitemap!V$6,Cal!$AX$5:$AX$20,0)),"*x4*",IF(ISNUMBER(MATCH(Sitemap!V$6,Cal!$AT$5:$AT$20,0)),"*x3*","")) | Y10: =IF(ISNUMBER(MATCH(Sitemap!Y$6,Cal!$AX$5:$AX$20,0)),"*x4*",IF(ISNUMBER(MATCH(Sitemap!Y$6,Cal!$AT$5:$AT$20,0)),"*x3*","")) | AB10: =IF(ISNUMBER(MATCH(Sitemap!AB$6,Cal!$AX$5:$AX$20,0)),"*x4*",IF(ISNUMBER(MATCH(Sitemap!AB$6,Cal!$AT$5:$AT$20,0)),"*x3*","")) | AE10: =IF(ISNUMBER(MATCH(Sitemap!AE$6,Cal!$AX$5:$AX$20,0)),"*x4*",IF(ISNUMBER(MATCH(Sitemap!AE$6,Cal!$AT$5:$AT$20,0)),"*x3*","")) | AH10: =IF(ISNUMBER(MATCH(Sitemap!AH$6,Cal!$AX$5:$AX$20,0)),"*x4*",IF(ISNUMBER(MATCH(Sitemap!AH$6,Cal!$AT$5:$AT$20,0)),"*x3*","")) | AK10: =IF(ISNUMBER(MATCH(Sitemap!AK$6,Cal!$AX$5:$AX$20,0)),"*x4*",IF(ISNUMBER(MATCH(Sitemap!AK$6,Cal!$AT$5:$AT$20,0)),"*x3*","")) | AN10: =IF(ISNUMBER(MATCH(Sitemap!AN$6,Cal!$AX$5:$AX$20,0)),"*x4*",IF(ISNUMBER(MATCH(Sitemap!AN$6,Cal!$AT$5:$AT$20,0)),"*x3*","")) | AQ10: =IF(ISNUMBER(MATCH(Sitemap!AQ$6,Cal!$AX$5:$AX$20,0)),"*x4*",IF(ISNUMBER(MATCH(Sitemap!AQ$6,Cal!$AT$5:$AT$20,0)),"*x3*","")) | AT10: =IF(ISNUMBER(MATCH(Sitemap!AT$6,Cal!$AX$5:$AX$20,0)),"*x4*",IF(ISNUMBER(MATCH(Sitemap!AT$6,Cal!$AT$5:$AT$20,0)),"*x3*",""))
B11: 3 | D11: =IFERROR(INDEX(Cal!$AP$5:$AP$36,MATCH(Sitemap!D$6&"-"&Sitemap!$B11,Cal!$AQ$5:$AQ$36,0)),"") -> 1-home | E11: =IFERROR(IF(INDEX(Cal!$Y$5:$Y$20,MATCH(Sitemap!D11,Cal!$AP$5:$AP$20,0))>0,"*x1*",""),IF(COUNTIFS(Cal!$AU$5:$AU$20,Sitemap!D$6,Cal!$AV$5:$AV$20,"<="&Sitemap!$B11,Cal!$AW$5:$AW$20,">="&Sitemap!$B11)>0,"*x2*","")) | F11: =IFERROR(IF(ISNUMBER(MATCH(G$6&"-"&$B11,Cal!$AY$5:$AY$20,0)),"*x6*",IF(INDEX(Cal!$O$5:$O$20,MATCH(Sitemap!G11,Cal!$AP$5:$AP$20,0))>0,"*x1*","")),"") | G11: =IFERROR(INDEX(Cal!$AP$5:$AP$36,MATCH(Sitemap!G$6&"-"&Sitemap!$B11,Cal!$AQ$5:$AQ$36,0)),"") -> 2-services | H11: =IFERROR(IF(INDEX(Cal!$Y$5:$Y$20,MATCH(Sitemap!G11,Cal!$AP$5:$AP$20,0))>0,"*x1*",""),IF(COUNTIFS(Cal!$AU$5:$AU$20,Sitemap!G$6,Cal!$AV$5:$AV$20,"<="&Sitemap!$B11,Cal!$AW$5:$AW$20,">="&Sitemap!$B11)>0,"*x2*","")) -> *x1* | I11: =IFERROR(IF(ISNUMBER(MATCH(J$6&"-"&$B11,Cal!$AY$5:$AY$20,0)),"*x6*",IF(INDEX(Cal!$O$5:$O$20,MATCH(Sitemap!J11,Cal!$AP$5:$AP$20,0))>0,"*x1*","")),"") | J11: =IFERROR(INDEX(Cal!$AP$5:$AP$36,MATCH(Sitemap!J$6&"-"&Sitemap!$B11,Cal!$AQ$5:$AQ$36,0)),"") | K11: =IFERROR(IF(INDEX(Cal!$Y$5:$Y$20,MATCH(Sitemap!J11,Cal!$AP$5:$AP$20,0))>0,"*x1*",""),IF(COUNTIFS(Cal!$AU$5:$AU$20,Sitemap!J$6,Cal!$AV$5:$AV$20,"<="&Sitemap!$B11,Cal!$AW$5:$AW$20,">="&Sitemap!$B11)>0,"*x2*","")) | L11: =IFERROR(IF(ISNUMBER(MATCH(M$6&"-"&$B11,Cal!$AY$5:$AY$20,0)),"*x6*",IF(INDEX(Cal!$O$5:$O$20,MATCH(Sitemap!M11,Cal!$AP$5:$AP$20,0))>0,"*x1*","")),"") | M11: =IFERROR(INDEX(Cal!$AP$5:$AP$36,MATCH(Sitemap!M$6&"-"&Sitemap!$B11,Cal!$AQ$5:$AQ$36,0)),"") | N11: =IFERROR(IF(INDEX(Cal!$Y$5:$Y$20,MATCH(Sitemap!M11,Cal!$AP$5:$AP$20,0))>0,"*x1*",""),IF(COUNTIFS(Cal!$AU$5:$AU$20,Sitemap!M$6,Cal!$AV$5:$AV$20,"<="&Sitemap!$B11,Cal!$AW$5:$AW$20,">="&Sitemap!$B11)>0,"*x2*","")) | O11: =IFERROR(IF(ISNUMBER(MATCH(P$6&"-"&$B11,Cal!$AY$5:$AY$20,0)),"*x6*",IF(INDEX(Cal!$O$5:$O$20,MATCH(Sitemap!P11,Cal!$AP$5:$AP$20,0))>0,"*x1*","")),"") | P11: =IFERROR(INDEX(Cal!$AP$5:$AP$36,MATCH(Sitemap!P$6&"-"&Sitemap!$B11,Cal!$AQ$5:$AQ$36,0)),"") -> 9-blog | Q11: =IFERROR(IF(INDEX(Cal!$Y$5:$Y$20,MATCH(Sitemap!P11,Cal!$AP$5:$AP$20,0))>0,"*x1*",""),IF(COUNTIFS(Cal!$AU$5:$AU$20,Sitemap!P$6,Cal!$AV$5:$AV$20,"<="&Sitemap!$B11,Cal!$AW$5:$AW$20,">="&Sitemap!$B11)>0,"*x2*","")) -> *x1* | R11: =IFERROR(IF(ISNUMBER(MATCH(S$6&"-"&$B11,Cal!$AY$5:$AY$20,0)),"*x6*",IF(INDEX(Cal!$O$5:$O$20,MATCH(Sitemap!S11,Cal!$AP$5:$AP$20,0))>0,"*x1*","")),"") | S11: =IFERROR(INDEX(Cal!$AP$5:$AP$36,MATCH(Sitemap!S$6&"-"&Sitemap!$B11,Cal!$AQ$5:$AQ$36,0)),"") | T11: =IFERROR(IF(INDEX(Cal!$Y$5:$Y$20,MATCH(Sitemap!S11,Cal!$AP$5:$AP$20,0))>0,"*x1*",""),IF(COUNTIFS(Cal!$AU$5:$AU$20,Sitemap!S$6,Cal!$AV$5:$AV$20,"<="&Sitemap!$B11,Cal!$AW$5:$AW$20,">="&Sitemap!$B11)>0,"*x2*","")) | U11: =IFERROR(IF(ISNUMBER(MATCH(V$6&"-"&$B11,Cal!$AY$5:$AY$20,0)),"*x6*",IF(INDEX(Cal!$O$5:$O$20,MATCH(Sitemap!V11,Cal!$AP$5:$AP$20,0))>0,"*x1*","")),"") | V11: =IFERROR(INDEX(Cal!$AP$5:$AP$36,MATCH(Sitemap!V$6&"-"&Sitemap!$B11,Cal!$AQ$5:$AQ$36,0)),"") | W11: =IFERROR(IF(INDEX(Cal!$Y$5:$Y$20,MATCH(Sitemap!V11,Cal!$AP$5:$AP$20,0))>0,"*x1*",""),IF(COUNTIFS(Cal!$AU$5:$AU$20,Sitemap!V$6,Cal!$AV$5:$AV$20,"<="&Sitemap!$B11,Cal!$AW$5:$AW$20,">="&Sitemap!$B11)>0,"*x2*","")) | X11: =IFERROR(IF(ISNUMBER(MATCH(Y$6&"-"&$B11,Cal!$AY$5:$AY$20,0)),"*x6*",IF(INDEX(Cal!$O$5:$O$20,MATCH(Sitemap!Y11,Cal!$AP$5:$AP$20,0))>0,"*x1*","")),"") | Y11: =IFERROR(INDEX(Cal!$AP$5:$AP$36,MATCH(Sitemap!Y$6&"-"&Sitemap!$B11,Cal!$AQ$5:$AQ$36,0)),"") | Z11: =IFERROR(IF(INDEX(Cal!$Y$5:$Y$20,MATCH(Sitemap!Y11,Cal!$AP$5:$AP$20,0))>0,"*x1*",""),IF(COUNTIFS(Cal!$AU$5:$AU$20,Sitemap!Y$6,Cal!$AV$5:$AV$20,"<="&Sitemap!$B11,Cal!$AW$5:$AW$20,">="&Sitemap!$B11)>0,"*x2*","")) | AA11: =IFERROR(IF(ISNUMBER(MATCH(AB$6&"-"&$B11,Cal!$AY$5:$AY$20,0)),"*x6*",IF(INDEX(Cal!$O$5:$O$20,MATCH(Sitemap!AB11,Cal!$AP$5:$AP$20,0))>0,"*x1*","")),"") | AB11: =IFERROR(INDEX(Cal!$AP$5:$AP$36,MATCH(Sitemap!AB$6&"-"&Sitemap!$B11,Cal!$AQ$5:$AQ$36,0)),"") | AC11: =IFERROR(IF(INDEX(Cal!$Y$5:$Y$20,MATCH(Sitemap!AB11,Cal!$AP$5:$AP$20,0))>0,"*x1*",""),IF(COUNTIFS(Cal!$AU$5:$AU$20,Sitemap!AB$6,Cal!$AV$5:$AV$20,"<="&Sitemap!$B11,Cal!$AW$5:$AW$20,">="&Sitemap!$B11)>0,"*x2*","")) | AD11: =IFERROR(IF(ISNUMBER(MATCH(AE$6&"-"&$B11,Cal!$AY$5:$AY$20,0)),"*x6*",IF(INDEX(Cal!$O$5:$O$20,MATCH(Sitemap!AE11,Cal!$AP$5:$AP$20,0))>0,"*x1*","")),"") | AE11: =IFERROR(INDEX(Cal!$AP$5:$AP$36,MATCH(Sitemap!AE$6&"-"&Sitemap!$B11,Cal!$AQ$5:$AQ$36,0)),"") | AF11: =IFERROR(IF(INDEX(Cal!$Y$5:$Y$20,MATCH(Sitemap!AE11,Cal!$AP$5:$AP$20,0))>0,"*x1*",""),IF(COUNTIFS(Cal!$AU$5:$AU$20,Sitemap!AE$6,Cal!$AV$5:$AV$20,"<="&Sitemap!$B11,Cal!$AW$5:$AW$20,">="&Sitemap!$B11)>0,"*x2*","")) | AG11: =IFERROR(IF(ISNUMBER(MATCH(AH$6&"-"&$B11,Cal!$AY$5:$AY$20,0)),"*x6*",IF(INDEX(Cal!$O$5:$O$20,MATCH(Sitemap!AH11,Cal!$AP$5:$AP$20,0))>0,"*x1*","")),"") | AH11: =IFERROR(INDEX(Cal!$AP$5:$AP$36,MATCH(Sitemap!AH$6&"-"&Sitemap!$B11,Cal!$AQ$5:$AQ$36,0)),"") | AI11: =IFERROR(IF(INDEX(Cal!$Y$5:$Y$20,MATCH(Sitemap!AH11,Cal!$AP$5:$AP$20,0))>0,"*x1*",""),IF(COUNTIFS(Cal!$AU$5:$AU$20,Sitemap!AH$6,Cal!$AV$5:$AV$20,"<="&Sitemap!$B11,Cal!$AW$5:$AW$20,">="&Sitemap!$B11)>0,"*x2*","")) | AJ11: =IFERROR(IF(ISNUMBER(MATCH(AK$6&"-"&$B11,Cal!$AY$5:$AY$20,0)),"*x6*",IF(INDEX(Cal!$O$5:$O$20,MATCH(Sitemap!AK11,Cal!$AP$5:$AP$20,0))>0,"*x1*","")),"") | AK11: =IFERROR(INDEX(Cal!$AP$5:$AP$36,MATCH(Sitemap!AK$6&"-"&Sitemap!$B11,Cal!$AQ$5:$AQ$36,0)),"") | AL11: =IFERROR(IF(INDEX(Cal!$Y$5:$Y$20,MATCH(Sitemap!AK11,Cal!$AP$5:$AP$20,0))>0,"*x1*",""),IF(COUNTIFS(Cal!$AU$5:$AU$20,Sitemap!AK$6,Cal!$AV$5:$AV$20,"<="&Sitemap!$B11,Cal!$AW$5:$AW$20,">="&Sitemap!$B11)>0,"*x2*","")) | AM11: =IFERROR(IF(ISNUMBER(MATCH(AN$6&"-"&$B11,Cal!$AY$5:$AY$20,0)),"*x6*",IF(INDEX(Cal!$O$5:$O$20,MATCH(Sitemap!AN11,Cal!$AP$5:$AP$20,0))>0,"*x1*","")),"") | AN11: =IFERROR(INDEX(Cal!$AP$5:$AP$36,MATCH(Sitemap!AN$6&"-"&Sitemap!$B11,Cal!$AQ$5:$AQ$36,0)),"") | AO11: =IFERROR(IF(INDEX(Cal!$Y$5:$Y$20,MATCH(Sitemap!AN11,Cal!$AP$5:$AP$20,0))>0,"*x1*",""),IF(COUNTIFS(Cal!$AU$5:$AU$20,Sitemap!AN$6,Cal!$AV$5:$AV$20,"<="&Sitemap!$B11,Cal!$AW$5:$AW$20,">="&Sitemap!$B11)>0,"*x2*","")) | AP11: =IFERROR(IF(ISNUMBER(MATCH(AQ$6&"-"&$B11,Cal!$AY$5:$AY$20,0)),"*x6*",IF(INDEX(Cal!$O$5:$O$20,MATCH(Sitemap!AQ11,Cal!$AP$5:$AP$20,0))>0,"*x1*","")),"") | AQ11: =IFERROR(INDEX(Cal!$AP$5:$AP$36,MATCH(Sitemap!AQ$6&"-"&Sitemap!$B11,Cal!$AQ$5:$AQ$36,0)),"") | AR11: =IFERROR(IF(INDEX(Cal!$Y$5:$Y$20,MATCH(Sitemap!AQ11,Cal!$AP$5:$AP$20,0))>0,"*x1*",""),IF(COUNTIFS(Cal!$AU$5:$AU$20,Sitemap!AQ$6,Cal!$AV$5:$AV$20,"<="&Sitemap!$B11,Cal!$AW$5:$AW$20,">="&Sitemap!$B11)>0,"*x2*","")) | AS11: =IFERROR(IF(ISNUMBER(MATCH(AT$6&"-"&$B11,Cal!$AY$5:$AY$20,0)),"*x6*",IF(INDEX(Cal!$O$5:$O$20,MATCH(Sitemap!AT11,Cal!$AP$5:$AP$20,0))>0,"*x1*","")),"") | AT11: =IFERROR(INDEX(Cal!$AP$5:$AP$36,MATCH(Sitemap!AT$6&"-"&Sitemap!$B11,Cal!$AQ$5:$AQ$36,0)),"") | AU11: =IFERROR(IF(INDEX(Cal!$Y$5:$Y$20,MATCH(Sitemap!AT11,Cal!$AP$5:$AP$20,0))>0,"*x1*",""),IF(COUNTIFS(Cal!$AU$5:$AU$20,Sitemap!AT$6,Cal!$AV$5:$AV$20,"<="&Sitemap!$B11,Cal!$AW$5:$AW$20,">="&Sitemap!$B11)>0,"*x2*","")) | AV11: =IFERROR(IF(ISNUMBER(MATCH(#REF!&"-"&$B11,Cal!$AY$5:$AY$20,0)),"*x6*",IF(INDEX(Cal!$O$5:$O$20,MATCH(Sitemap!#REF!,Cal!$AP$5:$AP$20,0))>0,"*x1*","")),"")
B12: 4 | D12: =IFERROR(INDEX(Cal!$AP$5:$AP$36,MATCH(Sitemap!D$6&"-"&Sitemap!$B12,Cal!$AQ$5:$AQ$36,0)),"") -> /home | E12: =IFERROR(IF(INDEX(Cal!$Y$5:$Y$20,MATCH(Sitemap!D12,Cal!$AP$5:$AP$20,0))>0,"*x1*",""),IF(COUNTIFS(Cal!$AU$5:$AU$20,Sitemap!D$6,Cal!$AV$5:$AV$20,"<="&Sitemap!$B12,Cal!$AW$5:$AW$20,">="&Sitemap!$B12)>0,"*x2*","")) | F12: =IFERROR(IF(ISNUMBER(MATCH(G$6&"-"&$B12,Cal!$AY$5:$AY$20,0)),"*x6*",IF(INDEX(Cal!$O$5:$O$20,MATCH(Sitemap!G12,Cal!$AP$5:$AP$20,0))>0,"*x1*","")),"") | G12: =IFERROR(INDEX(Cal!$AP$5:$AP$36,MATCH(Sitemap!G$6&"-"&Sitemap!$B12,Cal!$AQ$5:$AQ$36,0)),"") -> /services | H12: =IFERROR(IF(INDEX(Cal!$Y$5:$Y$20,MATCH(Sitemap!G12,Cal!$AP$5:$AP$20,0))>0,"*x1*",""),IF(COUNTIFS(Cal!$AU$5:$AU$20,Sitemap!G$6,Cal!$AV$5:$AV$20,"<="&Sitemap!$B12,Cal!$AW$5:$AW$20,">="&Sitemap!$B12)>0,"*x2*","")) -> *x2* | I12: =IFERROR(IF(ISNUMBER(MATCH(J$6&"-"&$B12,Cal!$AY$5:$AY$20,0)),"*x6*",IF(INDEX(Cal!$O$5:$O$20,MATCH(Sitemap!J12,Cal!$AP$5:$AP$20,0))>0,"*x1*","")),"") | J12: =IFERROR(INDEX(Cal!$AP$5:$AP$36,MATCH(Sitemap!J$6&"-"&Sitemap!$B12,Cal!$AQ$5:$AQ$36,0)),"") | K12: =IFERROR(IF(INDEX(Cal!$Y$5:$Y$20,MATCH(Sitemap!J12,Cal!$AP$5:$AP$20,0))>0,"*x1*",""),IF(COUNTIFS(Cal!$AU$5:$AU$20,Sitemap!J$6,Cal!$AV$5:$AV$20,"<="&Sitemap!$B12,Cal!$AW$5:$AW$20,">="&Sitemap!$B12)>0,"*x2*","")) | L12: =IFERROR(IF(ISNUMBER(MATCH(M$6&"-"&$B12,Cal!$AY$5:$AY$20,0)),"*x6*",IF(INDEX(Cal!$O$5:$O$20,MATCH(Sitemap!M12,Cal!$AP$5:$AP$20,0))>0,"*x1*","")),"") | M12: =IFERROR(INDEX(Cal!$AP$5:$AP$36,MATCH(Sitemap!M$6&"-"&Sitemap!$B12,Cal!$AQ$5:$AQ$36,0)),"") | N12: =IFERROR(IF(INDEX(Cal!$Y$5:$Y$20,MATCH(Sitemap!M12,Cal!$AP$5:$AP$20,0))>0,"*x1*",""),IF(COUNTIFS(Cal!$AU$5:$AU$20,Sitemap!M$6,Cal!$AV$5:$AV$20,"<="&Sitemap!$B12,Cal!$AW$5:$AW$20,">="&Sitemap!$B12)>0,"*x2*","")) | O12: =IFERROR(IF(ISNUMBER(MATCH(P$6&"-"&$B12,Cal!$AY$5:$AY$20,0)),"*x6*",IF(INDEX(Cal!$O$5:$O$20,MATCH(Sitemap!P12,Cal!$AP$5:$AP$20,0))>0,"*x1*","")),"") | P12: =IFERROR(INDEX(Cal!$AP$5:$AP$36,MATCH(Sitemap!P$6&"-"&Sitemap!$B12,Cal!$AQ$5:$AQ$36,0)),"") -> /blog | Q12: =IFERROR(IF(INDEX(Cal!$Y$5:$Y$20,MATCH(Sitemap!P12,Cal!$AP$5:$AP$20,0))>0,"*x1*",""),IF(COUNTIFS(Cal!$AU$5:$AU$20,Sitemap!P$6,Cal!$AV$5:$AV$20,"<="&Sitemap!$B12,Cal!$AW$5:$AW$20,">="&Sitemap!$B12)>0,"*x2*","")) -> *x2* | R12: =IFERROR(IF(ISNUMBER(MATCH(S$6&"-"&$B12,Cal!$AY$5:$AY$20,0)),"*x6*",IF(INDEX(Cal!$O$5:$O$20,MATCH(Sitemap!S12,Cal!$AP$5:$AP$20,0))>0,"*x1*","")),"") | S12: =IFERROR(INDEX(Cal!$AP$5:$AP$36,MATCH(Sitemap!S$6&"-"&Sitemap!$B12,Cal!$AQ$5:$AQ$36,0)),"") | T12: =IFERROR(IF(INDEX(Cal!$Y$5:$Y$20,MATCH(Sitemap!S12,Cal!$AP$5:$AP$20,0))>0,"*x1*",""),IF(COUNTIFS(Cal!$AU$5:$AU$20,Sitemap!S$6,Cal!$AV$5:$AV$20,"<="&Sitemap!$B12,Cal!$AW$5:$AW$20,">="&Sitemap!$B12)>0,"*x2*","")) | U12: =IFERROR(IF(ISNUMBER(MATCH(V$6&"-"&$B12,Cal!$AY$5:$AY$20,0)),"*x6*",IF(INDEX(Cal!$O$5:$O$20,MATCH(Sitemap!V12,Cal!$AP$5:$AP$20,0))>0,"*x1*","")),"") | V12: =IFERROR(INDEX(Cal!$AP$5:$AP$36,MATCH(Sitemap!V$6&"-"&Sitemap!$B12,Cal!$AQ$5:$AQ$36,0)),"") | W12: =IFERROR(IF(INDEX(Cal!$Y$5:$Y$20,MATCH(Sitemap!V12,Cal!$AP$5:$AP$20,0))>0,"*x1*",""),IF(COUNTIFS(Cal!$AU$5:$AU$20,Sitemap!V$6,Cal!$AV$5:$AV$20,"<="&Sitemap!$B12,Cal!$AW$5:$AW$20,">="&Sitemap!$B12)>0,"*x2*","")) | X12: =IFERROR(IF(ISNUMBER(MATCH(Y$6&"-"&$B12,Cal!$AY$5:$AY$20,0)),"*x6*",IF(INDEX(Cal!$O$5:$O$20,MATCH(Sitemap!Y12,Cal!$AP$5:$AP$20,0))>0,"*x1*","")),"") | Y12: =IFERROR(INDEX(Cal!$AP$5:$AP$36,MATCH(Sitemap!Y$6&"-"&Sitemap!$B12,Cal!$AQ$5:$AQ$36,0)),"") | Z12: =IFERROR(IF(INDEX(Cal!$Y$5:$Y$20,MATCH(Sitemap!Y12,Cal!$AP$5:$AP$20,0))>0,"*x1*",""),IF(COUNTIFS(Cal!$AU$5:$AU$20,Sitemap!Y$6,Cal!$AV$5:$AV$20,"<="&Sitemap!$B12,Cal!$AW$5:$AW$20,">="&Sitemap!$B12)>0,"*x2*","")) | AA12: =IFERROR(IF(ISNUMBER(MATCH(AB$6&"-"&$B12,Cal!$AY$5:$AY$20,0)),"*x6*",IF(INDEX(Cal!$O$5:$O$20,MATCH(Sitemap!AB12,Cal!$AP$5:$AP$20,0))>0,"*x1*","")),"") | AB12: =IFERROR(INDEX(Cal!$AP$5:$AP$36,MATCH(Sitemap!AB$6&"-"&Sitemap!$B12,Cal!$AQ$5:$AQ$36,0)),"") | AC12: =IFERROR(IF(INDEX(Cal!$Y$5:$Y$20,MATCH(Sitemap!AB12,Cal!$AP$5:$AP$20,0))>0,"*x1*",""),IF(COUNTIFS(Cal!$AU$5:$AU$20,Sitemap!AB$6,Cal!$AV$5:$AV$20,"<="&Sitemap!$B12,Cal!$AW$5:$AW$20,">="&Sitemap!$B12)>0,"*x2*","")) | AD12: =IFERROR(IF(ISNUMBER(MATCH(AE$6&"-"&$B12,Cal!$AY$5:$AY$20,0)),"*x6*",IF(INDEX(Cal!$O$5:$O$20,MATCH(Sitemap!AE12,Cal!$AP$5:$AP$20,0))>0,"*x1*","")),"") | AE12: =IFERROR(INDEX(Cal!$AP$5:$AP$36,MATCH(Sitemap!AE$6&"-"&Sitemap!$B12,Cal!$AQ$5:$AQ$36,0)),"") | AF12: =IFERROR(IF(INDEX(Cal!$Y$5:$Y$20,MATCH(Sitemap!AE12,Cal!$AP$5:$AP$20,0))>0,"*x1*",""),IF(COUNTIFS(Cal!$AU$5:$AU$20,Sitemap!AE$6,Cal!$AV$5:$AV$20,"<="&Sitemap!$B12,Cal!$AW$5:$AW$20,">="&Sitemap!$B12)>0,"*x2*","")) | AG12: =IFERROR(IF(ISNUMBER(MATCH(AH$6&"-"&$B12,Cal!$AY$5:$AY$20,0)),"*x6*",IF(INDEX(Cal!$O$5:$O$20,MATCH(Sitemap!AH12,Cal!$AP$5:$AP$20,0))>0,"*x1*","")),"") | AH12: =IFERROR(INDEX(Cal!$AP$5:$AP$36,MATCH(Sitemap!AH$6&"-"&Sitemap!$B12,Cal!$AQ$5:$AQ$36,0)),"") | AI12: =IFERROR(IF(INDEX(Cal!$Y$5:$Y$20,MATCH(Sitemap!AH12,Cal!$AP$5:$AP$20,0))>0,"*x1*",""),IF(COUNTIFS(Cal!$AU$5:$AU$20,Sitemap!AH$6,Cal!$AV$5:$AV$20,"<="&Sitemap!$B12,Cal!$AW$5:$AW$20,">="&Sitemap!$B12)>0,"*x2*","")) | AJ12: =IFERROR(IF(ISNUMBER(MATCH(AK$6&"-"&$B12,Cal!$AY$5:$AY$20,0)),"*x6*",IF(INDEX(Cal!$O$5:$O$20,MATCH(Sitemap!AK12,Cal!$AP$5:$AP$20,0))>0,"*x1*","")),"") | AK12: =IFERROR(INDEX(Cal!$AP$5:$AP$36,MATCH(Sitemap!AK$6&"-"&Sitemap!$B12,Cal!$AQ$5:$AQ$36,0)),"") | AL12: =IFERROR(IF(INDEX(Cal!$Y$5:$Y$20,MATCH(Sitemap!AK12,Cal!$AP$5:$AP$20,0))>0,"*x1*",""),IF(COUNTIFS(Cal!$AU$5:$AU$20,Sitemap!AK$6,Cal!$AV$5:$AV$20,"<="&Sitemap!$B12,Cal!$AW$5:$AW$20,">="&Sitemap!$B12)>0,"*x2*","")) | AM12: =IFERROR(IF(ISNUMBER(MATCH(AN$6&"-"&$B12,Cal!$AY$5:$AY$20,0)),"*x6*",IF(INDEX(Cal!$O$5:$O$20,MATCH(Sitemap!AN12,Cal!$AP$5:$AP$20,0))>0,"*x1*","")),"") | AN12: =IFERROR(INDEX(Cal!$AP$5:$AP$36,MATCH(Sitemap!AN$6&"-"&Sitemap!$B12,Cal!$AQ$5:$AQ$36,0)),"") | AO12: =IFERROR(IF(INDEX(Cal!$Y$5:$Y$20,MATCH(Sitemap!AN12,Cal!$AP$5:$AP$20,0))>0,"*x1*",""),IF(COUNTIFS(Cal!$AU$5:$AU$20,Sitemap!AN$6,Cal!$AV$5:$AV$20,"<="&Sitemap!$B12,Cal!$AW$5:$AW$20,">="&Sitemap!$B12)>0,"*x2*","")) | AP12: =IFERROR(IF(ISNUMBER(MATCH(AQ$6&"-"&$B12,Cal!$AY$5:$AY$20,0)),"*x6*",IF(INDEX(Cal!$O$5:$O$20,MATCH(Sitemap!AQ12,Cal!$AP$5:$AP$20,0))>0,"*x1*","")),"") | AQ12: =IFERROR(INDEX(Cal!$AP$5:$AP$36,MATCH(Sitemap!AQ$6&"-"&Sitemap!$B12,Cal!$AQ$5:$AQ$36,0)),"") | AR12: =IFERROR(IF(INDEX(Cal!$Y$5:$Y$20,MATCH(Sitemap!AQ12,Cal!$AP$5:$AP$20,0))>0,"*x1*",""),IF(COUNTIFS(Cal!$AU$5:$AU$20,Sitemap!AQ$6,Cal!$AV$5:$AV$20,"<="&Sitemap!$B12,Cal!$AW$5:$AW$20,">="&Sitemap!$B12)>0,"*x2*","")) | AS12: =IFERROR(IF(ISNUMBER(MATCH(AT$6&"-"&$B12,Cal!$AY$5:$AY$20,0)),"*x6*",IF(INDEX(Cal!$O$5:$O$20,MATCH(Sitemap!AT12,Cal!$AP$5:$AP$20,0))>0,"*x1*","")),"") | AT12: =IFERROR(INDEX(Cal!$AP$5:$AP$36,MATCH(Sitemap!AT$6&"-"&Sitemap!$B12,Cal!$AQ$5:$AQ$36,0)),"") | AU12: =IFERROR(IF(INDEX(Cal!$Y$5:$Y$20,MATCH(Sitemap!AT12,Cal!$AP$5:$AP$20,0))>0,"*x1*",""),IF(COUNTIFS(Cal!$AU$5:$AU$20,Sitemap!AT$6,Cal!$AV$5:$AV$20,"<="&Sitemap!$B12,Cal!$AW$5:$AW$20,">="&Sitemap!$B12)>0,"*x2*","")) | AV12: =IFERROR(IF(ISNUMBER(MATCH(#REF!&"-"&$B12,Cal!$AY$5:$AY$20,0)),"*x6*",IF(INDEX(Cal!$O$5:$O$20,MATCH(Sitemap!#REF!,Cal!$AP$5:$AP$20,0))>0,"*x1*","")),"")
B13: 5 | D13: =IFERROR(INDEX(Cal!$AP$5:$AP$36,MATCH(Sitemap!D$6&"-"&Sitemap!$B13,Cal!$AQ$5:$AQ$36,0)),"") | E13: =IFERROR(IF(INDEX(Cal!$Y$5:$Y$20,MATCH(Sitemap!D13,Cal!$AP$5:$AP$20,0))>0,"*x1*",""),IF(COUNTIFS(Cal!$AU$5:$AU$20,Sitemap!D$6,Cal!$AV$5:$AV$20,"<="&Sitemap!$B13,Cal!$AW$5:$AW$20,">="&Sitemap!$B13)>0,"*x2*","")) | F13: =IFERROR(IF(ISNUMBER(MATCH(G$6&"-"&$B13,Cal!$AY$5:$AY$20,0)),"*x6*",IF(INDEX(Cal!$O$5:$O$20,MATCH(Sitemap!G13,Cal!$AP$5:$AP$20,0))>0,"*x1*","")),"") | G13: =IFERROR(INDEX(Cal!$AP$5:$AP$36,MATCH(Sitemap!G$6&"-"&Sitemap!$B13,Cal!$AQ$5:$AQ$36,0)),"") | H13: =IFERROR(IF(INDEX(Cal!$Y$5:$Y$20,MATCH(Sitemap!G13,Cal!$AP$5:$AP$20,0))>0,"*x1*",""),IF(COUNTIFS(Cal!$AU$5:$AU$20,Sitemap!G$6,Cal!$AV$5:$AV$20,"<="&Sitemap!$B13,Cal!$AW$5:$AW$20,">="&Sitemap!$B13)>0,"*x2*","")) -> *x2* | I13: =IFERROR(IF(ISNUMBER(MATCH(J$6&"-"&$B13,Cal!$AY$5:$AY$20,0)),"*x6*",IF(INDEX(Cal!$O$5:$O$20,MATCH(Sitemap!J13,Cal!$AP$5:$AP$20,0))>0,"*x1*","")),"") | J13: =IFERROR(INDEX(Cal!$AP$5:$AP$36,MATCH(Sitemap!J$6&"-"&Sitemap!$B13,Cal!$AQ$5:$AQ$36,0)),"") | K13: =IFERROR(IF(INDEX(Cal!$Y$5:$Y$20,MATCH(Sitemap!J13,Cal!$AP$5:$AP$20,0))>0,"*x1*",""),IF(COUNTIFS(Cal!$AU$5:$AU$20,Sitemap!J$6,Cal!$AV$5:$AV$20,"<="&Sitemap!$B13,Cal!$AW$5:$AW$20,">="&Sitemap!$B13)>0,"*x2*","")) | L13: =IFERROR(IF(ISNUMBER(MATCH(M$6&"-"&$B13,Cal!$AY$5:$AY$20,0)),"*x6*",IF(INDEX(Cal!$O$5:$O$20,MATCH(Sitemap!M13,Cal!$AP$5:$AP$20,0))>0,"*x1*","")),"") | M13: =IFERROR(INDEX(Cal!$AP$5:$AP$36,MATCH(Sitemap!M$6&"-"&Sitemap!$B13,Cal!$AQ$5:$AQ$36,0)),"") | N13: =IFERROR(IF(INDEX(Cal!$Y$5:$Y$20,MATCH(Sitemap!M13,Cal!$AP$5:$AP$20,0))>0,"*x1*",""),IF(COUNTIFS(Cal!$AU$5:$AU$20,Sitemap!M$6,Cal!$AV$5:$AV$20,"<="&Sitemap!$B13,Cal!$AW$5:$AW$20,">="&Sitemap!$B13)>0,"*x2*","")) | O13: =IFERROR(IF(ISNUMBER(MATCH(P$6&"-"&$B13,Cal!$AY$5:$AY$20,0)),"*x6*",IF(INDEX(Cal!$O$5:$O$20,MATCH(Sitemap!P13,Cal!$AP$5:$AP$20,0))>0,"*x1*","")),"") | P13: =IFERROR(INDEX(Cal!$AP$5:$AP$36,MATCH(Sitemap!P$6&"-"&Sitemap!$B13,Cal!$AQ$5:$AQ$36,0)),"") | Q13: =IFERROR(IF(INDEX(Cal!$Y$5:$Y$20,MATCH(Sitemap!P13,Cal!$AP$5:$AP$20,0))>0,"*x1*",""),IF(COUNTIFS(Cal!$AU$5:$AU$20,Sitemap!P$6,Cal!$AV$5:$AV$20,"<="&Sitemap!$B13,Cal!$AW$5:$AW$20,">="&Sitemap!$B13)>0,"*x2*","")) -> *x2* | R13: =IFERROR(IF(ISNUMBER(MATCH(S$6&"-"&$B13,Cal!$AY$5:$AY$20,0)),"*x6*",IF(INDEX(Cal!$O$5:$O$20,MATCH(Sitemap!S13,Cal!$AP$5:$AP$20,0))>0,"*x1*","")),"") | S13: =IFERROR(INDEX(Cal!$AP$5:$AP$36,MATCH(Sitemap!S$6&"-"&Sitemap!$B13,Cal!$AQ$5:$AQ$36,0)),"") | T13: =IFERROR(IF(INDEX(Cal!$Y$5:$Y$20,MATCH(Sitemap!S13,Cal!$AP$5:$AP$20,0))>0,"*x1*",""),IF(COUNTIFS(Cal!$AU$5:$AU$20,Sitemap!S$6,Cal!$AV$5:$AV$20,"<="&Sitemap!$B13,Cal!$AW$5:$AW$20,">="&Sitemap!$B13)>0,"*x2*","")) | U13: =IFERROR(IF(ISNUMBER(MATCH(V$6&"-"&$B13,Cal!$AY$5:$AY$20,0)),"*x6*",IF(INDEX(Cal!$O$5:$O$20,MATCH(Sitemap!V13,Cal!$AP$5:$AP$20,0))>0,"*x1*","")),"") | V13: =IFERROR(INDEX(Cal!$AP$5:$AP$36,MATCH(Sitemap!V$6&"-"&Sitemap!$B13,Cal!$AQ$5:$AQ$36,0)),"") | W13: =IFERROR(IF(INDEX(Cal!$Y$5:$Y$20,MATCH(Sitemap!V13,Cal!$AP$5:$AP$20,0))>0,"*x1*",""),IF(COUNTIFS(Cal!$AU$5:$AU$20,Sitemap!V$6,Cal!$AV$5:$AV$20,"<="&Sitemap!$B13,Cal!$AW$5:$AW$20,">="&Sitemap!$B13)>0,"*x2*","")) | X13: =IFERROR(IF(ISNUMBER(MATCH(Y$6&"-"&$B13,Cal!$AY$5:$AY$20,0)),"*x6*",IF(INDEX(Cal!$O$5:$O$20,MATCH(Sitemap!Y13,Cal!$AP$5:$AP$20,0))>0,"*x1*","")),"") | Y13: =IFERROR(INDEX(Cal!$AP$5:$AP$36,MATCH(Sitemap!Y$6&"-"&Sitemap!$B13,Cal!$AQ$5:$AQ$36,0)),"") | Z13: =IFERROR(IF(INDEX(Cal!$Y$5:$Y$20,MATCH(Sitemap!Y13,Cal!$AP$5:$AP$20,0))>0,"*x1*",""),IF(COUNTIFS(Cal!$AU$5:$AU$20,Sitemap!Y$6,Cal!$AV$5:$AV$20,"<="&Sitemap!$B13,Cal!$AW$5:$AW$20,">="&Sitemap!$B13)>0,"*x2*","")) | AA13: =IFERROR(IF(ISNUMBER(MATCH(AB$6&"-"&$B13,Cal!$AY$5:$AY$20,0)),"*x6*",IF(INDEX(Cal!$O$5:$O$20,MATCH(Sitemap!AB13,Cal!$AP$5:$AP$20,0))>0,"*x1*","")),"") | AB13: =IFERROR(INDEX(Cal!$AP$5:$AP$36,MATCH(Sitemap!AB$6&"-"&Sitemap!$B13,Cal!$AQ$5:$AQ$36,0)),"") | AC13: =IFERROR(IF(INDEX(Cal!$Y$5:$Y$20,MATCH(Sitemap!AB13,Cal!$AP$5:$AP$20,0))>0,"*x1*",""),IF(COUNTIFS(Cal!$AU$5:$AU$20,Sitemap!AB$6,Cal!$AV$5:$AV$20,"<="&Sitemap!$B13,Cal!$AW$5:$AW$20,">="&Sitemap!$B13)>0,"*x2*","")) | AD13: =IFERROR(IF(ISNUMBER(MATCH(AE$6&"-"&$B13,Cal!$AY$5:$AY$20,0)),"*x6*",IF(INDEX(Cal!$O$5:$O$20,MATCH(Sitemap!AE13,Cal!$AP$5:$AP$20,0))>0,"*x1*","")),"") | AE13: =IFERROR(INDEX(Cal!$AP$5:$AP$36,MATCH(Sitemap!AE$6&"-"&Sitemap!$B13,Cal!$AQ$5:$AQ$36,0)),"") | AF13: =IFERROR(IF(INDEX(Cal!$Y$5:$Y$20,MATCH(Sitemap!AE13,Cal!$AP$5:$AP$20,0))>0,"*x1*",""),IF(COUNTIFS(Cal!$AU$5:$AU$20,Sitemap!AE$6,Cal!$AV$5:$AV$20,"<="&Sitemap!$B13,Cal!$AW$5:$AW$20,">="&Sitemap!$B13)>0,"*x2*","")) | AG13: =IFERROR(IF(ISNUMBER(MATCH(AH$6&"-"&$B13,Cal!$AY$5:$AY$20,0)),"*x6*",IF(INDEX(Cal!$O$5:$O$20,MATCH(Sitemap!AH13,Cal!$AP$5:$AP$20,0))>0,"*x1*","")),"") | AH13: =IFERROR(INDEX(Cal!$AP$5:$AP$36,MATCH(Sitemap!AH$6&"-"&Sitemap!$B13,Cal!$AQ$5:$AQ$36,0)),"") | AI13: =IFERROR(IF(INDEX(Cal!$Y$5:$Y$20,MATCH(Sitemap!AH13,Cal!$AP$5:$AP$20,0))>0,"*x1*",""),IF(COUNTIFS(Cal!$AU$5:$AU$20,Sitemap!AH$6,Cal!$AV$5:$AV$20,"<="&Sitemap!$B13,Cal!$AW$5:$AW$20,">="&Sitemap!$B13)>0,"*x2*","")) | AJ13: =IFERROR(IF(ISNUMBER(MATCH(AK$6&"-"&$B13,Cal!$AY$5:$AY$20,0)),"*x6*",IF(INDEX(Cal!$O$5:$O$20,MATCH(Sitemap!AK13,Cal!$AP$5:$AP$20,0))>0,"*x1*","")),"") | AK13: =IFERROR(INDEX(Cal!$AP$5:$AP$36,MATCH(Sitemap!AK$6&"-"&Sitemap!$B13,Cal!$AQ$5:$AQ$36,0)),"") | AL13: =IFERROR(IF(INDEX(Cal!$Y$5:$Y$20,MATCH(Sitemap!AK13,Cal!$AP$5:$AP$20,0))>0,"*x1*",""),IF(COUNTIFS(Cal!$AU$5:$AU$20,Sitemap!AK$6,Cal!$AV$5:$AV$20,"<="&Sitemap!$B13,Cal!$AW$5:$AW$20,">="&Sitemap!$B13)>0,"*x2*","")) | AM13: =IFERROR(IF(ISNUMBER(MATCH(AN$6&"-"&$B13,Cal!$AY$5:$AY$20,0)),"*x6*",IF(INDEX(Cal!$O$5:$O$20,MATCH(Sitemap!AN13,Cal!$AP$5:$AP$20,0))>0,"*x1*","")),"") | AN13: =IFERROR(INDEX(Cal!$AP$5:$AP$36,MATCH(Sitemap!AN$6&"-"&Sitemap!$B13,Cal!$AQ$5:$AQ$36,0)),"") | AO13: =IFERROR(IF(INDEX(Cal!$Y$5:$Y$20,MATCH(Sitemap!AN13,Cal!$AP$5:$AP$20,0))>0,"*x1*",""),IF(COUNTIFS(Cal!$AU$5:$AU$20,Sitemap!AN$6,Cal!$AV$5:$AV$20,"<="&Sitemap!$B13,Cal!$AW$5:$AW$20,">="&Sitemap!$B13)>0,"*x2*","")) | AP13: =IFERROR(IF(ISNUMBER(MATCH(AQ$6&"-"&$B13,Cal!$AY$5:$AY$20,0)),"*x6*",IF(INDEX(Cal!$O$5:$O$20,MATCH(Sitemap!AQ13,Cal!$AP$5:$AP$20,0))>0,"*x1*","")),"") | AQ13: =IFERROR(INDEX(Cal!$AP$5:$AP$36,MATCH(Sitemap!AQ$6&"-"&Sitemap!$B13,Cal!$AQ$5:$AQ$36,0)),"") | AR13: =IFERROR(IF(INDEX(Cal!$Y$5:$Y$20,MATCH(Sitemap!AQ13,Cal!$AP$5:$AP$20,0))>0,"*x1*",""),IF(COUNTIFS(Cal!$AU$5:$AU$20,Sitemap!AQ$6,Cal!$AV$5:$AV$20,"<="&Sitemap!$B13,Cal!$AW$5:$AW$20,">="&Sitemap!$B13)>0,"*x2*","")) | AS13: =IFERROR(IF(ISNUMBER(MATCH(AT$6&"-"&$B13,Cal!$AY$5:$AY$20,0)),"*x6*",IF(INDEX(Cal!$O$5:$O$20,MATCH(Sitemap!AT13,Cal!$AP$5:$AP$20,0))>0,"*x1*","")),"") | AT13: =IFERROR(INDEX(Cal!$AP$5:$AP$36,MATCH(Sitemap!AT$6&"-"&Sitemap!$B13,Cal!$AQ$5:$AQ$36,0)),"") | AU13: =IFERROR(IF(INDEX(Cal!$Y$5:$Y$20,MATCH(Sitemap!AT13,Cal!$AP$5:$AP$20,0))>0,"*x1*",""),IF(COUNTIFS(Cal!$AU$5:$AU$20,Sitemap!AT$6,Cal!$AV$5:$AV$20,"<="&Sitemap!$B13,Cal!$AW$5:$AW$20,">="&Sitemap!$B13)>0,"*x2*","")) | AV13: =IFERROR(IF(ISNUMBER(MATCH(#REF!&"-"&$B13,Cal!$AY$5:$AY$20,0)),"*x6*",IF(INDEX(Cal!$O$5:$O$20,MATCH(Sitemap!#REF!,Cal!$AP$5:$AP$20,0))>0,"*x1*","")),"")
B14: 6 | D14: =IFERROR(INDEX(Cal!$AP$5:$AP$36,MATCH(Sitemap!D$6&"-"&Sitemap!$B14,Cal!$AQ$5:$AQ$36,0)),"") | E14: =IFERROR(IF(INDEX(Cal!$Y$5:$Y$20,MATCH(Sitemap!D14,Cal!$AP$5:$AP$20,0))>0,"*x1*",""),IF(COUNTIFS(Cal!$AU$5:$AU$20,Sitemap!D$6,Cal!$AV$5:$AV$20,"<="&Sitemap!$B14,Cal!$AW$5:$AW$20,">="&Sitemap!$B14)>0,"*x2*","")) | F14: =IFERROR(IF(ISNUMBER(MATCH(G$6&"-"&$B14,Cal!$AY$5:$AY$20,0)),"*x6*",IF(INDEX(Cal!$O$5:$O$20,MATCH(Sitemap!G14,Cal!$AP$5:$AP$20,0))>0,"*x1*","")),"") | G14: =IFERROR(INDEX(Cal!$AP$5:$AP$36,MATCH(Sitemap!G$6&"-"&Sitemap!$B14,Cal!$AQ$5:$AQ$36,0)),"") | H14: =IFERROR(IF(INDEX(Cal!$Y$5:$Y$20,MATCH(Sitemap!G14,Cal!$AP$5:$AP$20,0))>0,"*x1*",""),IF(COUNTIFS(Cal!$AU$5:$AU$20,Sitemap!G$6,Cal!$AV$5:$AV$20,"<="&Sitemap!$B14,Cal!$AW$5:$AW$20,">="&Sitemap!$B14)>0,"*x2*","")) -> *x2* | I14: =IFERROR(IF(ISNUMBER(MATCH(J$6&"-"&$B14,Cal!$AY$5:$AY$20,0)),"*x6*",IF(INDEX(Cal!$O$5:$O$20,MATCH(Sitemap!J14,Cal!$AP$5:$AP$20,0))>0,"*x1*","")),"") -> *x1* | J14: =IFERROR(INDEX(Cal!$AP$5:$AP$36,MATCH(Sitemap!J$6&"-"&Sitemap!$B14,Cal!$AQ$5:$AQ$36,0)),"") -> 3-marketing | K14: =IFERROR(IF(INDEX(Cal!$Y$5:$Y$20,MATCH(Sitemap!J14,Cal!$AP$5:$AP$20,0))>0,"*x1*",""),IF(COUNTIFS(Cal!$AU$5:$AU$20,Sitemap!J$6,Cal!$AV$5:$AV$20,"<="&Sitemap!$B14,Cal!$AW$5:$AW$20,">="&Sitemap!$B14)>0,"*x2*","")) -> *x1* | L14: =IFERROR(IF(ISNUMBER(MATCH(M$6&"-"&$B14,Cal!$AY$5:$AY$20,0)),"*x6*",IF(INDEX(Cal!$O$5:$O$20,MATCH(Sitemap!M14,Cal!$AP$5:$AP$20,0))>0,"*x1*","")),"") | M14: =IFERROR(INDEX(Cal!$AP$5:$AP$36,MATCH(Sitemap!M$6&"-"&Sitemap!$B14,Cal!$AQ$5:$AQ$36,0)),"") | N14: =IFERROR(IF(INDEX(Cal!$Y$5:$Y$20,MATCH(Sitemap!M14,Cal!$AP$5:$AP$20,0))>0,"*x1*",""),IF(COUNTIFS(Cal!$AU$5:$AU$20,Sitemap!M$6,Cal!$AV$5:$AV$20,"<="&Sitemap!$B14,Cal!$AW$5:$AW$20,">="&Sitemap!$B14)>0,"*x2*","")) | O14: =IFERROR(IF(ISNUMBER(MATCH(P$6&"-"&$B14,Cal!$AY$5:$AY$20,0)),"*x6*",IF(INDEX(Cal!$O$5:$O$20,MATCH(Sitemap!P14,Cal!$AP$5:$AP$20,0))>0,"*x1*","")),"") | P14: =IFERROR(INDEX(Cal!$AP$5:$AP$36,MATCH(Sitemap!P$6&"-"&Sitemap!$B14,Cal!$AQ$5:$AQ$36,0)),"") | Q14: =IFERROR(IF(INDEX(Cal!$Y$5:$Y$20,MATCH(Sitemap!P14,Cal!$AP$5:$AP$20,0))>0,"*x1*",""),IF(COUNTIFS(Cal!$AU$5:$AU$20,Sitemap!P$6,Cal!$AV$5:$AV$20,"<="&Sitemap!$B14,Cal!$AW$5:$AW$20,">="&Sitemap!$B14)>0,"*x2*","")) -> *x2* | R14: =IFERROR(IF(ISNUMBER(MATCH(S$6&"-"&$B14,Cal!$AY$5:$AY$20,0)),"*x6*",IF(INDEX(Cal!$O$5:$O$20,MATCH(Sitemap!S14,Cal!$AP$5:$AP$20,0))>0,"*x1*","")),"") -> *x1* | S14: =IFERROR(INDEX(Cal!$AP$5:$AP$36,MATCH(Sitemap!S$6&"-"&Sitemap!$B14,Cal!$AQ$5:$AQ$36,0)),"") -> 10-seo-tips | T14: =IFERROR(IF(INDEX(Cal!$Y$5:$Y$20,MATCH(Sitemap!S14,Cal!$AP$5:$AP$20,0))>0,"*x1*",""),IF(COUNTIFS(Cal!$AU$5:$AU$20,Sitemap!S$6,Cal!$AV$5:$AV$20,"<="&Sitemap!$B14,Cal!$AW$5:$AW$20,">="&Sitemap!$B14)>0,"*x2*","")) | U14: =IFERROR(IF(ISNUMBER(MATCH(V$6&"-"&$B14,Cal!$AY$5:$AY$20,0)),"*x6*",IF(INDEX(Cal!$O$5:$O$20,MATCH(Sitemap!V14,Cal!$AP$5:$AP$20,0))>0,"*x1*","")),"") | V14: =IFERROR(INDEX(Cal!$AP$5:$AP$36,MATCH(Sitemap!V$6&"-"&Sitemap!$B14,Cal!$AQ$5:$AQ$36,0)),"") | W14: =IFERROR(IF(INDEX(Cal!$Y$5:$Y$20,MATCH(Sitemap!V14,Cal!$AP$5:$AP$20,0))>0,"*x1*",""),IF(COUNTIFS(Cal!$AU$5:$AU$20,Sitemap!V$6,Cal!$AV$5:$AV$20,"<="&Sitemap!$B14,Cal!$AW$5:$AW$20,">="&Sitemap!$B14)>0,"*x2*","")) | X14: =IFERROR(IF(ISNUMBER(MATCH(Y$6&"-"&$B14,Cal!$AY$5:$AY$20,0)),"*x6*",IF(INDEX(Cal!$O$5:$O$20,MATCH(Sitemap!Y14,Cal!$AP$5:$AP$20,0))>0,"*x1*","")),"") | Y14: =IFERROR(INDEX(Cal!$AP$5:$AP$36,MATCH(Sitemap!Y$6&"-"&Sitemap!$B14,Cal!$AQ$5:$AQ$36,0)),"") | Z14: =IFERROR(IF(INDEX(Cal!$Y$5:$Y$20,MATCH(Sitemap!Y14,Cal!$AP$5:$AP$20,0))>0,"*x1*",""),IF(COUNTIFS(Cal!$AU$5:$AU$20,Sitemap!Y$6,Cal!$AV$5:$AV$20,"<="&Sitemap!$B14,Cal!$AW$5:$AW$20,">="&Sitemap!$B14)>0,"*x2*","")) | AA14: =IFERROR(IF(ISNUMBER(MATCH(AB$6&"-"&$B14,Cal!$AY$5:$AY$20,0)),"*x6*",IF(INDEX(Cal!$O$5:$O$20,MATCH(Sitemap!AB14,Cal!$AP$5:$AP$20,0))>0,"*x1*","")),"") | AB14: =IFERROR(INDEX(Cal!$AP$5:$AP$36,MATCH(Sitemap!AB$6&"-"&Sitemap!$B14,Cal!$AQ$5:$AQ$36,0)),"") | AC14: =IFERROR(IF(INDEX(Cal!$Y$5:$Y$20,MATCH(Sitemap!AB14,Cal!$AP$5:$AP$20,0))>0,"*x1*",""),IF(COUNTIFS(Cal!$AU$5:$AU$20,Sitemap!AB$6,Cal!$AV$5:$AV$20,"<="&Sitemap!$B14,Cal!$AW$5:$AW$20,">="&Sitemap!$B14)>0,"*x2*","")) | AD14: =IFERROR(IF(ISNUMBER(MATCH(AE$6&"-"&$B14,Cal!$AY$5:$AY$20,0)),"*x6*",IF(INDEX(Cal!$O$5:$O$20,MATCH(Sitemap!AE14,Cal!$AP$5:$AP$20,0))>0,"*x1*","")),"") | AE14: =IFERROR(INDEX(Cal!$AP$5:$AP$36,MATCH(Sitemap!AE$6&"-"&Sitemap!$B14,Cal!$AQ$5:$AQ$36,0)),"") | AF14: =IFERROR(IF(INDEX(Cal!$Y$5:$Y$20,MATCH(Sitemap!AE14,Cal!$AP$5:$AP$20,0))>0,"*x1*",""),IF(COUNTIFS(Cal!$AU$5:$AU$20,Sitemap!AE$6,Cal!$AV$5:$AV$20,"<="&Sitemap!$B14,Cal!$AW$5:$AW$20,">="&Sitemap!$B14)>0,"*x2*","")) | AG14: =IFERROR(IF(ISNUMBER(MATCH(AH$6&"-"&$B14,Cal!$AY$5:$AY$20,0)),"*x6*",IF(INDEX(Cal!$O$5:$O$20,MATCH(Sitemap!AH14,Cal!$AP$5:$AP$20,0))>0,"*x1*","")),"") | AH14: =IFERROR(INDEX(Cal!$AP$5:$AP$36,MATCH(Sitemap!AH$6&"-"&Sitemap!$B14,Cal!$AQ$5:$AQ$36,0)),"") | AI14: =IFERROR(IF(INDEX(Cal!$Y$5:$Y$20,MATCH(Sitemap!AH14,Cal!$AP$5:$AP$20,0))>0,"*x1*",""),IF(COUNTIFS(Cal!$AU$5:$AU$20,Sitemap!AH$6,Cal!$AV$5:$AV$20,"<="&Sitemap!$B14,Cal!$AW$5:$AW$20,">="&Sitemap!$B14)>0,"*x2*","")) | AJ14: =IFERROR(IF(ISNUMBER(MATCH(AK$6&"-"&$B14,Cal!$AY$5:$AY$20,0)),"*x6*",IF(INDEX(Cal!$O$5:$O$20,MATCH(Sitemap!AK14,Cal!$AP$5:$AP$20,0))>0,"*x1*","")),"") | AK14: =IFERROR(INDEX(Cal!$AP$5:$AP$36,MATCH(Sitemap!AK$6&"-"&Sitemap!$B14,Cal!$AQ$5:$AQ$36,0)),"") | AL14: =IFERROR(IF(INDEX(Cal!$Y$5:$Y$20,MATCH(Sitemap!AK14,Cal!$AP$5:$AP$20,0))>0,"*x1*",""),IF(COUNTIFS(Cal!$AU$5:$AU$20,Sitemap!AK$6,Cal!$AV$5:$AV$20,"<="&Sitemap!$B14,Cal!$AW$5:$AW$20,">="&Sitemap!$B14)>0,"*x2*","")) | AM14: =IFERROR(IF(ISNUMBER(MATCH(AN$6&"-"&$B14,Cal!$AY$5:$AY$20,0)),"*x6*",IF(INDEX(Cal!$O$5:$O$20,MATCH(Sitemap!AN14,Cal!$AP$5:$AP$20,0))>0,"*x1*","")),"") | AN14: =IFERROR(INDEX(Cal!$AP$5:$AP$36,MATCH(Sitemap!AN$6&"-"&Sitemap!$B14,Cal!$AQ$5:$AQ$36,0)),"") | AO14: =IFERROR(IF(INDEX(Cal!$Y$5:$Y$20,MATCH(Sitemap!AN14,Cal!$AP$5:$AP$20,0))>0,"*x1*",""),IF(COUNTIFS(Cal!$AU$5:$AU$20,Sitemap!AN$6,Cal!$AV$5:$AV$20,"<="&Sitemap!$B14,Cal!$AW$5:$AW$20,">="&Sitemap!$B14)>0,"*x2*","")) | AP14: =IFERROR(IF(ISNUMBER(MATCH(AQ$6&"-"&$B14,Cal!$AY$5:$AY$20,0)),"*x6*",IF(INDEX(Cal!$O$5:$O$20,MATCH(Sitemap!AQ14,Cal!$AP$5:$AP$20,0))>0,"*x1*","")),"") | AQ14: =IFERROR(INDEX(Cal!$AP$5:$AP$36,MATCH(Sitemap!AQ$6&"-"&Sitemap!$B14,Cal!$AQ$5:$AQ$36,0)),"") | AR14: =IFERROR(IF(INDEX(Cal!$Y$5:$Y$20,MATCH(Sitemap!AQ14,Cal!$AP$5:$AP$20,0))>0,"*x1*",""),IF(COUNTIFS(Cal!$AU$5:$AU$20,Sitemap!AQ$6,Cal!$AV$5:$AV$20,"<="&Sitemap!$B14,Cal!$AW$5:$AW$20,">="&Sitemap!$B14)>0,"*x2*","")) | AS14: =IFERROR(IF(ISNUMBER(MATCH(AT$6&"-"&$B14,Cal!$AY$5:$AY$20,0)),"*x6*",IF(INDEX(Cal!$O$5:$O$20,MATCH(Sitemap!AT14,Cal!$AP$5:$AP$20,0))>0,"*x1*","")),"") | AT14: =IFERROR(INDEX(Cal!$AP$5:$AP$36,MATCH(Sitemap!AT$6&"-"&Sitemap!$B14,Cal!$AQ$5:$AQ$36,0)),"") | AU14: =IFERROR(IF(INDEX(Cal!$Y$5:$Y$20,MATCH(Sitemap!AT14,Cal!$AP$5:$AP$20,0))>0,"*x1*",""),IF(COUNTIFS(Cal!$AU$5:$AU$20,Sitemap!AT$6,Cal!$AV$5:$AV$20,"<="&Sitemap!$B14,Cal!$AW$5:$AW$20,">="&Sitemap!$B14)>0,"*x2*","")) | AV14: =IFERROR(IF(ISNUMBER(MATCH(#REF!&"-"&$B14,Cal!$AY$5:$AY$20,0)),"*x6*",IF(INDEX(Cal!$O$5:$O$20,MATCH(Sitemap!#REF!,Cal!$AP$5:$AP$20,0))>0,"*x1*","")),"")
B15: 7 | D15: =IFERROR(INDEX(Cal!$AP$5:$AP$36,MATCH(Sitemap!D$6&"-"&Sitemap!$B15,Cal!$AQ$5:$AQ$36,0)),"") | E15: =IFERROR(IF(INDEX(Cal!$Y$5:$Y$20,MATCH(Sitemap!D15,Cal!$AP$5:$AP$20,0))>0,"*x1*",""),IF(COUNTIFS(Cal!$AU$5:$AU$20,Sitemap!D$6,Cal!$AV$5:$AV$20,"<="&Sitemap!$B15,Cal!$AW$5:$AW$20,">="&Sitemap!$B15)>0,"*x2*","")) | F15: =IFERROR(IF(ISNUMBER(MATCH(G$6&"-"&$B15,Cal!$AY$5:$AY$20,0)),"*x6*",IF(INDEX(Cal!$O$5:$O$20,MATCH(Sitemap!G15,Cal!$AP$5:$AP$20,0))>0,"*x1*","")),"") | G15: =IFERROR(INDEX(Cal!$AP$5:$AP$36,MATCH(Sitemap!G$6&"-"&Sitemap!$B15,Cal!$AQ$5:$AQ$36,0)),"") | H15: =IFERROR(IF(INDEX(Cal!$Y$5:$Y$20,MATCH(Sitemap!G15,Cal!$AP$5:$AP$20,0))>0,"*x1*",""),IF(COUNTIFS(Cal!$AU$5:$AU$20,Sitemap!G$6,Cal!$AV$5:$AV$20,"<="&Sitemap!$B15,Cal!$AW$5:$AW$20,">="&Sitemap!$B15)>0,"*x2*","")) -> *x2* | I15: =IFERROR(IF(ISNUMBER(MATCH(J$6&"-"&$B15,Cal!$AY$5:$AY$20,0)),"*x6*",IF(INDEX(Cal!$O$5:$O$20,MATCH(Sitemap!J15,Cal!$AP$5:$AP$20,0))>0,"*x1*","")),"") | J15: =IFERROR(INDEX(Cal!$AP$5:$AP$36,MATCH(Sitemap!J$6&"-"&Sitemap!$B15,Cal!$AQ$5:$AQ$36,0)),"") -> /services/marketing | K15: =IFERROR(IF(INDEX(Cal!$Y$5:$Y$20,MATCH(Sitemap!J15,Cal!$AP$5:$AP$20,0))>0,"*x1*",""),IF(COUNTIFS(Cal!$AU$5:$AU$20,Sitemap!J$6,Cal!$AV$5:$AV$20,"<="&Sitemap!$B15,Cal!$AW$5:$AW$20,">="&Sitemap!$B15)>0,"*x2*","")) -> *x2* | L15: =IFERROR(IF(ISNUMBER(MATCH(M$6&"-"&$B15,Cal!$AY$5:$AY$20,0)),"*x6*",IF(INDEX(Cal!$O$5:$O$20,MATCH(Sitemap!M15,Cal!$AP$5:$AP$20,0))>0,"*x1*","")),"") | M15: =IFERROR(INDEX(Cal!$AP$5:$AP$36,MATCH(Sitemap!M$6&"-"&Sitemap!$B15,Cal!$AQ$5:$AQ$36,0)),"") | N15: =IFERROR(IF(INDEX(Cal!$Y$5:$Y$20,MATCH(Sitemap!M15,Cal!$AP$5:$AP$20,0))>0,"*x1*",""),IF(COUNTIFS(Cal!$AU$5:$AU$20,Sitemap!M$6,Cal!$AV$5:$AV$20,"<="&Sitemap!$B15,Cal!$AW$5:$AW$20,">="&Sitemap!$B15)>0,"*x2*","")) | O15: =IFERROR(IF(ISNUMBER(MATCH(P$6&"-"&$B15,Cal!$AY$5:$AY$20,0)),"*x6*",IF(INDEX(Cal!$O$5:$O$20,MATCH(Sitemap!P15,Cal!$AP$5:$AP$20,0))>0,"*x1*","")),"") | P15: =IFERROR(INDEX(Cal!$AP$5:$AP$36,MATCH(Sitemap!P$6&"-"&Sitemap!$B15,Cal!$AQ$5:$AQ$36,0)),"") | Q15: =IFERROR(IF(INDEX(Cal!$Y$5:$Y$20,MATCH(Sitemap!P15,Cal!$AP$5:$AP$20,0))>0,"*x1*",""),IF(COUNTIFS(Cal!$AU$5:$AU$20,Sitemap!P$6,Cal!$AV$5:$AV$20,"<="&Sitemap!$B15,Cal!$AW$5:$AW$20,">="&Sitemap!$B15)>0,"*x2*","")) -> *x2* | R15: =IFERROR(IF(ISNUMBER(MATCH(S$6&"-"&$B15,Cal!$AY$5:$AY$20,0)),"*x6*",IF(INDEX(Cal!$O$5:$O$20,MATCH(Sitemap!S15,Cal!$AP$5:$AP$20,0))>0,"*x1*","")),"") | S15: =IFERROR(INDEX(Cal!$AP$5:$AP$36,MATCH(Sitemap!S$6&"-"&Sitemap!$B15,Cal!$AQ$5:$AQ$36,0)),"") -> /blog/seo-tips | T15: =IFERROR(IF(INDEX(Cal!$Y$5:$Y$20,MATCH(Sitemap!S15,Cal!$AP$5:$AP$20,0))>0,"*x1*",""),IF(COUNTIFS(Cal!$AU$5:$AU$20,Sitemap!S$6,Cal!$AV$5:$AV$20,"<="&Sitemap!$B15,Cal!$AW$5:$AW$20,">="&Sitemap!$B15)>0,"*x2*","")) | U15: =IFERROR(IF(ISNUMBER(MATCH(V$6&"-"&$B15,Cal!$AY$5:$AY$20,0)),"*x6*",IF(INDEX(Cal!$O$5:$O$20,MATCH(Sitemap!V15,Cal!$AP$5:$AP$20,0))>0,"*x1*","")),"") | V15: =IFERROR(INDEX(Cal!$AP$5:$AP$36,MATCH(Sitemap!V$6&"-"&Sitemap!$B15,Cal!$AQ$5:$AQ$36,0)),"") | W15: =IFERROR(IF(INDEX(Cal!$Y$5:$Y$20,MATCH(Sitemap!V15,Cal!$AP$5:$AP$20,0))>0,"*x1*",""),IF(COUNTIFS(Cal!$AU$5:$AU$20,Sitemap!V$6,Cal!$AV$5:$AV$20,"<="&Sitemap!$B15,Cal!$AW$5:$AW$20,">="&Sitemap!$B15)>0,"*x2*","")) | X15: =IFERROR(IF(ISNUMBER(MATCH(Y$6&"-"&$B15,Cal!$AY$5:$AY$20,0)),"*x6*",IF(INDEX(Cal!$O$5:$O$20,MATCH(Sitemap!Y15,Cal!$AP$5:$AP$20,0))>0,"*x1*","")),"") | Y15: =IFERROR(INDEX(Cal!$AP$5:$AP$36,MATCH(Sitemap!Y$6&"-"&Sitemap!$B15,Cal!$AQ$5:$AQ$36,0)),"") | Z15: =IFERROR(IF(INDEX(Cal!$Y$5:$Y$20,MATCH(Sitemap!Y15,Cal!$AP$5:$AP$20,0))>0,"*x1*",""),IF(COUNTIFS(Cal!$AU$5:$AU$20,Sitemap!Y$6,Cal!$AV$5:$AV$20,"<="&Sitemap!$B15,Cal!$AW$5:$AW$20,">="&Sitemap!$B15)>0,"*x2*","")) | AA15: =IFERROR(IF(ISNUMBER(MATCH(AB$6&"-"&$B15,Cal!$AY$5:$AY$20,0)),"*x6*",IF(INDEX(Cal!$O$5:$O$20,MATCH(Sitemap!AB15,Cal!$AP$5:$AP$20,0))>0,"*x1*","")),"") | AB15: =IFERROR(INDEX(Cal!$AP$5:$AP$36,MATCH(Sitemap!AB$6&"-"&Sitemap!$B15,Cal!$AQ$5:$AQ$36,0)),"") | AC15: =IFERROR(IF(INDEX(Cal!$Y$5:$Y$20,MATCH(Sitemap!AB15,Cal!$AP$5:$AP$20,0))>0,"*x1*",""),IF(COUNTIFS(Cal!$AU$5:$AU$20,Sitemap!AB$6,Cal!$AV$5:$AV$20,"<="&Sitemap!$B15,Cal!$AW$5:$AW$20,">="&Sitemap!$B15)>0,"*x2*","")) | AD15: =IFERROR(IF(ISNUMBER(MATCH(AE$6&"-"&$B15,Cal!$AY$5:$AY$20,0)),"*x6*",IF(INDEX(Cal!$O$5:$O$20,MATCH(Sitemap!AE15,Cal!$AP$5:$AP$20,0))>0,"*x1*","")),"") | AE15: =IFERROR(INDEX(Cal!$AP$5:$AP$36,MATCH(Sitemap!AE$6&"-"&Sitemap!$B15,Cal!$AQ$5:$AQ$36,0)),"") | AF15: =IFERROR(IF(INDEX(Cal!$Y$5:$Y$20,MATCH(Sitemap!AE15,Cal!$AP$5:$AP$20,0))>0,"*x1*",""),IF(COUNTIFS(Cal!$AU$5:$AU$20,Sitemap!AE$6,Cal!$AV$5:$AV$20,"<="&Sitemap!$B15,Cal!$AW$5:$AW$20,">="&Sitemap!$B15)>0,"*x2*","")) | AG15: =IFERROR(IF(ISNUMBER(MATCH(AH$6&"-"&$B15,Cal!$AY$5:$AY$20,0)),"*x6*",IF(INDEX(Cal!$O$5:$O$20,MATCH(Sitemap!AH15,Cal!$AP$5:$AP$20,0))>0,"*x1*","")),"") | AH15: =IFERROR(INDEX(Cal!$AP$5:$AP$36,MATCH(Sitemap!AH$6&"-"&Sitemap!$B15,Cal!$AQ$5:$AQ$36,0)),"") | AI15: =IFERROR(IF(INDEX(Cal!$Y$5:$Y$20,MATCH(Sitemap!AH15,Cal!$AP$5:$AP$20,0))>0,"*x1*",""),IF(COUNTIFS(Cal!$AU$5:$AU$20,Sitemap!AH$6,Cal!$AV$5:$AV$20,"<="&Sitemap!$B15,Cal!$AW$5:$AW$20,">="&Sitemap!$B15)>0,"*x2*","")) | AJ15: =IFERROR(IF(ISNUMBER(MATCH(AK$6&"-"&$B15,Cal!$AY$5:$AY$20,0)),"*x6*",IF(INDEX(Cal!$O$5:$O$20,MATCH(Sitemap!AK15,Cal!$AP$5:$AP$20,0))>0,"*x1*","")),"") | AK15: =IFERROR(INDEX(Cal!$AP$5:$AP$36,MATCH(Sitemap!AK$6&"-"&Sitemap!$B15,Cal!$AQ$5:$AQ$36,0)),"") | AL15: =IFERROR(IF(INDEX(Cal!$Y$5:$Y$20,MATCH(Sitemap!AK15,Cal!$AP$5:$AP$20,0))>0,"*x1*",""),IF(COUNTIFS(Cal!$AU$5:$AU$20,Sitemap!AK$6,Cal!$AV$5:$AV$20,"<="&Sitemap!$B15,Cal!$AW$5:$AW$20,">="&Sitemap!$B15)>0,"*x2*","")) | AM15: =IFERROR(IF(ISNUMBER(MATCH(AN$6&"-"&$B15,Cal!$AY$5:$AY$20,0)),"*x6*",IF(INDEX(Cal!$O$5:$O$20,MATCH(Sitemap!AN15,Cal!$AP$5:$AP$20,0))>0,"*x1*","")),"") | AN15: =IFERROR(INDEX(Cal!$AP$5:$AP$36,MATCH(Sitemap!AN$6&"-"&Sitemap!$B15,Cal!$AQ$5:$AQ$36,0)),"") | AO15: =IFERROR(IF(INDEX(Cal!$Y$5:$Y$20,MATCH(Sitemap!AN15,Cal!$AP$5:$AP$20,0))>0,"*x1*",""),IF(COUNTIFS(Cal!$AU$5:$AU$20,Sitemap!AN$6,Cal!$AV$5:$AV$20,"<="&Sitemap!$B15,Cal!$AW$5:$AW$20,">="&Sitemap!$B15)>0,"*x2*","")) | AP15: =IFERROR(IF(ISNUMBER(MATCH(AQ$6&"-"&$B15,Cal!$AY$5:$AY$20,0)),"*x6*",IF(INDEX(Cal!$O$5:$O$20,MATCH(Sitemap!AQ15,Cal!$AP$5:$AP$20,0))>0,"*x1*","")),"") | AQ15: =IFERROR(INDEX(Cal!$AP$5:$AP$36,MATCH(Sitemap!AQ$6&"-"&Sitemap!$B15,Cal!$AQ$5:$AQ$36,0)),"") | AR15: =IFERROR(IF(INDEX(Cal!$Y$5:$Y$20,MATCH(Sitemap!AQ15,Cal!$AP$5:$AP$20,0))>0,"*x1*",""),IF(COUNTIFS(Cal!$AU$5:$AU$20,Sitemap!AQ$6,Cal!$AV$5:$AV$20,"<="&Sitemap!$B15,Cal!$AW$5:$AW$20,">="&Sitemap!$B15)>0,"*x2*","")) | AS15: =IFERROR(IF(ISNUMBER(MATCH(AT$6&"-"&$B15,Cal!$AY$5:$AY$20,0)),"*x6*",IF(INDEX(Cal!$O$5:$O$20,MATCH(Sitemap!AT15,Cal!$AP$5:$AP$20,0))>0,"*x1*","")),"") | AT15: =IFERROR(INDEX(Cal!$AP$5:$AP$36,MATCH(Sitemap!AT$6&"-"&Sitemap!$B15,Cal!$AQ$5:$AQ$36,0)),"") | AU15: =IFERROR(IF(INDEX(Cal!$Y$5:$Y$20,MATCH(Sitemap!AT15,Cal!$AP$5:$AP$20,0))>0,"*x1*",""),IF(COUNTIFS(Cal!$AU$5:$AU$20,Sitemap!AT$6,Cal!$AV$5:$AV$20,"<="&Sitemap!$B15,Cal!$AW$5:$AW$20,">="&Sitemap!$B15)>0,"*x2*","")) | AV15: =IFERROR(IF(ISNUMBER(MATCH(#REF!&"-"&$B15,Cal!$AY$5:$AY$20,0)),"*x6*",IF(INDEX(Cal!$O$5:$O$20,MATCH(Sitemap!#REF!,Cal!$AP$5:$AP$20,0))>0,"*x1*","")),"")
B16: 8 | D16: =IFERROR(INDEX(Cal!$AP$5:$AP$36,MATCH(Sitemap!D$6&"-"&Sitemap!$B16,Cal!$AQ$5:$AQ$36,0)),"") | E16: =IFERROR(IF(INDEX(Cal!$Y$5:$Y$20,MATCH(Sitemap!D16,Cal!$AP$5:$AP$20,0))>0,"*x1*",""),IF(COUNTIFS(Cal!$AU$5:$AU$20,Sitemap!D$6,Cal!$AV$5:$AV$20,"<="&Sitemap!$B16,Cal!$AW$5:$AW$20,">="&Sitemap!$B16)>0,"*x2*","")) | F16: =IFERROR(IF(ISNUMBER(MATCH(G$6&"-"&$B16,Cal!$AY$5:$AY$20,0)),"*x6*",IF(INDEX(Cal!$O$5:$O$20,MATCH(Sitemap!G16,Cal!$AP$5:$AP$20,0))>0,"*x1*","")),"") | G16: =IFERROR(INDEX(Cal!$AP$5:$AP$36,MATCH(Sitemap!G$6&"-"&Sitemap!$B16,Cal!$AQ$5:$AQ$36,0)),"") | H16: =IFERROR(IF(INDEX(Cal!$Y$5:$Y$20,MATCH(Sitemap!G16,Cal!$AP$5:$AP$20,0))>0,"*x1*",""),IF(COUNTIFS(Cal!$AU$5:$AU$20,Sitemap!G$6,Cal!$AV$5:$AV$20,"<="&Sitemap!$B16,Cal!$AW$5:$AW$20,">="&Sitemap!$B16)>0,"*x2*","")) -> *x2* | I16: =IFERROR(IF(ISNUMBER(MATCH(J$6&"-"&$B16,Cal!$AY$5:$AY$20,0)),"*x6*",IF(INDEX(Cal!$O$5:$O$20,MATCH(Sitemap!J16,Cal!$AP$5:$AP$20,0))>0,"*x1*","")),"") | J16: =IFERROR(INDEX(Cal!$AP$5:$AP$36,MATCH(Sitemap!J$6&"-"&Sitemap!$B16,Cal!$AQ$5:$AQ$36,0)),"") | K16: =IFERROR(IF(INDEX(Cal!$Y$5:$Y$20,MATCH(Sitemap!J16,Cal!$AP$5:$AP$20,0))>0,"*x1*",""),IF(COUNTIFS(Cal!$AU$5:$AU$20,Sitemap!J$6,Cal!$AV$5:$AV$20,"<="&Sitemap!$B16,Cal!$AW$5:$AW$20,">="&Sitemap!$B16)>0,"*x2*","")) -> *x2* | L16: =IFERROR(IF(ISNUMBER(MATCH(M$6&"-"&$B16,Cal!$AY$5:$AY$20,0)),"*x6*",IF(INDEX(Cal!$O$5:$O$20,MATCH(Sitemap!M16,Cal!$AP$5:$AP$20,0))>0,"*x1*","")),"") | M16: =IFERROR(INDEX(Cal!$AP$5:$AP$36,MATCH(Sitemap!M$6&"-"&Sitemap!$B16,Cal!$AQ$5:$AQ$36,0)),"") | N16: =IFERROR(IF(INDEX(Cal!$Y$5:$Y$20,MATCH(Sitemap!M16,Cal!$AP$5:$AP$20,0))>0,"*x1*",""),IF(COUNTIFS(Cal!$AU$5:$AU$20,Sitemap!M$6,Cal!$AV$5:$AV$20,"<="&Sitemap!$B16,Cal!$AW$5:$AW$20,">="&Sitemap!$B16)>0,"*x2*","")) | O16: =IFERROR(IF(ISNUMBER(MATCH(P$6&"-"&$B16,Cal!$AY$5:$AY$20,0)),"*x6*",IF(INDEX(Cal!$O$5:$O$20,MATCH(Sitemap!P16,Cal!$AP$5:$AP$20,0))>0,"*x1*","")),"") | P16: =IFERROR(INDEX(Cal!$AP$5:$AP$36,MATCH(Sitemap!P$6&"-"&Sitemap!$B16,Cal!$AQ$5:$AQ$36,0)),"") | Q16: =IFERROR(IF(INDEX(Cal!$Y$5:$Y$20,MATCH(Sitemap!P16,Cal!$AP$5:$AP$20,0))>0,"*x1*",""),IF(COUNTIFS(Cal!$AU$5:$AU$20,Sitemap!P$6,Cal!$AV$5:$AV$20,"<="&Sitemap!$B16,Cal!$AW$5:$AW$20,">="&Sitemap!$B16)>0,"*x2*","")) -> *x2* | R16: =IFERROR(IF(ISNUMBER(MATCH(S$6&"-"&$B16,Cal!$AY$5:$AY$20,0)),"*x6*",IF(INDEX(Cal!$O$5:$O$20,MATCH(Sitemap!S16,Cal!$AP$5:$AP$20,0))>0,"*x1*","")),"") | S16: =IFERROR(INDEX(Cal!$AP$5:$AP$36,MATCH(Sitemap!S$6&"-"&Sitemap!$B16,Cal!$AQ$5:$AQ$36,0)),"") | T16: =IFERROR(IF(INDEX(Cal!$Y$5:$Y$20,MATCH(Sitemap!S16,Cal!$AP$5:$AP$20,0))>0,"*x1*",""),IF(COUNTIFS(Cal!$AU$5:$AU$20,Sitemap!S$6,Cal!$AV$5:$AV$20,"<="&Sitemap!$B16,Cal!$AW$5:$AW$20,">="&Sitemap!$B16)>0,"*x2*","")) | U16: =IFERROR(IF(ISNUMBER(MATCH(V$6&"-"&$B16,Cal!$AY$5:$AY$20,0)),"*x6*",IF(INDEX(Cal!$O$5:$O$20,MATCH(Sitemap!V16,Cal!$AP$5:$AP$20,0))>0,"*x1*","")),"") | V16: =IFERROR(INDEX(Cal!$AP$5:$AP$36,MATCH(Sitemap!V$6&"-"&Sitemap!$B16,Cal!$AQ$5:$AQ$36,0)),"") | W16: =IFERROR(IF(INDEX(Cal!$Y$5:$Y$20,MATCH(Sitemap!V16,Cal!$AP$5:$AP$20,0))>0,"*x1*",""),IF(COUNTIFS(Cal!$AU$5:$AU$20,Sitemap!V$6,Cal!$AV$5:$AV$20,"<="&Sitemap!$B16,Cal!$AW$5:$AW$20,">="&Sitemap!$B16)>0,"*x2*","")) | X16: =IFERROR(IF(ISNUMBER(MATCH(Y$6&"-"&$B16,Cal!$AY$5:$AY$20,0)),"*x6*",IF(INDEX(Cal!$O$5:$O$20,MATCH(Sitemap!Y16,Cal!$AP$5:$AP$20,0))>0,"*x1*","")),"") | Y16: =IFERROR(INDEX(Cal!$AP$5:$AP$36,MATCH(Sitemap!Y$6&"-"&Sitemap!$B16,Cal!$AQ$5:$AQ$36,0)),"") | Z16: =IFERROR(IF(INDEX(Cal!$Y$5:$Y$20,MATCH(Sitemap!Y16,Cal!$AP$5:$AP$20,0))>0,"*x1*",""),IF(COUNTIFS(Cal!$AU$5:$AU$20,Sitemap!Y$6,Cal!$AV$5:$AV$20,"<="&Sitemap!$B16,Cal!$AW$5:$AW$20,">="&Sitemap!$B16)>0,"*x2*","")) | AA16: =IFERROR(IF(ISNUMBER(MATCH(AB$6&"-"&$B16,Cal!$AY$5:$AY$20,0)),"*x6*",IF(INDEX(Cal!$O$5:$O$20,MATCH(Sitemap!AB16,Cal!$AP$5:$AP$20,0))>0,"*x1*","")),"") | AB16: =IFERROR(INDEX(Cal!$AP$5:$AP$36,MATCH(Sitemap!AB$6&"-"&Sitemap!$B16,Cal!$AQ$5:$AQ$36,0)),"") | AC16: =IFERROR(IF(INDEX(Cal!$Y$5:$Y$20,MATCH(Sitemap!AB16,Cal!$AP$5:$AP$20,0))>0,"*x1*",""),IF(COUNTIFS(Cal!$AU$5:$AU$20,Sitemap!AB$6,Cal!$AV$5:$AV$20,"<="&Sitemap!$B16,Cal!$AW$5:$AW$20,">="&Sitemap!$B16)>0,"*x2*","")) | AD16: =IFERROR(IF(ISNUMBER(MATCH(AE$6&"-"&$B16,Cal!$AY$5:$AY$20,0)),"*x6*",IF(INDEX(Cal!$O$5:$O$20,MATCH(Sitemap!AE16,Cal!$AP$5:$AP$20,0))>0,"*x1*","")),"") | AE16: =IFERROR(INDEX(Cal!$AP$5:$AP$36,MATCH(Sitemap!AE$6&"-"&Sitemap!$B16,Cal!$AQ$5:$AQ$36,0)),"") | AF16: =IFERROR(IF(INDEX(Cal!$Y$5:$Y$20,MATCH(Sitemap!AE16,Cal!$AP$5:$AP$20,0))>0,"*x1*",""),IF(COUNTIFS(Cal!$AU$5:$AU$20,Sitemap!AE$6,Cal!$AV$5:$AV$20,"<="&Sitemap!$B16,Cal!$AW$5:$AW$20,">="&Sitemap!$B16)>0,"*x2*","")) | AG16: =IFERROR(IF(ISNUMBER(MATCH(AH$6&"-"&$B16,Cal!$AY$5:$AY$20,0)),"*x6*",IF(INDEX(Cal!$O$5:$O$20,MATCH(Sitemap!AH16,Cal!$AP$5:$AP$20,0))>0,"*x1*","")),"") | AH16: =IFERROR(INDEX(Cal!$AP$5:$AP$36,MATCH(Sitemap!AH$6&"-"&Sitemap!$B16,Cal!$AQ$5:$AQ$36,0)),"") | AI16: =IFERROR(IF(INDEX(Cal!$Y$5:$Y$20,MATCH(Sitemap!AH16,Cal!$AP$5:$AP$20,0))>0,"*x1*",""),IF(COUNTIFS(Cal!$AU$5:$AU$20,Sitemap!AH$6,Cal!$AV$5:$AV$20,"<="&Sitemap!$B16,Cal!$AW$5:$AW$20,">="&Sitemap!$B16)>0,"*x2*","")) | AJ16: =IFERROR(IF(ISNUMBER(MATCH(AK$6&"-"&$B16,Cal!$AY$5:$AY$20,0)),"*x6*",IF(INDEX(Cal!$O$5:$O$20,MATCH(Sitemap!AK16,Cal!$AP$5:$AP$20,0))>0,"*x1*","")),"") | AK16: =IFERROR(INDEX(Cal!$AP$5:$AP$36,MATCH(Sitemap!AK$6&"-"&Sitemap!$B16,Cal!$AQ$5:$AQ$36,0)),"") | AL16: =IFERROR(IF(INDEX(Cal!$Y$5:$Y$20,MATCH(Sitemap!AK16,Cal!$AP$5:$AP$20,0))>0,"*x1*",""),IF(COUNTIFS(Cal!$AU$5:$AU$20,Sitemap!AK$6,Cal!$AV$5:$AV$20,"<="&Sitemap!$B16,Cal!$AW$5:$AW$20,">="&Sitemap!$B16)>0,"*x2*","")) | AM16: =IFERROR(IF(ISNUMBER(MATCH(AN$6&"-"&$B16,Cal!$AY$5:$AY$20,0)),"*x6*",IF(INDEX(Cal!$O$5:$O$20,MATCH(Sitemap!AN16,Cal!$AP$5:$AP$20,0))>0,"*x1*","")),"") | AN16: =IFERROR(INDEX(Cal!$AP$5:$AP$36,MATCH(Sitemap!AN$6&"-"&Sitemap!$B16,Cal!$AQ$5:$AQ$36,0)),"") | AO16: =IFERROR(IF(INDEX(Cal!$Y$5:$Y$20,MATCH(Sitemap!AN16,Cal!$AP$5:$AP$20,0))>0,"*x1*",""),IF(COUNTIFS(Cal!$AU$5:$AU$20,Sitemap!AN$6,Cal!$AV$5:$AV$20,"<="&Sitemap!$B16,Cal!$AW$5:$AW$20,">="&Sitemap!$B16)>0,"*x2*","")) | AP16: =IFERROR(IF(ISNUMBER(MATCH(AQ$6&"-"&$B16,Cal!$AY$5:$AY$20,0)),"*x6*",IF(INDEX(Cal!$O$5:$O$20,MATCH(Sitemap!AQ16,Cal!$AP$5:$AP$20,0))>0,"*x1*","")),"") | AQ16: =IFERROR(INDEX(Cal!$AP$5:$AP$36,MATCH(Sitemap!AQ$6&"-"&Sitemap!$B16,Cal!$AQ$5:$AQ$36,0)),"") | AR16: =IFERROR(IF(INDEX(Cal!$Y$5:$Y$20,MATCH(Sitemap!AQ16,Cal!$AP$5:$AP$20,0))>0,"*x1*",""),IF(COUNTIFS(Cal!$AU$5:$AU$20,Sitemap!AQ$6,Cal!$AV$5:$AV$20,"<="&Sitemap!$B16,Cal!$AW$5:$AW$20,">="&Sitemap!$B16)>0,"*x2*","")) | AS16: =IFERROR(IF(ISNUMBER(MATCH(AT$6&"-"&$B16,Cal!$AY$5:$AY$20,0)),"*x6*",IF(INDEX(Cal!$O$5:$O$20,MATCH(Sitemap!AT16,Cal!$AP$5:$AP$20,0))>0,"*x1*","")),"") | AT16: =IFERROR(INDEX(Cal!$AP$5:$AP$36,MATCH(Sitemap!AT$6&"-"&Sitemap!$B16,Cal!$AQ$5:$AQ$36,0)),"") | AU16: =IFERROR(IF(INDEX(Cal!$Y$5:$Y$20,MATCH(Sitemap!AT16,Cal!$AP$5:$AP$20,0))>0,"*x1*",""),IF(COUNTIFS(Cal!$AU$5:$AU$20,Sitemap!AT$6,Cal!$AV$5:$AV$20,"<="&Sitemap!$B16,Cal!$AW$5:$AW$20,">="&Sitemap!$B16)>0,"*x2*","")) | AV16: =IFERROR(IF(ISNUMBER(MATCH(#REF!&"-"&$B16,Cal!$AY$5:$AY$20,0)),"*x6*",IF(INDEX(Cal!$O$5:$O$20,MATCH(Sitemap!#REF!,Cal!$AP$5:$AP$20,0))>0,"*x1*","")),"")
B17: 9 | D17: =IFERROR(INDEX(Cal!$AP$5:$AP$36,MATCH(Sitemap!D$6&"-"&Sitemap!$B17,Cal!$AQ$5:$AQ$36,0)),"") | E17: =IFERROR(IF(INDEX(Cal!$Y$5:$Y$20,MATCH(Sitemap!D17,Cal!$AP$5:$AP$20,0))>0,"*x1*",""),IF(COUNTIFS(Cal!$AU$5:$AU$20,Sitemap!D$6,Cal!$AV$5:$AV$20,"<="&Sitemap!$B17,Cal!$AW$5:$AW$20,">="&Sitemap!$B17)>0,"*x2*","")) | F17: =IFERROR(IF(ISNUMBER(MATCH(G$6&"-"&$B17,Cal!$AY$5:$AY$20,0)),"*x6*",IF(INDEX(Cal!$O$5:$O$20,MATCH(Sitemap!G17,Cal!$AP$5:$AP$20,0))>0,"*x1*","")),"") | G17: =IFERROR(INDEX(Cal!$AP$5:$AP$36,MATCH(Sitemap!G$6&"-"&Sitemap!$B17,Cal!$AQ$5:$AQ$36,0)),"") | H17: =IFERROR(IF(INDEX(Cal!$Y$5:$Y$20,MATCH(Sitemap!G17,Cal!$AP$5:$AP$20,0))>0,"*x1*",""),IF(COUNTIFS(Cal!$AU$5:$AU$20,Sitemap!G$6,Cal!$AV$5:$AV$20,"<="&Sitemap!$B17,Cal!$AW$5:$AW$20,">="&Sitemap!$B17)>0,"*x2*","")) -> *x2* | I17: =IFERROR(IF(ISNUMBER(MATCH(J$6&"-"&$B17,Cal!$AY$5:$AY$20,0)),"*x6*",IF(INDEX(Cal!$O$5:$O$20,MATCH(Sitemap!J17,Cal!$AP$5:$AP$20,0))>0,"*x1*","")),"") | J17: =IFERROR(INDEX(Cal!$AP$5:$AP$36,MATCH(Sitemap!J$6&"-"&Sitemap!$B17,Cal!$AQ$5:$AQ$36,0)),"") | K17: =IFERROR(IF(INDEX(Cal!$Y$5:$Y$20,MATCH(Sitemap!J17,Cal!$AP$5:$AP$20,0))>0,"*x1*",""),IF(COUNTIFS(Cal!$AU$5:$AU$20,Sitemap!J$6,Cal!$AV$5:$AV$20,"<="&Sitemap!$B17,Cal!$AW$5:$AW$20,">="&Sitemap!$B17)>0,"*x2*","")) -> *x2* | L17: =IFERROR(IF(ISNUMBER(MATCH(M$6&"-"&$B17,Cal!$AY$5:$AY$20,0)),"*x6*",IF(INDEX(Cal!$O$5:$O$20,MATCH(Sitemap!M17,Cal!$AP$5:$AP$20,0))>0,"*x1*","")),"") -> *x1* | M17: =IFERROR(INDEX(Cal!$AP$5:$AP$36,MATCH(Sitemap!M$6&"-"&Sitemap!$B17,Cal!$AQ$5:$AQ$36,0)),"") -> 5-ppc | N17: =IFERROR(IF(INDEX(Cal!$Y$5:$Y$20,MATCH(Sitemap!M17,Cal!$AP$5:$AP$20,0))>0,"*x1*",""),IF(COUNTIFS(Cal!$AU$5:$AU$20,Sitemap!M$6,Cal!$AV$5:$AV$20,"<="&Sitemap!$B17,Cal!$AW$5:$AW$20,">="&Sitemap!$B17)>0,"*x2*","")) | O17: =IFERROR(IF(ISNUMBER(MATCH(P$6&"-"&$B17,Cal!$AY$5:$AY$20,0)),"*x6*",IF(INDEX(Cal!$O$5:$O$20,MATCH(Sitemap!P17,Cal!$AP$5:$AP$20,0))>0,"*x1*","")),"") | P17: =IFERROR(INDEX(Cal!$AP$5:$AP$36,MATCH(Sitemap!P$6&"-"&Sitemap!$B17,Cal!$AQ$5:$AQ$36,0)),"") | Q17: =IFERROR(IF(INDEX(Cal!$Y$5:$Y$20,MATCH(Sitemap!P17,Cal!$AP$5:$AP$20,0))>0,"*x1*",""),IF(COUNTIFS(Cal!$AU$5:$AU$20,Sitemap!P$6,Cal!$AV$5:$AV$20,"<="&Sitemap!$B17,Cal!$AW$5:$AW$20,">="&Sitemap!$B17)>0,"*x2*","")) -> *x2* | R17: =IFERROR(IF(ISNUMBER(MATCH(S$6&"-"&$B17,Cal!$AY$5:$AY$20,0)),"*x6*",IF(INDEX(Cal!$O$5:$O$20,MATCH(Sitemap!S17,Cal!$AP$5:$AP$20,0))>0,"*x1*","")),"") -> *x1* | S17: =IFERROR(INDEX(Cal!$AP$5:$AP$36,MATCH(Sitemap!S$6&"-"&Sitemap!$B17,Cal!$AQ$5:$AQ$36,0)),"") -> 11-ppc-tips | T17: =IFERROR(IF(INDEX(Cal!$Y$5:$Y$20,MATCH(Sitemap!S17,Cal!$AP$5:$AP$20,0))>0,"*x1*",""),IF(COUNTIFS(Cal!$AU$5:$AU$20,Sitemap!S$6,Cal!$AV$5:$AV$20,"<="&Sitemap!$B17,Cal!$AW$5:$AW$20,">="&Sitemap!$B17)>0,"*x2*","")) | U17: =IFERROR(IF(ISNUMBER(MATCH(V$6&"-"&$B17,Cal!$AY$5:$AY$20,0)),"*x6*",IF(INDEX(Cal!$O$5:$O$20,MATCH(Sitemap!V17,Cal!$AP$5:$AP$20,0))>0,"*x1*","")),"") | V17: =IFERROR(INDEX(Cal!$AP$5:$AP$36,MATCH(Sitemap!V$6&"-"&Sitemap!$B17,Cal!$AQ$5:$AQ$36,0)),"") | W17: =IFERROR(IF(INDEX(Cal!$Y$5:$Y$20,MATCH(Sitemap!V17,Cal!$AP$5:$AP$20,0))>0,"*x1*",""),IF(COUNTIFS(Cal!$AU$5:$AU$20,Sitemap!V$6,Cal!$AV$5:$AV$20,"<="&Sitemap!$B17,Cal!$AW$5:$AW$20,">="&Sitemap!$B17)>0,"*x2*","")) | X17: =IFERROR(IF(ISNUMBER(MATCH(Y$6&"-"&$B17,Cal!$AY$5:$AY$20,0)),"*x6*",IF(INDEX(Cal!$O$5:$O$20,MATCH(Sitemap!Y17,Cal!$AP$5:$AP$20,0))>0,"*x1*","")),"") | Y17: =IFERROR(INDEX(Cal!$AP$5:$AP$36,MATCH(Sitemap!Y$6&"-"&Sitemap!$B17,Cal!$AQ$5:$AQ$36,0)),"") | Z17: =IFERROR(IF(INDEX(Cal!$Y$5:$Y$20,MATCH(Sitemap!Y17,Cal!$AP$5:$AP$20,0))>0,"*x1*",""),IF(COUNTIFS(Cal!$AU$5:$AU$20,Sitemap!Y$6,Cal!$AV$5:$AV$20,"<="&Sitemap!$B17,Cal!$AW$5:$AW$20,">="&Sitemap!$B17)>0,"*x2*","")) | AA17: =IFERROR(IF(ISNUMBER(MATCH(AB$6&"-"&$B17,Cal!$AY$5:$AY$20,0)),"*x6*",IF(INDEX(Cal!$O$5:$O$20,MATCH(Sitemap!AB17,Cal!$AP$5:$AP$20,0))>0,"*x1*","")),"") | AB17: =IFERROR(INDEX(Cal!$AP$5:$AP$36,MATCH(Sitemap!AB$6&"-"&Sitemap!$B17,Cal!$AQ$5:$AQ$36,0)),"") | AC17: =IFERROR(IF(INDEX(Cal!$Y$5:$Y$20,MATCH(Sitemap!AB17,Cal!$AP$5:$AP$20,0))>0,"*x1*",""),IF(COUNTIFS(Cal!$AU$5:$AU$20,Sitemap!AB$6,Cal!$AV$5:$AV$20,"<="&Sitemap!$B17,Cal!$AW$5:$AW$20,">="&Sitemap!$B17)>0,"*x2*","")) | AD17: =IFERROR(IF(ISNUMBER(MATCH(AE$6&"-"&$B17,Cal!$AY$5:$AY$20,0)),"*x6*",IF(INDEX(Cal!$O$5:$O$20,MATCH(Sitemap!AE17,Cal!$AP$5:$AP$20,0))>0,"*x1*","")),"") | AE17: =IFERROR(INDEX(Cal!$AP$5:$AP$36,MATCH(Sitemap!AE$6&"-"&Sitemap!$B17,Cal!$AQ$5:$AQ$36,0)),"") | AF17: =IFERROR(IF(INDEX(Cal!$Y$5:$Y$20,MATCH(Sitemap!AE17,Cal!$AP$5:$AP$20,0))>0,"*x1*",""),IF(COUNTIFS(Cal!$AU$5:$AU$20,Sitemap!AE$6,Cal!$AV$5:$AV$20,"<="&Sitemap!$B17,Cal!$AW$5:$AW$20,">="&Sitemap!$B17)>0,"*x2*","")) | AG17: =IFERROR(IF(ISNUMBER(MATCH(AH$6&"-"&$B17,Cal!$AY$5:$AY$20,0)),"*x6*",IF(INDEX(Cal!$O$5:$O$20,MATCH(Sitemap!AH17,Cal!$AP$5:$AP$20,0))>0,"*x1*","")),"") | AH17: =IFERROR(INDEX(Cal!$AP$5:$AP$36,MATCH(Sitemap!AH$6&"-"&Sitemap!$B17,Cal!$AQ$5:$AQ$36,0)),"") | AI17: =IFERROR(IF(INDEX(Cal!$Y$5:$Y$20,MATCH(Sitemap!AH17,Cal!$AP$5:$AP$20,0))>0,"*x1*",""),IF(COUNTIFS(Cal!$AU$5:$AU$20,Sitemap!AH$6,Cal!$AV$5:$AV$20,"<="&Sitemap!$B17,Cal!$AW$5:$AW$20,">="&Sitemap!$B17)>0,"*x2*","")) | AJ17: =IFERROR(IF(ISNUMBER(MATCH(AK$6&"-"&$B17,Cal!$AY$5:$AY$20,0)),"*x6*",IF(INDEX(Cal!$O$5:$O$20,MATCH(Sitemap!AK17,Cal!$AP$5:$AP$20,0))>0,"*x1*","")),"") | AK17: =IFERROR(INDEX(Cal!$AP$5:$AP$36,MATCH(Sitemap!AK$6&"-"&Sitemap!$B17,Cal!$AQ$5:$AQ$36,0)),"") | AL17: =IFERROR(IF(INDEX(Cal!$Y$5:$Y$20,MATCH(Sitemap!AK17,Cal!$AP$5:$AP$20,0))>0,"*x1*",""),IF(COUNTIFS(Cal!$AU$5:$AU$20,Sitemap!AK$6,Cal!$AV$5:$AV$20,"<="&Sitemap!$B17,Cal!$AW$5:$AW$20,">="&Sitemap!$B17)>0,"*x2*","")) | AM17: =IFERROR(IF(ISNUMBER(MATCH(AN$6&"-"&$B17,Cal!$AY$5:$AY$20,0)),"*x6*",IF(INDEX(Cal!$O$5:$O$20,MATCH(Sitemap!AN17,Cal!$AP$5:$AP$20,0))>0,"*x1*","")),"") | AN17: =IFERROR(INDEX(Cal!$AP$5:$AP$36,MATCH(Sitemap!AN$6&"-"&Sitemap!$B17,Cal!$AQ$5:$AQ$36,0)),"") | AO17: =IFERROR(IF(INDEX(Cal!$Y$5:$Y$20,MATCH(Sitemap!AN17,Cal!$AP$5:$AP$20,0))>0,"*x1*",""),IF(COUNTIFS(Cal!$AU$5:$AU$20,Sitemap!AN$6,Cal!$AV$5:$AV$20,"<="&Sitemap!$B17,Cal!$AW$5:$AW$20,">="&Sitemap!$B17)>0,"*x2*","")) | AP17: =IFERROR(IF(ISNUMBER(MATCH(AQ$6&"-"&$B17,Cal!$AY$5:$AY$20,0)),"*x6*",IF(INDEX(Cal!$O$5:$O$20,MATCH(Sitemap!AQ17,Cal!$AP$5:$AP$20,0))>0,"*x1*","")),"") | AQ17: =IFERROR(INDEX(Cal!$AP$5:$AP$36,MATCH(Sitemap!AQ$6&"-"&Sitemap!$B17,Cal!$AQ$5:$AQ$36,0)),"") | AR17: =IFERROR(IF(INDEX(Cal!$Y$5:$Y$20,MATCH(Sitemap!AQ17,Cal!$AP$5:$AP$20,0))>0,"*x1*",""),IF(COUNTIFS(Cal!$AU$5:$AU$20,Sitemap!AQ$6,Cal!$AV$5:$AV$20,"<="&Sitemap!$B17,Cal!$AW$5:$AW$20,">="&Sitemap!$B17)>0,"*x2*","")) | AS17: =IFERROR(IF(ISNUMBER(MATCH(AT$6&"-"&$B17,Cal!$AY$5:$AY$20,0)),"*x6*",IF(INDEX(Cal!$O$5:$O$20,MATCH(Sitemap!AT17,Cal!$AP$5:$AP$20,0))>0,"*x1*","")),"") | AT17: =IFERROR(INDEX(Cal!$AP$5:$AP$36,MATCH(Sitemap!AT$6&"-"&Sitemap!$B17,Cal!$AQ$5:$AQ$36,0)),"") | AU17: =IFERROR(IF(INDEX(Cal!$Y$5:$Y$20,MATCH(Sitemap!AT17,Cal!$AP$5:$AP$20,0))>0,"*x1*",""),IF(COUNTIFS(Cal!$AU$5:$AU$20,Sitemap!AT$6,Cal!$AV$5:$AV$20,"<="&Sitemap!$B17,Cal!$AW$5:$AW$20,">="&Sitemap!$B17)>0,"*x2*","")) | AV17: =IFERROR(IF(ISNUMBER(MATCH(#REF!&"-"&$B17,Cal!$AY$5:$AY$20,0)),"*x6*",IF(INDEX(Cal!$O$5:$O$20,MATCH(Sitemap!#REF!,Cal!$AP$5:$AP$20,0))>0,"*x1*","")),"")
B18: 10 | D18: =IFERROR(INDEX(Cal!$AP$5:$AP$36,MATCH(Sitemap!D$6&"-"&Sitemap!$B18,Cal!$AQ$5:$AQ$36,0)),"") | E18: =IFERROR(IF(INDEX(Cal!$Y$5:$Y$20,MATCH(Sitemap!D18,Cal!$AP$5:$AP$20,0))>0,"*x1*",""),IF(COUNTIFS(Cal!$AU$5:$AU$20,Sitemap!D$6,Cal!$AV$5:$AV$20,"<="&Sitemap!$B18,Cal!$AW$5:$AW$20,">="&Sitemap!$B18)>0,"*x2*","")) | F18: =IFERROR(IF(ISNUMBER(MATCH(G$6&"-"&$B18,Cal!$AY$5:$AY$20,0)),"*x6*",IF(INDEX(Cal!$O$5:$O$20,MATCH(Sitemap!G18,Cal!$AP$5:$AP$20,0))>0,"*x1*","")),"") | G18: =IFERROR(INDEX(Cal!$AP$5:$AP$36,MATCH(Sitemap!G$6&"-"&Sitemap!$B18,Cal!$AQ$5:$AQ$36,0)),"") | H18: =IFERROR(IF(INDEX(Cal!$Y$5:$Y$20,MATCH(Sitemap!G18,Cal!$AP$5:$AP$20,0))>0,"*x1*",""),IF(COUNTIFS(Cal!$AU$5:$AU$20,Sitemap!G$6,Cal!$AV$5:$AV$20,"<="&Sitemap!$B18,Cal!$AW$5:$AW$20,">="&Sitemap!$B18)>0,"*x2*","")) -> *x2* | I18: =IFERROR(IF(ISNUMBER(MATCH(J$6&"-"&$B18,Cal!$AY$5:$AY$20,0)),"*x6*",IF(INDEX(Cal!$O$5:$O$20,MATCH(Sitemap!J18,Cal!$AP$5:$AP$20,0))>0,"*x1*","")),"") | J18: =IFERROR(INDEX(Cal!$AP$5:$AP$36,MATCH(Sitemap!J$6&"-"&Sitemap!$B18,Cal!$AQ$5:$AQ$36,0)),"") | K18: =IFERROR(IF(INDEX(Cal!$Y$5:$Y$20,MATCH(Sitemap!J18,Cal!$AP$5:$AP$20,0))>0,"*x1*",""),IF(COUNTIFS(Cal!$AU$5:$AU$20,Sitemap!J$6,Cal!$AV$5:$AV$20,"<="&Sitemap!$B18,Cal!$AW$5:$AW$20,">="&Sitemap!$B18)>0,"*x2*","")) -> *x2* | L18: =IFERROR(IF(ISNUMBER(MATCH(M$6&"-"&$B18,Cal!$AY$5:$AY$20,0)),"*x6*",IF(INDEX(Cal!$O$5:$O$20,MATCH(Sitemap!M18,Cal!$AP$5:$AP$20,0))>0,"*x1*","")),"") | M18: =IFERROR(INDEX(Cal!$AP$5:$AP$36,MATCH(Sitemap!M$6&"-"&Sitemap!$B18,Cal!$AQ$5:$AQ$36,0)),"") -> /services/marketing/ppc | N18: =IFERROR(IF(INDEX(Cal!$Y$5:$Y$20,MATCH(Sitemap!M18,Cal!$AP$5:$AP$20,0))>0,"*x1*",""),IF(COUNTIFS(Cal!$AU$5:$AU$20,Sitemap!M$6,Cal!$AV$5:$AV$20,"<="&Sitemap!$B18,Cal!$AW$5:$AW$20,">="&Sitemap!$B18)>0,"*x2*","")) | O18: =IFERROR(IF(ISNUMBER(MATCH(P$6&"-"&$B18,Cal!$AY$5:$AY$20,0)),"*x6*",IF(INDEX(Cal!$O$5:$O$20,MATCH(Sitemap!P18,Cal!$AP$5:$AP$20,0))>0,"*x1*","")),"") | P18: =IFERROR(INDEX(Cal!$AP$5:$AP$36,MATCH(Sitemap!P$6&"-"&Sitemap!$B18,Cal!$AQ$5:$AQ$36,0)),"") | Q18: =IFERROR(IF(INDEX(Cal!$Y$5:$Y$20,MATCH(Sitemap!P18,Cal!$AP$5:$AP$20,0))>0,"*x1*",""),IF(COUNTIFS(Cal!$AU$5:$AU$20,Sitemap!P$6,Cal!$AV$5:$AV$20,"<="&Sitemap!$B18,Cal!$AW$5:$AW$20,">="&Sitemap!$B18)>0,"*x2*","")) -> *x2* | R18: =IFERROR(IF(ISNUMBER(MATCH(S$6&"-"&$B18,Cal!$AY$5:$AY$20,0)),"*x6*",IF(INDEX(Cal!$O$5:$O$20,MATCH(Sitemap!S18,Cal!$AP$5:$AP$20,0))>0,"*x1*","")),"") | S18: =IFERROR(INDEX(Cal!$AP$5:$AP$36,MATCH(Sitemap!S$6&"-"&Sitemap!$B18,Cal!$AQ$5:$AQ$36,0)),"") -> /blog/ppc-tips | T18: =IFERROR(IF(INDEX(Cal!$Y$5:$Y$20,MATCH(Sitemap!S18,Cal!$AP$5:$AP$20,0))>0,"*x1*",""),IF(COUNTIFS(Cal!$AU$5:$AU$20,Sitemap!S$6,Cal!$AV$5:$AV$20,"<="&Sitemap!$B18,Cal!$AW$5:$AW$20,">="&Sitemap!$B18)>0,"*x2*","")) | U18: =IFERROR(IF(ISNUMBER(MATCH(V$6&"-"&$B18,Cal!$AY$5:$AY$20,0)),"*x6*",IF(INDEX(Cal!$O$5:$O$20,MATCH(Sitemap!V18,Cal!$AP$5:$AP$20,0))>0,"*x1*","")),"") | V18: =IFERROR(INDEX(Cal!$AP$5:$AP$36,MATCH(Sitemap!V$6&"-"&Sitemap!$B18,Cal!$AQ$5:$AQ$36,0)),"") | W18: =IFERROR(IF(INDEX(Cal!$Y$5:$Y$20,MATCH(Sitemap!V18,Cal!$AP$5:$AP$20,0))>0,"*x1*",""),IF(COUNTIFS(Cal!$AU$5:$AU$20,Sitemap!V$6,Cal!$AV$5:$AV$20,"<="&Sitemap!$B18,Cal!$AW$5:$AW$20,">="&Sitemap!$B18)>0,"*x2*","")) | X18: =IFERROR(IF(ISNUMBER(MATCH(Y$6&"-"&$B18,Cal!$AY$5:$AY$20,0)),"*x6*",IF(INDEX(Cal!$O$5:$O$20,MATCH(Sitemap!Y18,Cal!$AP$5:$AP$20,0))>0,"*x1*","")),"") | Y18: =IFERROR(INDEX(Cal!$AP$5:$AP$36,MATCH(Sitemap!Y$6&"-"&Sitemap!$B18,Cal!$AQ$5:$AQ$36,0)),"") | Z18: =IFERROR(IF(INDEX(Cal!$Y$5:$Y$20,MATCH(Sitemap!Y18,Cal!$AP$5:$AP$20,0))>0,"*x1*",""),IF(COUNTIFS(Cal!$AU$5:$AU$20,Sitemap!Y$6,Cal!$AV$5:$AV$20,"<="&Sitemap!$B18,Cal!$AW$5:$AW$20,">="&Sitemap!$B18)>0,"*x2*","")) | AA18: =IFERROR(IF(ISNUMBER(MATCH(AB$6&"-"&$B18,Cal!$AY$5:$AY$20,0)),"*x6*",IF(INDEX(Cal!$O$5:$O$20,MATCH(Sitemap!AB18,Cal!$AP$5:$AP$20,0))>0,"*x1*","")),"") | AB18: =IFERROR(INDEX(Cal!$AP$5:$AP$36,MATCH(Sitemap!AB$6&"-"&Sitemap!$B18,Cal!$AQ$5:$AQ$36,0)),"") | AC18: =IFERROR(IF(INDEX(Cal!$Y$5:$Y$20,MATCH(Sitemap!AB18,Cal!$AP$5:$AP$20,0))>0,"*x1*",""),IF(COUNTIFS(Cal!$AU$5:$AU$20,Sitemap!AB$6,Cal!$AV$5:$AV$20,"<="&Sitemap!$B18,Cal!$AW$5:$AW$20,">="&Sitemap!$B18)>0,"*x2*","")) | AD18: =IFERROR(IF(ISNUMBER(MATCH(AE$6&"-"&$B18,Cal!$AY$5:$AY$20,0)),"*x6*",IF(INDEX(Cal!$O$5:$O$20,MATCH(Sitemap!AE18,Cal!$AP$5:$AP$20,0))>0,"*x1*","")),"") | AE18: =IFERROR(INDEX(Cal!$AP$5:$AP$36,MATCH(Sitemap!AE$6&"-"&Sitemap!$B18,Cal!$AQ$5:$AQ$36,0)),"") | AF18: =IFERROR(IF(INDEX(Cal!$Y$5:$Y$20,MATCH(Sitemap!AE18,Cal!$AP$5:$AP$20,0))>0,"*x1*",""),IF(COUNTIFS(Cal!$AU$5:$AU$20,Sitemap!AE$6,Cal!$AV$5:$AV$20,"<="&Sitemap!$B18,Cal!$AW$5:$AW$20,">="&Sitemap!$B18)>0,"*x2*","")) | AG18: =IFERROR(IF(ISNUMBER(MATCH(AH$6&"-"&$B18,Cal!$AY$5:$AY$20,0)),"*x6*",IF(INDEX(Cal!$O$5:$O$20,MATCH(Sitemap!AH18,Cal!$AP$5:$AP$20,0))>0,"*x1*","")),"") | AH18: =IFERROR(INDEX(Cal!$AP$5:$AP$36,MATCH(Sitemap!AH$6&"-"&Sitemap!$B18,Cal!$AQ$5:$AQ$36,0)),"") | AI18: =IFERROR(IF(INDEX(Cal!$Y$5:$Y$20,MATCH(Sitemap!AH18,Cal!$AP$5:$AP$20,0))>0,"*x1*",""),IF(COUNTIFS(Cal!$AU$5:$AU$20,Sitemap!AH$6,Cal!$AV$5:$AV$20,"<="&Sitemap!$B18,Cal!$AW$5:$AW$20,">="&Sitemap!$B18)>0,"*x2*","")) | AJ18: =IFERROR(IF(ISNUMBER(MATCH(AK$6&"-"&$B18,Cal!$AY$5:$AY$20,0)),"*x6*",IF(INDEX(Cal!$O$5:$O$20,MATCH(Sitemap!AK18,Cal!$AP$5:$AP$20,0))>0,"*x1*","")),"") | AK18: =IFERROR(INDEX(Cal!$AP$5:$AP$36,MATCH(Sitemap!AK$6&"-"&Sitemap!$B18,Cal!$AQ$5:$AQ$36,0)),"") | AL18: =IFERROR(IF(INDEX(Cal!$Y$5:$Y$20,MATCH(Sitemap!AK18,Cal!$AP$5:$AP$20,0))>0,"*x1*",""),IF(COUNTIFS(Cal!$AU$5:$AU$20,Sitemap!AK$6,Cal!$AV$5:$AV$20,"<="&Sitemap!$B18,Cal!$AW$5:$AW$20,">="&Sitemap!$B18)>0,"*x2*","")) | AM18: =IFERROR(IF(ISNUMBER(MATCH(AN$6&"-"&$B18,Cal!$AY$5:$AY$20,0)),"*x6*",IF(INDEX(Cal!$O$5:$O$20,MATCH(Sitemap!AN18,Cal!$AP$5:$AP$20,0))>0,"*x1*","")),"") | AN18: =IFERROR(INDEX(Cal!$AP$5:$AP$36,MATCH(Sitemap!AN$6&"-"&Sitemap!$B18,Cal!$AQ$5:$AQ$36,0)),"") | AO18: =IFERROR(IF(INDEX(Cal!$Y$5:$Y$20,MATCH(Sitemap!AN18,Cal!$AP$5:$AP$20,0))>0,"*x1*",""),IF(COUNTIFS(Cal!$AU$5:$AU$20,Sitemap!AN$6,Cal!$AV$5:$AV$20,"<="&Sitemap!$B18,Cal!$AW$5:$AW$20,">="&Sitemap!$B18)>0,"*x2*","")) | AP18: =IFERROR(IF(ISNUMBER(MATCH(AQ$6&"-"&$B18,Cal!$AY$5:$AY$20,0)),"*x6*",IF(INDEX(Cal!$O$5:$O$20,MATCH(Sitemap!AQ18,Cal!$AP$5:$AP$20,0))>0,"*x1*","")),"") | AQ18: =IFERROR(INDEX(Cal!$AP$5:$AP$36,MATCH(Sitemap!AQ$6&"-"&Sitemap!$B18,Cal!$AQ$5:$AQ$36,0)),"") | AR18: =IFERROR(IF(INDEX(Cal!$Y$5:$Y$20,MATCH(Sitemap!AQ18,Cal!$AP$5:$AP$20,0))>0,"*x1*",""),IF(COUNTIFS(Cal!$AU$5:$AU$20,Sitemap!AQ$6,Cal!$AV$5:$AV$20,"<="&Sitemap!$B18,Cal!$AW$5:$AW$20,">="&Sitemap!$B18)>0,"*x2*","")) | AS18: =IFERROR(IF(ISNUMBER(MATCH(AT$6&"-"&$B18,Cal!$AY$5:$AY$20,0)),"*x6*",IF(INDEX(Cal!$O$5:$O$20,MATCH(Sitemap!AT18,Cal!$AP$5:$AP$20,0))>0,"*x1*","")),"") | AT18: =IFERROR(INDEX(Cal!$AP$5:$AP$36,MATCH(Sitemap!AT$6&"-"&Sitemap!$B18,Cal!$AQ$5:$AQ$36,0)),"") | AU18: =IFERROR(IF(INDEX(Cal!$Y$5:$Y$20,MATCH(Sitemap!AT18,Cal!$AP$5:$AP$20,0))>0,"*x1*",""),IF(COUNTIFS(Cal!$AU$5:$AU$20,Sitemap!AT$6,Cal!$AV$5:$AV$20,"<="&Sitemap!$B18,Cal!$AW$5:$AW$20,">="&Sitemap!$B18)>0,"*x2*","")) | AV18: =IFERROR(IF(ISNUMBER(MATCH(#REF!&"-"&$B18,Cal!$AY$5:$AY$20,0)),"*x6*",IF(INDEX(Cal!$O$5:$O$20,MATCH(Sitemap!#REF!,Cal!$AP$5:$AP$20,0))>0,"*x1*","")),"")
B19: 11 | D19: =IFERROR(INDEX(Cal!$AP$5:$AP$36,MATCH(Sitemap!D$6&"-"&Sitemap!$B19,Cal!$AQ$5:$AQ$36,0)),"") | E19: =IFERROR(IF(INDEX(Cal!$Y$5:$Y$20,MATCH(Sitemap!D19,Cal!$AP$5:$AP$20,0))>0,"*x1*",""),IF(COUNTIFS(Cal!$AU$5:$AU$20,Sitemap!D$6,Cal!$AV$5:$AV$20,"<="&Sitemap!$B19,Cal!$AW$5:$AW$20,">="&Sitemap!$B19)>0,"*x2*","")) | F19: =IFERROR(IF(ISNUMBER(MATCH(G$6&"-"&$B19,Cal!$AY$5:$AY$20,0)),"*x6*",IF(INDEX(Cal!$O$5:$O$20,MATCH(Sitemap!G19,Cal!$AP$5:$AP$20,0))>0,"*x1*","")),"") | G19: =IFERROR(INDEX(Cal!$AP$5:$AP$36,MATCH(Sitemap!G$6&"-"&Sitemap!$B19,Cal!$AQ$5:$AQ$36,0)),"") | H19: =IFERROR(IF(INDEX(Cal!$Y$5:$Y$20,MATCH(Sitemap!G19,Cal!$AP$5:$AP$20,0))>0,"*x1*",""),IF(COUNTIFS(Cal!$AU$5:$AU$20,Sitemap!G$6,Cal!$AV$5:$AV$20,"<="&Sitemap!$B19,Cal!$AW$5:$AW$20,">="&Sitemap!$B19)>0,"*x2*","")) -> *x2* | I19: =IFERROR(IF(ISNUMBER(MATCH(J$6&"-"&$B19,Cal!$AY$5:$AY$20,0)),"*x6*",IF(INDEX(Cal!$O$5:$O$20,MATCH(Sitemap!J19,Cal!$AP$5:$AP$20,0))>0,"*x1*","")),"") | J19: =IFERROR(INDEX(Cal!$AP$5:$AP$36,MATCH(Sitemap!J$6&"-"&Sitemap!$B19,Cal!$AQ$5:$AQ$36,0)),"") | K19: =IFERROR(IF(INDEX(Cal!$Y$5:$Y$20,MATCH(Sitemap!J19,Cal!$AP$5:$AP$20,0))>0,"*x1*",""),IF(COUNTIFS(Cal!$AU$5:$AU$20,Sitemap!J$6,Cal!$AV$5:$AV$20,"<="&Sitemap!$B19,Cal!$AW$5:$AW$20,">="&Sitemap!$B19)>0,"*x2*","")) -> *x2* | L19: =IFERROR(IF(ISNUMBER(MATCH(M$6&"-"&$B19,Cal!$AY$5:$AY$20,0)),"*x6*",IF(INDEX(Cal!$O$5:$O$20,MATCH(Sitemap!M19,Cal!$AP$5:$AP$20,0))>0,"*x1*","")),"") | M19: =IFERROR(INDEX(Cal!$AP$5:$AP$36,MATCH(Sitemap!M$6&"-"&Sitemap!$B19,Cal!$AQ$5:$AQ$36,0)),"") | N19: =IFERROR(IF(INDEX(Cal!$Y$5:$Y$20,MATCH(Sitemap!M19,Cal!$AP$5:$AP$20,0))>0,"*x1*",""),IF(COUNTIFS(Cal!$AU$5:$AU$20,Sitemap!M$6,Cal!$AV$5:$AV$20,"<="&Sitemap!$B19,Cal!$AW$5:$AW$20,">="&Sitemap!$B19)>0,"*x2*","")) | O19: =IFERROR(IF(ISNUMBER(MATCH(P$6&"-"&$B19,Cal!$AY$5:$AY$20,0)),"*x6*",IF(INDEX(Cal!$O$5:$O$20,MATCH(Sitemap!P19,Cal!$AP$5:$AP$20,0))>0,"*x1*","")),"") | P19: =IFERROR(INDEX(Cal!$AP$5:$AP$36,MATCH(Sitemap!P$6&"-"&Sitemap!$B19,Cal!$AQ$5:$AQ$36,0)),"") | Q19: =IFERROR(IF(INDEX(Cal!$Y$5:$Y$20,MATCH(Sitemap!P19,Cal!$AP$5:$AP$20,0))>0,"*x1*",""),IF(COUNTIFS(Cal!$AU$5:$AU$20,Sitemap!P$6,Cal!$AV$5:$AV$20,"<="&Sitemap!$B19,Cal!$AW$5:$AW$20,">="&Sitemap!$B19)>0,"*x2*","")) -> *x2* | R19: =IFERROR(IF(ISNUMBER(MATCH(S$6&"-"&$B19,Cal!$AY$5:$AY$20,0)),"*x6*",IF(INDEX(Cal!$O$5:$O$20,MATCH(Sitemap!S19,Cal!$AP$5:$AP$20,0))>0,"*x1*","")),"") | S19: =IFERROR(INDEX(Cal!$AP$5:$AP$36,MATCH(Sitemap!S$6&"-"&Sitemap!$B19,Cal!$AQ$5:$AQ$36,0)),"") | T19: =IFERROR(IF(INDEX(Cal!$Y$5:$Y$20,MATCH(Sitemap!S19,Cal!$AP$5:$AP$20,0))>0,"*x1*",""),IF(COUNTIFS(Cal!$AU$5:$AU$20,Sitemap!S$6,Cal!$AV$5:$AV$20,"<="&Sitemap!$B19,Cal!$AW$5:$AW$20,">="&Sitemap!$B19)>0,"*x2*","")) | U19: =IFERROR(IF(ISNUMBER(MATCH(V$6&"-"&$B19,Cal!$AY$5:$AY$20,0)),"*x6*",IF(INDEX(Cal!$O$5:$O$20,MATCH(Sitemap!V19,Cal!$AP$5:$AP$20,0))>0,"*x1*","")),"") | V19: =IFERROR(INDEX(Cal!$AP$5:$AP$36,MATCH(Sitemap!V$6&"-"&Sitemap!$B19,Cal!$AQ$5:$AQ$36,0)),"") | W19: =IFERROR(IF(INDEX(Cal!$Y$5:$Y$20,MATCH(Sitemap!V19,Cal!$AP$5:$AP$20,0))>0,"*x1*",""),IF(COUNTIFS(Cal!$AU$5:$AU$20,Sitemap!V$6,Cal!$AV$5:$AV$20,"<="&Sitemap!$B19,Cal!$AW$5:$AW$20,">="&Sitemap!$B19)>0,"*x2*","")) | X19: =IFERROR(IF(ISNUMBER(MATCH(Y$6&"-"&$B19,Cal!$AY$5:$AY$20,0)),"*x6*",IF(INDEX(Cal!$O$5:$O$20,MATCH(Sitemap!Y19,Cal!$AP$5:$AP$20,0))>0,"*x1*","")),"") | Y19: =IFERROR(INDEX(Cal!$AP$5:$AP$36,MATCH(Sitemap!Y$6&"-"&Sitemap!$B19,Cal!$AQ$5:$AQ$36,0)),"") | Z19: =IFERROR(IF(INDEX(Cal!$Y$5:$Y$20,MATCH(Sitemap!Y19,Cal!$AP$5:$AP$20,0))>0,"*x1*",""),IF(COUNTIFS(Cal!$AU$5:$AU$20,Sitemap!Y$6,Cal!$AV$5:$AV$20,"<="&Sitemap!$B19,Cal!$AW$5:$AW$20,">="&Sitemap!$B19)>0,"*x2*","")) | AA19: =IFERROR(IF(ISNUMBER(MATCH(AB$6&"-"&$B19,Cal!$AY$5:$AY$20,0)),"*x6*",IF(INDEX(Cal!$O$5:$O$20,MATCH(Sitemap!AB19,Cal!$AP$5:$AP$20,0))>0,"*x1*","")),"") | AB19: =IFERROR(INDEX(Cal!$AP$5:$AP$36,MATCH(Sitemap!AB$6&"-"&Sitemap!$B19,Cal!$AQ$5:$AQ$36,0)),"") | AC19: =IFERROR(IF(INDEX(Cal!$Y$5:$Y$20,MATCH(Sitemap!AB19,Cal!$AP$5:$AP$20,0))>0,"*x1*",""),IF(COUNTIFS(Cal!$AU$5:$AU$20,Sitemap!AB$6,Cal!$AV$5:$AV$20,"<="&Sitemap!$B19,Cal!$AW$5:$AW$20,">="&Sitemap!$B19)>0,"*x2*","")) | AD19: =IFERROR(IF(ISNUMBER(MATCH(AE$6&"-"&$B19,Cal!$AY$5:$AY$20,0)),"*x6*",IF(INDEX(Cal!$O$5:$O$20,MATCH(Sitemap!AE19,Cal!$AP$5:$AP$20,0))>0,"*x1*","")),"") | AE19: =IFERROR(INDEX(Cal!$AP$5:$AP$36,MATCH(Sitemap!AE$6&"-"&Sitemap!$B19,Cal!$AQ$5:$AQ$36,0)),"") | AF19: =IFERROR(IF(INDEX(Cal!$Y$5:$Y$20,MATCH(Sitemap!AE19,Cal!$AP$5:$AP$20,0))>0,"*x1*",""),IF(COUNTIFS(Cal!$AU$5:$AU$20,Sitemap!AE$6,Cal!$AV$5:$AV$20,"<="&Sitemap!$B19,Cal!$AW$5:$AW$20,">="&Sitemap!$B19)>0,"*x2*","")) | AG19: =IFERROR(IF(ISNUMBER(MATCH(AH$6&"-"&$B19,Cal!$AY$5:$AY$20,0)),"*x6*",IF(INDEX(Cal!$O$5:$O$20,MATCH(Sitemap!AH19,Cal!$AP$5:$AP$20,0))>0,"*x1*","")),"") | AH19: =IFERROR(INDEX(Cal!$AP$5:$AP$36,MATCH(Sitemap!AH$6&"-"&Sitemap!$B19,Cal!$AQ$5:$AQ$36,0)),"") | AI19: =IFERROR(IF(INDEX(Cal!$Y$5:$Y$20,MATCH(Sitemap!AH19,Cal!$AP$5:$AP$20,0))>0,"*x1*",""),IF(COUNTIFS(Cal!$AU$5:$AU$20,Sitemap!AH$6,Cal!$AV$5:$AV$20,"<="&Sitemap!$B19,Cal!$AW$5:$AW$20,">="&Sitemap!$B19)>0,"*x2*","")) | AJ19: =IFERROR(IF(ISNUMBER(MATCH(AK$6&"-"&$B19,Cal!$AY$5:$AY$20,0)),"*x6*",IF(INDEX(Cal!$O$5:$O$20,MATCH(Sitemap!AK19,Cal!$AP$5:$AP$20,0))>0,"*x1*","")),"") | AK19: =IFERROR(INDEX(Cal!$AP$5:$AP$36,MATCH(Sitemap!AK$6&"-"&Sitemap!$B19,Cal!$AQ$5:$AQ$36,0)),"") | AL19: =IFERROR(IF(INDEX(Cal!$Y$5:$Y$20,MATCH(Sitemap!AK19,Cal!$AP$5:$AP$20,0))>0,"*x1*",""),IF(COUNTIFS(Cal!$AU$5:$AU$20,Sitemap!AK$6,Cal!$AV$5:$AV$20,"<="&Sitemap!$B19,Cal!$AW$5:$AW$20,">="&Sitemap!$B19)>0,"*x2*","")) | AM19: =IFERROR(IF(ISNUMBER(MATCH(AN$6&"-"&$B19,Cal!$AY$5:$AY$20,0)),"*x6*",IF(INDEX(Cal!$O$5:$O$20,MATCH(Sitemap!AN19,Cal!$AP$5:$AP$20,0))>0,"*x1*","")),"") | AN19: =IFERROR(INDEX(Cal!$AP$5:$AP$36,MATCH(Sitemap!AN$6&"-"&Sitemap!$B19,Cal!$AQ$5:$AQ$36,0)),"") | AO19: =IFERROR(IF(INDEX(Cal!$Y$5:$Y$20,MATCH(Sitemap!AN19,Cal!$AP$5:$AP$20,0))>0,"*x1*",""),IF(COUNTIFS(Cal!$AU$5:$AU$20,Sitemap!AN$6,Cal!$AV$5:$AV$20,"<="&Sitemap!$B19,Cal!$AW$5:$AW$20,">="&Sitemap!$B19)>0,"*x2*","")) | AP19: =IFERROR(IF(ISNUMBER(MATCH(AQ$6&"-"&$B19,Cal!$AY$5:$AY$20,0)),"*x6*",IF(INDEX(Cal!$O$5:$O$20,MATCH(Sitemap!AQ19,Cal!$AP$5:$AP$20,0))>0,"*x1*","")),"") | AQ19: =IFERROR(INDEX(Cal!$AP$5:$AP$36,MATCH(Sitemap!AQ$6&"-"&Sitemap!$B19,Cal!$AQ$5:$AQ$36,0)),"") | AR19: =IFERROR(IF(INDEX(Cal!$Y$5:$Y$20,MATCH(Sitemap!AQ19,Cal!$AP$5:$AP$20,0))>0,"*x1*",""),IF(COUNTIFS(Cal!$AU$5:$AU$20,Sitemap!AQ$6,Cal!$AV$5:$AV$20,"<="&Sitemap!$B19,Cal!$AW$5:$AW$20,">="&Sitemap!$B19)>0,"*x2*","")) | AS19: =IFERROR(IF(ISNUMBER(MATCH(AT$6&"-"&$B19,Cal!$AY$5:$AY$20,0)),"*x6*",IF(INDEX(Cal!$O$5:$O$20,MATCH(Sitemap!AT19,Cal!$AP$5:$AP$20,0))>0,"*x1*","")),"") | AT19: =IFERROR(INDEX(Cal!$AP$5:$AP$36,MATCH(Sitemap!AT$6&"-"&Sitemap!$B19,Cal!$AQ$5:$AQ$36,0)),"") | AU19: =IFERROR(IF(INDEX(Cal!$Y$5:$Y$20,MATCH(Sitemap!AT19,Cal!$AP$5:$AP$20,0))>0,"*x1*",""),IF(COUNTIFS(Cal!$AU$5:$AU$20,Sitemap!AT$6,Cal!$AV$5:$AV$20,"<="&Sitemap!$B19,Cal!$AW$5:$AW$20,">="&Sitemap!$B19)>0,"*x2*","")) | AV19: =IFERROR(IF(ISNUMBER(MATCH(#REF!&"-"&$B19,Cal!$AY$5:$AY$20,0)),"*x6*",IF(INDEX(Cal!$O$5:$O$20,MATCH(Sitemap!#REF!,Cal!$AP$5:$AP$20,0))>0,"*x1*","")),"")
B20: 12 | D20: =IFERROR(INDEX(Cal!$AP$5:$AP$36,MATCH(Sitemap!D$6&"-"&Sitemap!$B20,Cal!$AQ$5:$AQ$36,0)),"") | E20: =IFERROR(IF(INDEX(Cal!$Y$5:$Y$20,MATCH(Sitemap!D20,Cal!$AP$5:$AP$20,0))>0,"*x1*",""),IF(COUNTIFS(Cal!$AU$5:$AU$20,Sitemap!D$6,Cal!$AV$5:$AV$20,"<="&Sitemap!$B20,Cal!$AW$5:$AW$20,">="&Sitemap!$B20)>0,"*x2*","")) | F20: =IFERROR(IF(ISNUMBER(MATCH(G$6&"-"&$B20,Cal!$AY$5:$AY$20,0)),"*x6*",IF(INDEX(Cal!$O$5:$O$20,MATCH(Sitemap!G20,Cal!$AP$5:$AP$20,0))>0,"*x1*","")),"") | G20: =IFERROR(INDEX(Cal!$AP$5:$AP$36,MATCH(Sitemap!G$6&"-"&Sitemap!$B20,Cal!$AQ$5:$AQ$36,0)),"") | H20: =IFERROR(IF(INDEX(Cal!$Y$5:$Y$20,MATCH(Sitemap!G20,Cal!$AP$5:$AP$20,0))>0,"*x1*",""),IF(COUNTIFS(Cal!$AU$5:$AU$20,Sitemap!G$6,Cal!$AV$5:$AV$20,"<="&Sitemap!$B20,Cal!$AW$5:$AW$20,">="&Sitemap!$B20)>0,"*x2*","")) -> *x2* | I20: =IFERROR(IF(ISNUMBER(MATCH(J$6&"-"&$B20,Cal!$AY$5:$AY$20,0)),"*x6*",IF(INDEX(Cal!$O$5:$O$20,MATCH(Sitemap!J20,Cal!$AP$5:$AP$20,0))>0,"*x1*","")),"") | J20: =IFERROR(INDEX(Cal!$AP$5:$AP$36,MATCH(Sitemap!J$6&"-"&Sitemap!$B20,Cal!$AQ$5:$AQ$36,0)),"") | K20: =IFERROR(IF(INDEX(Cal!$Y$5:$Y$20,MATCH(Sitemap!J20,Cal!$AP$5:$AP$20,0))>0,"*x1*",""),IF(COUNTIFS(Cal!$AU$5:$AU$20,Sitemap!J$6,Cal!$AV$5:$AV$20,"<="&Sitemap!$B20,Cal!$AW$5:$AW$20,">="&Sitemap!$B20)>0,"*x2*","")) -> *x2* | L20: =IFERROR(IF(ISNUMBER(MATCH(M$6&"-"&$B20,Cal!$AY$5:$AY$20,0)),"*x6*",IF(INDEX(Cal!$O$5:$O$20,MATCH(Sitemap!M20,Cal!$AP$5:$AP$20,0))>0,"*x1*","")),"") -> *x1* | M20: =IFERROR(INDEX(Cal!$AP$5:$AP$36,MATCH(Sitemap!M$6&"-"&Sitemap!$B20,Cal!$AQ$5:$AQ$36,0)),"") -> 6-social-media | N20: =IFERROR(IF(INDEX(Cal!$Y$5:$Y$20,MATCH(Sitemap!M20,Cal!$AP$5:$AP$20,0))>0,"*x1*",""),IF(COUNTIFS(Cal!$AU$5:$AU$20,Sitemap!M$6,Cal!$AV$5:$AV$20,"<="&Sitemap!$B20,Cal!$AW$5:$AW$20,">="&Sitemap!$B20)>0,"*x2*","")) | O20: =IFERROR(IF(ISNUMBER(MATCH(P$6&"-"&$B20,Cal!$AY$5:$AY$20,0)),"*x6*",IF(INDEX(Cal!$O$5:$O$20,MATCH(Sitemap!P20,Cal!$AP$5:$AP$20,0))>0,"*x1*","")),"") | P20: =IFERROR(INDEX(Cal!$AP$5:$AP$36,MATCH(Sitemap!P$6&"-"&Sitemap!$B20,Cal!$AQ$5:$AQ$36,0)),"") | Q20: =IFERROR(IF(INDEX(Cal!$Y$5:$Y$20,MATCH(Sitemap!P20,Cal!$AP$5:$AP$20,0))>0,"*x1*",""),IF(COUNTIFS(Cal!$AU$5:$AU$20,Sitemap!P$6,Cal!$AV$5:$AV$20,"<="&Sitemap!$B20,Cal!$AW$5:$AW$20,">="&Sitemap!$B20)>0,"*x2*","")) -> *x2* | R20: =IFERROR(IF(ISNUMBER(MATCH(S$6&"-"&$B20,Cal!$AY$5:$AY$20,0)),"*x6*",IF(INDEX(Cal!$O$5:$O$20,MATCH(Sitemap!S20,Cal!$AP$5:$AP$20,0))>0,"*x1*","")),"") -> *x6* | S20: =IFERROR(INDEX(Cal!$AP$5:$AP$36,MATCH(Sitemap!S$6&"-"&Sitemap!$B20,Cal!$AQ$5:$AQ$36,0)),"") -> 12-social-media-tips | T20: =IFERROR(IF(INDEX(Cal!$Y$5:$Y$20,MATCH(Sitemap!S20,Cal!$AP$5:$AP$20,0))>0,"*x1*",""),IF(COUNTIFS(Cal!$AU$5:$AU$20,Sitemap!S$6,Cal!$AV$5:$AV$20,"<="&Sitemap!$B20,Cal!$AW$5:$AW$20,">="&Sitemap!$B20)>0,"*x2*","")) | U20: =IFERROR(IF(ISNUMBER(MATCH(V$6&"-"&$B20,Cal!$AY$5:$AY$20,0)),"*x6*",IF(INDEX(Cal!$O$5:$O$20,MATCH(Sitemap!V20,Cal!$AP$5:$AP$20,0))>0,"*x1*","")),"") | V20: =IFERROR(INDEX(Cal!$AP$5:$AP$36,MATCH(Sitemap!V$6&"-"&Sitemap!$B20,Cal!$AQ$5:$AQ$36,0)),"") | W20: =IFERROR(IF(INDEX(Cal!$Y$5:$Y$20,MATCH(Sitemap!V20,Cal!$AP$5:$AP$20,0))>0,"*x1*",""),IF(COUNTIFS(Cal!$AU$5:$AU$20,Sitemap!V$6,Cal!$AV$5:$AV$20,"<="&Sitemap!$B20,Cal!$AW$5:$AW$20,">="&Sitemap!$B20)>0,"*x2*","")) | X20: =IFERROR(IF(ISNUMBER(MATCH(Y$6&"-"&$B20,Cal!$AY$5:$AY$20,0)),"*x6*",IF(INDEX(Cal!$O$5:$O$20,MATCH(Sitemap!Y20,Cal!$AP$5:$AP$20,0))>0,"*x1*","")),"") | Y20: =IFERROR(INDEX(Cal!$AP$5:$AP$36,MATCH(Sitemap!Y$6&"-"&Sitemap!$B20,Cal!$AQ$5:$AQ$36,0)),"") | Z20: =IFERROR(IF(INDEX(Cal!$Y$5:$Y$20,MATCH(Sitemap!Y20,Cal!$AP$5:$AP$20,0))>0,"*x1*",""),IF(COUNTIFS(Cal!$AU$5:$AU$20,Sitemap!Y$6,Cal!$AV$5:$AV$20,"<="&Sitemap!$B20,Cal!$AW$5:$AW$20,">="&Sitemap!$B20)>0,"*x2*","")) | AA20: =IFERROR(IF(ISNUMBER(MATCH(AB$6&"-"&$B20,Cal!$AY$5:$AY$20,0)),"*x6*",IF(INDEX(Cal!$O$5:$O$20,MATCH(Sitemap!AB20,Cal!$AP$5:$AP$20,0))>0,"*x1*","")),"") | AB20: =IFERROR(INDEX(Cal!$AP$5:$AP$36,MATCH(Sitemap!AB$6&"-"&Sitemap!$B20,Cal!$AQ$5:$AQ$36,0)),"") | AC20: =IFERROR(IF(INDEX(Cal!$Y$5:$Y$20,MATCH(Sitemap!AB20,Cal!$AP$5:$AP$20,0))>0,"*x1*",""),IF(COUNTIFS(Cal!$AU$5:$AU$20,Sitemap!AB$6,Cal!$AV$5:$AV$20,"<="&Sitemap!$B20,Cal!$AW$5:$AW$20,">="&Sitemap!$B20)>0,"*x2*","")) | AD20: =IFERROR(IF(ISNUMBER(MATCH(AE$6&"-"&$B20,Cal!$AY$5:$AY$20,0)),"*x6*",IF(INDEX(Cal!$O$5:$O$20,MATCH(Sitemap!AE20,Cal!$AP$5:$AP$20,0))>0,"*x1*","")),"") | AE20: =IFERROR(INDEX(Cal!$AP$5:$AP$36,MATCH(Sitemap!AE$6&"-"&Sitemap!$B20,Cal!$AQ$5:$AQ$36,0)),"") | AF20: =IFERROR(IF(INDEX(Cal!$Y$5:$Y$20,MATCH(Sitemap!AE20,Cal!$AP$5:$AP$20,0))>0,"*x1*",""),IF(COUNTIFS(Cal!$AU$5:$AU$20,Sitemap!AE$6,Cal!$AV$5:$AV$20,"<="&Sitemap!$B20,Cal!$AW$5:$AW$20,">="&Sitemap!$B20)>0,"*x2*","")) | AG20: =IFERROR(IF(ISNUMBER(MATCH(AH$6&"-"&$B20,Cal!$AY$5:$AY$20,0)),"*x6*",IF(INDEX(Cal!$O$5:$O$20,MATCH(Sitemap!AH20,Cal!$AP$5:$AP$20,0))>0,"*x1*","")),"") | AH20: =IFERROR(INDEX(Cal!$AP$5:$AP$36,MATCH(Sitemap!AH$6&"-"&Sitemap!$B20,Cal!$AQ$5:$AQ$36,0)),"") | AI20: =IFERROR(IF(INDEX(Cal!$Y$5:$Y$20,MATCH(Sitemap!AH20,Cal!$AP$5:$AP$20,0))>0,"*x1*",""),IF(COUNTIFS(Cal!$AU$5:$AU$20,Sitemap!AH$6,Cal!$AV$5:$AV$20,"<="&Sitemap!$B20,Cal!$AW$5:$AW$20,">="&Sitemap!$B20)>0,"*x2*","")) | AJ20: =IFERROR(IF(ISNUMBER(MATCH(AK$6&"-"&$B20,Cal!$AY$5:$AY$20,0)),"*x6*",IF(INDEX(Cal!$O$5:$O$20,MATCH(Sitemap!AK20,Cal!$AP$5:$AP$20,0))>0,"*x1*","")),"") | AK20: =IFERROR(INDEX(Cal!$AP$5:$AP$36,MATCH(Sitemap!AK$6&"-"&Sitemap!$B20,Cal!$AQ$5:$AQ$36,0)),"") | AL20: =IFERROR(IF(INDEX(Cal!$Y$5:$Y$20,MATCH(Sitemap!AK20,Cal!$AP$5:$AP$20,0))>0,"*x1*",""),IF(COUNTIFS(Cal!$AU$5:$AU$20,Sitemap!AK$6,Cal!$AV$5:$AV$20,"<="&Sitemap!$B20,Cal!$AW$5:$AW$20,">="&Sitemap!$B20)>0,"*x2*","")) | AM20: =IFERROR(IF(ISNUMBER(MATCH(AN$6&"-"&$B20,Cal!$AY$5:$AY$20,0)),"*x6*",IF(INDEX(Cal!$O$5:$O$20,MATCH(Sitemap!AN20,Cal!$AP$5:$AP$20,0))>0,"*x1*","")),"") | AN20: =IFERROR(INDEX(Cal!$AP$5:$AP$36,MATCH(Sitemap!AN$6&"-"&Sitemap!$B20,Cal!$AQ$5:$AQ$36,0)),"") | AO20: =IFERROR(IF(INDEX(Cal!$Y$5:$Y$20,MATCH(Sitemap!AN20,Cal!$AP$5:$AP$20,0))>0,"*x1*",""),IF(COUNTIFS(Cal!$AU$5:$AU$20,Sitemap!AN$6,Cal!$AV$5:$AV$20,"<="&Sitemap!$B20,Cal!$AW$5:$AW$20,">="&Sitemap!$B20)>0,"*x2*","")) | AP20: =IFERROR(IF(ISNUMBER(MATCH(AQ$6&"-"&$B20,Cal!$AY$5:$AY$20,0)),"*x6*",IF(INDEX(Cal!$O$5:$O$20,MATCH(Sitemap!AQ20,Cal!$AP$5:$AP$20,0))>0,"*x1*","")),"") | AQ20: =IFERROR(INDEX(Cal!$AP$5:$AP$36,MATCH(Sitemap!AQ$6&"-"&Sitemap!$B20,Cal!$AQ$5:$AQ$36,0)),"") | AR20: =IFERROR(IF(INDEX(Cal!$Y$5:$Y$20,MATCH(Sitemap!AQ20,Cal!$AP$5:$AP$20,0))>0,"*x1*",""),IF(COUNTIFS(Cal!$AU$5:$AU$20,Sitemap!AQ$6,Cal!$AV$5:$AV$20,"<="&Sitemap!$B20,Cal!$AW$5:$AW$20,">="&Sitemap!$B20)>0,"*x2*","")) | AS20: =IFERROR(IF(ISNUMBER(MATCH(AT$6&"-"&$B20,Cal!$AY$5:$AY$20,0)),"*x6*",IF(INDEX(Cal!$O$5:$O$20,MATCH(Sitemap!AT20,Cal!$AP$5:$AP$20,0))>0,"*x1*","")),"") | AT20: =IFERROR(INDEX(Cal!$AP$5:$AP$36,MATCH(Sitemap!AT$6&"-"&Sitemap!$B20,Cal!$AQ$5:$AQ$36,0)),"") | AU20: =IFERROR(IF(INDEX(Cal!$Y$5:$Y$20,MATCH(Sitemap!AT20,Cal!$AP$5:$AP$20,0))>0,"*x1*",""),IF(COUNTIFS(Cal!$AU$5:$AU$20,Sitemap!AT$6,Cal!$AV$5:$AV$20,"<="&Sitemap!$B20,Cal!$AW$5:$AW$20,">="&Sitemap!$B20)>0,"*x2*","")) | AV20: =IFERROR(IF(ISNUMBER(MATCH(#REF!&"-"&$B20,Cal!$AY$5:$AY$20,0)),"*x6*",IF(INDEX(Cal!$O$5:$O$20,MATCH(Sitemap!#REF!,Cal!$AP$5:$AP$20,0))>0,"*x1*","")),"")
B21: 13 | D21: =IFERROR(INDEX(Cal!$AP$5:$AP$36,MATCH(Sitemap!D$6&"-"&Sitemap!$B21,Cal!$AQ$5:$AQ$36,0)),"") | E21: =IFERROR(IF(INDEX(Cal!$Y$5:$Y$20,MATCH(Sitemap!D21,Cal!$AP$5:$AP$20,0))>0,"*x1*",""),IF(COUNTIFS(Cal!$AU$5:$AU$20,Sitemap!D$6,Cal!$AV$5:$AV$20,"<="&Sitemap!$B21,Cal!$AW$5:$AW$20,">="&Sitemap!$B21)>0,"*x2*","")) | F21: =IFERROR(IF(ISNUMBER(MATCH(G$6&"-"&$B21,Cal!$AY$5:$AY$20,0)),"*x6*",IF(INDEX(Cal!$O$5:$O$20,MATCH(Sitemap!G21,Cal!$AP$5:$AP$20,0))>0,"*x1*","")),"") | G21: =IFERROR(INDEX(Cal!$AP$5:$AP$36,MATCH(Sitemap!G$6&"-"&Sitemap!$B21,Cal!$AQ$5:$AQ$36,0)),"") | H21: =IFERROR(IF(INDEX(Cal!$Y$5:$Y$20,MATCH(Sitemap!G21,Cal!$AP$5:$AP$20,0))>0,"*x1*",""),IF(COUNTIFS(Cal!$AU$5:$AU$20,Sitemap!G$6,Cal!$AV$5:$AV$20,"<="&Sitemap!$B21,Cal!$AW$5:$AW$20,">="&Sitemap!$B21)>0,"*x2*","")) -> *x2* | I21: =IFERROR(IF(ISNUMBER(MATCH(J$6&"-"&$B21,Cal!$AY$5:$AY$20,0)),"*x6*",IF(INDEX(Cal!$O$5:$O$20,MATCH(Sitemap!J21,Cal!$AP$5:$AP$20,0))>0,"*x1*","")),"") | J21: =IFERROR(INDEX(Cal!$AP$5:$AP$36,MATCH(Sitemap!J$6&"-"&Sitemap!$B21,Cal!$AQ$5:$AQ$36,0)),"") | K21: =IFERROR(IF(INDEX(Cal!$Y$5:$Y$20,MATCH(Sitemap!J21,Cal!$AP$5:$AP$20,0))>0,"*x1*",""),IF(COUNTIFS(Cal!$AU$5:$AU$20,Sitemap!J$6,Cal!$AV$5:$AV$20,"<="&Sitemap!$B21,Cal!$AW$5:$AW$20,">="&Sitemap!$B21)>0,"*x2*","")) -> *x2* | L21: =IFERROR(IF(ISNUMBER(MATCH(M$6&"-"&$B21,Cal!$AY$5:$AY$20,0)),"*x6*",IF(INDEX(Cal!$O$5:$O$20,MATCH(Sitemap!M21,Cal!$AP$5:$AP$20,0))>0,"*x1*","")),"") | M21: =IFERROR(INDEX(Cal!$AP$5:$AP$36,MATCH(Sitemap!M$6&"-"&Sitemap!$B21,Cal!$AQ$5:$AQ$36,0)),"") -> /services/marketing/social-media | N21: =IFERROR(IF(INDEX(Cal!$Y$5:$Y$20,MATCH(Sitemap!M21,Cal!$AP$5:$AP$20,0))>0,"*x1*",""),IF(COUNTIFS(Cal!$AU$5:$AU$20,Sitemap!M$6,Cal!$AV$5:$AV$20,"<="&Sitemap!$B21,Cal!$AW$5:$AW$20,">="&Sitemap!$B21)>0,"*x2*","")) | O21: =IFERROR(IF(ISNUMBER(MATCH(P$6&"-"&$B21,Cal!$AY$5:$AY$20,0)),"*x6*",IF(INDEX(Cal!$O$5:$O$20,MATCH(Sitemap!P21,Cal!$AP$5:$AP$20,0))>0,"*x1*","")),"") | P21: =IFERROR(INDEX(Cal!$AP$5:$AP$36,MATCH(Sitemap!P$6&"-"&Sitemap!$B21,Cal!$AQ$5:$AQ$36,0)),"") | Q21: =IFERROR(IF(INDEX(Cal!$Y$5:$Y$20,MATCH(Sitemap!P21,Cal!$AP$5:$AP$20,0))>0,"*x1*",""),IF(COUNTIFS(Cal!$AU$5:$AU$20,Sitemap!P$6,Cal!$AV$5:$AV$20,"<="&Sitemap!$B21,Cal!$AW$5:$AW$20,">="&Sitemap!$B21)>0,"*x2*","")) | R21: =IFERROR(IF(ISNUMBER(MATCH(S$6&"-"&$B21,Cal!$AY$5:$AY$20,0)),"*x6*",IF(INDEX(Cal!$O$5:$O$20,MATCH(Sitemap!S21,Cal!$AP$5:$AP$20,0))>0,"*x1*","")),"") | S21: =IFERROR(INDEX(Cal!$AP$5:$AP$36,MATCH(Sitemap!S$6&"-"&Sitemap!$B21,Cal!$AQ$5:$AQ$36,0)),"") -> /blog/social-media-tips | T21: =IFERROR(IF(INDEX(Cal!$Y$5:$Y$20,MATCH(Sitemap!S21,Cal!$AP$5:$AP$20,0))>0,"*x1*",""),IF(COUNTIFS(Cal!$AU$5:$AU$20,Sitemap!S$6,Cal!$AV$5:$AV$20,"<="&Sitemap!$B21,Cal!$AW$5:$AW$20,">="&Sitemap!$B21)>0,"*x2*","")) | U21: =IFERROR(IF(ISNUMBER(MATCH(V$6&"-"&$B21,Cal!$AY$5:$AY$20,0)),"*x6*",IF(INDEX(Cal!$O$5:$O$20,MATCH(Sitemap!V21,Cal!$AP$5:$AP$20,0))>0,"*x1*","")),"") | V21: =IFERROR(INDEX(Cal!$AP$5:$AP$36,MATCH(Sitemap!V$6&"-"&Sitemap!$B21,Cal!$AQ$5:$AQ$36,0)),"") | W21: =IFERROR(IF(INDEX(Cal!$Y$5:$Y$20,MATCH(Sitemap!V21,Cal!$AP$5:$AP$20,0))>0,"*x1*",""),IF(COUNTIFS(Cal!$AU$5:$AU$20,Sitemap!V$6,Cal!$AV$5:$AV$20,"<="&Sitemap!$B21,Cal!$AW$5:$AW$20,">="&Sitemap!$B21)>0,"*x2*","")) | X21: =IFERROR(IF(ISNUMBER(MATCH(Y$6&"-"&$B21,Cal!$AY$5:$AY$20,0)),"*x6*",IF(INDEX(Cal!$O$5:$O$20,MATCH(Sitemap!Y21,Cal!$AP$5:$AP$20,0))>0,"*x1*","")),"") | Y21: =IFERROR(INDEX(Cal!$AP$5:$AP$36,MATCH(Sitemap!Y$6&"-"&Sitemap!$B21,Cal!$AQ$5:$AQ$36,0)),"") | Z21: =IFERROR(IF(INDEX(Cal!$Y$5:$Y$20,MATCH(Sitemap!Y21,Cal!$AP$5:$AP$20,0))>0,"*x1*",""),IF(COUNTIFS(Cal!$AU$5:$AU$20,Sitemap!Y$6,Cal!$AV$5:$AV$20,"<="&Sitemap!$B21,Cal!$AW$5:$AW$20,">="&Sitemap!$B21)>0,"*x2*","")) | AA21: =IFERROR(IF(ISNUMBER(MATCH(AB$6&"-"&$B21,Cal!$AY$5:$AY$20,0)),"*x6*",IF(INDEX(Cal!$O$5:$O$20,MATCH(Sitemap!AB21,Cal!$AP$5:$AP$20,0))>0,"*x1*","")),"") | AB21: =IFERROR(INDEX(Cal!$AP$5:$AP$36,MATCH(Sitemap!AB$6&"-"&Sitemap!$B21,Cal!$AQ$5:$AQ$36,0)),"") | AC21: =IFERROR(IF(INDEX(Cal!$Y$5:$Y$20,MATCH(Sitemap!AB21,Cal!$AP$5:$AP$20,0))>0,"*x1*",""),IF(COUNTIFS(Cal!$AU$5:$AU$20,Sitemap!AB$6,Cal!$AV$5:$AV$20,"<="&Sitemap!$B21,Cal!$AW$5:$AW$20,">="&Sitemap!$B21)>0,"*x2*","")) | AD21: =IFERROR(IF(ISNUMBER(MATCH(AE$6&"-"&$B21,Cal!$AY$5:$AY$20,0)),"*x6*",IF(INDEX(Cal!$O$5:$O$20,MATCH(Sitemap!AE21,Cal!$AP$5:$AP$20,0))>0,"*x1*","")),"") | AE21: =IFERROR(INDEX(Cal!$AP$5:$AP$36,MATCH(Sitemap!AE$6&"-"&Sitemap!$B21,Cal!$AQ$5:$AQ$36,0)),"") | AF21: =IFERROR(IF(INDEX(Cal!$Y$5:$Y$20,MATCH(Sitemap!AE21,Cal!$AP$5:$AP$20,0))>0,"*x1*",""),IF(COUNTIFS(Cal!$AU$5:$AU$20,Sitemap!AE$6,Cal!$AV$5:$AV$20,"<="&Sitemap!$B21,Cal!$AW$5:$AW$20,">="&Sitemap!$B21)>0,"*x2*","")) | AG21: =IFERROR(IF(ISNUMBER(MATCH(AH$6&"-"&$B21,Cal!$AY$5:$AY$20,0)),"*x6*",IF(INDEX(Cal!$O$5:$O$20,MATCH(Sitemap!AH21,Cal!$AP$5:$AP$20,0))>0,"*x1*","")),"") | AH21: =IFERROR(INDEX(Cal!$AP$5:$AP$36,MATCH(Sitemap!AH$6&"-"&Sitemap!$B21,Cal!$AQ$5:$AQ$36,0)),"") | AI21: =IFERROR(IF(INDEX(Cal!$Y$5:$Y$20,MATCH(Sitemap!AH21,Cal!$AP$5:$AP$20,0))>0,"*x1*",""),IF(COUNTIFS(Cal!$AU$5:$AU$20,Sitemap!AH$6,Cal!$AV$5:$AV$20,"<="&Sitemap!$B21,Cal!$AW$5:$AW$20,">="&Sitemap!$B21)>0,"*x2*","")) | AJ21: =IFERROR(IF(ISNUMBER(MATCH(AK$6&"-"&$B21,Cal!$AY$5:$AY$20,0)),"*x6*",IF(INDEX(Cal!$O$5:$O$20,MATCH(Sitemap!AK21,Cal!$AP$5:$AP$20,0))>0,"*x1*","")),"") | AK21: =IFERROR(INDEX(Cal!$AP$5:$AP$36,MATCH(Sitemap!AK$6&"-"&Sitemap!$B21,Cal!$AQ$5:$AQ$36,0)),"") | AL21: =IFERROR(IF(INDEX(Cal!$Y$5:$Y$20,MATCH(Sitemap!AK21,Cal!$AP$5:$AP$20,0))>0,"*x1*",""),IF(COUNTIFS(Cal!$AU$5:$AU$20,Sitemap!AK$6,Cal!$AV$5:$AV$20,"<="&Sitemap!$B21,Cal!$AW$5:$AW$20,">="&Sitemap!$B21)>0,"*x2*","")) | AM21: =IFERROR(IF(ISNUMBER(MATCH(AN$6&"-"&$B21,Cal!$AY$5:$AY$20,0)),"*x6*",IF(INDEX(Cal!$O$5:$O$20,MATCH(Sitemap!AN21,Cal!$AP$5:$AP$20,0))>0,"*x1*","")),"") | AN21: =IFERROR(INDEX(Cal!$AP$5:$AP$36,MATCH(Sitemap!AN$6&"-"&Sitemap!$B21,Cal!$AQ$5:$AQ$36,0)),"") | AO21: =IFERROR(IF(INDEX(Cal!$Y$5:$Y$20,MATCH(Sitemap!AN21,Cal!$AP$5:$AP$20,0))>0,"*x1*",""),IF(COUNTIFS(Cal!$AU$5:$AU$20,Sitemap!AN$6,Cal!$AV$5:$AV$20,"<="&Sitemap!$B21,Cal!$AW$5:$AW$20,">="&Sitemap!$B21)>0,"*x2*","")) | AP21: =IFERROR(IF(ISNUMBER(MATCH(AQ$6&"-"&$B21,Cal!$AY$5:$AY$20,0)),"*x6*",IF(INDEX(Cal!$O$5:$O$20,MATCH(Sitemap!AQ21,Cal!$AP$5:$AP$20,0))>0,"*x1*","")),"") | AQ21: =IFERROR(INDEX(Cal!$AP$5:$AP$36,MATCH(Sitemap!AQ$6&"-"&Sitemap!$B21,Cal!$AQ$5:$AQ$36,0)),"") | AR21: =IFERROR(IF(INDEX(Cal!$Y$5:$Y$20,MATCH(Sitemap!AQ21,Cal!$AP$5:$AP$20,0))>0,"*x1*",""),IF(COUNTIFS(Cal!$AU$5:$AU$20,Sitemap!AQ$6,Cal!$AV$5:$AV$20,"<="&Sitemap!$B21,Cal!$AW$5:$AW$20,">="&Sitemap!$B21)>0,"*x2*","")) | AS21: =IFERROR(IF(ISNUMBER(MATCH(AT$6&"-"&$B21,Cal!$AY$5:$AY$20,0)),"*x6*",IF(INDEX(Cal!$O$5:$O$20,MATCH(Sitemap!AT21,Cal!$AP$5:$AP$20,0))>0,"*x1*","")),"") | AT21: =IFERROR(INDEX(Cal!$AP$5:$AP$36,MATCH(Sitemap!AT$6&"-"&Sitemap!$B21,Cal!$AQ$5:$AQ$36,0)),"") | AU21: =IFERROR(IF(INDEX(Cal!$Y$5:$Y$20,MATCH(Sitemap!AT21,Cal!$AP$5:$AP$20,0))>0,"*x1*",""),IF(COUNTIFS(Cal!$AU$5:$AU$20,Sitemap!AT$6,Cal!$AV$5:$AV$20,"<="&Sitemap!$B21,Cal!$AW$5:$AW$20,">="&Sitemap!$B21)>0,"*x2*","")) | AV21: =IFERROR(IF(ISNUMBER(MATCH(#REF!&"-"&$B21,Cal!$AY$5:$AY$20,0)),"*x6*",IF(INDEX(Cal!$O$5:$O$20,MATCH(Sitemap!#REF!,Cal!$AP$5:$AP$20,0))>0,"*x1*","")),"")
B22: 14 | D22: =IFERROR(INDEX(Cal!$AP$5:$AP$36,MATCH(Sitemap!D$6&"-"&Sitemap!$B22,Cal!$AQ$5:$AQ$36,0)),"") | E22: =IFERROR(IF(INDEX(Cal!$Y$5:$Y$20,MATCH(Sitemap!D22,Cal!$AP$5:$AP$20,0))>0,"*x1*",""),IF(COUNTIFS(Cal!$AU$5:$AU$20,Sitemap!D$6,Cal!$AV$5:$AV$20,"<="&Sitemap!$B22,Cal!$AW$5:$AW$20,">="&Sitemap!$B22)>0,"*x2*","")) | F22: =IFERROR(IF(ISNUMBER(MATCH(G$6&"-"&$B22,Cal!$AY$5:$AY$20,0)),"*x6*",IF(INDEX(Cal!$O$5:$O$20,MATCH(Sitemap!G22,Cal!$AP$5:$AP$20,0))>0,"*x1*","")),"") | G22: =IFERROR(INDEX(Cal!$AP$5:$AP$36,MATCH(Sitemap!G$6&"-"&Sitemap!$B22,Cal!$AQ$5:$AQ$36,0)),"") | H22: =IFERROR(IF(INDEX(Cal!$Y$5:$Y$20,MATCH(Sitemap!G22,Cal!$AP$5:$AP$20,0))>0,"*x1*",""),IF(COUNTIFS(Cal!$AU$5:$AU$20,Sitemap!G$6,Cal!$AV$5:$AV$20,"<="&Sitemap!$B22,Cal!$AW$5:$AW$20,">="&Sitemap!$B22)>0,"*x2*","")) -> *x2* | I22: =IFERROR(IF(ISNUMBER(MATCH(J$6&"-"&$B22,Cal!$AY$5:$AY$20,0)),"*x6*",IF(INDEX(Cal!$O$5:$O$20,MATCH(Sitemap!J22,Cal!$AP$5:$AP$20,0))>0,"*x1*","")),"") | J22: =IFERROR(INDEX(Cal!$AP$5:$AP$36,MATCH(Sitemap!J$6&"-"&Sitemap!$B22,Cal!$AQ$5:$AQ$36,0)),"") | K22: =IFERROR(IF(INDEX(Cal!$Y$5:$Y$20,MATCH(Sitemap!J22,Cal!$AP$5:$AP$20,0))>0,"*x1*",""),IF(COUNTIFS(Cal!$AU$5:$AU$20,Sitemap!J$6,Cal!$AV$5:$AV$20,"<="&Sitemap!$B22,Cal!$AW$5:$AW$20,">="&Sitemap!$B22)>0,"*x2*","")) -> *x2* | L22: =IFERROR(IF(ISNUMBER(MATCH(M$6&"-"&$B22,Cal!$AY$5:$AY$20,0)),"*x6*",IF(INDEX(Cal!$O$5:$O$20,MATCH(Sitemap!M22,Cal!$AP$5:$AP$20,0))>0,"*x1*","")),"") | M22: =IFERROR(INDEX(Cal!$AP$5:$AP$36,MATCH(Sitemap!M$6&"-"&Sitemap!$B22,Cal!$AQ$5:$AQ$36,0)),"") | N22: =IFERROR(IF(INDEX(Cal!$Y$5:$Y$20,MATCH(Sitemap!M22,Cal!$AP$5:$AP$20,0))>0,"*x1*",""),IF(COUNTIFS(Cal!$AU$5:$AU$20,Sitemap!M$6,Cal!$AV$5:$AV$20,"<="&Sitemap!$B22,Cal!$AW$5:$AW$20,">="&Sitemap!$B22)>0,"*x2*","")) | O22: =IFERROR(IF(ISNUMBER(MATCH(P$6&"-"&$B22,Cal!$AY$5:$AY$20,0)),"*x6*",IF(INDEX(Cal!$O$5:$O$20,MATCH(Sitemap!P22,Cal!$AP$5:$AP$20,0))>0,"*x1*","")),"") | P22: =IFERROR(INDEX(Cal!$AP$5:$AP$36,MATCH(Sitemap!P$6&"-"&Sitemap!$B22,Cal!$AQ$5:$AQ$36,0)),"") | Q22: =IFERROR(IF(INDEX(Cal!$Y$5:$Y$20,MATCH(Sitemap!P22,Cal!$AP$5:$AP$20,0))>0,"*x1*",""),IF(COUNTIFS(Cal!$AU$5:$AU$20,Sitemap!P$6,Cal!$AV$5:$AV$20,"<="&Sitemap!$B22,Cal!$AW$5:$AW$20,">="&Sitemap!$B22)>0,"*x2*","")) | R22: =IFERROR(IF(ISNUMBER(MATCH(S$6&"-"&$B22,Cal!$AY$5:$AY$20,0)),"*x6*",IF(INDEX(Cal!$O$5:$O$20,MATCH(Sitemap!S22,Cal!$AP$5:$AP$20,0))>0,"*x1*","")),"") | S22: =IFERROR(INDEX(Cal!$AP$5:$AP$36,MATCH(Sitemap!S$6&"-"&Sitemap!$B22,Cal!$AQ$5:$AQ$36,0)),"") | T22: =IFERROR(IF(INDEX(Cal!$Y$5:$Y$20,MATCH(Sitemap!S22,Cal!$AP$5:$AP$20,0))>0,"*x1*",""),IF(COUNTIFS(Cal!$AU$5:$AU$20,Sitemap!S$6,Cal!$AV$5:$AV$20,"<="&Sitemap!$B22,Cal!$AW$5:$AW$20,">="&Sitemap!$B22)>0,"*x2*","")) | U22: =IFERROR(IF(ISNUMBER(MATCH(V$6&"-"&$B22,Cal!$AY$5:$AY$20,0)),"*x6*",IF(INDEX(Cal!$O$5:$O$20,MATCH(Sitemap!V22,Cal!$AP$5:$AP$20,0))>0,"*x1*","")),"") | V22: =IFERROR(INDEX(Cal!$AP$5:$AP$36,MATCH(Sitemap!V$6&"-"&Sitemap!$B22,Cal!$AQ$5:$AQ$36,0)),"") | W22: =IFERROR(IF(INDEX(Cal!$Y$5:$Y$20,MATCH(Sitemap!V22,Cal!$AP$5:$AP$20,0))>0,"*x1*",""),IF(COUNTIFS(Cal!$AU$5:$AU$20,Sitemap!V$6,Cal!$AV$5:$AV$20,"<="&Sitemap!$B22,Cal!$AW$5:$AW$20,">="&Sitemap!$B22)>0,"*x2*","")) | X22: =IFERROR(IF(ISNUMBER(MATCH(Y$6&"-"&$B22,Cal!$AY$5:$AY$20,0)),"*x6*",IF(INDEX(Cal!$O$5:$O$20,MATCH(Sitemap!Y22,Cal!$AP$5:$AP$20,0))>0,"*x1*","")),"") | Y22: =IFERROR(INDEX(Cal!$AP$5:$AP$36,MATCH(Sitemap!Y$6&"-"&Sitemap!$B22,Cal!$AQ$5:$AQ$36,0)),"") | Z22: =IFERROR(IF(INDEX(Cal!$Y$5:$Y$20,MATCH(Sitemap!Y22,Cal!$AP$5:$AP$20,0))>0,"*x1*",""),IF(COUNTIFS(Cal!$AU$5:$AU$20,Sitemap!Y$6,Cal!$AV$5:$AV$20,"<="&Sitemap!$B22,Cal!$AW$5:$AW$20,">="&Sitemap!$B22)>0,"*x2*","")) | AA22: =IFERROR(IF(ISNUMBER(MATCH(AB$6&"-"&$B22,Cal!$AY$5:$AY$20,0)),"*x6*",IF(INDEX(Cal!$O$5:$O$20,MATCH(Sitemap!AB22,Cal!$AP$5:$AP$20,0))>0,"*x1*","")),"") | AB22: =IFERROR(INDEX(Cal!$AP$5:$AP$36,MATCH(Sitemap!AB$6&"-"&Sitemap!$B22,Cal!$AQ$5:$AQ$36,0)),"") | AC22: =IFERROR(IF(INDEX(Cal!$Y$5:$Y$20,MATCH(Sitemap!AB22,Cal!$AP$5:$AP$20,0))>0,"*x1*",""),IF(COUNTIFS(Cal!$AU$5:$AU$20,Sitemap!AB$6,Cal!$AV$5:$AV$20,"<="&Sitemap!$B22,Cal!$AW$5:$AW$20,">="&Sitemap!$B22)>0,"*x2*","")) | AD22: =IFERROR(IF(ISNUMBER(MATCH(AE$6&"-"&$B22,Cal!$AY$5:$AY$20,0)),"*x6*",IF(INDEX(Cal!$O$5:$O$20,MATCH(Sitemap!AE22,Cal!$AP$5:$AP$20,0))>0,"*x1*","")),"") | AE22: =IFERROR(INDEX(Cal!$AP$5:$AP$36,MATCH(Sitemap!AE$6&"-"&Sitemap!$B22,Cal!$AQ$5:$AQ$36,0)),"") | AF22: =IFERROR(IF(INDEX(Cal!$Y$5:$Y$20,MATCH(Sitemap!AE22,Cal!$AP$5:$AP$20,0))>0,"*x1*",""),IF(COUNTIFS(Cal!$AU$5:$AU$20,Sitemap!AE$6,Cal!$AV$5:$AV$20,"<="&Sitemap!$B22,Cal!$AW$5:$AW$20,">="&Sitemap!$B22)>0,"*x2*","")) | AG22: =IFERROR(IF(ISNUMBER(MATCH(AH$6&"-"&$B22,Cal!$AY$5:$AY$20,0)),"*x6*",IF(INDEX(Cal!$O$5:$O$20,MATCH(Sitemap!AH22,Cal!$AP$5:$AP$20,0))>0,"*x1*","")),"") | AH22: =IFERROR(INDEX(Cal!$AP$5:$AP$36,MATCH(Sitemap!AH$6&"-"&Sitemap!$B22,Cal!$AQ$5:$AQ$36,0)),"") | AI22: =IFERROR(IF(INDEX(Cal!$Y$5:$Y$20,MATCH(Sitemap!AH22,Cal!$AP$5:$AP$20,0))>0,"*x1*",""),IF(COUNTIFS(Cal!$AU$5:$AU$20,Sitemap!AH$6,Cal!$AV$5:$AV$20,"<="&Sitemap!$B22,Cal!$AW$5:$AW$20,">="&Sitemap!$B22)>0,"*x2*","")) | AJ22: =IFERROR(IF(ISNUMBER(MATCH(AK$6&"-"&$B22,Cal!$AY$5:$AY$20,0)),"*x6*",IF(INDEX(Cal!$O$5:$O$20,MATCH(Sitemap!AK22,Cal!$AP$5:$AP$20,0))>0,"*x1*","")),"") | AK22: =IFERROR(INDEX(Cal!$AP$5:$AP$36,MATCH(Sitemap!AK$6&"-"&Sitemap!$B22,Cal!$AQ$5:$AQ$36,0)),"") | AL22: =IFERROR(IF(INDEX(Cal!$Y$5:$Y$20,MATCH(Sitemap!AK22,Cal!$AP$5:$AP$20,0))>0,"*x1*",""),IF(COUNTIFS(Cal!$AU$5:$AU$20,Sitemap!AK$6,Cal!$AV$5:$AV$20,"<="&Sitemap!$B22,Cal!$AW$5:$AW$20,">="&Sitemap!$B22)>0,"*x2*","")) | AM22: =IFERROR(IF(ISNUMBER(MATCH(AN$6&"-"&$B22,Cal!$AY$5:$AY$20,0)),"*x6*",IF(INDEX(Cal!$O$5:$O$20,MATCH(Sitemap!AN22,Cal!$AP$5:$AP$20,0))>0,"*x1*","")),"") | AN22: =IFERROR(INDEX(Cal!$AP$5:$AP$36,MATCH(Sitemap!AN$6&"-"&Sitemap!$B22,Cal!$AQ$5:$AQ$36,0)),"") | AO22: =IFERROR(IF(INDEX(Cal!$Y$5:$Y$20,MATCH(Sitemap!AN22,Cal!$AP$5:$AP$20,0))>0,"*x1*",""),IF(COUNTIFS(Cal!$AU$5:$AU$20,Sitemap!AN$6,Cal!$AV$5:$AV$20,"<="&Sitemap!$B22,Cal!$AW$5:$AW$20,">="&Sitemap!$B22)>0,"*x2*","")) | AP22: =IFERROR(IF(ISNUMBER(MATCH(AQ$6&"-"&$B22,Cal!$AY$5:$AY$20,0)),"*x6*",IF(INDEX(Cal!$O$5:$O$20,MATCH(Sitemap!AQ22,Cal!$AP$5:$AP$20,0))>0,"*x1*","")),"") | AQ22: =IFERROR(INDEX(Cal!$AP$5:$AP$36,MATCH(Sitemap!AQ$6&"-"&Sitemap!$B22,Cal!$AQ$5:$AQ$36,0)),"") | AR22: =IFERROR(IF(INDEX(Cal!$Y$5:$Y$20,MATCH(Sitemap!AQ22,Cal!$AP$5:$AP$20,0))>0,"*x1*",""),IF(COUNTIFS(Cal!$AU$5:$AU$20,Sitemap!AQ$6,Cal!$AV$5:$AV$20,"<="&Sitemap!$B22,Cal!$AW$5:$AW$20,">="&Sitemap!$B22)>0,"*x2*","")) | AS22: =IFERROR(IF(ISNUMBER(MATCH(AT$6&"-"&$B22,Cal!$AY$5:$AY$20,0)),"*x6*",IF(INDEX(Cal!$O$5:$O$20,MATCH(Sitemap!AT22,Cal!$AP$5:$AP$20,0))>0,"*x1*","")),"") | AT22: =IFERROR(INDEX(Cal!$AP$5:$AP$36,MATCH(Sitemap!AT$6&"-"&Sitemap!$B22,Cal!$AQ$5:$AQ$36,0)),"") | AU22: =IFERROR(IF(INDEX(Cal!$Y$5:$Y$20,MATCH(Sitemap!AT22,Cal!$AP$5:$AP$20,0))>0,"*x1*",""),IF(COUNTIFS(Cal!$AU$5:$AU$20,Sitemap!AT$6,Cal!$AV$5:$AV$20,"<="&Sitemap!$B22,Cal!$AW$5:$AW$20,">="&Sitemap!$B22)>0,"*x2*","")) | AV22: =IFERROR(IF(ISNUMBER(MATCH(#REF!&"-"&$B22,Cal!$AY$5:$AY$20,0)),"*x6*",IF(INDEX(Cal!$O$5:$O$20,MATCH(Sitemap!#REF!,Cal!$AP$5:$AP$20,0))>0,"*x1*","")),"")
... B58: 50 | D58: =IFERROR(INDEX(Cal!$AP$5:$AP$36,MATCH(Sitemap!D$6&"-"&Sitemap!$B58,Cal!$AQ$5:$AQ$36,0)),"") | E58: =IFERROR(IF(INDEX(Cal!$Y$5:$Y$20,MATCH(Sitemap!D58,Cal!$AP$5:$AP$20,0))>0,"*x1*",""),IF(COUNTIFS(Cal!$AU$5:$AU$20,Sitemap!D$6,Cal!$AV$5:$AV$20,"<="&Sitemap!$B58,Cal!$AW$5:$AW$20,">="&Sitemap!$B58)>0,"*x2*","")) | F58: =IFERROR(IF(ISNUMBER(MATCH(G$6&"-"&$B58,Cal!$AY$5:$AY$20,0)),"*x6*",IF(INDEX(Cal!$O$5:$O$20,MATCH(Sitemap!G58,Cal!$AP$5:$AP$20,0))>0,"*x1*","")),"") | G58: =IFERROR(INDEX(Cal!$AP$5:$AP$36,MATCH(Sitemap!G$6&"-"&Sitemap!$B58,Cal!$AQ$5:$AQ$36,0)),"") | H58: =IFERROR(IF(INDEX(Cal!$Y$5:$Y$20,MATCH(Sitemap!G58,Cal!$AP$5:$AP$20,0))>0,"*x1*",""),IF(COUNTIFS(Cal!$AU$5:$AU$20,Sitemap!G$6,Cal!$AV$5:$AV$20,"<="&Sitemap!$B58,Cal!$AW$5:$AW$20,">="&Sitemap!$B58)>0,"*x2*","")) | I58: =IFERROR(IF(ISNUMBER(MATCH(J$6&"-"&$B58,Cal!$AY$5:$AY$20,0)),"*x6*",IF(INDEX(Cal!$O$5:$O$20,MATCH(Sitemap!J58,Cal!$AP$5:$AP$20,0))>0,"*x1*","")),"") | J58: =IFERROR(INDEX(Cal!$AP$5:$AP$36,MATCH(Sitemap!J$6&"-"&Sitemap!$B58,Cal!$AQ$5:$AQ$36,0)),"") | K58: =IFERROR(IF(INDEX(Cal!$Y$5:$Y$20,MATCH(Sitemap!J58,Cal!$AP$5:$AP$20,0))>0,"*x1*",""),IF(COUNTIFS(Cal!$AU$5:$AU$20,Sitemap!J$6,Cal!$AV$5:$AV$20,"<="&Sitemap!$B58,Cal!$AW$5:$AW$20,">="&Sitemap!$B58)>0,"*x2*","")) | L58: =IFERROR(IF(ISNUMBER(MATCH(M$6&"-"&$B58,Cal!$AY$5:$AY$20,0)),"*x6*",IF(INDEX(Cal!$O$5:$O$20,MATCH(Sitemap!M58,Cal!$AP$5:$AP$20,0))>0,"*x1*","")),"") | M58: =IFERROR(INDEX(Cal!$AP$5:$AP$36,MATCH(Sitemap!M$6&"-"&Sitemap!$B58,Cal!$AQ$5:$AQ$36,0)),"") | N58: =IFERROR(IF(INDEX(Cal!$Y$5:$Y$20,MATCH(Sitemap!M58,Cal!$AP$5:$AP$20,0))>0,"*x1*",""),IF(COUNTIFS(Cal!$AU$5:$AU$20,Sitemap!M$6,Cal!$AV$5:$AV$20,"<="&Sitemap!$B58,Cal!$AW$5:$AW$20,">="&Sitemap!$B58)>0,"*x2*","")) | O58: =IFERROR(IF(ISNUMBER(MATCH(P$6&"-"&$B58,Cal!$AY$5:$AY$20,0)),"*x6*",IF(INDEX(Cal!$O$5:$O$20,MATCH(Sitemap!P58,Cal!$AP$5:$AP$20,0))>0,"*x1*","")),"") | P58: =IFERROR(INDEX(Cal!$AP$5:$AP$36,MATCH(Sitemap!P$6&"-"&Sitemap!$B58,Cal!$AQ$5:$AQ$36,0)),"") | Q58: =IFERROR(IF(INDEX(Cal!$Y$5:$Y$20,MATCH(Sitemap!P58,Cal!$AP$5:$AP$20,0))>0,"*x1*",""),IF(COUNTIFS(Cal!$AU$5:$AU$20,Sitemap!P$6,Cal!$AV$5:$AV$20,"<="&Sitemap!$B58,Cal!$AW$5:$AW$20,">="&Sitemap!$B58)>0,"*x2*","")) | R58: =IFERROR(IF(ISNUMBER(MATCH(S$6&"-"&$B58,Cal!$AY$5:$AY$20,0)),"*x6*",IF(INDEX(Cal!$O$5:$O$20,MATCH(Sitemap!S58,Cal!$AP$5:$AP$20,0))>0,"*x1*","")),"") | S58: =IFERROR(INDEX(Cal!$AP$5:$AP$36,MATCH(Sitemap!S$6&"-"&Sitemap!$B58,Cal!$AQ$5:$AQ$36,0)),"") | T58: =IFERROR(IF(INDEX(Cal!$Y$5:$Y$20,MATCH(Sitemap!S58,Cal!$AP$5:$AP$20,0))>0,"*x1*",""),IF(COUNTIFS(Cal!$AU$5:$AU$20,Sitemap!S$6,Cal!$AV$5:$AV$20,"<="&Sitemap!$B58,Cal!$AW$5:$AW$20,">="&Sitemap!$B58)>0,"*x2*","")) | U58: =IFERROR(IF(ISNUMBER(MATCH(V$6&"-"&$B58,Cal!$AY$5:$AY$20,0)),"*x6*",IF(INDEX(Cal!$O$5:$O$20,MATCH(Sitemap!V58,Cal!$AP$5:$AP$20,0))>0,"*x1*","")),"") | V58: =IFERROR(INDEX(Cal!$AP$5:$AP$36,MATCH(Sitemap!V$6&"-"&Sitemap!$B58,Cal!$AQ$5:$AQ$36,0)),"") | W58: =IFERROR(IF(INDEX(Cal!$Y$5:$Y$20,MATCH(Sitemap!V58,Cal!$AP$5:$AP$20,0))>0,"*x1*",""),IF(COUNTIFS(Cal!$AU$5:$AU$20,Sitemap!V$6,Cal!$AV$5:$AV$20,"<="&Sitemap!$B58,Cal!$AW$5:$AW$20,">="&Sitemap!$B58)>0,"*x2*","")) | X58: =IFERROR(IF(ISNUMBER(MATCH(Y$6&"-"&$B58,Cal!$AY$5:$AY$20,0)),"*x6*",IF(INDEX(Cal!$O$5:$O$20,MATCH(Sitemap!Y58,Cal!$AP$5:$AP$20,0))>0,"*x1*","")),"") | Y58: =IFERROR(INDEX(Cal!$AP$5:$AP$36,MATCH(Sitemap!Y$6&"-"&Sitemap!$B58,Cal!$AQ$5:$AQ$36,0)),"") | Z58: =IFERROR(IF(INDEX(Cal!$Y$5:$Y$20,MATCH(Sitemap!Y58,Cal!$AP$5:$AP$20,0))>0,"*x1*",""),IF(COUNTIFS(Cal!$AU$5:$AU$20,Sitemap!Y$6,Cal!$AV$5:$AV$20,"<="&Sitemap!$B58,Cal!$AW$5:$AW$20,">="&Sitemap!$B58)>0,"*x2*","")) | AA58: =IFERROR(IF(ISNUMBER(MATCH(AB$6&"-"&$B58,Cal!$AY$5:$AY$20,0)),"*x6*",IF(INDEX(Cal!$O$5:$O$20,MATCH(Sitemap!AB58,Cal!$AP$5:$AP$20,0))>0,"*x1*","")),"") | AB58: =IFERROR(INDEX(Cal!$AP$5:$AP$36,MATCH(Sitemap!AB$6&"-"&Sitemap!$B58,Cal!$AQ$5:$AQ$36,0)),"") | AC58: =IFERROR(IF(INDEX(Cal!$Y$5:$Y$20,MATCH(Sitemap!AB58,Cal!$AP$5:$AP$20,0))>0,"*x1*",""),IF(COUNTIFS(Cal!$AU$5:$AU$20,Sitemap!AB$6,Cal!$AV$5:$AV$20,"<="&Sitemap!$B58,Cal!$AW$5:$AW$20,">="&Sitemap!$B58)>0,"*x2*","")) | AD58: =IFERROR(IF(ISNUMBER(MATCH(AE$6&"-"&$B58,Cal!$AY$5:$AY$20,0)),"*x6*",IF(INDEX(Cal!$O$5:$O$20,MATCH(Sitemap!AE58,Cal!$AP$5:$AP$20,0))>0,"*x1*","")),"") | AE58: =IFERROR(INDEX(Cal!$AP$5:$AP$36,MATCH(Sitemap!AE$6&"-"&Sitemap!$B58,Cal!$AQ$5:$AQ$36,0)),"") | AF58: =IFERROR(IF(INDEX(Cal!$Y$5:$Y$20,MATCH(Sitemap!AE58,Cal!$AP$5:$AP$20,0))>0,"*x1*",""),IF(COUNTIFS(Cal!$AU$5:$AU$20,Sitemap!AE$6,Cal!$AV$5:$AV$20,"<="&Sitemap!$B58,Cal!$AW$5:$AW$20,">="&Sitemap!$B58)>0,"*x2*","")) | AG58: =IFERROR(IF(ISNUMBER(MATCH(AH$6&"-"&$B58,Cal!$AY$5:$AY$20,0)),"*x6*",IF(INDEX(Cal!$O$5:$O$20,MATCH(Sitemap!AH58,Cal!$AP$5:$AP$20,0))>0,"*x1*","")),"") | AH58: =IFERROR(INDEX(Cal!$AP$5:$AP$36,MATCH(Sitemap!AH$6&"-"&Sitemap!$B58,Cal!$AQ$5:$AQ$36,0)),"") | AI58: =IFERROR(IF(INDEX(Cal!$Y$5:$Y$20,MATCH(Sitemap!AH58,Cal!$AP$5:$AP$20,0))>0,"*x1*",""),IF(COUNTIFS(Cal!$AU$5:$AU$20,Sitemap!AH$6,Cal!$AV$5:$AV$20,"<="&Sitemap!$B58,Cal!$AW$5:$AW$20,">="&Sitemap!$B58)>0,"*x2*","")) | AJ58: =IFERROR(IF(ISNUMBER(MATCH(AK$6&"-"&$B58,Cal!$AY$5:$AY$20,0)),"*x6*",IF(INDEX(Cal!$O$5:$O$20,MATCH(Sitemap!AK58,Cal!$AP$5:$AP$20,0))>0,"*x1*","")),"") | AK58: =IFERROR(INDEX(Cal!$AP$5:$AP$36,MATCH(Sitemap!AK$6&"-"&Sitemap!$B58,Cal!$AQ$5:$AQ$36,0)),"") | AL58: =IFERROR(IF(INDEX(Cal!$Y$5:$Y$20,MATCH(Sitemap!AK58,Cal!$AP$5:$AP$20,0))>0,"*x1*",""),IF(COUNTIFS(Cal!$AU$5:$AU$20,Sitemap!AK$6,Cal!$AV$5:$AV$20,"<="&Sitemap!$B58,Cal!$AW$5:$AW$20,">="&Sitemap!$B58)>0,"*x2*","")) | AM58: =IFERROR(IF(ISNUMBER(MATCH(AN$6&"-"&$B58,Cal!$AY$5:$AY$20,0)),"*x6*",IF(INDEX(Cal!$O$5:$O$20,MATCH(Sitemap!AN58,Cal!$AP$5:$AP$20,0))>0,"*x1*","")),"") | AN58: =IFERROR(INDEX(Cal!$AP$5:$AP$36,MATCH(Sitemap!AN$6&"-"&Sitemap!$B58,Cal!$AQ$5:$AQ$36,0)),"") | AO58: =IFERROR(IF(INDEX(Cal!$Y$5:$Y$20,MATCH(Sitemap!AN58,Cal!$AP$5:$AP$20,0))>0,"*x1*",""),IF(COUNTIFS(Cal!$AU$5:$AU$20,Sitemap!AN$6,Cal!$AV$5:$AV$20,"<="&Sitemap!$B58,Cal!$AW$5:$AW$20,">="&Sitemap!$B58)>0,"*x2*","")) | AP58: =IFERROR(IF(ISNUMBER(MATCH(AQ$6&"-"&$B58,Cal!$AY$5:$AY$20,0)),"*x6*",IF(INDEX(Cal!$O$5:$O$20,MATCH(Sitemap!AQ58,Cal!$AP$5:$AP$20,0))>0,"*x1*","")),"") | AQ58: =IFERROR(INDEX(Cal!$AP$5:$AP$36,MATCH(Sitemap!AQ$6&"-"&Sitemap!$B58,Cal!$AQ$5:$AQ$36,0)),"") | AR58: =IFERROR(IF(INDEX(Cal!$Y$5:$Y$20,MATCH(Sitemap!AQ58,Cal!$AP$5:$AP$20,0))>0,"*x1*",""),IF(COUNTIFS(Cal!$AU$5:$AU$20,Sitemap!AQ$6,Cal!$AV$5:$AV$20,"<="&Sitemap!$B58,Cal!$AW$5:$AW$20,">="&Sitemap!$B58)>0,"*x2*","")) | AS58: =IFERROR(IF(ISNUMBER(MATCH(AT$6&"-"&$B58,Cal!$AY$5:$AY$20,0)),"*x6*",IF(INDEX(Cal!$O$5:$O$20,MATCH(Sitemap!AT58,Cal!$AP$5:$AP$20,0))>0,"*x1*","")),"") | AT58: =IFERROR(INDEX(Cal!$AP$5:$AP$36,MATCH(Sitemap!AT$6&"-"&Sitemap!$B58,Cal!$AQ$5:$AQ$36,0)),"") | AU58: =IFERROR(IF(INDEX(Cal!$Y$5:$Y$20,MATCH(Sitemap!AT58,Cal!$AP$5:$AP$20,0))>0,"*x1*",""),IF(COUNTIFS(Cal!$AU$5:$AU$20,Sitemap!AT$6,Cal!$AV$5:$AV$20,"<="&Sitemap!$B58,Cal!$AW$5:$AW$20,">="&Sitemap!$B58)>0,"*x2*","")) | AV58: =IFERROR(IF(ISNUMBER(MATCH(#REF!&"-"&$B58,Cal!$AY$5:$AY$20,0)),"*x6*",IF(INDEX(Cal!$O$5:$O$20,MATCH(Sitemap!#REF!,Cal!$AP$5:$AP$20,0))>0,"*x1*","")),"")

Sheet Converter
C2: SITE MAP GENERATOR TEMPLATE
C3: URL CONVERTER
C6: DATA INPUT | E6: DATA OUTPUT
C8: URL | E8: ID | F8: Name | G8: Precedent
C9: https://www.example.com/home | E9: =IFERROR(IF(LEN(INDEX(Cal!$BB$5:$BB$20,Cal!$BA5))=0,"",INDEX(Cal!BJ$5:BJ$20,Cal!$BA5)),"-") -> 1 | F9: =IFERROR(IF(LEN(INDEX(Cal!$BB$5:$BB$20,Cal!$BA5))=0,"",INDEX(Cal!BK$5:BK$20,Cal!$BA5)),"-") -> home | G9: =IFERROR(IF(LEN(INDEX(Cal!$BB$5:$BB$20,Cal!$BA5))=0,"",INDEX(Cal!BL$5:BL$20,Cal!$BA5)),"-") -> Main Page
C10: https://www.example.com/services | E10: =IFERROR(IF(LEN(INDEX(Cal!$BB$5:$BB$20,Cal!$BA6))=0,"",INDEX(Cal!BJ$5:BJ$20,Cal!$BA6)),"-") -> 2 | F10: =IFERROR(IF(LEN(INDEX(Cal!$BB$5:$BB$20,Cal!$BA6))=0,"",INDEX(Cal!BK$5:BK$20,Cal!$BA6)),"-") -> services | G10: =IFERROR(IF(LEN(INDEX(Cal!$BB$5:$BB$20,Cal!$BA6))=0,"",INDEX(Cal!BL$5:BL$20,Cal!$BA6)),"-") -> Main Page
C11: https://www.example.com/services/marketing | E11: =IFERROR(IF(LEN(INDEX(Cal!$BB$5:$BB$20,Cal!$BA7))=0,"",INDEX(Cal!BJ$5:BJ$20,Cal!$BA7)),"-") -> 3 | F11: =IFERROR(IF(LEN(INDEX(Cal!$BB$5:$BB$20,Cal!$BA7))=0,"",INDEX(Cal!BK$5:BK$20,Cal!$BA7)),"-") -> marketing | G11: =IFERROR(IF(LEN(INDEX(Cal!$BB$5:$BB$20,Cal!$BA7))=0,"",INDEX(Cal!BL$5:BL$20,Cal!$BA7)),"-") -> 2
C12: https://www.example.com/services/seo | E12: =IFERROR(IF(LEN(INDEX(Cal!$BB$5:$BB$20,Cal!$BA8))=0,"",INDEX(Cal!BJ$5:BJ$20,Cal!$BA8)),"-") -> 4 | F12: =IFERROR(IF(LEN(INDEX(Cal!$BB$5:$BB$20,Cal!$BA8))=0,"",INDEX(Cal!BK$5:BK$20,Cal!$BA8)),"-") -> seo | G12: =IFERROR(IF(LEN(INDEX(Cal!$BB$5:$BB$20,Cal!$BA8))=0,"",INDEX(Cal!BL$5:BL$20,Cal!$BA8)),"-") -> 2
C13: https://www.example.com/services/marketing/ppc | E13: =IFERROR(IF(LEN(INDEX(Cal!$BB$5:$BB$20,Cal!$BA9))=0,"",INDEX(Cal!BJ$5:BJ$20,Cal!$BA9)),"-") -> 5 | F13: =IFERROR(IF(LEN(INDEX(Cal!$BB$5:$BB$20,Cal!$BA9))=0,"",INDEX(Cal!BK$5:BK$20,Cal!$BA9)),"-") -> ppc | G13: =IFERROR(IF(LEN(INDEX(Cal!$BB$5:$BB$20,Cal!$BA9))=0,"",INDEX(Cal!BL$5:BL$20,Cal!$BA9)),"-") -> 3
C14: https://www.example.com/services/marketing/social-media | E14: =IFERROR(IF(LEN(INDEX(Cal!$BB$5:$BB$20,Cal!$BA10))=0,"",INDEX(Cal!BJ$5:BJ$20,Cal!$BA10)),"-") -> 6 | F14: =IFERROR(IF(LEN(INDEX(Cal!$BB$5:$BB$20,Cal!$BA10))=0,"",INDEX(Cal!BK$5:BK$20,Cal!$BA10)),"-") -> social-media | G14: =IFERROR(IF(LEN(INDEX(Cal!$BB$5:$BB$20,Cal!$BA10))=0,"",INDEX(Cal!BL$5:BL$20,Cal!$BA10)),"-") -> 3
C15: https://www.example.com/services/marketing/content | E15: =IFERROR(IF(LEN(INDEX(Cal!$BB$5:$BB$20,Cal!$BA11))=0,"",INDEX(Cal!BJ$5:BJ$20,Cal!$BA11)),"-") -> 7 | F15: =IFERROR(IF(LEN(INDEX(Cal!$BB$5:$BB$20,Cal!$BA11))=0,"",INDEX(Cal!BK$5:BK$20,Cal!$BA11)),"-") -> content | G15: =IFERROR(IF(LEN(INDEX(Cal!$BB$5:$BB$20,Cal!$BA11))=0,"",INDEX(Cal!BL$5:BL$20,Cal!$BA11)),"-") -> 3
C16: https://www.example.com/services/emailing | E16: =IFERROR(IF(LEN(INDEX(Cal!$BB$5:$BB$20,Cal!$BA12))=0,"",INDEX(Cal!BJ$5:BJ$20,Cal!$BA12)),"-") -> 8 | F16: =IFERROR(IF(LEN(INDEX(Cal!$BB$5:$BB$20,Cal!$BA12))=0,"",INDEX(Cal!BK$5:BK$20,Cal!$BA12)),"-") -> emailing | G16: =IFERROR(IF(LEN(INDEX(Cal!$BB$5:$BB$20,Cal!$BA12))=0,"",INDEX(Cal!BL$5:BL$20,Cal!$BA12)),"-") -> 2
C17: https://www.example.com/services/affiliate | E17: =IFERROR(IF(LEN(INDEX(Cal!$BB$5:$BB$20,Cal!$BA13))=0,"",INDEX(Cal!BJ$5:BJ$20,Cal!$BA13)),"-") -> 9 | F17: =IFERROR(IF(LEN(INDEX(Cal!$BB$5:$BB$20,Cal!$BA13))=0,"",INDEX(Cal!BK$5:BK$20,Cal!$BA13)),"-") -> affiliate | G17: =IFERROR(IF(LEN(INDEX(Cal!$BB$5:$BB$20,Cal!$BA13))=0,"",INDEX(Cal!BL$5:BL$20,Cal!$BA13)),"-") -> 2
C18: https://www.example.com/services/marketing/influencer | E18: =IFERROR(IF(LEN(INDEX(Cal!$BB$5:$BB$20,Cal!$BA14))=0,"",INDEX(Cal!BJ$5:BJ$20,Cal!$BA14)),"-") -> 10 | F18: =IFERROR(IF(LEN(INDEX(Cal!$BB$5:$BB$20,Cal!$BA14))=0,"",INDEX(Cal!BK$5:BK$20,Cal!$BA14)),"-") -> influencer | G18: =IFERROR(IF(LEN(INDEX(Cal!$BB$5:$BB$20,Cal!$BA14))=0,"",INDEX(Cal!BL$5:BL$20,Cal!$BA14)),"-") -> 3
C19: https://www.example.com/blog | E19: =IFERROR(IF(LEN(INDEX(Cal!$BB$5:$BB$20,Cal!$BA15))=0,"",INDEX(Cal!BJ$5:BJ$20,Cal!$BA15)),"-") -> 11 | F19: =IFERROR(IF(LEN(INDEX(Cal!$BB$5:$BB$20,Cal!$BA15))=0,"",INDEX(Cal!BK$5:BK$20,Cal!$BA15)),"-") -> blog | G19: =IFERROR(IF(LEN(INDEX(Cal!$BB$5:$BB$20,Cal!$BA15))=0,"",INDEX(Cal!BL$5:BL$20,Cal!$BA15)),"-") -> Main Page
C20: https://www.example.com/blog/seo-tips | E20: =IFERROR(IF(LEN(INDEX(Cal!$BB$5:$BB$20,Cal!$BA16))=0,"",INDEX(Cal!BJ$5:BJ$20,Cal!$BA16)),"-") -> 12 | F20: =IFERROR(IF(LEN(INDEX(Cal!$BB$5:$BB$20,Cal!$BA16))=0,"",INDEX(Cal!BK$5:BK$20,Cal!$BA16)),"-") -> seo-tips | G20: =IFERROR(IF(LEN(INDEX(Cal!$BB$5:$BB$20,Cal!$BA16))=0,"",INDEX(Cal!BL$5:BL$20,Cal!$BA16)),"-") -> 11
... C22: https://www.example.com/blog/social-media-tips | E22: =IFERROR(IF(LEN(INDEX(Cal!$BB$5:$BB$20,Cal!$BA18))=0,"",INDEX(Cal!BJ$5:BJ$20,Cal!$BA18)),"-") -> 14 | F22: =IFERROR(IF(LEN(INDEX(Cal!$BB$5:$BB$20,Cal!$BA18))=0,"",INDEX(Cal!BK$5:BK$20,Cal!$BA18)),"-") -> social-media-tips | G22: =IFERROR(IF(LEN(INDEX(Cal!$BB$5:$BB$20,Cal!$BA18))=0,"",INDEX(Cal!BL$5:BL$20,Cal!$BA18)),"-") -> 11
E23: =IFERROR(IF(LEN(INDEX(Cal!$BB$5:$BB$20,Cal!$BA19))=0,"",INDEX(Cal!BJ$5:BJ$20,Cal!$BA19)),"-") | F23: =IFERROR(IF(LEN(INDEX(Cal!$BB$5:$BB$20,Cal!$BA19))=0,"",INDEX(Cal!BK$5:BK$20,Cal!$BA19)),"-") | G23: =IFERROR(IF(LEN(INDEX(Cal!$BB$5:$BB$20,Cal!$BA19))=0,"",INDEX(Cal!BL$5:BL$20,Cal!$BA19)),"-")
E24: =IFERROR(IF(LEN(INDEX(Cal!$BB$5:$BB$20,Cal!$BA20))=0,"",INDEX(Cal!BJ$5:BJ$20,Cal!$BA20)),"-") | F24: =IFERROR(IF(LEN(INDEX(Cal!$BB$5:$BB$20,Cal!$BA20))=0,"",INDEX(Cal!BK$5:BK$20,Cal!$BA20)),"-") | G24: =IFERROR(IF(LEN(INDEX(Cal!$BB$5:$BB$20,Cal!$BA20))=0,"",INDEX(Cal!BL$5:BL$20,Cal!$BA20)),"-")

Sheet Cal
B2: =IFERROR(MAX(B4:B20,1)+1,1) -> 13
B3: Data Validation | E3: Settings | T3: x | Z3: y | AE3: N of 2. Step | AF3: N of 3. Step | AG3: N of 4. Step | AH3: N of 5. Step | AI3: Last | BA3: Converter | BB3: {=IFERROR(MAX(BA5:BA20*(LEN(BB5:BB20)>0)),1)} -> 14 | BO3: =IFERROR(SUM(BO5:BO20),0) -> 0 | BP3: =IFERROR(SUM(BP5:BP20),0) -> 0 | BQ3: =IFERROR(SUM(BQ5:BQ20),0) -> 0 | BR3: =IFERROR(SUM(BR5:BR20),0) -> 0
C4: Main Page | I4: Index | J4: ID | K4: Name | L4: Precedent | M4: Current page? | N4: URL | O4: Adj | P4: Count | Q4: Level | R4: Connect | T4: 1 | U4: 2 | V4: 3 | W4: 4 | X4: 5 | Y4: n of successor | Z4: 1 | AA4: 2 | AB4: 3 | AC4: 4 | AD4: 5 | AE4: 1 | AF4: 2 | AG4: 3 | AH4: 4 | AI4: 5 | AJ4: Count step | AK4: x | AL4: y | AM4: 0 | AN4: =MAX($AM$4:AM4)+F16 -> 1 | AO4: Index For Condition | AS4: Index | AU4: border x | AV4: border beg | AW4: border end | BA4: Index | BB4: URL | BJ4: ID | BK4: Name | BL4: Precedent | BM4: URL | BO4: ID Duplicate | BP4: Precedent Check | BQ4: Limit Check | BR4: Level Check | BT4: Error Check
B5: =IF(LEN(K5)=0,"",I5) -> 1 | C5: =IFERROR(INDEX($J$5:$J$20,SMALL($B$5:$B$20,$I5)),"") -> 1 | E5: Level | F5: Color | I5: 1 | J5: =IF(LEN(INDEX(Menu!C$7:C$22,Cal!$I5))=0,"",INDEX(Menu!C$7:C$22,Cal!$I5)) -> 1 | K5: =IFERROR(IF(LEN(INDEX(Menu!D$7:D$22,Cal!$I5))=0,"",INDEX(Menu!D$7:D$22,Cal!$I5)),"") -> home | L5: =IFERROR(IF(LEN($K5)=0,"",IF(INDEX(Menu!E$7:E$22,Cal!$I5)=J5,"Main Page",IF(LEN(INDEX(Menu!E$7:E$22,Cal!$I5))=0,"Main Page",INDEX(Menu!E$7:E$22,Cal!$I5)))),"Main Page") -> Main Page | M5: =IFERROR(IF(LEN(INDEX(Menu!F$7:F$22,Cal!$I5))=0,"",INDEX(Menu!F$7:F$22,Cal!$I5)),"") | N5: =IFERROR(IF(LEN(K5)=0,"",INDEX($N$5:$N$20,MATCH($O5,$J$5:$J$20,0))),"")&IFERROR(IF(LEN(K5)=0,"","/"&K5),"") -> /home | O5: =IFERROR(IF(L5="Main Page",0,L5),"") -> 0 | P5: =IFERROR(IF(LEN(K5)=0,"",COUNTIF($L$5:L5,L5)),"") -> 1 | Q5: =IFERROR(IF(LEN(K5)=0,"",IF(L5="Main Page",1,INDEX($Q$5:$Q$20,MATCH(L5,$J$5:$J$20,0))+1)),"") -> 1 | R5: =O5&"-"&P5 -> 0-1 | T5: =IFERROR(IF($Q5=T$4,IF(P5=1,0,INDEX($T$5:$T$20,MATCH(O5&"-"&P5-1,$R$5:$R$20,0),0)+INDEX($AJ$5:$AJ$20,MATCH(O5&"-"&P5-1,$R$5:$R$20,0))*3+3),""),"") -> 0 | U5: =IFERROR(IF($Q5=U$4,INDEX($T$5:$T$20,MATCH($L5,$J$5:$J$20,0))+3,""),"") | V5: =IFERROR(IF($Q5=V$4,INDEX($U$5:$U$20,MATCH($L5,$J$5:$J$20,0))+3,""),"") | W5: =IFERROR(IF($Q5=W$4,INDEX($V$5:$V$20,MATCH($L5,$J$5:$J$20,0))+3,""),"") | X5: =IFERROR(IF($Q5=X$4,INDEX($W$5:$W$20,MATCH($L5,$J$5:$J$20,0))+3,""),"") | Y5: =IFERROR(IF(LEN(K5)=0,"",COUNTIF($O$5:$O$20,J5)+SUMIF($O$5:$O$20,J5,$Y$5:$Y$20)),"") -> 0 | Z5: =IFERROR(IF($Q5=Z$4,3,""),"") -> 3 | AA5: =IFERROR(IF($Q5=AA$4,IF($P5=1,sumadj+1+INDEX(Z$5:Z$20,MATCH($L5,$J$5:$J$20,0)),INDEX(AA$5:AA$20,MATCH($O5&"-"&$P5-1,$R$5:$R$20,0),0)+sumadj+1)+IFERROR(INDEX($Y$5:$Y$20,MATCH($O5&"-"&$P5-1,$R$5:$R$20,0))*(sumadj+1),0),""),"") | AB5: =IFERROR(IF($Q5=AB$4,IF($P5=1,sumadj+1+INDEX(AA$5:AA$20,MATCH($L5,$J$5:$J$20,0)),INDEX(AB$5:AB$20,MATCH($O5&"-"&$P5-1,$R$5:$R$20,0),0)+sumadj+1)+IFERROR(INDEX($Y$5:$Y$20,MATCH($O5&"-"&$P5-1,$R$5:$R$20,0))*(sumadj+1),0),""),"") | AC5: =IFERROR(IF($Q5=AC$4,IF($P5=1,sumadj+1+INDEX(AB$5:AB$20,MATCH($L5,$J$5:$J$20,0)),INDEX(AC$5:AC$20,MATCH($O5&"-"&$P5-1,$R$5:$R$20,0),0)+sumadj+1)+IFERROR(INDEX($Y$5:$Y$20,MATCH($O5&"-"&$P5-1,$R$5:$R$20,0))*(sumadj+1),0),""),"") | AD5: =IFERROR(IF($Q5=AD$4,IF($P5=1,sumadj+1+INDEX(AC$5:AC$20,MATCH($L5,$J$5:$J$20,0)),INDEX(AD$5:AD$20,MATCH($O5&"-"&$P5-1,$R$5:$R$20,0),0)+sumadj+1)+IFERROR(INDEX($Y$5:$Y$20,MATCH($O5&"-"&$P5-1,$R$5:$R$20,0))*(sumadj+1),0),""),"") | AE5: =IFERROR(IF(LEN($K5)=0,"",IF($Q5=AE$4,IF(COUNTIF($O$5:$O$20,$J5)>0,1,0)+SUMIF($O$5:$O$20,$J5,AF$5:AF$20),"")),"") -> 0 | AF5: =IFERROR(IF(LEN($K5)=0,"",IF($Q5=AF$4,IF(COUNTIF($O$5:$O$20,$J5)>0,1,0)+SUMIF($O$5:$O$20,$J5,AG$5:AG$20),"")),"") | AG5: =IFERROR(IF(LEN($K5)=0,"",IF($Q5=AG$4,IF(COUNTIF($O$5:$O$20,$J5)>0,1,0)+SUMIF($O$5:$O$20,$J5,AH$5:AH$20),"")),"") | AH5: =IFERROR(IF(LEN($K5)=0,"",IF($Q5=AH$4,IF(COUNTIF($O$5:$O$20,$J5)>0,1,0)+SUMIF($O$5:$O$20,$J5,AI$5:AI$20),"")),"") | AI5: =IFERROR(IF(LEN($K5)=0,"",IF($Q5=AI$4,IF(COUNTIF($O$5:$O$20,$J5)>0,1,0),"")),"") | AJ5: =IFERROR(IF(LEN(K5)=0,"",SUM(AE5:AI5)),"") -> 0 | AK5: =IFERROR(IF(LEN(K5)=0,"",SUM(T5:X5)),"") -> 0 | AL5: =IFERROR(IF(LEN(K5)=0,"",IF(SUM(Z5:AD5)=0,"",SUM(Z5:AD5))),"") -> 3 | AM5: =IFERROR($AK5&"-"&$AL5+AM$4,"") -> 0-3 | AN5: =IFERROR($AK5&"-"&$AL5+AN$4,"") -> 0-4 | AP5: =IF(LEN(K5)=0,"*Nodata*!!",IF($F$15=1,J5&"-","")&K5) -> 1-home | AQ5: =AM5 -> 0-3 | AS5: 1 | AT5: =IF(LEN(T5)=0,"",T5) -> 0 | AU5: =IFERROR(IF(LEN(AV5)=0,"",AK5),"") | AV5: =IFERROR(IF(LEN(AW5)=0,"",AL5+1),"") | AW5: {=IFERROR(IF(LEN(K5)=0,"",IF($Y5>0,MAX(IF($O$5:$O$20=$J5,$AL$5:$AL$20,"")),"")),"")} | AX5: =IFERROR(IF(AND(M5="no",O5=0),AK5,""),"") | AY5: =IFERROR(IF(AND(M5="No",O5>0),AK5&"-"&AL5,""),"") | BA5: 1 | BB5: =IFERROR(IF(LEN(INDEX(Converter!C$9:C$24,Cal!$BA5))=0,"",INDEX(Converter!C$9:C$24,Cal!$BA5)),"") -> https://www.example.com/home | BC5: =IFERROR(FIND(" ",SUBSTITUTE($BB5,"/"," ",3)),"") -> 24 | BD5: =IFERROR(FIND(" ",SUBSTITUTE($BB5,"/"," ",4)),"") | BE5: =IFERROR(FIND(" ",SUBSTITUTE($BB5,"/"," ",5)),"") | BF5: =IFERROR(MID($BB5,BC5+1,IF(ISNUMBER(BD5),BD5-1,LEN($BB5))-BC5),"") -> home | BG5: =IFERROR(MID($BB5,BD5+1,IF(ISNUMBER(BE5),BE5-1,LEN($BB5))-BD5),"") | BH5: =IFERROR(MID($BB5,BE5+1,IF(ISNUMBER(BF5),BF5-1,LEN($BB5))-BE5),"") | BI5: =IFERROR(IF(LEN(BB5)=0,"",COUNT(BC5:BE5)),"") -> 1 | BJ5: =IF(LEN(BB5)=0,"",BA5) -> 1 | BK5: =IFERROR(IF(LEN(BB5)=0,"",INDEX(BF5:BH5,BI5)),"") -> home | BL5: =IFERROR(IF(LEN(BB5)=0,"",IF(BI5<2,"Main Page",MATCH(INDEX(BF5:BH5,BI5-1),$BK$5:$BK$20,0))),"") -> Main Page | BM5: =IFERROR(IF(LEN(BB5)=0,"",RIGHT(BB5,LEN(BB5)+1-BC5)),"") -> /home | BO5: =IF(LEN(J5)=0,"",IF(COUNTIF($J$5:$J$20,J5)=1,0,1)) -> 0 | BP5: =IF(LEN(L5)=0,"",IF(OR(L5="Main Page",COUNTIF($J$5:$J$20,L5)>0),0,1)) -> 0 | BQ5: =IF(LEN(K5)=0,"",IF(OR(LEN(AK5)=0,LEN(AL5)=0),0,IF(AND(AK5<150,AL5<450),0,1))) -> 0 | BR5: =IF(LEN(Q5)=0,"",IF(Q5>5,1,0)) -> 0 | BT5: =IF(BO3>0,BT6&CHAR(10),"")& IF(BP3>0,BT7&CHAR(10),"")& IF(BR3>0,BT9&CHAR(10),"")& IF(BQ3>0,BT8,"")& IF(SUM(BO3:BR3)=0,"All is ok!"&CHAR(10)&"You can check the sitemap","") -> All is ok! You can check the sitemap
B6: =IF(LEN(K6)=0,"",I6) -> 2 | C6: =IFERROR(INDEX($J$5:$J$20,SMALL($B$5:$B$20,$I6)),"") -> 2 | E6: =IFERROR(IF(LEN(Menu!O12)=0,"",Menu!O12),"") -> 1.Level | F6: =IFERROR(IF(LEN(Menu!P12)=0,"Blue",Menu!P12),"Blue") -> Blue | I6: 2 | J6: =IF(LEN(INDEX(Menu!C$7:C$22,Cal!$I6))=0,"",INDEX(Menu!C$7:C$22,Cal!$I6)) -> 2 | K6: =IFERROR(IF(LEN(INDEX(Menu!D$7:D$22,Cal!$I6))=0,"",INDEX(Menu!D$7:D$22,Cal!$I6)),"") -> services | L6: =IFERROR(IF(LEN($K6)=0,"",IF(INDEX(Menu!E$7:E$22,Cal!$I6)=J6,"Main Page",IF(LEN(INDEX(Menu!E$7:E$22,Cal!$I6))=0,"Main Page",INDEX(Menu!E$7:E$22,Cal!$I6)))),"Main Page") -> Main Page | M6: =IFERROR(IF(LEN(INDEX(Menu!F$7:F$22,Cal!$I6))=0,"",INDEX(Menu!F$7:F$22,Cal!$I6)),"") -> No | N6: =IFERROR(IF(LEN(K6)=0,"",INDEX($N$5:$N$20,MATCH($O6,$J$5:$J$20,0))),"")&IFERROR(IF(LEN(K6)=0,"","/"&K6),"") -> /services | O6: =IFERROR(IF(L6="Main Page",0,L6),"") -> 0 | P6: =IFERROR(IF(LEN(K6)=0,"",COUNTIF($L$5:L6,L6)),"") -> 2 | Q6: =IFERROR(IF(LEN(K6)=0,"",IF(L6="Main Page",1,INDEX($Q$5:$Q$20,MATCH(L6,$J$5:$J$20,0))+1)),"") -> 1 | R6: =O6&"-"&P6 -> 0-2 | T6: =IFERROR(IF($Q6=T$4,IF(P6=1,0,INDEX($T$5:$T$20,MATCH(O6&"-"&P6-1,$R$5:$R$20,0),0)+INDEX($AJ$5:$AJ$20,MATCH(O6&"-"&P6-1,$R$5:$R$20,0))*3+3),""),"") -> 3 | U6: =IFERROR(IF($Q6=U$4,INDEX($T$5:$T$20,MATCH($L6,$J$5:$J$20,0))+3,""),"") | V6: =IFERROR(IF($Q6=V$4,INDEX($U$5:$U$20,MATCH($L6,$J$5:$J$20,0))+3,""),"") | W6: =IFERROR(IF($Q6=W$4,INDEX($V$5:$V$20,MATCH($L6,$J$5:$J$20,0))+3,""),"") | X6: =IFERROR(IF($Q6=X$4,INDEX($W$5:$W$20,MATCH($L6,$J$5:$J$20,0))+3,""),"") | Y6: =IFERROR(IF(LEN(K6)=0,"",COUNTIF($O$5:$O$20,J6)+SUMIF($O$5:$O$20,J6,$Y$5:$Y$20)),"") -> 6 | Z6: =IFERROR(IF($Q6=Z$4,3,""),"") -> 3 | AA6: =IFERROR(IF($Q6=AA$4,IF($P6=1,sumadj+1+INDEX(Z$5:Z$20,MATCH($L6,$J$5:$J$20,0)),INDEX(AA$5:AA$20,MATCH($O6&"-"&$P6-1,$R$5:$R$20,0),0)+sumadj+1)+IFERROR(INDEX($Y$5:$Y$20,MATCH($O6&"-"&$P6-1,$R$5:$R$20,0))*(sumadj+1),0),""),"") | AB6: =IFERROR(IF($Q6=AB$4,IF($P6=1,sumadj+1+INDEX(AA$5:AA$20,MATCH($L6,$J$5:$J$20,0)),INDEX(AB$5:AB$20,MATCH($O6&"-"&$P6-1,$R$5:$R$20,0),0)+sumadj+1)+IFERROR(INDEX($Y$5:$Y$20,MATCH($O6&"-"&$P6-1,$R$5:$R$20,0))*(sumadj+1),0),""),"") | AC6: =IFERROR(IF($Q6=AC$4,IF($P6=1,sumadj+1+INDEX(AB$5:AB$20,MATCH($L6,$J$5:$J$20,0)),INDEX(AC$5:AC$20,MATCH($O6&"-"&$P6-1,$R$5:$R$20,0),0)+sumadj+1)+IFERROR(INDEX($Y$5:$Y$20,MATCH($O6&"-"&$P6-1,$R$5:$R$20,0))*(sumadj+1),0),""),"") | AD6: =IFERROR(IF($Q6=AD$4,IF($P6=1,sumadj+1+INDEX(AC$5:AC$20,MATCH($L6,$J$5:$J$20,0)),INDEX(AD$5:AD$20,MATCH($O6&"-"&$P6-1,$R$5:$R$20,0),0)+sumadj+1)+IFERROR(INDEX($Y$5:$Y$20,MATCH($O6&"-"&$P6-1,$R$5:$R$20,0))*(sumadj+1),0),""),"") | AE6: =IFERROR(IF(LEN($K6)=0,"",IF($Q6=AE$4,IF(COUNTIF($O$5:$O$20,$J6)>0,1,0)+SUMIF($O$5:$O$20,$J6,AF$5:AF$20),"")),"") -> 2 | AF6: =IFERROR(IF(LEN($K6)=0,"",IF($Q6=AF$4,IF(COUNTIF($O$5:$O$20,$J6)>0,1,0)+SUMIF($O$5:$O$20,$J6,AG$5:AG$20),"")),"") | AG6: =IFERROR(IF(LEN($K6)=0,"",IF($Q6=AG$4,IF(COUNTIF($O$5:$O$20,$J6)>0,1,0)+SUMIF($O$5:$O$20,$J6,AH$5:AH$20),"")),"") | AH6: =IFERROR(IF(LEN($K6)=0,"",IF($Q6=AH$4,IF(COUNTIF($O$5:$O$20,$J6)>0,1,0)+SUMIF($O$5:$O$20,$J6,AI$5:AI$20),"")),"") | AI6: =IFERROR(IF(LEN($K6)=0,"",IF($Q6=AI$4,IF(COUNTIF($O$5:$O$20,$J6)>0,1,0),"")),"") | AJ6: =IFERROR(IF(LEN(K6)=0,"",SUM(AE6:AI6)),"") -> 2 | AK6: =IFERROR(IF(LEN(K6)=0,"",SUM(T6:X6)),"") -> 3 | AL6: =IFERROR(IF(LEN(K6)=0,"",IF(SUM(Z6:AD6)=0,"",SUM(Z6:AD6))),"") -> 3 | AM6: =IFERROR($AK6&"-"&$AL6+AM$4,"") -> 3-3 | AN6: =IFERROR($AK6&"-"&$AL6+AN$4,"") -> 3-4 | AP6: =IF(LEN(K6)=0,"*Nodata*!!",IF($F$15=1,J6&"-","")&K6) -> 2-services | AQ6: =AM6 -> 3-3 | AS6: 2 | AT6: =IF(LEN(T6)=0,"",T6) -> 3 | AU6: =IFERROR(IF(LEN(AV6)=0,"",AK6),"") -> 3 | AV6: =IFERROR(IF(LEN(AW6)=0,"",AL6+1),"") -> 4 | AW6: {=IFERROR(IF(LEN(K6)=0,"",IF($Y6>0,MAX(IF($O$5:$O$20=$J6,$AL$5:$AL$20,"")),"")),"")} -> 21 | AX6: =IFERROR(IF(AND(M6="no",O6=0),AK6,""),"") -> 3 | AY6: =IFERROR(IF(AND(M6="No",O6>0),AK6&"-"&AL6,""),"") | BA6: 2 | BB6: =IFERROR(IF(LEN(INDEX(Converter!C$9:C$24,Cal!$BA6))=0,"",INDEX(Converter!C$9:C$24,Cal!$BA6)),"") -> https://www.example.com/services | BC6: =IFERROR(FIND(" ",SUBSTITUTE($BB6,"/"," ",3)),"") -> 24 | BD6: =IFERROR(FIND(" ",SUBSTITUTE($BB6,"/"," ",4)),"") | BE6: =IFERROR(FIND(" ",SUBSTITUTE($BB6,"/"," ",5)),"") | BF6: =IFERROR(MID($BB6,BC6+1,IF(ISNUMBER(BD6),BD6-1,LEN($BB6))-BC6),"") -> services | BG6: =IFERROR(MID($BB6,BD6+1,IF(ISNUMBER(BE6),BE6-1,LEN($BB6))-BD6),"") | BH6: =IFERROR(MID($BB6,BE6+1,IF(ISNUMBER(BF6),BF6-1,LEN($BB6))-BE6),"") | BI6: =IFERROR(IF(LEN(BB6)=0,"",COUNT(BC6:BE6)),"") -> 1 | BJ6: =IF(LEN(BB6)=0,"",BA6) -> 2 | BK6: =IFERROR(IF(LEN(BB6)=0,"",INDEX(BF6:BH6,BI6)),"") -> services | BL6: =IFERROR(IF(LEN(BB6)=0,"",IF(BI6<2,"Main Page",MATCH(INDEX(BF6:BH6,BI6-1),$BK$5:$BK$20,0))),"") -> Main Page | BM6: =IFERROR(IF(LEN(BB6)=0,"",RIGHT(BB6,LEN(BB6)+1-BC6)),"") -> /services | BO6: =IF(LEN(J6)=0,"",IF(COUNTIF($J$5:$J$20,J6)=1,0,1)) -> 0 | BP6: =IF(LEN(L6)=0,"",IF(OR(L6="Main Page",COUNTIF($J$5:$J$20,L6)>0),0,1)) -> 0 | BQ6: =IF(LEN(K6)=0,"",IF(OR(LEN(AK6)=0,LEN(AL6)=0),0,IF(AND(AK6<150,AL6<450),0,1))) -> 0 | BR6: =IF(LEN(Q6)=0,"",IF(Q6>5,1,0)) -> 0 | BT6: There are duplicate IDs.
B7: =IF(LEN(K7)=0,"",I7) -> 3 | C7: =IFERROR(INDEX($J$5:$J$20,SMALL($B$5:$B$20,$I7)),"") -> 3 | E7: =IFERROR(IF(LEN(Menu!O13)=0,"",Menu!O13),"") -> 2.Level | F7: =IFERROR(IF(LEN(Menu!P13)=0,"Blue",Menu!P13),"Blue") -> Red | I7: 3 | J7: =IF(LEN(INDEX(Menu!C$7:C$22,Cal!$I7))=0,"",INDEX(Menu!C$7:C$22,Cal!$I7)) -> 3 | K7: =IFERROR(IF(LEN(INDEX(Menu!D$7:D$22,Cal!$I7))=0,"",INDEX(Menu!D$7:D$22,Cal!$I7)),"") -> marketing | L7: =IFERROR(IF(LEN($K7)=0,"",IF(INDEX(Menu!E$7:E$22,Cal!$I7)=J7,"Main Page",IF(LEN(INDEX(Menu!E$7:E$22,Cal!$I7))=0,"Main Page",INDEX(Menu!E$7:E$22,Cal!$I7)))),"Main Page") -> 2 | M7: =IFERROR(IF(LEN(INDEX(Menu!F$7:F$22,Cal!$I7))=0,"",INDEX(Menu!F$7:F$22,Cal!$I7)),"") | N7: =IFERROR(IF(LEN(K7)=0,"",INDEX($N$5:$N$20,MATCH($O7,$J$5:$J$20,0))),"")&IFERROR(IF(LEN(K7)=0,"","/"&K7),"") -> /services/marketing | O7: =IFERROR(IF(L7="Main Page",0,L7),"") -> 2 | P7: =IFERROR(IF(LEN(K7)=0,"",COUNTIF($L$5:L7,L7)),"") -> 1 | Q7: =IFERROR(IF(LEN(K7)=0,"",IF(L7="Main Page",1,INDEX($Q$5:$Q$20,MATCH(L7,$J$5:$J$20,0))+1)),"") -> 2 | R7: =O7&"-"&P7 -> 2-1 | T7: =IFERROR(IF($Q7=T$4,IF(P7=1,0,INDEX($T$5:$T$20,MATCH(O7&"-"&P7-1,$R$5:$R$20,0),0)+INDEX($AJ$5:$AJ$20,MATCH(O7&"-"&P7-1,$R$5:$R$20,0))*3+3),""),"") | U7: =IFERROR(IF($Q7=U$4,INDEX($T$5:$T$20,MATCH($L7,$J$5:$J$20,0))+3,""),"") -> 6 | V7: =IFERROR(IF($Q7=V$4,INDEX($U$5:$U$20,MATCH($L7,$J$5:$J$20,0))+3,""),"") | W7: =IFERROR(IF($Q7=W$4,INDEX($V$5:$V$20,MATCH($L7,$J$5:$J$20,0))+3,""),"") | X7: =IFERROR(IF($Q7=X$4,INDEX($W$5:$W$20,MATCH($L7,$J$5:$J$20,0))+3,""),"") | Y7: =IFERROR(IF(LEN(K7)=0,"",COUNTIF($O$5:$O$20,J7)+SUMIF($O$5:$O$20,J7,$Y$5:$Y$20)),"") -> 3 | Z7: =IFERROR(IF($Q7=Z$4,3,""),"") | AA7: =IFERROR(IF($Q7=AA$4,IF($P7=1,sumadj+1+INDEX(Z$5:Z$20,MATCH($L7,$J$5:$J$20,0)),INDEX(AA$5:AA$20,MATCH($O7&"-"&$P7-1,$R$5:$R$20,0),0)+sumadj+1)+IFERROR(INDEX($Y$5:$Y$20,MATCH($O7&"-"&$P7-1,$R$5:$R$20,0))*(sumadj+1),0),""),"") -> 6 | AB7: =IFERROR(IF($Q7=AB$4,IF($P7=1,sumadj+1+INDEX(AA$5:AA$20,MATCH($L7,$J$5:$J$20,0)),INDEX(AB$5:AB$20,MATCH($O7&"-"&$P7-1,$R$5:$R$20,0),0)+sumadj+1)+IFERROR(INDEX($Y$5:$Y$20,MATCH($O7&"-"&$P7-1,$R$5:$R$20,0))*(sumadj+1),0),""),"") | AC7: =IFERROR(IF($Q7=AC$4,IF($P7=1,sumadj+1+INDEX(AB$5:AB$20,MATCH($L7,$J$5:$J$20,0)),INDEX(AC$5:AC$20,MATCH($O7&"-"&$P7-1,$R$5:$R$20,0),0)+sumadj+1)+IFERROR(INDEX($Y$5:$Y$20,MATCH($O7&"-"&$P7-1,$R$5:$R$20,0))*(sumadj+1),0),""),"") | AD7: =IFERROR(IF($Q7=AD$4,IF($P7=1,sumadj+1+INDEX(AC$5:AC$20,MATCH($L7,$J$5:$J$20,0)),INDEX(AD$5:AD$20,MATCH($O7&"-"&$P7-1,$R$5:$R$20,0),0)+sumadj+1)+IFERROR(INDEX($Y$5:$Y$20,MATCH($O7&"-"&$P7-1,$R$5:$R$20,0))*(sumadj+1),0),""),"") | AE7: =IFERROR(IF(LEN($K7)=0,"",IF($Q7=AE$4,IF(COUNTIF($O$5:$O$20,$J7)>0,1,0)+SUMIF($O$5:$O$20,$J7,AF$5:AF$20),"")),"") | AF7: =IFERROR(IF(LEN($K7)=0,"",IF($Q7=AF$4,IF(COUNTIF($O$5:$O$20,$J7)>0,1,0)+SUMIF($O$5:$O$20,$J7,AG$5:AG$20),"")),"") -> 1 | AG7: =IFERROR(IF(LEN($K7)=0,"",IF($Q7=AG$4,IF(COUNTIF($O$5:$O$20,$J7)>0,1,0)+SUMIF($O$5:$O$20,$J7,AH$5:AH$20),"")),"") | AH7: =IFERROR(IF(LEN($K7)=0,"",IF($Q7=AH$4,IF(COUNTIF($O$5:$O$20,$J7)>0,1,0)+SUMIF($O$5:$O$20,$J7,AI$5:AI$20),"")),"") | AI7: =IFERROR(IF(LEN($K7)=0,"",IF($Q7=AI$4,IF(COUNTIF($O$5:$O$20,$J7)>0,1,0),"")),"") | AJ7: =IFERROR(IF(LEN(K7)=0,"",SUM(AE7:AI7)),"") -> 1 | AK7: =IFERROR(IF(LEN(K7)=0,"",SUM(T7:X7)),"") -> 6 | AL7: =IFERROR(IF(LEN(K7)=0,"",IF(SUM(Z7:AD7)=0,"",SUM(Z7:AD7))),"") -> 6 | AM7: =IFERROR($AK7&"-"&$AL7+AM$4,"") -> 6-6 | AN7: =IFERROR($AK7&"-"&$AL7+AN$4,"") -> 6-7 | AP7: =IF(LEN(K7)=0,"*Nodata*!!",IF($F$15=1,J7&"-","")&K7) -> 3-marketing | AQ7: =AM7 -> 6-6 | AS7: 3 | AT7: =IF(LEN(T7)=0,"",T7) | AU7: =IFERROR(IF(LEN(AV7)=0,"",AK7),"") -> 6 | AV7: =IFERROR(IF(LEN(AW7)=0,"",AL7+1),"") -> 7 | AW7: {=IFERROR(IF(LEN(K7)=0,"",IF($Y7>0,MAX(IF($O$5:$O$20=$J7,$AL$5:$AL$20,"")),"")),"")} -> 15 | AX7: =IFERROR(IF(AND(M7="no",O7=0),AK7,""),"") | AY7: =IFERROR(IF(AND(M7="No",O7>0),AK7&"-"&AL7,""),"") | BA7: 3 | BB7: =IFERROR(IF(LEN(INDEX(Converter!C$9:C$24,Cal!$BA7))=0,"",INDEX(Converter!C$9:C$24,Cal!$BA7)),"") -> https://www.example.com/services/marketing | BC7: =IFERROR(FIND(" ",SUBSTITUTE($BB7,"/"," ",3)),"") -> 24 | BD7: =IFERROR(FIND(" ",SUBSTITUTE($BB7,"/"," ",4)),"") -> 33 | BE7: =IFERROR(FIND(" ",SUBSTITUTE($BB7,"/"," ",5)),"") | BF7: =IFERROR(MID($BB7,BC7+1,IF(ISNUMBER(BD7),BD7-1,LEN($BB7))-BC7),"") -> services | BG7: =IFERROR(MID($BB7,BD7+1,IF(ISNUMBER(BE7),BE7-1,LEN($BB7))-BD7),"") -> marketing | BH7: =IFERROR(MID($BB7,BE7+1,IF(ISNUMBER(BF7),BF7-1,LEN($BB7))-BE7),"") | BI7: =IFERROR(IF(LEN(BB7)=0,"",COUNT(BC7:BE7)),"") -> 2 | BJ7: =IF(LEN(BB7)=0,"",BA7) -> 3 | BK7: =IFERROR(IF(LEN(BB7)=0,"",INDEX(BF7:BH7,BI7)),"") -> marketing | BL7: =IFERROR(IF(LEN(BB7)=0,"",IF(BI7<2,"Main Page",MATCH(INDEX(BF7:BH7,BI7-1),$BK$5:$BK$20,0))),"") -> 2 | BM7: =IFERROR(IF(LEN(BB7)=0,"",RIGHT(BB7,LEN(BB7)+1-BC7)),"") -> /services/marketing | BO7: =IF(LEN(J7)=0,"",IF(COUNTIF($J$5:$J$20,J7)=1,0,1)) -> 0 | BP7: =IF(LEN(L7)=0,"",IF(OR(L7="Main Page",COUNTIF($J$5:$J$20,L7)>0),0,1)) -> 0 | BQ7: =IF(LEN(K7)=0,"",IF(OR(LEN(AK7)=0,LEN(AL7)=0),0,IF(AND(AK7<150,AL7<450),0,1))) -> 0 | BR7: =IF(LEN(Q7)=0,"",IF(Q7>5,1,0)) -> 0 | BT7: Precedent ID does not exist.
B8: =IF(LEN(K8)=0,"",I8) -> 4 | C8: =IFERROR(INDEX($J$5:$J$20,SMALL($B$5:$B$20,$I8)),"") -> 4 | E8: =IFERROR(IF(LEN(Menu!O14)=0,"",Menu!O14),"") -> 3.Level | F8: =IFERROR(IF(LEN(Menu!P14)=0,"Blue",Menu!P14),"Blue") -> Green | I8: 4 | J8: =IF(LEN(INDEX(Menu!C$7:C$22,Cal!$I8))=0,"",INDEX(Menu!C$7:C$22,Cal!$I8)) -> 4 | K8: =IFERROR(IF(LEN(INDEX(Menu!D$7:D$22,Cal!$I8))=0,"",INDEX(Menu!D$7:D$22,Cal!$I8)),"") -> seo | L8: =IFERROR(IF(LEN($K8)=0,"",IF(INDEX(Menu!E$7:E$22,Cal!$I8)=J8,"Main Page",IF(LEN(INDEX(Menu!E$7:E$22,Cal!$I8))=0,"Main Page",INDEX(Menu!E$7:E$22,Cal!$I8)))),"Main Page") -> 2 | M8: =IFERROR(IF(LEN(INDEX(Menu!F$7:F$22,Cal!$I8))=0,"",INDEX(Menu!F$7:F$22,Cal!$I8)),"") | N8: =IFERROR(IF(LEN(K8)=0,"",INDEX($N$5:$N$20,MATCH($O8,$J$5:$J$20,0))),"")&IFERROR(IF(LEN(K8)=0,"","/"&K8),"") -> /services/seo | O8: =IFERROR(IF(L8="Main Page",0,L8),"") -> 2 | P8: =IFERROR(IF(LEN(K8)=0,"",COUNTIF($L$5:L8,L8)),"") -> 2 | Q8: =IFERROR(IF(LEN(K8)=0,"",IF(L8="Main Page",1,INDEX($Q$5:$Q$20,MATCH(L8,$J$5:$J$20,0))+1)),"") -> 2 | R8: =O8&"-"&P8 -> 2-2 | T8: =IFERROR(IF($Q8=T$4,IF(P8=1,0,INDEX($T$5:$T$20,MATCH(O8&"-"&P8-1,$R$5:$R$20,0),0)+INDEX($AJ$5:$AJ$20,MATCH(O8&"-"&P8-1,$R$5:$R$20,0))*3+3),""),"") | U8: =IFERROR(IF($Q8=U$4,INDEX($T$5:$T$20,MATCH($L8,$J$5:$J$20,0))+3,""),"") -> 6 | V8: =IFERROR(IF($Q8=V$4,INDEX($U$5:$U$20,MATCH($L8,$J$5:$J$20,0))+3,""),"") | W8: =IFERROR(IF($Q8=W$4,INDEX($V$5:$V$20,MATCH($L8,$J$5:$J$20,0))+3,""),"") | X8: =IFERROR(IF($Q8=X$4,INDEX($W$5:$W$20,MATCH($L8,$J$5:$J$20,0))+3,""),"") | Y8: =IFERROR(IF(LEN(K8)=0,"",COUNTIF($O$5:$O$20,J8)+SUMIF($O$5:$O$20,J8,$Y$5:$Y$20)),"") -> 0 | Z8: =IFERROR(IF($Q8=Z$4,3,""),"") | AA8: =IFERROR(IF($Q8=AA$4,IF($P8=1,sumadj+1+INDEX(Z$5:Z$20,MATCH($L8,$J$5:$J$20,0)),INDEX(AA$5:AA$20,MATCH($O8&"-"&$P8-1,$R$5:$R$20,0),0)+sumadj+1)+IFERROR(INDEX($Y$5:$Y$20,MATCH($O8&"-"&$P8-1,$R$5:$R$20,0))*(sumadj+1),0),""),"") -> 18 | AB8: =IFERROR(IF($Q8=AB$4,IF($P8=1,sumadj+1+INDEX(AA$5:AA$20,MATCH($L8,$J$5:$J$20,0)),INDEX(AB$5:AB$20,MATCH($O8&"-"&$P8-1,$R$5:$R$20,0),0)+sumadj+1)+IFERROR(INDEX($Y$5:$Y$20,MATCH($O8&"-"&$P8-1,$R$5:$R$20,0))*(sumadj+1),0),""),"") | AC8: =IFERROR(IF($Q8=AC$4,IF($P8=1,sumadj+1+INDEX(AB$5:AB$20,MATCH($L8,$J$5:$J$20,0)),INDEX(AC$5:AC$20,MATCH($O8&"-"&$P8-1,$R$5:$R$20,0),0)+sumadj+1)+IFERROR(INDEX($Y$5:$Y$20,MATCH($O8&"-"&$P8-1,$R$5:$R$20,0))*(sumadj+1),0),""),"") | AD8: =IFERROR(IF($Q8=AD$4,IF($P8=1,sumadj+1+INDEX(AC$5:AC$20,MATCH($L8,$J$5:$J$20,0)),INDEX(AD$5:AD$20,MATCH($O8&"-"&$P8-1,$R$5:$R$20,0),0)+sumadj+1)+IFERROR(INDEX($Y$5:$Y$20,MATCH($O8&"-"&$P8-1,$R$5:$R$20,0))*(sumadj+1),0),""),"") | AE8: =IFERROR(IF(LEN($K8)=0,"",IF($Q8=AE$4,IF(COUNTIF($O$5:$O$20,$J8)>0,1,0)+SUMIF($O$5:$O$20,$J8,AF$5:AF$20),"")),"") | AF8: =IFERROR(IF(LEN($K8)=0,"",IF($Q8=AF$4,IF(COUNTIF($O$5:$O$20,$J8)>0,1,0)+SUMIF($O$5:$O$20,$J8,AG$5:AG$20),"")),"") -> 0 | AG8: =IFERROR(IF(LEN($K8)=0,"",IF($Q8=AG$4,IF(COUNTIF($O$5:$O$20,$J8)>0,1,0)+SUMIF($O$5:$O$20,$J8,AH$5:AH$20),"")),"") | AH8: =IFERROR(IF(LEN($K8)=0,"",IF($Q8=AH$4,IF(COUNTIF($O$5:$O$20,$J8)>0,1,0)+SUMIF($O$5:$O$20,$J8,AI$5:AI$20),"")),"") | AI8: =IFERROR(IF(LEN($K8)=0,"",IF($Q8=AI$4,IF(COUNTIF($O$5:$O$20,$J8)>0,1,0),"")),"") | AJ8: =IFERROR(IF(LEN(K8)=0,"",SUM(AE8:AI8)),"") -> 0 | AK8: =IFERROR(IF(LEN(K8)=0,"",SUM(T8:X8)),"") -> 6 | AL8: =IFERROR(IF(LEN(K8)=0,"",IF(SUM(Z8:AD8)=0,"",SUM(Z8:AD8))),"") -> 18 | AM8: =IFERROR($AK8&"-"&$AL8+AM$4,"") -> 6-18 | AN8: =IFERROR($AK8&"-"&$AL8+AN$4,"") -> 6-19 | AP8: =IF(LEN(K8)=0,"*Nodata*!!",IF($F$15=1,J8&"-","")&K8) -> 4-seo | AQ8: =AM8 -> 6-18 | AS8: 4 | AT8: =IF(LEN(T8)=0,"",T8) | AU8: =IFERROR(IF(LEN(AV8)=0,"",AK8),"") | AV8: =IFERROR(IF(LEN(AW8)=0,"",AL8+1),"") | AW8: {=IFERROR(IF(LEN(K8)=0,"",IF($Y8>0,MAX(IF($O$5:$O$20=$J8,$AL$5:$AL$20,"")),"")),"")} | AX8: =IFERROR(IF(AND(M8="no",O8=0),AK8,""),"") | AY8: =IFERROR(IF(AND(M8="No",O8>0),AK8&"-"&AL8,""),"") | BA8: 4 | BB8: =IFERROR(IF(LEN(INDEX(Converter!C$9:C$24,Cal!$BA8))=0,"",INDEX(Converter!C$9:C$24,Cal!$BA8)),"") -> https://www.example.com/services/seo | BC8: =IFERROR(FIND(" ",SUBSTITUTE($BB8,"/"," ",3)),"") -> 24 | BD8: =IFERROR(FIND(" ",SUBSTITUTE($BB8,"/"," ",4)),"") -> 33 | BE8: =IFERROR(FIND(" ",SUBSTITUTE($BB8,"/"," ",5)),"") | BF8: =IFERROR(MID($BB8,BC8+1,IF(ISNUMBER(BD8),BD8-1,LEN($BB8))-BC8),"") -> services | BG8: =IFERROR(MID($BB8,BD8+1,IF(ISNUMBER(BE8),BE8-1,LEN($BB8))-BD8),"") -> seo | BH8: =IFERROR(MID($BB8,BE8+1,IF(ISNUMBER(BF8),BF8-1,LEN($BB8))-BE8),"") | BI8: =IFERROR(IF(LEN(BB8)=0,"",COUNT(BC8:BE8)),"") -> 2 | BJ8: =IF(LEN(BB8)=0,"",BA8) -> 4 | BK8: =IFERROR(IF(LEN(BB8)=0,"",INDEX(BF8:BH8,BI8)),"") -> seo | BL8: =IFERROR(IF(LEN(BB8)=0,"",IF(BI8<2,"Main Page",MATCH(INDEX(BF8:BH8,BI8-1),$BK$5:$BK$20,0))),"") -> 2 | BM8: =IFERROR(IF(LEN(BB8)=0,"",RIGHT(BB8,LEN(BB8)+1-BC8)),"") -> /services/seo | BO8: =IF(LEN(J8)=0,"",IF(COUNTIF($J$5:$J$20,J8)=1,0,1)) -> 0 | BP8: =IF(LEN(L8)=0,"",IF(OR(L8="Main Page",COUNTIF($J$5:$J$20,L8)>0),0,1)) -> 0 | BQ8: =IF(LEN(K8)=0,"",IF(OR(LEN(AK8)=0,LEN(AL8)=0),0,IF(AND(AK8<150,AL8<450),0,1))) -> 0 | BR8: =IF(LEN(Q8)=0,"",IF(Q8>5,1,0)) -> 0 | BT8: Currently your sitemap is above the limits.
B9: =IF(LEN(K9)=0,"",I9) -> 5 | C9: =IFERROR(INDEX($J$5:$J$20,SMALL($B$5:$B$20,$I9)),"") -> 5 | E9: =IFERROR(IF(LEN(Menu!O15)=0,"",Menu!O15),"") -> 4.Level | F9: =IFERROR(IF(LEN(Menu!P15)=0,"Blue",Menu!P15),"Blue") -> Gray | I9: 5 | J9: =IF(LEN(INDEX(Menu!C$7:C$22,Cal!$I9))=0,"",INDEX(Menu!C$7:C$22,Cal!$I9)) -> 5 | K9: =IFERROR(IF(LEN(INDEX(Menu!D$7:D$22,Cal!$I9))=0,"",INDEX(Menu!D$7:D$22,Cal!$I9)),"") -> ppc | L9: =IFERROR(IF(LEN($K9)=0,"",IF(INDEX(Menu!E$7:E$22,Cal!$I9)=J9,"Main Page",IF(LEN(INDEX(Menu!E$7:E$22,Cal!$I9))=0,"Main Page",INDEX(Menu!E$7:E$22,Cal!$I9)))),"Main Page") -> 3 | M9: =IFERROR(IF(LEN(INDEX(Menu!F$7:F$22,Cal!$I9))=0,"",INDEX(Menu!F$7:F$22,Cal!$I9)),"") | N9: =IFERROR(IF(LEN(K9)=0,"",INDEX($N$5:$N$20,MATCH($O9,$J$5:$J$20,0))),"")&IFERROR(IF(LEN(K9)=0,"","/"&K9),"") -> /services/marketing/ppc | O9: =IFERROR(IF(L9="Main Page",0,L9),"") -> 3 | P9: =IFERROR(IF(LEN(K9)=0,"",COUNTIF($L$5:L9,L9)),"") -> 1 | Q9: =IFERROR(IF(LEN(K9)=0,"",IF(L9="Main Page",1,INDEX($Q$5:$Q$20,MATCH(L9,$J$5:$J$20,0))+1)),"") -> 3 | R9: =O9&"-"&P9 -> 3-1 | T9: =IFERROR(IF($Q9=T$4,IF(P9=1,0,INDEX($T$5:$T$20,MATCH(O9&"-"&P9-1,$R$5:$R$20,0),0)+INDEX($AJ$5:$AJ$20,MATCH(O9&"-"&P9-1,$R$5:$R$20,0))*3+3),""),"") | U9: =IFERROR(IF($Q9=U$4,INDEX($T$5:$T$20,MATCH($L9,$J$5:$J$20,0))+3,""),"") | V9: =IFERROR(IF($Q9=V$4,INDEX($U$5:$U$20,MATCH($L9,$J$5:$J$20,0))+3,""),"") -> 9 | W9: =IFERROR(IF($Q9=W$4,INDEX($V$5:$V$20,MATCH($L9,$J$5:$J$20,0))+3,""),"") | X9: =IFERROR(IF($Q9=X$4,INDEX($W$5:$W$20,MATCH($L9,$J$5:$J$20,0))+3,""),"") | Y9: =IFERROR(IF(LEN(K9)=0,"",COUNTIF($O$5:$O$20,J9)+SUMIF($O$5:$O$20,J9,$Y$5:$Y$20)),"") -> 0 | Z9: =IFERROR(IF($Q9=Z$4,3,""),"") | AA9: =IFERROR(IF($Q9=AA$4,IF($P9=1,sumadj+1+INDEX(Z$5:Z$20,MATCH($L9,$J$5:$J$20,0)),INDEX(AA$5:AA$20,MATCH($O9&"-"&$P9-1,$R$5:$R$20,0),0)+sumadj+1)+IFERROR(INDEX($Y$5:$Y$20,MATCH($O9&"-"&$P9-1,$R$5:$R$20,0))*(sumadj+1),0),""),"") | AB9: =IFERROR(IF($Q9=AB$4,IF($P9=1,sumadj+1+INDEX(AA$5:AA$20,MATCH($L9,$J$5:$J$20,0)),INDEX(AB$5:AB$20,MATCH($O9&"-"&$P9-1,$R$5:$R$20,0),0)+sumadj+1)+IFERROR(INDEX($Y$5:$Y$20,MATCH($O9&"-"&$P9-1,$R$5:$R$20,0))*(sumadj+1),0),""),"") -> 9 | AC9: =IFERROR(IF($Q9=AC$4,IF($P9=1,sumadj+1+INDEX(AB$5:AB$20,MATCH($L9,$J$5:$J$20,0)),INDEX(AC$5:AC$20,MATCH($O9&"-"&$P9-1,$R$5:$R$20,0),0)+sumadj+1)+IFERROR(INDEX($Y$5:$Y$20,MATCH($O9&"-"&$P9-1,$R$5:$R$20,0))*(sumadj+1),0),""),"") | AD9: =IFERROR(IF($Q9=AD$4,IF($P9=1,sumadj+1+INDEX(AC$5:AC$20,MATCH($L9,$J$5:$J$20,0)),INDEX(AD$5:AD$20,MATCH($O9&"-"&$P9-1,$R$5:$R$20,0),0)+sumadj+1)+IFERROR(INDEX($Y$5:$Y$20,MATCH($O9&"-"&$P9-1,$R$5:$R$20,0))*(sumadj+1),0),""),"") | AE9: =IFERROR(IF(LEN($K9)=0,"",IF($Q9=AE$4,IF(COUNTIF($O$5:$O$20,$J9)>0,1,0)+SUMIF($O$5:$O$20,$J9,AF$5:AF$20),"")),"") | AF9: =IFERROR(IF(LEN($K9)=0,"",IF($Q9=AF$4,IF(COUNTIF($O$5:$O$20,$J9)>0,1,0)+SUMIF($O$5:$O$20,$J9,AG$5:AG$20),"")),"") | AG9: =IFERROR(IF(LEN($K9)=0,"",IF($Q9=AG$4,IF(COUNTIF($O$5:$O$20,$J9)>0,1,0)+SUMIF($O$5:$O$20,$J9,AH$5:AH$20),"")),"") -> 0 | AH9: =IFERROR(IF(LEN($K9)=0,"",IF($Q9=AH$4,IF(COUNTIF($O$5:$O$20,$J9)>0,1,0)+SUMIF($O$5:$O$20,$J9,AI$5:AI$20),"")),"") | AI9: =IFERROR(IF(LEN($K9)=0,"",IF($Q9=AI$4,IF(COUNTIF($O$5:$O$20,$J9)>0,1,0),"")),"") | AJ9: =IFERROR(IF(LEN(K9)=0,"",SUM(AE9:AI9)),"") -> 0 | AK9: =IFERROR(IF(LEN(K9)=0,"",SUM(T9:X9)),"") -> 9 | AL9: =IFERROR(IF(LEN(K9)=0,"",IF(SUM(Z9:AD9)=0,"",SUM(Z9:AD9))),"") -> 9 | AM9: =IFERROR($AK9&"-"&$AL9+AM$4,"") -> 9-9 | AN9: =IFERROR($AK9&"-"&$AL9+AN$4,"") -> 9-10 | AP9: =IF(LEN(K9)=0,"*Nodata*!!",IF($F$15=1,J9&"-","")&K9) -> 5-ppc | AQ9: =AM9 -> 9-9 | AS9: 5 | AT9: =IF(LEN(T9)=0,"",T9) | AU9: =IFERROR(IF(LEN(AV9)=0,"",AK9),"") | AV9: =IFERROR(IF(LEN(AW9)=0,"",AL9+1),"") | AW9: {=IFERROR(IF(LEN(K9)=0,"",IF($Y9>0,MAX(IF($O$5:$O$20=$J9,$AL$5:$AL$20,"")),"")),"")} | AX9: =IFERROR(IF(AND(M9="no",O9=0),AK9,""),"") | AY9: =IFERROR(IF(AND(M9="No",O9>0),AK9&"-"&AL9,""),"") | BA9: 5 | BB9: =IFERROR(IF(LEN(INDEX(Converter!C$9:C$24,Cal!$BA9))=0,"",INDEX(Converter!C$9:C$24,Cal!$BA9)),"") -> https://www.example.com/services/marketing/ppc | BC9: =IFERROR(FIND(" ",SUBSTITUTE($BB9,"/"," ",3)),"") -> 24 | BD9: =IFERROR(FIND(" ",SUBSTITUTE($BB9,"/"," ",4)),"") -> 33 | BE9: =IFERROR(FIND(" ",SUBSTITUTE($BB9,"/"," ",5)),"") -> 43 | BF9: =IFERROR(MID($BB9,BC9+1,IF(ISNUMBER(BD9),BD9-1,LEN($BB9))-BC9),"") -> services | BG9: =IFERROR(MID($BB9,BD9+1,IF(ISNUMBER(BE9),BE9-1,LEN($BB9))-BD9),"") -> marketing | BH9: =IFERROR(MID($BB9,BE9+1,IF(ISNUMBER(BF9),BF9-1,LEN($BB9))-BE9),"") -> ppc | BI9: =IFERROR(IF(LEN(BB9)=0,"",COUNT(BC9:BE9)),"") -> 3 | BJ9: =IF(LEN(BB9)=0,"",BA9) -> 5 | BK9: =IFERROR(IF(LEN(BB9)=0,"",INDEX(BF9:BH9,BI9)),"") -> ppc | BL9: =IFERROR(IF(LEN(BB9)=0,"",IF(BI9<2,"Main Page",MATCH(INDEX(BF9:BH9,BI9-1),$BK$5:$BK$20,0))),"") -> 3 | BM9: =IFERROR(IF(LEN(BB9)=0,"",RIGHT(BB9,LEN(BB9)+1-BC9)),"") -> /services/marketing/ppc | BO9: =IF(LEN(J9)=0,"",IF(COUNTIF($J$5:$J$20,J9)=1,0,1)) -> 0 | BP9: =IF(LEN(L9)=0,"",IF(OR(L9="Main Page",COUNTIF($J$5:$J$20,L9)>0),0,1)) -> 0 | BQ9: =IF(LEN(K9)=0,"",IF(OR(LEN(AK9)=0,LEN(AL9)=0),0,IF(AND(AK9<150,AL9<450),0,1))) -> 0 | BR9: =IF(LEN(Q9)=0,"",IF(Q9>5,1,0)) -> 0 | BT9: Maximum level limit exceeded.
B10: =IF(LEN(K10)=0,"",I10) -> 6 | C10: =IFERROR(INDEX($J$5:$J$20,SMALL($B$5:$B$20,$I10)),"") -> 6 | E10: =IFERROR(IF(LEN(Menu!O16)=0,"",Menu!O16),"") -> 5.Level | F10: =IFERROR(IF(LEN(Menu!P16)=0,"Blue",Menu!P16),"Blue") -> Yellow | I10: 6 | J10: =IF(LEN(INDEX(Menu!C$7:C$22,Cal!$I10))=0,"",INDEX(Menu!C$7:C$22,Cal!$I10)) -> 6 | K10: =IFERROR(IF(LEN(INDEX(Menu!D$7:D$22,Cal!$I10))=0,"",INDEX(Menu!D$7:D$22,Cal!$I10)),"") -> social-media | L10: =IFERROR(IF(LEN($K10)=0,"",IF(INDEX(Menu!E$7:E$22,Cal!$I10)=J10,"Main Page",IF(LEN(INDEX(Menu!E$7:E$22,Cal!$I10))=0,"Main Page",INDEX(Menu!E$7:E$22,Cal!$I10)))),"Main Page") -> 3 | M10: =IFERROR(IF(LEN(INDEX(Menu!F$7:F$22,Cal!$I10))=0,"",INDEX(Menu!F$7:F$22,Cal!$I10)),"") | N10: =IFERROR(IF(LEN(K10)=0,"",INDEX($N$5:$N$20,MATCH($O10,$J$5:$J$20,0))),"")&IFERROR(IF(LEN(K10)=0,"","/"&K10),"") -> /services/marketing/social-media | O10: =IFERROR(IF(L10="Main Page",0,L10),"") -> 3 | P10: =IFERROR(IF(LEN(K10)=0,"",COUNTIF($L$5:L10,L10)),"") -> 2 | Q10: =IFERROR(IF(LEN(K10)=0,"",IF(L10="Main Page",1,INDEX($Q$5:$Q$20,MATCH(L10,$J$5:$J$20,0))+1)),"") -> 3 | R10: =O10&"-"&P10 -> 3-2 | T10: =IFERROR(IF($Q10=T$4,IF(P10=1,0,INDEX($T$5:$T$20,MATCH(O10&"-"&P10-1,$R$5:$R$20,0),0)+INDEX($AJ$5:$AJ$20,MATCH(O10&"-"&P10-1,$R$5:$R$20,0))*3+3),""),"") | U10: =IFERROR(IF($Q10=U$4,INDEX($T$5:$T$20,MATCH($L10,$J$5:$J$20,0))+3,""),"") | V10: =IFERROR(IF($Q10=V$4,INDEX($U$5:$U$20,MATCH($L10,$J$5:$J$20,0))+3,""),"") -> 9 | W10: =IFERROR(IF($Q10=W$4,INDEX($V$5:$V$20,MATCH($L10,$J$5:$J$20,0))+3,""),"") | X10: =IFERROR(IF($Q10=X$4,INDEX($W$5:$W$20,MATCH($L10,$J$5:$J$20,0))+3,""),"") | Y10: =IFERROR(IF(LEN(K10)=0,"",COUNTIF($O$5:$O$20,J10)+SUMIF($O$5:$O$20,J10,$Y$5:$Y$20)),"") -> 0 | Z10: =IFERROR(IF($Q10=Z$4,3,""),"") | AA10: =IFERROR(IF($Q10=AA$4,IF($P10=1,sumadj+1+INDEX(Z$5:Z$20,MATCH($L10,$J$5:$J$20,0)),INDEX(AA$5:AA$20,MATCH($O10&"-"&$P10-1,$R$5:$R$20,0),0)+sumadj+1)+IFERROR(INDEX($Y$5:$Y$20,MATCH($O10&"-"&$P10-1,$R$5:$R$20,0))*(sumadj+1),0),""),"") | AB10: =IFERROR(IF($Q10=AB$4,IF($P10=1,sumadj+1+INDEX(AA$5:AA$20,MATCH($L10,$J$5:$J$20,0)),INDEX(AB$5:AB$20,MATCH($O10&"-"&$P10-1,$R$5:$R$20,0),0)+sumadj+1)+IFERROR(INDEX($Y$5:$Y$20,MATCH($O10&"-"&$P10-1,$R$5:$R$20,0))*(sumadj+1),0),""),"") -> 12 | AC10: =IFERROR(IF($Q10=AC$4,IF($P10=1,sumadj+1+INDEX(AB$5:AB$20,MATCH($L10,$J$5:$J$20,0)),INDEX(AC$5:AC$20,MATCH($O10&"-"&$P10-1,$R$5:$R$20,0),0)+sumadj+1)+IFERROR(INDEX($Y$5:$Y$20,MATCH($O10&"-"&$P10-1,$R$5:$R$20,0))*(sumadj+1),0),""),"") | AD10: =IFERROR(IF($Q10=AD$4,IF($P10=1,sumadj+1+INDEX(AC$5:AC$20,MATCH($L10,$J$5:$J$20,0)),INDEX(AD$5:AD$20,MATCH($O10&"-"&$P10-1,$R$5:$R$20,0),0)+sumadj+1)+IFERROR(INDEX($Y$5:$Y$20,MATCH($O10&"-"&$P10-1,$R$5:$R$20,0))*(sumadj+1),0),""),"") | AE10: =IFERROR(IF(LEN($K10)=0,"",IF($Q10=AE$4,IF(COUNTIF($O$5:$O$20,$J10)>0,1,0)+SUMIF($O$5:$O$20,$J10,AF$5:AF$20),"")),"") | AF10: =IFERROR(IF(LEN($K10)=0,"",IF($Q10=AF$4,IF(COUNTIF($O$5:$O$20,$J10)>0,1,0)+SUMIF($O$5:$O$20,$J10,AG$5:AG$20),"")),"") | AG10: =IFERROR(IF(LEN($K10)=0,"",IF($Q10=AG$4,IF(COUNTIF($O$5:$O$20,$J10)>0,1,0)+SUMIF($O$5:$O$20,$J10,AH$5:AH$20),"")),"") -> 0 | AH10: =IFERROR(IF(LEN($K10)=0,"",IF($Q10=AH$4,IF(COUNTIF($O$5:$O$20,$J10)>0,1,0)+SUMIF($O$5:$O$20,$J10,AI$5:AI$20),"")),"") | AI10: =IFERROR(IF(LEN($K10)=0,"",IF($Q10=AI$4,IF(COUNTIF($O$5:$O$20,$J10)>0,1,0),"")),"") | AJ10: =IFERROR(IF(LEN(K10)=0,"",SUM(AE10:AI10)),"") -> 0 | AK10: =IFERROR(IF(LEN(K10)=0,"",SUM(T10:X10)),"") -> 9 | AL10: =IFERROR(IF(LEN(K10)=0,"",IF(SUM(Z10:AD10)=0,"",SUM(Z10:AD10))),"") -> 12 | AM10: =IFERROR($AK10&"-"&$AL10+AM$4,"") -> 9-12 | AN10: =IFERROR($AK10&"-"&$AL10+AN$4,"") -> 9-13 | AP10: =IF(LEN(K10)=0,"*Nodata*!!",IF($F$15=1,J10&"-","")&K10) -> 6-social-media | AQ10: =AM10 -> 9-12 | AS10: 6 | AT10: =IF(LEN(T10)=0,"",T10) | AU10: =IFERROR(IF(LEN(AV10)=0,"",AK10),"") | AV10: =IFERROR(IF(LEN(AW10)=0,"",AL10+1),"") | AW10: {=IFERROR(IF(LEN(K10)=0,"",IF($Y10>0,MAX(IF($O$5:$O$20=$J10,$AL$5:$AL$20,"")),"")),"")} | AX10: =IFERROR(IF(AND(M10="no",O10=0),AK10,""),"") | AY10: =IFERROR(IF(AND(M10="No",O10>0),AK10&"-"&AL10,""),"") | BA10: 6 | BB10: =IFERROR(IF(LEN(INDEX(Converter!C$9:C$24,Cal!$BA10))=0,"",INDEX(Converter!C$9:C$24,Cal!$BA10)),"") -> https://www.example.com/services/marketing/social-media | BC10: =IFERROR(FIND(" ",SUBSTITUTE($BB10,"/"," ",3)),"") -> 24 | BD10: =IFERROR(FIND(" ",SUBSTITUTE($BB10,"/"," ",4)),"") -> 33 | BE10: =IFERROR(FIND(" ",SUBSTITUTE($BB10,"/"," ",5)),"") -> 43 | BF10: =IFERROR(MID($BB10,BC10+1,IF(ISNUMBER(BD10),BD10-1,LEN($BB10))-BC10),"") -> services | BG10: =IFERROR(MID($BB10,BD10+1,IF(ISNUMBER(BE10),BE10-1,LEN($BB10))-BD10),"") -> marketing | BH10: =IFERROR(MID($BB10,BE10+1,IF(ISNUMBER(BF10),BF10-1,LEN($BB10))-BE10),"") -> social-media | BI10: =IFERROR(IF(LEN(BB10)=0,"",COUNT(BC10:BE10)),"") -> 3 | BJ10: =IF(LEN(BB10)=0,"",BA10) -> 6 | BK10: =IFERROR(IF(LEN(BB10)=0,"",INDEX(BF10:BH10,BI10)),"") -> social-media | BL10: =IFERROR(IF(LEN(BB10)=0,"",IF(BI10<2,"Main Page",MATCH(INDEX(BF10:BH10,BI10-1),$BK$5:$BK$20,0))),"") -> 3 | BM10: =IFERROR(IF(LEN(BB10)=0,"",RIGHT(BB10,LEN(BB10)+1-BC10)),"") -> /services/marketing/social-media | BO10: =IF(LEN(J10)=0,"",IF(COUNTIF($J$5:$J$20,J10)=1,0,1)) -> 0 | BP10: =IF(LEN(L10)=0,"",IF(OR(L10="Main Page",COUNTIF($J$5:$J$20,L10)>0),0,1)) -> 0 | BQ10: =IF(LEN(K10)=0,"",IF(OR(LEN(AK10)=0,LEN(AL10)=0),0,IF(AND(AK10<150,AL10<450),0,1))) -> 0 | BR10: =IF(LEN(Q10)=0,"",IF(Q10>5,1,0)) -> 0
B11: =IF(LEN(K11)=0,"",I11) -> 7 | C11: =IFERROR(INDEX($J$5:$J$20,SMALL($B$5:$B$20,$I11)),"") -> 7 | I11: 7 | J11: =IF(LEN(INDEX(Menu!C$7:C$22,Cal!$I11))=0,"",INDEX(Menu!C$7:C$22,Cal!$I11)) -> 7 | K11: =IFERROR(IF(LEN(INDEX(Menu!D$7:D$22,Cal!$I11))=0,"",INDEX(Menu!D$7:D$22,Cal!$I11)),"") -> content | L11: =IFERROR(IF(LEN($K11)=0,"",IF(INDEX(Menu!E$7:E$22,Cal!$I11)=J11,"Main Page",IF(LEN(INDEX(Menu!E$7:E$22,Cal!$I11))=0,"Main Page",INDEX(Menu!E$7:E$22,Cal!$I11)))),"Main Page") -> 3 | M11: =IFERROR(IF(LEN(INDEX(Menu!F$7:F$22,Cal!$I11))=0,"",INDEX(Menu!F$7:F$22,Cal!$I11)),"") | N11: =IFERROR(IF(LEN(K11)=0,"",INDEX($N$5:$N$20,MATCH($O11,$J$5:$J$20,0))),"")&IFERROR(IF(LEN(K11)=0,"","/"&K11),"") -> /services/marketing/content | O11: =IFERROR(IF(L11="Main Page",0,L11),"") -> 3 | P11: =IFERROR(IF(LEN(K11)=0,"",COUNTIF($L$5:L11,L11)),"") -> 3 | Q11: =IFERROR(IF(LEN(K11)=0,"",IF(L11="Main Page",1,INDEX($Q$5:$Q$20,MATCH(L11,$J$5:$J$20,0))+1)),"") -> 3 | R11: =O11&"-"&P11 -> 3-3 | T11: =IFERROR(IF($Q11=T$4,IF(P11=1,0,INDEX($T$5:$T$20,MATCH(O11&"-"&P11-1,$R$5:$R$20,0),0)+INDEX($AJ$5:$AJ$20,MATCH(O11&"-"&P11-1,$R$5:$R$20,0))*3+3),""),"") | U11: =IFERROR(IF($Q11=U$4,INDEX($T$5:$T$20,MATCH($L11,$J$5:$J$20,0))+3,""),"") | V11: =IFERROR(IF($Q11=V$4,INDEX($U$5:$U$20,MATCH($L11,$J$5:$J$20,0))+3,""),"") -> 9 | W11: =IFERROR(IF($Q11=W$4,INDEX($V$5:$V$20,MATCH($L11,$J$5:$J$20,0))+3,""),"") | X11: =IFERROR(IF($Q11=X$4,INDEX($W$5:$W$20,MATCH($L11,$J$5:$J$20,0))+3,""),"") | Y11: =IFERROR(IF(LEN(K11)=0,"",COUNTIF($O$5:$O$20,J11)+SUMIF($O$5:$O$20,J11,$Y$5:$Y$20)),"") -> 0 | Z11: =IFERROR(IF($Q11=Z$4,3,""),"") | AA11: =IFERROR(IF($Q11=AA$4,IF($P11=1,sumadj+1+INDEX(Z$5:Z$20,MATCH($L11,$J$5:$J$20,0)),INDEX(AA$5:AA$20,MATCH($O11&"-"&$P11-1,$R$5:$R$20,0),0)+sumadj+1)+IFERROR(INDEX($Y$5:$Y$20,MATCH($O11&"-"&$P11-1,$R$5:$R$20,0))*(sumadj+1),0),""),"") | AB11: =IFERROR(IF($Q11=AB$4,IF($P11=1,sumadj+1+INDEX(AA$5:AA$20,MATCH($L11,$J$5:$J$20,0)),INDEX(AB$5:AB$20,MATCH($O11&"-"&$P11-1,$R$5:$R$20,0),0)+sumadj+1)+IFERROR(INDEX($Y$5:$Y$20,MATCH($O11&"-"&$P11-1,$R$5:$R$20,0))*(sumadj+1),0),""),"") -> 15 | AC11: =IFERROR(IF($Q11=AC$4,IF($P11=1,sumadj+1+INDEX(AB$5:AB$20,MATCH($L11,$J$5:$J$20,0)),INDEX(AC$5:AC$20,MATCH($O11&"-"&$P11-1,$R$5:$R$20,0),0)+sumadj+1)+IFERROR(INDEX($Y$5:$Y$20,MATCH($O11&"-"&$P11-1,$R$5:$R$20,0))*(sumadj+1),0),""),"") | AD11: =IFERROR(IF($Q11=AD$4,IF($P11=1,sumadj+1+INDEX(AC$5:AC$20,MATCH($L11,$J$5:$J$20,0)),INDEX(AD$5:AD$20,MATCH($O11&"-"&$P11-1,$R$5:$R$20,0),0)+sumadj+1)+IFERROR(INDEX($Y$5:$Y$20,MATCH($O11&"-"&$P11-1,$R$5:$R$20,0))*(sumadj+1),0),""),"") | AE11: =IFERROR(IF(LEN($K11)=0,"",IF($Q11=AE$4,IF(COUNTIF($O$5:$O$20,$J11)>0,1,0)+SUMIF($O$5:$O$20,$J11,AF$5:AF$20),"")),"") | AF11: =IFERROR(IF(LEN($K11)=0,"",IF($Q11=AF$4,IF(COUNTIF($O$5:$O$20,$J11)>0,1,0)+SUMIF($O$5:$O$20,$J11,AG$5:AG$20),"")),"") | AG11: =IFERROR(IF(LEN($K11)=0,"",IF($Q11=AG$4,IF(COUNTIF($O$5:$O$20,$J11)>0,1,0)+SUMIF($O$5:$O$20,$J11,AH$5:AH$20),"")),"") -> 0 | AH11: =IFERROR(IF(LEN($K11)=0,"",IF($Q11=AH$4,IF(COUNTIF($O$5:$O$20,$J11)>0,1,0)+SUMIF($O$5:$O$20,$J11,AI$5:AI$20),"")),"") | AI11: =IFERROR(IF(LEN($K11)=0,"",IF($Q11=AI$4,IF(COUNTIF($O$5:$O$20,$J11)>0,1,0),"")),"") | AJ11: =IFERROR(IF(LEN(K11)=0,"",SUM(AE11:AI11)),"") -> 0 | AK11: =IFERROR(IF(LEN(K11)=0,"",SUM(T11:X11)),"") -> 9 | AL11: =IFERROR(IF(LEN(K11)=0,"",IF(SUM(Z11:AD11)=0,"",SUM(Z11:AD11))),"") -> 15 | AM11: =IFERROR($AK11&"-"&$AL11+AM$4,"") -> 9-15 | AN11: =IFERROR($AK11&"-"&$AL11+AN$4,"") -> 9-16 | AP11: =IF(LEN(K11)=0,"*Nodata*!!",IF($F$15=1,J11&"-","")&K11) -> 7-content | AQ11: =AM11 -> 9-15 | AS11: 7 | AT11: =IF(LEN(T11)=0,"",T11) | AU11: =IFERROR(IF(LEN(AV11)=0,"",AK11),"") | AV11: =IFERROR(IF(LEN(AW11)=0,"",AL11+1),"") | AW11: {=IFERROR(IF(LEN(K11)=0,"",IF($Y11>0,MAX(IF($O$5:$O$20=$J11,$AL$5:$AL$20,"")),"")),"")} | AX11: =IFERROR(IF(AND(M11="no",O11=0),AK11,""),"") | AY11: =IFERROR(IF(AND(M11="No",O11>0),AK11&"-"&AL11,""),"") | BA11: 7 | BB11: =IFERROR(IF(LEN(INDEX(Converter!C$9:C$24,Cal!$BA11))=0,"",INDEX(Converter!C$9:C$24,Cal!$BA11)),"") -> https://www.example.com/services/marketing/content | BC11: =IFERROR(FIND(" ",SUBSTITUTE($BB11,"/"," ",3)),"") -> 24 | BD11: =IFERROR(FIND(" ",SUBSTITUTE($BB11,"/"," ",4)),"") -> 33 | BE11: =IFERROR(FIND(" ",SUBSTITUTE($BB11,"/"," ",5)),"") -> 43 | BF11: =IFERROR(MID($BB11,BC11+1,IF(ISNUMBER(BD11),BD11-1,LEN($BB11))-BC11),"") -> services | BG11: =IFERROR(MID($BB11,BD11+1,IF(ISNUMBER(BE11),BE11-1,LEN($BB11))-BD11),"") -> marketing | BH11: =IFERROR(MID($BB11,BE11+1,IF(ISNUMBER(BF11),BF11-1,LEN($BB11))-BE11),"") -> content | BI11: =IFERROR(IF(LEN(BB11)=0,"",COUNT(BC11:BE11)),"") -> 3 | BJ11: =IF(LEN(BB11)=0,"",BA11) -> 7 | BK11: =IFERROR(IF(LEN(BB11)=0,"",INDEX(BF11:BH11,BI11)),"") -> content | BL11: =IFERROR(IF(LEN(BB11)=0,"",IF(BI11<2,"Main Page",MATCH(INDEX(BF11:BH11,BI11-1),$BK$5:$BK$20,0))),"") -> 3 | BM11: =IFERROR(IF(LEN(BB11)=0,"",RIGHT(BB11,LEN(BB11)+1-BC11)),"") -> /services/marketing/content | BO11: =IF(LEN(J11)=0,"",IF(COUNTIF($J$5:$J$20,J11)=1,0,1)) -> 0 | BP11: =IF(LEN(L11)=0,"",IF(OR(L11="Main Page",COUNTIF($J$5:$J$20,L11)>0),0,1)) -> 0 | BQ11: =IF(LEN(K11)=0,"",IF(OR(LEN(AK11)=0,LEN(AL11)=0),0,IF(AND(AK11<150,AL11<450),0,1))) -> 0 | BR11: =IF(LEN(Q11)=0,"",IF(Q11>5,1,0)) -> 0
B12: =IF(LEN(K12)=0,"",I12) -> 8 | C12: =IFERROR(INDEX($J$5:$J$20,SMALL($B$5:$B$20,$I12)),"") -> 8 | E12: Main Page | F12: Position | I12: 8 | J12: =IF(LEN(INDEX(Menu!C$7:C$22,Cal!$I12))=0,"",INDEX(Menu!C$7:C$22,Cal!$I12)) -> 8 | K12: =IFERROR(IF(LEN(INDEX(Menu!D$7:D$22,Cal!$I12))=0,"",INDEX(Menu!D$7:D$22,Cal!$I12)),"") -> emailing | L12: =IFERROR(IF(LEN($K12)=0,"",IF(INDEX(Menu!E$7:E$22,Cal!$I12)=J12,"Main Page",IF(LEN(INDEX(Menu!E$7:E$22,Cal!$I12))=0,"Main Page",INDEX(Menu!E$7:E$22,Cal!$I12)))),"Main Page") -> 2 | M12: =IFERROR(IF(LEN(INDEX(Menu!F$7:F$22,Cal!$I12))=0,"",INDEX(Menu!F$7:F$22,Cal!$I12)),"") | N12: =IFERROR(IF(LEN(K12)=0,"",INDEX($N$5:$N$20,MATCH($O12,$J$5:$J$20,0))),"")&IFERROR(IF(LEN(K12)=0,"","/"&K12),"") -> /services/emailing | O12: =IFERROR(IF(L12="Main Page",0,L12),"") -> 2 | P12: =IFERROR(IF(LEN(K12)=0,"",COUNTIF($L$5:L12,L12)),"") -> 3 | Q12: =IFERROR(IF(LEN(K12)=0,"",IF(L12="Main Page",1,INDEX($Q$5:$Q$20,MATCH(L12,$J$5:$J$20,0))+1)),"") -> 2 | R12: =O12&"-"&P12 -> 2-3 | T12: =IFERROR(IF($Q12=T$4,IF(P12=1,0,INDEX($T$5:$T$20,MATCH(O12&"-"&P12-1,$R$5:$R$20,0),0)+INDEX($AJ$5:$AJ$20,MATCH(O12&"-"&P12-1,$R$5:$R$20,0))*3+3),""),"") | U12: =IFERROR(IF($Q12=U$4,INDEX($T$5:$T$20,MATCH($L12,$J$5:$J$20,0))+3,""),"") -> 6 | V12: =IFERROR(IF($Q12=V$4,INDEX($U$5:$U$20,MATCH($L12,$J$5:$J$20,0))+3,""),"") | W12: =IFERROR(IF($Q12=W$4,INDEX($V$5:$V$20,MATCH($L12,$J$5:$J$20,0))+3,""),"") | X12: =IFERROR(IF($Q12=X$4,INDEX($W$5:$W$20,MATCH($L12,$J$5:$J$20,0))+3,""),"") | Y12: =IFERROR(IF(LEN(K12)=0,"",COUNTIF($O$5:$O$20,J12)+SUMIF($O$5:$O$20,J12,$Y$5:$Y$20)),"") -> 0 | Z12: =IFERROR(IF($Q12=Z$4,3,""),"") | AA12: =IFERROR(IF($Q12=AA$4,IF($P12=1,sumadj+1+INDEX(Z$5:Z$20,MATCH($L12,$J$5:$J$20,0)),INDEX(AA$5:AA$20,MATCH($O12&"-"&$P12-1,$R$5:$R$20,0),0)+sumadj+1)+IFERROR(INDEX($Y$5:$Y$20,MATCH($O12&"-"&$P12-1,$R$5:$R$20,0))*(sumadj+1),0),""),"") -> 21 | AB12: =IFERROR(IF($Q12=AB$4,IF($P12=1,sumadj+1+INDEX(AA$5:AA$20,MATCH($L12,$J$5:$J$20,0)),INDEX(AB$5:AB$20,MATCH($O12&"-"&$P12-1,$R$5:$R$20,0),0)+sumadj+1)+IFERROR(INDEX($Y$5:$Y$20,MATCH($O12&"-"&$P12-1,$R$5:$R$20,0))*(sumadj+1),0),""),"") | AC12: =IFERROR(IF($Q12=AC$4,IF($P12=1,sumadj+1+INDEX(AB$5:AB$20,MATCH($L12,$J$5:$J$20,0)),INDEX(AC$5:AC$20,MATCH($O12&"-"&$P12-1,$R$5:$R$20,0),0)+sumadj+1)+IFERROR(INDEX($Y$5:$Y$20,MATCH($O12&"-"&$P12-1,$R$5:$R$20,0))*(sumadj+1),0),""),"") | AD12: =IFERROR(IF($Q12=AD$4,IF($P12=1,sumadj+1+INDEX(AC$5:AC$20,MATCH($L12,$J$5:$J$20,0)),INDEX(AD$5:AD$20,MATCH($O12&"-"&$P12-1,$R$5:$R$20,0),0)+sumadj+1)+IFERROR(INDEX($Y$5:$Y$20,MATCH($O12&"-"&$P12-1,$R$5:$R$20,0))*(sumadj+1),0),""),"") | AE12: =IFERROR(IF(LEN($K12)=0,"",IF($Q12=AE$4,IF(COUNTIF($O$5:$O$20,$J12)>0,1,0)+SUMIF($O$5:$O$20,$J12,AF$5:AF$20),"")),"") | AF12: =IFERROR(IF(LEN($K12)=0,"",IF($Q12=AF$4,IF(COUNTIF($O$5:$O$20,$J12)>0,1,0)+SUMIF($O$5:$O$20,$J12,AG$5:AG$20),"")),"") -> 0 | AG12: =IFERROR(IF(LEN($K12)=0,"",IF($Q12=AG$4,IF(COUNTIF($O$5:$O$20,$J12)>0,1,0)+SUMIF($O$5:$O$20,$J12,AH$5:AH$20),"")),"") | AH12: =IFERROR(IF(LEN($K12)=0,"",IF($Q12=AH$4,IF(COUNTIF($O$5:$O$20,$J12)>0,1,0)+SUMIF($O$5:$O$20,$J12,AI$5:AI$20),"")),"") | AI12: =IFERROR(IF(LEN($K12)=0,"",IF($Q12=AI$4,IF(COUNTIF($O$5:$O$20,$J12)>0,1,0),"")),"") | AJ12: =IFERROR(IF(LEN(K12)=0,"",SUM(AE12:AI12)),"") -> 0 | AK12: =IFERROR(IF(LEN(K12)=0,"",SUM(T12:X12)),"") -> 6 | AL12: =IFERROR(IF(LEN(K12)=0,"",IF(SUM(Z12:AD12)=0,"",SUM(Z12:AD12))),"") -> 21 | AM12: =IFERROR($AK12&"-"&$AL12+AM$4,"") -> 6-21 | AN12: =IFERROR($AK12&"-"&$AL12+AN$4,"") -> 6-22 | AP12: =IF(LEN(K12)=0,"*Nodata*!!",IF($F$15=1,J12&"-","")&K12) -> 8-emailing | AQ12: =AM12 -> 6-21 | AS12: 8 | AT12: =IF(LEN(T12)=0,"",T12) | AU12: =IFERROR(IF(LEN(AV12)=0,"",AK12),"") | AV12: =IFERROR(IF(LEN(AW12)=0,"",AL12+1),"") | AW12: {=IFERROR(IF(LEN(K12)=0,"",IF($Y12>0,MAX(IF($O$5:$O$20=$J12,$AL$5:$AL$20,"")),"")),"")} | AX12: =IFERROR(IF(AND(M12="no",O12=0),AK12,""),"") | AY12: =IFERROR(IF(AND(M12="No",O12>0),AK12&"-"&AL12,""),"") | BA12: 8 | BB12: =IFERROR(IF(LEN(INDEX(Converter!C$9:C$24,Cal!$BA12))=0,"",INDEX(Converter!C$9:C$24,Cal!$BA12)),"") -> https://www.example.com/services/emailing | BC12: =IFERROR(FIND(" ",SUBSTITUTE($BB12,"/"," ",3)),"") -> 24 | BD12: =IFERROR(FIND(" ",SUBSTITUTE($BB12,"/"," ",4)),"") -> 33 | BE12: =IFERROR(FIND(" ",SUBSTITUTE($BB12,"/"," ",5)),"") | BF12: =IFERROR(MID($BB12,BC12+1,IF(ISNUMBER(BD12),BD12-1,LEN($BB12))-BC12),"") -> services | BG12: =IFERROR(MID($BB12,BD12+1,IF(ISNUMBER(BE12),BE12-1,LEN($BB12))-BD12),"") -> emailing | BH12: =IFERROR(MID($BB12,BE12+1,IF(ISNUMBER(BF12),BF12-1,LEN($BB12))-BE12),"") | BI12: =IFERROR(IF(LEN(BB12)=0,"",COUNT(BC12:BE12)),"") -> 2 | BJ12: =IF(LEN(BB12)=0,"",BA12) -> 8 | BK12: =IFERROR(IF(LEN(BB12)=0,"",INDEX(BF12:BH12,BI12)),"") -> emailing | BL12: =IFERROR(IF(LEN(BB12)=0,"",IF(BI12<2,"Main Page",MATCH(INDEX(BF12:BH12,BI12-1),$BK$5:$BK$20,0))),"") -> 2 | BM12: =IFERROR(IF(LEN(BB12)=0,"",RIGHT(BB12,LEN(BB12)+1-BC12)),"") -> /services/emailing | BO12: =IF(LEN(J12)=0,"",IF(COUNTIF($J$5:$J$20,J12)=1,0,1)) -> 0 | BP12: =IF(LEN(L12)=0,"",IF(OR(L12="Main Page",COUNTIF($J$5:$J$20,L12)>0),0,1)) -> 0 | BQ12: =IF(LEN(K12)=0,"",IF(OR(LEN(AK12)=0,LEN(AL12)=0),0,IF(AND(AK12<150,AL12<450),0,1))) -> 0 | BR12: =IF(LEN(Q12)=0,"",IF(Q12>5,1,0)) -> 0
B13: =IF(LEN(K13)=0,"",I13) -> 9 | C13: =IFERROR(INDEX($J$5:$J$20,SMALL($B$5:$B$20,$I13)),"") -> 9 | E13: =IFERROR(IF(LEN(home)=0,"Main Page",home),"") -> https://www.example.com | F13: =ROUNDUP(MAX(T5:T20)/2,0)-MOD(ROUNDUP(MAX(T5:T20)/2,0),3) -> 6 | I13: 9 | J13: =IF(LEN(INDEX(Menu!C$7:C$22,Cal!$I13))=0,"",INDEX(Menu!C$7:C$22,Cal!$I13)) -> 9 | K13: =IFERROR(IF(LEN(INDEX(Menu!D$7:D$22,Cal!$I13))=0,"",INDEX(Menu!D$7:D$22,Cal!$I13)),"") -> blog | L13: =IFERROR(IF(LEN($K13)=0,"",IF(INDEX(Menu!E$7:E$22,Cal!$I13)=J13,"Main Page",IF(LEN(INDEX(Menu!E$7:E$22,Cal!$I13))=0,"Main Page",INDEX(Menu!E$7:E$22,Cal!$I13)))),"Main Page") -> Main Page | M13: =IFERROR(IF(LEN(INDEX(Menu!F$7:F$22,Cal!$I13))=0,"",INDEX(Menu!F$7:F$22,Cal!$I13)),"") | N13: =IFERROR(IF(LEN(K13)=0,"",INDEX($N$5:$N$20,MATCH($O13,$J$5:$J$20,0))),"")&IFERROR(IF(LEN(K13)=0,"","/"&K13),"") -> /blog | O13: =IFERROR(IF(L13="Main Page",0,L13),"") -> 0 | P13: =IFERROR(IF(LEN(K13)=0,"",COUNTIF($L$5:L13,L13)),"") -> 3 | Q13: =IFERROR(IF(LEN(K13)=0,"",IF(L13="Main Page",1,INDEX($Q$5:$Q$20,MATCH(L13,$J$5:$J$20,0))+1)),"") -> 1 | R13: =O13&"-"&P13 -> 0-3 | T13: =IFERROR(IF($Q13=T$4,IF(P13=1,0,INDEX($T$5:$T$20,MATCH(O13&"-"&P13-1,$R$5:$R$20,0),0)+INDEX($AJ$5:$AJ$20,MATCH(O13&"-"&P13-1,$R$5:$R$20,0))*3+3),""),"") -> 12 | U13: =IFERROR(IF($Q13=U$4,INDEX($T$5:$T$20,MATCH($L13,$J$5:$J$20,0))+3,""),"") | V13: =IFERROR(IF($Q13=V$4,INDEX($U$5:$U$20,MATCH($L13,$J$5:$J$20,0))+3,""),"") | W13: =IFERROR(IF($Q13=W$4,INDEX($V$5:$V$20,MATCH($L13,$J$5:$J$20,0))+3,""),"") | X13: =IFERROR(IF($Q13=X$4,INDEX($W$5:$W$20,MATCH($L13,$J$5:$J$20,0))+3,""),"") | Y13: =IFERROR(IF(LEN(K13)=0,"",COUNTIF($O$5:$O$20,J13)+SUMIF($O$5:$O$20,J13,$Y$5:$Y$20)),"") -> 3 | Z13: =IFERROR(IF($Q13=Z$4,3,""),"") -> 3 | AA13: =IFERROR(IF($Q13=AA$4,IF($P13=1,sumadj+1+INDEX(Z$5:Z$20,MATCH($L13,$J$5:$J$20,0)),INDEX(AA$5:AA$20,MATCH($O13&"-"&$P13-1,$R$5:$R$20,0),0)+sumadj+1)+IFERROR(INDEX($Y$5:$Y$20,MATCH($O13&"-"&$P13-1,$R$5:$R$20,0))*(sumadj+1),0),""),"") | AB13: =IFERROR(IF($Q13=AB$4,IF($P13=1,sumadj+1+INDEX(AA$5:AA$20,MATCH($L13,$J$5:$J$20,0)),INDEX(AB$5:AB$20,MATCH($O13&"-"&$P13-1,$R$5:$R$20,0),0)+sumadj+1)+IFERROR(INDEX($Y$5:$Y$20,MATCH($O13&"-"&$P13-1,$R$5:$R$20,0))*(sumadj+1),0),""),"") | AC13: =IFERROR(IF($Q13=AC$4,IF($P13=1,sumadj+1+INDEX(AB$5:AB$20,MATCH($L13,$J$5:$J$20,0)),INDEX(AC$5:AC$20,MATCH($O13&"-"&$P13-1,$R$5:$R$20,0),0)+sumadj+1)+IFERROR(INDEX($Y$5:$Y$20,MATCH($O13&"-"&$P13-1,$R$5:$R$20,0))*(sumadj+1),0),""),"") | AD13: =IFERROR(IF($Q13=AD$4,IF($P13=1,sumadj+1+INDEX(AC$5:AC$20,MATCH($L13,$J$5:$J$20,0)),INDEX(AD$5:AD$20,MATCH($O13&"-"&$P13-1,$R$5:$R$20,0),0)+sumadj+1)+IFERROR(INDEX($Y$5:$Y$20,MATCH($O13&"-"&$P13-1,$R$5:$R$20,0))*(sumadj+1),0),""),"") | AE13: =IFERROR(IF(LEN($K13)=0,"",IF($Q13=AE$4,IF(COUNTIF($O$5:$O$20,$J13)>0,1,0)+SUMIF($O$5:$O$20,$J13,AF$5:AF$20),"")),"") -> 1 | AF13: =IFERROR(IF(LEN($K13)=0,"",IF($Q13=AF$4,IF(COUNTIF($O$5:$O$20,$J13)>0,1,0)+SUMIF($O$5:$O$20,$J13,AG$5:AG$20),"")),"") | AG13: =IFERROR(IF(LEN($K13)=0,"",IF($Q13=AG$4,IF(COUNTIF($O$5:$O$20,$J13)>0,1,0)+SUMIF($O$5:$O$20,$J13,AH$5:AH$20),"")),"") | AH13: =IFERROR(IF(LEN($K13)=0,"",IF($Q13=AH$4,IF(COUNTIF($O$5:$O$20,$J13)>0,1,0)+SUMIF($O$5:$O$20,$J13,AI$5:AI$20),"")),"") | AI13: =IFERROR(IF(LEN($K13)=0,"",IF($Q13=AI$4,IF(COUNTIF($O$5:$O$20,$J13)>0,1,0),"")),"") | AJ13: =IFERROR(IF(LEN(K13)=0,"",SUM(AE13:AI13)),"") -> 1 | AK13: =IFERROR(IF(LEN(K13)=0,"",SUM(T13:X13)),"") -> 12 | AL13: =IFERROR(IF(LEN(K13)=0,"",IF(SUM(Z13:AD13)=0,"",SUM(Z13:AD13))),"") -> 3 | AM13: =IFERROR($AK13&"-"&$AL13+AM$4,"") -> 12-3 | AN13: =IFERROR($AK13&"-"&$AL13+AN$4,"") -> 12-4 | AP13: =IF(LEN(K13)=0,"*Nodata*!!",IF($F$15=1,J13&"-","")&K13) -> 9-blog | AQ13: =AM13 -> 12-3 | AS13: 9 | AT13: =IF(LEN(T13)=0,"",T13) -> 12 | AU13: =IFERROR(IF(LEN(AV13)=0,"",AK13),"") -> 12 | AV13: =IFERROR(IF(LEN(AW13)=0,"",AL13+1),"") -> 4 | AW13: {=IFERROR(IF(LEN(K13)=0,"",IF($Y13>0,MAX(IF($O$5:$O$20=$J13,$AL$5:$AL$20,"")),"")),"")} -> 12 | AX13: =IFERROR(IF(AND(M13="no",O13=0),AK13,""),"") | AY13: =IFERROR(IF(AND(M13="No",O13>0),AK13&"-"&AL13,""),"") | BA13: 9 | BB13: =IFERROR(IF(LEN(INDEX(Converter!C$9:C$24,Cal!$BA13))=0,"",INDEX(Converter!C$9:C$24,Cal!$BA13)),"") -> https://www.example.com/services/affiliate | BC13: =IFERROR(FIND(" ",SUBSTITUTE($BB13,"/"," ",3)),"") -> 24 | BD13: =IFERROR(FIND(" ",SUBSTITUTE($BB13,"/"," ",4)),"") -> 33 | BE13: =IFERROR(FIND(" ",SUBSTITUTE($BB13,"/"," ",5)),"") | BF13: =IFERROR(MID($BB13,BC13+1,IF(ISNUMBER(BD13),BD13-1,LEN($BB13))-BC13),"") -> services | BG13: =IFERROR(MID($BB13,BD13+1,IF(ISNUMBER(BE13),BE13-1,LEN($BB13))-BD13),"") -> affiliate | BH13: =IFERROR(MID($BB13,BE13+1,IF(ISNUMBER(BF13),BF13-1,LEN($BB13))-BE13),"") | BI13: =IFERROR(IF(LEN(BB13)=0,"",COUNT(BC13:BE13)),"") -> 2 | BJ13: =IF(LEN(BB13)=0,"",BA13) -> 9 | BK13: =IFERROR(IF(LEN(BB13)=0,"",INDEX(BF13:BH13,BI13)),"") -> affiliate | BL13: =IFERROR(IF(LEN(BB13)=0,"",IF(BI13<2,"Main Page",MATCH(INDEX(BF13:BH13,BI13-1),$BK$5:$BK$20,0))),"") -> 2 | BM13: =IFERROR(IF(LEN(BB13)=0,"",RIGHT(BB13,LEN(BB13)+1-BC13)),"") -> /services/affiliate | BO13: =IF(LEN(J13)=0,"",IF(COUNTIF($J$5:$J$20,J13)=1,0,1)) -> 0 | BP13: =IF(LEN(L13)=0,"",IF(OR(L13="Main Page",COUNTIF($J$5:$J$20,L13)>0),0,1)) -> 0 | BQ13: =IF(LEN(K13)=0,"",IF(OR(LEN(AK13)=0,LEN(AL13)=0),0,IF(AND(AK13<150,AL13<450),0,1))) -> 0 | BR13: =IF(LEN(Q13)=0,"",IF(Q13>5,1,0)) -> 0
B14: =IF(LEN(K14)=0,"",I14) -> 10 | C14: =IFERROR(INDEX($J$5:$J$20,SMALL($B$5:$B$20,$I14)),"") -> 10 | I14: 10 | J14: =IF(LEN(INDEX(Menu!C$7:C$22,Cal!$I14))=0,"",INDEX(Menu!C$7:C$22,Cal!$I14)) -> 10 | K14: =IFERROR(IF(LEN(INDEX(Menu!D$7:D$22,Cal!$I14))=0,"",INDEX(Menu!D$7:D$22,Cal!$I14)),"") -> seo-tips | L14: =IFERROR(IF(LEN($K14)=0,"",IF(INDEX(Menu!E$7:E$22,Cal!$I14)=J14,"Main Page",IF(LEN(INDEX(Menu!E$7:E$22,Cal!$I14))=0,"Main Page",INDEX(Menu!E$7:E$22,Cal!$I14)))),"Main Page") -> 9 | M14: =IFERROR(IF(LEN(INDEX(Menu!F$7:F$22,Cal!$I14))=0,"",INDEX(Menu!F$7:F$22,Cal!$I14)),"") | N14: =IFERROR(IF(LEN(K14)=0,"",INDEX($N$5:$N$20,MATCH($O14,$J$5:$J$20,0))),"")&IFERROR(IF(LEN(K14)=0,"","/"&K14),"") -> /blog/seo-tips | O14: =IFERROR(IF(L14="Main Page",0,L14),"") -> 9 | P14: =IFERROR(IF(LEN(K14)=0,"",COUNTIF($L$5:L14,L14)),"") -> 1 | Q14: =IFERROR(IF(LEN(K14)=0,"",IF(L14="Main Page",1,INDEX($Q$5:$Q$20,MATCH(L14,$J$5:$J$20,0))+1)),"") -> 2 | R14: =O14&"-"&P14 -> 9-1 | T14: =IFERROR(IF($Q14=T$4,IF(P14=1,0,INDEX($T$5:$T$20,MATCH(O14&"-"&P14-1,$R$5:$R$20,0),0)+INDEX($AJ$5:$AJ$20,MATCH(O14&"-"&P14-1,$R$5:$R$20,0))*3+3),""),"") | U14: =IFERROR(IF($Q14=U$4,INDEX($T$5:$T$20,MATCH($L14,$J$5:$J$20,0))+3,""),"") -> 15 | V14: =IFERROR(IF($Q14=V$4,INDEX($U$5:$U$20,MATCH($L14,$J$5:$J$20,0))+3,""),"") | W14: =IFERROR(IF($Q14=W$4,INDEX($V$5:$V$20,MATCH($L14,$J$5:$J$20,0))+3,""),"") | X14: =IFERROR(IF($Q14=X$4,INDEX($W$5:$W$20,MATCH($L14,$J$5:$J$20,0))+3,""),"") | Y14: =IFERROR(IF(LEN(K14)=0,"",COUNTIF($O$5:$O$20,J14)+SUMIF($O$5:$O$20,J14,$Y$5:$Y$20)),"") -> 0 | Z14: =IFERROR(IF($Q14=Z$4,3,""),"") | AA14: =IFERROR(IF($Q14=AA$4,IF($P14=1,sumadj+1+INDEX(Z$5:Z$20,MATCH($L14,$J$5:$J$20,0)),INDEX(AA$5:AA$20,MATCH($O14&"-"&$P14-1,$R$5:$R$20,0),0)+sumadj+1)+IFERROR(INDEX($Y$5:$Y$20,MATCH($O14&"-"&$P14-1,$R$5:$R$20,0))*(sumadj+1),0),""),"") -> 6 | AB14: =IFERROR(IF($Q14=AB$4,IF($P14=1,sumadj+1+INDEX(AA$5:AA$20,MATCH($L14,$J$5:$J$20,0)),INDEX(AB$5:AB$20,MATCH($O14&"-"&$P14-1,$R$5:$R$20,0),0)+sumadj+1)+IFERROR(INDEX($Y$5:$Y$20,MATCH($O14&"-"&$P14-1,$R$5:$R$20,0))*(sumadj+1),0),""),"") | AC14: =IFERROR(IF($Q14=AC$4,IF($P14=1,sumadj+1+INDEX(AB$5:AB$20,MATCH($L14,$J$5:$J$20,0)),INDEX(AC$5:AC$20,MATCH($O14&"-"&$P14-1,$R$5:$R$20,0),0)+sumadj+1)+IFERROR(INDEX($Y$5:$Y$20,MATCH($O14&"-"&$P14-1,$R$5:$R$20,0))*(sumadj+1),0),""),"") | AD14: =IFERROR(IF($Q14=AD$4,IF($P14=1,sumadj+1+INDEX(AC$5:AC$20,MATCH($L14,$J$5:$J$20,0)),INDEX(AD$5:AD$20,MATCH($O14&"-"&$P14-1,$R$5:$R$20,0),0)+sumadj+1)+IFERROR(INDEX($Y$5:$Y$20,MATCH($O14&"-"&$P14-1,$R$5:$R$20,0))*(sumadj+1),0),""),"") | AE14: =IFERROR(IF(LEN($K14)=0,"",IF($Q14=AE$4,IF(COUNTIF($O$5:$O$20,$J14)>0,1,0)+SUMIF($O$5:$O$20,$J14,AF$5:AF$20),"")),"") | AF14: =IFERROR(IF(LEN($K14)=0,"",IF($Q14=AF$4,IF(COUNTIF($O$5:$O$20,$J14)>0,1,0)+SUMIF($O$5:$O$20,$J14,AG$5:AG$20),"")),"") -> 0 | AG14: =IFERROR(IF(LEN($K14)=0,"",IF($Q14=AG$4,IF(COUNTIF($O$5:$O$20,$J14)>0,1,0)+SUMIF($O$5:$O$20,$J14,AH$5:AH$20),"")),"") | AH14: =IFERROR(IF(LEN($K14)=0,"",IF($Q14=AH$4,IF(COUNTIF($O$5:$O$20,$J14)>0,1,0)+SUMIF($O$5:$O$20,$J14,AI$5:AI$20),"")),"") | AI14: =IFERROR(IF(LEN($K14)=0,"",IF($Q14=AI$4,IF(COUNTIF($O$5:$O$20,$J14)>0,1,0),"")),"") | AJ14: =IFERROR(IF(LEN(K14)=0,"",SUM(AE14:AI14)),"") -> 0 | AK14: =IFERROR(IF(LEN(K14)=0,"",SUM(T14:X14)),"") -> 15 | AL14: =IFERROR(IF(LEN(K14)=0,"",IF(SUM(Z14:AD14)=0,"",SUM(Z14:AD14))),"") -> 6 | AM14: =IFERROR($AK14&"-"&$AL14+AM$4,"") -> 15-6 | AN14: =IFERROR($AK14&"-"&$AL14+AN$4,"") -> 15-7 | AP14: =IF(LEN(K14)=0,"*Nodata*!!",IF($F$15=1,J14&"-","")&K14) -> 10-seo-tips | AQ14: =AM14 -> 15-6 | AS14: 10 | AT14: =IF(LEN(T14)=0,"",T14) | AU14: =IFERROR(IF(LEN(AV14)=0,"",AK14),"") | AV14: =IFERROR(IF(LEN(AW14)=0,"",AL14+1),"") | AW14: {=IFERROR(IF(LEN(K14)=0,"",IF($Y14>0,MAX(IF($O$5:$O$20=$J14,$AL$5:$AL$20,"")),"")),"")} | AX14: =IFERROR(IF(AND(M14="no",O14=0),AK14,""),"") | AY14: =IFERROR(IF(AND(M14="No",O14>0),AK14&"-"&AL14,""),"") | BA14: 10 | BB14: =IFERROR(IF(LEN(INDEX(Converter!C$9:C$24,Cal!$BA14))=0,"",INDEX(Converter!C$9:C$24,Cal!$BA14)),"") -> https://www.example.com/services/marketing/influencer | BC14: =IFERROR(FIND(" ",SUBSTITUTE($BB14,"/"," ",3)),"") -> 24 | BD14: =IFERROR(FIND(" ",SUBSTITUTE($BB14,"/"," ",4)),"") -> 33 | BE14: =IFERROR(FIND(" ",SUBSTITUTE($BB14,"/"," ",5)),"") -> 43 | BF14: =IFERROR(MID($BB14,BC14+1,IF(ISNUMBER(BD14),BD14-1,LEN($BB14))-BC14),"") -> services | BG14: =IFERROR(MID($BB14,BD14+1,IF(ISNUMBER(BE14),BE14-1,LEN($BB14))-BD14),"") -> marketing | BH14: =IFERROR(MID($BB14,BE14+1,IF(ISNUMBER(BF14),BF14-1,LEN($BB14))-BE14),"") -> influencer | BI14: =IFERROR(IF(LEN(BB14)=0,"",COUNT(BC14:BE14)),"") -> 3 | BJ14: =IF(LEN(BB14)=0,"",BA14) -> 10 | BK14: =IFERROR(IF(LEN(BB14)=0,"",INDEX(BF14:BH14,BI14)),"") -> influencer | BL14: =IFERROR(IF(LEN(BB14)=0,"",IF(BI14<2,"Main Page",MATCH(INDEX(BF14:BH14,BI14-1),$BK$5:$BK$20,0))),"") -> 3 | BM14: =IFERROR(IF(LEN(BB14)=0,"",RIGHT(BB14,LEN(BB14)+1-BC14)),"") -> /services/marketing/influencer | BO14: =IF(LEN(J14)=0,"",IF(COUNTIF($J$5:$J$20,J14)=1,0,1)) -> 0 | BP14: =IF(LEN(L14)=0,"",IF(OR(L14="Main Page",COUNTIF($J$5:$J$20,L14)>0),0,1)) -> 0 | BQ14: =IF(LEN(K14)=0,"",IF(OR(LEN(AK14)=0,LEN(AL14)=0),0,IF(AND(AK14<150,AL14<450),0,1))) -> 0 | BR14: =IF(LEN(Q14)=0,"",IF(Q14>5,1,0)) -> 0
B15: =IF(LEN(K15)=0,"",I15) -> 11 | C15: =IFERROR(INDEX($J$5:$J$20,SMALL($B$5:$B$20,$I15)),"") -> 11 | E15: Show ID | F15: =IFERROR(IF(Menu!M12="Show",1,0),1) -> 1 | I15: 11 | J15: =IF(LEN(INDEX(Menu!C$7:C$22,Cal!$I15))=0,"",INDEX(Menu!C$7:C$22,Cal!$I15)) -> 11 | K15: =IFERROR(IF(LEN(INDEX(Menu!D$7:D$22,Cal!$I15))=0,"",INDEX(Menu!D$7:D$22,Cal!$I15)),"") -> ppc-tips | L15: =IFERROR(IF(LEN($K15)=0,"",IF(INDEX(Menu!E$7:E$22,Cal!$I15)=J15,"Main Page",IF(LEN(INDEX(Menu!E$7:E$22,Cal!$I15))=0,"Main Page",INDEX(Menu!E$7:E$22,Cal!$I15)))),"Main Page") -> 9 | M15: =IFERROR(IF(LEN(INDEX(Menu!F$7:F$22,Cal!$I15))=0,"",INDEX(Menu!F$7:F$22,Cal!$I15)),"") | N15: =IFERROR(IF(LEN(K15)=0,"",INDEX($N$5:$N$20,MATCH($O15,$J$5:$J$20,0))),"")&IFERROR(IF(LEN(K15)=0,"","/"&K15),"") -> /blog/ppc-tips | O15: =IFERROR(IF(L15="Main Page",0,L15),"") -> 9 | P15: =IFERROR(IF(LEN(K15)=0,"",COUNTIF($L$5:L15,L15)),"") -> 2 | Q15: =IFERROR(IF(LEN(K15)=0,"",IF(L15="Main Page",1,INDEX($Q$5:$Q$20,MATCH(L15,$J$5:$J$20,0))+1)),"") -> 2 | R15: =O15&"-"&P15 -> 9-2 | T15: =IFERROR(IF($Q15=T$4,IF(P15=1,0,INDEX($T$5:$T$20,MATCH(O15&"-"&P15-1,$R$5:$R$20,0),0)+INDEX($AJ$5:$AJ$20,MATCH(O15&"-"&P15-1,$R$5:$R$20,0))*3+3),""),"") | U15: =IFERROR(IF($Q15=U$4,INDEX($T$5:$T$20,MATCH($L15,$J$5:$J$20,0))+3,""),"") -> 15 | V15: =IFERROR(IF($Q15=V$4,INDEX($U$5:$U$20,MATCH($L15,$J$5:$J$20,0))+3,""),"") | W15: =IFERROR(IF($Q15=W$4,INDEX($V$5:$V$20,MATCH($L15,$J$5:$J$20,0))+3,""),"") | X15: =IFERROR(IF($Q15=X$4,INDEX($W$5:$W$20,MATCH($L15,$J$5:$J$20,0))+3,""),"") | Y15: =IFERROR(IF(LEN(K15)=0,"",COUNTIF($O$5:$O$20,J15)+SUMIF($O$5:$O$20,J15,$Y$5:$Y$20)),"") -> 0 | Z15: =IFERROR(IF($Q15=Z$4,3,""),"") | AA15: =IFERROR(IF($Q15=AA$4,IF($P15=1,sumadj+1+INDEX(Z$5:Z$20,MATCH($L15,$J$5:$J$20,0)),INDEX(AA$5:AA$20,MATCH($O15&"-"&$P15-1,$R$5:$R$20,0),0)+sumadj+1)+IFERROR(INDEX($Y$5:$Y$20,MATCH($O15&"-"&$P15-1,$R$5:$R$20,0))*(sumadj+1),0),""),"") -> 9 | AB15: =IFERROR(IF($Q15=AB$4,IF($P15=1,sumadj+1+INDEX(AA$5:AA$20,MATCH($L15,$J$5:$J$20,0)),INDEX(AB$5:AB$20,MATCH($O15&"-"&$P15-1,$R$5:$R$20,0),0)+sumadj+1)+IFERROR(INDEX($Y$5:$Y$20,MATCH($O15&"-"&$P15-1,$R$5:$R$20,0))*(sumadj+1),0),""),"") | AC15: =IFERROR(IF($Q15=AC$4,IF($P15=1,sumadj+1+INDEX(AB$5:AB$20,MATCH($L15,$J$5:$J$20,0)),INDEX(AC$5:AC$20,MATCH($O15&"-"&$P15-1,$R$5:$R$20,0),0)+sumadj+1)+IFERROR(INDEX($Y$5:$Y$20,MATCH($O15&"-"&$P15-1,$R$5:$R$20,0))*(sumadj+1),0),""),"") | AD15: =IFERROR(IF($Q15=AD$4,IF($P15=1,sumadj+1+INDEX(AC$5:AC$20,MATCH($L15,$J$5:$J$20,0)),INDEX(AD$5:AD$20,MATCH($O15&"-"&$P15-1,$R$5:$R$20,0),0)+sumadj+1)+IFERROR(INDEX($Y$5:$Y$20,MATCH($O15&"-"&$P15-1,$R$5:$R$20,0))*(sumadj+1),0),""),"") | AE15: =IFERROR(IF(LEN($K15)=0,"",IF($Q15=AE$4,IF(COUNTIF($O$5:$O$20,$J15)>0,1,0)+SUMIF($O$5:$O$20,$J15,AF$5:AF$20),"")),"") | AF15: =IFERROR(IF(LEN($K15)=0,"",IF($Q15=AF$4,IF(COUNTIF($O$5:$O$20,$J15)>0,1,0)+SUMIF($O$5:$O$20,$J15,AG$5:AG$20),"")),"") -> 0 | AG15: =IFERROR(IF(LEN($K15)=0,"",IF($Q15=AG$4,IF(COUNTIF($O$5:$O$20,$J15)>0,1,0)+SUMIF($O$5:$O$20,$J15,AH$5:AH$20),"")),"") | AH15: =IFERROR(IF(LEN($K15)=0,"",IF($Q15=AH$4,IF(COUNTIF($O$5:$O$20,$J15)>0,1,0)+SUMIF($O$5:$O$20,$J15,AI$5:AI$20),"")),"") | AI15: =IFERROR(IF(LEN($K15)=0,"",IF($Q15=AI$4,IF(COUNTIF($O$5:$O$20,$J15)>0,1,0),"")),"") | AJ15: =IFERROR(IF(LEN(K15)=0,"",SUM(AE15:AI15)),"") -> 0 | AK15: =IFERROR(IF(LEN(K15)=0,"",SUM(T15:X15)),"") -> 15 | AL15: =IFERROR(IF(LEN(K15)=0,"",IF(SUM(Z15:AD15)=0,"",SUM(Z15:AD15))),"") -> 9 | AM15: =IFERROR($AK15&"-"&$AL15+AM$4,"") -> 15-9 | AN15: =IFERROR($AK15&"-"&$AL15+AN$4,"") -> 15-10 | AP15: =IF(LEN(K15)=0,"*Nodata*!!",IF($F$15=1,J15&"-","")&K15) -> 11-ppc-tips | AQ15: =AM15 -> 15-9 | AS15: 11 | AT15: =IF(LEN(T15)=0,"",T15) | AU15: =IFERROR(IF(LEN(AV15)=0,"",AK15),"") | AV15: =IFERROR(IF(LEN(AW15)=0,"",AL15+1),"") | AW15: {=IFERROR(IF(LEN(K15)=0,"",IF($Y15>0,MAX(IF($O$5:$O$20=$J15,$AL$5:$AL$20,"")),"")),"")} | AX15: =IFERROR(IF(AND(M15="no",O15=0),AK15,""),"") | AY15: =IFERROR(IF(AND(M15="No",O15>0),AK15&"-"&AL15,""),"") | BA15: 11 | BB15: =IFERROR(IF(LEN(INDEX(Converter!C$9:C$24,Cal!$BA15))=0,"",INDEX(Converter!C$9:C$24,Cal!$BA15)),"") -> https://www.example.com/blog | BC15: =IFERROR(FIND(" ",SUBSTITUTE($BB15,"/"," ",3)),"") -> 24 | BD15: =IFERROR(FIND(" ",SUBSTITUTE($BB15,"/"," ",4)),"") | BE15: =IFERROR(FIND(" ",SUBSTITUTE($BB15,"/"," ",5)),"") | BF15: =IFERROR(MID($BB15,BC15+1,IF(ISNUMBER(BD15),BD15-1,LEN($BB15))-BC15),"") -> blog | BG15: =IFERROR(MID($BB15,BD15+1,IF(ISNUMBER(BE15),BE15-1,LEN($BB15))-BD15),"") | BH15: =IFERROR(MID($BB15,BE15+1,IF(ISNUMBER(BF15),BF15-1,LEN($BB15))-BE15),"") | BI15: =IFERROR(IF(LEN(BB15)=0,"",COUNT(BC15:BE15)),"") -> 1 | BJ15: =IF(LEN(BB15)=0,"",BA15) -> 11 | BK15: =IFERROR(IF(LEN(BB15)=0,"",INDEX(BF15:BH15,BI15)),"") -> blog | BL15: =IFERROR(IF(LEN(BB15)=0,"",IF(BI15<2,"Main Page",MATCH(INDEX(BF15:BH15,BI15-1),$BK$5:$BK$20,0))),"") -> Main Page | BM15: =IFERROR(IF(LEN(BB15)=0,"",RIGHT(BB15,LEN(BB15)+1-BC15)),"") -> /blog | BO15: =IF(LEN(J15)=0,"",IF(COUNTIF($J$5:$J$20,J15)=1,0,1)) -> 0 | BP15: =IF(LEN(L15)=0,"",IF(OR(L15="Main Page",COUNTIF($J$5:$J$20,L15)>0),0,1)) -> 0 | BQ15: =IF(LEN(K15)=0,"",IF(OR(LEN(AK15)=0,LEN(AL15)=0),0,IF(AND(AK15<150,AL15<450),0,1))) -> 0 | BR15: =IF(LEN(Q15)=0,"",IF(Q15>5,1,0)) -> 0
B16: =IF(LEN(K16)=0,"",I16) -> 12 | C16: =IFERROR(INDEX($J$5:$J$20,SMALL($B$5:$B$20,$I16)),"") -> 12 | E16: Show URL | F16: =IFERROR(IF(Menu!M13="Show",1,0),1) -> 1 | I16: 12 | J16: =IF(LEN(INDEX(Menu!C$7:C$22,Cal!$I16))=0,"",INDEX(Menu!C$7:C$22,Cal!$I16)) -> 12 | K16: =IFERROR(IF(LEN(INDEX(Menu!D$7:D$22,Cal!$I16))=0,"",INDEX(Menu!D$7:D$22,Cal!$I16)),"") -> social-media-tips | L16: =IFERROR(IF(LEN($K16)=0,"",IF(INDEX(Menu!E$7:E$22,Cal!$I16)=J16,"Main Page",IF(LEN(INDEX(Menu!E$7:E$22,Cal!$I16))=0,"Main Page",INDEX(Menu!E$7:E$22,Cal!$I16)))),"Main Page") -> 9 | M16: =IFERROR(IF(LEN(INDEX(Menu!F$7:F$22,Cal!$I16))=0,"",INDEX(Menu!F$7:F$22,Cal!$I16)),"") -> No | N16: =IFERROR(IF(LEN(K16)=0,"",INDEX($N$5:$N$20,MATCH($O16,$J$5:$J$20,0))),"")&IFERROR(IF(LEN(K16)=0,"","/"&K16),"") -> /blog/social-media-tips | O16: =IFERROR(IF(L16="Main Page",0,L16),"") -> 9 | P16: =IFERROR(IF(LEN(K16)=0,"",COUNTIF($L$5:L16,L16)),"") -> 3 | Q16: =IFERROR(IF(LEN(K16)=0,"",IF(L16="Main Page",1,INDEX($Q$5:$Q$20,MATCH(L16,$J$5:$J$20,0))+1)),"") -> 2 | R16: =O16&"-"&P16 -> 9-3 | T16: =IFERROR(IF($Q16=T$4,IF(P16=1,0,INDEX($T$5:$T$20,MATCH(O16&"-"&P16-1,$R$5:$R$20,0),0)+INDEX($AJ$5:$AJ$20,MATCH(O16&"-"&P16-1,$R$5:$R$20,0))*3+3),""),"") | U16: =IFERROR(IF($Q16=U$4,INDEX($T$5:$T$20,MATCH($L16,$J$5:$J$20,0))+3,""),"") -> 15 | V16: =IFERROR(IF($Q16=V$4,INDEX($U$5:$U$20,MATCH($L16,$J$5:$J$20,0))+3,""),"") | W16: =IFERROR(IF($Q16=W$4,INDEX($V$5:$V$20,MATCH($L16,$J$5:$J$20,0))+3,""),"") | X16: =IFERROR(IF($Q16=X$4,INDEX($W$5:$W$20,MATCH($L16,$J$5:$J$20,0))+3,""),"") | Y16: =IFERROR(IF(LEN(K16)=0,"",COUNTIF($O$5:$O$20,J16)+SUMIF($O$5:$O$20,J16,$Y$5:$Y$20)),"") -> 0 | Z16: =IFERROR(IF($Q16=Z$4,3,""),"") | AA16: =IFERROR(IF($Q16=AA$4,IF($P16=1,sumadj+1+INDEX(Z$5:Z$20,MATCH($L16,$J$5:$J$20,0)),INDEX(AA$5:AA$20,MATCH($O16&"-"&$P16-1,$R$5:$R$20,0),0)+sumadj+1)+IFERROR(INDEX($Y$5:$Y$20,MATCH($O16&"-"&$P16-1,$R$5:$R$20,0))*(sumadj+1),0),""),"") -> 12 | AB16: =IFERROR(IF($Q16=AB$4,IF($P16=1,sumadj+1+INDEX(AA$5:AA$20,MATCH($L16,$J$5:$J$20,0)),INDEX(AB$5:AB$20,MATCH($O16&"-"&$P16-1,$R$5:$R$20,0),0)+sumadj+1)+IFERROR(INDEX($Y$5:$Y$20,MATCH($O16&"-"&$P16-1,$R$5:$R$20,0))*(sumadj+1),0),""),"") | AC16: =IFERROR(IF($Q16=AC$4,IF($P16=1,sumadj+1+INDEX(AB$5:AB$20,MATCH($L16,$J$5:$J$20,0)),INDEX(AC$5:AC$20,MATCH($O16&"-"&$P16-1,$R$5:$R$20,0),0)+sumadj+1)+IFERROR(INDEX($Y$5:$Y$20,MATCH($O16&"-"&$P16-1,$R$5:$R$20,0))*(sumadj+1),0),""),"") | AD16: =IFERROR(IF($Q16=AD$4,IF($P16=1,sumadj+1+INDEX(AC$5:AC$20,MATCH($L16,$J$5:$J$20,0)),INDEX(AD$5:AD$20,MATCH($O16&"-"&$P16-1,$R$5:$R$20,0),0)+sumadj+1)+IFERROR(INDEX($Y$5:$Y$20,MATCH($O16&"-"&$P16-1,$R$5:$R$20,0))*(sumadj+1),0),""),"") | AE16: =IFERROR(IF(LEN($K16)=0,"",IF($Q16=AE$4,IF(COUNTIF($O$5:$O$20,$J16)>0,1,0)+SUMIF($O$5:$O$20,$J16,AF$5:AF$20),"")),"") | AF16: =IFERROR(IF(LEN($K16)=0,"",IF($Q16=AF$4,IF(COUNTIF($O$5:$O$20,$J16)>0,1,0)+SUMIF($O$5:$O$20,$J16,AG$5:AG$20),"")),"") -> 0 | AG16: =IFERROR(IF(LEN($K16)=0,"",IF($Q16=AG$4,IF(COUNTIF($O$5:$O$20,$J16)>0,1,0)+SUMIF($O$5:$O$20,$J16,AH$5:AH$20),"")),"") | AH16: =IFERROR(IF(LEN($K16)=0,"",IF($Q16=AH$4,IF(COUNTIF($O$5:$O$20,$J16)>0,1,0)+SUMIF($O$5:$O$20,$J16,AI$5:AI$20),"")),"") | AI16: =IFERROR(IF(LEN($K16)=0,"",IF($Q16=AI$4,IF(COUNTIF($O$5:$O$20,$J16)>0,1,0),"")),"") | AJ16: =IFERROR(IF(LEN(K16)=0,"",SUM(AE16:AI16)),"") -> 0 | AK16: =IFERROR(IF(LEN(K16)=0,"",SUM(T16:X16)),"") -> 15 | AL16: =IFERROR(IF(LEN(K16)=0,"",IF(SUM(Z16:AD16)=0,"",SUM(Z16:AD16))),"") -> 12 | AM16: =IFERROR($AK16&"-"&$AL16+AM$4,"") -> 15-12 | AN16: =IFERROR($AK16&"-"&$AL16+AN$4,"") -> 15-13 | AP16: =IF(LEN(K16)=0,"*Nodata*!!",IF($F$15=1,J16&"-","")&K16) -> 12-social-media-tips | AQ16: =AM16 -> 15-12 | AS16: 12 | AT16: =IF(LEN(T16)=0,"",T16) | AU16: =IFERROR(IF(LEN(AV16)=0,"",AK16),"") | AV16: =IFERROR(IF(LEN(AW16)=0,"",AL16+1),"") | AW16: {=IFERROR(IF(LEN(K16)=0,"",IF($Y16>0,MAX(IF($O$5:$O$20=$J16,$AL$5:$AL$20,"")),"")),"")} | AX16: =IFERROR(IF(AND(M16="no",O16=0),AK16,""),"") | AY16: =IFERROR(IF(AND(M16="No",O16>0),AK16&"-"&AL16,""),"") -> 15-12 | BA16: 12 | BB16: =IFERROR(IF(LEN(INDEX(Converter!C$9:C$24,Cal!$BA16))=0,"",INDEX(Converter!C$9:C$24,Cal!$BA16)),"") -> https://www.example.com/blog/seo-tips | BC16: =IFERROR(FIND(" ",SUBSTITUTE($BB16,"/"," ",3)),"") -> 24 | BD16: =IFERROR(FIND(" ",SUBSTITUTE($BB16,"/"," ",4)),"") -> 29 | BE16: =IFERROR(FIND(" ",SUBSTITUTE($BB16,"/"," ",5)),"") | BF16: =IFERROR(MID($BB16,BC16+1,IF(ISNUMBER(BD16),BD16-1,LEN($BB16))-BC16),"") -> blog | BG16: =IFERROR(MID($BB16,BD16+1,IF(ISNUMBER(BE16),BE16-1,LEN($BB16))-BD16),"") -> seo-tips | BH16: =IFERROR(MID($BB16,BE16+1,IF(ISNUMBER(BF16),BF16-1,LEN($BB16))-BE16),"") | BI16: =IFERROR(IF(LEN(BB16)=0,"",COUNT(BC16:BE16)),"") -> 2 | BJ16: =IF(LEN(BB16)=0,"",BA16) -> 12 | BK16: =IFERROR(IF(LEN(BB16)=0,"",INDEX(BF16:BH16,BI16)),"") -> seo-tips | BL16: =IFERROR(IF(LEN(BB16)=0,"",IF(BI16<2,"Main Page",MATCH(INDEX(BF16:BH16,BI16-1),$BK$5:$BK$20,0))),"") -> 11 | BM16: =IFERROR(IF(LEN(BB16)=0,"",RIGHT(BB16,LEN(BB16)+1-BC16)),"") -> /blog/seo-tips | BO16: =IF(LEN(J16)=0,"",IF(COUNTIF($J$5:$J$20,J16)=1,0,1)) -> 0 | BP16: =IF(LEN(L16)=0,"",IF(OR(L16="Main Page",COUNTIF($J$5:$J$20,L16)>0),0,1)) -> 0 | BQ16: =IF(LEN(K16)=0,"",IF(OR(LEN(AK16)=0,LEN(AL16)=0),0,IF(AND(AK16<150,AL16<450),0,1))) -> 0 | BR16: =IF(LEN(Q16)=0,"",IF(Q16>5,1,0)) -> 0
B17: =IF(LEN(K17)=0,"",I17) | C17: =IFERROR(INDEX($J$5:$J$20,SMALL($B$5:$B$20,$I17)),"") | E17: Sum | F17: =F16 -> 1 | I17: 13 | J17: =IF(LEN(INDEX(Menu!C$7:C$22,Cal!$I17))=0,"",INDEX(Menu!C$7:C$22,Cal!$I17)) | K17: =IFERROR(IF(LEN(INDEX(Menu!D$7:D$22,Cal!$I17))=0,"",INDEX(Menu!D$7:D$22,Cal!$I17)),"") | L17: =IFERROR(IF(LEN($K17)=0,"",IF(INDEX(Menu!E$7:E$22,Cal!$I17)=J17,"Main Page",IF(LEN(INDEX(Menu!E$7:E$22,Cal!$I17))=0,"Main Page",INDEX(Menu!E$7:E$22,Cal!$I17)))),"Main Page") | M17: =IFERROR(IF(LEN(INDEX(Menu!F$7:F$22,Cal!$I17))=0,"",INDEX(Menu!F$7:F$22,Cal!$I17)),"") | N17: =IFERROR(IF(LEN(K17)=0,"",INDEX($N$5:$N$20,MATCH($O17,$J$5:$J$20,0))),"")&IFERROR(IF(LEN(K17)=0,"","/"&K17),"") | O17: =IFERROR(IF(L17="Main Page",0,L17),"") | P17: =IFERROR(IF(LEN(K17)=0,"",COUNTIF($L$5:L17,L17)),"") | Q17: =IFERROR(IF(LEN(K17)=0,"",IF(L17="Main Page",1,INDEX($Q$5:$Q$20,MATCH(L17,$J$5:$J$20,0))+1)),"") | R17: =O17&"-"&P17 -> - | T17: =IFERROR(IF($Q17=T$4,IF(P17=1,0,INDEX($T$5:$T$20,MATCH(O17&"-"&P17-1,$R$5:$R$20,0),0)+INDEX($AJ$5:$AJ$20,MATCH(O17&"-"&P17-1,$R$5:$R$20,0))*3+3),""),"") | U17: =IFERROR(IF($Q17=U$4,INDEX($T$5:$T$20,MATCH($L17,$J$5:$J$20,0))+3,""),"") | V17: =IFERROR(IF($Q17=V$4,INDEX($U$5:$U$20,MATCH($L17,$J$5:$J$20,0))+3,""),"") | W17: =IFERROR(IF($Q17=W$4,INDEX($V$5:$V$20,MATCH($L17,$J$5:$J$20,0))+3,""),"") | X17: =IFERROR(IF($Q17=X$4,INDEX($W$5:$W$20,MATCH($L17,$J$5:$J$20,0))+3,""),"") | Y17: =IFERROR(IF(LEN(K17)=0,"",COUNTIF($O$5:$O$20,J17)+SUMIF($O$5:$O$20,J17,$Y$5:$Y$20)),"") | Z17: =IFERROR(IF($Q17=Z$4,3,""),"") | AA17: =IFERROR(IF($Q17=AA$4,IF($P17=1,sumadj+1+INDEX(Z$5:Z$20,MATCH($L17,$J$5:$J$20,0)),INDEX(AA$5:AA$20,MATCH($O17&"-"&$P17-1,$R$5:$R$20,0),0)+sumadj+1)+IFERROR(INDEX($Y$5:$Y$20,MATCH($O17&"-"&$P17-1,$R$5:$R$20,0))*(sumadj+1),0),""),"") | AB17: =IFERROR(IF($Q17=AB$4,IF($P17=1,sumadj+1+INDEX(AA$5:AA$20,MATCH($L17,$J$5:$J$20,0)),INDEX(AB$5:AB$20,MATCH($O17&"-"&$P17-1,$R$5:$R$20,0),0)+sumadj+1)+IFERROR(INDEX($Y$5:$Y$20,MATCH($O17&"-"&$P17-1,$R$5:$R$20,0))*(sumadj+1),0),""),"") | AC17: =IFERROR(IF($Q17=AC$4,IF($P17=1,sumadj+1+INDEX(AB$5:AB$20,MATCH($L17,$J$5:$J$20,0)),INDEX(AC$5:AC$20,MATCH($O17&"-"&$P17-1,$R$5:$R$20,0),0)+sumadj+1)+IFERROR(INDEX($Y$5:$Y$20,MATCH($O17&"-"&$P17-1,$R$5:$R$20,0))*(sumadj+1),0),""),"") | AD17: =IFERROR(IF($Q17=AD$4,IF($P17=1,sumadj+1+INDEX(AC$5:AC$20,MATCH($L17,$J$5:$J$20,0)),INDEX(AD$5:AD$20,MATCH($O17&"-"&$P17-1,$R$5:$R$20,0),0)+sumadj+1)+IFERROR(INDEX($Y$5:$Y$20,MATCH($O17&"-"&$P17-1,$R$5:$R$20,0))*(sumadj+1),0),""),"") | AE17: =IFERROR(IF(LEN($K17)=0,"",IF($Q17=AE$4,IF(COUNTIF($O$5:$O$20,$J17)>0,1,0)+SUMIF($O$5:$O$20,$J17,AF$5:AF$20),"")),"") | AF17: =IFERROR(IF(LEN($K17)=0,"",IF($Q17=AF$4,IF(COUNTIF($O$5:$O$20,$J17)>0,1,0)+SUMIF($O$5:$O$20,$J17,AG$5:AG$20),"")),"") | AG17: =IFERROR(IF(LEN($K17)=0,"",IF($Q17=AG$4,IF(COUNTIF($O$5:$O$20,$J17)>0,1,0)+SUMIF($O$5:$O$20,$J17,AH$5:AH$20),"")),"") | AH17: =IFERROR(IF(LEN($K17)=0,"",IF($Q17=AH$4,IF(COUNTIF($O$5:$O$20,$J17)>0,1,0)+SUMIF($O$5:$O$20,$J17,AI$5:AI$20),"")),"") | AI17: =IFERROR(IF(LEN($K17)=0,"",IF($Q17=AI$4,IF(COUNTIF($O$5:$O$20,$J17)>0,1,0),"")),"") | AJ17: =IFERROR(IF(LEN(K17)=0,"",SUM(AE17:AI17)),"") | AK17: =IFERROR(IF(LEN(K17)=0,"",SUM(T17:X17)),"") | AL17: =IFERROR(IF(LEN(K17)=0,"",IF(SUM(Z17:AD17)=0,"",SUM(Z17:AD17))),"") | AM17: =IFERROR($AK17&"-"&$AL17+AM$4,"") | AN17: =IFERROR($AK17&"-"&$AL17+AN$4,"") | AP17: =IF(LEN(K17)=0,"*Nodata*!!",IF($F$15=1,J17&"-","")&K17) -> *Nodata*!! | AQ17: =AM17 | AS17: 13 | AT17: =IF(LEN(T17)=0,"",T17) | AU17: =IFERROR(IF(LEN(AV17)=0,"",AK17),"") | AV17: =IFERROR(IF(LEN(AW17)=0,"",AL17+1),"") | AW17: {=IFERROR(IF(LEN(K17)=0,"",IF($Y17>0,MAX(IF($O$5:$O$20=$J17,$AL$5:$AL$20,"")),"")),"")} | AX17: =IFERROR(IF(AND(M17="no",O17=0),AK17,""),"") | AY17: =IFERROR(IF(AND(M17="No",O17>0),AK17&"-"&AL17,""),"") | BA17: 13 | BB17: =IFERROR(IF(LEN(INDEX(Converter!C$9:C$24,Cal!$BA17))=0,"",INDEX(Converter!C$9:C$24,Cal!$BA17)),"") -> https://www.example.com/blog/ppc-tips | BC17: =IFERROR(FIND(" ",SUBSTITUTE($BB17,"/"," ",3)),"") -> 24 | BD17: =IFERROR(FIND(" ",SUBSTITUTE($BB17,"/"," ",4)),"") -> 29 | BE17: =IFERROR(FIND(" ",SUBSTITUTE($BB17,"/"," ",5)),"") | BF17: =IFERROR(MID($BB17,BC17+1,IF(ISNUMBER(BD17),BD17-1,LEN($BB17))-BC17),"") -> blog | BG17: =IFERROR(MID($BB17,BD17+1,IF(ISNUMBER(BE17),BE17-1,LEN($BB17))-BD17),"") -> ppc-tips | BH17: =IFERROR(MID($BB17,BE17+1,IF(ISNUMBER(BF17),BF17-1,LEN($BB17))-BE17),"") | BI17: =IFERROR(IF(LEN(BB17)=0,"",COUNT(BC17:BE17)),"") -> 2 | BJ17: =IF(LEN(BB17)=0,"",BA17) -> 13 | BK17: =IFERROR(IF(LEN(BB17)=0,"",INDEX(BF17:BH17,BI17)),"") -> ppc-tips | BL17: =IFERROR(IF(LEN(BB17)=0,"",IF(BI17<2,"Main Page",MATCH(INDEX(BF17:BH17,BI17-1),$BK$5:$BK$20,0))),"") -> 11 | BM17: =IFERROR(IF(LEN(BB17)=0,"",RIGHT(BB17,LEN(BB17)+1-BC17)),"") -> /blog/ppc-tips | BO17: =IF(LEN(J17)=0,"",IF(COUNTIF($J$5:$J$20,J17)=1,0,1)) | BP17: =IF(LEN(L17)=0,"",IF(OR(L17="Main Page",COUNTIF($J$5:$J$20,L17)>0),0,1)) | BQ17: =IF(LEN(K17)=0,"",IF(OR(LEN(AK17)=0,LEN(AL17)=0),0,IF(AND(AK17<150,AL17<450),0,1))) | BR17: =IF(LEN(Q17)=0,"",IF(Q17>5,1,0))
B18: =IF(LEN(K18)=0,"",I18) | C18: =IFERROR(INDEX($J$5:$J$20,SMALL($B$5:$B$20,$I18)),"") | E18: sumadj | F18: =sumfilter+1 -> 2 | I18: 14 | J18: =IF(LEN(INDEX(Menu!C$7:C$22,Cal!$I18))=0,"",INDEX(Menu!C$7:C$22,Cal!$I18)) | K18: =IFERROR(IF(LEN(INDEX(Menu!D$7:D$22,Cal!$I18))=0,"",INDEX(Menu!D$7:D$22,Cal!$I18)),"") | L18: =IFERROR(IF(LEN($K18)=0,"",IF(INDEX(Menu!E$7:E$22,Cal!$I18)=J18,"Main Page",IF(LEN(INDEX(Menu!E$7:E$22,Cal!$I18))=0,"Main Page",INDEX(Menu!E$7:E$22,Cal!$I18)))),"Main Page") | M18: =IFERROR(IF(LEN(INDEX(Menu!F$7:F$22,Cal!$I18))=0,"",INDEX(Menu!F$7:F$22,Cal!$I18)),"") | N18: =IFERROR(IF(LEN(K18)=0,"",INDEX($N$5:$N$20,MATCH($O18,$J$5:$J$20,0))),"")&IFERROR(IF(LEN(K18)=0,"","/"&K18),"") | O18: =IFERROR(IF(L18="Main Page",0,L18),"") | P18: =IFERROR(IF(LEN(K18)=0,"",COUNTIF($L$5:L18,L18)),"") | Q18: =IFERROR(IF(LEN(K18)=0,"",IF(L18="Main Page",1,INDEX($Q$5:$Q$20,MATCH(L18,$J$5:$J$20,0))+1)),"") | R18: =O18&"-"&P18 -> - | T18: =IFERROR(IF($Q18=T$4,IF(P18=1,0,INDEX($T$5:$T$20,MATCH(O18&"-"&P18-1,$R$5:$R$20,0),0)+INDEX($AJ$5:$AJ$20,MATCH(O18&"-"&P18-1,$R$5:$R$20,0))*3+3),""),"") | U18: =IFERROR(IF($Q18=U$4,INDEX($T$5:$T$20,MATCH($L18,$J$5:$J$20,0))+3,""),"") | V18: =IFERROR(IF($Q18=V$4,INDEX($U$5:$U$20,MATCH($L18,$J$5:$J$20,0))+3,""),"") | W18: =IFERROR(IF($Q18=W$4,INDEX($V$5:$V$20,MATCH($L18,$J$5:$J$20,0))+3,""),"") | X18: =IFERROR(IF($Q18=X$4,INDEX($W$5:$W$20,MATCH($L18,$J$5:$J$20,0))+3,""),"") | Y18: =IFERROR(IF(LEN(K18)=0,"",COUNTIF($O$5:$O$20,J18)+SUMIF($O$5:$O$20,J18,$Y$5:$Y$20)),"") | Z18: =IFERROR(IF($Q18=Z$4,3,""),"") | AA18: =IFERROR(IF($Q18=AA$4,IF($P18=1,sumadj+1+INDEX(Z$5:Z$20,MATCH($L18,$J$5:$J$20,0)),INDEX(AA$5:AA$20,MATCH($O18&"-"&$P18-1,$R$5:$R$20,0),0)+sumadj+1)+IFERROR(INDEX($Y$5:$Y$20,MATCH($O18&"-"&$P18-1,$R$5:$R$20,0))*(sumadj+1),0),""),"") | AB18: =IFERROR(IF($Q18=AB$4,IF($P18=1,sumadj+1+INDEX(AA$5:AA$20,MATCH($L18,$J$5:$J$20,0)),INDEX(AB$5:AB$20,MATCH($O18&"-"&$P18-1,$R$5:$R$20,0),0)+sumadj+1)+IFERROR(INDEX($Y$5:$Y$20,MATCH($O18&"-"&$P18-1,$R$5:$R$20,0))*(sumadj+1),0),""),"") | AC18: =IFERROR(IF($Q18=AC$4,IF($P18=1,sumadj+1+INDEX(AB$5:AB$20,MATCH($L18,$J$5:$J$20,0)),INDEX(AC$5:AC$20,MATCH($O18&"-"&$P18-1,$R$5:$R$20,0),0)+sumadj+1)+IFERROR(INDEX($Y$5:$Y$20,MATCH($O18&"-"&$P18-1,$R$5:$R$20,0))*(sumadj+1),0),""),"") | AD18: =IFERROR(IF($Q18=AD$4,IF($P18=1,sumadj+1+INDEX(AC$5:AC$20,MATCH($L18,$J$5:$J$20,0)),INDEX(AD$5:AD$20,MATCH($O18&"-"&$P18-1,$R$5:$R$20,0),0)+sumadj+1)+IFERROR(INDEX($Y$5:$Y$20,MATCH($O18&"-"&$P18-1,$R$5:$R$20,0))*(sumadj+1),0),""),"") | AE18: =IFERROR(IF(LEN($K18)=0,"",IF($Q18=AE$4,IF(COUNTIF($O$5:$O$20,$J18)>0,1,0)+SUMIF($O$5:$O$20,$J18,AF$5:AF$20),"")),"") | AF18: =IFERROR(IF(LEN($K18)=0,"",IF($Q18=AF$4,IF(COUNTIF($O$5:$O$20,$J18)>0,1,0)+SUMIF($O$5:$O$20,$J18,AG$5:AG$20),"")),"") | AG18: =IFERROR(IF(LEN($K18)=0,"",IF($Q18=AG$4,IF(COUNTIF($O$5:$O$20,$J18)>0,1,0)+SUMIF($O$5:$O$20,$J18,AH$5:AH$20),"")),"") | AH18: =IFERROR(IF(LEN($K18)=0,"",IF($Q18=AH$4,IF(COUNTIF($O$5:$O$20,$J18)>0,1,0)+SUMIF($O$5:$O$20,$J18,AI$5:AI$20),"")),"") | AI18: =IFERROR(IF(LEN($K18)=0,"",IF($Q18=AI$4,IF(COUNTIF($O$5:$O$20,$J18)>0,1,0),"")),"") | AJ18: =IFERROR(IF(LEN(K18)=0,"",SUM(AE18:AI18)),"") | AK18: =IFERROR(IF(LEN(K18)=0,"",SUM(T18:X18)),"") | AL18: =IFERROR(IF(LEN(K18)=0,"",IF(SUM(Z18:AD18)=0,"",SUM(Z18:AD18))),"") | AM18: =IFERROR($AK18&"-"&$AL18+AM$4,"") | AN18: =IFERROR($AK18&"-"&$AL18+AN$4,"") | AP18: =IF(LEN(K18)=0,"*Nodata*!!",IF($F$15=1,J18&"-","")&K18) -> *Nodata*!! | AQ18: =AM18 | AS18: 14 | AT18: =IF(LEN(T18)=0,"",T18) | AU18: =IFERROR(IF(LEN(AV18)=0,"",AK18),"") | AV18: =IFERROR(IF(LEN(AW18)=0,"",AL18+1),"") | AW18: {=IFERROR(IF(LEN(K18)=0,"",IF($Y18>0,MAX(IF($O$5:$O$20=$J18,$AL$5:$AL$20,"")),"")),"")} | AX18: =IFERROR(IF(AND(M18="no",O18=0),AK18,""),"") | AY18: =IFERROR(IF(AND(M18="No",O18>0),AK18&"-"&AL18,""),"") | BA18: 14 | BB18: =IFERROR(IF(LEN(INDEX(Converter!C$9:C$24,Cal!$BA18))=0,"",INDEX(Converter!C$9:C$24,Cal!$BA18)),"") -> https://www.example.com/blog/social-media-tips | BC18: =IFERROR(FIND(" ",SUBSTITUTE($BB18,"/"," ",3)),"") -> 24 | BD18: =IFERROR(FIND(" ",SUBSTITUTE($BB18,"/"," ",4)),"") -> 29 | BE18: =IFERROR(FIND(" ",SUBSTITUTE($BB18,"/"," ",5)),"") | BF18: =IFERROR(MID($BB18,BC18+1,IF(ISNUMBER(BD18),BD18-1,LEN($BB18))-BC18),"") -> blog | BG18: =IFERROR(MID($BB18,BD18+1,IF(ISNUMBER(BE18),BE18-1,LEN($BB18))-BD18),"") -> social-media-tips | BH18: =IFERROR(MID($BB18,BE18+1,IF(ISNUMBER(BF18),BF18-1,LEN($BB18))-BE18),"") | BI18: =IFERROR(IF(LEN(BB18)=0,"",COUNT(BC18:BE18)),"") -> 2 | BJ18: =IF(LEN(BB18)=0,"",BA18) -> 14 | BK18: =IFERROR(IF(LEN(BB18)=0,"",INDEX(BF18:BH18,BI18)),"") -> social-media-tips | BL18: =IFERROR(IF(LEN(BB18)=0,"",IF(BI18<2,"Main Page",MATCH(INDEX(BF18:BH18,BI18-1),$BK$5:$BK$20,0))),"") -> 11 | BM18: =IFERROR(IF(LEN(BB18)=0,"",RIGHT(BB18,LEN(BB18)+1-BC18)),"") -> /blog/social-media-tips | BO18: =IF(LEN(J18)=0,"",IF(COUNTIF($J$5:$J$20,J18)=1,0,1)) | BP18: =IF(LEN(L18)=0,"",IF(OR(L18="Main Page",COUNTIF($J$5:$J$20,L18)>0),0,1)) | BQ18: =IF(LEN(K18)=0,"",IF(OR(LEN(AK18)=0,LEN(AL18)=0),0,IF(AND(AK18<150,AL18<450),0,1))) | BR18: =IF(LEN(Q18)=0,"",IF(Q18>5,1,0))
B19: =IF(LEN(K19)=0,"",I19) | C19: =IFERROR(INDEX($J$5:$J$20,SMALL($B$5:$B$20,$I19)),"") | I19: 15 | J19: =IF(LEN(INDEX(Menu!C$7:C$22,Cal!$I19))=0,"",INDEX(Menu!C$7:C$22,Cal!$I19)) | K19: =IFERROR(IF(LEN(INDEX(Menu!D$7:D$22,Cal!$I19))=0,"",INDEX(Menu!D$7:D$22,Cal!$I19)),"") | L19: =IFERROR(IF(LEN($K19)=0,"",IF(INDEX(Menu!E$7:E$22,Cal!$I19)=J19,"Main Page",IF(LEN(INDEX(Menu!E$7:E$22,Cal!$I19))=0,"Main Page",INDEX(Menu!E$7:E$22,Cal!$I19)))),"Main Page") | M19: =IFERROR(IF(LEN(INDEX(Menu!F$7:F$22,Cal!$I19))=0,"",INDEX(Menu!F$7:F$22,Cal!$I19)),"") | N19: =IFERROR(IF(LEN(K19)=0,"",INDEX($N$5:$N$20,MATCH($O19,$J$5:$J$20,0))),"")&IFERROR(IF(LEN(K19)=0,"","/"&K19),"") | O19: =IFERROR(IF(L19="Main Page",0,L19),"") | P19: =IFERROR(IF(LEN(K19)=0,"",COUNTIF($L$5:L19,L19)),"") | Q19: =IFERROR(IF(LEN(K19)=0,"",IF(L19="Main Page",1,INDEX($Q$5:$Q$20,MATCH(L19,$J$5:$J$20,0))+1)),"") | R19: =O19&"-"&P19 -> - | T19: =IFERROR(IF($Q19=T$4,IF(P19=1,0,INDEX($T$5:$T$20,MATCH(O19&"-"&P19-1,$R$5:$R$20,0),0)+INDEX($AJ$5:$AJ$20,MATCH(O19&"-"&P19-1,$R$5:$R$20,0))*3+3),""),"") | U19: =IFERROR(IF($Q19=U$4,INDEX($T$5:$T$20,MATCH($L19,$J$5:$J$20,0))+3,""),"") | V19: =IFERROR(IF($Q19=V$4,INDEX($U$5:$U$20,MATCH($L19,$J$5:$J$20,0))+3,""),"") | W19: =IFERROR(IF($Q19=W$4,INDEX($V$5:$V$20,MATCH($L19,$J$5:$J$20,0))+3,""),"") | X19: =IFERROR(IF($Q19=X$4,INDEX($W$5:$W$20,MATCH($L19,$J$5:$J$20,0))+3,""),"") | Y19: =IFERROR(IF(LEN(K19)=0,"",COUNTIF($O$5:$O$20,J19)+SUMIF($O$5:$O$20,J19,$Y$5:$Y$20)),"") | Z19: =IFERROR(IF($Q19=Z$4,3,""),"") | AA19: =IFERROR(IF($Q19=AA$4,IF($P19=1,sumadj+1+INDEX(Z$5:Z$20,MATCH($L19,$J$5:$J$20,0)),INDEX(AA$5:AA$20,MATCH($O19&"-"&$P19-1,$R$5:$R$20,0),0)+sumadj+1)+IFERROR(INDEX($Y$5:$Y$20,MATCH($O19&"-"&$P19-1,$R$5:$R$20,0))*(sumadj+1),0),""),"") | AB19: =IFERROR(IF($Q19=AB$4,IF($P19=1,sumadj+1+INDEX(AA$5:AA$20,MATCH($L19,$J$5:$J$20,0)),INDEX(AB$5:AB$20,MATCH($O19&"-"&$P19-1,$R$5:$R$20,0),0)+sumadj+1)+IFERROR(INDEX($Y$5:$Y$20,MATCH($O19&"-"&$P19-1,$R$5:$R$20,0))*(sumadj+1),0),""),"") | AC19: =IFERROR(IF($Q19=AC$4,IF($P19=1,sumadj+1+INDEX(AB$5:AB$20,MATCH($L19,$J$5:$J$20,0)),INDEX(AC$5:AC$20,MATCH($O19&"-"&$P19-1,$R$5:$R$20,0),0)+sumadj+1)+IFERROR(INDEX($Y$5:$Y$20,MATCH($O19&"-"&$P19-1,$R$5:$R$20,0))*(sumadj+1),0),""),"") | AD19: =IFERROR(IF($Q19=AD$4,IF($P19=1,sumadj+1+INDEX(AC$5:AC$20,MATCH($L19,$J$5:$J$20,0)),INDEX(AD$5:AD$20,MATCH($O19&"-"&$P19-1,$R$5:$R$20,0),0)+sumadj+1)+IFERROR(INDEX($Y$5:$Y$20,MATCH($O19&"-"&$P19-1,$R$5:$R$20,0))*(sumadj+1),0),""),"") | AE19: =IFERROR(IF(LEN($K19)=0,"",IF($Q19=AE$4,IF(COUNTIF($O$5:$O$20,$J19)>0,1,0)+SUMIF($O$5:$O$20,$J19,AF$5:AF$20),"")),"") | AF19: =IFERROR(IF(LEN($K19)=0,"",IF($Q19=AF$4,IF(COUNTIF($O$5:$O$20,$J19)>0,1,0)+SUMIF($O$5:$O$20,$J19,AG$5:AG$20),"")),"") | AG19: =IFERROR(IF(LEN($K19)=0,"",IF($Q19=AG$4,IF(COUNTIF($O$5:$O$20,$J19)>0,1,0)+SUMIF($O$5:$O$20,$J19,AH$5:AH$20),"")),"") | AH19: =IFERROR(IF(LEN($K19)=0,"",IF($Q19=AH$4,IF(COUNTIF($O$5:$O$20,$J19)>0,1,0)+SUMIF($O$5:$O$20,$J19,AI$5:AI$20),"")),"") | AI19: =IFERROR(IF(LEN($K19)=0,"",IF($Q19=AI$4,IF(COUNTIF($O$5:$O$20,$J19)>0,1,0),"")),"") | AJ19: =IFERROR(IF(LEN(K19)=0,"",SUM(AE19:AI19)),"") | AK19: =IFERROR(IF(LEN(K19)=0,"",SUM(T19:X19)),"") | AL19: =IFERROR(IF(LEN(K19)=0,"",IF(SUM(Z19:AD19)=0,"",SUM(Z19:AD19))),"") | AM19: =IFERROR($AK19&"-"&$AL19+AM$4,"") | AN19: =IFERROR($AK19&"-"&$AL19+AN$4,"") | AP19: =IF(LEN(K19)=0,"*Nodata*!!",IF($F$15=1,J19&"-","")&K19) -> *Nodata*!! | AQ19: =AM19 | AS19: 15 | AT19: =IF(LEN(T19)=0,"",T19) | AU19: =IFERROR(IF(LEN(AV19)=0,"",AK19),"") | AV19: =IFERROR(IF(LEN(AW19)=0,"",AL19+1),"") | AW19: {=IFERROR(IF(LEN(K19)=0,"",IF($Y19>0,MAX(IF($O$5:$O$20=$J19,$AL$5:$AL$20,"")),"")),"")} | AX19: =IFERROR(IF(AND(M19="no",O19=0),AK19,""),"") | AY19: =IFERROR(IF(AND(M19="No",O19>0),AK19&"-"&AL19,""),"") | BA19: 15 | BB19: =IFERROR(IF(LEN(INDEX(Converter!C$9:C$24,Cal!$BA19))=0,"",INDEX(Converter!C$9:C$24,Cal!$BA19)),"") | BC19: =IFERROR(FIND(" ",SUBSTITUTE($BB19,"/"," ",3)),"") | BD19: =IFERROR(FIND(" ",SUBSTITUTE($BB19,"/"," ",4)),"") | BE19: =IFERROR(FIND(" ",SUBSTITUTE($BB19,"/"," ",5)),"") | BF19: =IFERROR(MID($BB19,BC19+1,IF(ISNUMBER(BD19),BD19-1,LEN($BB19))-BC19),"") | BG19: =IFERROR(MID($BB19,BD19+1,IF(ISNUMBER(BE19),BE19-1,LEN($BB19))-BD19),"") | BH19: =IFERROR(MID($BB19,BE19+1,IF(ISNUMBER(BF19),BF19-1,LEN($BB19))-BE19),"") | BI19: =IFERROR(IF(LEN(BB19)=0,"",COUNT(BC19:BE19)),"") | BJ19: =IF(LEN(BB19)=0,"",BA19) | BK19: =IFERROR(IF(LEN(BB19)=0,"",INDEX(BF19:BH19,BI19)),"") | BL19: =IFERROR(IF(LEN(BB19)=0,"",IF(BI19<2,"Main Page",MATCH(INDEX(BF19:BH19,BI19-1),$BK$5:$BK$20,0))),"") | BM19: =IFERROR(IF(LEN(BB19)=0,"",RIGHT(BB19,LEN(BB19)+1-BC19)),"") | BO19: =IF(LEN(J19)=0,"",IF(COUNTIF($J$5:$J$20,J19)=1,0,1)) | BP19: =IF(LEN(L19)=0,"",IF(OR(L19="Main Page",COUNTIF($J$5:$J$20,L19)>0),0,1)) | BQ19: =IF(LEN(K19)=0,"",IF(OR(LEN(AK19)=0,LEN(AL19)=0),0,IF(AND(AK19<150,AL19<450),0,1))) | BR19: =IF(LEN(Q19)=0,"",IF(Q19>5,1,0))
B20: =IF(LEN(K20)=0,"",I20) | C20: =IFERROR(INDEX($J$5:$J$20,SMALL($B$5:$B$20,$I20)),"") | I20: 16 | J20: =IF(LEN(INDEX(Menu!C$7:C$22,Cal!$I20))=0,"",INDEX(Menu!C$7:C$22,Cal!$I20)) | K20: =IFERROR(IF(LEN(INDEX(Menu!D$7:D$22,Cal!$I20))=0,"",INDEX(Menu!D$7:D$22,Cal!$I20)),"") | L20: =IFERROR(IF(LEN($K20)=0,"",IF(INDEX(Menu!E$7:E$22,Cal!$I20)=J20,"Main Page",IF(LEN(INDEX(Menu!E$7:E$22,Cal!$I20))=0,"Main Page",INDEX(Menu!E$7:E$22,Cal!$I20)))),"Main Page") | M20: =IFERROR(IF(LEN(INDEX(Menu!F$7:F$22,Cal!$I20))=0,"",INDEX(Menu!F$7:F$22,Cal!$I20)),"") | N20: =IFERROR(IF(LEN(K20)=0,"",INDEX($N$5:$N$20,MATCH($O20,$J$5:$J$20,0))),"")&IFERROR(IF(LEN(K20)=0,"","/"&K20),"") | O20: =IFERROR(IF(L20="Main Page",0,L20),"") | P20: =IFERROR(IF(LEN(K20)=0,"",COUNTIF($L$5:L20,L20)),"") | Q20: =IFERROR(IF(LEN(K20)=0,"",IF(L20="Main Page",1,INDEX($Q$5:$Q$20,MATCH(L20,$J$5:$J$20,0))+1)),"") | R20: =O20&"-"&P20 -> - | T20: =IFERROR(IF($Q20=T$4,IF(P20=1,0,INDEX($T$5:$T$20,MATCH(O20&"-"&P20-1,$R$5:$R$20,0),0)+INDEX($AJ$5:$AJ$20,MATCH(O20&"-"&P20-1,$R$5:$R$20,0))*3+3),""),"") | U20: =IFERROR(IF($Q20=U$4,INDEX($T$5:$T$20,MATCH($L20,$J$5:$J$20,0))+3,""),"") | V20: =IFERROR(IF($Q20=V$4,INDEX($U$5:$U$20,MATCH($L20,$J$5:$J$20,0))+3,""),"") | W20: =IFERROR(IF($Q20=W$4,INDEX($V$5:$V$20,MATCH($L20,$J$5:$J$20,0))+3,""),"") | X20: =IFERROR(IF($Q20=X$4,INDEX($W$5:$W$20,MATCH($L20,$J$5:$J$20,0))+3,""),"") | Y20: =IFERROR(IF(LEN(K20)=0,"",COUNTIF($O$5:$O$20,J20)+SUMIF($O$5:$O$20,J20,$Y$5:$Y$20)),"") | Z20: =IFERROR(IF($Q20=Z$4,3,""),"") | AA20: =IFERROR(IF($Q20=AA$4,IF($P20=1,sumadj+1+INDEX(Z$5:Z$20,MATCH($L20,$J$5:$J$20,0)),INDEX(AA$5:AA$20,MATCH($O20&"-"&$P20-1,$R$5:$R$20,0),0)+sumadj+1)+IFERROR(INDEX($Y$5:$Y$20,MATCH($O20&"-"&$P20-1,$R$5:$R$20,0))*(sumadj+1),0),""),"") | AB20: =IFERROR(IF($Q20=AB$4,IF($P20=1,sumadj+1+INDEX(AA$5:AA$20,MATCH($L20,$J$5:$J$20,0)),INDEX(AB$5:AB$20,MATCH($O20&"-"&$P20-1,$R$5:$R$20,0),0)+sumadj+1)+IFERROR(INDEX($Y$5:$Y$20,MATCH($O20&"-"&$P20-1,$R$5:$R$20,0))*(sumadj+1),0),""),"") | AC20: =IFERROR(IF($Q20=AC$4,IF($P20=1,sumadj+1+INDEX(AB$5:AB$20,MATCH($L20,$J$5:$J$20,0)),INDEX(AC$5:AC$20,MATCH($O20&"-"&$P20-1,$R$5:$R$20,0),0)+sumadj+1)+IFERROR(INDEX($Y$5:$Y$20,MATCH($O20&"-"&$P20-1,$R$5:$R$20,0))*(sumadj+1),0),""),"") | AD20: =IFERROR(IF($Q20=AD$4,IF($P20=1,sumadj+1+INDEX(AC$5:AC$20,MATCH($L20,$J$5:$J$20,0)),INDEX(AD$5:AD$20,MATCH($O20&"-"&$P20-1,$R$5:$R$20,0),0)+sumadj+1)+IFERROR(INDEX($Y$5:$Y$20,MATCH($O20&"-"&$P20-1,$R$5:$R$20,0))*(sumadj+1),0),""),"") | AE20: =IFERROR(IF(LEN($K20)=0,"",IF($Q20=AE$4,IF(COUNTIF($O$5:$O$20,$J20)>0,1,0)+SUMIF($O$5:$O$20,$J20,AF$5:AF$20),"")),"") | AF20: =IFERROR(IF(LEN($K20)=0,"",IF($Q20=AF$4,IF(COUNTIF($O$5:$O$20,$J20)>0,1,0)+SUMIF($O$5:$O$20,$J20,AG$5:AG$20),"")),"") | AG20: =IFERROR(IF(LEN($K20)=0,"",IF($Q20=AG$4,IF(COUNTIF($O$5:$O$20,$J20)>0,1,0)+SUMIF($O$5:$O$20,$J20,AH$5:AH$20),"")),"") | AH20: =IFERROR(IF(LEN($K20)=0,"",IF($Q20=AH$4,IF(COUNTIF($O$5:$O$20,$J20)>0,1,0)+SUMIF($O$5:$O$20,$J20,AI$5:AI$20),"")),"") | AI20: =IFERROR(IF(LEN($K20)=0,"",IF($Q20=AI$4,IF(COUNTIF($O$5:$O$20,$J20)>0,1,0),"")),"") | AJ20: =IFERROR(IF(LEN(K20)=0,"",SUM(AE20:AI20)),"") | AK20: =IFERROR(IF(LEN(K20)=0,"",SUM(T20:X20)),"") | AL20: =IFERROR(IF(LEN(K20)=0,"",IF(SUM(Z20:AD20)=0,"",SUM(Z20:AD20))),"") | AM20: =IFERROR($AK20&"-"&$AL20+AM$4,"") | AN20: =IFERROR($AK20&"-"&$AL20+AN$4,"") | AP20: =IF(LEN(K20)=0,"*Nodata*!!",IF($F$15=1,J20&"-","")&K20) -> *Nodata*!! | AQ20: =AM20 | AS20: 16 | AT20: =IF(LEN(T20)=0,"",T20) | AU20: =IFERROR(IF(LEN(AV20)=0,"",AK20),"") | AV20: =IFERROR(IF(LEN(AW20)=0,"",AL20+1),"") | AW20: {=IFERROR(IF(LEN(K20)=0,"",IF($Y20>0,MAX(IF($O$5:$O$20=$J20,$AL$5:$AL$20,"")),"")),"")} | AX20: =IFERROR(IF(AND(M20="no",O20=0),AK20,""),"") | AY20: =IFERROR(IF(AND(M20="No",O20>0),AK20&"-"&AL20,""),"") | BA20: 16 | BB20: =IFERROR(IF(LEN(INDEX(Converter!C$9:C$24,Cal!$BA20))=0,"",INDEX(Converter!C$9:C$24,Cal!$BA20)),"") | BC20: =IFERROR(FIND(" ",SUBSTITUTE($BB20,"/"," ",3)),"") | BD20: =IFERROR(FIND(" ",SUBSTITUTE($BB20,"/"," ",4)),"") | BE20: =IFERROR(FIND(" ",SUBSTITUTE($BB20,"/"," ",5)),"") | BF20: =IFERROR(MID($BB20,BC20+1,IF(ISNUMBER(BD20),BD20-1,LEN($BB20))-BC20),"") | BG20: =IFERROR(MID($BB20,BD20+1,IF(ISNUMBER(BE20),BE20-1,LEN($BB20))-BD20),"") | BH20: =IFERROR(MID($BB20,BE20+1,IF(ISNUMBER(BF20),BF20-1,LEN($BB20))-BE20),"") | BI20: =IFERROR(IF(LEN(BB20)=0,"",COUNT(BC20:BE20)),"") | BJ20: =IF(LEN(BB20)=0,"",BA20) | BK20: =IFERROR(IF(LEN(BB20)=0,"",INDEX(BF20:BH20,BI20)),"") | BL20: =IFERROR(IF(LEN(BB20)=0,"",IF(BI20<2,"Main Page",MATCH(INDEX(BF20:BH20,BI20-1),$BK$5:$BK$20,0))),"") | BM20: =IFERROR(IF(LEN(BB20)=0,"",RIGHT(BB20,LEN(BB20)+1-BC20)),"") | BO20: =IF(LEN(J20)=0,"",IF(COUNTIF($J$5:$J$20,J20)=1,0,1)) | BP20: =IF(LEN(L20)=0,"",IF(OR(L20="Main Page",COUNTIF($J$5:$J$20,L20)>0),0,1)) | BQ20: =IF(LEN(K20)=0,"",IF(OR(LEN(AK20)=0,LEN(AL20)=0),0,IF(AND(AK20<150,AL20<450),0,1))) | BR20: =IF(LEN(Q20)=0,"",IF(Q20>5,1,0))
AO21: x1 | AP21: =IF($F$16=1,N5,"") -> /home | AQ21: =AN5 -> 0-4 | AS21: Min | AT21: =MIN(AT5:AT20) -> 0
AP22: =IF($F$16=1,N6,"") -> /services | AQ22: =AN6 -> 3-4 | AS22: Max | AT22: =MAX(AT5:AT20) -> 12
AP23: =IF($F$16=1,N7,"") -> /services/marketing | AQ23: =AN7 -> 6-7
E24: Blue | F24: 247ba0 | AP24: =IF($F$16=1,N8,"") -> /services/seo | AQ24: =AN8 -> 6-19
E25: Gray | F25: 50514f | AP25: =IF($F$16=1,N9,"") -> /services/marketing/ppc | AQ25: =AN9 -> 9-10
E26: Green | F26: 70c1b3 | AP26: =IF($F$16=1,N10,"") -> /services/marketing/social-media | AQ26: =AN10 -> 9-13
E27: Pink | F27: f15bb5 | AP27: =IF($F$16=1,N11,"") -> /services/marketing/content | AQ27: =AN11 -> 9-16
E28: Red | F28: f25f5c | AP28: =IF($F$16=1,N12,"") -> /services/emailing | AQ28: =AN12 -> 6-22
E29: Yellow | F29: ffe066 | AP29: =IF($F$16=1,N13,"") -> /blog | AQ29: =AN13 -> 12-4
AP30: =IF($F$16=1,N14,"") -> /blog/seo-tips | AQ30: =AN14 -> 15-7
E31: Print Area | F31: Column | G31: Row | AP31: =IF($F$16=1,N15,"") -> /blog/ppc-tips | AQ31: =AN15 -> 15-10
E32: Menu | F32: - | G32: {=IFERROR(MAX(IF(LEN(K5:K20)>0,Cal!I5:I20,""))+1,2)} -> 13 | AP32: =IF($F$16=1,N16,"") -> /blog/social-media-tips | AQ32: =AN16 -> 15-13
E33: Sitemap | F33: =IFERROR(MAX($AK$5:$AK$20)+3,2) -> 18 | G33: =IFERROR(MAX($AL$5:$AL$20)+sumadj,1) -> 23 | AP33: =IF($F$16=1,N17,"") | AQ33: =AN17
E34: Converter | F34: - | G34: =IFERROR(BB3+3,3) -> 17 | AP34: =IF($F$16=1,N18,"") | AQ34: =AN18
AP35: =IF($F$16=1,N19,"") | AQ35: =AN19
AP36: =IF($F$16=1,N20,"") | AQ36: =AN20
