Workbook
Name colorlist: Cal!$E$24:$E$29
Name headx: Cal!$F$13
Name home: Menu!$M$8
Name precedentdd: OFFSET(Cal!$C$4,,,Cal!$B$2)
Name sumadj: Cal!$F$18
Name sumfilter: Cal!$F$17

Sheet Menu
D2: SITE MAP GENERATOR TEMPLATE
D3: MENU
L5: Error Check → | M5: =Cal!BT5 -> All is ok! You can check the sitemap
C6: ID | D6: Name | E6: Precedent | F6: Exist? (Optional) | G6: Error Check | I6: URL
C7: 1 | D7: home | E7: Main Page | G7: =IF(SUM(Cal!BO5:BR5)>0,"!","") | I7: =IFERROR(IF(LEN(D7)=0,"",INDEX(Cal!$N$5:$N$20,ROW(A7)-ROW($A$6))),"") -> /home
C8: 2 | D8: services | E8: Main Page | F8: No | G8: =IF(SUM(Cal!BO6:BR6)>0,"!","") | I8: =IFERROR(IF(LEN(D8)=0,"",INDEX(Cal!$N$5:$N$20,ROW(A8)-ROW($A$6))),"") -> /services | L8: Main Page URL | M8: https://www.example.com
C9: 3 | D9: marketing | E9: 2 | G9: =IF(SUM(Cal!BO7:BR7)>0,"!","") | I9: =IFERROR(IF(LEN(D9)=0,"",INDEX(Cal!$N$5:$N$20,ROW(A9)-ROW($A$6))),"") -> /services/marketing
C10: 4 | D10: seo | E10: 2 | G10: =IF(SUM(Cal!BO8:BR8)>0,"!","") | I10: =IFERROR(IF(LEN(D10)=0,"",INDEX(Cal!$N$5:$N$20,ROW(A10)-ROW($A$6))),"") -> /services/seo
C11: 5 | D11: ppc | E11: 3 | G11: =IF(SUM(Cal!BO9:BR9)>0,"!","") | I11: =IFERROR(IF(LEN(D11)=0,"",INDEX(Cal!$N$5:$N$20,ROW(A11)-ROW($A$6))),"") -> /services/marketing/ppc | L11: Section | M11: Show/Hide | O11: Category | P11: Color
C12: 6 | D12: social-media | E12: 3 | G12: =IF(SUM(Cal!BO10:BR10)>0,"!","") | I12: =IFERROR(IF(LEN(D12)=0,"",INDEX(Cal!$N$5:$N$20,ROW(A12)-ROW($A$6))),"") -> /services/marketing/social-media | L12: Show ID | M12: Show | O12: 1.Level | P12: Blue
C13: 7 | D13: content | E13: 3 | G13: =IF(SUM(Cal!BO11:BR11)>0,"!","") | I13: =IFERROR(IF(LEN(D13)=0,"",INDEX(Cal!$N$5:$N$20,ROW(A13)-ROW($A$6))),"") -> /services/marketing/content | L13: Show URL | M13: Show | O13: 2.Level | P13: Red
C14: 8 | D14: emailing | E14: 2 | G14: =IF(SUM(Cal!BO12:BR12)>0,"!","") | I14: =IFERROR(IF(LEN(D14)=0,"",INDEX(Cal!$N$5:$N$20,ROW(A14)-ROW($A$6))),"") -> /services/emailing | O14: 3.Level | P14: Green
C15: 9 | D15: blog | E15: Main Page | G15: =IF(SUM(Cal!BO13:BR13)>0,"!","") | I15: =IFERROR(IF(LEN(D15)=0,"",INDEX(Cal!$N$5:$N$20,ROW(A15)-ROW($A$6))),"") -> /blog | O15: 4.Level | P15: Gray
C16: 10 | D16: seo-tips | E16: 9 | G16: =IF(SUM(Cal!BO14:BR14)>0,"!","") | I16: =IFERROR(IF(LEN(D16)=0,"",INDEX(Cal!$N$5:$N$20,ROW(A16)-ROW($A$6))),"") -> /blog/seo-tips | O16: 5.Level | P16: Yellow
C17: 11 | D17: ppc-tips | E17: 9 | G17: =IF(SUM(Cal!BO15:BR15)>0,"!","") | I17: =IFERROR(IF(LEN(D17)=0,"",INDEX(Cal!$N$5:$N$20,ROW(A17)-ROW($A$6))),"") -> /blog/ppc-tips
C18: 12 | D18: social-media-tips | E18: 9 | F18: No | G18: =IF(SUM(Cal!BO16:BR16)>0,"!","") | I18: =IFERROR(IF(LEN(D18)=0,"",INDEX(Cal!$N$5:$N$20,ROW(A18)-ROW($A$6))),"") -> /blog/social-media-tips
G19: =IF(SUM(Cal!BO17:BR17)>0,"!","") | I19: =IFERROR(IF(LEN(D19)=0,"",INDEX(Cal!$N$5:$N$20,ROW(A19)-ROW($A$6))),"")
G20: =IF(SUM(Cal!BO18:BR18)>0,"!","") | I20: =IFERROR(IF(LEN(D20)=0,"",INDEX(Cal!$N$5:$N$20,ROW(A20)-ROW($A$6))),"")
G21: =IF(SUM(Cal!BO19:BR19)>0,"!","") | I21: =IFERROR(IF(LEN(D21)=0,"",INDEX(Cal!$N$5:$N$20,ROW(A21)-ROW($A$6))),"")
G22: =IF(SUM(Cal!BO20:BR20)>0,"!","") | I22: =IFERROR(IF(LEN(D22)=0,"",INDEX(Cal!$N$5:$N$20,ROW(A22)-ROW($A$6))),"")

Sheet Sitemap
D2: SITE MAP GENERATOR TEMPLATE
D3: SITE MAP
D5: =IFERROR(IF(IFERROR(MATCH(Sitemap!D$6,Cal!$T$5:$T$20,0),FALSE),Cal!$F$6,IF(IFERROR(MATCH(Sitemap!D$6,Cal!$U$5:$U$20,0),FALSE),Cal!$F$7,IF(IFERROR(MATCH(Sitemap!D$6,Cal!$V$5:$V$20,0),FALSE),Cal!$F$8,IF(IFERROR(MATCH(Sitemap!D$6,Cal!$W$5:$W$20,0),FALSE),Cal!$F$9,IF(IFERROR(MATCH(Sitemap!D$6,Cal!$X$5:$X$20,0),FALSE),Cal!$F$10,""))))),"") -> Blue | G5: =IFERROR(IF(IFERROR(MATCH(Sitemap!G$6,Cal!$T$5:$T$20,0),FALSE),Cal!$F$6,IF(IFERROR(MATCH(Sitemap!G$6,Cal!$U$5:$U$20,0),FALSE),Cal!$F$7,IF(IFERROR(MATCH(Sitemap!G$6,Cal!$V$5:$V$20,0),FALSE),Cal!$F$8,IF(IFERROR(MATCH(Sitemap!G$6,Cal!$W$5:$W$20,0),FALSE),Cal!$F$9,IF(IFERROR(MATCH(Sitemap!G$6,Cal!$X$5:$X$20,0),FALSE),Cal!$F$10,""))))),"") -> Blue | J5: =IFERROR(IF(IFERROR(MATCH(Sitemap!J$6,Cal!$T$5:$T$20,0),FALSE),Cal!$F$6,IF(IFERROR(MATCH(Sitemap!J$6,Cal!$U$5:$U$20,0),FALSE),Cal!$F$7,IF(IFERROR(MATCH(Sitemap!J$6,Cal!$V$5:$V$20,0),FALSE),Cal!$F$8,IF(IFERROR(MATCH(Sitemap!J$6,Cal!$W$5:$W$20,0),FALSE),Cal!$F$9,IF(IFERROR(MATCH(Sitemap!J$6,Cal!$X$5:$X$20,0),FALSE),Cal!$F$10,""))))),"") -> Red | M5: =IFERROR(IF(IFERROR(MATCH(Sitemap!M$6,Cal!$T$5:$T$20,0),FALSE),Cal!$F$6,IF(IFERROR(MATCH(Sitemap!M$6,Cal!$U$5:$U$20,0),FALSE),Cal!$F$7,IF(IFERROR(MATCH(Sitemap!M$6,Cal!$V$5:$V$20,0),FALSE),Cal!$F$8,IF(IFERROR(MATCH(Sitemap!M$6,Cal!$W$5:$W$20,0),FALSE),Cal!$F$9,IF(IFERROR(MATCH(Sitemap!M$6,Cal!$X$5:$X$20,0),FALSE),Cal!$F$10,""))))),"") -> Green | P5: =IFERROR(IF(IFERROR(MATCH(Sitemap!P$6,Cal!$T$5:$T$20,0),FALSE),Cal!$F$6,IF(IFERROR(MATCH(Sitemap!P$6,Cal!$U$5:$U$20,0),FALSE),Cal!$F$7,IF(IFERROR(MATCH(Sitemap!P$6,Cal!$V$5:$V$20,0),FALSE),Cal!$F$8,IF(IFERROR(MATCH(Sitemap!P$6,Cal!$W$5:$W$20,0),FALSE),Cal!$F$9,IF(IFERROR(MATCH(Sitemap!P$6,Cal!$X$5:$X$20,0),FALSE),Cal!$F$10,""))))),"") -> Blue | S5: =IFERROR(IF(IFERROR(MATCH(Sitemap!S$6,Cal!$T$5:$T$20,0),FALSE),Cal!$F$6,IF(IFERROR(MATCH(Sitemap!S$6,Cal!$U$5:$U$20,0),FALSE),Cal!$F$7,IF(IFERROR(MATCH(Sitemap!S$6,Cal!$V$5:$V$20,0),FALSE),Cal!$F$8,IF(IFERROR(MATCH(Sitemap!S$6,Cal!$W$5:$W$20,0),FALSE),Cal!$F$9,IF(IFERROR(MATCH(Sitemap!S$6,Cal!$X$5:$X$20,0),FALSE),Cal!$F$10,""))))),"") -> Red | V5: =IFERROR(IF(IFERROR(MATCH(Sitemap!V$6,Cal!$T$5:$T$20,0),FALSE),Cal!$F$6,IF(IFERROR(MATCH(Sitemap!V$6,Cal!$U$5:$U$20,0),FALSE),Cal!$F$7,IF(IFERROR(MATCH(Sitemap!V$6,Cal!$V$5:$V$20,0),FALSE),Cal!$F$8,IF(IFERROR(MATCH(Sitemap!V$6,Cal!$W$5:$W$20,0),FALSE),Cal!$F$9,IF(IFERROR(MATCH(Sitemap!V$6,Cal!$X$5:$X$20,0),FALSE),Cal!$F$10,""))))),"") | Y5: =IFERROR(IF(IFERROR(MATCH(Sitemap!Y$6,Cal!$T$5:$T$20,0),FALSE),Cal!$F$6,IF(IFERROR(MATCH(Sitemap!Y$6,Cal!$U$5:$U$20,0),FALSE),Cal!$F$7,IF(IFERROR(MATCH(Sitemap!Y$6,Cal!$V$5:$V$20,0),FALSE),Cal!$F$8,IF(IFERROR(MATCH(Sitemap!Y$6,Cal!$W$5:$W$20,0),FALSE),Cal!$F$9,IF(IFERROR(MATCH(Sitemap!Y$6,Cal!$X$5:$X$20,0),FALSE),Cal!$F$10,""))))),"") | AB5: =IFERROR(IF(IFERROR(MATCH(Sitemap!AB$6,Cal!$T$5:$T$20,0),FALSE),Cal!$F$6,IF(IFERROR(MATCH(Sitemap!AB$6,Cal!$U$5:$U$20,0),FALSE),Cal!$F$7,IF(IFERROR(MATCH(Sitemap!AB$6,Cal!$V$5:$V$20,0),FALSE),Cal!$F$8,IF(IFERROR(MATCH(Sitemap!AB$6,Cal!$W$5:$W$20,0),FALSE),Cal!$F$9,IF(IFERROR(MATCH(Sitemap!AB$6,Cal!$X$5:$X$20,0),FALSE),Cal!$F$10,""))))),"") | AE5: =IFERROR(IF(IFERROR(MATCH(Sitemap!AE$6,Cal!$T$5:$T$20,0),FALSE),Cal!$F$6,IF(IFERROR(MATCH(Sitemap!AE$6,Cal!$U$5:$U$20,0),FALSE),Cal!$F$7,IF(IFERROR(MATCH(Sitemap!AE$6,Cal!$V$5:$V$20,0),FALSE),Cal!$F$8,IF(IFERROR(MATCH(Sitemap!AE$6,Cal!$W$5:$W$20,0),FALSE),Cal!$F$9,IF(IFERROR(MATCH(Sitemap!AE$6,Cal!$X$5:$X$20,0),FALSE),Cal!$F$10,""))))),"") | AH5: =IFERROR(IF(IFERROR(MATCH(Sitemap!AH$6,Cal!$T$5:$T$20,0),FALSE),Cal!$F$6,IF(IFERROR(MATCH(Sitemap!AH$6,Cal!$U$5:$U$20,0),FALSE),Cal!$F$7,IF(IFERROR(MATCH(Sitemap!AH$6,Cal!$V$5:$V$20,0),FALSE),Cal!$F$8,IF(IFERROR(MATCH(Sitemap!AH$6,Cal!$W$5:$W$20,0),FALSE),Cal!$F$9,IF(IFERROR(MATCH(Sitemap!AH$6,Cal!$X$5:$X$20,0),FALSE),Cal!$F$10,""))))),"") | AK5: =IFERROR(IF(IFERROR(MATCH(Sitemap!AK$6,Cal!$T$5:$T$20,0),FALSE),Cal!$F$6,IF(IFERROR(MATCH(Sitemap!AK$6,Cal!$U$5:$U$20,0),FALSE),Cal!$F$7,IF(IFERROR(MATCH(Sitemap!AK$6,Cal!$V$5:$V$20,0),FALSE),Cal!$F$8,IF(IFERROR(MATCH(Sitemap!AK$6,Cal!$W$5:$W$20,0),FALSE),Cal!$F$9,IF(IFERROR(MATCH(Sitemap!AK$6,Cal!$X$5:$X$20,0),FALSE),Cal!$F$10,""))))),"") | AN5: =IFERROR(IF(IFERROR(MATCH(Sitemap!AN$6,Cal!$T$5:$T$20,0),FALSE),Cal!$F$6,IF(IFERROR(MATCH(Sitemap!AN$6,Cal!$U$5:$U$20,0),FALSE),Cal!$F$7,IF(IFERROR(MATCH(Sitemap!AN$6,Cal!$V$5:$V$20,0),FALSE),Cal!$F$8,IF(IFERROR(MATCH(Sitemap!AN$6,Cal!$W$5:$W$20,0),FALSE),Cal!$F$9,IF(IFERROR(MATCH(Sitemap!AN$6,Cal!$X$5:$X$20,0),FALSE),Cal!$F$10,""))))),"") | AQ5: =IFERROR(IF(IFERROR(MATCH(Sitemap!AQ$6,Cal!$T$5:$T$20,0),FALSE),Cal!$F$6,IF(IFERROR(MATCH(Sitemap!AQ$6,Cal!$U$5:$U$20,0),FALSE),Cal!$F$7,IF(IFERROR(MATCH(Sitemap!AQ$6,Cal!$V$5:$V$20,0),FALSE),Cal!$F$8,IF(IFERROR(MATCH(Sitemap!AQ$6,Cal!$W$5:$W$20,0),FALSE),Cal!$F$9,IF(IFERROR(MATCH(Sitemap!AQ$6,Cal!$X$5:$X$20,0),FALSE),Cal!$F$10,""))))),"") | AT5: =IFERROR(IF(IFERROR(MATCH(Sitemap!AT$6,Cal!$T$5:$T$20,0),FALSE),Cal!$F$6,IF(IFERROR(MATCH(Sitemap!AT$6,Cal!$U$5:$U$20,0),FALSE),Cal!$F$7,IF(IFERROR(MATCH(Sitemap!AT$6,Cal!$V$5:$V$20,0),FALSE),Cal!$F$8,IF(IFERROR(MATCH(Sitemap!AT$6,Cal!$W$5:$W$20,0),FALSE),Cal!$F$9,IF(IFERROR(MATCH(Sitemap!AT$6,Cal!$X$5:$X$20,0),FALSE),Cal!$F$10,""))))),"")
D6: 0 | E6: =D6+1 -> 1 | F6: =E6+1 -> 2 | G6: =F6+1 -> 3 | H6: =G6+1 -> 4 | I6: =H6+1 -> 5 | J6: =I6+1 -> 6 | K6: =J6+1 -> 7 | L6: =K6+1 -> 8 | ... AV6: =AU6+1 -> 44
B8: 0 | D8: =IF(D6=headx,Cal!$E$13,"") | E8: =IF(E6=headx,Cal!$E$13,"") | F8: =IF(F6=headx,Cal!$E$13,"") | G8: =IF(G6=headx,Cal!$E$13,"") | H8: =IF(H6=headx,Cal!$E$13,"") | I8: =IF(I6=headx,Cal!$E$13,"") | J8: =IF(J6=headx,Cal!$E$13,"") -> https://www.example.com | K8: =IF(K6=headx,Cal!$E$13,"") | ... AV8: =IF(AV6=headx,Cal!$E$13,"")
B9: 1 | D9: =IF(AND(Cal!$AT$21<=Sitemap!D6,Cal!$AT$22>Sitemap!D6),"*x4*","") -> *x4* | E9: =IF(AND(Cal!$AT$21<=Sitemap!E6,Cal!$AT$22>Sitemap!E6),"*x4*","") -> *x4* | F9: =IF(AND(Cal!$AT$21<=Sitemap!F6,Cal!$AT$22>Sitemap!F6),"*x4*","") -> *x4* | G9: =IF(AND(Cal!$AT$21<=Sitemap!G6,Cal!$AT$22>Sitemap!G6),"*x4*","") -> *x4* | H9: =IF(AND(Cal!$AT$21<=Sitemap!H6,Cal!$AT$22>Sitemap!H6),"*x4*","") -> *x4* | I9: =IF(AND(Cal!$AT$21<=Sitemap!I6,Cal!$AT$22>Sitemap!I6),"*x4*","") -> *x4* | J9: =IF(AND(Cal!$AT$21<=Sitemap!J6,Cal!$AT$22>Sitemap!J6),"*x4*","") -> *x4* | K9: =IF(AND(Cal!$AT$21<=Sitemap!K6,Cal!$AT$22>Sitemap!K6),"*x4*","") -> *x4* | ... AV9: =IF(AND(Cal!$AT$21<=Sitemap!AV6,Cal!$AT$22>Sitemap!AV6),"*x4*","")
B10: 2 | D10: =IF(ISNUMBER(MATCH(Sitemap!D$6,Cal!$AX$5:$AX$20,0)),"*x4*",IF(ISNUMBER(MATCH(Sitemap!D$6,Cal!$AT$5:$AT$20,0)),"*x3*","")) -> *x3* | G10: =IF(ISNUMBER(MATCH(Sitemap!G$6,Cal!$AX$5:$AX$20,0)),"*x4*",IF(ISNUMBER(MATCH(Sitemap!G$6,Cal!$AT$5:$AT$20,0)),"*x3*","")) -> *x4* | J10: =IF(ISNUMBER(MATCH(Sitemap!J$6,Cal!$AX$5:$AX$20,0)),"*x4*",IF(ISNUMBER(MATCH(Sitemap!J$6,Cal!$AT$5:$AT$20,0)),"*x3*","")) | M10: =IF(ISNUMBER(MATCH(Sitemap!M$6,Cal!$AX$5:$AX$20,0)),"*x4*",IF(ISNUMBER(MATCH(Sitemap!M$6,Cal!$AT$5:$AT$20,0)),"*x3*","")) | P10: =IF(ISNUMBER(MATCH(Sitemap!P$6,Cal!$AX$5:$AX$20,0)),"*x4*",IF(ISNUMBER(MATCH(Sitemap!P$6,Cal!$AT$5:$AT$20,0)),"*x3*","")) -> *x3* | S10: =IF(ISNUMBER(MATCH(Sitemap!S$6,Cal!$AX$5:$AX$20,0)),"*x4*",IF(ISNUMBER(MATCH(Sitemap!S$6,Cal!$AT$5:$AT$20,0)),"*x3*","")) | V10: =IF(ISNUMBER(MATCH(Sitemap!V$6,Cal!$AX$5:$AX$20,0)),"*x4*",IF(ISNUMBER(MATCH(Sitemap!V$6,Cal!$AT$5:$AT$20,0)),"*x3*","")) | Y10: =IF(ISNUMBER(MATCH(Sitemap!Y$6,Cal!$AX$5:$AX$20,0)),"*x4*",IF(ISNUMBER(MATCH(Sitemap!Y$6,Cal!$AT$5:$AT$20,0)),"*x3*","")) | AB10: =IF(ISNUMBER(MATCH(Sitemap!AB$6,Cal!$AX$5:$AX$20,0)),"*x4*",IF(ISNUMBER(MATCH(Sitemap!AB$6,Cal!$AT$5:$AT$20,0)),"*x3*","")) | AE10: =IF(ISNUMBER(MATCH(Sitemap!AE$6,Cal!$AX$5:$AX$20,0)),"*x4*",IF(ISNUMBER(MATCH(Sitemap!AE$6,Cal!$AT$5:$AT$20,0)),"*x3*","")) | AH10: =IF(ISNUMBER(MATCH(Sitemap!AH$6,Cal!$AX$5:$AX$20,0)),"*x4*",IF(ISNUMBER(MATCH(Sitemap!AH$6,Cal!$AT$5:$AT$20,0)),"*x3*","")) | AK10: =IF(ISNUMBER(MATCH(Sitemap!AK$6,Cal!$AX$5:$AX$20,0)),"*x4*",IF(ISNUMBER(MATCH(Sitemap!AK$6,Cal!$AT$5:$AT$20,0)),"*x3*","")) | AN10: =IF(ISNUMBER(MATCH(Sitemap!AN$6,Cal!$AX$5:$AX$20,0)),"*x4*",IF(ISNUMBER(MATCH(Sitemap!AN$6,Cal!$AT$5:$AT$20,0)),"*x3*","")) | AQ10: =IF(ISNUMBER(MATCH(Sitemap!AQ$6,Cal!$AX$5:$AX$20,0)),"*x4*",IF(ISNUMBER(MATCH(Sitemap!AQ$6,Cal!$AT$5:$AT$20,0)),"*x3*","")) | AT10: =IF(ISNUMBER(MATCH(Sitemap!AT$6,Cal!$AX$5:$AX$20,0)),"*x4*",IF(ISNUMBER(MATCH(Sitemap!AT$6,Cal!$AT$5:$AT$20,0)),"*x3*",""))
B11: 3 | D11: =IFERROR(INDEX(Cal!$AP$5:$AP$36,MATCH(Sitemap!D$6&"-"&Sitemap!$B11,Cal!$AQ$5:$AQ$36,0)),"") -> 1-home | E11: =IFERROR(IF(INDEX(Cal!$Y$5:$Y$20,MATCH(Sitemap!D11,Cal!$AP$5:$AP$20,0))>0,"*x1*",""),IF(COUNTIFS(Cal!$AU$5:$AU$20,Sitemap!D$6,Cal!$AV$5:$AV$20,"<="&Sitemap!$B11,Cal!$AW$5:$AW$20,">="&Sitemap!$B11)>0,"*x2*","")) | F11: =IFERROR(IF(ISNUMBER(MATCH(G$6&"-"&$B11,Cal!$AY$5:$AY$20,0)),"*x6*",IF(INDEX(Cal!$O$5:$O$20,MATCH(Sitemap!G11,Cal!$AP$5:$AP$20,0))>0,"*x1*","")),"") | G11: =IFERROR(INDEX(Cal!$AP$5:$AP$36,MATCH(Sitemap!G$6&"-"&Sitemap!$B11,Cal!$AQ$5:$AQ$36,0)),"") -> 2-services | H11: =IFERROR(IF(INDEX(Cal!$Y$5:$Y$20,MATCH(Sitemap!G11,Cal!$AP$5:$AP$20,0))>0,"*x1*",""),IF(COUNTIFS(Cal!$AU$5:$AU$20,Sitemap!G$6,Cal!$AV$5:$AV$20,"<="&Sitemap!$B11,Cal!$AW$5:$AW$20,">="&Sitemap!$B11)>0,"*x2*","")) -> *x1* | I11: =IFERROR(IF(ISNUMBER(MATCH(J$6&"-"&$B11,Cal!$AY$5:$AY$20,0)),"*x6*",IF(INDEX(Cal!$O$5:$O$20,MATCH(Sitemap!J11,Cal!$AP$5:$AP$20,0))>0,"*x1*","")),"") | J11: =IFERROR(INDEX(Cal!$AP$5:$AP$36,MATCH(Sitemap!J$6&"-"&Sitemap!$B11,Cal!$AQ$5:$AQ$36,0)),"") | K11: =IFERROR(IF(INDEX(Cal!$Y$5:$Y$20,MATCH(Sitemap!J11,Cal!$AP$5:$AP$20,0))>0,"*x1*",""),IF(COUNTIFS(Cal!$AU$5:$AU$20,Sitemap!J$6,Cal!$AV$5:$AV$20,"<="&Sitemap!$B11,Cal!$AW$5:$AW$20,">="&Sitemap!$B11)>0,"*x2*","")) | L11: =IFERROR(IF(ISNUMBER(MATCH(M$6&"-"&$B11,Cal!$AY$5:$AY$20,0)),"*x6*",IF(INDEX(Cal!$O$5:$O$20,MATCH(Sitemap!M11,Cal!$AP$5:$AP$20,0))>0,"*x1*","")),"") | M11: =IFERROR(INDEX(Cal!$AP$5:$AP$36,MATCH(Sitemap!M$6&"-"&Sitemap!$B11,Cal!$AQ$5:$AQ$36,0)),"") | N11: =IFERROR(IF(INDEX(Cal!$Y$5:$Y$20,MATCH(Sitemap!M11,Cal!$AP$5:$AP$20,0))>0,"*x1*",""),IF(COUNTIFS(Cal!$AU$5:$AU$20,Sitemap!M$6,Cal!$AV$5:$AV$20,"<="&Sitemap!$B11,Cal!$AW$5:$AW$20,">="&Sitemap!$B11)>0,"*x2*","")) | O11: =IFERROR(IF(ISNUMBER(MATCH(P$6&"-"&$B11,Cal!$AY$5:$AY$20,0)),"*x6*",IF(INDEX(Cal!$O$5:$O$20,MATCH(Sitemap!P11,Cal!$AP$5:$AP$20,0))>0,"*x1*","")),"") | P11: =IFERROR(INDEX(Cal!$AP$5:$AP$36,MATCH(Sitemap!P$6&"-"&Sitemap!$B11,Cal!$AQ$5:$AQ$36,0)),"") -> 9-blog | Q11: =IFERROR(IF(INDEX(Cal!$Y$5:$Y$20,MATCH(Sitemap!P11,Cal!$AP$5:$AP$20,0))>0,"*x1*",""),IF(COUNTIFS(Cal!$AU$5:$AU$20,Sitemap!P$6,Cal!$AV$5:$AV$20,"<="&Sitemap!$B11,Cal!$AW$5:$AW$20,">="&Sitemap!$B11)>0,"*x2*","")) -> *x1* | R11: =IFERROR(IF(ISNUMBER(MATCH(S$6&"-"&$B11,Cal!$AY$5:$AY$20,0)),"*x6*",IF(INDEX(Cal!$O$5:$O$20,MATCH(Sitemap!S11,Cal!$AP$5:$AP$20,0))>0,"*x1*","")),"") | S11: =IFERROR(INDEX(Cal!$AP$5:$AP$36,MATCH(Sitemap!S$6&"-"&Sitemap!$B11,Cal!$AQ$5:$AQ$36,0)),"") | T11: =IFERROR(IF(INDEX(Cal!$Y$5:$Y$20,MATCH(Sitemap!S11,Cal!$AP$5:$AP$20,0))>0,"*x1*",""),IF(COUNTIFS(Cal!$AU$5:$AU$20,Sitemap!S$6,Cal!$AV$5:$AV$20,"<="&Sitemap!$B11,Cal!$AW$5:$AW$20,">="&Sitemap!$B11)>0,"*x2*","")) | U11: =IFERROR(IF(ISNUMBER(MATCH(V$6&"-"&$B11,Cal!$AY$5:$AY$20,0)),"*x6*",IF(INDEX(Cal!$O$5:$O$20,MATCH(Sitemap!V11,Cal!$AP$5:$AP$20,0))>0,"*x1*","")),"") | V11: =IFERROR(INDEX(Cal!$AP$5:$AP$36,MATCH(Sitemap!V$6&"-"&Sitemap!$B11,Cal!$AQ$5:$AQ$36,0)),"") | W11: =IFERROR(IF(INDEX(Cal!$Y$5:$Y$20,MATCH(Sitemap!V11,Cal!$AP$5:$AP$20,0))>0,"*x1*",""),IF(COUNTIFS(Cal!$AU$5:$AU$20,Sitemap!V$6,Cal!$AV$5:$AV$20,"<="&Sitemap!$B11,Cal!$AW$5:$AW$20,">="&Sitemap!$B11)>0,"*x2*","")) | X11: =IFERROR(IF(ISNUMBER(MATCH(Y$6&"-"&$B11,Cal!$AY$5:$AY$20,0)),"*x6*",IF(INDEX(Cal!$O$5:$O$20,MATCH(Sitemap!Y11,Cal!$AP$5:$AP$20,0))>0,"*x1*","")),"") | Y11: =IFERROR(INDEX(Cal!$AP$5:$AP$36,MATCH(Sitemap!Y$6&"-"&Sitemap!$B11,Cal!$AQ$5:$AQ$36,0)),"") | Z11: =IFERROR(IF(INDEX(Cal!$Y$5:$Y$20,MATCH(Sitemap!Y11,Cal!$AP$5:$AP$20,0))>0,"*x1*",""),IF(COUNTIFS(Cal!$AU$5:$AU$20,Sitemap!Y$6,Cal!$AV$5:$AV$20,"<="&Sitemap!$B11,Cal!$AW$5:$AW$20,">="&Sitemap!$B11)>0,"*x2*","")) | AA11: =IFERROR(IF(ISNUMBER(MATCH(AB$6&"-"&$B11,Cal!$AY$5:$AY$20,0)),"*x6*",IF(INDEX(Cal!$O$5:$O$20,MATCH(Sitemap!AB11,Cal!$AP$5:$AP$20,0))>0,"*x1*","")),"") | AB11: =IFERROR(INDEX(Cal!$AP$5:$AP$36,MATCH(Sitemap!AB$6&"-"&Sitemap!$B11,Cal!$AQ$5:$AQ$36,0)),"") | AC11: =IFERROR(IF(INDEX(Cal!$Y$5:$Y$20,MATCH(Sitemap!AB11,Cal!$AP$5:$AP$20,0))>0,"*x1*",""),IF(COUNTIFS(Cal!$AU$5:$AU$20,Sitemap!AB$6,Cal!$AV$5:$AV$20,"<="&Sitemap!$B11,Cal!$AW$5:$AW$20,">="&Sitemap!$B11)>0,"*x2*","")) | AD11: =IFERROR(IF(ISNUMBER(MATCH(AE$6&"-"&$B11,Cal!$AY$5:$AY$20,0)),"*x6*",IF(INDEX(Cal!$O$5:$O$20,MATCH(Sitemap!AE11,Cal!$AP$5:$AP$20,0))>0,"*x1*","")),"") | AE11: =IFERROR(INDEX(Cal!$AP$5:$AP$36,MATCH(Sitemap!AE$6&"-"&Sitemap!$B11,Cal!$AQ$5:$AQ$36,0)),"") | AF11: =IFERROR(IF(INDEX(Cal!$Y$5:$Y$20,MATCH(Sitemap!AE11,Cal!$AP$5:$AP$20,0))>0,"*x1*",""),IF(COUNTIFS(Cal!$AU$5:$AU$20,Sitemap!AE$6,Cal!$AV$5:$AV$20,"<="&Sitemap!$B11,Cal!$AW$5:$AW$20,">="&Sitemap!$B11)>0,"*x2*","")) | AG11: =IFERROR(IF(ISNUMBER(MATCH(AH$6&"-"&$B11,Cal!$AY$5:$AY$20,0)),"*x6*",IF(INDEX(Cal!$O$5:$O$20,MATCH(Sitemap!AH11,Cal!$AP$5:$AP$20,0))>0,"*x1*","")),"") | AH11: =IFERROR(INDEX(Cal!$AP$5:$AP$36,MATCH(Sitemap!AH$6&"-"&Sitemap!$B11,Cal!$AQ$5:$AQ$36,0)),"") | AI11: =IFERROR(IF(INDEX(Cal!$Y$5:$Y$20,MATCH(Sitemap!AH11,Cal!$AP$5:$AP$20,0))>0,"*x1*",""),IF(COUNTIFS(Cal!$AU$5:$AU$20,Sitemap!AH$6,Cal!$AV$5:$AV$20,"<="&Sitemap!$B11,Cal!$AW$5:$AW$20,">="&Sitemap!$B11)>0,"*x2*","")) | AJ11: =IFERROR(IF(ISNUMBER(MATCH(AK$6&"-"&$B11,Cal!$AY$5:$AY$20,0)),"*x6*",IF(INDEX(Cal!$O$5:$O$20,MATCH(Sitemap!AK11,Cal!$AP$5:$AP$20,0))>0,"*x1*","")),"") | AK11: =IFERROR(INDEX(Cal!$AP$5:$AP$36,MATCH(Sitemap!AK$6&"-"&Sitemap!$B11,Cal!$AQ$5:$AQ$36,0)),"") | AL11: =IFERROR(IF(INDEX(Cal!$Y$5:$Y$20,MATCH(Sitemap!AK11,Cal!$AP$5:$AP$20,0))>0,"*x1*",""),IF(COUNTIFS(Cal!$AU$5:$AU$20,Sitemap!AK$6,Cal!$AV$5:$AV$20,"<="&Sitemap!$B11,Cal!$AW$5:$AW$20,">="&Sitemap!$B11)>0,"*x2*","")) | AM11: =IFERROR(IF(ISNUMBER(MATCH(AN$6&"-"&$B11,Cal!$AY$5:$AY$20,0)),"*x6*",IF(INDEX(Cal!$O$5:$O$20,MATCH(Sitemap!AN11,Cal!$AP$5:$AP$20,0))>0,"*x1*","")),"") | AN11: =IFERROR(INDEX(Cal!$AP$5:$AP$36,MATCH(Sitemap!AN$6&"-"&Sitemap!$B11,Cal!$AQ$5:$AQ$36,0)),"") | AO11: =IFERROR(IF(INDEX(Cal!$Y$5:$Y$20,MATCH(Sitemap!AN11,Cal!$AP$5:$AP$20,0))>0,"*x1*",""),IF(COUNTIFS(Cal!$AU$5:$AU$20,Sitemap!AN$6,Cal!$AV$5:$AV$20,"<="&Sitemap!$B11,Cal!$AW$5:$AW$20,">="&Sitemap!$B11)>0,"*x2*","")) | AP11: =IFERROR(IF(ISNUMBER(MATCH(AQ$6&"-"&$B11,Cal!$AY$5:$AY$20,0)),"*x6*",IF(INDEX(Cal!$O$5:$O$20,MATCH(Sitemap!AQ11,Cal!$AP$5:$AP$20,0))>0,"*x1*","")),"") | AQ11: =IFERROR(INDEX(Cal!$AP$5:$AP$36,MATCH(Sitemap!AQ$6&"-"&Sitemap!$B11,Cal!$AQ$5:$AQ$36,0)),"") | AR11: =IFERROR(IF(INDEX(Cal!$Y$5:$Y$20,MATCH(Sitemap!AQ11,Cal!$AP$5:$AP$20,0))>0,"*x1*",""),IF(COUNTIFS(Cal!$AU$5:$AU$20,Sitemap!AQ$6,Cal!$AV$5:$AV$20,"<="&Sitemap!$B11,Cal!$AW$5:$AW$20,">="&Sitemap!$B11)>0,"*x2*","")) | AS11: =IFERROR(IF(ISNUMBER(MATCH(AT$6&"-"&$B11,Cal!$AY$5:$AY$20,0)),"*x6*",IF(INDEX(Cal!$O$5:$O$20,MATCH(Sitemap!AT11,Cal!$AP$5:$AP$20,0))>0,"*x1*","")),"") | AT11: =IFERROR(INDEX(Cal!$AP$5:$AP$36,MATCH(Sitemap!AT$6&"-"&Sitemap!$B11,Cal!$AQ$5:$AQ$36,0)),"") | AU11: =IFERROR(IF(INDEX(Cal!$Y$5:$Y$20,MATCH(Sitemap!AT11,Cal!$AP$5:$AP$20,0))>0,"*x1*",""),IF(COUNTIFS(Cal!$AU$5:$AU$20,Sitemap!AT$6,Cal!$AV$5:$AV$20,"<="&Sitemap!$B11,Cal!$AW$5:$AW$20,">="&Sitemap!$B11)>0,"*x2*","")) | AV11: =IFERROR(IF(ISNUMBER(MATCH(#REF!&"-"&$B11,Cal!$AY$5:$AY$20,0)),"*x6*",IF(INDEX(Cal!$O$5:$O$20,MATCH(Sitemap!#REF!,Cal!$AP$5:$AP$20,0))>0,"*x1*","")),"")
B12: 4 | D12: =IFERROR(INDEX(Cal!$AP$5:$AP$36,MATCH(Sitemap!D$6&"-"&Sitemap!$B12,Cal!$AQ$5:$AQ$36,0)),"") -> /home | E12: =IFERROR(IF(INDEX(Cal!$Y$5:$Y$20,MATCH(Sitemap!D12,Cal!$AP$5:$AP$20,0))>0,"*x1*",""),IF(COUNTIFS(Cal!$AU$5:$AU$20,Sitemap!D$6,Cal!$AV$5:$AV$20,"<="&Sitemap!$B12,Cal!$AW$5:$AW$20,">="&Sitemap!$B12)>0,"*x2*","")) | F12: =IFERROR(IF(ISNUMBER(MATCH(G$6&"-"&$B12,Cal!$AY$5:$AY$20,0)),"*x6*",IF(INDEX(Cal!$O$5:$O$20,MATCH(Sitemap!G12,Cal!$AP$5:$AP$20,0))>0,"*x1*","")),"") | G12: =IFERROR(INDEX(Cal!$AP$5:$AP$36,MATCH(Sitemap!G$6&"-"&Sitemap!$B12,Cal!$AQ$5:$AQ$36,0)),"") -> /services | H12: =IFERROR(IF(INDEX(Cal!$Y$5:$Y$20,MATCH(Sitemap!G12,Cal!$AP$5:$AP$20,0))>0,"*x1*",""),IF(COUNTIFS(Cal!$AU$5:$AU$20,Sitemap!G$6,Cal!$AV$5:$AV$20,"<="&Sitemap!$B12,Cal!$AW$5:$AW$20,">="&Sitemap!$B12)>0,"*x2*","")) -> *x2* | I12: =IFERROR(IF(ISNUMBER(MATCH(J$6&"-"&$B12,Cal!$AY$5:$AY$20,0)),"*x6*",IF(INDEX(Cal!$O$5:$O$20,MATCH(Sitemap!J12,Cal!$AP$5:$AP$20,0))>0,"*x1*","")),"") | J12: =IFERROR(INDEX(Cal!$AP$5:$AP$36,MATCH(Sitemap!J$6&"-"&Sitemap!$B12,Cal!$AQ$5:$AQ$36,0)),"") | K12: =IFERROR(IF(INDEX(Cal!$Y$5:$Y$20,MATCH(Sitemap!J12,Cal!$AP$5:$AP$20,0))>0,"*x1*",""),IF(COUNTIFS(Cal!$AU$5:$AU$20,Sitemap!J$6,Cal!$AV$5:$AV$20,"<="&Sitemap!$B12,Cal!$AW$5:$AW$20,">="&Sitemap!$B12)>0,"*x2*","")) | L12: =IFERROR(IF(ISNUMBER(MATCH(M$6&"-"&$B12,Cal!$AY$5:$AY$20,0)),"*x6*",IF(INDEX(Cal!$O$5:$O$20,MATCH(Sitemap!M12,Cal!$AP$5:$AP$20,0))>0,"*x1*","")),"") | M12: =IFERROR(INDEX(Cal!$AP$5:$AP$36,MATCH(Sitemap!M$6&"-"&Sitemap!$B12,Cal!$AQ$5:$AQ$36,0)),"") | N12: =IFERROR(IF(INDEX(Cal!$Y$5:$Y$20,MATCH(Sitemap!M12,Cal!$AP$5:$AP$20,0))>0,"*x1*",""),IF(COUNTIFS(Cal!$AU$5:$AU$20,Sitemap!M$6,Cal!$AV$5:$AV$20,"<="&Sitemap!$B12,Cal!$AW$5:$AW$20,">="&Sitemap!$B12)>0,"*x2*","")) | O12: =IFERROR(IF(ISNUMBER(MATCH(P$6&"-"&$B12,Cal!$AY$5:$AY$20,0)),"*x6*",IF(INDEX(Cal!$O$5:$O$20,MATCH(Sitemap!P12,Cal!$AP$5:$AP$20,0))>0,"*x1*","")),"") | P12: =IFERROR(INDEX(Cal!$AP$5:$AP$36,MATCH(Sitemap!P$6&"-"&Sitemap!$B12,Cal!$AQ$5:$AQ$36,0)),"") -> /blog | Q12: =IFERROR(IF(INDEX(Cal!$Y$5:$Y$20,MATCH(Sitemap!P12,Cal!$AP$5:$AP$20,0))>0,"*x1*",""),IF(COUNTIFS(Cal!$AU$5:$AU$20,Sitemap!P$6,Cal!$AV$5:$AV$20,"<="&Sitemap!$B12,Cal!$AW$5:$AW$20,">="&Sitemap!$B12)>0,"*x2*","")) -> *x2* | R12: =IFERROR(IF(ISNUMBER(MATCH(S$6&"-"&$B12,Cal!$AY$5:$AY$20,0)),"*x6*",IF(INDEX(Cal!$O$5:$O$20,MATCH(Sitemap!S12,Cal!$AP$5:$AP$20,0))>0,"*x1*","")),"") | S12: =IFERROR(INDEX(Cal!$AP$5:$AP$36,MATCH(Sitemap!S$6&"-"&Sitemap!$B12,Cal!$AQ$5:$AQ$36,0)),"") | T12: =IFERROR(IF(INDEX(Cal!$Y$5:$Y$20,MATCH(Sitemap!S12,Cal!$AP$5:$AP$20,0))>0,"*x1*",""),IF(COUNTIFS(Cal!$AU$5:$AU$20,Sitemap!S$6,Cal!$AV$5:$AV$20,"<="&Sitemap!$B12,Cal!$AW$5:$AW$20,">="&Sitemap!$B12)>0,"*x2*","")) | U12: =IFERROR(IF(ISNUMBER(MATCH(V$6&"-"&$B12,Cal!$AY$5:$AY$20,0)),"*x6*",IF(INDEX(Cal!$O$5:$O$20,MATCH(Sitemap!V12,Cal!$AP$5:$AP$20,0))>0,"*x1*","")),"") | V12: =IFERROR(INDEX(Cal!$AP$5:$AP$36,MATCH(Sitemap!V$6&"-"&Sitemap!$B12,Cal!$AQ$5:$AQ$36,0)),"") | W12: =IFERROR(IF(INDEX(Cal!$Y$5:$Y$20,MATCH(Sitemap!V12,Cal!$AP$5:$AP$20,0))>0,"*x1*",""),IF(COUNTIFS(Cal!$AU$5:$AU$20,Sitemap!V$6,Cal!$AV$5:$AV$20,"<="&Sitemap!$B12,Cal!$AW$5:$AW$20,">="&Sitemap!$B12)>0,"*x2*","")) | X12: =IFERROR(IF(ISNUMBER(MATCH(Y$6&"-"&$B12,Cal!$AY$5:$AY$20,0)),"*x6*",IF(INDEX(Cal!$O$5:$O$20,MATCH(Sitemap!Y12,Cal!$AP$5:$AP$20,0))>0,"*x1*","")),"") | Y12: =IFERROR(INDEX(Cal!$AP$5:$AP$36,MATCH(Sitemap!Y$6&"-"&Sitemap!$B12,Cal!$AQ$5:$AQ$36,0)),"") | Z12: =IFERROR(IF(INDEX(Cal!$Y$5:$Y$20,MATCH(Sitemap!Y12,Cal!$AP$5:$AP$20,0))>0,"*x1*",""),IF(COUNTIFS(Cal!$AU$5:$AU$20,Sitemap!Y$6,Cal!$AV$5:$AV$20,"<="&Sitemap!$B12,Cal!$AW$5:$AW$20,">="&Sitemap!$B12)>0,"*x2*","")) | AA12: =IFERROR(IF(ISNUMBER(MATCH(AB$6&"-"&$B12,Cal!$AY$5:$AY$20,0)),"*x6*",IF(INDEX(Cal!$O$5:$O$20,MATCH(Sitemap!AB12,Cal!$AP$5:$AP$20,0))>0,"*x1*","")),"") | AB12: =IFERROR(INDEX(Cal!$AP$5:$AP$36,MATCH(Sitemap!AB$6&"-"&Sitemap!$B12,Cal!$AQ$5:$AQ$36,0)),"") | AC12: =IFERROR(IF(INDEX(Cal!$Y$5:$Y$20,MATCH(Sitemap!AB12,Cal!$AP$5:$AP$20,0))>0,"*x1*",""),IF(COUNTIFS(Cal!$AU$5:$AU$20,Sitemap!AB$6,Cal!$AV$5:$AV$20,"<="&Sitemap!$B12,Cal!$AW$5:$AW$20,">="&Sitemap!$B12)>0,"*x2*","")) | AD12: =IFERROR(IF(ISNUMBER(MATCH(AE$6&"-"&$B12,Cal!$AY$5:$AY$20,0)),"*x6*",IF(INDEX(Cal!$O$5:$O$20,MATCH(Sitemap!AE12,Cal!$AP$5:$AP$20,0))>0,"*x1*","")),"") | AE12: =IFERROR(INDEX(Cal!$AP$5:$AP$36,MATCH(Sitemap!AE$6&"-"&Sitemap!$B12,Cal!$AQ$5:$AQ$36,0)),"") | AF12: =IFERROR(IF(INDEX(Cal!$Y$5:$Y$20,MATCH(Sitemap!AE12,Cal!$AP$5:$AP$20,0))>0,"*x1*",""),IF(COUNTIFS(Cal!$AU$5:$AU$20,Sitemap!AE$6,Cal!$AV$5:$AV$20,"<="&Sitemap!$B12,Cal!$AW$5:$AW$20,">="&Sitemap!$B12)>0,"*x2*","")) | AG12: =IFERROR(IF(ISNUMBER(MATCH(AH$6&"-"&$B12,Cal!$AY$5:$AY$20,0)),"*x6*",IF(INDEX(Cal!$O$5:$O$20,MATCH(Sitemap!AH12,Cal!$AP$5:$AP$20,0))>0,"*x1*","")),"") | AH12: =IFERROR(INDEX(Cal!$AP$5:$AP$36,MATCH(Sitemap!AH$6&"-"&Sitemap!$B12,Cal!$AQ$5:$AQ$36,0)),"") | AI12: =IFERROR(IF(INDEX(Cal!$Y$5:$Y$20,MATCH(Sitemap!AH12,Cal!$AP$5:$AP$20,0))>0,"*x1*",""),IF(COUNTIFS(Cal!$AU$5:$AU$20,Sitemap!AH$6,Cal!$AV$5:$AV$20,"<="&Sitemap!$B12,Cal!$AW$5:$AW$20,">="&Sitemap!$B12)>0,"*x2*","")) | AJ12: =IFERROR(IF(ISNUMBER(MATCH(AK$6&"-"&$B12,Cal!$AY$5:$AY$20,0)),"*x6*",IF(INDEX(Cal!$O$5:$O$20,MATCH(Sitemap!AK12,Cal!$AP$5:$AP$20,0))>0,"*x1*","")),"") | AK12: =IFERROR(INDEX(Cal!$AP$5:$AP$36,MATCH(Sitemap!AK$6&"-"&Sitemap!$B12,Cal!$AQ$5:$AQ$36,0)),"") | AL12: =IFERROR(IF(INDEX(Cal!$Y$5:$Y$20,MATCH(Sitemap!AK12,Cal!$AP$5:$AP$20,0))>0,"*x1*",""),IF(COUNTIFS(Cal!$AU$5:$AU$20,Sitemap!AK$6,Cal!$AV$5:$AV$20,"<="&Sitemap!$B12,Cal!$AW$5:$AW$20,">="&Sitemap!$B12)>0,"*x2*","")) | AM12: =IFERROR(IF(ISNUMBER(MATCH(AN$6&"-"&$B12,Cal!$AY$5:$AY$20,0)),"*x6*",IF(INDEX(Cal!$O$5:$O$20,MATCH(Sitemap!AN12,Cal!$AP$5:$AP$20,0))>0,"*x1*","")),"") | AN12: =IFERROR(INDEX(Cal!$AP$5:$AP$36,MATCH(Sitemap!AN$6&"-"&Sitemap!$B12,Cal!$AQ$5:$AQ$36,0)),"") | AO12: =IFERROR(IF(INDEX(Cal!$Y$5:$Y$20,MATCH(Sitemap!AN12,Cal!$AP$5:$AP$20,0))>0,"*x1*",""),IF(COUNTIFS(Cal!$AU$5:$AU$20,Sitemap!AN$6,Cal!$AV$5:$AV$20,"<="&Sitemap!$B12,Cal!$AW$5:$AW$20,">="&Sitemap!$B12)>0,"*x2*","")) | AP12: =IFERROR(IF(ISNUMBER(MATCH(AQ$6&"-"&$B12,Cal!$AY$5:$AY$20,0)),"*x6*",IF(INDEX(Cal!$O$5:$O$20,MATCH(Sitemap!AQ12,Cal!$AP$5:$AP$20,0))>0,"*x1*","")),"") | AQ12: =IFERROR(INDEX(Cal!$AP$5:$AP$36,MATCH(Sitemap!AQ$6&"-"&Sitemap!$B12,Cal!$AQ$5:$AQ$36,0)),"") | AR12: =IFERROR(IF(INDEX(Cal!$Y$5:$Y$20,MATCH(Sitemap!AQ12,Cal!$AP$5:$AP$20,0))>0,"*x1*",""),IF(COUNTIFS(Cal!$AU$5:$AU$20,Sitemap!AQ$6,Cal!$AV$5:$AV$20,"<="&Sitemap!$B12,Cal!$AW$5:$AW$20,">="&Sitemap!$B12)>0,"*x2*","")) | AS12: =IFERROR(IF(ISNUMBER(MATCH(AT$6&"-"&$B12,Cal!$AY$5:$AY$20,0)),"*x6*",IF(INDEX(Cal!$O$5:$O$20,MATCH(Sitemap!AT12,Cal!$AP$5:$AP$20,0))>0,"*x1*","")),"") | AT12: =IFERROR(INDEX(Cal!$AP$5:$AP$36,MATCH(Sitemap!AT$6&"-"&Sitemap!$B12,Cal!$AQ$5:$AQ$36,0)),"") | AU12: =IFERROR(IF(INDEX(Cal!$Y$5:$Y$20,MATCH(Sitemap!AT12,Cal!$AP$5:$AP$20,0))>0,"*x1*",""),IF(COUNTIFS(Cal!$AU$5:$AU$20,Sitemap!AT$6,Cal!$AV$5:$AV$20,"<="&Sitemap!$B12,Cal!$AW$5:$AW$20,">="&Sitemap!$B12)>0,"*x2*","")) | AV12: =IFERROR(IF(ISNUMBER(MATCH(#REF!&"-"&$B12,Cal!$AY$5:$AY$20,0)),"*x6*",IF(INDEX(Cal!$O$5:$O$20,MATCH(Sitemap!#REF!,Cal!$AP$5:$AP$20,0))>0,"*x1*","")),"")
B13: 5 | D13: =IFERROR(INDEX(Cal!$AP$5:$AP$36,MATCH(Sitemap!D$6&"-"&Sitemap!$B13,Cal!$AQ$5:$AQ$36,0)),"") | E13: =IFERROR(IF(INDEX(Cal!$Y$5:$Y$20,MATCH(Sitemap!D13,Cal!$AP$5:$AP$20,0))>0,"*x1*",""),IF(COUNTIFS(Cal!$AU$5:$AU$20,Sitemap!D$6,Cal!$AV$5:$AV$20,"<="&Sitemap!$B13,Cal!$AW$5:$AW$20,">="&Sitemap!$B13)>0,"*x2*","")) | F13: =IFERROR(IF(ISNUMBER(MATCH(G$6&"-"&$B13,Cal!$AY$5:$AY$20,0)),"*x6*",IF(INDEX(Cal!$O$5:$O$20,MATCH(Sitemap!G13,Cal!$AP$5:$AP$20,0))>0,"*x1*","")),"") | G13: =IFERROR(INDEX(Cal!$AP$5:$AP$36,MATCH(Sitemap!G$6&"-"&Sitemap!$B13,Cal!$AQ$5:$AQ$36,0)),"") | H13: =IFERROR(IF(INDEX(Cal!$Y$5:$Y$20,MATCH(Sitemap!G13,Cal!$AP$5:$AP$20,0))>0,"*x1*",""),IF(COUNTIFS(Cal!$AU$5:$AU$20,Sitemap!G$6,Cal!$AV$5:$AV$20,"<="&Sitemap!$B13,Cal!$AW$5:$AW$20,">="&Sitemap!$B13)>0,"*x2*","")) -> *x2* | I13: =IFERROR(IF(ISNUMBER(MATCH(J$6&"-"&$B13,Cal!$AY$5:$AY$20,0)),"*x6*",IF(INDEX(Cal!$O$5:$O$20,MATCH(Sitemap!J13,Cal!$AP$5:$AP$20,0))>0,"*x1*","")),"") | J13: =IFERROR(INDEX(Cal!$AP$5:$AP$36,MATCH(Sitemap!J$6&"-"&Sitemap!$B13,Cal!$AQ$5:$AQ$36,0)),"") | K13: =IFERROR(IF(INDEX(Cal!$Y$5:$Y$20,MATCH(Sitemap!J13,Cal!$AP$5:$AP$20,0))>0,"*x1*",""),IF(COUNTIFS(Cal!$AU$5:$AU$20,Sitemap!J$6,Cal!$AV$5:$AV$20,"<="&Sitemap!$B13,Cal!$AW$5:$AW$20,">="&Sitemap!$B13)>0,"*x2*","")) | L13: =IFERROR(IF(ISNUMBER(MATCH(M$6&"-"&$B13,Cal!$AY$5:$AY$20,0)),"*x6*",IF(INDEX(Cal!$O$5:$O$20,MATCH(Sitemap!M13,Cal!$AP$5:$AP$20,0))>0,"*x1*","")),"") | M13: =IFERROR(INDEX(Cal!$AP$5:$AP$36,MATCH(Sitemap!M$6&"-"&Sitemap!$B13,Cal!$AQ$5:$AQ$36,0)),"") | N13: =IFERROR(IF(INDEX(Cal!$Y$5:$Y$20,MATCH(Sitemap!M13,Cal!$AP$5:$AP$20,0))>0,"*x1*",""),IF(COUNTIFS(Cal!$AU$5:$AU$20,Sitemap!M$6,Cal!$AV$5:$AV$20,"<="&Sitemap!$B13,Cal!$AW$5:$AW$20,">="&Sitemap!$B13)>0,"*x2*","")) | O13: =IFERROR(IF(ISNUMBER(MATCH(P$6&"-"&$B13,Cal!$AY$5:$AY$20,0)),"*x6*",IF(INDEX(Cal!$O$5:$O$20,MATCH(Sitemap!P13,Cal!$AP$5:$AP$20,0))>0,"*x1*","")),"") | P13: =IFERROR(INDEX(Cal!$AP$5:$AP$36,MATCH(Sitemap!P$6&"-"&Sitemap!$B13,Cal!$AQ$5:$AQ$36,0)),"") | Q13: =IFERROR(IF(INDEX(Cal!$Y$5:$Y$20,MATCH(Sitemap!P13,Cal!$AP$5:$AP$20,0))>0,"*x1*",""),IF(COUNTIFS(Cal!$AU$5:$AU$20,Sitemap!P$6,Cal!$AV$5:$AV$20,"<="&Sitemap!$B13,Cal!$AW$5:$AW$20,">="&Sitemap!$B13)>0,"*x2*","")) -> *x2* | R13: =IFERROR(IF(ISNUMBER(MATCH(S$6&"-"&$B13,Cal!$AY$5:$AY$20,0)),"*x6*",IF(INDEX(Cal!$O$5:$O$20,MATCH(Sitemap!S13,Cal!$AP$5:$AP$20,0))>0,"*x1*","")),"") | S13: =IFERROR(INDEX(Cal!$AP$5:$AP$36,MATCH(Sitemap!S$6&"-"&Sitemap!$B13,Cal!$AQ$5:$AQ$36,0)),"") | T13: =IFERROR(IF(INDEX(Cal!$Y$5:$Y$20,MATCH(Sitemap!S13,Cal!$AP$5:$AP$20,0))>0,"*x1*",""),IF(COUNTIFS(Cal!$AU$5:$AU$20,Sitemap!S$6,Cal!$AV$5:$AV$20,"<="&Sitemap!$B13,Cal!$AW$5:$AW$20,">="&Sitemap!$B13)>0,"*x2*","")) | U13: =IFERROR(IF(ISNUMBER(MATCH(V$6&"-"&$B13,Cal!$AY$5:$AY$20,0)),"*x6*",IF(INDEX(Cal!$O$5:$O$20,MATCH(Sitemap!V13,Cal!$AP$5:$AP$20,0))>0,"*x1*","")),"") | V13: =IFERROR(INDEX(Cal!$AP$5:$AP$36,MATCH(Sitemap!V$6&"-"&Sitemap!$B13,Cal!$AQ$5:$AQ$36,0)),"") | W13: =IFERROR(IF(INDEX(Cal!$Y$5:$Y$20,MATCH(Sitemap!V13,Cal!$AP$5:$AP$20,0))>0,"*x1*",""),IF(COUNTIFS(Cal!$AU$5:$AU$20,Sitemap!V$6,Cal!$AV$5:$AV$20,"<="&Sitemap!$B13,Cal!$AW$5:$AW$20,">="&Sitemap!$B13)>0,"*x2*","")) | X13: =IFERROR(IF(ISNUMBER(MATCH(Y$6&"-"&$B13,Cal!$AY$5:$AY$20,0)),"*x6*",IF(INDEX(Cal!$O$5:$O$20,MATCH(Sitemap!Y13,Cal!$AP$5:$AP$20,0))>0,"*x1*","")),"") | Y13: =IFERROR(INDEX(Cal!$AP$5:$AP$36,MATCH(Sitemap!Y$6&"-"&Sitemap!$B13,Cal!$AQ$5:$AQ$36,0)),"") | Z13: =IFERROR(IF(INDEX(Cal!$Y$5:$Y$20,MATCH(Sitemap!Y13,Cal!$AP$5:$AP$20,0))>0,"*x1*",""),IF(COUNTIFS(Cal!$AU$5:$AU$20,Sitemap!Y$6,Cal!$AV$5:$AV$20,"<="&Sitemap!$B13,Cal!$AW$5:$AW$20,">="&Sitemap!$B13)>0,"*x2*","")) | AA13: =IFERROR(IF(ISNUMBER(MATCH(AB$6&"-"&$B13,Cal!$AY$5:$AY$20,0)),"*x6*",IF(INDEX(Cal!$O$5:$O$20,MATCH(Sitemap!AB13,Cal!$AP$5:$AP$20,0))>0,"*x1*","")),"") | AB13: =IFERROR(INDEX(Cal!$AP$5:$AP$36,MATCH(Sitemap!AB$6&"-"&Sitemap!$B13,Cal!$AQ$5:$AQ$36,0)),"") | AC13: =IFERROR(IF(INDEX(Cal!$Y$5:$Y$20,MATCH(Sitemap!AB13,Cal!$AP$5:$AP$20,0))>0,"*x1*",""),IF(COUNTIFS(Cal!$AU$5:$AU$20,Sitemap!AB$6,Cal!$AV$5:$AV$20,"<="&Sitemap!$B13,Cal!$AW$5:$AW$20,">="&Sitemap!$B13)>0,"*x2*","")) | AD13: =IFERROR(IF(ISNUMBER(MATCH(AE$6&"-"&$B13,Cal!$AY$5:$AY$20,0)),"*x6*",IF(INDEX(Cal!$O$5:$O$20,MATCH(Sitemap!AE13,Cal!$AP$5:$AP$20,0))>0,"*x1*","")),"") | AE13: =IFERROR(INDEX(Cal!$AP$5:$AP$36,MATCH(Sitemap!AE$6&"-"&Sitemap!$B13,Cal!$AQ$5:$AQ$36,0)),"") | AF13: =IFERROR(IF(INDEX(Cal!$Y$5:$Y$20,MATCH(Sitemap!AE13,Cal!$AP$5:$AP$20,0))>0,"*x1*",""),IF(COUNTIFS(Cal!$AU$5:$AU$20,Sitemap!AE$6,Cal!$AV$5:$AV$20,"<="&Sitemap!$B13,Cal!$AW$5:$AW$20,">="&Sitemap!$B13)>0,"*x2*","")) | AG13: =IFERROR(IF(ISNUMBER(MATCH(AH$6&"-"&$B13,Cal!$AY$5:$AY$20,0)),"*x6*",IF(INDEX(Cal!$O$5:$O$20,MATCH(Sitemap!AH13,Cal!$AP$5:$AP$20,0))>0,"*x1*","")),"") | AH13: =IFERROR(INDEX(Cal!$AP$5:$AP$36,MATCH(Sitemap!AH$6&"-"&Sitemap!$B13,Cal!$AQ$5:$AQ$36,0)),"") | AI13: =IFERROR(IF(INDEX(Cal!$Y$5:$Y$20,MATCH(Sitemap!AH13,Cal!$AP$5:$AP$20,0))>0,"*x1*",""),IF(COUNTIFS(Cal!$AU$5:$AU$20,Sitemap!AH$6,Cal!$AV$5:$AV$20,"<="&Sitemap!$B13,Cal!$AW$5:$AW$20,">="&Sitemap!$B13)>0,"*x2*","")) | AJ13: =IFERROR(IF(ISNUMBER(MATCH(AK$6&"-"&$B13,Cal!$AY$5:$AY$20,0)),"*x6*",IF(INDEX(Cal!$O$5:$O$20,MATCH(Sitemap!AK13,Cal!$AP$5:$AP$20,0))>0,"*x1*","")),"") | AK13: =IFERROR(INDEX(Cal!$AP$5:$AP$36,MATCH(Sitemap!AK$6&"-"&Sitemap!$B13,Cal!$AQ$5:$AQ$36,0)),"") | AL13: =IFERROR(IF(INDEX(Cal!$Y$5:$Y$20,MATCH(Sitemap!AK13,Cal!$AP$5:$AP$20,0))>0,"*x1*",""),IF(COUNTIFS(Cal!$AU$5:$AU$20,Sitemap!AK$6,Cal!$AV$5:$AV$20,"<="&Sitemap!$B13,Cal!$AW$5:$AW$20,">="&Sitemap!$B13)>0,"*x2*","")) | AM13: =IFERROR(IF(ISNUMBER(MATCH(AN$6&"-"&$B13,Cal!$AY$5:$AY$20,0)),"*x6*",IF(INDEX(Cal!$O$5:$O$20,MATCH(Sitemap!AN13,Cal!$AP$5:$AP$20,0))>0,"*x1*","")),"") | AN13: =IFERROR(INDEX(Cal!$AP$5:$AP$36,MATCH(Sitemap!AN$6&"-"&Sitemap!$B13,Cal!$AQ$5:$AQ$36,0)),"") | AO13: =IFERROR(IF(INDEX(Cal!$Y$5:$Y$20,MATCH(Sitemap!AN13,Cal!$AP$5:$AP$20,0))>0,"*x1*",""),IF(COUNTIFS(Cal!$AU$5:$AU$20,Sitemap!AN$6,Cal!$AV$5:$AV$20,"<="&Sitemap!$B13,Cal!$AW$5:$AW$20,">="&Sitemap!$B13)>0,"*x2*","")) | AP13: =IFERROR(IF(ISNUMBER(MATCH(AQ$6&"-"&$B13,Cal!$AY$5:$AY$20,0)),"*x6*",IF(INDEX(Cal!$O$5:$O$20,MATCH(Sitemap!AQ13,Cal!$AP$5:$AP$20,0))>0,"*x1*","")),"") | AQ13: =IFERROR(INDEX(Cal!$AP$5:$AP$36,MATCH(Sitemap!AQ$6&"-"&Sitemap!$B13,Cal!$AQ$5:$AQ$36,0)),"") | AR13: =IFERROR(IF(INDEX(Cal!$Y$5:$Y$20,MATCH(Sitemap!AQ13,Cal!$AP$5:$AP$20,0))>0,"*x1*",""),IF(COUNTIFS(Cal!$AU$5:$AU$20,Sitemap!AQ$6,Cal!$AV$5:$AV$20,"<="&Sitemap!$B13,Cal!$AW$5:$AW$20,">="&Sitemap!$B13)>0,"*x2*","")) | AS13: =IFERROR(IF(ISNUMBER(MATCH(AT$6&"-"&$B13,Cal!$AY$5:$AY$20,0)),"*x6*",IF(INDEX(Cal!$O$5:$O$20,MATCH(Sitemap!AT13,Cal!$AP$5:$AP$20,0))>0,"*x1*","")),"") | AT13: =IFERROR(INDEX(Cal!$AP$5:$AP$36,MATCH(Sitemap!AT$6&"-"&Sitemap!$B13,Cal!$AQ$5:$AQ$36,0)),"") | AU13: =IFERROR(IF(INDEX(Cal!$Y$5:$Y$20,MATCH(Sitemap!AT13,Cal!$AP$5:$AP$20,0))>0,"*x1*",""),IF(COUNTIFS(Cal!$AU$5:$AU$20,Sitemap!AT$6,Cal!$AV$5:$AV$20,"<="&Sitemap!$B13,Cal!$AW$5:$AW$20,">="&Sitemap!$B13)>0,"*x2*","")) | AV13: =IFERROR(IF(ISNUMBER(MATCH(#REF!&"-"&$B13,Cal!$AY$5:$AY$20,0)),"*x6*",IF(INDEX(Cal!$O$5:$O$20,MATCH(Sitemap!#REF!,Cal!$AP$5:$AP$20,0))>0,"*x1*","")),"")
B14: 6 | D14: =IFERROR(INDEX(Cal!$AP$5:$AP$36,MATCH(Sitemap!D$6&"-"&Sitemap!$B14,Cal!$AQ$5:$AQ$36,0)),"") | E14: =IFERROR(IF(INDEX(Cal!$Y$5:$Y$20,MATCH(Sitemap!D14,Cal!$AP$5:$AP$20,0))>0,"*x1*",""),IF(COUNTIFS(Cal!$AU$5:$AU$20,Sitemap!D$6,Cal!$AV$5:$AV$20,"<="&Sitemap!$B14,Cal!$AW$5:$AW$20,">="&Sitemap!$B14)>0,"*x2*","")) | F14: =IFERROR(IF(ISNUMBER(MATCH(G$6&"-"&$B14,Cal!$AY$5:$AY$20,0)),"*x6*",IF(INDEX(Cal!$O$5:$O$20,MATCH(Sitemap!G14,Cal!$AP$5:$AP$20,0))>0,"*x1*","")),"") | G14: =IFERROR(INDEX(Cal!$AP$5:$AP$36,MATCH(Sitemap!G$6&"-"&Sitemap!$B14,Cal!$AQ$5:$AQ$36,0)),"") | H14: =IFERROR(IF(INDEX(Cal!$Y$5:$Y$20,MATCH(Sitemap!G14,Cal!$AP$5:$AP$20,0))>0,"*x1*",""),IF(COUNTIFS(Cal!$AU$5:$AU$20,Sitemap!G$6,Cal!$AV$5:$AV$20,"<="&Sitemap!$B14,Cal!$AW$5:$AW$20,">="&Sitemap!$B14)>0,"*x2*","")) -> *x2* | I14: =IFERROR(IF(ISNUMBER(MATCH(J$6&"-"&$B14,Cal!$AY$5:$AY$20,0)),"*x6*",IF(INDEX(Cal!$O$5:$O$20,MATCH(Sitemap!J14,Cal!$AP$5:$AP$20,0))>0,"*x1*","")),"") -> *x1* | J14: =IFERROR(INDEX(Cal!$AP$5:$AP$36,MATCH(Sitemap!J$6&"-"&Sitemap!$B14,Cal!$AQ$5:$AQ$36,0)),"") -> 3-marketing | K14: =IFERROR(IF(INDEX(Cal!$Y$5:$Y$20,MATCH(Sitemap!J14,Cal!$AP$5:$AP$20,0))>0,"*x1*",""),IF(COUNTIFS(Cal!$AU$5:$AU$20,Sitemap!J$6,Cal!$AV$5:$AV$20,"<="&Sitemap!$B14,Cal!$AW$5:$AW$20,">="&Sitemap!$B14)>0,"*x2*","")) -> *x1* | L14: =IFERROR(IF(ISNUMBER(MATCH(M$6&"-"&$B14,Cal!$AY$5:$AY$20,0)),"*x6*",IF(INDEX(Cal!$O$5:$O$20,MATCH(Sitemap!M14,Cal!$AP$5:$AP$20,0))>0,"*x1*","")),"") | M14: =IFERROR(INDEX(Cal!$AP$5:$AP$36,MATCH(Sitemap!M$6&"-"&Sitemap!$B14,Cal!$AQ$5:$AQ$36,0)),"") | N14: =IFERROR(IF(INDEX(Cal!$Y$5:$Y$20,MATCH(Sitemap!M14,Cal!$AP$5:$AP$20,0))>0,"*x1*",""),IF(COUNTIFS(Cal!$AU$5:$AU$20,Sitemap!M$6,Cal!$AV$5:$AV$20,"<="&Sitemap!$B14,Cal!$AW$5:$AW$20,">="&Sitemap!$B14)>0,"*x2*","")) | O14: =IFERROR(IF(ISNUMBER(MATCH(P$6&"-"&$B14,Cal!$AY$5:$AY$20,0)),"*x6*",IF(INDEX(Cal!$O$5:$O$20,MATCH(Sitemap!P14,Cal!$AP$5:$AP$20,0))>0,"*x1*","")),"") | P14: =IFERROR(INDEX(Cal!$AP$5:$AP$36,MATCH(Sitemap!P$6&"-"&Sitemap!$B14,Cal!$AQ$5:$AQ$36,0)),"") | Q14: =IFERROR(IF(INDEX(Cal!$Y$5:$Y$20,MATCH(Sitemap!P14,Cal!$AP$5:$AP$20,0))>0,"*x1*",""),IF(COUNTIFS(Cal!$AU$5:$AU$20,Sitemap!P$6,Cal!$AV$5:$AV$20,"<="&Sitemap!$B14,Cal!$AW$5:$AW$20,">="&Sitemap!$B14)>0,"*x2*","")) -> *x2* | R14: =IFERROR(IF(ISNUMBER(MATCH(S$6&"-"&$B14,Cal!$AY$5:$AY$20,0)),"*x6*",IF(INDEX(Cal!$O$5:$O$20,MATCH(Sitemap!S14,Cal!$AP$5:$AP$20,0))>0,"*x1*","")),"") -> *x1* | S14: =IFERROR(INDEX(Cal!$AP$5:$AP$36,MATCH(Sitemap!S$6&"-"&Sitemap!$B14,Cal!$AQ$5:$AQ$36,0)),"") -> 10-seo-tips | T14: =IFERROR(IF(INDEX(Cal!$Y$5:$Y$20,MATCH(Sitemap!S14,Cal!$AP$5:$AP$20,0))>0,"*x1*",""),IF(COUNTIFS(Cal!$AU$5:$AU$20,Sitemap!S$6,Cal!$AV$5:$AV$20,"<="&Sitemap!$B14,Cal!$AW$5:$AW$20,">="&Sitemap!$B14)>0,"*x2*","")) | U14: =IFERROR(IF(ISNUMBER(MATCH(V$6&"-"&$B14,Cal!$AY$5:$AY$20,0)),"*x6*",IF(INDEX(Cal!$O$5:$O$20,MATCH(Sitemap!V14,Cal!$AP$5:$AP$20,0))>0,"*x1*","")),"") | V14: =IFERROR(INDEX(Cal!$AP$5:$AP$36,MATCH(Sitemap!V$6&"-"&Sitemap!$B14,Cal!$AQ$5:$AQ$36,0)),"") | W14: =IFERROR(IF(INDEX(Cal!$Y$5:$Y$20,MATCH(Sitemap!V14,Cal!$AP$5:$AP$20,0))>0,"*x1*",""),IF(COUNTIFS(Cal!$AU$5:$AU$20,Sitemap!V$6,Cal!$AV$5:$AV$20,"<="&Sitemap!$B14,Cal!$AW$5:$AW$20,">="&Sitemap!$B14)>0,"*x2*","")) | X14: =IFERROR(IF(ISNUMBER(MATCH(Y$6&"-"&$B14,Cal!$AY$5:$AY$20,0)),"*x6*",IF(INDEX(Cal!$O$5:$O$20,MATCH(Sitemap!Y14,Cal!$AP$5:$AP$20,0))>0,"*x1*","")),"") | Y14: =IFERROR(INDEX(Cal!$AP$5:$AP$36,MATCH(Sitemap!Y$6&"-"&Sitemap!$B14,Cal!$AQ$5:$AQ$36,0)),"") | Z14: =IFERROR(IF(INDEX(Cal!$Y$5:$Y$20,MATCH(Sitemap!Y14,Cal!$AP$5:$AP$20,0))>0,"*x1*",""),IF(COUNTIFS(Cal!$AU$5:$AU$20,Sitemap!Y$6,Cal!$AV$5:$AV$20,"<="&Sitemap!$B14,Cal!$AW$5:$AW$20,">="&Sitemap!$B14)>0,"*x2*","")) | AA14: =IFERROR(IF(ISNUMBER(MATCH(AB$6&"-"&$B14,Cal!$AY$5:$AY$20,0)),"*x6*",IF(INDEX(Cal!$O$5:$O$20,MATCH(Sitemap!AB14,Cal!$AP$5:$AP$20,0))>0,"*x1*","")),"") | AB14: =IFERROR(INDEX(Cal!$AP$5:$AP$36,MATCH(Sitemap!AB$6&"-"&Sitemap!$B14,Cal!$AQ$5:$AQ$36,0)),"") | AC14: =IFERROR(IF(INDEX(Cal!$Y$5:$Y$20,MATCH(Sitemap!AB14,Cal!$AP$5:$AP$20,0))>0,"*x1*",""),IF(COUNTIFS(Cal!$AU$5:$AU$20,Sitemap!AB$6,Cal!$AV$5:$AV$20,"<="&Sitemap!$B14,Cal!$AW$5:$AW$20,">="&Sitemap!$B14)>0,"*x2*","")) | AD14: =IFERROR(IF(ISNUMBER(MATCH(AE$6&"-"&$B14,Cal!$AY$5:$AY$20,0)),"*x6*",IF(INDEX(Cal!$O$5:$O$20,MATCH(Sitemap!AE14,Cal!$AP$5:$AP$20,0))>0,"*x1*","")),"") | AE14: =IFERROR(INDEX(Cal!$AP$5:$AP$36,MATCH(Sitemap!AE$6&"-"&Sitemap!$B14,Cal!$AQ$5:$AQ$36,0)),"") | AF14: =IFERROR(IF(INDEX(Cal!$Y$5:$Y$20,MATCH(Sitemap!AE14,Cal!$AP$5:$AP$20,0))>0,"*x1*",""),IF(COUNTIFS(Cal!$AU$5:$AU$20,Sitemap!AE$6,Cal!$AV$5:$AV$20,"<="&Sitemap!$B14,Cal!$AW$5:$AW$20,">="&Sitemap!$B14)>0,"*x2*","")) | AG14: =IFERROR(IF(ISNUMBER(MATCH(AH$6&"-"&$B14,Cal!$AY$5:$AY$20,0)),"*x6*",IF(INDEX(Cal!$O$5:$O$20,MATCH(Sitemap!AH14,Cal!$AP$5:$AP$20,0))>0,"*x1*","")),"") | AH14: =IFERROR(INDEX(Cal!$AP$5:$AP$36,MATCH(Sitemap!AH$6&"-"&Sitemap!$B14,Cal!$AQ$5:$AQ$36,0)),"") | AI14: =IFERROR(IF(INDEX(Cal!$Y$5:$Y$20,MATCH(Sitemap!AH14,Cal!$AP$5:$AP$20,0))>0,"*x1*",""),IF(COUNTIFS(Cal!$AU$5:$AU$20,Sitemap!AH$6,Cal!$AV$5:$AV$20,"<="&Sitemap!$B14,Cal!$AW$5:$AW$20,">="&Sitemap!$B14)>0,"*x2*","")) | AJ14: =IFERROR(IF(ISNUMBER(MATCH(AK$6&"-"&$B14,Cal!$AY$5:$AY$20,0)),"*x6*",IF(INDEX(Cal!$O$5:$O$20,MATCH(Sitemap!AK14,Cal!$AP$5:$AP$20,0))>0,"*x1*","")),"") | AK14: =IFERROR(INDEX(Cal!$AP$5:$AP$36,MATCH(Sitemap!AK$6&"-"&Sitemap!$B14,Cal!$AQ$5:$AQ$36,0)),"") | AL14: =IFERROR(IF(INDEX(Cal!$Y$5:$Y$20,MATCH(Sitemap!AK14,Cal!$AP$5:$AP$20,0))>0,"*x1*",""),IF(COUNTIFS(Cal!$AU$5:$AU$20,Sitemap!AK$6,Cal!$AV$5:$AV$20,"<="&Sitemap!$B14,Cal!$AW$5:$AW$20,">="&Sitemap!$B14)>0,"*x2*","")) | AM14: =IFERROR(IF(ISNUMBER(MATCH(AN$6&"-"&$B14,Cal!$AY$5:$AY$20,0)),"*x6*",IF(INDEX(Cal!$O$5:$O$20,MATCH(Sitemap!AN14,Cal!$AP$5:$AP$20,0))>0,"*x1*","")),"") | AN14: =IFERROR(INDEX(Cal!$AP$5:$AP$36,MATCH(Sitemap!AN$6&"-"&Sitemap!$B14,Cal!$AQ$5:$AQ$36,0)),"") | AO14: =IFERROR(IF(INDEX(Cal!$Y$5:$Y$20,MATCH(Sitemap!AN14,Cal!$AP$5:$AP$20,0))>0,"*x1*",""),IF(COUNTIFS(Cal!$AU$5:$AU$20,Sitemap!AN$6,Cal!$AV$5:$AV$20,"<="&Sitemap!$B14,Cal!$AW$5:$AW$20,">="&Sitemap!$B14)>0,"*x2*","")) | AP14: =IFERROR(IF(ISNUMBER(MATCH(AQ$6&"-"&$B14,Cal!$AY$5:$AY$20,0)),"*x6*",IF(INDEX(Cal!$O$5:$O$20,MATCH(Sitemap!AQ14,Cal!$AP$5:$AP$20,0))>0,"*x1*","")),"") | AQ14: =IFERROR(INDEX(Cal!$AP$5:$AP$36,MATCH(Sitemap!AQ$6&"-"&Sitemap!$B14,Cal!$AQ$5:$AQ$36,0)),"") | AR14: =IFERROR(IF(INDEX(Cal!$Y$5:$Y$20,MATCH(Sitemap!AQ14,Cal!$AP$5:$AP$20,0))>0,"*x1*",""),IF(COUNTIFS(Cal!$AU$5:$AU$20,Sitemap!AQ$6,Cal!$AV$5:$AV$20,"<="&Sitemap!$B14,Cal!$AW$5:$AW$20,">="&Sitemap!$B14)>0,"*x2*","")) | AS14: =IFERROR(IF(ISNUMBER(MATCH(AT$6&"-"&$B14,Cal!$AY$5:$AY$20,0)),"*x6*",IF(INDEX(Cal!$O$5:$O$20,MATCH(Sitemap!AT14,Cal!$AP$5:$AP$20,0))>0,"*x1*","")),"") | AT14: =IFERROR(INDEX(Cal!$AP$5:$AP$36,MATCH(Sitemap!AT$6&"-"&Sitemap!$B14,Cal!$AQ$5:$AQ$36,0)),"") | AU14: =IFERROR(IF(INDEX(Cal!$Y$5:$Y$20,MATCH(Sitemap!AT14,Cal!$AP$5:$AP$20,0))>0,"*x1*",""),IF(COUNTIFS(Cal!$AU$5:$AU$20,Sitemap!AT$6,Cal!$AV$5:$AV$20,"<="&Sitemap!$B14,Cal!$AW$5:$AW$20,">="&Sitemap!$B14)>0,"*x2*","")) | AV14: =IFERROR(IF(ISNUMBER(MATCH(#REF!&"-"&$B14,Cal!$AY$5:$AY$20,0)),"*x6*",IF(INDEX(Cal!$O$5:$O$20,MATCH(Sitemap!#REF!,Cal!$AP$5:$AP$20,0))>0,"*x1*","")),"")
B15: 7 | D15: =IFERROR(INDEX(Cal!$AP$5:$AP$36,MATCH(Sitemap!D$6&"-"&Sitemap!$B15,Cal!$AQ$5:$AQ$36,0)),"") | E15: =IFERROR(IF(INDEX(Cal!$Y$5:$Y$20,MATCH(Sitemap!D15,Cal!$AP$5:$AP$20,0))>0,"*x1*",""),IF(COUNTIFS(Cal!$AU$5:$AU$20,Sitemap!D$6,Cal!$AV$5:$AV$20,"<="&Sitemap!$B15,Cal!$AW$5:$AW$20,">="&Sitemap!$B15)>0,"*x2*","")) | F15: =IFERROR(IF(ISNUMBER(MATCH(G$6&"-"&$B15,Cal!$AY$5:$AY$20,0)),"*x6*",IF(INDEX(Cal!$O$5:$O$20,MATCH(Sitemap!G15,Cal!$AP$5:$AP$20,0))>0,"*x1*","")),"") | G15: =IFERROR(INDEX(Cal!$AP$5:$AP$36,MATCH(Sitemap!G$6&"-"&Sitemap!$B15,Cal!$AQ$5:$AQ$36,0)),"") | H15: =IFERROR(IF(INDEX(Cal!$Y$5:$Y$20,MATCH(Sitemap!G15,Cal!$AP$5:$AP$20,0))>0,"*x1*",""),IF(COUNTIFS(Cal!$AU$5:$AU$20,Sitemap!G$6,Cal!$AV$5:$AV$20,"<="&Sitemap!$B15,Cal!$AW$5:$AW$20,">="&Sitemap!$B15)>0,"*x2*","")) -> *x2* | I15: =IFERROR(IF(ISNUMBER(MATCH(J$6&"-"&$B15,Cal!$AY$5:$AY$20,0)),"*x6*",IF(INDEX(Cal!$O$5:$O$20,MATCH(Sitemap!J15,Cal!$AP$5:$AP$20,0))>0,"*x1*","")),"") | J15: =IFERROR(INDEX(Cal!$AP$5:$AP$36,MATCH(Sitemap!J$6&"-"&Sitemap!$B15,Cal!$AQ$5:$AQ$36,0)),"") -> /services/marketing | K15: =IFERROR(IF(INDEX(Cal!$Y$5:$Y$20,MATCH(Sitemap!J15,Cal!$AP$5:$AP$20,0))>0,"*x1*",""),IF(COUNTIFS(Cal!$AU$5:$AU$20,Sitemap!J$6,Cal!$AV$5:$AV$20,"<="&Sitemap!$B15,Cal!$AW$5:$AW$20,">="&Sitemap!$B15)>0,"*x2*","")) -> *x2* | L15: =IFERROR(IF(ISNUMBER(MATCH(M$6&"-"&$B15,Cal!$AY$5:$AY$20,0)),"*x6*",IF(INDEX(Cal!$O$5:$O$20,MATCH(Sitemap!M15,Cal!$AP$5:$AP$20,0))>0,"*x1*","")),"") | M15: =IFERROR(INDEX(Cal!$AP$5:$AP$36,MATCH(Sitemap!M$6&"-"&Sitemap!$B15,Cal!$AQ$5:$AQ$36,0)),"") | N15: =IFERROR(IF(INDEX(Cal!$Y$5:$Y$20,MATCH(Sitemap!M15,Cal!$AP$5:$AP$20,0))>0,"*x1*",""),IF(COUNTIFS(Cal!$AU$5:$AU$20,Sitemap!M$6,Cal!$AV$5:$AV$20,"<="&Sitemap!$B15,Cal!$AW$5:$AW$20,">="&Sitemap!$B15)>0,"*x2*","")) | O15: =IFERROR(IF(ISNUMBER(MATCH(P$6&"-"&$B15,Cal!$AY$5:$AY$20,0)),"*x6*",IF(INDEX(Cal!$O$5:$O$20,MATCH(Sitemap!P15,Cal!$AP$5:$AP$20,0))>0,"*x1*","")),"") | P15: =IFERROR(INDEX(Cal!$AP$5:$AP$36,MATCH(Sitemap!P$6&"-"&Sitemap!$B15,Cal!$AQ$5:$AQ$36,0)),"") | Q15: =IFERROR(IF(INDEX(Cal!$Y$5:$Y$20,MATCH(Sitemap!P15,Cal!$AP$5:$AP$20,0))>0,"*x1*",""),IF(COUNTIFS(Cal!$AU$5:$AU$20,Sitemap!P$6,Cal!$AV$5:$AV$20,"<="&Sitemap!$B15,Cal!$AW$5:$AW$20,">="&Sitemap!$B15)>0,"*x2*","")) -> *x2* | R15: =IFERROR(IF(ISNUMBER(MATCH(S$6&"-"&$B15,Cal!$AY$5:$AY$20,0)),"*x6*",IF(INDEX(Cal!$O$5:$O$20,MATCH(Sitemap!S15,Cal!$AP$5:$AP$20,0))>0,"*x1*","")),"") | S15: =IFERROR(INDEX(Cal!$AP$5:$AP$36,MATCH(Sitemap!S$6&"-"&Sitemap!$B15,Cal!$AQ$5:$AQ$36,0)),"") -> /blog/seo-tips | T15: =IFERROR(IF(INDEX(Cal!$Y$5:$Y$20,MATCH(Sitemap!S15,Cal!$AP$5:$AP$20,0))>0,"*x1*",""),IF(COUNTIFS(Cal!$AU$5:$AU$20,Sitemap!S$6,Cal!$AV$5:$AV$20,"<="&Sitemap!$B15,Cal!$AW$5:$AW$20,">="&Sitemap!$B15)>0,"*x2*","")) | U15: =IFERROR(IF(ISNUMBER(MATCH(V$6&"-"&$B15,Cal!$AY$5:$AY$20,0)),"*x6*",IF(INDEX(Cal!$O$5:$O$20,MATCH(Sitemap!V15,Cal!$AP$5:$AP$20,0))>0,"*x1*","")),"") | V15: =IFERROR(INDEX(Cal!$AP$5:$AP$36,MATCH(Sitemap!V$6&"-"&Sitemap!$B15,Cal!$AQ$5:$AQ$36,0)),"") | W15: =IFERROR(IF(INDEX(Cal!$Y$5:$Y$20,MATCH(Sitemap!V15,Cal!$AP$5:$AP$20,0))>0,"*x1*",""),IF(COUNTIFS(Cal!$AU$5:$AU$20,Sitemap!V$6,Cal!$AV$5:$AV$20,"<="&Sitemap!$B15,Cal!$AW$5:$AW$20,">="&Sitemap!$B15)>0,"*x2*","")) | X15: =IFERROR(IF(ISNUMBER(MATCH(Y$6&"-"&$B15,Cal!$AY$5:$AY$20,0)),"*x6*",IF(INDEX(Cal!$O$5:$O$20,MATCH(Sitemap!Y15,Cal!$AP$5:$AP$20,0))>0,"*x1*","")),"") | Y15: =IFERROR(INDEX(Cal!$AP$5:$AP$36,MATCH(Sitemap!Y$6&"-"&Sitemap!$B15,Cal!$AQ$5:$AQ$36,0)),"") | Z15: =IFERROR(IF(INDEX(Cal!$Y$5:$Y$20,MATCH(Sitemap!Y15,Cal!$AP$5:$AP$20,0))>0,"*x1*",""),IF(COUNTIFS(Cal!$AU$5:$AU$20,Sitemap!Y$6,Cal!$AV$5:$AV$20,"<="&Sitemap!$B15,Cal!$AW$5:$AW$20,">="&Sitemap!$B15)>0,"*x2*","")) | AA15: =IFERROR(IF(ISNUMBER(MATCH(AB$6&"-"&$B15,Cal!$AY$5:$AY$20,0)),"*x6*",IF(INDEX(Cal!$O$5:$O$20,MATCH(Sitemap!AB15,Cal!$AP$5:$AP$20,0))>0,"*x1*","")),"") | AB15: =IFERROR(INDEX(Cal!$AP$5:$AP$36,MATCH(Sitemap!AB$6&"-"&Sitemap!$B15,Cal!$AQ$5:$AQ$36,0)),"") | AC15: =IFERROR(IF(INDEX(Cal!$Y$5:$Y$20,MATCH(Sitemap!AB15,Cal!$AP$5:$AP$20,0))>0,"*x1*",""),IF(COUNTIFS(Cal!$AU$5:$AU$20,Sitemap!AB$6,Cal!$AV$5:$AV$20,"<="&Sitemap!$B15,Cal!$AW$5:$AW$20,">="&Sitemap!$B15)>0,"*x2*","")) | AD15: =IFERROR(IF(ISNUMBER(MATCH(AE$6&"-"&$B15,Cal!$AY$5:$AY$20,0)),"*x6*",IF(INDEX(Cal!$O$5:$O$20,MATCH(Sitemap!AE15,Cal!$AP$5:$AP$20,0))>0,"*x1*","")),"") | AE15: =IFERROR(INDEX(Cal!$AP$5:$AP$36,MATCH(Sitemap!AE$6&"-"&Sitemap!$B15,Cal!$AQ$5:$AQ$36,0)),"") | AF15: =IFERROR(IF(INDEX(Cal!$Y$5:$Y$20,MATCH(Sitemap!AE15,Cal!$AP$5:$AP$20,0))>0,"*x1*",""),IF(COUNTIFS(Cal!$AU$5:$AU$20,Sitemap!AE$6,Cal!$AV$5:$AV$20,"<="&Sitemap!$B15,Cal!$AW$5:$AW$20,">="&Sitemap!$B15)>0,"*x2*","")) | AG15: =IFERROR(IF(ISNUMBER(MATCH(AH$6&"-"&$B15,Cal!$AY$5:$AY$20,0)),"*x6*",IF(INDEX(Cal!$O$5:$O$20,MATCH(Sitemap!AH15,Cal!$AP$5:$AP$20,0))>0,"*x1*","")),"") | AH15: =IFERROR(INDEX(Cal!$AP$5:$AP$36,MATCH(Sitemap!AH$6&"-"&Sitemap!$B15,Cal!$AQ$5:$AQ$36,0)),"") | AI15: =IFERROR(IF(INDEX(Cal!$Y$5:$Y$20,MATCH(Sitemap!AH15,Cal!$AP$5:$AP$20,0))>0,"*x1*",""),IF(COUNTIFS(Cal!$AU$5:$AU$20,Sitemap!AH$6,Cal!$AV$5:$AV$20,"<="&Sitemap!$B15,Cal!$AW$5:$AW$20,">="&Sitemap!$B15)>0,"*x2*","")) | AJ15: =IFERROR(IF(ISNUMBER(MATCH(AK$6&"-"&$B15,Cal!$AY$5:$AY$20,0)),"*x6*",IF(INDEX(Cal!$O$5:$O$20,MATCH(Sitemap!AK15,Cal!$AP$5:$AP$20,0))>0,"*x1*","")),"") | AK15: =IFERROR(INDEX(Cal!$AP$5:$AP$36,MATCH(Sitemap!AK$6&"-"&Sitemap!$B15,Cal!$AQ$5:$AQ$36,0)),"") | AL15: =IFERROR(IF(INDEX(Cal!$Y$5:$Y$20,MATCH(Sitemap!AK15,Cal!$AP$5:$AP$20,0))>0,"*x1*",""),IF(COUNTIFS(Cal!$AU$5:$AU$20,Sitemap!AK$6,Cal!$AV$5:$AV$20,"<="&Sitemap!$B15,Cal!$AW$5:$AW$20,">="&Sitemap!$B15)>0,"*x2*","")) | AM15: =IFERROR(IF(ISNUMBER(MATCH(AN$6&"-"&$B15,Cal!$AY$5:$AY$20,0)),"*x6*",IF(INDEX(Cal!$O$5:$O$20,MATCH(Sitemap!AN15,Cal!$AP$5:$AP$20,0))>0,"*x1*","")),"") | AN15: =IFERROR(INDEX(Cal!$AP$5:$AP$36,MATCH(Sitemap!AN$6&"-"&Sitemap!$B15,Cal!$AQ$5:$AQ$36,0)),"") | AO15: =IFERROR(IF(INDEX(Cal!$Y$5:$Y$20,MATCH(Sitemap!AN15,Cal!$AP$5:$AP$20,0))>0,"*x1*",""),IF(COUNTIFS(Cal!$AU$5:$AU$20,Sitemap!AN$6,Cal!$AV$5:$AV$20,"<="&Sitemap!$B15,Cal!$AW$5:$AW$20,">="&Sitemap!$B15)>0,"*x2*","")) | AP15: =IFERROR(IF(ISNUMBER(MATCH(AQ$6&"-"&$B15,Cal!$AY$5:$AY$20,0)),"*x6*",IF(INDEX(Cal!$O$5:$O$20,MATCH(Sitemap!AQ15,Cal!$AP$5:$AP$20,0))>0,"*x1*","")),"") | AQ15: =IFERROR(INDEX(Cal!$AP$5:$AP$36,MATCH(Sitemap!AQ$6&"-"&Sitemap!$B15,Cal!$AQ$5:$AQ$36,0)),"") | AR15: =IFERROR(IF(INDEX(Cal!$Y$5:$Y$20,MATCH(Sitemap!AQ15,Cal!$AP$5:$AP$20,0))>0,"*x1*",""),IF(COUNTIFS(Cal!$AU$5:$AU$20,Sitemap!AQ$6,Cal!$AV$5:$AV$20,"<="&Sitemap!$B15,Cal!$AW$5:$AW$20,">="&Sitemap!$B15)>0,"*x2*","")) | AS15: =IFERROR(IF(ISNUMBER(MATCH(AT$6&"-"&$B15,Cal!$AY$5:$AY$20,0)),"*x6*",IF(INDEX(Cal!$O$5:$O$20,MATCH(Sitemap!AT15,Cal!$AP$5:$AP$20,0))>0,"*x1*","")),"") | AT15: =IFERROR(INDEX(Cal!$AP$5:$AP$36,MATCH(Sitemap!AT$6&"-"&Sitemap!$B15,Cal!$AQ$5:$AQ$36,0)),"") | AU15: =IFERROR(IF(INDEX(Cal!$Y$5:$Y$20,MATCH(Sitemap!AT15,Cal!$AP$5:$AP$20,0))>0,"*x1*",""),IF(COUNTIFS(Cal!$AU$5:$AU$20,Sitemap!AT$6,Cal!$AV$5:$AV$20,"<="&Sitemap!$B15,Cal!$AW$5:$AW$20,">="&Sitemap!$B15)>0,"*x2*","")) | AV15: =IFERROR(IF(ISNUMBER(MATCH(#REF!&"-"&$B15,Cal!$AY$5:$AY$20,0)),"*x6*",IF(INDEX(Cal!$O$5:$O$20,MATCH(Sitemap!#REF!,Cal!$AP$5:$AP$20,0))>0,"*x1*","")),"")
B16: 8 | D16: =IFERROR(INDEX(Cal!$AP$5:$AP$36,MATCH(Sitemap!D$6&"-"&Sitemap!$B16,Cal!$AQ$5:$AQ$36,0)),"") | E16: =IFERROR(IF(INDEX(Cal!$Y$5:$Y$20,MATCH(Sitemap!D16,Cal!$AP$5:$AP$20,0))>0,"*x1*",""),IF(COUNTIFS(Cal!$AU$5:$AU$20,Sitemap!D$6,Cal!$AV$5:$AV$20,"<="&Sitemap!$B16,Cal!$AW$5:$AW$20,">="&Sitemap!$B16)>0,"*x2*","")) | F16: =IFERROR(IF(ISNUMBER(MATCH(G$6&"-"&$B16,Cal!$AY$5:$AY$20,0)),"*x6*",IF(INDEX(Cal!$O$5:$O$20,MATCH(Sitemap!G16,Cal!$AP$5:$AP$20,0))>0,"*x1*","")),"") | G16: =IFERROR(INDEX(Cal!$AP$5:$AP$36,MATCH(Sitemap!G$6&"-"&Sitemap!$B16,Cal!$AQ$5:$AQ$36,0)),"") | H16: =IFERROR(IF(INDEX(Cal!$Y$5:$Y$20,MATCH(Sitemap!G16,Cal!$AP$5:$AP$20,0))>0,"*x1*",""),IF(COUNTIFS(Cal!$AU$5:$AU$20,Sitemap!G$6,Cal!$AV$5:$AV$20,"<="&Sitemap!$B16,Cal!$AW$5:$AW$20,">="&Sitemap!$B16)>0,"*x2*","")) -> *x2* | I16: =IFERROR(IF(ISNUMBER(MATCH(J$6&"-"&$B16,Cal!$AY$5:$AY$20,0)),"*x6*",IF(INDEX(Cal!$O$5:$O$20,MATCH(Sitemap!J16,Cal!$AP$5:$AP$20,0))>0,"*x1*","")),"") | J16: =IFERROR(INDEX(Cal!$AP$5:$AP$36,MATCH(Sitemap!J$6&"-"&Sitemap!$B16,Cal!$AQ$5:$AQ$36,0)),"") | K16: =IFERROR(IF(INDEX(Cal!$Y$5:$Y$20,MATCH(Sitemap!J16,Cal!$AP$5:$AP$20,0))>0,"*x1*",""),IF(COUNTIFS(Cal!$AU$5:$AU$20,Sitemap!J$6,Cal!$AV$5:$AV$20,"<="&Sitemap!$B16,Cal!$AW$5:$AW$20,">="&Sitemap!$B16)>0,"*x2*","")) -> *x2* | L16: =IFERROR(IF(ISNUMBER(MATCH(M$6&"-"&$B16,Cal!$AY$5:$AY$20,0)),"*x6*",IF(INDEX(Cal!$O$5:$O$20,MATCH(Sitemap!M16,Cal!$AP$5:$AP$20,0))>0,"*x1*","")),"") | M16: =IFERROR(INDEX(Cal!$AP$5:$AP$36,MATCH(Sitemap!M$6&"-"&Sitemap!$B16,Cal!$AQ$5:$AQ$36,0)),"") | N16: =IFERROR(IF(INDEX(Cal!$Y$5:$Y$20,MATCH(Sitemap!M16,Cal!$AP$5:$AP$20,0))>0,"*x1*",""),IF(COUNTIFS(Cal!$AU$5:$AU$20,Sitemap!M$6,Cal!$AV$5:$AV$20,"<="&Sitemap!$B16,Cal!$AW$5:$AW$20,">="&Sitemap!$B16)>0,"*x2*","")) | O16: =IFERROR(IF(ISNUMBER(MATCH(P$6&"-"&$B16,Cal!$AY$5:$AY$20,0)),"*x6*",IF(INDEX(Cal!$O$5:$O$20,MATCH(Sitemap!P16,Cal!$AP$5:$AP$20,0))>0,"*x1*","")),"") | P16: =IFERROR(INDEX(Cal!$AP$5:$AP$36,MATCH(Sitemap!P$6&"-"&Sitemap!$B16,Cal!$AQ$5:$AQ$36,0)),"") | Q16: =IFERROR(IF(INDEX(Cal!$Y$5:$Y$20,MATCH(Sitemap!P16,Cal!$AP$5:$AP$20,0))>0,"*x1*",""),IF(COUNTIFS(Cal!$AU$5:$AU$20,Sitemap!P$6,Cal!$AV$5:$AV$20,"<="&Sitemap!$B16,Cal!$AW$5:$AW$20,">="&Sitemap!$B16)>0,"*x2*","")) -> *x2* | R16: =IFERROR(IF(ISNUMBER(MATCH(S$6&"-"&$B16,Cal!$AY$5:$AY$20,0)),"*x6*",IF(INDEX(Cal!$O$5:$O$20,MATCH(Sitemap!S16,Cal!$AP$5:$AP$20,0))>0,"*x1*","")),"") | S16: =IFERROR(INDEX(Cal!$AP$5:$AP$36,MATCH(Sitemap!S$6&"-"&Sitemap!$B16,Cal!$AQ$5:$AQ$36,0)),"") | T16: =IFERROR(IF(INDEX(Cal!$Y$5:$Y$20,MATCH(Sitemap!S16,Cal!$AP$5:$AP$20,0))>0,"*x1*",""),IF(COUNTIFS(Cal!$AU$5:$AU$20,Sitemap!S$6,Cal!$AV$5:$AV$20,"<="&Sitemap!$B16,Cal!$AW$5:$AW$20,">="&Sitemap!$B16)>0,"*x2*","")) | U16: =IFERROR(IF(ISNUMBER(MATCH(V$6&"-"&$B16,Cal!$AY$5:$AY$20,0)),"*x6*",IF(INDEX(Cal!$O$5:$O$20,MATCH(Sitemap!V16,Cal!$AP$5:$AP$20,0))>0,"*x1*","")),"") | V16: =IFERROR(INDEX(Cal!$AP$5:$AP$36,MATCH(Sitemap!V$6&"-"&Sitemap!$B16,Cal!$AQ$5:$AQ$36,0)),"") | W16: =IFERROR(IF(INDEX(Cal!$Y$5:$Y$20,MATCH(Sitemap!V16,Cal!$AP$5:$AP$20,0))>0,"*x1*",""),IF(COUNTIFS(Cal!$AU$5:$AU$20,Sitemap!V$6,Cal!$AV$5:$AV$20,"<="&Sitemap!$B16,Cal!$AW$5:$AW$20,">="&Sitemap!$B16)>0,"*x2*","")) | X16: =IFERROR(IF(ISNUMBER(MATCH(Y$6&"-"&$B16,Cal!$AY$5:$AY$20,0)),"*x6*",IF(INDEX(Cal!$O$5:$O$20,MATCH(Sitemap!Y16,Cal!$AP$5:$AP$20,0))>0,"*x1*","")),"") | Y16: =IFERROR(INDEX(Cal!$AP$5:$AP$36,MATCH(Sitemap!Y$6&"-"&Sitemap!$B16,Cal!$AQ$5:$AQ$36,0)),"") | Z16: =IFERROR(IF(INDEX(Cal!$Y$5:$Y$20,MATCH(Sitemap!Y16,Cal!$AP$5:$AP$20,0))>0,"*x1*",""),IF(COUNTIFS(Cal!$AU$5:$AU$20,Sitemap!Y$6,Cal!$AV$5:$AV$20,"<="&Sitemap!$B16,Cal!$AW$5:$AW$20,">="&Sitemap!$B16)>0,"*x2*","")) | AA16: =IFERROR(IF(ISNUMBER(MATCH(AB$6&"-"&$B16,Cal!$AY$5:$AY$20,0)),"*x6*",IF(INDEX(Cal!$O$5:$O$20,MATCH(Sitemap!AB16,Cal!$AP$5:$AP$20,0))>0,"*x1*","")),"") | AB16: =IFERROR(INDEX(Cal!$AP$5:$AP$36,MATCH(Sitemap!AB$6&"-"&Sitemap!$B16,Cal!$AQ$5:$AQ$36,0)),"") | AC16: =IFERROR(IF(INDEX(Cal!$Y$5:$Y$20,MATCH(Sitemap!AB16,Cal!$AP$5:$AP$20,0))>0,"*x1*",""),IF(COUNTIFS(Cal!$AU$5:$AU$20,Sitemap!AB$6,Cal!$AV$5:$AV$20,"<="&Sitemap!$B16,Cal!$AW$5:$AW$20,">="&Sitemap!$B16)>0,"*x2*","")) | AD16: =IFERROR(IF(ISNUMBER(MATCH(AE$6&"-"&$B16,Cal!$AY$5:$AY$20,0)),"*x6*",IF(INDEX(Cal!$O$5:$O$20,MATCH(Sitemap!AE16,Cal!$AP$5:$AP$20,0))>0,"*x1*","")),"") | AE16: =IFERROR(INDEX(Cal!$AP$5:$AP$36,MATCH(Sitemap!AE$6&"-"&Sitemap!$B16,Cal!$AQ$5:$AQ$36,0)),"") | AF16: =IFERROR(IF(INDEX(Cal!$Y$5:$Y$20,MATCH(Sitemap!AE16,Cal!$AP$5:$AP$20,0))>0,"*x1*",""),IF(COUNTIFS(Cal!$AU$5:$AU$20,Sitemap!AE$6,Cal!$AV$5:$AV$20,"<="&Sitemap!$B16,Cal!$AW$5:$AW$20,">="&Sitemap!$B16)>0,"*x2*","")) | AG16: =IFERROR(IF(ISNUMBER(MATCH(AH$6&"-"&$B16,Cal!$AY$5:$AY$20,0)),"*x6*",IF(INDEX(Cal!$O$5:$O$20,MATCH(Sitemap!AH16,Cal!$AP$5:$AP$20,0))>0,"*x1*","")),"") | AH16: =IFERROR(INDEX(Cal!$AP$5:$AP$36,MATCH(Sitemap!AH$6&"-"&Sitemap!$B16,Cal!$AQ$5:$AQ$36,0)),"") | AI16: =IFERROR(IF(INDEX(Cal!$Y$5:$Y$20,MATCH(Sitemap!AH16,Cal!$AP$5:$AP$20,0))>0,"*x1*",""),IF(COUNTIFS(Cal!$AU$5:$AU$20,Sitemap!AH$6,Cal!$AV$5:$AV$20,"<="&Sitemap!$B16,Cal!$AW$5:$AW$20,">="&Sitemap!$B16)>0,"*x2*","")) | AJ16: =IFERROR(IF(ISNUMBER(MATCH(AK$6&"-"&$B16,Cal!$AY$5:$AY$20,0)),"*x6*",IF(INDEX(Cal!$O$5:$O$20,MATCH(Sitemap!AK16,Cal!$AP$5:$AP$20,0))>0,"*x1*","")),"") | AK16: =IFERROR(INDEX(Cal!$AP$5:$AP$36,MATCH(Sitemap!AK$6&"-"&Sitemap!$B16,Cal!$AQ$5:$AQ$36,0)),"") | AL16: =IFERROR(IF(INDEX(Cal!$Y$5:$Y$20,MATCH(Sitemap!AK16,Cal!$AP$5:$AP$20,0))>0,"*x1*",""),IF(COUNTIFS(Cal!$AU$5:$AU$20,Sitemap!AK$6,Cal!$AV$5:$AV$20,"<="&Sitemap!$B16,Cal!$AW$5:$AW$20,">="&Sitemap!$B16)>0,"*x2*","")) | AM16: =IFERROR(IF(ISNUMBER(MATCH(AN$6&"-"&$B16,Cal!$AY$5:$AY$20,0)),"*x6*",IF(INDEX(Cal!$O$5:$O$20,MATCH(Sitemap!AN16,Cal!$AP$5:$AP$20,0))>0,"*x1*","")),"") | AN16: =IFERROR(INDEX(Cal!$AP$5:$AP$36,MATCH(Sitemap!AN$6&"-"&Sitemap!$B16,Cal!$AQ$5:$AQ$36,0)),"") | AO16: =IFERROR(IF(INDEX(Cal!$Y$5:$Y$20,MATCH(Sitemap!AN16,Cal!$AP$5:$AP$20,0))>0,"*x1*",""),IF(COUNTIFS(Cal!$AU$5:$AU$20,Sitemap!AN$6,Cal!$AV$5:$AV$20,"<="&Sitemap!$B16,Cal!$AW$5:$AW$20,">="&Sitemap!$B16)>0,"*x2*","")) | AP16: =IFERROR(IF(ISNUMBER(MATCH(AQ$6&"-"&$B16,Cal!$AY$5:$AY$20,0)),"*x6*",IF(INDEX(Cal!$O$5:$O$20,MATCH(Sitemap!AQ16,Cal!$AP$5:$AP$20,0))>0,"*x1*","")),"") | AQ16: =IFERROR(INDEX(Cal!$AP$5:$AP$36,MATCH(Sitemap!AQ$6&"-"&Sitemap!$B16,Cal!$AQ$5:$AQ$36,0)),"") | AR16: =IFERROR(IF(INDEX(Cal!$Y$5:$Y$20,MATCH(Sitemap!AQ16,Cal!$AP$5:$AP$20,0))>0,"*x1*",""),IF(COUNTIFS(Cal!$AU$5:$AU$20,Sitemap!AQ$6,Cal!$AV$5:$AV$20,"<="&Sitemap!$B16,Cal!$AW$5:$AW$20,">="&Sitemap!$B16)>0,"*x2*","")) | AS16: =IFERROR(IF(ISNUMBER(MATCH(AT$6&"-"&$B16,Cal!$AY$5:$AY$20,0)),"*x6*",IF(INDEX(Cal!$O$5:$O$20,MATCH(Sitemap!AT16,Cal!$AP$5:$AP$20,0))>0,"*x1*","")),"") | AT16: =IFERROR(INDEX(Cal!$AP$5:$AP$36,MATCH(Sitemap!AT$6&"-"&Sitemap!$B16,Cal!$AQ$5:$AQ$36,0)),"") | AU16: =IFERROR(IF(INDEX(Cal!$Y$5:$Y$20,MATCH(Sitemap!AT16,Cal!$AP$5:$AP$20,0))>0,"*x1*",""),IF(COUNTIFS(Cal!$AU$5:$AU$20,Sitemap!AT$6,Cal!$AV$5:$AV$20,"<="&Sitemap!$B16,Cal!$AW$5:$AW$20,">="&Sitemap!$B16)>0,"*x2*","")) | AV16: =IFERROR(IF(ISNUMBER(MATCH(#REF!&"-"&$B16,Cal!$AY$5:$AY$20,0)),"*x6*",IF(INDEX(Cal!$O$5:$O$20,MATCH(Sitemap!#REF!,Cal!$AP$5:$AP$20,0))>0,"*x1*","")),"")
