Workbook
Name Category: Dashboard!$C$8
Name dact: OFFSET(Cal!$BD$20,,,Cal!$BC$19)
Name Dactual: OFFSET(Cal!$AX$9,,,,Cal!$BJ$7)
Name dresp: OFFSET(Cal!$BC$20,,,Cal!$BC$19)
Name dsipoc: OFFSET(Cal!$AW$41,,,,Cal!$BB$41)
Name dstatus: OFFSET(Cal!$AW$16,,,,Cal!$BD$16)
Name Dtarget: OFFSET(Cal!$AX$8,,,,Cal!$BJ$7)
Name Item: Dashboard!$E$8
Name Mcategory: Dashboard!$I$22
Name Metric: Dashboard!$K$22
Name Month: Dashboard!$I$8
Name Process1: Menu!$C$10
Name Process2: Menu!$E$10
Name Process3: Menu!$G$10
Name Process4: Menu!$I$10
Name Process5: Menu!$K$10
Name Process6: Menu!$M$10
Name Responsible: Dashboard!$G$8
Name Status: Dashboard!$K$8

Sheet Menu
C2: SIPOC DIAGRAM EXCEL TEMPLATE
C3: MENU
C7: PROCESS FLOW
C9: 1. Step of the process | E9: 2. Step of the process | G9: 3. Step of the process | I9: 4. Step of the process | K9: 5. Step of the process | M9: 6. Step of the process
C10: Customer goes to the queue | E10: Customer orders the coffee | G10: Preparation of coffee | I10: Serving the order
C12: NAVIGATION | K12: SETTINGS
C14: INPUT FIELD | I14: OUTPUT FIELD | K14: Responsible | M14: Action Status
K15: Jemima Begum | M15: Not Started
K16: Mercedes Banks | M16: In Progress
K17: Macauley Peck | M17: Finished
K18: Hannah Shaw | M18: Cancelled
K19: Brad Pitt

Sheet InputList
B2: SIPOC DIAGRAM EXCEL TEMPLATE
B3: INPUT & SUPPLIER
B6: Process Flow --> | C6: =IFERROR(IF(LEN(Cond!W21)=0,"",Cond!W21),"") -> Customer goes to the queue | D6: =IFERROR(IF(LEN(Cond!W22)=0,"",Cond!W22),"") -> Customer orders the coffee | E6: =IFERROR(IF(LEN(Cond!W23)=0,"",Cond!W23),"") -> Preparation of coffee | F6: =IFERROR(IF(LEN(Cond!W24)=0,"",Cond!W24),"") -> Serving the order | G6: =IFERROR(IF(LEN(Cond!W25)=0,"",Cond!W25),"") | H6: =IFERROR(IF(LEN(Cond!W21)=0,"",Cond!W26),"")
B8: INPUT & PROCESS RELATION
B10: INPUTS | C10: PROCESSES USED IN
B11: Queue | C11: Customer goes to the queue
B12: Money | C12: Customer orders the coffee
B13: Coffee beans | C13: Preparation of coffee
B14: Ingredients ( Milk, Sugar, Chocolate etc.) | C14: Preparation of coffee
B15: Cookie | C15: Serving the order
B16: Supplies(Cup, tissue, straw etc.) | C16: Serving the order
B22: SUPPLIER & INPUT RELATION
B24: SUPPLIERS | C24: INPUTS SUPPLIED
B25: Customer | C25: Money | D25: Queue
B26: Cashier | C26: Money
B27: Manufacturer | C27: Coffee beans | D27: Cookie | E27: Supplies(Cup, tissue, straw etc.) | F27: Ingredients ( Milk, Sugar, Chocolate etc.)

Sheet OutputList
B2: SIPOC DIAGRAM EXCEL TEMPLATE
B3: OUTPUT &CUSTOMER
B6: Process Flow --> | C6: =IFERROR(IF(LEN(Cond!W21)=0,"",Cond!W21),"") -> Customer goes to the queue | D6: =IFERROR(IF(LEN(Cond!W22)=0,"",Cond!W22),"") -> Customer orders the coffee | E6: =IFERROR(IF(LEN(Cond!W23)=0,"",Cond!W23),"") -> Preparation of coffee | F6: =IFERROR(IF(LEN(Cond!W24)=0,"",Cond!W24),"") -> Serving the order | G6: =IFERROR(IF(LEN(Cond!W25)=0,"",Cond!W25),"") | H6: =IFERROR(IF(LEN(Cond!W21)=0,"",Cond!W26),"")
B8: OUTPUT LIST
B10: OUTPUTS | C10: PROVIDED BY PROCESSES
B11: Giving a queue number | C11: Customer goes to the queue
B12: Bill | C12: Customer orders the coffee
B13: Order details | C13: Customer orders the coffee
B14: Coffee | C14: Preparation of coffee
B15: Order | C15: Serving the order
B22: CUSTOMER LIST
B24: CUSTOMERS | C24: OUTPUTS RECEIVED
B25: Customer | C25: Giving a queue number | D25: Bill | E25: Coffee | F25: Order
B26: Barista | C26: Order details

Sheet Sipoc
C2: SIPOC DIAGRAM EXCEL TEMPLATE
C3: SIPOC
C6: S | O6: I | AA6: P | AM6: O | AY6: C
C8: =IF(ISNUMBER(MATCH(Cond!AJ7,Cond!$AH$7:$AH$16,0)),Cond!AK7,"") | O8: =IF(ISNUMBER(MATCH(Cond!AJ7,Cond!$AH$19:$AH$28,0)),Cond!AO7,"") -> Queue | AA8: =IF(ISNUMBER(MATCH(Cond!AJ7,Cond!$AH$31:$AH$40,0)),Cond!AS7,"") -> Customer goes to the queue | AM8: =IF(ISNUMBER(MATCH(Cond!AJ7,Cond!$AH$43:$AH$52,0)),Cond!AW7,"") -> Giving a queue number | AY8: =IF(ISNUMBER(MATCH(Cond!AJ7,Cond!$AH$55:$AH$64,0)),Cond!BA7,"")
C9: =IF(ISNUMBER(MATCH(Cond!AJ8,Cond!$AH$7:$AH$16,0)),Cond!AK8,"") -> Customer | O9: =IF(ISNUMBER(MATCH(Cond!AJ8,Cond!$AH$19:$AH$28,0)),Cond!AO8,"") | AA9: =IF(ISNUMBER(MATCH(Cond!AJ8,Cond!$AH$31:$AH$40,0)),Cond!AS8,"") | AM9: =IF(ISNUMBER(MATCH(Cond!AJ8,Cond!$AH$43:$AH$52,0)),Cond!AW8,"") | AY9: =IF(ISNUMBER(MATCH(Cond!AJ8,Cond!$AH$55:$AH$64,0)),Cond!BA8,"")
C10: =IF(ISNUMBER(MATCH(Cond!AJ9,Cond!$AH$7:$AH$16,0)),Cond!AK9,"") | O10: =IF(ISNUMBER(MATCH(Cond!AJ9,Cond!$AH$19:$AH$28,0)),Cond!AO9,"") | AA10: =IF(ISNUMBER(MATCH(Cond!AJ9,Cond!$AH$31:$AH$40,0)),Cond!AS9,"") | AM10: =IF(ISNUMBER(MATCH(Cond!AJ9,Cond!$AH$43:$AH$52,0)),Cond!AW9,"") | AY10: =IF(ISNUMBER(MATCH(Cond!AJ9,Cond!$AH$55:$AH$64,0)),Cond!BA9,"") -> Customer
C11: =IF(ISNUMBER(MATCH(Cond!AJ10,Cond!$AH$7:$AH$16,0)),Cond!AK10,"") | O11: =IF(ISNUMBER(MATCH(Cond!AJ10,Cond!$AH$19:$AH$28,0)),Cond!AO10,"") | AA11: =IF(ISNUMBER(MATCH(Cond!AJ10,Cond!$AH$31:$AH$40,0)),Cond!AS10,"") | AM11: =IF(ISNUMBER(MATCH(Cond!AJ10,Cond!$AH$43:$AH$52,0)),Cond!AW10,"") -> Bill | AY11: =IF(ISNUMBER(MATCH(Cond!AJ10,Cond!$AH$55:$AH$64,0)),Cond!BA10,"")
C12: =IF(ISNUMBER(MATCH(Cond!AJ11,Cond!$AH$7:$AH$16,0)),Cond!AK11,"") -> Cashier | O12: =IF(ISNUMBER(MATCH(Cond!AJ11,Cond!$AH$19:$AH$28,0)),Cond!AO11,"") -> Money | AA12: =IF(ISNUMBER(MATCH(Cond!AJ11,Cond!$AH$31:$AH$40,0)),Cond!AS11,"") -> Customer orders the coffee | AM12: =IF(ISNUMBER(MATCH(Cond!AJ11,Cond!$AH$43:$AH$52,0)),Cond!AW11,"") | AY12: =IF(ISNUMBER(MATCH(Cond!AJ11,Cond!$AH$55:$AH$64,0)),Cond!BA11,"")
C13: =IF(ISNUMBER(MATCH(Cond!AJ12,Cond!$AH$7:$AH$16,0)),Cond!AK12,"") | O13: =IF(ISNUMBER(MATCH(Cond!AJ12,Cond!$AH$19:$AH$28,0)),Cond!AO12,"") | AA13: =IF(ISNUMBER(MATCH(Cond!AJ12,Cond!$AH$31:$AH$40,0)),Cond!AS12,"") | AM13: =IF(ISNUMBER(MATCH(Cond!AJ12,Cond!$AH$43:$AH$52,0)),Cond!AW12,"") | AY13: =IF(ISNUMBER(MATCH(Cond!AJ12,Cond!$AH$55:$AH$64,0)),Cond!BA12,"")
C14: =IF(ISNUMBER(MATCH(Cond!AJ13,Cond!$AH$7:$AH$16,0)),Cond!AK13,"") | O14: =IF(ISNUMBER(MATCH(Cond!AJ13,Cond!$AH$19:$AH$28,0)),Cond!AO13,"") | AA14: =IF(ISNUMBER(MATCH(Cond!AJ13,Cond!$AH$31:$AH$40,0)),Cond!AS13,"") | AM14: =IF(ISNUMBER(MATCH(Cond!AJ13,Cond!$AH$43:$AH$52,0)),Cond!AW13,"") -> Order details | AY14: =IF(ISNUMBER(MATCH(Cond!AJ13,Cond!$AH$55:$AH$64,0)),Cond!BA13,"") -> Barista
C15: =IF(ISNUMBER(MATCH(Cond!AJ14,Cond!$AH$7:$AH$16,0)),Cond!AK14,"") | O15: =IF(ISNUMBER(MATCH(Cond!AJ14,Cond!$AH$19:$AH$28,0)),Cond!AO14,"") -> Coffee beans | AA15: =IF(ISNUMBER(MATCH(Cond!AJ14,Cond!$AH$31:$AH$40,0)),Cond!AS14,"") | AM15: =IF(ISNUMBER(MATCH(Cond!AJ14,Cond!$AH$43:$AH$52,0)),Cond!AW14,"") | AY15: =IF(ISNUMBER(MATCH(Cond!AJ14,Cond!$AH$55:$AH$64,0)),Cond!BA14,"")
C16: =IF(ISNUMBER(MATCH(Cond!AJ15,Cond!$AH$7:$AH$16,0)),Cond!AK15,"") | O16: =IF(ISNUMBER(MATCH(Cond!AJ15,Cond!$AH$19:$AH$28,0)),Cond!AO15,"") | AA16: =IF(ISNUMBER(MATCH(Cond!AJ15,Cond!$AH$31:$AH$40,0)),Cond!AS15,"") -> Preparation of coffee | AM16: =IF(ISNUMBER(MATCH(Cond!AJ15,Cond!$AH$43:$AH$52,0)),Cond!AW15,"") | AY16: =IF(ISNUMBER(MATCH(Cond!AJ15,Cond!$AH$55:$AH$64,0)),Cond!BA15,"")
C17: =IF(ISNUMBER(MATCH(Cond!AJ16,Cond!$AH$7:$AH$16,0)),Cond!AK16,"") -> Manufacturer | O17: =IF(ISNUMBER(MATCH(Cond!AJ16,Cond!$AH$19:$AH$28,0)),Cond!AO16,"") | AA17: =IF(ISNUMBER(MATCH(Cond!AJ16,Cond!$AH$31:$AH$40,0)),Cond!AS16,"") | AM17: =IF(ISNUMBER(MATCH(Cond!AJ16,Cond!$AH$43:$AH$52,0)),Cond!AW16,"") -> Coffee | AY17: =IF(ISNUMBER(MATCH(Cond!AJ16,Cond!$AH$55:$AH$64,0)),Cond!BA16,"")
C18: =IF(ISNUMBER(MATCH(Cond!AJ17,Cond!$AH$7:$AH$16,0)),Cond!AK17,"") | O18: =IF(ISNUMBER(MATCH(Cond!AJ17,Cond!$AH$19:$AH$28,0)),Cond!AO17,"") -> Ingredients ( Milk, Sugar, Chocolate etc.) | AA18: =IF(ISNUMBER(MATCH(Cond!AJ17,Cond!$AH$31:$AH$40,0)),Cond!AS17,"") | AM18: =IF(ISNUMBER(MATCH(Cond!AJ17,Cond!$AH$43:$AH$52,0)),Cond!AW17,"") | AY18: =IF(ISNUMBER(MATCH(Cond!AJ17,Cond!$AH$55:$AH$64,0)),Cond!BA17,"")
C19: =IF(ISNUMBER(MATCH(Cond!AJ18,Cond!$AH$7:$AH$16,0)),Cond!AK18,"") | O19: =IF(ISNUMBER(MATCH(Cond!AJ18,Cond!$AH$19:$AH$28,0)),Cond!AO18,"") | AA19: =IF(ISNUMBER(MATCH(Cond!AJ18,Cond!$AH$31:$AH$40,0)),Cond!AS18,"") | AM19: =IF(ISNUMBER(MATCH(Cond!AJ18,Cond!$AH$43:$AH$52,0)),Cond!AW18,"") | AY19: =IF(ISNUMBER(MATCH(Cond!AJ18,Cond!$AH$55:$AH$64,0)),Cond!BA18,"")
... C127: =IF(ISNUMBER(MATCH(Cond!AJ126,Cond!$AH$7:$AH$16,0)),Cond!AK126,"") | O127: =IF(ISNUMBER(MATCH(Cond!AJ126,Cond!$AH$19:$AH$28,0)),Cond!AO126,"") | AA127: =IF(ISNUMBER(MATCH(Cond!AJ126,Cond!$AH$31:$AH$40,0)),Cond!AS126,"") | AM127: =IF(ISNUMBER(MATCH(Cond!AJ126,Cond!$AH$43:$AH$52,0)),Cond!AW126,"") | AY127: =IF(ISNUMBER(MATCH(Cond!AJ126,Cond!$AH$55:$AH$64,0)),Cond!BA126,"")

Sheet MetricList
B2: SIPOC DIAGRAM EXCEL TEMPLATE
B3: TARGET & ACTUALIZATION
B6: Category | C6: Supplier | D6: Month | E6: Jan | F6: Feb | G6: Mar | H6: Apr | I6: May | J6: Jun | K6: Jul | L6: Aug | M6: Sep | N6: Oct | O6: Nov | P6: Dec
B7: Name | C7: Cashier | D7: Target | E7: 14 | F7: 14 | G7: 14 | H7: 14 | I7: 14 | J7: 14 | K7: 14 | L7: 14 | M7: 14 | N7: 14 | O7: 14 | P7: 14
B8: Target Name | C8: Average time spent to customer (mins) | D8: Actualization | E8: 13 | F8: 12 | G8: 11 | H8: 11 | I8: 13 | J8: 12
B10: Category | C10: Supplier | D10: Month | E10: Jan | F10: Feb | G10: Mar | H10: Apr | I10: May | J10: Jun | K10: Jul | L10: Aug | M10: Sep | N10: Oct | O10: Nov | P10: Dec
B11: Name | C11: Manufacturer | D11: Target | E11: 5 | F11: 5 | G11: 5 | H11: 5 | I11: 5 | J11: 5 | K11: 5 | L11: 5 | M11: 5 | N11: 5 | O11: 5 | P11: 5
B12: Target Name | C12: Average arrival time for supply (days) | D12: Actualization | E12: 6 | F12: 5.9 | G12: 5.6 | H12: 5.2 | I12: 4.9 | J12: 5
B14: Category | C14: Input | D14: Month | E14: Jan | F14: Feb | G14: Mar | H14: Apr | I14: May | J14: Jun | K14: Jul | L14: Aug | M14: Sep | N14: Oct | O14: Nov | P14: Dec
B15: Name | C15: Queue | D15: Target | E15: 0.03 | F15: 0.03 | G15: 0.03 | H15: 0.03 | I15: 0.03 | J15: 0.03 | K15: 0.03 | L15: 0.03 | M15: 0.03 | N15: 0.03 | O15: 0.03 | P15: 0.03
B16: Target Name | C16: Average waiting time in queue | D16: Actualization | E16: 0.04 | F16: 0.03 | G16: 0.05 | H16: 0.06 | I16: 0.05 | J16: 0.05
B18: Category | C18: Input | D18: Month | E18: Jan | F18: Feb | G18: Mar | H18: Apr | I18: May | J18: Jun | K18: Jul | L18: Aug | M18: Sep | N18: Oct | O18: Nov | P18: Dec
B19: Name | C19: Supplies(Cup, tissue, straw etc.) | D19: Target | E19: 16 | F19: 16 | G19: 16 | H19: 16 | I19: 16 | J19: 16 | K19: 16 | L19: 16 | M19: 16 | N19: 16 | O19: 16 | P19: 16
B20: Target Name | C20: Maximum defect rate (Ratio) | D20: Actualization | E20: 15.96 | F20: 16.12 | G20: 16.02 | H20: 16.02 | I20: 15.92 | J20: 16
B22: Category | C22: Input | D22: Month | E22: Jan | F22: Feb | G22: Mar | H22: Apr | I22: May | J22: Jun | K22: Jul | L22: Aug | M22: Sep | N22: Oct | O22: Nov | P22: Dec
B23: Name | C23: Cookie | D23: Target | E23: 3.6 | F23: 3.6 | G23: 3.6 | H23: 3.6 | I23: 3.6 | J23: 3.6 | K23: 3.6 | L23: 3.6 | M23: 3.6 | N23: 3.6 | O23: 3.6 | P23: 3.6
B24: Target Name | C24: Average weight ( grams) | D24: Actualization | E24: 4 | F24: 3.85 | G24: 3.6 | H24: 3.5 | I24: 3.5 | J24: 3.52
B26: Category | C26: Process | D26: Month | E26: Jan | F26: Feb | G26: Mar | H26: Apr | I26: May | J26: Jun | K26: Jul | L26: Aug | M26: Sep | N26: Oct | O26: Nov | P26: Dec
B27: Name | C27: Preparation of coffee | D27: Target | E27: 250 | F27: 250 | G27: 250 | H27: 250 | I27: 250 | J27: 250 | K27: 250 | L27: 250 | M27: 250 | N27: 250 | O27: 250 | P27: 250
B28: Target Name | C28: Average preparation time (mins) | D28: Actualization | E28: 260 | F28: 270 | G28: 260 | H28: 255 | I28: 240 | J28: 265
B30: Category | C30: Process | D30: Month | E30: Jan | F30: Feb | G30: Mar | H30: Apr | I30: May | J30: Jun | K30: Jul | L30: Aug | M30: Sep | N30: Oct | O30: Nov | P30: Dec
B31: Name | C31: Customer orders the coffee | D31: Target | E31: 5 | F31: 5 | G31: 5 | H31: 5 | I31: 5 | J31: 5 | K31: 5 | L31: 5 | M31: 5 | N31: 5 | O31: 5 | P31: 5
B32: Target Name | C32: Minimum Received Order number (day) | D32: Actualization | E32: 0 | F32: 0 | G32: 1 | H32: 3 | I32: 3 | J32: 2
B34: Category | C34: Customer | D34: Month | E34: Jan | F34: Feb | G34: Mar | H34: Apr | I34: May | J34: Jun | K34: Jul | L34: Aug | M34: Sep | N34: Oct | O34: Nov | P34: Dec
B35: Name | C35: Customer | D35: Target | E35: 60 | F35: 60 | G35: 60 | H35: 60 | I35: 60 | J35: 60 | K35: 60 | L35: 60 | M35: 60 | N35: 60 | O35: 60 | P35: 60
B36: Target Name | C36: Number of negative comment | D36: Actualization | E36: 30 | F36: 32 | G36: 36 | H36: 52 | I36: 55 | J36: 62
B38: Category | C38: Customer | D38: Month | E38: Jan | F38: Feb | G38: Mar | H38: Apr | I38: May | J38: Jun | K38: Jul | L38: Aug | M38: Sep | N38: Oct | O38: Nov | P38: Dec
B39: Name | C39: Customer | D39: Target
B40: Target Name | C40: Number of positive comment | D40: Actualization
B42: Category | D42: Month | E42: Jan | F42: Feb | G42: Mar | H42: Apr | I42: May | J42: Jun | K42: Jul | L42: Aug | M42: Sep | N42: Oct | O42: Nov | P42: Dec
B43: Name | D43: Target
B44: Target Name | D44: Actualization
B46: Category | D46: Month | E46: Jan | F46: Feb | G46: Mar | H46: Apr | I46: May | J46: Jun | K46: Jul | L46: Aug | M46: Sep | N46: Oct | O46: Nov | P46: Dec
B47: Name | D47: Target
B48: Target Name | D48: Actualization
B50: Category | D50: Month | E50: Jan | F50: Feb | G50: Mar | H50: Apr | I50: May | J50: Jun | K50: Jul | L50: Aug | M50: Sep | N50: Oct | O50: Nov | P50: Dec
B51: Name | D51: Target
B52: Target Name | D52: Actualization
B54: Category | D54: Month | E54: Jan | F54: Feb | G54: Mar | H54: Apr | I54: May | J54: Jun | K54: Jul | L54: Aug | M54: Sep | N54: Oct | O54: Nov | P54: Dec
B55: Name | D55: Target
...

Sheet ActionList
B2: SIPOC DIAGRAM EXCEL TEMPLATE
B3: ACTION LIST
B5: Category | C5: Item Name | D5: Target Name | E5: Action | F5: Responsible Person | G5: Due Date | H5: Progress (%) | I5: Status
B6: =IFERROR(INDEX(Cal!$D$5:$D$506,MATCH(ActionList!D6,Cal!$D$7:$D$506,0)),"") -> Supplier | C6: =IFERROR(INDEX(Cal!$D$5:$D$506,MATCH(ActionList!D6,Cal!$D$6:$D$506,0)),"") -> Cashier | D6: Average time spent to customer (mins) | E6: Prepare a menu list and spread it to the queue | F6: Jemima Begum | G6: 44959 | H6: 100 | I6: Finished
B7: =IFERROR(INDEX(Cal!$D$5:$D$506,MATCH(ActionList!D7,Cal!$D$7:$D$506,0)),"") -> Supplier | C7: =IFERROR(INDEX(Cal!$D$5:$D$506,MATCH(ActionList!D7,Cal!$D$6:$D$506,0)),"") -> Manufacturer | D7: Average arrival time for supply (days) | E7: Set a system that tracks time between ordering and loading | F7: Mercedes Banks | G7: 45200 | H7: 30 | I7: Cancelled
B8: =IFERROR(INDEX(Cal!$D$5:$D$506,MATCH(ActionList!D8,Cal!$D$7:$D$506,0)),"") -> Input | C8: =IFERROR(INDEX(Cal!$D$5:$D$506,MATCH(ActionList!D8,Cal!$D$6:$D$506,0)),"") -> Queue | D8: Average waiting time in queue | E8: Hire new cashier | F8: Mercedes Banks | G8: 45037 | H8: 100 | I8: Finished
B9: =IFERROR(INDEX(Cal!$D$5:$D$506,MATCH(ActionList!D9,Cal!$D$7:$D$506,0)),"") -> Input | C9: =IFERROR(INDEX(Cal!$D$5:$D$506,MATCH(ActionList!D9,Cal!$D$6:$D$506,0)),"") -> Queue | D9: Average waiting time in queue | E9: Educate other to work as cashier | F9: Mercedes Banks | G9: 45170 | H9: 20 | I9: In Progress
B10: =IFERROR(INDEX(Cal!$D$5:$D$506,MATCH(ActionList!D10,Cal!$D$7:$D$506,0)),"") -> Input | C10: =IFERROR(INDEX(Cal!$D$5:$D$506,MATCH(ActionList!D10,Cal!$D$6:$D$506,0)),"") -> Supplies(Cup, tissue, straw etc.) | D10: Maximum defect rate (Ratio) | E10: Create a complaint to the manufacturer Customer Experience System | F10: Hannah Shaw | G10: 44987 | H10: 100 | I10: Finished
B11: =IFERROR(INDEX(Cal!$D$5:$D$506,MATCH(ActionList!D11,Cal!$D$7:$D$506,0)),"") -> Input | C11: =IFERROR(INDEX(Cal!$D$5:$D$506,MATCH(ActionList!D11,Cal!$D$6:$D$506,0)),"") -> Cookie | D11: Average weight ( grams) | E11: Purchase a new kitchen scales make calibration | F11: Brad Pitt | G11: 44969 | H11: 70 | I11: In Progress
B12: =IFERROR(INDEX(Cal!$D$5:$D$506,MATCH(ActionList!D12,Cal!$D$7:$D$506,0)),"") -> Process | C12: =IFERROR(INDEX(Cal!$D$5:$D$506,MATCH(ActionList!D12,Cal!$D$6:$D$506,0)),"") -> Preparation of coffee | D12: Average preparation time (mins) | E12: Apply 5S techniques | F12: Macauley Peck | G12: 45078 | H12: 0 | I12: Not Started
B13: =IFERROR(INDEX(Cal!$D$5:$D$506,MATCH(ActionList!D13,Cal!$D$7:$D$506,0)),"") -> Process | C13: =IFERROR(INDEX(Cal!$D$5:$D$506,MATCH(ActionList!D13,Cal!$D$6:$D$506,0)),"") -> Customer orders the coffee | D13: Minimum Received Order number (day) | E13: Find new marketing channels and us them | F13: Hannah Shaw | G13: 44652 | H13: 60 | I13: In Progress
B14: =IFERROR(INDEX(Cal!$D$5:$D$506,MATCH(ActionList!D14,Cal!$D$7:$D$506,0)),"") -> Customer | C14: =IFERROR(INDEX(Cal!$D$5:$D$506,MATCH(ActionList!D14,Cal!$D$6:$D$506,0)),"") -> Customer | D14: Number of positive comment | E14: Promote 5% discount if the customer put comment to comment box | F14: Jemima Begum | G14: 44927 | H14: 100 | I14: Finished
B15: =IFERROR(INDEX(Cal!$D$5:$D$506,MATCH(ActionList!D15,Cal!$D$7:$D$506,0)),"") -> Customer | C15: =IFERROR(INDEX(Cal!$D$5:$D$506,MATCH(ActionList!D15,Cal!$D$6:$D$506,0)),"") -> Customer | D15: Number of negative comment | E15: Categorize the comments and prepare action to solve | F15: Macauley Peck | G15: 44927 | H15: 30 | I15: In Progress
B16: =IFERROR(INDEX(Cal!$D$5:$D$506,MATCH(ActionList!D16,Cal!$D$7:$D$506,0)),"") | C16: =IFERROR(INDEX(Cal!$D$5:$D$506,MATCH(ActionList!D16,Cal!$D$6:$D$506,0)),"")
B17: =IFERROR(INDEX(Cal!$D$5:$D$506,MATCH(ActionList!D17,Cal!$D$7:$D$506,0)),"") | C17: =IFERROR(INDEX(Cal!$D$5:$D$506,MATCH(ActionList!D17,Cal!$D$6:$D$506,0)),"")

Sheet Dashboard
C2: SIPOC DIAGRAM EXCEL TEMPLATE
C3: DASHBOARD
C7: Category | E7: Step Name | G7: Responsible Person | I7: Month | K7: Status
C8: All | E8: All | G8: All | I8: All | K8: All
I21: Category | K21: Target Name
I22: Customer | K22: Maximum defect rate (Ratio)

Sheet Cond
U3: Max | V3: Max | W3: Max | X3: Max | Y3: Max | BE3: Multiplier | BF3: 0 | BG3: 0 | BH3: 0 | BI3: 0 | BJ3: 0 | BK3: 0 | BL3: 0 | BM3: 0 | BN3: 0 | BO3: 0 | BP3: 0 | BQ3: Multiplier | BR3: 1 | BS3: 1 | BT3: 1 | BU3: 1 | BV3: 1 | BW3: 1 | BX3: 1 | BY3: 1 | BZ3: 1 | CA3: 1 | CB3: 1 | CC3: Multiplier | CD3: 2 | CE3: 2 | CF3: 2 | CG3: 2 | CH3: 2 | CI3: 2 | CJ3: 2 | CK3: 2 | CL3: 2 | CM3: 2 | CN3: 2 | CO3: Multiplier | CP3: 3 | CQ3: 3 | CR3: 3 | CS3: 3 | CT3: 3 | CU3: 3 | CV3: 3 | CW3: 3 | CX3: 3 | CY3: 3 | CZ3: 3
U4: {=MAX((LEN(U7:U16)>0)*$T$7:$T$16)} -> 3 | V4: {=MAX((LEN(V7:V16)>0)*$T$7:$T$16)} -> 6 | W4: {=MAX((LEN(W7:W16)>0)*$T$7:$T$16)} -> 4 | X4: {=MAX((LEN(X7:X16)>0)*$T$7:$T$16)} -> 5 | Y4: {=MAX((LEN(Y7:Y16)>0)*$T$7:$T$16)} -> 2 | AG4: Max | BE4: Min | BF4: {=MIN((IF(LEN(BF$7:BF$126)>0,$BD$7:$BD$126,"")),BF$7:BF$126)} -> 1 | BG4: {=MIN((IF(LEN(BG$7:BG$126)>0,$BD$7:$BD$126,"")),BG$7:BG$126)} -> 5 | BH4: {=MIN((IF(LEN(BH$7:BH$126)>0,$BD$7:$BD$126,"")),BH$7:BH$126)} -> 8 | BI4: {=MIN((IF(LEN(BI$7:BI$126)>0,$BD$7:$BD$126,"")),BI$7:BI$126)} -> 0 | BJ4: {=MIN((IF(LEN(BJ$7:BJ$126)>0,$BD$7:$BD$126,"")),BJ$7:BJ$126)} -> 0 | BK4: {=MIN((IF(LEN(BK$7:BK$126)>0,$BD$7:$BD$126,"")),BK$7:BK$126)} -> 0 | BL4: {=MIN((IF(LEN(BL$7:BL$126)>0,$BD$7:$BD$126,"")),BL$7:BL$126)} -> 0 | BM4: {=MIN((IF(LEN(BM$7:BM$126)>0,$BD$7:$BD$126,"")),BM$7:BM$126)} -> 0 | ... BP4: {=MIN((IF(LEN(BP$7:BP$126)>0,$BD$7:$BD$126,"")),BP$7:BP$126)} -> 0 | BQ4: Min | BR4: {=MIN((IF(LEN(BR$7:BR$126)>0,$BD$7:$BD$126,"")),BR$7:BR$126)} -> 1 | BS4: {=MIN((IF(LEN(BS$7:BS$126)>0,$BD$7:$BD$126,"")),BS$7:BS$126)} -> 4 | BT4: {=MIN((IF(LEN(BT$7:BT$126)>0,$BD$7:$BD$126,"")),BT$7:BT$126)} -> 8 | BU4: {=MIN((IF(LEN(BU$7:BU$126)>0,$BD$7:$BD$126,"")),BU$7:BU$126)} -> 9 | BV4: {=MIN((IF(LEN(BV$7:BV$126)>0,$BD$7:$BD$126,"")),BV$7:BV$126)} -> 12 | BW4: {=MIN((IF(LEN(BW$7:BW$126)>0,$BD$7:$BD$126,"")),BW$7:BW$126)} -> 13 | BX4: {=MIN((IF(LEN(BX$7:BX$126)>0,$BD$7:$BD$126,"")),BX$7:BX$126)} -> 0 | BY4: {=MIN((IF(LEN(BY$7:BY$126)>0,$BD$7:$BD$126,"")),BY$7:BY$126)} -> 0 | ... CB4: {=MIN((IF(LEN(CB$7:CB$126)>0,$BD$7:$BD$126,"")),CB$7:CB$126)} -> 0 | CC4: Min | CD4: {=MIN((IF(LEN(CD$7:CD$126)>0,$BD$7:$BD$126,"")),CD$7:CD$126)} -> 1 | CE4: {=MIN((IF(LEN(CE$7:CE$126)>0,$BD$7:$BD$126,"")),CE$7:CE$126)} -> 4 | CF4: {=MIN((IF(LEN(CF$7:CF$126)>0,$BD$7:$BD$126,"")),CF$7:CF$126)} -> 8 | CG4: {=MIN((IF(LEN(CG$7:CG$126)>0,$BD$7:$BD$126,"")),CG$7:CG$126)} -> 12 | CH4: {=MIN((IF(LEN(CH$7:CH$126)>0,$BD$7:$BD$126,"")),CH$7:CH$126)} -> 0 | CI4: {=MIN((IF(LEN(CI$7:CI$126)>0,$BD$7:$BD$126,"")),CI$7:CI$126)} -> 0 | CJ4: {=MIN((IF(LEN(CJ$7:CJ$126)>0,$BD$7:$BD$126,"")),CJ$7:CJ$126)} -> 0 | CK4: {=MIN((IF(LEN(CK$7:CK$126)>0,$BD$7:$BD$126,"")),CK$7:CK$126)} -> 0 | ... CN4: {=MIN((IF(LEN(CN$7:CN$126)>0,$BD$7:$BD$126,"")),CN$7:CN$126)} -> 0 | CO4: Min | CP4: {=MIN((IF(LEN(CP$7:CP$126)>0,$BD$7:$BD$126,"")),CP$7:CP$126)} -> 1 | CQ4: {=MIN((IF(LEN(CQ$7:CQ$126)>0,$BD$7:$BD$126,"")),CQ$7:CQ$126)} -> 2 | CR4: {=MIN((IF(LEN(CR$7:CR$126)>0,$BD$7:$BD$126,"")),CR$7:CR$126)} -> 7 | CS4: {=MIN((IF(LEN(CS$7:CS$126)>0,$BD$7:$BD$126,"")),CS$7:CS$126)} -> 3 | CT4: {=MIN((IF(LEN(CT$7:CT$126)>0,$BD$7:$BD$126,"")),CT$7:CT$126)} -> 4 | CU4: {=MIN((IF(LEN(CU$7:CU$126)>0,$BD$7:$BD$126,"")),CU$7:CU$126)} -> 0 | CV4: {=MIN((IF(LEN(CV$7:CV$126)>0,$BD$7:$BD$126,"")),CV$7:CV$126)} -> 0 | CW4: {=MIN((IF(LEN(CW$7:CW$126)>0,$BD$7:$BD$126,"")),CW$7:CW$126)} -> 0 | ... CZ4: {=MIN((IF(LEN(CZ$7:CZ$126)>0,$BD$7:$BD$126,"")),CZ$7:CZ$126)} -> 0
Q5: Full Data | U5: UniqueList | AG5: =MAX(AG7:AG64)+2 -> 20 | BE5: Max | BF5: {=MAX(BF$7:BF$126,(LEN(BF$7:BF$126)>0)*$BD$7:$BD$126)} -> 4 | BG5: {=MAX(BG$7:BG$126,(LEN(BG$7:BG$126)>0)*$BD$7:$BD$126)} -> 5 | BH5: {=MAX(BH$7:BH$126,(LEN(BH$7:BH$126)>0)*$BD$7:$BD$126)} -> 17 | BI5: {=MAX(BI$7:BI$126,(LEN(BI$7:BI$126)>0)*$BD$7:$BD$126)} -> 0 | BJ5: {=MAX(BJ$7:BJ$126,(LEN(BJ$7:BJ$126)>0)*$BD$7:$BD$126)} -> 0 | BK5: {=MAX(BK$7:BK$126,(LEN(BK$7:BK$126)>0)*$BD$7:$BD$126)} -> 0 | BL5: {=MAX(BL$7:BL$126,(LEN(BL$7:BL$126)>0)*$BD$7:$BD$126)} -> 0 | BM5: {=MAX(BM$7:BM$126,(LEN(BM$7:BM$126)>0)*$BD$7:$BD$126)} -> 0 | ... BP5: {=MAX(BP$7:BP$126,(LEN(BP$7:BP$126)>0)*$BD$7:$BD$126)} -> 0 | BQ5: Max | BR5: {=MAX(BR$7:BR$126,(LEN(BR$7:BR$126)>0)*$BD$7:$BD$126)} -> 1 | BS5: {=MAX(BS$7:BS$126,(LEN(BS$7:BS$126)>0)*$BD$7:$BD$126)} -> 5 | BT5: {=MAX(BT$7:BT$126,(LEN(BT$7:BT$126)>0)*$BD$7:$BD$126)} -> 8 | BU5: {=MAX(BU$7:BU$126,(LEN(BU$7:BU$126)>0)*$BD$7:$BD$126)} -> 11 | BV5: {=MAX(BV$7:BV$126,(LEN(BV$7:BV$126)>0)*$BD$7:$BD$126)} -> 14 | BW5: {=MAX(BW$7:BW$126,(LEN(BW$7:BW$126)>0)*$BD$7:$BD$126)} -> 17 | BX5: {=MAX(BX$7:BX$126,(LEN(BX$7:BX$126)>0)*$BD$7:$BD$126)} -> 0 | BY5: {=MAX(BY$7:BY$126,(LEN(BY$7:BY$126)>0)*$BD$7:$BD$126)} -> 0 | ... CB5: {=MAX(CB$7:CB$126,(LEN(CB$7:CB$126)>0)*$BD$7:$BD$126)} -> 0 | CC5: Max | CD5: {=MAX(CD$7:CD$126,(LEN(CD$7:CD$126)>0)*$BD$7:$BD$126)} -> 1 | CE5: {=MAX(CE$7:CE$126,(LEN(CE$7:CE$126)>0)*$BD$7:$BD$126)} -> 7 | CF5: {=MAX(CF$7:CF$126,(LEN(CF$7:CF$126)>0)*$BD$7:$BD$126)} -> 10 | CG5: {=MAX(CG$7:CG$126,(LEN(CG$7:CG$126)>0)*$BD$7:$BD$126)} -> 13 | CH5: {=MAX(CH$7:CH$126,(LEN(CH$7:CH$126)>0)*$BD$7:$BD$126)} -> 0 | CI5: {=MAX(CI$7:CI$126,(LEN(CI$7:CI$126)>0)*$BD$7:$BD$126)} -> 0 | CJ5: {=MAX(CJ$7:CJ$126,(LEN(CJ$7:CJ$126)>0)*$BD$7:$BD$126)} -> 0 | CK5: {=MAX(CK$7:CK$126,(LEN(CK$7:CK$126)>0)*$BD$7:$BD$126)} -> 0 | ... CN5: {=MAX(CN$7:CN$126,(LEN(CN$7:CN$126)>0)*$BD$7:$BD$126)} -> 0 | CO5: Max | CP5: {=MAX(CP$7:CP$126,(LEN(CP$7:CP$126)>0)*$BD$7:$BD$126)} -> 1 | CQ5: {=MAX(CQ$7:CQ$126,(LEN(CQ$7:CQ$126)>0)*$BD$7:$BD$126)} -> 4 | CR5: {=MAX(CR$7:CR$126,(LEN(CR$7:CR$126)>0)*$BD$7:$BD$126)} -> 7 | CS5: {=MAX(CS$7:CS$126,(LEN(CS$7:CS$126)>0)*$BD$7:$BD$126)} -> 10 | CT5: {=MAX(CT$7:CT$126,(LEN(CT$7:CT$126)>0)*$BD$7:$BD$126)} -> 13 | CU5: {=MAX(CU$7:CU$126,(LEN(CU$7:CU$126)>0)*$BD$7:$BD$126)} -> 0 | CV5: {=MAX(CV$7:CV$126,(LEN(CV$7:CV$126)>0)*$BD$7:$BD$126)} -> 0 | CW5: {=MAX(CW$7:CW$126,(LEN(CW$7:CW$126)>0)*$BD$7:$BD$126)} -> 0 | ... CZ5: {=MAX(CZ$7:CZ$126,(LEN(CZ$7:CZ$126)>0)*$BD$7:$BD$126)} -> 0
B6: Suuplier | C6: 1 | D6: 2 | E6: 3 | F6: 4 | G6: 5 | H6: 6 | I6: 7 | J6: 8 | K6: 9 | L6: 10 | O6: Row | P6: Column | Q6: Input | R6: Supplier | T6: Index | U6: Supplier | V6: Input | W6: Process | X6: Output | Y6: Customer | AA6: Index | AB6: Supplier | AC6: subsequent | AD6: precedent | AE6: Max Node | AF6: From | AG6: To | AH6: Mid | AJ6: Index | AK6: Supplier | AL6: Count | AM6: to | AN6: Node | AO6: Input | AP6: Count | AQ6: to | AR6: Node | AS6: Process | AT6: Count | AU6: to | AV6: Node | AW6: Output | AX6: Count | AY6: to | AZ6: Node | BA6: Customer | BB6: Count | BD6: Index | BE6: Supplier | BF6: 1 | BG6: 2 | BH6: 3 | BI6: 4 | BJ6: 5 | BK6: 6 | BL6: 7 | BM6: 8 | BN6: 9 | BO6: 10 | BP6: 11 | BQ6: Input | BR6: 1 | BS6: 2 | BT6: 3 | BU6: 4 | BV6: 5 | BW6: 6 | BX6: 7 | BY6: 8 | BZ6: 9 | CA6: 10 | CB6: 11 | CC6: Process | CD6: 1 | CE6: 2 | CF6: 3 | CG6: 4 | CH6: 5 | CI6: 6 | CJ6: 7 | CK6: 8 | CL6: 9 | CM6: 10 | CN6: 11 | CO6: Outpput | CP6: 1 | CQ6: 2 | CR6: 3 | CS6: 4 | CT6: 5 | CU6: 6 | CV6: 7 | CW6: 8 | CX6: 9 | CY6: 10 | CZ6: 11 | DA6: Outpput | DC6: Supplier | DD6: Input | DE6: Process | DF6: Outpput
B7: Process | C7: =IF(LEN(INDEX($W$7:$W$16,C6))=0,"",INDEX($W$7:$W$16,C6)) -> Customer goes to the queue | D7: =IF(LEN(INDEX($W$7:$W$16,D6))=0,"",INDEX($W$7:$W$16,D6)) -> Customer orders the coffee | E7: =IF(LEN(INDEX($W$7:$W$16,E6))=0,"",INDEX($W$7:$W$16,E6)) -> Preparation of coffee | F7: =IF(LEN(INDEX($W$7:$W$16,F6))=0,"",INDEX($W$7:$W$16,F6)) -> Serving the order | G7: =IF(LEN(INDEX($W$7:$W$16,G6))=0,"",INDEX($W$7:$W$16,G6)) | H7: =IF(LEN(INDEX($W$7:$W$16,H6))=0,"",INDEX($W$7:$W$16,H6)) | I7: =IF(LEN(INDEX($W$7:$W$16,I6))=0,"",INDEX($W$7:$W$16,I6)) | J7: =IF(LEN(INDEX($W$7:$W$16,J6))=0,"",INDEX($W$7:$W$16,J6)) | ... L7: =IF(LEN(INDEX($W$7:$W$16,L6))=0,"",INDEX($W$7:$W$16,L6)) | M7: Count | O7: 1 | P7: 1 | Q7: =IFERROR(INDEX($C$8:$L$17,$O7,$P7),"") -> Queue | R7: =IFERROR(INDEX($C$23:$L$32,$O7,$P7),"") -> Customer | T7: 1 | U7: =IFERROR(IF(LEN(INDEX(InputList!$B$25:$B$34,Cond!T7))=0,"",INDEX(InputList!$B$25:$B$34,Cond!T7)),"") -> Customer | V7: =IFERROR(IF(LEN(INDEX(InputList!$B$11:$B$20,Cond!T7))=0,"",INDEX(InputList!$B$11:$B$20,Cond!T7)),"") -> Queue | W7: =IF(LEN(Process1)=0,"",Process1) -> Customer goes to the queue | X7: =IFERROR(IF(LEN(INDEX(OutputList!$B$11:$B$20,Cond!T7))=0,"",INDEX(OutputList!$B$11:$B$20,Cond!T7)),"") -> Giving a queue number | Y7: =IFERROR(IF(LEN(INDEX(OutputList!$B$25:$B$34,Cond!T7))=0,"",INDEX(OutputList!$B$25:$B$34,Cond!T7)),"") -> Customer | AA7: 1 | AB7: =U7 -> Customer | AC7: =IFERROR(IF(LEN(AB7)=0,"",INDEX($M$23:$M$32,AA7)),"") -> 2 | AD7: =IF(LEN(AB7)=0,"",0) -> 0 | AE7: =IF(LEN(AB7)=0,"",MAX(AC7:AD7)) -> 2 | AF7: =IFERROR(IF(LEN(AB7)=0,"",1),"") -> 1 | AG7: =IFERROR(IF(LEN(AB7)=0,"",AF7+AE7),"") -> 3 | AH7: =IFERROR(IF(LEN(AB7)=0,"",ROUNDDOWN((AG7-AF7)/2,0)+AF7),"") -> 2 | AJ7: 1 | AK7: {=IFERROR(IF(MAX(($AJ7>=$AF$7:$AF$16)*($AJ7<=$AG$7:$AG$16)*$AA$7:$AA$16)=0,"",INDEX($AB$7:$AB$16,MAX(($AJ7>=$AF$7:$AF$16)*($AJ7<=$AG$7:$AG$16)*$AA$7:$AA$16))),"")} -> Customer | AL7: =IFERROR(IF(LEN(AK7)=0,"",COUNTIF(AK$7:AK7,AK7)),"") -> 1 | AM7: {=IFERROR(IF(LEN(AK7)=0,"",LARGE((AK7=$R$7:$R$126)*($P$7:$P$126),COUNTIF(AK7:AK$126,AK7)-1)),"")} -> 1 | AN7: =IFERROR(IF(LEN(AK7)=0,"",COUNTIF(AM$7:AM7,AM7)),"") -> 1 | AO7: {=IFERROR(IF(MAX(($AJ7>=$AF$19:$AF$28)*($AJ7<=$AG$19:$AG$28)*$AA$19:$AA$28)=0,"",INDEX($AB$19:$AB$28,MAX(($AJ7>=$AF$19:$AF$28)*($AJ7<=$AG$19:$AG$28)*$AA$19:$AA$28))),"")} -> Queue | AP7: =IFERROR(IF(LEN(AO7)=0,"",COUNTIF(AO$7:AO7,AO7)),"") -> 1 | AQ7: {=IFERROR(IF(LEN(AO7)=0,"",LARGE((AO7=$Q$7:$Q$126)*($P$7:$P$126),COUNTIF(AO7:AO$126,AO7)-1)),"")} -> 1 | AR7: =IFERROR(IF(LEN(AO7)=0,"",COUNTIF(AQ$7:AQ7,AQ7)),"") -> 1 | AS7: {=IFERROR(IF(MAX(($AJ7>=$AF$31:$AF$40)*($AJ7<=$AG$31:$AG$40)*$AA$31:$AA$40)=0,"",INDEX($AB$31:$AB$40,MAX(($AJ7>=$AF$31:$AF$40)*($AJ7<=$AG$31:$AG$40)*$AA$31:$AA$40))),"")} -> Customer goes to the queue | AT7: =IFERROR(IF(LEN(AS7)=0,"",COUNTIF(AS$7:AS7,AS7)),"") -> 1 | AU7: =IFERROR(IF(LEN(AS7)=0,"",INDEX($C$68:$L$77,AT7,MATCH(AS7,$AB$31:$AB$40,0))),"") -> 1 | AV7: =IFERROR(IF(LEN(AU7)=0,"",COUNTIF(AU$7:AU7,AU7)),"") -> 1 | AW7: {=IFERROR(IF(MAX(($AJ7>=$AF$43:$AF$52)*($AJ7<=$AG$43:$AG$52)*$AA$43:$AA$52)=0,"",INDEX($AB$43:$AB$52,MAX(($AJ7>=$AF$43:$AF$52)*($AJ7<=$AG$43:$AG$52)*$AA$43:$AA$52))),"")} -> Giving a queue number | AX7: =IFERROR(IF(LEN(AW7)=0,"",COUNTIF(AW$7:AW7,AW7)),"") -> 1 | AY7: =IFERROR(IF(LEN(AW7)=0,"",INDEX($C$83:$L$92,AX7,MATCH(AW7,$AB$43:$AB$52,0))),"") -> 1 | AZ7: =IFERROR(IF(LEN(AY7)=0,"",COUNTIF(AY$7:AY7,AY7)),"") -> 1 | BA7: {=IFERROR(IF(MAX(($AJ7>=$AF$55:$AF$64)*($AJ7<=$AG$55:$AG$64)*$AA$55:$AA$64)=0,"",INDEX($AB$55:$AB$64,MAX(($AJ7>=$AF$55:$AF$64)*($AJ7<=$AG$55:$AG$64)*$AA$55:$AA$64))),"")} -> Customer | BB7: =IFERROR(IF(LEN(BA7)=0,"",COUNTIF(BA$7:BA7,BA7)),"") -> 1 | BD7: 1 | BE7: =IFERROR(IF(LEN(AK7)=0,"",AK7&"-"&AL7),"") -> Customer-1 | BF7: {=IFERROR(IF(AND(COUNTIF($BE$7:$BE7,"")+1=BF$6,LEN($BE7)>0,$AM7>0),MATCH(INDEX($V$7:$V$16,$AM7)&"-"&$AN7,$BQ$7:$BQ$126,0),""),"")} -> 1 | BG7: {=IFERROR(IF(AND(COUNTIF($BE$7:$BE7,"")+1=BG$6,LEN($BE7)>0,$AM7>0),MATCH(INDEX($V$7:$V$16,$AM7)&"-"&$AN7,$BQ$7:$BQ$126,0),""),"")} | BH7: {=IFERROR(IF(AND(COUNTIF($BE$7:$BE7,"")+1=BH$6,LEN($BE7)>0,$AM7>0),MATCH(INDEX($V$7:$V$16,$AM7)&"-"&$AN7,$BQ$7:$BQ$126,0),""),"")} | BI7: {=IFERROR(IF(AND(COUNTIF($BE$7:$BE7,"")+1=BI$6,LEN($BE7)>0,$AM7>0),MATCH(INDEX($V$7:$V$16,$AM7)&"-"&$AN7,$BQ$7:$BQ$126,0),""),"")} | BJ7: {=IFERROR(IF(AND(COUNTIF($BE$7:$BE7,"")+1=BJ$6,LEN($BE7)>0,$AM7>0),MATCH(INDEX($V$7:$V$16,$AM7)&"-"&$AN7,$BQ$7:$BQ$126,0),""),"")} | BK7: {=IFERROR(IF(AND(COUNTIF($BE$7:$BE7,"")+1=BK$6,LEN($BE7)>0,$AM7>0),MATCH(INDEX($V$7:$V$16,$AM7)&"-"&$AN7,$BQ$7:$BQ$126,0),""),"")} | BL7: {=IFERROR(IF(AND(COUNTIF($BE$7:$BE7,"")+1=BL$6,LEN($BE7)>0,$AM7>0),MATCH(INDEX($V$7:$V$16,$AM7)&"-"&$AN7,$BQ$7:$BQ$126,0),""),"")} | BM7: {=IFERROR(IF(AND(COUNTIF($BE$7:$BE7,"")+1=BM$6,LEN($BE7)>0,$AM7>0),MATCH(INDEX($V$7:$V$16,$AM7)&"-"&$AN7,$BQ$7:$BQ$126,0),""),"")} | ... BP7: {=IFERROR(IF(AND(COUNTIF($BE$7:$BE7,"")+1=BP$6,LEN($BE7)>0,$AM7>0),MATCH(INDEX($V$7:$V$16,$AM7)&"-"&$AN7,$BQ$7:$BQ$126,0),""),"")} | BQ7: =IF(LEN(AO7)=0,"",AO7&"-"&AP7) -> Queue-1 | BR7: {=IFERROR(IF(AND(COUNTIF($BQ$7:$BQ7,"")+1=BR$6,LEN($BQ7)>0,$AQ7>0),MATCH(INDEX($W$7:$W$16,$AQ7)&"-"&$AR7,$CC$7:$CC$126,0),""),"")} -> 1 | BS7: {=IFERROR(IF(AND(COUNTIF($BQ$7:$BQ7,"")+1=BS$6,LEN($BQ7)>0,$AQ7>0),MATCH(INDEX($W$7:$W$16,$AQ7)&"-"&$AR7,$CC$7:$CC$126,0),""),"")} | BT7: {=IFERROR(IF(AND(COUNTIF($BQ$7:$BQ7,"")+1=BT$6,LEN($BQ7)>0,$AQ7>0),MATCH(INDEX($W$7:$W$16,$AQ7)&"-"&$AR7,$CC$7:$CC$126,0),""),"")} | BU7: {=IFERROR(IF(AND(COUNTIF($BQ$7:$BQ7,"")+1=BU$6,LEN($BQ7)>0,$AQ7>0),MATCH(INDEX($W$7:$W$16,$AQ7)&"-"&$AR7,$CC$7:$CC$126,0),""),"")} | BV7: {=IFERROR(IF(AND(COUNTIF($BQ$7:$BQ7,"")+1=BV$6,LEN($BQ7)>0,$AQ7>0),MATCH(INDEX($W$7:$W$16,$AQ7)&"-"&$AR7,$CC$7:$CC$126,0),""),"")} | BW7: {=IFERROR(IF(AND(COUNTIF($BQ$7:$BQ7,"")+1=BW$6,LEN($BQ7)>0,$AQ7>0),MATCH(INDEX($W$7:$W$16,$AQ7)&"-"&$AR7,$CC$7:$CC$126,0),""),"")} | BX7: {=IFERROR(IF(AND(COUNTIF($BQ$7:$BQ7,"")+1=BX$6,LEN($BQ7)>0,$AQ7>0),MATCH(INDEX($W$7:$W$16,$AQ7)&"-"&$AR7,$CC$7:$CC$126,0),""),"")} | BY7: {=IFERROR(IF(AND(COUNTIF($BQ$7:$BQ7,"")+1=BY$6,LEN($BQ7)>0,$AQ7>0),MATCH(INDEX($W$7:$W$16,$AQ7)&"-"&$AR7,$CC$7:$CC$126,0),""),"")} | ... CB7: {=IFERROR(IF(AND(COUNTIF($BQ$7:$BQ7,"")+1=CB$6,LEN($BQ7)>0,$AQ7>0),MATCH(INDEX($W$7:$W$16,$AQ7)&"-"&$AR7,$CC$7:$CC$126,0),""),"")} | CC7: =IFERROR(IF(LEN(AS7)=0,"",AS7&"-"&AT7),"") -> Customer goes to the queue-1 | CD7: {=IFERROR(IF(AND(COUNTIF($CC$7:$CC7,"")+1=CD$6,LEN($CC7)>0,$AU7>0),MATCH(INDEX($X$7:$X$16,$AU7)&"-"&$AV7,$CO$7:$CO$126,0),""),"")} -> 1 | CE7: {=IFERROR(IF(AND(COUNTIF($CC$7:$CC7,"")+1=CE$6,LEN($CC7)>0,$AU7>0),MATCH(INDEX($X$7:$X$16,$AU7)&"-"&$AV7,$CO$7:$CO$126,0),""),"")} | CF7: {=IFERROR(IF(AND(COUNTIF($CC$7:$CC7,"")+1=CF$6,LEN($CC7)>0,$AU7>0),MATCH(INDEX($X$7:$X$16,$AU7)&"-"&$AV7,$CO$7:$CO$126,0),""),"")} | CG7: {=IFERROR(IF(AND(COUNTIF($CC$7:$CC7,"")+1=CG$6,LEN($CC7)>0,$AU7>0),MATCH(INDEX($X$7:$X$16,$AU7)&"-"&$AV7,$CO$7:$CO$126,0),""),"")} | CH7: {=IFERROR(IF(AND(COUNTIF($CC$7:$CC7,"")+1=CH$6,LEN($CC7)>0,$AU7>0),MATCH(INDEX($X$7:$X$16,$AU7)&"-"&$AV7,$CO$7:$CO$126,0),""),"")} | CI7: {=IFERROR(IF(AND(COUNTIF($CC$7:$CC7,"")+1=CI$6,LEN($CC7)>0,$AU7>0),MATCH(INDEX($X$7:$X$16,$AU7)&"-"&$AV7,$CO$7:$CO$126,0),""),"")} | CJ7: {=IFERROR(IF(AND(COUNTIF($CC$7:$CC7,"")+1=CJ$6,LEN($CC7)>0,$AU7>0),MATCH(INDEX($X$7:$X$16,$AU7)&"-"&$AV7,$CO$7:$CO$126,0),""),"")} | CK7: {=IFERROR(IF(AND(COUNTIF($CC$7:$CC7,"")+1=CK$6,LEN($CC7)>0,$AU7>0),MATCH(INDEX($X$7:$X$16,$AU7)&"-"&$AV7,$CO$7:$CO$126,0),""),"")} | ... CN7: {=IFERROR(IF(AND(COUNTIF($CC$7:$CC7,"")+1=CN$6,LEN($CC7)>0,$AU7>0),MATCH(INDEX($X$7:$X$16,$AU7)&"-"&$AV7,$CO$7:$CO$126,0),""),"")} | CO7: =IFERROR(IF(LEN(AW7)=0,"",AW7&"-"&AX7),"") -> Giving a queue number-1 | CP7: {=IFERROR(IF(AND(COUNTIF($CO$7:$CO7,"")+1=CP$6,LEN($CO7)>0,$AY7>0),MATCH(INDEX($Y$7:$Y$16,$AY7)&"-"&$AZ7,$DA$7:$DA$126,0),""),"")} -> 1 | CQ7: {=IFERROR(IF(AND(COUNTIF($CO$7:$CO7,"")+1=CQ$6,LEN($CO7)>0,$AY7>0),MATCH(INDEX($Y$7:$Y$16,$AY7)&"-"&$AZ7,$DA$7:$DA$126,0),""),"")} | CR7: {=IFERROR(IF(AND(COUNTIF($CO$7:$CO7,"")+1=CR$6,LEN($CO7)>0,$AY7>0),MATCH(INDEX($Y$7:$Y$16,$AY7)&"-"&$AZ7,$DA$7:$DA$126,0),""),"")} | CS7: {=IFERROR(IF(AND(COUNTIF($CO$7:$CO7,"")+1=CS$6,LEN($CO7)>0,$AY7>0),MATCH(INDEX($Y$7:$Y$16,$AY7)&"-"&$AZ7,$DA$7:$DA$126,0),""),"")} | CT7: {=IFERROR(IF(AND(COUNTIF($CO$7:$CO7,"")+1=CT$6,LEN($CO7)>0,$AY7>0),MATCH(INDEX($Y$7:$Y$16,$AY7)&"-"&$AZ7,$DA$7:$DA$126,0),""),"")} | CU7: {=IFERROR(IF(AND(COUNTIF($CO$7:$CO7,"")+1=CU$6,LEN($CO7)>0,$AY7>0),MATCH(INDEX($Y$7:$Y$16,$AY7)&"-"&$AZ7,$DA$7:$DA$126,0),""),"")} | CV7: {=IFERROR(IF(AND(COUNTIF($CO$7:$CO7,"")+1=CV$6,LEN($CO7)>0,$AY7>0),MATCH(INDEX($Y$7:$Y$16,$AY7)&"-"&$AZ7,$DA$7:$DA$126,0),""),"")} | CW7: {=IFERROR(IF(AND(COUNTIF($CO$7:$CO7,"")+1=CW$6,LEN($CO7)>0,$AY7>0),MATCH(INDEX($Y$7:$Y$16,$AY7)&"-"&$AZ7,$DA$7:$DA$126,0),""),"")} | ... CZ7: {=IFERROR(IF(AND(COUNTIF($CO$7:$CO7,"")+1=CZ$6,LEN($CO7)>0,$AY7>0),MATCH(INDEX($Y$7:$Y$16,$AY7)&"-"&$AZ7,$DA$7:$DA$126,0),""),"")} | DA7: =IF(LEN(BA7)=0,"",BA7&"-"&BB7) -> Customer-1 | DC7: {=IFERROR(IF(LEN(BQ7)=0,"",SUM((BF$7:BO$126=$BD7)*(BF$6:BO$6))),"")} -> 1 | DD7: {=IFERROR(IF(LEN(CC7)=0,"",SUM((BR$7:CA$126=$BD7)*(BR$6:CA$6))),"")} -> 1 | DE7: {=IFERROR(IF(LEN(CO7)=0,"",SUM((CD$7:CM$126=$BD7)*(CD$6:CM$6))),"")} -> 1 | DF7: {=IFERROR(IF(LEN(DA7)=0,"",SUM((CP$7:CY$126=$BD7)*(CP$6:CY$6))),"")} -> 1
B8: 1 | C8: {=IFERROR(IF(AND(LEN(C$7)>0,SUM((InputList!$C11:$H11=Cond!C$7)*1)>0),InputList!$B11,""),"")} -> Queue | D8: {=IFERROR(IF(AND(LEN(D$7)>0,SUM((InputList!$C11:$H11=Cond!D$7)*1)>0),InputList!$B11,""),"")} | E8: {=IFERROR(IF(AND(LEN(E$7)>0,SUM((InputList!$C11:$H11=Cond!E$7)*1)>0),InputList!$B11,""),"")} | F8: {=IFERROR(IF(AND(LEN(F$7)>0,SUM((InputList!$C11:$H11=Cond!F$7)*1)>0),InputList!$B11,""),"")} | G8: {=IFERROR(IF(AND(LEN(G$7)>0,SUM((InputList!$C11:$H11=Cond!G$7)*1)>0),InputList!$B11,""),"")} | H8: {=IFERROR(IF(AND(LEN(H$7)>0,SUM((InputList!$C11:$H11=Cond!H$7)*1)>0),InputList!$B11,""),"")} | I8: {=IFERROR(IF(AND(LEN(I$7)>0,SUM((InputList!$C11:$H11=Cond!I$7)*1)>0),InputList!$B11,""),"")} | J8: {=IFERROR(IF(AND(LEN(J$7)>0,SUM((InputList!$C11:$H11=Cond!J$7)*1)>0),InputList!$B11,""),"")} | ... L8: {=IFERROR(IF(AND(LEN(L$7)>0,SUM((InputList!$C11:$H11=Cond!L$7)*1)>0),InputList!$B11,""),"")} | M8: =COUNTA(C8:L8)-COUNTBLANK(C8:L8) -> 1 | O8: 2 | P8: 1 | Q8: =IFERROR(INDEX($C$8:$L$17,$O8,$P8),"") | R8: =IFERROR(INDEX($C$23:$L$32,$O8,$P8),"") | T8: 2 | U8: =IFERROR(IF(LEN(INDEX(InputList!$B$25:$B$34,Cond!T8))=0,"",INDEX(InputList!$B$25:$B$34,Cond!T8)),"") -> Cashier | V8: =IFERROR(IF(LEN(INDEX(InputList!$B$11:$B$20,Cond!T8))=0,"",INDEX(InputList!$B$11:$B$20,Cond!T8)),"") -> Money | W8: =IF(LEN(Process2)=0,"",Process2) -> Customer orders the coffee | X8: =IFERROR(IF(LEN(INDEX(OutputList!$B$11:$B$20,Cond!T8))=0,"",INDEX(OutputList!$B$11:$B$20,Cond!T8)),"") -> Bill | Y8: =IFERROR(IF(LEN(INDEX(OutputList!$B$25:$B$34,Cond!T8))=0,"",INDEX(OutputList!$B$25:$B$34,Cond!T8)),"") -> Barista | AA8: 2 | AB8: =U8 -> Cashier | AC8: =IFERROR(IF(LEN(AB8)=0,"",INDEX($M$23:$M$32,AA8)),"") -> 1 | AD8: =IF(LEN(AB8)=0,"",0) -> 0 | AE8: =IF(LEN(AB8)=0,"",MAX(AC8:AD8)) -> 1 | AF8: =IFERROR(IF(LEN(AB8)=0,"",MAX($AG$7:AG7)+2),"") -> 5 | AG8: =IFERROR(IF(LEN(AB8)=0,"",AF8+AE8),"") -> 6 | AH8: =IFERROR(IF(LEN(AB8)=0,"",ROUNDDOWN((AG8-AF8)/2,0)+AF8),"") -> 5 | AJ8: 2 | AK8: {=IFERROR(IF(MAX(($AJ8>=$AF$7:$AF$16)*($AJ8<=$AG$7:$AG$16)*$AA$7:$AA$16)=0,"",INDEX($AB$7:$AB$16,MAX(($AJ8>=$AF$7:$AF$16)*($AJ8<=$AG$7:$AG$16)*$AA$7:$AA$16))),"")} -> Customer | AL8: =IFERROR(IF(LEN(AK8)=0,"",COUNTIF(AK$7:AK8,AK8)),"") -> 2 | AM8: {=IFERROR(IF(LEN(AK8)=0,"",LARGE((AK8=$R$7:$R$126)*($P$7:$P$126),COUNTIF(AK8:AK$126,AK8)-1)),"")} -> 2 | AN8: =IFERROR(IF(LEN(AK8)=0,"",COUNTIF(AM$7:AM8,AM8)),"") -> 1 | AO8: {=IFERROR(IF(MAX(($AJ8>=$AF$19:$AF$28)*($AJ8<=$AG$19:$AG$28)*$AA$19:$AA$28)=0,"",INDEX($AB$19:$AB$28,MAX(($AJ8>=$AF$19:$AF$28)*($AJ8<=$AG$19:$AG$28)*$AA$19:$AA$28))),"")} -> Queue | AP8: =IFERROR(IF(LEN(AO8)=0,"",COUNTIF(AO$7:AO8,AO8)),"") -> 2 | AQ8: {=IFERROR(IF(LEN(AO8)=0,"",LARGE((AO8=$Q$7:$Q$126)*($P$7:$P$126),COUNTIF(AO8:AO$126,AO8)-1)),"")} | AR8: =IFERROR(IF(LEN(AO8)=0,"",COUNTIF(AQ$7:AQ8,AQ8)),"") -> 1 | AS8: {=IFERROR(IF(MAX(($AJ8>=$AF$31:$AF$40)*($AJ8<=$AG$31:$AG$40)*$AA$31:$AA$40)=0,"",INDEX($AB$31:$AB$40,MAX(($AJ8>=$AF$31:$AF$40)*($AJ8<=$AG$31:$AG$40)*$AA$31:$AA$40))),"")} -> Customer goes to the queue | AT8: =IFERROR(IF(LEN(AS8)=0,"",COUNTIF(AS$7:AS8,AS8)),"") -> 2 | AU8: =IFERROR(IF(LEN(AS8)=0,"",INDEX($C$68:$L$77,AT8,MATCH(AS8,$AB$31:$AB$40,0))),"") | AV8: =IFERROR(IF(LEN(AU8)=0,"",COUNTIF(AU$7:AU8,AU8)),"") | AW8: {=IFERROR(IF(MAX(($AJ8>=$AF$43:$AF$52)*($AJ8<=$AG$43:$AG$52)*$AA$43:$AA$52)=0,"",INDEX($AB$43:$AB$52,MAX(($AJ8>=$AF$43:$AF$52)*($AJ8<=$AG$43:$AG$52)*$AA$43:$AA$52))),"")} -> Giving a queue number | AX8: =IFERROR(IF(LEN(AW8)=0,"",COUNTIF(AW$7:AW8,AW8)),"") -> 2 | AY8: =IFERROR(IF(LEN(AW8)=0,"",INDEX($C$83:$L$92,AX8,MATCH(AW8,$AB$43:$AB$52,0))),"") | AZ8: =IFERROR(IF(LEN(AY8)=0,"",COUNTIF(AY$7:AY8,AY8)),"") | BA8: {=IFERROR(IF(MAX(($AJ8>=$AF$55:$AF$64)*($AJ8<=$AG$55:$AG$64)*$AA$55:$AA$64)=0,"",INDEX($AB$55:$AB$64,MAX(($AJ8>=$AF$55:$AF$64)*($AJ8<=$AG$55:$AG$64)*$AA$55:$AA$64))),"")} -> Customer | BB8: =IFERROR(IF(LEN(BA8)=0,"",COUNTIF(BA$7:BA8,BA8)),"") -> 2 | BD8: 2 | BE8: =IFERROR(IF(LEN(AK8)=0,"",AK8&"-"&AL8),"") -> Customer-2 | BF8: {=IFERROR(IF(AND(COUNTIF($BE$7:$BE8,"")+1=BF$6,LEN($BE8)>0,$AM8>0),MATCH(INDEX($V$7:$V$16,$AM8)&"-"&$AN8,$BQ$7:$BQ$126,0),""),"")} -> 4 | BG8: {=IFERROR(IF(AND(COUNTIF($BE$7:$BE8,"")+1=BG$6,LEN($BE8)>0,$AM8>0),MATCH(INDEX($V$7:$V$16,$AM8)&"-"&$AN8,$BQ$7:$BQ$126,0),""),"")} | BH8: {=IFERROR(IF(AND(COUNTIF($BE$7:$BE8,"")+1=BH$6,LEN($BE8)>0,$AM8>0),MATCH(INDEX($V$7:$V$16,$AM8)&"-"&$AN8,$BQ$7:$BQ$126,0),""),"")} | BI8: {=IFERROR(IF(AND(COUNTIF($BE$7:$BE8,"")+1=BI$6,LEN($BE8)>0,$AM8>0),MATCH(INDEX($V$7:$V$16,$AM8)&"-"&$AN8,$BQ$7:$BQ$126,0),""),"")} | BJ8: {=IFERROR(IF(AND(COUNTIF($BE$7:$BE8,"")+1=BJ$6,LEN($BE8)>0,$AM8>0),MATCH(INDEX($V$7:$V$16,$AM8)&"-"&$AN8,$BQ$7:$BQ$126,0),""),"")} | BK8: {=IFERROR(IF(AND(COUNTIF($BE$7:$BE8,"")+1=BK$6,LEN($BE8)>0,$AM8>0),MATCH(INDEX($V$7:$V$16,$AM8)&"-"&$AN8,$BQ$7:$BQ$126,0),""),"")} | BL8: {=IFERROR(IF(AND(COUNTIF($BE$7:$BE8,"")+1=BL$6,LEN($BE8)>0,$AM8>0),MATCH(INDEX($V$7:$V$16,$AM8)&"-"&$AN8,$BQ$7:$BQ$126,0),""),"")} | BM8: {=IFERROR(IF(AND(COUNTIF($BE$7:$BE8,"")+1=BM$6,LEN($BE8)>0,$AM8>0),MATCH(INDEX($V$7:$V$16,$AM8)&"-"&$AN8,$BQ$7:$BQ$126,0),""),"")} | ... BP8: {=IFERROR(IF(AND(COUNTIF($BE$7:$BE8,"")+1=BP$6,LEN($BE8)>0,$AM8>0),MATCH(INDEX($V$7:$V$16,$AM8)&"-"&$AN8,$BQ$7:$BQ$126,0),""),"")} | BQ8: =IF(LEN(AO8)=0,"",AO8&"-"&AP8) -> Queue-2 | BR8: {=IFERROR(IF(AND(COUNTIF($BQ$7:$BQ8,"")+1=BR$6,LEN($BQ8)>0,$AQ8>0),MATCH(INDEX($W$7:$W$16,$AQ8)&"-"&$AR8,$CC$7:$CC$126,0),""),"")} | BS8: {=IFERROR(IF(AND(COUNTIF($BQ$7:$BQ8,"")+1=BS$6,LEN($BQ8)>0,$AQ8>0),MATCH(INDEX($W$7:$W$16,$AQ8)&"-"&$AR8,$CC$7:$CC$126,0),""),"")} | BT8: {=IFERROR(IF(AND(COUNTIF($BQ$7:$BQ8,"")+1=BT$6,LEN($BQ8)>0,$AQ8>0),MATCH(INDEX($W$7:$W$16,$AQ8)&"-"&$AR8,$CC$7:$CC$126,0),""),"")} | BU8: {=IFERROR(IF(AND(COUNTIF($BQ$7:$BQ8,"")+1=BU$6,LEN($BQ8)>0,$AQ8>0),MATCH(INDEX($W$7:$W$16,$AQ8)&"-"&$AR8,$CC$7:$CC$126,0),""),"")} | BV8: {=IFERROR(IF(AND(COUNTIF($BQ$7:$BQ8,"")+1=BV$6,LEN($BQ8)>0,$AQ8>0),MATCH(INDEX($W$7:$W$16,$AQ8)&"-"&$AR8,$CC$7:$CC$126,0),""),"")} | BW8: {=IFERROR(IF(AND(COUNTIF($BQ$7:$BQ8,"")+1=BW$6,LEN($BQ8)>0,$AQ8>0),MATCH(INDEX($W$7:$W$16,$AQ8)&"-"&$AR8,$CC$7:$CC$126,0),""),"")} | BX8: {=IFERROR(IF(AND(COUNTIF($BQ$7:$BQ8,"")+1=BX$6,LEN($BQ8)>0,$AQ8>0),MATCH(INDEX($W$7:$W$16,$AQ8)&"-"&$AR8,$CC$7:$CC$126,0),""),"")} | BY8: {=IFERROR(IF(AND(COUNTIF($BQ$7:$BQ8,"")+1=BY$6,LEN($BQ8)>0,$AQ8>0),MATCH(INDEX($W$7:$W$16,$AQ8)&"-"&$AR8,$CC$7:$CC$126,0),""),"")} | ... CB8: {=IFERROR(IF(AND(COUNTIF($BQ$7:$BQ8,"")+1=CB$6,LEN($BQ8)>0,$AQ8>0),MATCH(INDEX($W$7:$W$16,$AQ8)&"-"&$AR8,$CC$7:$CC$126,0),""),"")} | CC8: =IFERROR(IF(LEN(AS8)=0,"",AS8&"-"&AT8),"") -> Customer goes to the queue-2 | CD8: {=IFERROR(IF(AND(COUNTIF($CC$7:$CC8,"")+1=CD$6,LEN($CC8)>0,$AU8>0),MATCH(INDEX($X$7:$X$16,$AU8)&"-"&$AV8,$CO$7:$CO$126,0),""),"")} | CE8: {=IFERROR(IF(AND(COUNTIF($CC$7:$CC8,"")+1=CE$6,LEN($CC8)>0,$AU8>0),MATCH(INDEX($X$7:$X$16,$AU8)&"-"&$AV8,$CO$7:$CO$126,0),""),"")} | CF8: {=IFERROR(IF(AND(COUNTIF($CC$7:$CC8,"")+1=CF$6,LEN($CC8)>0,$AU8>0),MATCH(INDEX($X$7:$X$16,$AU8)&"-"&$AV8,$CO$7:$CO$126,0),""),"")} | CG8: {=IFERROR(IF(AND(COUNTIF($CC$7:$CC8,"")+1=CG$6,LEN($CC8)>0,$AU8>0),MATCH(INDEX($X$7:$X$16,$AU8)&"-"&$AV8,$CO$7:$CO$126,0),""),"")} | CH8: {=IFERROR(IF(AND(COUNTIF($CC$7:$CC8,"")+1=CH$6,LEN($CC8)>0,$AU8>0),MATCH(INDEX($X$7:$X$16,$AU8)&"-"&$AV8,$CO$7:$CO$126,0),""),"")} | CI8: {=IFERROR(IF(AND(COUNTIF($CC$7:$CC8,"")+1=CI$6,LEN($CC8)>0,$AU8>0),MATCH(INDEX($X$7:$X$16,$AU8)&"-"&$AV8,$CO$7:$CO$126,0),""),"")} | CJ8: {=IFERROR(IF(AND(COUNTIF($CC$7:$CC8,"")+1=CJ$6,LEN($CC8)>0,$AU8>0),MATCH(INDEX($X$7:$X$16,$AU8)&"-"&$AV8,$CO$7:$CO$126,0),""),"")} | CK8: {=IFERROR(IF(AND(COUNTIF($CC$7:$CC8,"")+1=CK$6,LEN($CC8)>0,$AU8>0),MATCH(INDEX($X$7:$X$16,$AU8)&"-"&$AV8,$CO$7:$CO$126,0),""),"")} | ... CN8: {=IFERROR(IF(AND(COUNTIF($CC$7:$CC8,"")+1=CN$6,LEN($CC8)>0,$AU8>0),MATCH(INDEX($X$7:$X$16,$AU8)&"-"&$AV8,$CO$7:$CO$126,0),""),"")} | CO8: =IFERROR(IF(LEN(AW8)=0,"",AW8&"-"&AX8),"") -> Giving a queue number-2 | CP8: {=IFERROR(IF(AND(COUNTIF($CO$7:$CO8,"")+1=CP$6,LEN($CO8)>0,$AY8>0),MATCH(INDEX($Y$7:$Y$16,$AY8)&"-"&$AZ8,$DA$7:$DA$126,0),""),"")} | CQ8: {=IFERROR(IF(AND(COUNTIF($CO$7:$CO8,"")+1=CQ$6,LEN($CO8)>0,$AY8>0),MATCH(INDEX($Y$7:$Y$16,$AY8)&"-"&$AZ8,$DA$7:$DA$126,0),""),"")} | CR8: {=IFERROR(IF(AND(COUNTIF($CO$7:$CO8,"")+1=CR$6,LEN($CO8)>0,$AY8>0),MATCH(INDEX($Y$7:$Y$16,$AY8)&"-"&$AZ8,$DA$7:$DA$126,0),""),"")} | CS8: {=IFERROR(IF(AND(COUNTIF($CO$7:$CO8,"")+1=CS$6,LEN($CO8)>0,$AY8>0),MATCH(INDEX($Y$7:$Y$16,$AY8)&"-"&$AZ8,$DA$7:$DA$126,0),""),"")} | CT8: {=IFERROR(IF(AND(COUNTIF($CO$7:$CO8,"")+1=CT$6,LEN($CO8)>0,$AY8>0),MATCH(INDEX($Y$7:$Y$16,$AY8)&"-"&$AZ8,$DA$7:$DA$126,0),""),"")} | CU8: {=IFERROR(IF(AND(COUNTIF($CO$7:$CO8,"")+1=CU$6,LEN($CO8)>0,$AY8>0),MATCH(INDEX($Y$7:$Y$16,$AY8)&"-"&$AZ8,$DA$7:$DA$126,0),""),"")} | CV8: {=IFERROR(IF(AND(COUNTIF($CO$7:$CO8,"")+1=CV$6,LEN($CO8)>0,$AY8>0),MATCH(INDEX($Y$7:$Y$16,$AY8)&"-"&$AZ8,$DA$7:$DA$126,0),""),"")} | CW8: {=IFERROR(IF(AND(COUNTIF($CO$7:$CO8,"")+1=CW$6,LEN($CO8)>0,$AY8>0),MATCH(INDEX($Y$7:$Y$16,$AY8)&"-"&$AZ8,$DA$7:$DA$126,0),""),"")} | ... CZ8: {=IFERROR(IF(AND(COUNTIF($CO$7:$CO8,"")+1=CZ$6,LEN($CO8)>0,$AY8>0),MATCH(INDEX($Y$7:$Y$16,$AY8)&"-"&$AZ8,$DA$7:$DA$126,0),""),"")} | DA8: =IF(LEN(BA8)=0,"",BA8&"-"&BB8) -> Customer-2 | DC8: {=IFERROR(IF(LEN(BQ8)=0,"",SUM((BF$7:BO$126=$BD8)*(BF$6:BO$6))),"")} -> 0 | DD8: {=IFERROR(IF(LEN(CC8)=0,"",SUM((BR$7:CA$126=$BD8)*(BR$6:CA$6))),"")} -> 0 | DE8: {=IFERROR(IF(LEN(CO8)=0,"",SUM((CD$7:CM$126=$BD8)*(CD$6:CM$6))),"")} -> 0 | DF8: {=IFERROR(IF(LEN(DA8)=0,"",SUM((CP$7:CY$126=$BD8)*(CP$6:CY$6))),"")} -> 2
B9: 2 | C9: {=IFERROR(IF(AND(LEN(C$7)>0,SUM((InputList!$C12:$H12=Cond!C$7)*1)>0),InputList!$B12,""),"")} | D9: {=IFERROR(IF(AND(LEN(D$7)>0,SUM((InputList!$C12:$H12=Cond!D$7)*1)>0),InputList!$B12,""),"")} -> Money | E9: {=IFERROR(IF(AND(LEN(E$7)>0,SUM((InputList!$C12:$H12=Cond!E$7)*1)>0),InputList!$B12,""),"")} | F9: {=IFERROR(IF(AND(LEN(F$7)>0,SUM((InputList!$C12:$H12=Cond!F$7)*1)>0),InputList!$B12,""),"")} | G9: {=IFERROR(IF(AND(LEN(G$7)>0,SUM((InputList!$C12:$H12=Cond!G$7)*1)>0),InputList!$B12,""),"")} | H9: {=IFERROR(IF(AND(LEN(H$7)>0,SUM((InputList!$C12:$H12=Cond!H$7)*1)>0),InputList!$B12,""),"")} | I9: {=IFERROR(IF(AND(LEN(I$7)>0,SUM((InputList!$C12:$H12=Cond!I$7)*1)>0),InputList!$B12,""),"")} | J9: {=IFERROR(IF(AND(LEN(J$7)>0,SUM((InputList!$C12:$H12=Cond!J$7)*1)>0),InputList!$B12,""),"")} | ... L9: {=IFERROR(IF(AND(LEN(L$7)>0,SUM((InputList!$C12:$H12=Cond!L$7)*1)>0),InputList!$B12,""),"")} | M9: =COUNTA(C9:L9)-COUNTBLANK(C9:L9) -> 1 | O9: 3 | P9: 1 | Q9: =IFERROR(INDEX($C$8:$L$17,$O9,$P9),"") | R9: =IFERROR(INDEX($C$23:$L$32,$O9,$P9),"") | T9: 3 | U9: =IFERROR(IF(LEN(INDEX(InputList!$B$25:$B$34,Cond!T9))=0,"",INDEX(InputList!$B$25:$B$34,Cond!T9)),"") -> Manufacturer | V9: =IFERROR(IF(LEN(INDEX(InputList!$B$11:$B$20,Cond!T9))=0,"",INDEX(InputList!$B$11:$B$20,Cond!T9)),"") -> Coffee beans | W9: =IF(LEN(Process3)=0,"",Process3) -> Preparation of coffee | X9: =IFERROR(IF(LEN(INDEX(OutputList!$B$11:$B$20,Cond!T9))=0,"",INDEX(OutputList!$B$11:$B$20,Cond!T9)),"") -> Order details | Y9: =IFERROR(IF(LEN(INDEX(OutputList!$B$25:$B$34,Cond!T9))=0,"",INDEX(OutputList!$B$25:$B$34,Cond!T9)),"") | AA9: 3 | AB9: =U9 -> Manufacturer | AC9: =IFERROR(IF(LEN(AB9)=0,"",INDEX($M$23:$M$32,AA9)),"") -> 4 | AD9: =IF(LEN(AB9)=0,"",0) -> 0 | AE9: =IF(LEN(AB9)=0,"",MAX(AC9:AD9)) -> 4 | AF9: =IFERROR(IF(LEN(AB9)=0,"",MAX($AG$7:AG8)+2),"") -> 8 | AG9: =IFERROR(IF(LEN(AB9)=0,"",AF9+AE9),"") -> 12 | AH9: =IFERROR(IF(LEN(AB9)=0,"",ROUNDDOWN((AG9-AF9)/2,0)+AF9),"") -> 10 | AJ9: 3 | AK9: {=IFERROR(IF(MAX(($AJ9>=$AF$7:$AF$16)*($AJ9<=$AG$7:$AG$16)*$AA$7:$AA$16)=0,"",INDEX($AB$7:$AB$16,MAX(($AJ9>=$AF$7:$AF$16)*($AJ9<=$AG$7:$AG$16)*$AA$7:$AA$16))),"")} -> Customer | AL9: =IFERROR(IF(LEN(AK9)=0,"",COUNTIF(AK$7:AK9,AK9)),"") -> 3 | AM9: {=IFERROR(IF(LEN(AK9)=0,"",LARGE((AK9=$R$7:$R$126)*($P$7:$P$126),COUNTIF(AK9:AK$126,AK9)-1)),"")} | AN9: =IFERROR(IF(LEN(AK9)=0,"",COUNTIF(AM$7:AM9,AM9)),"") -> 1 | AO9: {=IFERROR(IF(MAX(($AJ9>=$AF$19:$AF$28)*($AJ9<=$AG$19:$AG$28)*$AA$19:$AA$28)=0,"",INDEX($AB$19:$AB$28,MAX(($AJ9>=$AF$19:$AF$28)*($AJ9<=$AG$19:$AG$28)*$AA$19:$AA$28))),"")} | AP9: =IFERROR(IF(LEN(AO9)=0,"",COUNTIF(AO$7:AO9,AO9)),"") | AQ9: {=IFERROR(IF(LEN(AO9)=0,"",LARGE((AO9=$Q$7:$Q$126)*($P$7:$P$126),COUNTIF(AO9:AO$126,AO9)-1)),"")} | AR9: =IFERROR(IF(LEN(AO9)=0,"",COUNTIF(AQ$7:AQ9,AQ9)),"") | AS9: {=IFERROR(IF(MAX(($AJ9>=$AF$31:$AF$40)*($AJ9<=$AG$31:$AG$40)*$AA$31:$AA$40)=0,"",INDEX($AB$31:$AB$40,MAX(($AJ9>=$AF$31:$AF$40)*($AJ9<=$AG$31:$AG$40)*$AA$31:$AA$40))),"")} | AT9: =IFERROR(IF(LEN(AS9)=0,"",COUNTIF(AS$7:AS9,AS9)),"") | AU9: =IFERROR(IF(LEN(AS9)=0,"",INDEX($C$68:$L$77,AT9,MATCH(AS9,$AB$31:$AB$40,0))),"") | AV9: =IFERROR(IF(LEN(AU9)=0,"",COUNTIF(AU$7:AU9,AU9)),"") | AW9: {=IFERROR(IF(MAX(($AJ9>=$AF$43:$AF$52)*($AJ9<=$AG$43:$AG$52)*$AA$43:$AA$52)=0,"",INDEX($AB$43:$AB$52,MAX(($AJ9>=$AF$43:$AF$52)*($AJ9<=$AG$43:$AG$52)*$AA$43:$AA$52))),"")} | AX9: =IFERROR(IF(LEN(AW9)=0,"",COUNTIF(AW$7:AW9,AW9)),"") | AY9: =IFERROR(IF(LEN(AW9)=0,"",INDEX($C$83:$L$92,AX9,MATCH(AW9,$AB$43:$AB$52,0))),"") | AZ9: =IFERROR(IF(LEN(AY9)=0,"",COUNTIF(AY$7:AY9,AY9)),"") | BA9: {=IFERROR(IF(MAX(($AJ9>=$AF$55:$AF$64)*($AJ9<=$AG$55:$AG$64)*$AA$55:$AA$64)=0,"",INDEX($AB$55:$AB$64,MAX(($AJ9>=$AF$55:$AF$64)*($AJ9<=$AG$55:$AG$64)*$AA$55:$AA$64))),"")} -> Customer | BB9: =IFERROR(IF(LEN(BA9)=0,"",COUNTIF(BA$7:BA9,BA9)),"") -> 3 | BD9: 3 | BE9: =IFERROR(IF(LEN(AK9)=0,"",AK9&"-"&AL9),"") -> Customer-3 | BF9: {=IFERROR(IF(AND(COUNTIF($BE$7:$BE9,"")+1=BF$6,LEN($BE9)>0,$AM9>0),MATCH(INDEX($V$7:$V$16,$AM9)&"-"&$AN9,$BQ$7:$BQ$126,0),""),"")} | BG9: {=IFERROR(IF(AND(COUNTIF($BE$7:$BE9,"")+1=BG$6,LEN($BE9)>0,$AM9>0),MATCH(INDEX($V$7:$V$16,$AM9)&"-"&$AN9,$BQ$7:$BQ$126,0),""),"")} | BH9: {=IFERROR(IF(AND(COUNTIF($BE$7:$BE9,"")+1=BH$6,LEN($BE9)>0,$AM9>0),MATCH(INDEX($V$7:$V$16,$AM9)&"-"&$AN9,$BQ$7:$BQ$126,0),""),"")} | BI9: {=IFERROR(IF(AND(COUNTIF($BE$7:$BE9,"")+1=BI$6,LEN($BE9)>0,$AM9>0),MATCH(INDEX($V$7:$V$16,$AM9)&"-"&$AN9,$BQ$7:$BQ$126,0),""),"")} | BJ9: {=IFERROR(IF(AND(COUNTIF($BE$7:$BE9,"")+1=BJ$6,LEN($BE9)>0,$AM9>0),MATCH(INDEX($V$7:$V$16,$AM9)&"-"&$AN9,$BQ$7:$BQ$126,0),""),"")} | BK9: {=IFERROR(IF(AND(COUNTIF($BE$7:$BE9,"")+1=BK$6,LEN($BE9)>0,$AM9>0),MATCH(INDEX($V$7:$V$16,$AM9)&"-"&$AN9,$BQ$7:$BQ$126,0),""),"")} | BL9: {=IFERROR(IF(AND(COUNTIF($BE$7:$BE9,"")+1=BL$6,LEN($BE9)>0,$AM9>0),MATCH(INDEX($V$7:$V$16,$AM9)&"-"&$AN9,$BQ$7:$BQ$126,0),""),"")} | BM9: {=IFERROR(IF(AND(COUNTIF($BE$7:$BE9,"")+1=BM$6,LEN($BE9)>0,$AM9>0),MATCH(INDEX($V$7:$V$16,$AM9)&"-"&$AN9,$BQ$7:$BQ$126,0),""),"")} | ... BP9: {=IFERROR(IF(AND(COUNTIF($BE$7:$BE9,"")+1=BP$6,LEN($BE9)>0,$AM9>0),MATCH(INDEX($V$7:$V$16,$AM9)&"-"&$AN9,$BQ$7:$BQ$126,0),""),"")} | BQ9: =IF(LEN(AO9)=0,"",AO9&"-"&AP9) | BR9: {=IFERROR(IF(AND(COUNTIF($BQ$7:$BQ9,"")+1=BR$6,LEN($BQ9)>0,$AQ9>0),MATCH(INDEX($W$7:$W$16,$AQ9)&"-"&$AR9,$CC$7:$CC$126,0),""),"")} | BS9: {=IFERROR(IF(AND(COUNTIF($BQ$7:$BQ9,"")+1=BS$6,LEN($BQ9)>0,$AQ9>0),MATCH(INDEX($W$7:$W$16,$AQ9)&"-"&$AR9,$CC$7:$CC$126,0),""),"")} | BT9: {=IFERROR(IF(AND(COUNTIF($BQ$7:$BQ9,"")+1=BT$6,LEN($BQ9)>0,$AQ9>0),MATCH(INDEX($W$7:$W$16,$AQ9)&"-"&$AR9,$CC$7:$CC$126,0),""),"")} | BU9: {=IFERROR(IF(AND(COUNTIF($BQ$7:$BQ9,"")+1=BU$6,LEN($BQ9)>0,$AQ9>0),MATCH(INDEX($W$7:$W$16,$AQ9)&"-"&$AR9,$CC$7:$CC$126,0),""),"")} | BV9: {=IFERROR(IF(AND(COUNTIF($BQ$7:$BQ9,"")+1=BV$6,LEN($BQ9)>0,$AQ9>0),MATCH(INDEX($W$7:$W$16,$AQ9)&"-"&$AR9,$CC$7:$CC$126,0),""),"")} | BW9: {=IFERROR(IF(AND(COUNTIF($BQ$7:$BQ9,"")+1=BW$6,LEN($BQ9)>0,$AQ9>0),MATCH(INDEX($W$7:$W$16,$AQ9)&"-"&$AR9,$CC$7:$CC$126,0),""),"")} | BX9: {=IFERROR(IF(AND(COUNTIF($BQ$7:$BQ9,"")+1=BX$6,LEN($BQ9)>0,$AQ9>0),MATCH(INDEX($W$7:$W$16,$AQ9)&"-"&$AR9,$CC$7:$CC$126,0),""),"")} | BY9: {=IFERROR(IF(AND(COUNTIF($BQ$7:$BQ9,"")+1=BY$6,LEN($BQ9)>0,$AQ9>0),MATCH(INDEX($W$7:$W$16,$AQ9)&"-"&$AR9,$CC$7:$CC$126,0),""),"")} | ... CB9: {=IFERROR(IF(AND(COUNTIF($BQ$7:$BQ9,"")+1=CB$6,LEN($BQ9)>0,$AQ9>0),MATCH(INDEX($W$7:$W$16,$AQ9)&"-"&$AR9,$CC$7:$CC$126,0),""),"")} | CC9: =IFERROR(IF(LEN(AS9)=0,"",AS9&"-"&AT9),"") | CD9: {=IFERROR(IF(AND(COUNTIF($CC$7:$CC9,"")+1=CD$6,LEN($CC9)>0,$AU9>0),MATCH(INDEX($X$7:$X$16,$AU9)&"-"&$AV9,$CO$7:$CO$126,0),""),"")} | CE9: {=IFERROR(IF(AND(COUNTIF($CC$7:$CC9,"")+1=CE$6,LEN($CC9)>0,$AU9>0),MATCH(INDEX($X$7:$X$16,$AU9)&"-"&$AV9,$CO$7:$CO$126,0),""),"")} | CF9: {=IFERROR(IF(AND(COUNTIF($CC$7:$CC9,"")+1=CF$6,LEN($CC9)>0,$AU9>0),MATCH(INDEX($X$7:$X$16,$AU9)&"-"&$AV9,$CO$7:$CO$126,0),""),"")} | CG9: {=IFERROR(IF(AND(COUNTIF($CC$7:$CC9,"")+1=CG$6,LEN($CC9)>0,$AU9>0),MATCH(INDEX($X$7:$X$16,$AU9)&"-"&$AV9,$CO$7:$CO$126,0),""),"")} | CH9: {=IFERROR(IF(AND(COUNTIF($CC$7:$CC9,"")+1=CH$6,LEN($CC9)>0,$AU9>0),MATCH(INDEX($X$7:$X$16,$AU9)&"-"&$AV9,$CO$7:$CO$126,0),""),"")} | CI9: {=IFERROR(IF(AND(COUNTIF($CC$7:$CC9,"")+1=CI$6,LEN($CC9)>0,$AU9>0),MATCH(INDEX($X$7:$X$16,$AU9)&"-"&$AV9,$CO$7:$CO$126,0),""),"")} | CJ9: {=IFERROR(IF(AND(COUNTIF($CC$7:$CC9,"")+1=CJ$6,LEN($CC9)>0,$AU9>0),MATCH(INDEX($X$7:$X$16,$AU9)&"-"&$AV9,$CO$7:$CO$126,0),""),"")} | CK9: {=IFERROR(IF(AND(COUNTIF($CC$7:$CC9,"")+1=CK$6,LEN($CC9)>0,$AU9>0),MATCH(INDEX($X$7:$X$16,$AU9)&"-"&$AV9,$CO$7:$CO$126,0),""),"")} | ... CN9: {=IFERROR(IF(AND(COUNTIF($CC$7:$CC9,"")+1=CN$6,LEN($CC9)>0,$AU9>0),MATCH(INDEX($X$7:$X$16,$AU9)&"-"&$AV9,$CO$7:$CO$126,0),""),"")} | CO9: =IFERROR(IF(LEN(AW9)=0,"",AW9&"-"&AX9),"") | CP9: {=IFERROR(IF(AND(COUNTIF($CO$7:$CO9,"")+1=CP$6,LEN($CO9)>0,$AY9>0),MATCH(INDEX($Y$7:$Y$16,$AY9)&"-"&$AZ9,$DA$7:$DA$126,0),""),"")} | CQ9: {=IFERROR(IF(AND(COUNTIF($CO$7:$CO9,"")+1=CQ$6,LEN($CO9)>0,$AY9>0),MATCH(INDEX($Y$7:$Y$16,$AY9)&"-"&$AZ9,$DA$7:$DA$126,0),""),"")} | CR9: {=IFERROR(IF(AND(COUNTIF($CO$7:$CO9,"")+1=CR$6,LEN($CO9)>0,$AY9>0),MATCH(INDEX($Y$7:$Y$16,$AY9)&"-"&$AZ9,$DA$7:$DA$126,0),""),"")} | CS9: {=IFERROR(IF(AND(COUNTIF($CO$7:$CO9,"")+1=CS$6,LEN($CO9)>0,$AY9>0),MATCH(INDEX($Y$7:$Y$16,$AY9)&"-"&$AZ9,$DA$7:$DA$126,0),""),"")} | CT9: {=IFERROR(IF(AND(COUNTIF($CO$7:$CO9,"")+1=CT$6,LEN($CO9)>0,$AY9>0),MATCH(INDEX($Y$7:$Y$16,$AY9)&"-"&$AZ9,$DA$7:$DA$126,0),""),"")} | CU9: {=IFERROR(IF(AND(COUNTIF($CO$7:$CO9,"")+1=CU$6,LEN($CO9)>0,$AY9>0),MATCH(INDEX($Y$7:$Y$16,$AY9)&"-"&$AZ9,$DA$7:$DA$126,0),""),"")} | CV9: {=IFERROR(IF(AND(COUNTIF($CO$7:$CO9,"")+1=CV$6,LEN($CO9)>0,$AY9>0),MATCH(INDEX($Y$7:$Y$16,$AY9)&"-"&$AZ9,$DA$7:$DA$126,0),""),"")} | CW9: {=IFERROR(IF(AND(COUNTIF($CO$7:$CO9,"")+1=CW$6,LEN($CO9)>0,$AY9>0),MATCH(INDEX($Y$7:$Y$16,$AY9)&"-"&$AZ9,$DA$7:$DA$126,0),""),"")} | ... CZ9: {=IFERROR(IF(AND(COUNTIF($CO$7:$CO9,"")+1=CZ$6,LEN($CO9)>0,$AY9>0),MATCH(INDEX($Y$7:$Y$16,$AY9)&"-"&$AZ9,$DA$7:$DA$126,0),""),"")} | DA9: =IF(LEN(BA9)=0,"",BA9&"-"&BB9) -> Customer-3 | DC9: {=IFERROR(IF(LEN(BQ9)=0,"",SUM((BF$7:BO$126=$BD9)*(BF$6:BO$6))),"")} | DD9: {=IFERROR(IF(LEN(CC9)=0,"",SUM((BR$7:CA$126=$BD9)*(BR$6:CA$6))),"")} | DE9: {=IFERROR(IF(LEN(CO9)=0,"",SUM((CD$7:CM$126=$BD9)*(CD$6:CM$6))),"")} | DF9: {=IFERROR(IF(LEN(DA9)=0,"",SUM((CP$7:CY$126=$BD9)*(CP$6:CY$6))),"")} -> 4
