Workbook
Name Category: Dashboard!$C$8
Name dact: OFFSET(Cal!$BD$20,,,Cal!$BC$19)
Name Dactual: OFFSET(Cal!$AX$9,,,,Cal!$BJ$7)
Name dresp: OFFSET(Cal!$BC$20,,,Cal!$BC$19)
Name dsipoc: OFFSET(Cal!$AW$41,,,,Cal!$BB$41)
Name dstatus: OFFSET(Cal!$AW$16,,,,Cal!$BD$16)
Name Dtarget: OFFSET(Cal!$AX$8,,,,Cal!$BJ$7)
Name Item: Dashboard!$E$8
Name Mcategory: Dashboard!$I$22
Name Metric: Dashboard!$K$22
Name Month: Dashboard!$I$8
Name Process1: Menu!$C$10
Name Process2: Menu!$E$10
Name Process3: Menu!$G$10
Name Process4: Menu!$I$10
Name Process5: Menu!$K$10
Name Process6: Menu!$M$10
Name Responsible: Dashboard!$G$8
Name Status: Dashboard!$K$8

Sheet Menu
C2: SIPOC DIAGRAM EXCEL TEMPLATE
C3: MENU
C7: PROCESS FLOW
C9: 1. Step of the process | E9: 2. Step of the process | G9: 3. Step of the process | I9: 4. Step of the process | K9: 5. Step of the process | M9: 6. Step of the process
C10: Customer goes to the queue | E10: Customer orders the coffee | G10: Preparation of coffee | I10: Serving the order
C12: NAVIGATION | K12: SETTINGS
C14: INPUT FIELD | I14: OUTPUT FIELD | K14: Responsible | M14: Action Status
K15: Jemima Begum | M15: Not Started
K16: Mercedes Banks | M16: In Progress
K17: Macauley Peck | M17: Finished
K18: Hannah Shaw | M18: Cancelled
K19: Brad Pitt

Sheet InputList
B2: SIPOC DIAGRAM EXCEL TEMPLATE
B3: INPUT & SUPPLIER
B6: Process Flow --> | C6: =IFERROR(IF(LEN(Cond!W21)=0,"",Cond!W21),"") -> Customer goes to the queue | D6: =IFERROR(IF(LEN(Cond!W22)=0,"",Cond!W22),"") -> Customer orders the coffee | E6: =IFERROR(IF(LEN(Cond!W23)=0,"",Cond!W23),"") -> Preparation of coffee | F6: =IFERROR(IF(LEN(Cond!W24)=0,"",Cond!W24),"") -> Serving the order | G6: =IFERROR(IF(LEN(Cond!W25)=0,"",Cond!W25),"") | H6: =IFERROR(IF(LEN(Cond!W21)=0,"",Cond!W26),"")
B8: INPUT & PROCESS RELATION
B10: INPUTS | C10: PROCESSES USED IN
B11: Queue | C11: Customer goes to the queue
B12: Money | C12: Customer orders the coffee
B13: Coffee beans | C13: Preparation of coffee
B14: Ingredients ( Milk, Sugar, Chocolate etc.) | C14: Preparation of coffee
B15: Cookie | C15: Serving the order
B16: Supplies(Cup, tissue, straw etc.) | C16: Serving the order
B22: SUPPLIER & INPUT RELATION
B24: SUPPLIERS | C24: INPUTS SUPPLIED
B25: Customer | C25: Money | D25: Queue
B26: Cashier | C26: Money
B27: Manufacturer | C27: Coffee beans | D27: Cookie | E27: Supplies(Cup, tissue, straw etc.) | F27: Ingredients ( Milk, Sugar, Chocolate etc.)

Sheet OutputList
B2: SIPOC DIAGRAM EXCEL TEMPLATE
B3: OUTPUT &CUSTOMER
B6: Process Flow --> | C6: =IFERROR(IF(LEN(Cond!W21)=0,"",Cond!W21),"") -> Customer goes to the queue | D6: =IFERROR(IF(LEN(Cond!W22)=0,"",Cond!W22),"") -> Customer orders the coffee | E6: =IFERROR(IF(LEN(Cond!W23)=0,"",Cond!W23),"") -> Preparation of coffee | F6: =IFERROR(IF(LEN(Cond!W24)=0,"",Cond!W24),"") -> Serving the order | G6: =IFERROR(IF(LEN(Cond!W25)=0,"",Cond!W25),"") | H6: =IFERROR(IF(LEN(Cond!W21)=0,"",Cond!W26),"")
B8: OUTPUT LIST
B10: OUTPUTS | C10: PROVIDED BY PROCESSES
B11: Giving a queue number | C11: Customer goes to the queue
B12: Bill | C12: Customer orders the coffee
B13: Order details | C13: Customer orders the coffee
B14: Coffee | C14: Preparation of coffee
B15: Order | C15: Serving the order
B22: CUSTOMER LIST
B24: CUSTOMERS | C24: OUTPUTS RECEIVED
B25: Customer | C25: Giving a queue number | D25: Bill | E25: Coffee | F25: Order
B26: Barista | C26: Order details

Sheet Sipoc
C2: SIPOC DIAGRAM EXCEL TEMPLATE
C3: SIPOC
C6: S | O6: I | AA6: P | AM6: O | AY6: C
C8: =IF(ISNUMBER(MATCH(Cond!AJ7,Cond!$AH$7:$AH$16,0)),Cond!AK7,"") | O8: =IF(ISNUMBER(MATCH(Cond!AJ7,Cond!$AH$19:$AH$28,0)),Cond!AO7,"") -> Queue | AA8: =IF(ISNUMBER(MATCH(Cond!AJ7,Cond!$AH$31:$AH$40,0)),Cond!AS7,"") -> Customer goes to the queue | AM8: =IF(ISNUMBER(MATCH(Cond!AJ7,Cond!$AH$43:$AH$52,0)),Cond!AW7,"") -> Giving a queue number | AY8: =IF(ISNUMBER(MATCH(Cond!AJ7,Cond!$AH$55:$AH$64,0)),Cond!BA7,"")
C9: =IF(ISNUMBER(MATCH(Cond!AJ8,Cond!$AH$7:$AH$16,0)),Cond!AK8,"") -> Customer | O9: =IF(ISNUMBER(MATCH(Cond!AJ8,Cond!$AH$19:$AH$28,0)),Cond!AO8,"") | AA9: =IF(ISNUMBER(MATCH(Cond!AJ8,Cond!$AH$31:$AH$40,0)),Cond!AS8,"") | AM9: =IF(ISNUMBER(MATCH(Cond!AJ8,Cond!$AH$43:$AH$52,0)),Cond!AW8,"") | AY9: =IF(ISNUMBER(MATCH(Cond!AJ8,Cond!$AH$55:$AH$64,0)),Cond!BA8,"")
C10: =IF(ISNUMBER(MATCH(Cond!AJ9,Cond!$AH$7:$AH$16,0)),Cond!AK9,"") | O10: =IF(ISNUMBER(MATCH(Cond!AJ9,Cond!$AH$19:$AH$28,0)),Cond!AO9,"") | AA10: =IF(ISNUMBER(MATCH(Cond!AJ9,Cond!$AH$31:$AH$40,0)),Cond!AS9,"") | AM10: =IF(ISNUMBER(MATCH(Cond!AJ9,Cond!$AH$43:$AH$52,0)),Cond!AW9,"") | AY10: =IF(ISNUMBER(MATCH(Cond!AJ9,Cond!$AH$55:$AH$64,0)),Cond!BA9,"") -> Customer
C11: =IF(ISNUMBER(MATCH(Cond!AJ10,Cond!$AH$7:$AH$16,0)),Cond!AK10,"") | O11: =IF(ISNUMBER(MATCH(Cond!AJ10,Cond!$AH$19:$AH$28,0)),Cond!AO10,"") | AA11: =IF(ISNUMBER(MATCH(Cond!AJ10,Cond!$AH$31:$AH$40,0)),Cond!AS10,"") | AM11: =IF(ISNUMBER(MATCH(Cond!AJ10,Cond!$AH$43:$AH$52,0)),Cond!AW10,"") -> Bill | AY11: =IF(ISNUMBER(MATCH(Cond!AJ10,Cond!$AH$55:$AH$64,0)),Cond!BA10,"")
C12: =IF(ISNUMBER(MATCH(Cond!AJ11,Cond!$AH$7:$AH$16,0)),Cond!AK11,"") -> Cashier | O12: =IF(ISNUMBER(MATCH(Cond!AJ11,Cond!$AH$19:$AH$28,0)),Cond!AO11,"") -> Money | AA12: =IF(ISNUMBER(MATCH(Cond!AJ11,Cond!$AH$31:$AH$40,0)),Cond!AS11,"") -> Customer orders the coffee | AM12: =IF(ISNUMBER(MATCH(Cond!AJ11,Cond!$AH$43:$AH$52,0)),Cond!AW11,"") | AY12: =IF(ISNUMBER(MATCH(Cond!AJ11,Cond!$AH$55:$AH$64,0)),Cond!BA11,"")
C13: =IF(ISNUMBER(MATCH(Cond!AJ12,Cond!$AH$7:$AH$16,0)),Cond!AK12,"") | O13: =IF(ISNUMBER(MATCH(Cond!AJ12,Cond!$AH$19:$AH$28,0)),Cond!AO12,"") | AA13: =IF(ISNUMBER(MATCH(Cond!AJ12,Cond!$AH$31:$AH$40,0)),Cond!AS12,"") | AM13: =IF(ISNUMBER(MATCH(Cond!AJ12,Cond!$AH$43:$AH$52,0)),Cond!AW12,"") | AY13: =IF(ISNUMBER(MATCH(Cond!AJ12,Cond!$AH$55:$AH$64,0)),Cond!BA12,"")
C14: =IF(ISNUMBER(MATCH(Cond!AJ13,Cond!$AH$7:$AH$16,0)),Cond!AK13,"") | O14: =IF(ISNUMBER(MATCH(Cond!AJ13,Cond!$AH$19:$AH$28,0)),Cond!AO13,"") | AA14: =IF(ISNUMBER(MATCH(Cond!AJ13,Cond!$AH$31:$AH$40,0)),Cond!AS13,"") | AM14: =IF(ISNUMBER(MATCH(Cond!AJ13,Cond!$AH$43:$AH$52,0)),Cond!AW13,"") -> Order details | AY14: =IF(ISNUMBER(MATCH(Cond!AJ13,Cond!$AH$55:$AH$64,0)),Cond!BA13,"") -> Barista
C15: =IF(ISNUMBER(MATCH(Cond!AJ14,Cond!$AH$7:$AH$16,0)),Cond!AK14,"") | O15: =IF(ISNUMBER(MATCH(Cond!AJ14,Cond!$AH$19:$AH$28,0)),Cond!AO14,"") -> Coffee beans | AA15: =IF(ISNUMBER(MATCH(Cond!AJ14,Cond!$AH$31:$AH$40,0)),Cond!AS14,"") | AM15: =IF(ISNUMBER(MATCH(Cond!AJ14,Cond!$AH$43:$AH$52,0)),Cond!AW14,"") | AY15: =IF(ISNUMBER(MATCH(Cond!AJ14,Cond!$AH$55:$AH$64,0)),Cond!BA14,"")
C16: =IF(ISNUMBER(MATCH(Cond!AJ15,Cond!$AH$7:$AH$16,0)),Cond!AK15,"") | O16: =IF(ISNUMBER(MATCH(Cond!AJ15,Cond!$AH$19:$AH$28,0)),Cond!AO15,"") | AA16: =IF(ISNUMBER(MATCH(Cond!AJ15,Cond!$AH$31:$AH$40,0)),Cond!AS15,"") -> Preparation of coffee | AM16: =IF(ISNUMBER(MATCH(Cond!AJ15,Cond!$AH$43:$AH$52,0)),Cond!AW15,"") | AY16: =IF(ISNUMBER(MATCH(Cond!AJ15,Cond!$AH$55:$AH$64,0)),Cond!BA15,"")
C17: =IF(ISNUMBER(MATCH(Cond!AJ16,Cond!$AH$7:$AH$16,0)),Cond!AK16,"") -> Manufacturer | O17: =IF(ISNUMBER(MATCH(Cond!AJ16,Cond!$AH$19:$AH$28,0)),Cond!AO16,"") | AA17: =IF(ISNUMBER(MATCH(Cond!AJ16,Cond!$AH$31:$AH$40,0)),Cond!AS16,"") | AM17: =IF(ISNUMBER(MATCH(Cond!AJ16,Cond!$AH$43:$AH$52,0)),Cond!AW16,"") -> Coffee | AY17: =IF(ISNUMBER(MATCH(Cond!AJ16,Cond!$AH$55:$AH$64,0)),Cond!BA16,"")
C18: =IF(ISNUMBER(MATCH(Cond!AJ17,Cond!$AH$7:$AH$16,0)),Cond!AK17,"") | O18: =IF(ISNUMBER(MATCH(Cond!AJ17,Cond!$AH$19:$AH$28,0)),Cond!AO17,"") -> Ingredients ( Milk, Sugar, Chocolate etc.) | AA18: =IF(ISNUMBER(MATCH(Cond!AJ17,Cond!$AH$31:$AH$40,0)),Cond!AS17,"") | AM18: =IF(ISNUMBER(MATCH(Cond!AJ17,Cond!$AH$43:$AH$52,0)),Cond!AW17,"") | AY18: =IF(ISNUMBER(MATCH(Cond!AJ17,Cond!$AH$55:$AH$64,0)),Cond!BA17,"")
C19: =IF(ISNUMBER(MATCH(Cond!AJ18,Cond!$AH$7:$AH$16,0)),Cond!AK18,"") | O19: =IF(ISNUMBER(MATCH(Cond!AJ18,Cond!$AH$19:$AH$28,0)),Cond!AO18,"") | AA19: =IF(ISNUMBER(MATCH(Cond!AJ18,Cond!$AH$31:$AH$40,0)),Cond!AS18,"") | AM19: =IF(ISNUMBER(MATCH(Cond!AJ18,Cond!$AH$43:$AH$52,0)),Cond!AW18,"") | AY19: =IF(ISNUMBER(MATCH(Cond!AJ18,Cond!$AH$55:$AH$64,0)),Cond!BA18,"")
... C127: =IF(ISNUMBER(MATCH(Cond!AJ126,Cond!$AH$7:$AH$16,0)),Cond!AK126,"") | O127: =IF(ISNUMBER(MATCH(Cond!AJ126,Cond!$AH$19:$AH$28,0)),Cond!AO126,"") | AA127: =IF(ISNUMBER(MATCH(Cond!AJ126,Cond!$AH$31:$AH$40,0)),Cond!AS126,"") | AM127: =IF(ISNUMBER(MATCH(Cond!AJ126,Cond!$AH$43:$AH$52,0)),Cond!AW126,"") | AY127: =IF(ISNUMBER(MATCH(Cond!AJ126,Cond!$AH$55:$AH$64,0)),Cond!BA126,"")

Sheet MetricList
B2: SIPOC DIAGRAM EXCEL TEMPLATE
B3: TARGET & ACTUALIZATION
B6: Category | C6: Supplier | D6: Month | E6: Jan | F6: Feb | G6: Mar | H6: Apr | I6: May | J6: Jun | K6: Jul | L6: Aug | M6: Sep | N6: Oct | O6: Nov | P6: Dec
B7: Name | C7: Cashier | D7: Target | E7: 14 | F7: 14 | G7: 14 | H7: 14 | I7: 14 | J7: 14 | K7: 14 | L7: 14 | M7: 14 | N7: 14 | O7: 14 | P7: 14
B8: Target Name | C8: Average time spent to customer (mins) | D8: Actualization | E8: 13 | F8: 12 | G8: 11 | H8: 11 | I8: 13 | J8: 12
B10: Category | C10: Supplier | D10: Month | E10: Jan | F10: Feb | G10: Mar | H10: Apr | I10: May | J10: Jun | K10: Jul | L10: Aug | M10: Sep | N10: Oct | O10: Nov | P10: Dec
B11: Name | C11: Manufacturer | D11: Target | E11: 5 | F11: 5 | G11: 5 | H11: 5 | I11: 5 | J11: 5 | K11: 5 | L11: 5 | M11: 5 | N11: 5 | O11: 5 | P11: 5
B12: Target Name | C12: Average arrival time for supply (days) | D12: Actualization | E12: 6 | F12: 5.9 | G12: 5.6 | H12: 5.2 | I12: 4.9 | J12: 5
B14: Category | C14: Input | D14: Month | E14: Jan | F14: Feb | G14: Mar | H14: Apr | I14: May | J14: Jun | K14: Jul | L14: Aug | M14: Sep | N14: Oct | O14: Nov | P14: Dec
B15: Name | C15: Queue | D15: Target | E15: 0.03 | F15: 0.03 | G15: 0.03 | H15: 0.03 | I15: 0.03 | J15: 0.03 | K15: 0.03 | L15: 0.03 | M15: 0.03 | N15: 0.03 | O15: 0.03 | P15: 0.03
B16: Target Name | C16: Average waiting time in queue | D16: Actualization | E16: 0.04 | F16: 0.03 | G16: 0.05 | H16: 0.06 | I16: 0.05 | J16: 0.05
B18: Category | C18: Input | D18: Month | E18: Jan | F18: Feb | G18: Mar | H18: Apr | I18: May | J18: Jun | K18: Jul | L18: Aug | M18: Sep | N18: Oct | O18: Nov | P18: Dec
B19: Name | C19: Supplies(Cup, tissue, straw etc.) | D19: Target | E19: 16 | F19: 16 | G19: 16 | H19: 16 | I19: 16 | J19: 16 | K19: 16 | L19: 16 | M19: 16 | N19: 16 | O19: 16 | P19: 16
B20: Target Name | C20: Maximum defect rate (Ratio) | D20: Actualization | E20: 15.96 | F20: 16.12 | G20: 16.02 | H20: 16.02 | I20: 15.92 | J20: 16
B22: Category | C22: Input | D22: Month | E22: Jan | F22: Feb | G22: Mar | H22: Apr | I22: May | J22: Jun | K22: Jul | L22: Aug | M22: Sep | N22: Oct | O22: Nov | P22: Dec
B23: Name | C23: Cookie | D23: Target | E23: 3.6 | F23: 3.6 | G23: 3.6 | H23: 3.6 | I23: 3.6 | J23: 3.6 | K23: 3.6 | L23: 3.6 | M23: 3.6 | N23: 3.6 | O23: 3.6 | P23: 3.6
B24: Target Name | C24: Average weight ( grams) | D24: Actualization | E24: 4 | F24: 3.85 | G24: 3.6 | H24: 3.5 | I24: 3.5 | J24: 3.52
B26: Category | C26: Process | D26: Month | E26: Jan | F26: Feb | G26: Mar | H26: Apr | I26: May | J26: Jun | K26: Jul | L26: Aug | M26: Sep | N26: Oct | O26: Nov | P26: Dec
B27: Name | C27: Preparation of coffee | D27: Target | E27: 250 | F27: 250 | G27: 250 | H27: 250 | I27: 250 | J27: 250 | K27: 250 | L27: 250 | M27: 250 | N27: 250 | O27: 250 | P27: 250
B28: Target Name | C28: Average preparation time (mins) | D28: Actualization | E28: 260 | F28: 270 | G28: 260 | H28: 255 | I28: 240 | J28: 265
B30: Category | C30: Process | D30: Month | E30: Jan | F30: Feb | G30: Mar | H30: Apr | I30: May | J30: Jun | K30: Jul | L30: Aug | M30: Sep | N30: Oct | O30: Nov | P30: Dec
B31: Name | C31: Customer orders the coffee | D31: Target | E31: 5 | F31: 5 | G31: 5 | H31: 5 | I31: 5 | J31: 5 | K31: 5 | L31: 5 | M31: 5 | N31: 5 | O31: 5 | P31: 5
B32: Target Name | C32: Minimum Received Order number (day) | D32: Actualization | E32: 0 | F32: 0 | G32: 1 | H32: 3 | I32: 3 | J32: 2
B34: Category | C34: Customer | D34: Month | E34: Jan | F34: Feb | G34: Mar | H34: Apr | I34: May | J34: Jun | K34: Jul | L34: Aug | M34: Sep | N34: Oct | O34: Nov | P34: Dec
B35: Name | C35: Customer | D35: Target | E35: 60 | F35: 60 | G35: 60 | H35: 60 | I35: 60 | J35: 60 | K35: 60 | L35: 60 | M35: 60 | N35: 60 | O35: 60 | P35: 60
B36: Target Name | C36: Number of negative comment | D36: Actualization | E36: 30 | F36: 32 | G36: 36 | H36: 52 | I36: 55 | J36: 62
B38: Category | C38: Customer | D38: Month | E38: Jan | F38: Feb | G38: Mar | H38: Apr | I38: May | J38: Jun | K38: Jul | L38: Aug | M38: Sep | N38: Oct | O38: Nov | P38: Dec
B39: Name | C39: Customer | D39: Target
B40: Target Name | C40: Number of positive comment | D40: Actualization
B42: Category | D42: Month | E42: Jan | F42: Feb | G42: Mar | H42: Apr | I42: May | J42: Jun | K42: Jul | L42: Aug | M42: Sep | N42: Oct | O42: Nov | P42: Dec
B43: Name | D43: Target
B44: Target Name | D44: Actualization
B46: Category | D46: Month | E46: Jan | F46: Feb | G46: Mar | H46: Apr | I46: May | J46: Jun | K46: Jul | L46: Aug | M46: Sep | N46: Oct | O46: Nov | P46: Dec
B47: Name | D47: Target
B48: Target Name | D48: Actualization
B50: Category | D50: Month | E50: Jan | F50: Feb | G50: Mar | H50: Apr | I50: May | J50: Jun | K50: Jul | L50: Aug | M50: Sep | N50: Oct | O50: Nov | P50: Dec
B51: Name | D51: Target
B52: Target Name | D52: Actualization
B54: Category | D54: Month | E54: Jan | F54: Feb | G54: Mar | H54: Apr | I54: May | J54: Jun | K54: Jul | L54: Aug | M54: Sep | N54: Oct | O54: Nov | P54: Dec
B55: Name | D55: Target
B56: Target Name | D56: Actualization
B58: Category | D58: Month | E58: Jan | F58: Feb | G58: Mar | H58: Apr | I58: May | J58: Jun | K58: Jul | L58: Aug | M58: Sep | N58: Oct | O58: Nov | P58: Dec
B59: Name | D59: Target
B60: Target Name | D60: Actualization
B62: Category | D62: Month | E62: Jan | F62: Feb | G62: Mar | H62: Apr | I62: May | J62: Jun | K62: Jul | L62: Aug | M62: Sep | N62: Oct | O62: Nov | P62: Dec
B63: Name | D63: Target
B64: Target Name | D64: Actualization
B66: Category | D66: Month | E66: Jan | F66: Feb | G66: Mar | H66: Apr | I66: May | J66: Jun | K66: Jul | L66: Aug | M66: Sep | N66: Oct | O66: Nov | P66: Dec
B67: Name | D67: Target
B68: Target Name | D68: Actualization
B70: Category | D70: Month | E70: Jan | F70: Feb | G70: Mar | H70: Apr | I70: May | J70: Jun | K70: Jul | L70: Aug | M70: Sep | N70: Oct | O70: Nov | P70: Dec
B71: Name | D71: Target
B72: Target Name | D72: Actualization
B74: Category | D74: Month | E74: Jan | F74: Feb | G74: Mar | H74: Apr | I74: May | J74: Jun | K74: Jul | L74: Aug | M74: Sep | N74: Oct | O74: Nov | P74: Dec
B75: Name | D75: Target
B76: Target Name | D76: Actualization
B78: Category | D78: Month | E78: Jan | F78: Feb | G78: Mar | H78: Apr | I78: May | J78: Jun | K78: Jul | L78: Aug | M78: Sep | N78: Oct | O78: Nov | P78: Dec
B79: Name | D79: Target
B80: Target Name | D80: Actualization
B82: Category | D82: Month | E82: Jan | F82: Feb | G82: Mar | H82: Apr | I82: May | J82: Jun | K82: Jul | L82: Aug | M82: Sep | N82: Oct | O82: Nov | P82: Dec
B83: Name | D83: Target
B84: Target Name | D84: Actualization
B86: Category | D86: Month | E86: Jan | F86: Feb | G86: Mar | H86: Apr | I86: May | J86: Jun | K86: Jul | L86: Aug | M86: Sep | N86: Oct | O86: Nov | P86: Dec
B87: Name | D87: Target
B88: Target Name | D88: Actualization
B90: Category | D90: Month | E90: Jan | F90: Feb | G90: Mar | H90: Apr | I90: May | J90: Jun | K90: Jul | L90: Aug | M90: Sep | N90: Oct | O90: Nov | P90: Dec
B91: Name | D91: Target
B92: Target Name | D92: Actualization
B94: Category | D94: Month | E94: Jan | F94: Feb | G94: Mar | H94: Apr | I94: May | J94: Jun | K94: Jul | L94: Aug | M94: Sep | N94: Oct | O94: Nov | P94: Dec
B95: Name | D95: Target
B96: Target Name | D96: Actualization
B98: Category | D98: Month | E98: Jan | F98: Feb | G98: Mar | H98: Apr | I98: May | J98: Jun | K98: Jul | L98: Aug | M98: Sep | N98: Oct | O98: Nov | P98: Dec
B99: Name | D99: Target
B100: Target Name | D100: Actualization
B102: Category | D102: Month | E102: Jan | F102: Feb | G102: Mar | H102: Apr | I102: May | J102: Jun | K102: Jul | L102: Aug | M102: Sep | N102: Oct | O102: Nov | P102: Dec
B103: Name | D103: Target
B104: Target Name | D104: Actualization
B106: Category | D106: Month | E106: Jan | F106: Feb | G106: Mar | H106: Apr | I106: May | J106: Jun | K106: Jul | L106: Aug | M106: Sep | N106: Oct | O106: Nov | P106: Dec
B107: Name | D107: Target
B108: Target Name | D108: Actualization
B110: Category | D110: Month | E110: Jan | F110: Feb | G110: Mar | H110: Apr | I110: May | J110: Jun | K110: Jul | L110: Aug | M110: Sep | N110: Oct | O110: Nov | P110: Dec
B111: Name | D111: Target
B112: Target Name | D112: Actualization
B114: Category | D114: Month | E114: Jan | F114: Feb | G114: Mar | H114: Apr | I114: May | J114: Jun | K114: Jul | L114: Aug | M114: Sep | N114: Oct | O114: Nov | P114: Dec
B115: Name | D115: Target
B116: Target Name | D116: Actualization
B118: Category | D118: Month | E118: Jan | F118: Feb | G118: Mar | H118: Apr | I118: May | J118: Jun | K118: Jul | L118: Aug | M118: Sep | N118: Oct | O118: Nov | P118: Dec
B119: Name | D119: Target
B120: Target Name | D120: Actualization
B122: Category | D122: Month | E122: Jan | F122: Feb | G122: Mar | H122: Apr | I122: May | J122: Jun | K122: Jul | L122: Aug | M122: Sep | N122: Oct | O122: Nov | P122: Dec
B123: Name | D123: Target
B124: Target Name | D124: Actualization
B126: Category | D126: Month | E126: Jan | F126: Feb | G126: Mar | H126: Apr | I126: May | J126: Jun | K126: Jul | L126: Aug | M126: Sep | N126: Oct | O126: Nov | P126: Dec
B127: Name | D127: Target
B128: Target Name | D128: Actualization
B130: Category | D130: Month | E130: Jan | F130: Feb | G130: Mar | H130: Apr | I130: May | J130: Jun | K130: Jul | L130: Aug | M130: Sep | N130: Oct | O130: Nov | P130: Dec
B131: Name | D131: Target
B132: Target Name | D132: Actualization
B134: Category | D134: Month | E134: Jan | F134: Feb | G134: Mar | H134: Apr | I134: May | J134: Jun | K134: Jul | L134: Aug | M134: Sep | N134: Oct | O134: Nov | P134: Dec
B135: Name | D135: Target
...

Sheet ActionList
B2: SIPOC DIAGRAM EXCEL TEMPLATE
B3: ACTION LIST
B5: Category | C5: Item Name | D5: Target Name | E5: Action | F5: Responsible Person | G5: Due Date | H5: Progress (%) | I5: Status
B6: =IFERROR(INDEX(Cal!$D$5:$D$506,MATCH(ActionList!D6,Cal!$D$7:$D$506,0)),"") -> Supplier | C6: =IFERROR(INDEX(Cal!$D$5:$D$506,MATCH(ActionList!D6,Cal!$D$6:$D$506,0)),"") -> Cashier | D6: Average time spent to customer (mins) | E6: Prepare a menu list and spread it to the queue | F6: Jemima Begum | G6: 44959 | H6: 100 | I6: Finished
B7: =IFERROR(INDEX(Cal!$D$5:$D$506,MATCH(ActionList!D7,Cal!$D$7:$D$506,0)),"") -> Supplier | C7: =IFERROR(INDEX(Cal!$D$5:$D$506,MATCH(ActionList!D7,Cal!$D$6:$D$506,0)),"") -> Manufacturer | D7: Average arrival time for supply (days) | E7: Set a system that tracks time between ordering and loading | F7: Mercedes Banks | G7: 45200 | H7: 30 | I7: Cancelled
B8: =IFERROR(INDEX(Cal!$D$5:$D$506,MATCH(ActionList!D8,Cal!$D$7:$D$506,0)),"") -> Input | C8: =IFERROR(INDEX(Cal!$D$5:$D$506,MATCH(ActionList!D8,Cal!$D$6:$D$506,0)),"") -> Queue | D8: Average waiting time in queue | E8: Hire new cashier | F8: Mercedes Banks | G8: 45037 | H8: 100 | I8: Finished
B9: =IFERROR(INDEX(Cal!$D$5:$D$506,MATCH(ActionList!D9,Cal!$D$7:$D$506,0)),"") -> Input | C9: =IFERROR(INDEX(Cal!$D$5:$D$506,MATCH(ActionList!D9,Cal!$D$6:$D$506,0)),"") -> Queue | D9: Average waiting time in queue | E9: Educate other to work as cashier | F9: Mercedes Banks | G9: 45170 | H9: 20 | I9: In Progress
B10: =IFERROR(INDEX(Cal!$D$5:$D$506,MATCH(ActionList!D10,Cal!$D$7:$D$506,0)),"") -> Input | C10: =IFERROR(INDEX(Cal!$D$5:$D$506,MATCH(ActionList!D10,Cal!$D$6:$D$506,0)),"") -> Supplies(Cup, tissue, straw etc.) | D10: Maximum defect rate (Ratio) | E10: Create a complaint to the manufacturer Customer Experience System | F10: Hannah Shaw | G10: 44987 | H10: 100 | I10: Finished
B11: =IFERROR(INDEX(Cal!$D$5:$D$506,MATCH(ActionList!D11,Cal!$D$7:$D$506,0)),"") -> Input | C11: =IFERROR(INDEX(Cal!$D$5:$D$506,MATCH(ActionList!D11,Cal!$D$6:$D$506,0)),"") -> Cookie | D11: Average weight ( grams) | E11: Purchase a new kitchen scales make calibration | F11: Brad Pitt | G11: 44969 | H11: 70 | I11: In Progress
B12: =IFERROR(INDEX(Cal!$D$5:$D$506,MATCH(ActionList!D12,Cal!$D$7:$D$506,0)),"") -> Process | C12: =IFERROR(INDEX(Cal!$D$5:$D$506,MATCH(ActionList!D12,Cal!$D$6:$D$506,0)),"") -> Preparation of coffee | D12: Average preparation time (mins) | E12: Apply 5S techniques | F12: Macauley Peck | G12: 45078 | H12: 0 | I12: Not Started
B13: =IFERROR(INDEX(Cal!$D$5:$D$506,MATCH(ActionList!D13,Cal!$D$7:$D$506,0)),"") -> Process | C13: =IFERROR(INDEX(Cal!$D$5:$D$506,MATCH(ActionList!D13,Cal!$D$6:$D$506,0)),"") -> Customer orders the coffee | D13: Minimum Received Order number (day) | E13: Find new marketing channels and us them | F13: Hannah Shaw | G13: 44652 | H13: 60 | I13: In Progress
B14: =IFERROR(INDEX(Cal!$D$5:$D$506,MATCH(ActionList!D14,Cal!$D$7:$D$506,0)),"") -> Customer | C14: =IFERROR(INDEX(Cal!$D$5:$D$506,MATCH(ActionList!D14,Cal!$D$6:$D$506,0)),"") -> Customer | D14: Number of positive comment | E14: Promote 5% discount if the customer put comment to comment box | F14: Jemima Begum | G14: 44927 | H14: 100 | I14: Finished
B15: =IFERROR(INDEX(Cal!$D$5:$D$506,MATCH(ActionList!D15,Cal!$D$7:$D$506,0)),"") -> Customer | C15: =IFERROR(INDEX(Cal!$D$5:$D$506,MATCH(ActionList!D15,Cal!$D$6:$D$506,0)),"") -> Customer | D15: Number of negative comment | E15: Categorize the comments and prepare action to solve | F15: Macauley Peck | G15: 44927 | H15: 30 | I15: In Progress
B16: =IFERROR(INDEX(Cal!$D$5:$D$506,MATCH(ActionList!D16,Cal!$D$7:$D$506,0)),"") | C16: =IFERROR(INDEX(Cal!$D$5:$D$506,MATCH(ActionList!D16,Cal!$D$6:$D$506,0)),"")
B17: =IFERROR(INDEX(Cal!$D$5:$D$506,MATCH(ActionList!D17,Cal!$D$7:$D$506,0)),"") | C17: =IFERROR(INDEX(Cal!$D$5:$D$506,MATCH(ActionList!D17,Cal!$D$6:$D$506,0)),"")

Sheet Dashboard
C2: SIPOC DIAGRAM EXCEL TEMPLATE
C3: DASHBOARD
C7: Category | E7: Step Name | G7: Responsible Person | I7: Month | K7: Status
C8: All | E8: All | G8: All | I8: All | K8: All
I21: Category | K21: Target Name
I22: Customer | K22: Maximum defect rate (Ratio)

Sheet Cond
U3: Max | V3: Max | W3: Max | X3: Max | Y3: Max | BE3: Multiplier | BF3: 0 | BG3: 0 | BH3: 0 | BI3: 0 | BJ3: 0 | BK3: 0 | BL3: 0 | BM3: 0 | BN3: 0 | BO3: 0 | BP3: 0 | BQ3: Multiplier | BR3: 1 | BS3: 1 | BT3: 1 | BU3: 1 | BV3: 1 | BW3: 1 | BX3: 1 | BY3: 1 | BZ3: 1 | CA3: 1 | CB3: 1 | CC3: Multiplier | CD3: 2 | CE3: 2 | CF3: 2 | CG3: 2 | CH3: 2 | CI3: 2 | CJ3: 2 | CK3: 2 | CL3: 2 | CM3: 2 | CN3: 2 | CO3: Multiplier | CP3: 3 | CQ3: 3 | CR3: 3 | CS3: 3 | CT3: 3 | CU3: 3 | CV3: 3 | CW3: 3 | CX3: 3 | CY3: 3 | CZ3: 3
U4: {=MAX((LEN(U7:U16)>0)*$T$7:$T$16)} -> 3 | V4: {=MAX((LEN(V7:V16)>0)*$T$7:$T$16)} -> 6 | W4: {=MAX((LEN(W7:W16)>0)*$T$7:$T$16)} -> 4 | X4: {=MAX((LEN(X7:X16)>0)*$T$7:$T$16)} -> 5 | Y4: {=MAX((LEN(Y7:Y16)>0)*$T$7:$T$16)} -> 2 | AG4: Max | BE4: Min | BF4: {=MIN((IF(LEN(BF$7:BF$126)>0,$BD$7:$BD$126,"")),BF$7:BF$126)} -> 1 | BG4: {=MIN((IF(LEN(BG$7:BG$126)>0,$BD$7:$BD$126,"")),BG$7:BG$126)} -> 5 | BH4: {=MIN((IF(LEN(BH$7:BH$126)>0,$BD$7:$BD$126,"")),BH$7:BH$126)} -> 8 | BI4: {=MIN((IF(LEN(BI$7:BI$126)>0,$BD$7:$BD$126,"")),BI$7:BI$126)} -> 0 | BJ4: {=MIN((IF(LEN(BJ$7:BJ$126)>0,$BD$7:$BD$126,"")),BJ$7:BJ$126)} -> 0 | BK4: {=MIN((IF(LEN(BK$7:BK$126)>0,$BD$7:$BD$126,"")),BK$7:BK$126)} -> 0 | BL4: {=MIN((IF(LEN(BL$7:BL$126)>0,$BD$7:$BD$126,"")),BL$7:BL$126)} -> 0 | BM4: {=MIN((IF(LEN(BM$7:BM$126)>0,$BD$7:$BD$126,"")),BM$7:BM$126)} -> 0 | ... BP4: {=MIN((IF(LEN(BP$7:BP$126)>0,$BD$7:$BD$126,"")),BP$7:BP$126)} -> 0 | BQ4: Min | BR4: {=MIN((IF(LEN(BR$7:BR$126)>0,$BD$7:$BD$126,"")),BR$7:BR$126)} -> 1 | BS4: {=MIN((IF(LEN(BS$7:BS$126)>0,$BD$7:$BD$126,"")),BS$7:BS$126)} -> 4 | BT4: {=MIN((IF(LEN(BT$7:BT$126)>0,$BD$7:$BD$126,"")),BT$7:BT$126)} -> 8 | BU4: {=MIN((IF(LEN(BU$7:BU$126)>0,$BD$7:$BD$126,"")),BU$7:BU$126)} -> 9 | BV4: {=MIN((IF(LEN(BV$7:BV$126)>0,$BD$7:$BD$126,"")),BV$7:BV$126)} -> 12 | BW4: {=MIN((IF(LEN(BW$7:BW$126)>0,$BD$7:$BD$126,"")),BW$7:BW$126)} -> 13 | BX4: {=MIN((IF(LEN(BX$7:BX$126)>0,$BD$7:$BD$126,"")),BX$7:BX$126)} -> 0 | BY4: {=MIN((IF(LEN(BY$7:BY$126)>0,$BD$7:$BD$126,"")),BY$7:BY$126)} -> 0 | ... CB4: {=MIN((IF(LEN(CB$7:CB$126)>0,$BD$7:$BD$126,"")),CB$7:CB$126)} -> 0 | CC4: Min | CD4: {=MIN((IF(LEN(CD$7:CD$126)>0,$BD$7:$BD$126,"")),CD$7:CD$126)} -> 1 | CE4: {=MIN((IF(LEN(CE$7:CE$126)>0,$BD$7:$BD$126,"")),CE$7:CE$126)} -> 4 | CF4: {=MIN((IF(LEN(CF$7:CF$126)>0,$BD$7:$BD$126,"")),CF$7:CF$126)} -> 8 | CG4: {=MIN((IF(LEN(CG$7:CG$126)>0,$BD$7:$BD$126,"")),CG$7:CG$126)} -> 12 | CH4: {=MIN((IF(LEN(CH$7:CH$126)>0,$BD$7:$BD$126,"")),CH$7:CH$126)} -> 0 | CI4: {=MIN((IF(LEN(CI$7:CI$126)>0,$BD$7:$BD$126,"")),CI$7:CI$126)} -> 0 | CJ4: {=MIN((IF(LEN(CJ$7:CJ$126)>0,$BD$7:$BD$126,"")),CJ$7:CJ$126)} -> 0 | CK4: {=MIN((IF(LEN(CK$7:CK$126)>0,$BD$7:$BD$126,"")),CK$7:CK$126)} -> 0 | ... CN4: {=MIN((IF(LEN(CN$7:CN$126)>0,$BD$7:$BD$126,"")),CN$7:CN$126)} -> 0 | CO4: Min | CP4: {=MIN((IF(LEN(CP$7:CP$126)>0,$BD$7:$BD$126,"")),CP$7:CP$126)} -> 1 | CQ4: {=MIN((IF(LEN(CQ$7:CQ$126)>0,$BD$7:$BD$126,"")),CQ$7:CQ$126)} -> 2 | CR4: {=MIN((IF(LEN(CR$7:CR$126)>0,$BD$7:$BD$126,"")),CR$7:CR$126)} -> 7 | CS4: {=MIN((IF(LEN(CS$7:CS$126)>0,$BD$7:$BD$126,"")),CS$7:CS$126)} -> 3 | CT4: {=MIN((IF(LEN(CT$7:CT$126)>0,$BD$7:$BD$126,"")),CT$7:CT$126)} -> 4 | CU4: {=MIN((IF(LEN(CU$7:CU$126)>0,$BD$7:$BD$126,"")),CU$7:CU$126)} -> 0 | CV4: {=MIN((IF(LEN(CV$7:CV$126)>0,$BD$7:$BD$126,"")),CV$7:CV$126)} -> 0 | CW4: {=MIN((IF(LEN(CW$7:CW$126)>0,$BD$7:$BD$126,"")),CW$7:CW$126)} -> 0 | ... CZ4: {=MIN((IF(LEN(CZ$7:CZ$126)>0,$BD$7:$BD$126,"")),CZ$7:CZ$126)} -> 0
Q5: Full Data | U5: UniqueList | AG5: =MAX(AG7:AG64)+2 -> 20 | BE5: Max | BF5: {=MAX(BF$7:BF$126,(LEN(BF$7:BF$126)>0)*$BD$7:$BD$126)} -> 4 | BG5: {=MAX(BG$7:BG$126,(LEN(BG$7:BG$126)>0)*$BD$7:$BD$126)} -> 5 | BH5: {=MAX(BH$7:BH$126,(LEN(BH$7:BH$126)>0)*$BD$7:$BD$126)} -> 17 | BI5: {=MAX(BI$7:BI$126,(LEN(BI$7:BI$126)>0)*$BD$7:$BD$126)} -> 0 | BJ5: {=MAX(BJ$7:BJ$126,(LEN(BJ$7:BJ$126)>0)*$BD$7:$BD$126)} -> 0 | BK5: {=MAX(BK$7:BK$126,(LEN(BK$7:BK$126)>0)*$BD$7:$BD$126)} -> 0 | BL5: {=MAX(BL$7:BL$126,(LEN(BL$7:BL$126)>0)*$BD$7:$BD$126)} -> 0 | BM5: {=MAX(BM$7:BM$126,(LEN(BM$7:BM$126)>0)*$BD$7:$BD$126)} -> 0 | ... BP5: {=MAX(BP$7:BP$126,(LEN(BP$7:BP$126)>0)*$BD$7:$BD$126)} -> 0 | BQ5: Max | BR5: {=MAX(BR$7:BR$126,(LEN(BR$7:BR$126)>0)*$BD$7:$BD$126)} -> 1 | BS5: {=MAX(BS$7:BS$126,(LEN(BS$7:BS$126)>0)*$BD$7:$BD$126)} -> 5 | BT5: {=MAX(BT$7:BT$126,(LEN(BT$7:BT$126)>0)*$BD$7:$BD$126)} -> 8 | BU5: {=MAX(BU$7:BU$126,(LEN(BU$7:BU$126)>0)*$BD$7:$BD$126)} -> 11 | BV5: {=MAX(BV$7:BV$126,(LEN(BV$7:BV$126)>0)*$BD$7:$BD$126)} -> 14 | BW5: {=MAX(BW$7:BW$126,(LEN(BW$7:BW$126)>0)*$BD$7:$BD$126)} -> 17 | BX5: {=MAX(BX$7:BX$126,(LEN(BX$7:BX$126)>0)*$BD$7:$BD$126)} -> 0 | BY5: {=MAX(BY$7:BY$126,(LEN(BY$7:BY$126)>0)*$BD$7:$BD$126)} -> 0 | ... CB5: {=MAX(CB$7:CB$126,(LEN(CB$7:CB$126)>0)*$BD$7:$BD$126)} -> 0 | CC5: Max | CD5: {=MAX(CD$7:CD$126,(LEN(CD$7:CD$126)>0)*$BD$7:$BD$126)} -> 1 | CE5: {=MAX(CE$7:CE$126,(LEN(CE$7:CE$126)>0)*$BD$7:$BD$126)} -> 7 | CF5: {=MAX(CF$7:CF$126,(LEN(CF$7:CF$126)>0)*$BD$7:$BD$126)} -> 10 | CG5: {=MAX(CG$7:CG$126,(LEN(CG$7:CG$126)>0)*$BD$7:$BD$126)} -> 13 | CH5: {=MAX(CH$7:CH$126,(LEN(CH$7:CH$126)>0)*$BD$7:$BD$126)} -> 0 | CI5: {=MAX(CI$7:CI$126,(LEN(CI$7:CI$126)>0)*$BD$7:$BD$126)} -> 0 | CJ5: {=MAX(CJ$7:CJ$126,(LEN(CJ$7:CJ$126)>0)*$BD$7:$BD$126)} -> 0 | CK5: {=MAX(CK$7:CK$126,(LEN(CK$7:CK$126)>0)*$BD$7:$BD$126)} -> 0 | ... CN5: {=MAX(CN$7:CN$126,(LEN(CN$7:CN$126)>0)*$BD$7:$BD$126)} -> 0 | CO5: Max | CP5: {=MAX(CP$7:CP$126,(LEN(CP$7:CP$126)>0)*$BD$7:$BD$126)} -> 1 | CQ5: {=MAX(CQ$7:CQ$126,(LEN(CQ$7:CQ$126)>0)*$BD$7:$BD$126)} -> 4 | CR5: {=MAX(CR$7:CR$126,(LEN(CR$7:CR$126)>0)*$BD$7:$BD$126)} -> 7 | CS5: {=MAX(CS$7:CS$126,(LEN(CS$7:CS$126)>0)*$BD$7:$BD$126)} -> 10 | CT5: {=MAX(CT$7:CT$126,(LEN(CT$7:CT$126)>0)*$BD$7:$BD$126)} -> 13 | CU5: {=MAX(CU$7:CU$126,(LEN(CU$7:CU$126)>0)*$BD$7:$BD$126)} -> 0 | CV5: {=MAX(CV$7:CV$126,(LEN(CV$7:CV$126)>0)*$BD$7:$BD$126)} -> 0 | CW5: {=MAX(CW$7:CW$126,(LEN(CW$7:CW$126)>0)*$BD$7:$BD$126)} -> 0 | ... CZ5: {=MAX(CZ$7:CZ$126,(LEN(CZ$7:CZ$126)>0)*$BD$7:$BD$126)} -> 0
B6: Suuplier | C6: 1 | D6: 2 | E6: 3 | F6: 4 | G6: 5 | H6: 6 | I6: 7 | J6: 8 | K6: 9 | L6: 10 | O6: Row | P6: Column | Q6: Input | R6: Supplier | T6: Index | U6: Supplier | V6: Input | W6: Process | X6: Output | Y6: Customer | AA6: Index | AB6: Supplier | AC6: subsequent | AD6: precedent | AE6: Max Node | AF6: From | AG6: To | AH6: Mid | AJ6: Index | AK6: Supplier | AL6: Count | AM6: to | AN6: Node | AO6: Input | AP6: Count | AQ6: to | AR6: Node | AS6: Process | AT6: Count | AU6: to | AV6: Node | AW6: Output | AX6: Count | AY6: to | AZ6: Node | BA6: Customer | BB6: Count | BD6: Index | BE6: Supplier | BF6: 1 | BG6: 2 | BH6: 3 | BI6: 4 | BJ6: 5 | BK6: 6 | BL6: 7 | BM6: 8 | BN6: 9 | BO6: 10 | BP6: 11 | BQ6: Input | BR6: 1 | BS6: 2 | BT6: 3 | BU6: 4 | BV6: 5 | BW6: 6 | BX6: 7 | BY6: 8 | BZ6: 9 | CA6: 10 | CB6: 11 | CC6: Process | CD6: 1 | CE6: 2 | CF6: 3 | CG6: 4 | CH6: 5 | CI6: 6 | CJ6: 7 | CK6: 8 | CL6: 9 | CM6: 10 | CN6: 11 | CO6: Outpput | CP6: 1 | CQ6: 2 | CR6: 3 | CS6: 4 | CT6: 5 | CU6: 6 | CV6: 7 | CW6: 8 | CX6: 9 | CY6: 10 | CZ6: 11 | DA6: Outpput | DC6: Supplier | DD6: Input | DE6: Process | DF6: Outpput
B7: Process | C7: =IF(LEN(INDEX($W$7:$W$16,C6))=0,"",INDEX($W$7:$W$16,C6)) -> Customer goes to the queue | D7: =IF(LEN(INDEX($W$7:$W$16,D6))=0,"",INDEX($W$7:$W$16,D6)) -> Customer orders the coffee | E7: =IF(LEN(INDEX($W$7:$W$16,E6))=0,"",INDEX($W$7:$W$16,E6)) -> Preparation of coffee | F7: =IF(LEN(INDEX($W$7:$W$16,F6))=0,"",INDEX($W$7:$W$16,F6)) -> Serving the order | G7: =IF(LEN(INDEX($W$7:$W$16,G6))=0,"",INDEX($W$7:$W$16,G6)) | H7: =IF(LEN(INDEX($W$7:$W$16,H6))=0,"",INDEX($W$7:$W$16,H6)) | I7: =IF(LEN(INDEX($W$7:$W$16,I6))=0,"",INDEX($W$7:$W$16,I6)) | J7: =IF(LEN(INDEX($W$7:$W$16,J6))=0,"",INDEX($W$7:$W$16,J6)) | ... L7: =IF(LEN(INDEX($W$7:$W$16,L6))=0,"",INDEX($W$7:$W$16,L6)) | M7: Count | O7: 1 | P7: 1 | Q7: =IFERROR(INDEX($C$8:$L$17,$O7,$P7),"") -> Queue | R7: =IFERROR(INDEX($C$23:$L$32,$O7,$P7),"") -> Customer | T7: 1 | U7: =IFERROR(IF(LEN(INDEX(InputList!$B$25:$B$34,Cond!T7))=0,"",INDEX(InputList!$B$25:$B$34,Cond!T7)),"") -> Customer | V7: =IFERROR(IF(LEN(INDEX(InputList!$B$11:$B$20,Cond!T7))=0,"",INDEX(InputList!$B$11:$B$20,Cond!T7)),"") -> Queue | W7: =IF(LEN(Process1)=0,"",Process1) -> Customer goes to the queue | X7: =IFERROR(IF(LEN(INDEX(OutputList!$B$11:$B$20,Cond!T7))=0,"",INDEX(OutputList!$B$11:$B$20,Cond!T7)),"") -> Giving a queue number | Y7: =IFERROR(IF(LEN(INDEX(OutputList!$B$25:$B$34,Cond!T7))=0,"",INDEX(OutputList!$B$25:$B$34,Cond!T7)),"") -> Customer | AA7: 1 | AB7: =U7 -> Customer | AC7: =IFERROR(IF(LEN(AB7)=0,"",INDEX($M$23:$M$32,AA7)),"") -> 2 | AD7: =IF(LEN(AB7)=0,"",0) -> 0 | AE7: =IF(LEN(AB7)=0,"",MAX(AC7:AD7)) -> 2 | AF7: =IFERROR(IF(LEN(AB7)=0,"",1),"") -> 1 | AG7: =IFERROR(IF(LEN(AB7)=0,"",AF7+AE7),"") -> 3 | AH7: =IFERROR(IF(LEN(AB7)=0,"",ROUNDDOWN((AG7-AF7)/2,0)+AF7),"") -> 2 | AJ7: 1 | AK7: {=IFERROR(IF(MAX(($AJ7>=$AF$7:$AF$16)*($AJ7<=$AG$7:$AG$16)*$AA$7:$AA$16)=0,"",INDEX($AB$7:$AB$16,MAX(($AJ7>=$AF$7:$AF$16)*($AJ7<=$AG$7:$AG$16)*$AA$7:$AA$16))),"")} -> Customer | AL7: =IFERROR(IF(LEN(AK7)=0,"",COUNTIF(AK$7:AK7,AK7)),"") -> 1 | AM7: {=IFERROR(IF(LEN(AK7)=0,"",LARGE((AK7=$R$7:$R$126)*($P$7:$P$126),COUNTIF(AK7:AK$126,AK7)-1)),"")} -> 1 | AN7: =IFERROR(IF(LEN(AK7)=0,"",COUNTIF(AM$7:AM7,AM7)),"") -> 1 | AO7: {=IFERROR(IF(MAX(($AJ7>=$AF$19:$AF$28)*($AJ7<=$AG$19:$AG$28)*$AA$19:$AA$28)=0,"",INDEX($AB$19:$AB$28,MAX(($AJ7>=$AF$19:$AF$28)*($AJ7<=$AG$19:$AG$28)*$AA$19:$AA$28))),"")} -> Queue | AP7: =IFERROR(IF(LEN(AO7)=0,"",COUNTIF(AO$7:AO7,AO7)),"") -> 1 | AQ7: {=IFERROR(IF(LEN(AO7)=0,"",LARGE((AO7=$Q$7:$Q$126)*($P$7:$P$126),COUNTIF(AO7:AO$126,AO7)-1)),"")} -> 1 | AR7: =IFERROR(IF(LEN(AO7)=0,"",COUNTIF(AQ$7:AQ7,AQ7)),"") -> 1 | AS7: {=IFERROR(IF(MAX(($AJ7>=$AF$31:$AF$40)*($AJ7<=$AG$31:$AG$40)*$AA$31:$AA$40)=0,"",INDEX($AB$31:$AB$40,MAX(($AJ7>=$AF$31:$AF$40)*($AJ7<=$AG$31:$AG$40)*$AA$31:$AA$40))),"")} -> Customer goes to the queue | AT7: =IFERROR(IF(LEN(AS7)=0,"",COUNTIF(AS$7:AS7,AS7)),"") -> 1 | AU7: =IFERROR(IF(LEN(AS7)=0,"",INDEX($C$68:$L$77,AT7,MATCH(AS7,$AB$31:$AB$40,0))),"") -> 1 | AV7: =IFERROR(IF(LEN(AU7)=0,"",COUNTIF(AU$7:AU7,AU7)),"") -> 1 | AW7: {=IFERROR(IF(MAX(($AJ7>=$AF$43:$AF$52)*($AJ7<=$AG$43:$AG$52)*$AA$43:$AA$52)=0,"",INDEX($AB$43:$AB$52,MAX(($AJ7>=$AF$43:$AF$52)*($AJ7<=$AG$43:$AG$52)*$AA$43:$AA$52))),"")} -> Giving a queue number | AX7: =IFERROR(IF(LEN(AW7)=0,"",COUNTIF(AW$7:AW7,AW7)),"") -> 1 | AY7: =IFERROR(IF(LEN(AW7)=0,"",INDEX($C$83:$L$92,AX7,MATCH(AW7,$AB$43:$AB$52,0))),"") -> 1 | AZ7: =IFERROR(IF(LEN(AY7)=0,"",COUNTIF(AY$7:AY7,AY7)),"") -> 1 | BA7: {=IFERROR(IF(MAX(($AJ7>=$AF$55:$AF$64)*($AJ7<=$AG$55:$AG$64)*$AA$55:$AA$64)=0,"",INDEX($AB$55:$AB$64,MAX(($AJ7>=$AF$55:$AF$64)*($AJ7<=$AG$55:$AG$64)*$AA$55:$AA$64))),"")} -> Customer | BB7: =IFERROR(IF(LEN(BA7)=0,"",COUNTIF(BA$7:BA7,BA7)),"") -> 1 | BD7: 1 | BE7: =IFERROR(IF(LEN(AK7)=0,"",AK7&"-"&AL7),"") -> Customer-1 | BF7: {=IFERROR(IF(AND(COUNTIF($BE$7:$BE7,"")+1=BF$6,LEN($BE7)>0,$AM7>0),MATCH(INDEX($V$7:$V$16,$AM7)&"-"&$AN7,$BQ$7:$BQ$126,0),""),"")} -> 1 | BG7: {=IFERROR(IF(AND(COUNTIF($BE$7:$BE7,"")+1=BG$6,LEN($BE7)>0,$AM7>0),MATCH(INDEX($V$7:$V$16,$AM7)&"-"&$AN7,$BQ$7:$BQ$126,0),""),"")} | BH7: {=IFERROR(IF(AND(COUNTIF($BE$7:$BE7,"")+1=BH$6,LEN($BE7)>0,$AM7>0),MATCH(INDEX($V$7:$V$16,$AM7)&"-"&$AN7,$BQ$7:$BQ$126,0),""),"")} | BI7: {=IFERROR(IF(AND(COUNTIF($BE$7:$BE7,"")+1=BI$6,LEN($BE7)>0,$AM7>0),MATCH(INDEX($V$7:$V$16,$AM7)&"-"&$AN7,$BQ$7:$BQ$126,0),""),"")} | BJ7: {=IFERROR(IF(AND(COUNTIF($BE$7:$BE7,"")+1=BJ$6,LEN($BE7)>0,$AM7>0),MATCH(INDEX($V$7:$V$16,$AM7)&"-"&$AN7,$BQ$7:$BQ$126,0),""),"")} | BK7: {=IFERROR(IF(AND(COUNTIF($BE$7:$BE7,"")+1=BK$6,LEN($BE7)>0,$AM7>0),MATCH(INDEX($V$7:$V$16,$AM7)&"-"&$AN7,$BQ$7:$BQ$126,0),""),"")} | BL7: {=IFERROR(IF(AND(COUNTIF($BE$7:$BE7,"")+1=BL$6,LEN($BE7)>0,$AM7>0),MATCH(INDEX($V$7:$V$16,$AM7)&"-"&$AN7,$BQ$7:$BQ$126,0),""),"")} | BM7: {=IFERROR(IF(AND(COUNTIF($BE$7:$BE7,"")+1=BM$6,LEN($BE7)>0,$AM7>0),MATCH(INDEX($V$7:$V$16,$AM7)&"-"&$AN7,$BQ$7:$BQ$126,0),""),"")} | ... BP7: {=IFERROR(IF(AND(COUNTIF($BE$7:$BE7,"")+1=BP$6,LEN($BE7)>0,$AM7>0),MATCH(INDEX($V$7:$V$16,$AM7)&"-"&$AN7,$BQ$7:$BQ$126,0),""),"")} | BQ7: =IF(LEN(AO7)=0,"",AO7&"-"&AP7) -> Queue-1 | BR7: {=IFERROR(IF(AND(COUNTIF($BQ$7:$BQ7,"")+1=BR$6,LEN($BQ7)>0,$AQ7>0),MATCH(INDEX($W$7:$W$16,$AQ7)&"-"&$AR7,$CC$7:$CC$126,0),""),"")} -> 1 | BS7: {=IFERROR(IF(AND(COUNTIF($BQ$7:$BQ7,"")+1=BS$6,LEN($BQ7)>0,$AQ7>0),MATCH(INDEX($W$7:$W$16,$AQ7)&"-"&$AR7,$CC$7:$CC$126,0),""),"")} | BT7: {=IFERROR(IF(AND(COUNTIF($BQ$7:$BQ7,"")+1=BT$6,LEN($BQ7)>0,$AQ7>0),MATCH(INDEX($W$7:$W$16,$AQ7)&"-"&$AR7,$CC$7:$CC$126,0),""),"")} | BU7: {=IFERROR(IF(AND(COUNTIF($BQ$7:$BQ7,"")+1=BU$6,LEN($BQ7)>0,$AQ7>0),MATCH(INDEX($W$7:$W$16,$AQ7)&"-"&$AR7,$CC$7:$CC$126,0),""),"")} | BV7: {=IFERROR(IF(AND(COUNTIF($BQ$7:$BQ7,"")+1=BV$6,LEN($BQ7)>0,$AQ7>0),MATCH(INDEX($W$7:$W$16,$AQ7)&"-"&$AR7,$CC$7:$CC$126,0),""),"")} | BW7: {=IFERROR(IF(AND(COUNTIF($BQ$7:$BQ7,"")+1=BW$6,LEN($BQ7)>0,$AQ7>0),MATCH(INDEX($W$7:$W$16,$AQ7)&"-"&$AR7,$CC$7:$CC$126,0),""),"")} | BX7: {=IFERROR(IF(AND(COUNTIF($BQ$7:$BQ7,"")+1=BX$6,LEN($BQ7)>0,$AQ7>0),MATCH(INDEX($W$7:$W$16,$AQ7)&"-"&$AR7,$CC$7:$CC$126,0),""),"")} | BY7: {=IFERROR(IF(AND(COUNTIF($BQ$7:$BQ7,"")+1=BY$6,LEN($BQ7)>0,$AQ7>0),MATCH(INDEX($W$7:$W$16,$AQ7)&"-"&$AR7,$CC$7:$CC$126,0),""),"")} | ... CB7: {=IFERROR(IF(AND(COUNTIF($BQ$7:$BQ7,"")+1=CB$6,LEN($BQ7)>0,$AQ7>0),MATCH(INDEX($W$7:$W$16,$AQ7)&"-"&$AR7,$CC$7:$CC$126,0),""),"")} | CC7: =IFERROR(IF(LEN(AS7)=0,"",AS7&"-"&AT7),"") -> Customer goes to the queue-1 | CD7: {=IFERROR(IF(AND(COUNTIF($CC$7:$CC7,"")+1=CD$6,LEN($CC7)>0,$AU7>0),MATCH(INDEX($X$7:$X$16,$AU7)&"-"&$AV7,$CO$7:$CO$126,0),""),"")} -> 1 | CE7: {=IFERROR(IF(AND(COUNTIF($CC$7:$CC7,"")+1=CE$6,LEN($CC7)>0,$AU7>0),MATCH(INDEX($X$7:$X$16,$AU7)&"-"&$AV7,$CO$7:$CO$126,0),""),"")} | CF7: {=IFERROR(IF(AND(COUNTIF($CC$7:$CC7,"")+1=CF$6,LEN($CC7)>0,$AU7>0),MATCH(INDEX($X$7:$X$16,$AU7)&"-"&$AV7,$CO$7:$CO$126,0),""),"")} | CG7: {=IFERROR(IF(AND(COUNTIF($CC$7:$CC7,"")+1=CG$6,LEN($CC7)>0,$AU7>0),MATCH(INDEX($X$7:$X$16,$AU7)&"-"&$AV7,$CO$7:$CO$126,0),""),"")} | CH7: {=IFERROR(IF(AND(COUNTIF($CC$7:$CC7,"")+1=CH$6,LEN($CC7)>0,$AU7>0),MATCH(INDEX($X$7:$X$16,$AU7)&"-"&$AV7,$CO$7:$CO$126,0),""),"")} | CI7: {=IFERROR(IF(AND(COUNTIF($CC$7:$CC7,"")+1=CI$6,LEN($CC7)>0,$AU7>0),MATCH(INDEX($X$7:$X$16,$AU7)&"-"&$AV7,$CO$7:$CO$126,0),""),"")} | CJ7: {=IFERROR(IF(AND(COUNTIF($CC$7:$CC7,"")+1=CJ$6,LEN($CC7)>0,$AU7>0),MATCH(INDEX($X$7:$X$16,$AU7)&"-"&$AV7,$CO$7:$CO$126,0),""),"")} | CK7: {=IFERROR(IF(AND(COUNTIF($CC$7:$CC7,"")+1=CK$6,LEN($CC7)>0,$AU7>0),MATCH(INDEX($X$7:$X$16,$AU7)&"-"&$AV7,$CO$7:$CO$126,0),""),"")} | ... CN7: {=IFERROR(IF(AND(COUNTIF($CC$7:$CC7,"")+1=CN$6,LEN($CC7)>0,$AU7>0),MATCH(INDEX($X$7:$X$16,$AU7)&"-"&$AV7,$CO$7:$CO$126,0),""),"")} | CO7: =IFERROR(IF(LEN(AW7)=0,"",AW7&"-"&AX7),"") -> Giving a queue number-1 | CP7: {=IFERROR(IF(AND(COUNTIF($CO$7:$CO7,"")+1=CP$6,LEN($CO7)>0,$AY7>0),MATCH(INDEX($Y$7:$Y$16,$AY7)&"-"&$AZ7,$DA$7:$DA$126,0),""),"")} -> 1 | CQ7: {=IFERROR(IF(AND(COUNTIF($CO$7:$CO7,"")+1=CQ$6,LEN($CO7)>0,$AY7>0),MATCH(INDEX($Y$7:$Y$16,$AY7)&"-"&$AZ7,$DA$7:$DA$126,0),""),"")} | CR7: {=IFERROR(IF(AND(COUNTIF($CO$7:$CO7,"")+1=CR$6,LEN($CO7)>0,$AY7>0),MATCH(INDEX($Y$7:$Y$16,$AY7)&"-"&$AZ7,$DA$7:$DA$126,0),""),"")} | CS7: {=IFERROR(IF(AND(COUNTIF($CO$7:$CO7,"")+1=CS$6,LEN($CO7)>0,$AY7>0),MATCH(INDEX($Y$7:$Y$16,$AY7)&"-"&$AZ7,$DA$7:$DA$126,0),""),"")} | CT7: {=IFERROR(IF(AND(COUNTIF($CO$7:$CO7,"")+1=CT$6,LEN($CO7)>0,$AY7>0),MATCH(INDEX($Y$7:$Y$16,$AY7)&"-"&$AZ7,$DA$7:$DA$126,0),""),"")} | CU7: {=IFERROR(IF(AND(COUNTIF($CO$7:$CO7,"")+1=CU$6,LEN($CO7)>0,$AY7>0),MATCH(INDEX($Y$7:$Y$16,$AY7)&"-"&$AZ7,$DA$7:$DA$126,0),""),"")} | CV7: {=IFERROR(IF(AND(COUNTIF($CO$7:$CO7,"")+1=CV$6,LEN($CO7)>0,$AY7>0),MATCH(INDEX($Y$7:$Y$16,$AY7)&"-"&$AZ7,$DA$7:$DA$126,0),""),"")} | CW7: {=IFERROR(IF(AND(COUNTIF($CO$7:$CO7,"")+1=CW$6,LEN($CO7)>0,$AY7>0),MATCH(INDEX($Y$7:$Y$16,$AY7)&"-"&$AZ7,$DA$7:$DA$126,0),""),"")} | ... CZ7: {=IFERROR(IF(AND(COUNTIF($CO$7:$CO7,"")+1=CZ$6,LEN($CO7)>0,$AY7>0),MATCH(INDEX($Y$7:$Y$16,$AY7)&"-"&$AZ7,$DA$7:$DA$126,0),""),"")} | DA7: =IF(LEN(BA7)=0,"",BA7&"-"&BB7) -> Customer-1 | DC7: {=IFERROR(IF(LEN(BQ7)=0,"",SUM((BF$7:BO$126=$BD7)*(BF$6:BO$6))),"")} -> 1 | DD7: {=IFERROR(IF(LEN(CC7)=0,"",SUM((BR$7:CA$126=$BD7)*(BR$6:CA$6))),"")} -> 1 | DE7: {=IFERROR(IF(LEN(CO7)=0,"",SUM((CD$7:CM$126=$BD7)*(CD$6:CM$6))),"")} -> 1 | DF7: {=IFERROR(IF(LEN(DA7)=0,"",SUM((CP$7:CY$126=$BD7)*(CP$6:CY$6))),"")} -> 1
B8: 1 | C8: {=IFERROR(IF(AND(LEN(C$7)>0,SUM((InputList!$C11:$H11=Cond!C$7)*1)>0),InputList!$B11,""),"")} -> Queue | D8: {=IFERROR(IF(AND(LEN(D$7)>0,SUM((InputList!$C11:$H11=Cond!D$7)*1)>0),InputList!$B11,""),"")} | E8: {=IFERROR(IF(AND(LEN(E$7)>0,SUM((InputList!$C11:$H11=Cond!E$7)*1)>0),InputList!$B11,""),"")} | F8: {=IFERROR(IF(AND(LEN(F$7)>0,SUM((InputList!$C11:$H11=Cond!F$7)*1)>0),InputList!$B11,""),"")} | G8: {=IFERROR(IF(AND(LEN(G$7)>0,SUM((InputList!$C11:$H11=Cond!G$7)*1)>0),InputList!$B11,""),"")} | H8: {=IFERROR(IF(AND(LEN(H$7)>0,SUM((InputList!$C11:$H11=Cond!H$7)*1)>0),InputList!$B11,""),"")} | I8: {=IFERROR(IF(AND(LEN(I$7)>0,SUM((InputList!$C11:$H11=Cond!I$7)*1)>0),InputList!$B11,""),"")} | J8: {=IFERROR(IF(AND(LEN(J$7)>0,SUM((InputList!$C11:$H11=Cond!J$7)*1)>0),InputList!$B11,""),"")} | ... L8: {=IFERROR(IF(AND(LEN(L$7)>0,SUM((InputList!$C11:$H11=Cond!L$7)*1)>0),InputList!$B11,""),"")} | M8: =COUNTA(C8:L8)-COUNTBLANK(C8:L8) -> 1 | O8: 2 | P8: 1 | Q8: =IFERROR(INDEX($C$8:$L$17,$O8,$P8),"") | R8: =IFERROR(INDEX($C$23:$L$32,$O8,$P8),"") | T8: 2 | U8: =IFERROR(IF(LEN(INDEX(InputList!$B$25:$B$34,Cond!T8))=0,"",INDEX(InputList!$B$25:$B$34,Cond!T8)),"") -> Cashier | V8: =IFERROR(IF(LEN(INDEX(InputList!$B$11:$B$20,Cond!T8))=0,"",INDEX(InputList!$B$11:$B$20,Cond!T8)),"") -> Money | W8: =IF(LEN(Process2)=0,"",Process2) -> Customer orders the coffee | X8: =IFERROR(IF(LEN(INDEX(OutputList!$B$11:$B$20,Cond!T8))=0,"",INDEX(OutputList!$B$11:$B$20,Cond!T8)),"") -> Bill | Y8: =IFERROR(IF(LEN(INDEX(OutputList!$B$25:$B$34,Cond!T8))=0,"",INDEX(OutputList!$B$25:$B$34,Cond!T8)),"") -> Barista | AA8: 2 | AB8: =U8 -> Cashier | AC8: =IFERROR(IF(LEN(AB8)=0,"",INDEX($M$23:$M$32,AA8)),"") -> 1 | AD8: =IF(LEN(AB8)=0,"",0) -> 0 | AE8: =IF(LEN(AB8)=0,"",MAX(AC8:AD8)) -> 1 | AF8: =IFERROR(IF(LEN(AB8)=0,"",MAX($AG$7:AG7)+2),"") -> 5 | AG8: =IFERROR(IF(LEN(AB8)=0,"",AF8+AE8),"") -> 6 | AH8: =IFERROR(IF(LEN(AB8)=0,"",ROUNDDOWN((AG8-AF8)/2,0)+AF8),"") -> 5 | AJ8: 2 | AK8: {=IFERROR(IF(MAX(($AJ8>=$AF$7:$AF$16)*($AJ8<=$AG$7:$AG$16)*$AA$7:$AA$16)=0,"",INDEX($AB$7:$AB$16,MAX(($AJ8>=$AF$7:$AF$16)*($AJ8<=$AG$7:$AG$16)*$AA$7:$AA$16))),"")} -> Customer | AL8: =IFERROR(IF(LEN(AK8)=0,"",COUNTIF(AK$7:AK8,AK8)),"") -> 2 | AM8: {=IFERROR(IF(LEN(AK8)=0,"",LARGE((AK8=$R$7:$R$126)*($P$7:$P$126),COUNTIF(AK8:AK$126,AK8)-1)),"")} -> 2 | AN8: =IFERROR(IF(LEN(AK8)=0,"",COUNTIF(AM$7:AM8,AM8)),"") -> 1 | AO8: {=IFERROR(IF(MAX(($AJ8>=$AF$19:$AF$28)*($AJ8<=$AG$19:$AG$28)*$AA$19:$AA$28)=0,"",INDEX($AB$19:$AB$28,MAX(($AJ8>=$AF$19:$AF$28)*($AJ8<=$AG$19:$AG$28)*$AA$19:$AA$28))),"")} -> Queue | AP8: =IFERROR(IF(LEN(AO8)=0,"",COUNTIF(AO$7:AO8,AO8)),"") -> 2 | AQ8: {=IFERROR(IF(LEN(AO8)=0,"",LARGE((AO8=$Q$7:$Q$126)*($P$7:$P$126),COUNTIF(AO8:AO$126,AO8)-1)),"")} | AR8: =IFERROR(IF(LEN(AO8)=0,"",COUNTIF(AQ$7:AQ8,AQ8)),"") -> 1 | AS8: {=IFERROR(IF(MAX(($AJ8>=$AF$31:$AF$40)*($AJ8<=$AG$31:$AG$40)*$AA$31:$AA$40)=0,"",INDEX($AB$31:$AB$40,MAX(($AJ8>=$AF$31:$AF$40)*($AJ8<=$AG$31:$AG$40)*$AA$31:$AA$40))),"")} -> Customer goes to the queue | AT8: =IFERROR(IF(LEN(AS8)=0,"",COUNTIF(AS$7:AS8,AS8)),"") -> 2 | AU8: =IFERROR(IF(LEN(AS8)=0,"",INDEX($C$68:$L$77,AT8,MATCH(AS8,$AB$31:$AB$40,0))),"") | AV8: =IFERROR(IF(LEN(AU8)=0,"",COUNTIF(AU$7:AU8,AU8)),"") | AW8: {=IFERROR(IF(MAX(($AJ8>=$AF$43:$AF$52)*($AJ8<=$AG$43:$AG$52)*$AA$43:$AA$52)=0,"",INDEX($AB$43:$AB$52,MAX(($AJ8>=$AF$43:$AF$52)*($AJ8<=$AG$43:$AG$52)*$AA$43:$AA$52))),"")} -> Giving a queue number | AX8: =IFERROR(IF(LEN(AW8)=0,"",COUNTIF(AW$7:AW8,AW8)),"") -> 2 | AY8: =IFERROR(IF(LEN(AW8)=0,"",INDEX($C$83:$L$92,AX8,MATCH(AW8,$AB$43:$AB$52,0))),"") | AZ8: =IFERROR(IF(LEN(AY8)=0,"",COUNTIF(AY$7:AY8,AY8)),"") | BA8: {=IFERROR(IF(MAX(($AJ8>=$AF$55:$AF$64)*($AJ8<=$AG$55:$AG$64)*$AA$55:$AA$64)=0,"",INDEX($AB$55:$AB$64,MAX(($AJ8>=$AF$55:$AF$64)*($AJ8<=$AG$55:$AG$64)*$AA$55:$AA$64))),"")} -> Customer | BB8: =IFERROR(IF(LEN(BA8)=0,"",COUNTIF(BA$7:BA8,BA8)),"") -> 2 | BD8: 2 | BE8: =IFERROR(IF(LEN(AK8)=0,"",AK8&"-"&AL8),"") -> Customer-2 | BF8: {=IFERROR(IF(AND(COUNTIF($BE$7:$BE8,"")+1=BF$6,LEN($BE8)>0,$AM8>0),MATCH(INDEX($V$7:$V$16,$AM8)&"-"&$AN8,$BQ$7:$BQ$126,0),""),"")} -> 4 | BG8: {=IFERROR(IF(AND(COUNTIF($BE$7:$BE8,"")+1=BG$6,LEN($BE8)>0,$AM8>0),MATCH(INDEX($V$7:$V$16,$AM8)&"-"&$AN8,$BQ$7:$BQ$126,0),""),"")} | BH8: {=IFERROR(IF(AND(COUNTIF($BE$7:$BE8,"")+1=BH$6,LEN($BE8)>0,$AM8>0),MATCH(INDEX($V$7:$V$16,$AM8)&"-"&$AN8,$BQ$7:$BQ$126,0),""),"")} | BI8: {=IFERROR(IF(AND(COUNTIF($BE$7:$BE8,"")+1=BI$6,LEN($BE8)>0,$AM8>0),MATCH(INDEX($V$7:$V$16,$AM8)&"-"&$AN8,$BQ$7:$BQ$126,0),""),"")} | BJ8: {=IFERROR(IF(AND(COUNTIF($BE$7:$BE8,"")+1=BJ$6,LEN($BE8)>0,$AM8>0),MATCH(INDEX($V$7:$V$16,$AM8)&"-"&$AN8,$BQ$7:$BQ$126,0),""),"")} | BK8: {=IFERROR(IF(AND(COUNTIF($BE$7:$BE8,"")+1=BK$6,LEN($BE8)>0,$AM8>0),MATCH(INDEX($V$7:$V$16,$AM8)&"-"&$AN8,$BQ$7:$BQ$126,0),""),"")} | BL8: {=IFERROR(IF(AND(COUNTIF($BE$7:$BE8,"")+1=BL$6,LEN($BE8)>0,$AM8>0),MATCH(INDEX($V$7:$V$16,$AM8)&"-"&$AN8,$BQ$7:$BQ$126,0),""),"")} | BM8: {=IFERROR(IF(AND(COUNTIF($BE$7:$BE8,"")+1=BM$6,LEN($BE8)>0,$AM8>0),MATCH(INDEX($V$7:$V$16,$AM8)&"-"&$AN8,$BQ$7:$BQ$126,0),""),"")} | ... BP8: {=IFERROR(IF(AND(COUNTIF($BE$7:$BE8,"")+1=BP$6,LEN($BE8)>0,$AM8>0),MATCH(INDEX($V$7:$V$16,$AM8)&"-"&$AN8,$BQ$7:$BQ$126,0),""),"")} | BQ8: =IF(LEN(AO8)=0,"",AO8&"-"&AP8) -> Queue-2 | BR8: {=IFERROR(IF(AND(COUNTIF($BQ$7:$BQ8,"")+1=BR$6,LEN($BQ8)>0,$AQ8>0),MATCH(INDEX($W$7:$W$16,$AQ8)&"-"&$AR8,$CC$7:$CC$126,0),""),"")} | BS8: {=IFERROR(IF(AND(COUNTIF($BQ$7:$BQ8,"")+1=BS$6,LEN($BQ8)>0,$AQ8>0),MATCH(INDEX($W$7:$W$16,$AQ8)&"-"&$AR8,$CC$7:$CC$126,0),""),"")} | BT8: {=IFERROR(IF(AND(COUNTIF($BQ$7:$BQ8,"")+1=BT$6,LEN($BQ8)>0,$AQ8>0),MATCH(INDEX($W$7:$W$16,$AQ8)&"-"&$AR8,$CC$7:$CC$126,0),""),"")} | BU8: {=IFERROR(IF(AND(COUNTIF($BQ$7:$BQ8,"")+1=BU$6,LEN($BQ8)>0,$AQ8>0),MATCH(INDEX($W$7:$W$16,$AQ8)&"-"&$AR8,$CC$7:$CC$126,0),""),"")} | BV8: {=IFERROR(IF(AND(COUNTIF($BQ$7:$BQ8,"")+1=BV$6,LEN($BQ8)>0,$AQ8>0),MATCH(INDEX($W$7:$W$16,$AQ8)&"-"&$AR8,$CC$7:$CC$126,0),""),"")} | BW8: {=IFERROR(IF(AND(COUNTIF($BQ$7:$BQ8,"")+1=BW$6,LEN($BQ8)>0,$AQ8>0),MATCH(INDEX($W$7:$W$16,$AQ8)&"-"&$AR8,$CC$7:$CC$126,0),""),"")} | BX8: {=IFERROR(IF(AND(COUNTIF($BQ$7:$BQ8,"")+1=BX$6,LEN($BQ8)>0,$AQ8>0),MATCH(INDEX($W$7:$W$16,$AQ8)&"-"&$AR8,$CC$7:$CC$126,0),""),"")} | BY8: {=IFERROR(IF(AND(COUNTIF($BQ$7:$BQ8,"")+1=BY$6,LEN($BQ8)>0,$AQ8>0),MATCH(INDEX($W$7:$W$16,$AQ8)&"-"&$AR8,$CC$7:$CC$126,0),""),"")} | ... CB8: {=IFERROR(IF(AND(COUNTIF($BQ$7:$BQ8,"")+1=CB$6,LEN($BQ8)>0,$AQ8>0),MATCH(INDEX($W$7:$W$16,$AQ8)&"-"&$AR8,$CC$7:$CC$126,0),""),"")} | CC8: =IFERROR(IF(LEN(AS8)=0,"",AS8&"-"&AT8),"") -> Customer goes to the queue-2 | CD8: {=IFERROR(IF(AND(COUNTIF($CC$7:$CC8,"")+1=CD$6,LEN($CC8)>0,$AU8>0),MATCH(INDEX($X$7:$X$16,$AU8)&"-"&$AV8,$CO$7:$CO$126,0),""),"")} | CE8: {=IFERROR(IF(AND(COUNTIF($CC$7:$CC8,"")+1=CE$6,LEN($CC8)>0,$AU8>0),MATCH(INDEX($X$7:$X$16,$AU8)&"-"&$AV8,$CO$7:$CO$126,0),""),"")} | CF8: {=IFERROR(IF(AND(COUNTIF($CC$7:$CC8,"")+1=CF$6,LEN($CC8)>0,$AU8>0),MATCH(INDEX($X$7:$X$16,$AU8)&"-"&$AV8,$CO$7:$CO$126,0),""),"")} | CG8: {=IFERROR(IF(AND(COUNTIF($CC$7:$CC8,"")+1=CG$6,LEN($CC8)>0,$AU8>0),MATCH(INDEX($X$7:$X$16,$AU8)&"-"&$AV8,$CO$7:$CO$126,0),""),"")} | CH8: {=IFERROR(IF(AND(COUNTIF($CC$7:$CC8,"")+1=CH$6,LEN($CC8)>0,$AU8>0),MATCH(INDEX($X$7:$X$16,$AU8)&"-"&$AV8,$CO$7:$CO$126,0),""),"")} | CI8: {=IFERROR(IF(AND(COUNTIF($CC$7:$CC8,"")+1=CI$6,LEN($CC8)>0,$AU8>0),MATCH(INDEX($X$7:$X$16,$AU8)&"-"&$AV8,$CO$7:$CO$126,0),""),"")} | CJ8: {=IFERROR(IF(AND(COUNTIF($CC$7:$CC8,"")+1=CJ$6,LEN($CC8)>0,$AU8>0),MATCH(INDEX($X$7:$X$16,$AU8)&"-"&$AV8,$CO$7:$CO$126,0),""),"")} | CK8: {=IFERROR(IF(AND(COUNTIF($CC$7:$CC8,"")+1=CK$6,LEN($CC8)>0,$AU8>0),MATCH(INDEX($X$7:$X$16,$AU8)&"-"&$AV8,$CO$7:$CO$126,0),""),"")} | ... CN8: {=IFERROR(IF(AND(COUNTIF($CC$7:$CC8,"")+1=CN$6,LEN($CC8)>0,$AU8>0),MATCH(INDEX($X$7:$X$16,$AU8)&"-"&$AV8,$CO$7:$CO$126,0),""),"")} | CO8: =IFERROR(IF(LEN(AW8)=0,"",AW8&"-"&AX8),"") -> Giving a queue number-2 | CP8: {=IFERROR(IF(AND(COUNTIF($CO$7:$CO8,"")+1=CP$6,LEN($CO8)>0,$AY8>0),MATCH(INDEX($Y$7:$Y$16,$AY8)&"-"&$AZ8,$DA$7:$DA$126,0),""),"")} | CQ8: {=IFERROR(IF(AND(COUNTIF($CO$7:$CO8,"")+1=CQ$6,LEN($CO8)>0,$AY8>0),MATCH(INDEX($Y$7:$Y$16,$AY8)&"-"&$AZ8,$DA$7:$DA$126,0),""),"")} | CR8: {=IFERROR(IF(AND(COUNTIF($CO$7:$CO8,"")+1=CR$6,LEN($CO8)>0,$AY8>0),MATCH(INDEX($Y$7:$Y$16,$AY8)&"-"&$AZ8,$DA$7:$DA$126,0),""),"")} | CS8: {=IFERROR(IF(AND(COUNTIF($CO$7:$CO8,"")+1=CS$6,LEN($CO8)>0,$AY8>0),MATCH(INDEX($Y$7:$Y$16,$AY8)&"-"&$AZ8,$DA$7:$DA$126,0),""),"")} | CT8: {=IFERROR(IF(AND(COUNTIF($CO$7:$CO8,"")+1=CT$6,LEN($CO8)>0,$AY8>0),MATCH(INDEX($Y$7:$Y$16,$AY8)&"-"&$AZ8,$DA$7:$DA$126,0),""),"")} | CU8: {=IFERROR(IF(AND(COUNTIF($CO$7:$CO8,"")+1=CU$6,LEN($CO8)>0,$AY8>0),MATCH(INDEX($Y$7:$Y$16,$AY8)&"-"&$AZ8,$DA$7:$DA$126,0),""),"")} | CV8: {=IFERROR(IF(AND(COUNTIF($CO$7:$CO8,"")+1=CV$6,LEN($CO8)>0,$AY8>0),MATCH(INDEX($Y$7:$Y$16,$AY8)&"-"&$AZ8,$DA$7:$DA$126,0),""),"")} | CW8: {=IFERROR(IF(AND(COUNTIF($CO$7:$CO8,"")+1=CW$6,LEN($CO8)>0,$AY8>0),MATCH(INDEX($Y$7:$Y$16,$AY8)&"-"&$AZ8,$DA$7:$DA$126,0),""),"")} | ... CZ8: {=IFERROR(IF(AND(COUNTIF($CO$7:$CO8,"")+1=CZ$6,LEN($CO8)>0,$AY8>0),MATCH(INDEX($Y$7:$Y$16,$AY8)&"-"&$AZ8,$DA$7:$DA$126,0),""),"")} | DA8: =IF(LEN(BA8)=0,"",BA8&"-"&BB8) -> Customer-2 | DC8: {=IFERROR(IF(LEN(BQ8)=0,"",SUM((BF$7:BO$126=$BD8)*(BF$6:BO$6))),"")} -> 0 | DD8: {=IFERROR(IF(LEN(CC8)=0,"",SUM((BR$7:CA$126=$BD8)*(BR$6:CA$6))),"")} -> 0 | DE8: {=IFERROR(IF(LEN(CO8)=0,"",SUM((CD$7:CM$126=$BD8)*(CD$6:CM$6))),"")} -> 0 | DF8: {=IFERROR(IF(LEN(DA8)=0,"",SUM((CP$7:CY$126=$BD8)*(CP$6:CY$6))),"")} -> 2
B9: 2 | C9: {=IFERROR(IF(AND(LEN(C$7)>0,SUM((InputList!$C12:$H12=Cond!C$7)*1)>0),InputList!$B12,""),"")} | D9: {=IFERROR(IF(AND(LEN(D$7)>0,SUM((InputList!$C12:$H12=Cond!D$7)*1)>0),InputList!$B12,""),"")} -> Money | E9: {=IFERROR(IF(AND(LEN(E$7)>0,SUM((InputList!$C12:$H12=Cond!E$7)*1)>0),InputList!$B12,""),"")} | F9: {=IFERROR(IF(AND(LEN(F$7)>0,SUM((InputList!$C12:$H12=Cond!F$7)*1)>0),InputList!$B12,""),"")} | G9: {=IFERROR(IF(AND(LEN(G$7)>0,SUM((InputList!$C12:$H12=Cond!G$7)*1)>0),InputList!$B12,""),"")} | H9: {=IFERROR(IF(AND(LEN(H$7)>0,SUM((InputList!$C12:$H12=Cond!H$7)*1)>0),InputList!$B12,""),"")} | I9: {=IFERROR(IF(AND(LEN(I$7)>0,SUM((InputList!$C12:$H12=Cond!I$7)*1)>0),InputList!$B12,""),"")} | J9: {=IFERROR(IF(AND(LEN(J$7)>0,SUM((InputList!$C12:$H12=Cond!J$7)*1)>0),InputList!$B12,""),"")} | ... L9: {=IFERROR(IF(AND(LEN(L$7)>0,SUM((InputList!$C12:$H12=Cond!L$7)*1)>0),InputList!$B12,""),"")} | M9: =COUNTA(C9:L9)-COUNTBLANK(C9:L9) -> 1 | O9: 3 | P9: 1 | Q9: =IFERROR(INDEX($C$8:$L$17,$O9,$P9),"") | R9: =IFERROR(INDEX($C$23:$L$32,$O9,$P9),"") | T9: 3 | U9: =IFERROR(IF(LEN(INDEX(InputList!$B$25:$B$34,Cond!T9))=0,"",INDEX(InputList!$B$25:$B$34,Cond!T9)),"") -> Manufacturer | V9: =IFERROR(IF(LEN(INDEX(InputList!$B$11:$B$20,Cond!T9))=0,"",INDEX(InputList!$B$11:$B$20,Cond!T9)),"") -> Coffee beans | W9: =IF(LEN(Process3)=0,"",Process3) -> Preparation of coffee | X9: =IFERROR(IF(LEN(INDEX(OutputList!$B$11:$B$20,Cond!T9))=0,"",INDEX(OutputList!$B$11:$B$20,Cond!T9)),"") -> Order details | Y9: =IFERROR(IF(LEN(INDEX(OutputList!$B$25:$B$34,Cond!T9))=0,"",INDEX(OutputList!$B$25:$B$34,Cond!T9)),"") | AA9: 3 | AB9: =U9 -> Manufacturer | AC9: =IFERROR(IF(LEN(AB9)=0,"",INDEX($M$23:$M$32,AA9)),"") -> 4 | AD9: =IF(LEN(AB9)=0,"",0) -> 0 | AE9: =IF(LEN(AB9)=0,"",MAX(AC9:AD9)) -> 4 | AF9: =IFERROR(IF(LEN(AB9)=0,"",MAX($AG$7:AG8)+2),"") -> 8 | AG9: =IFERROR(IF(LEN(AB9)=0,"",AF9+AE9),"") -> 12 | AH9: =IFERROR(IF(LEN(AB9)=0,"",ROUNDDOWN((AG9-AF9)/2,0)+AF9),"") -> 10 | AJ9: 3 | AK9: {=IFERROR(IF(MAX(($AJ9>=$AF$7:$AF$16)*($AJ9<=$AG$7:$AG$16)*$AA$7:$AA$16)=0,"",INDEX($AB$7:$AB$16,MAX(($AJ9>=$AF$7:$AF$16)*($AJ9<=$AG$7:$AG$16)*$AA$7:$AA$16))),"")} -> Customer | AL9: =IFERROR(IF(LEN(AK9)=0,"",COUNTIF(AK$7:AK9,AK9)),"") -> 3 | AM9: {=IFERROR(IF(LEN(AK9)=0,"",LARGE((AK9=$R$7:$R$126)*($P$7:$P$126),COUNTIF(AK9:AK$126,AK9)-1)),"")} | AN9: =IFERROR(IF(LEN(AK9)=0,"",COUNTIF(AM$7:AM9,AM9)),"") -> 1 | AO9: {=IFERROR(IF(MAX(($AJ9>=$AF$19:$AF$28)*($AJ9<=$AG$19:$AG$28)*$AA$19:$AA$28)=0,"",INDEX($AB$19:$AB$28,MAX(($AJ9>=$AF$19:$AF$28)*($AJ9<=$AG$19:$AG$28)*$AA$19:$AA$28))),"")} | AP9: =IFERROR(IF(LEN(AO9)=0,"",COUNTIF(AO$7:AO9,AO9)),"") | AQ9: {=IFERROR(IF(LEN(AO9)=0,"",LARGE((AO9=$Q$7:$Q$126)*($P$7:$P$126),COUNTIF(AO9:AO$126,AO9)-1)),"")} | AR9: =IFERROR(IF(LEN(AO9)=0,"",COUNTIF(AQ$7:AQ9,AQ9)),"") | AS9: {=IFERROR(IF(MAX(($AJ9>=$AF$31:$AF$40)*($AJ9<=$AG$31:$AG$40)*$AA$31:$AA$40)=0,"",INDEX($AB$31:$AB$40,MAX(($AJ9>=$AF$31:$AF$40)*($AJ9<=$AG$31:$AG$40)*$AA$31:$AA$40))),"")} | AT9: =IFERROR(IF(LEN(AS9)=0,"",COUNTIF(AS$7:AS9,AS9)),"") | AU9: =IFERROR(IF(LEN(AS9)=0,"",INDEX($C$68:$L$77,AT9,MATCH(AS9,$AB$31:$AB$40,0))),"") | AV9: =IFERROR(IF(LEN(AU9)=0,"",COUNTIF(AU$7:AU9,AU9)),"") | AW9: {=IFERROR(IF(MAX(($AJ9>=$AF$43:$AF$52)*($AJ9<=$AG$43:$AG$52)*$AA$43:$AA$52)=0,"",INDEX($AB$43:$AB$52,MAX(($AJ9>=$AF$43:$AF$52)*($AJ9<=$AG$43:$AG$52)*$AA$43:$AA$52))),"")} | AX9: =IFERROR(IF(LEN(AW9)=0,"",COUNTIF(AW$7:AW9,AW9)),"") | AY9: =IFERROR(IF(LEN(AW9)=0,"",INDEX($C$83:$L$92,AX9,MATCH(AW9,$AB$43:$AB$52,0))),"") | AZ9: =IFERROR(IF(LEN(AY9)=0,"",COUNTIF(AY$7:AY9,AY9)),"") | BA9: {=IFERROR(IF(MAX(($AJ9>=$AF$55:$AF$64)*($AJ9<=$AG$55:$AG$64)*$AA$55:$AA$64)=0,"",INDEX($AB$55:$AB$64,MAX(($AJ9>=$AF$55:$AF$64)*($AJ9<=$AG$55:$AG$64)*$AA$55:$AA$64))),"")} -> Customer | BB9: =IFERROR(IF(LEN(BA9)=0,"",COUNTIF(BA$7:BA9,BA9)),"") -> 3 | BD9: 3 | BE9: =IFERROR(IF(LEN(AK9)=0,"",AK9&"-"&AL9),"") -> Customer-3 | BF9: {=IFERROR(IF(AND(COUNTIF($BE$7:$BE9,"")+1=BF$6,LEN($BE9)>0,$AM9>0),MATCH(INDEX($V$7:$V$16,$AM9)&"-"&$AN9,$BQ$7:$BQ$126,0),""),"")} | BG9: {=IFERROR(IF(AND(COUNTIF($BE$7:$BE9,"")+1=BG$6,LEN($BE9)>0,$AM9>0),MATCH(INDEX($V$7:$V$16,$AM9)&"-"&$AN9,$BQ$7:$BQ$126,0),""),"")} | BH9: {=IFERROR(IF(AND(COUNTIF($BE$7:$BE9,"")+1=BH$6,LEN($BE9)>0,$AM9>0),MATCH(INDEX($V$7:$V$16,$AM9)&"-"&$AN9,$BQ$7:$BQ$126,0),""),"")} | BI9: {=IFERROR(IF(AND(COUNTIF($BE$7:$BE9,"")+1=BI$6,LEN($BE9)>0,$AM9>0),MATCH(INDEX($V$7:$V$16,$AM9)&"-"&$AN9,$BQ$7:$BQ$126,0),""),"")} | BJ9: {=IFERROR(IF(AND(COUNTIF($BE$7:$BE9,"")+1=BJ$6,LEN($BE9)>0,$AM9>0),MATCH(INDEX($V$7:$V$16,$AM9)&"-"&$AN9,$BQ$7:$BQ$126,0),""),"")} | BK9: {=IFERROR(IF(AND(COUNTIF($BE$7:$BE9,"")+1=BK$6,LEN($BE9)>0,$AM9>0),MATCH(INDEX($V$7:$V$16,$AM9)&"-"&$AN9,$BQ$7:$BQ$126,0),""),"")} | BL9: {=IFERROR(IF(AND(COUNTIF($BE$7:$BE9,"")+1=BL$6,LEN($BE9)>0,$AM9>0),MATCH(INDEX($V$7:$V$16,$AM9)&"-"&$AN9,$BQ$7:$BQ$126,0),""),"")} | BM9: {=IFERROR(IF(AND(COUNTIF($BE$7:$BE9,"")+1=BM$6,LEN($BE9)>0,$AM9>0),MATCH(INDEX($V$7:$V$16,$AM9)&"-"&$AN9,$BQ$7:$BQ$126,0),""),"")} | ... BP9: {=IFERROR(IF(AND(COUNTIF($BE$7:$BE9,"")+1=BP$6,LEN($BE9)>0,$AM9>0),MATCH(INDEX($V$7:$V$16,$AM9)&"-"&$AN9,$BQ$7:$BQ$126,0),""),"")} | BQ9: =IF(LEN(AO9)=0,"",AO9&"-"&AP9) | BR9: {=IFERROR(IF(AND(COUNTIF($BQ$7:$BQ9,"")+1=BR$6,LEN($BQ9)>0,$AQ9>0),MATCH(INDEX($W$7:$W$16,$AQ9)&"-"&$AR9,$CC$7:$CC$126,0),""),"")} | BS9: {=IFERROR(IF(AND(COUNTIF($BQ$7:$BQ9,"")+1=BS$6,LEN($BQ9)>0,$AQ9>0),MATCH(INDEX($W$7:$W$16,$AQ9)&"-"&$AR9,$CC$7:$CC$126,0),""),"")} | BT9: {=IFERROR(IF(AND(COUNTIF($BQ$7:$BQ9,"")+1=BT$6,LEN($BQ9)>0,$AQ9>0),MATCH(INDEX($W$7:$W$16,$AQ9)&"-"&$AR9,$CC$7:$CC$126,0),""),"")} | BU9: {=IFERROR(IF(AND(COUNTIF($BQ$7:$BQ9,"")+1=BU$6,LEN($BQ9)>0,$AQ9>0),MATCH(INDEX($W$7:$W$16,$AQ9)&"-"&$AR9,$CC$7:$CC$126,0),""),"")} | BV9: {=IFERROR(IF(AND(COUNTIF($BQ$7:$BQ9,"")+1=BV$6,LEN($BQ9)>0,$AQ9>0),MATCH(INDEX($W$7:$W$16,$AQ9)&"-"&$AR9,$CC$7:$CC$126,0),""),"")} | BW9: {=IFERROR(IF(AND(COUNTIF($BQ$7:$BQ9,"")+1=BW$6,LEN($BQ9)>0,$AQ9>0),MATCH(INDEX($W$7:$W$16,$AQ9)&"-"&$AR9,$CC$7:$CC$126,0),""),"")} | BX9: {=IFERROR(IF(AND(COUNTIF($BQ$7:$BQ9,"")+1=BX$6,LEN($BQ9)>0,$AQ9>0),MATCH(INDEX($W$7:$W$16,$AQ9)&"-"&$AR9,$CC$7:$CC$126,0),""),"")} | BY9: {=IFERROR(IF(AND(COUNTIF($BQ$7:$BQ9,"")+1=BY$6,LEN($BQ9)>0,$AQ9>0),MATCH(INDEX($W$7:$W$16,$AQ9)&"-"&$AR9,$CC$7:$CC$126,0),""),"")} | ... CB9: {=IFERROR(IF(AND(COUNTIF($BQ$7:$BQ9,"")+1=CB$6,LEN($BQ9)>0,$AQ9>0),MATCH(INDEX($W$7:$W$16,$AQ9)&"-"&$AR9,$CC$7:$CC$126,0),""),"")} | CC9: =IFERROR(IF(LEN(AS9)=0,"",AS9&"-"&AT9),"") | CD9: {=IFERROR(IF(AND(COUNTIF($CC$7:$CC9,"")+1=CD$6,LEN($CC9)>0,$AU9>0),MATCH(INDEX($X$7:$X$16,$AU9)&"-"&$AV9,$CO$7:$CO$126,0),""),"")} | CE9: {=IFERROR(IF(AND(COUNTIF($CC$7:$CC9,"")+1=CE$6,LEN($CC9)>0,$AU9>0),MATCH(INDEX($X$7:$X$16,$AU9)&"-"&$AV9,$CO$7:$CO$126,0),""),"")} | CF9: {=IFERROR(IF(AND(COUNTIF($CC$7:$CC9,"")+1=CF$6,LEN($CC9)>0,$AU9>0),MATCH(INDEX($X$7:$X$16,$AU9)&"-"&$AV9,$CO$7:$CO$126,0),""),"")} | CG9: {=IFERROR(IF(AND(COUNTIF($CC$7:$CC9,"")+1=CG$6,LEN($CC9)>0,$AU9>0),MATCH(INDEX($X$7:$X$16,$AU9)&"-"&$AV9,$CO$7:$CO$126,0),""),"")} | CH9: {=IFERROR(IF(AND(COUNTIF($CC$7:$CC9,"")+1=CH$6,LEN($CC9)>0,$AU9>0),MATCH(INDEX($X$7:$X$16,$AU9)&"-"&$AV9,$CO$7:$CO$126,0),""),"")} | CI9: {=IFERROR(IF(AND(COUNTIF($CC$7:$CC9,"")+1=CI$6,LEN($CC9)>0,$AU9>0),MATCH(INDEX($X$7:$X$16,$AU9)&"-"&$AV9,$CO$7:$CO$126,0),""),"")} | CJ9: {=IFERROR(IF(AND(COUNTIF($CC$7:$CC9,"")+1=CJ$6,LEN($CC9)>0,$AU9>0),MATCH(INDEX($X$7:$X$16,$AU9)&"-"&$AV9,$CO$7:$CO$126,0),""),"")} | CK9: {=IFERROR(IF(AND(COUNTIF($CC$7:$CC9,"")+1=CK$6,LEN($CC9)>0,$AU9>0),MATCH(INDEX($X$7:$X$16,$AU9)&"-"&$AV9,$CO$7:$CO$126,0),""),"")} | ... CN9: {=IFERROR(IF(AND(COUNTIF($CC$7:$CC9,"")+1=CN$6,LEN($CC9)>0,$AU9>0),MATCH(INDEX($X$7:$X$16,$AU9)&"-"&$AV9,$CO$7:$CO$126,0),""),"")} | CO9: =IFERROR(IF(LEN(AW9)=0,"",AW9&"-"&AX9),"") | CP9: {=IFERROR(IF(AND(COUNTIF($CO$7:$CO9,"")+1=CP$6,LEN($CO9)>0,$AY9>0),MATCH(INDEX($Y$7:$Y$16,$AY9)&"-"&$AZ9,$DA$7:$DA$126,0),""),"")} | CQ9: {=IFERROR(IF(AND(COUNTIF($CO$7:$CO9,"")+1=CQ$6,LEN($CO9)>0,$AY9>0),MATCH(INDEX($Y$7:$Y$16,$AY9)&"-"&$AZ9,$DA$7:$DA$126,0),""),"")} | CR9: {=IFERROR(IF(AND(COUNTIF($CO$7:$CO9,"")+1=CR$6,LEN($CO9)>0,$AY9>0),MATCH(INDEX($Y$7:$Y$16,$AY9)&"-"&$AZ9,$DA$7:$DA$126,0),""),"")} | CS9: {=IFERROR(IF(AND(COUNTIF($CO$7:$CO9,"")+1=CS$6,LEN($CO9)>0,$AY9>0),MATCH(INDEX($Y$7:$Y$16,$AY9)&"-"&$AZ9,$DA$7:$DA$126,0),""),"")} | CT9: {=IFERROR(IF(AND(COUNTIF($CO$7:$CO9,"")+1=CT$6,LEN($CO9)>0,$AY9>0),MATCH(INDEX($Y$7:$Y$16,$AY9)&"-"&$AZ9,$DA$7:$DA$126,0),""),"")} | CU9: {=IFERROR(IF(AND(COUNTIF($CO$7:$CO9,"")+1=CU$6,LEN($CO9)>0,$AY9>0),MATCH(INDEX($Y$7:$Y$16,$AY9)&"-"&$AZ9,$DA$7:$DA$126,0),""),"")} | CV9: {=IFERROR(IF(AND(COUNTIF($CO$7:$CO9,"")+1=CV$6,LEN($CO9)>0,$AY9>0),MATCH(INDEX($Y$7:$Y$16,$AY9)&"-"&$AZ9,$DA$7:$DA$126,0),""),"")} | CW9: {=IFERROR(IF(AND(COUNTIF($CO$7:$CO9,"")+1=CW$6,LEN($CO9)>0,$AY9>0),MATCH(INDEX($Y$7:$Y$16,$AY9)&"-"&$AZ9,$DA$7:$DA$126,0),""),"")} | ... CZ9: {=IFERROR(IF(AND(COUNTIF($CO$7:$CO9,"")+1=CZ$6,LEN($CO9)>0,$AY9>0),MATCH(INDEX($Y$7:$Y$16,$AY9)&"-"&$AZ9,$DA$7:$DA$126,0),""),"")} | DA9: =IF(LEN(BA9)=0,"",BA9&"-"&BB9) -> Customer-3 | DC9: {=IFERROR(IF(LEN(BQ9)=0,"",SUM((BF$7:BO$126=$BD9)*(BF$6:BO$6))),"")} | DD9: {=IFERROR(IF(LEN(CC9)=0,"",SUM((BR$7:CA$126=$BD9)*(BR$6:CA$6))),"")} | DE9: {=IFERROR(IF(LEN(CO9)=0,"",SUM((CD$7:CM$126=$BD9)*(CD$6:CM$6))),"")} | DF9: {=IFERROR(IF(LEN(DA9)=0,"",SUM((CP$7:CY$126=$BD9)*(CP$6:CY$6))),"")} -> 4
B10: 3 | C10: {=IFERROR(IF(AND(LEN(C$7)>0,SUM((InputList!$C13:$H13=Cond!C$7)*1)>0),InputList!$B13,""),"")} | D10: {=IFERROR(IF(AND(LEN(D$7)>0,SUM((InputList!$C13:$H13=Cond!D$7)*1)>0),InputList!$B13,""),"")} | E10: {=IFERROR(IF(AND(LEN(E$7)>0,SUM((InputList!$C13:$H13=Cond!E$7)*1)>0),InputList!$B13,""),"")} -> Coffee beans | F10: {=IFERROR(IF(AND(LEN(F$7)>0,SUM((InputList!$C13:$H13=Cond!F$7)*1)>0),InputList!$B13,""),"")} | G10: {=IFERROR(IF(AND(LEN(G$7)>0,SUM((InputList!$C13:$H13=Cond!G$7)*1)>0),InputList!$B13,""),"")} | H10: {=IFERROR(IF(AND(LEN(H$7)>0,SUM((InputList!$C13:$H13=Cond!H$7)*1)>0),InputList!$B13,""),"")} | I10: {=IFERROR(IF(AND(LEN(I$7)>0,SUM((InputList!$C13:$H13=Cond!I$7)*1)>0),InputList!$B13,""),"")} | J10: {=IFERROR(IF(AND(LEN(J$7)>0,SUM((InputList!$C13:$H13=Cond!J$7)*1)>0),InputList!$B13,""),"")} | ... L10: {=IFERROR(IF(AND(LEN(L$7)>0,SUM((InputList!$C13:$H13=Cond!L$7)*1)>0),InputList!$B13,""),"")} | M10: =COUNTA(C10:L10)-COUNTBLANK(C10:L10) -> 1 | O10: 4 | P10: 1 | Q10: =IFERROR(INDEX($C$8:$L$17,$O10,$P10),"") | R10: =IFERROR(INDEX($C$23:$L$32,$O10,$P10),"") | T10: 4 | U10: =IFERROR(IF(LEN(INDEX(InputList!$B$25:$B$34,Cond!T10))=0,"",INDEX(InputList!$B$25:$B$34,Cond!T10)),"") | V10: =IFERROR(IF(LEN(INDEX(InputList!$B$11:$B$20,Cond!T10))=0,"",INDEX(InputList!$B$11:$B$20,Cond!T10)),"") -> Ingredients ( Milk, Sugar, Chocolate etc.) | W10: =IF(LEN(Process4)=0,"",Process4) -> Serving the order | X10: =IFERROR(IF(LEN(INDEX(OutputList!$B$11:$B$20,Cond!T10))=0,"",INDEX(OutputList!$B$11:$B$20,Cond!T10)),"") -> Coffee | Y10: =IFERROR(IF(LEN(INDEX(OutputList!$B$25:$B$34,Cond!T10))=0,"",INDEX(OutputList!$B$25:$B$34,Cond!T10)),"") | AA10: 4 | AB10: =U10 | AC10: =IFERROR(IF(LEN(AB10)=0,"",INDEX($M$23:$M$32,AA10)),"") | AD10: =IF(LEN(AB10)=0,"",0) | AE10: =IF(LEN(AB10)=0,"",MAX(AC10:AD10)) | AF10: =IFERROR(IF(LEN(AB10)=0,"",MAX($AG$7:AG9)+2),"") | AG10: =IFERROR(IF(LEN(AB10)=0,"",AF10+AE10),"") | AH10: =IFERROR(IF(LEN(AB10)=0,"",ROUNDDOWN((AG10-AF10)/2,0)+AF10),"") | AJ10: 4 | AK10: {=IFERROR(IF(MAX(($AJ10>=$AF$7:$AF$16)*($AJ10<=$AG$7:$AG$16)*$AA$7:$AA$16)=0,"",INDEX($AB$7:$AB$16,MAX(($AJ10>=$AF$7:$AF$16)*($AJ10<=$AG$7:$AG$16)*$AA$7:$AA$16))),"")} | AL10: =IFERROR(IF(LEN(AK10)=0,"",COUNTIF(AK$7:AK10,AK10)),"") | AM10: {=IFERROR(IF(LEN(AK10)=0,"",LARGE((AK10=$R$7:$R$126)*($P$7:$P$126),COUNTIF(AK10:AK$126,AK10)-1)),"")} | AN10: =IFERROR(IF(LEN(AK10)=0,"",COUNTIF(AM$7:AM10,AM10)),"") | AO10: {=IFERROR(IF(MAX(($AJ10>=$AF$19:$AF$28)*($AJ10<=$AG$19:$AG$28)*$AA$19:$AA$28)=0,"",INDEX($AB$19:$AB$28,MAX(($AJ10>=$AF$19:$AF$28)*($AJ10<=$AG$19:$AG$28)*$AA$19:$AA$28))),"")} -> Money | AP10: =IFERROR(IF(LEN(AO10)=0,"",COUNTIF(AO$7:AO10,AO10)),"") -> 1 | AQ10: {=IFERROR(IF(LEN(AO10)=0,"",LARGE((AO10=$Q$7:$Q$126)*($P$7:$P$126),COUNTIF(AO10:AO$126,AO10)-1)),"")} -> 0 | AR10: =IFERROR(IF(LEN(AO10)=0,"",COUNTIF(AQ$7:AQ10,AQ10)),"") -> 1 | AS10: {=IFERROR(IF(MAX(($AJ10>=$AF$31:$AF$40)*($AJ10<=$AG$31:$AG$40)*$AA$31:$AA$40)=0,"",INDEX($AB$31:$AB$40,MAX(($AJ10>=$AF$31:$AF$40)*($AJ10<=$AG$31:$AG$40)*$AA$31:$AA$40))),"")} -> Customer orders the coffee | AT10: =IFERROR(IF(LEN(AS10)=0,"",COUNTIF(AS$7:AS10,AS10)),"") -> 1 | AU10: =IFERROR(IF(LEN(AS10)=0,"",INDEX($C$68:$L$77,AT10,MATCH(AS10,$AB$31:$AB$40,0))),"") -> 2 | AV10: =IFERROR(IF(LEN(AU10)=0,"",COUNTIF(AU$7:AU10,AU10)),"") -> 1 | AW10: {=IFERROR(IF(MAX(($AJ10>=$AF$43:$AF$52)*($AJ10<=$AG$43:$AG$52)*$AA$43:$AA$52)=0,"",INDEX($AB$43:$AB$52,MAX(($AJ10>=$AF$43:$AF$52)*($AJ10<=$AG$43:$AG$52)*$AA$43:$AA$52))),"")} -> Bill | AX10: =IFERROR(IF(LEN(AW10)=0,"",COUNTIF(AW$7:AW10,AW10)),"") -> 1 | AY10: =IFERROR(IF(LEN(AW10)=0,"",INDEX($C$83:$L$92,AX10,MATCH(AW10,$AB$43:$AB$52,0))),"") -> 1 | AZ10: =IFERROR(IF(LEN(AY10)=0,"",COUNTIF(AY$7:AY10,AY10)),"") -> 2 | BA10: {=IFERROR(IF(MAX(($AJ10>=$AF$55:$AF$64)*($AJ10<=$AG$55:$AG$64)*$AA$55:$AA$64)=0,"",INDEX($AB$55:$AB$64,MAX(($AJ10>=$AF$55:$AF$64)*($AJ10<=$AG$55:$AG$64)*$AA$55:$AA$64))),"")} -> Customer | BB10: =IFERROR(IF(LEN(BA10)=0,"",COUNTIF(BA$7:BA10,BA10)),"") -> 4 | BD10: 4 | BE10: =IFERROR(IF(LEN(AK10)=0,"",AK10&"-"&AL10),"") | BF10: {=IFERROR(IF(AND(COUNTIF($BE$7:$BE10,"")+1=BF$6,LEN($BE10)>0,$AM10>0),MATCH(INDEX($V$7:$V$16,$AM10)&"-"&$AN10,$BQ$7:$BQ$126,0),""),"")} | BG10: {=IFERROR(IF(AND(COUNTIF($BE$7:$BE10,"")+1=BG$6,LEN($BE10)>0,$AM10>0),MATCH(INDEX($V$7:$V$16,$AM10)&"-"&$AN10,$BQ$7:$BQ$126,0),""),"")} | BH10: {=IFERROR(IF(AND(COUNTIF($BE$7:$BE10,"")+1=BH$6,LEN($BE10)>0,$AM10>0),MATCH(INDEX($V$7:$V$16,$AM10)&"-"&$AN10,$BQ$7:$BQ$126,0),""),"")} | BI10: {=IFERROR(IF(AND(COUNTIF($BE$7:$BE10,"")+1=BI$6,LEN($BE10)>0,$AM10>0),MATCH(INDEX($V$7:$V$16,$AM10)&"-"&$AN10,$BQ$7:$BQ$126,0),""),"")} | BJ10: {=IFERROR(IF(AND(COUNTIF($BE$7:$BE10,"")+1=BJ$6,LEN($BE10)>0,$AM10>0),MATCH(INDEX($V$7:$V$16,$AM10)&"-"&$AN10,$BQ$7:$BQ$126,0),""),"")} | BK10: {=IFERROR(IF(AND(COUNTIF($BE$7:$BE10,"")+1=BK$6,LEN($BE10)>0,$AM10>0),MATCH(INDEX($V$7:$V$16,$AM10)&"-"&$AN10,$BQ$7:$BQ$126,0),""),"")} | BL10: {=IFERROR(IF(AND(COUNTIF($BE$7:$BE10,"")+1=BL$6,LEN($BE10)>0,$AM10>0),MATCH(INDEX($V$7:$V$16,$AM10)&"-"&$AN10,$BQ$7:$BQ$126,0),""),"")} | BM10: {=IFERROR(IF(AND(COUNTIF($BE$7:$BE10,"")+1=BM$6,LEN($BE10)>0,$AM10>0),MATCH(INDEX($V$7:$V$16,$AM10)&"-"&$AN10,$BQ$7:$BQ$126,0),""),"")} | ... BP10: {=IFERROR(IF(AND(COUNTIF($BE$7:$BE10,"")+1=BP$6,LEN($BE10)>0,$AM10>0),MATCH(INDEX($V$7:$V$16,$AM10)&"-"&$AN10,$BQ$7:$BQ$126,0),""),"")} | BQ10: =IF(LEN(AO10)=0,"",AO10&"-"&AP10) -> Money-1 | BR10: {=IFERROR(IF(AND(COUNTIF($BQ$7:$BQ10,"")+1=BR$6,LEN($BQ10)>0,$AQ10>0),MATCH(INDEX($W$7:$W$16,$AQ10)&"-"&$AR10,$CC$7:$CC$126,0),""),"")} | BS10: {=IFERROR(IF(AND(COUNTIF($BQ$7:$BQ10,"")+1=BS$6,LEN($BQ10)>0,$AQ10>0),MATCH(INDEX($W$7:$W$16,$AQ10)&"-"&$AR10,$CC$7:$CC$126,0),""),"")} | BT10: {=IFERROR(IF(AND(COUNTIF($BQ$7:$BQ10,"")+1=BT$6,LEN($BQ10)>0,$AQ10>0),MATCH(INDEX($W$7:$W$16,$AQ10)&"-"&$AR10,$CC$7:$CC$126,0),""),"")} | BU10: {=IFERROR(IF(AND(COUNTIF($BQ$7:$BQ10,"")+1=BU$6,LEN($BQ10)>0,$AQ10>0),MATCH(INDEX($W$7:$W$16,$AQ10)&"-"&$AR10,$CC$7:$CC$126,0),""),"")} | BV10: {=IFERROR(IF(AND(COUNTIF($BQ$7:$BQ10,"")+1=BV$6,LEN($BQ10)>0,$AQ10>0),MATCH(INDEX($W$7:$W$16,$AQ10)&"-"&$AR10,$CC$7:$CC$126,0),""),"")} | BW10: {=IFERROR(IF(AND(COUNTIF($BQ$7:$BQ10,"")+1=BW$6,LEN($BQ10)>0,$AQ10>0),MATCH(INDEX($W$7:$W$16,$AQ10)&"-"&$AR10,$CC$7:$CC$126,0),""),"")} | BX10: {=IFERROR(IF(AND(COUNTIF($BQ$7:$BQ10,"")+1=BX$6,LEN($BQ10)>0,$AQ10>0),MATCH(INDEX($W$7:$W$16,$AQ10)&"-"&$AR10,$CC$7:$CC$126,0),""),"")} | BY10: {=IFERROR(IF(AND(COUNTIF($BQ$7:$BQ10,"")+1=BY$6,LEN($BQ10)>0,$AQ10>0),MATCH(INDEX($W$7:$W$16,$AQ10)&"-"&$AR10,$CC$7:$CC$126,0),""),"")} | ... CB10: {=IFERROR(IF(AND(COUNTIF($BQ$7:$BQ10,"")+1=CB$6,LEN($BQ10)>0,$AQ10>0),MATCH(INDEX($W$7:$W$16,$AQ10)&"-"&$AR10,$CC$7:$CC$126,0),""),"")} | CC10: =IFERROR(IF(LEN(AS10)=0,"",AS10&"-"&AT10),"") -> Customer orders the coffee-1 | CD10: {=IFERROR(IF(AND(COUNTIF($CC$7:$CC10,"")+1=CD$6,LEN($CC10)>0,$AU10>0),MATCH(INDEX($X$7:$X$16,$AU10)&"-"&$AV10,$CO$7:$CO$126,0),""),"")} | CE10: {=IFERROR(IF(AND(COUNTIF($CC$7:$CC10,"")+1=CE$6,LEN($CC10)>0,$AU10>0),MATCH(INDEX($X$7:$X$16,$AU10)&"-"&$AV10,$CO$7:$CO$126,0),""),"")} -> 4 | CF10: {=IFERROR(IF(AND(COUNTIF($CC$7:$CC10,"")+1=CF$6,LEN($CC10)>0,$AU10>0),MATCH(INDEX($X$7:$X$16,$AU10)&"-"&$AV10,$CO$7:$CO$126,0),""),"")} | CG10: {=IFERROR(IF(AND(COUNTIF($CC$7:$CC10,"")+1=CG$6,LEN($CC10)>0,$AU10>0),MATCH(INDEX($X$7:$X$16,$AU10)&"-"&$AV10,$CO$7:$CO$126,0),""),"")} | CH10: {=IFERROR(IF(AND(COUNTIF($CC$7:$CC10,"")+1=CH$6,LEN($CC10)>0,$AU10>0),MATCH(INDEX($X$7:$X$16,$AU10)&"-"&$AV10,$CO$7:$CO$126,0),""),"")} | CI10: {=IFERROR(IF(AND(COUNTIF($CC$7:$CC10,"")+1=CI$6,LEN($CC10)>0,$AU10>0),MATCH(INDEX($X$7:$X$16,$AU10)&"-"&$AV10,$CO$7:$CO$126,0),""),"")} | CJ10: {=IFERROR(IF(AND(COUNTIF($CC$7:$CC10,"")+1=CJ$6,LEN($CC10)>0,$AU10>0),MATCH(INDEX($X$7:$X$16,$AU10)&"-"&$AV10,$CO$7:$CO$126,0),""),"")} | CK10: {=IFERROR(IF(AND(COUNTIF($CC$7:$CC10,"")+1=CK$6,LEN($CC10)>0,$AU10>0),MATCH(INDEX($X$7:$X$16,$AU10)&"-"&$AV10,$CO$7:$CO$126,0),""),"")} | ... CN10: {=IFERROR(IF(AND(COUNTIF($CC$7:$CC10,"")+1=CN$6,LEN($CC10)>0,$AU10>0),MATCH(INDEX($X$7:$X$16,$AU10)&"-"&$AV10,$CO$7:$CO$126,0),""),"")} | CO10: =IFERROR(IF(LEN(AW10)=0,"",AW10&"-"&AX10),"") -> Bill-1 | CP10: {=IFERROR(IF(AND(COUNTIF($CO$7:$CO10,"")+1=CP$6,LEN($CO10)>0,$AY10>0),MATCH(INDEX($Y$7:$Y$16,$AY10)&"-"&$AZ10,$DA$7:$DA$126,0),""),"")} | CQ10: {=IFERROR(IF(AND(COUNTIF($CO$7:$CO10,"")+1=CQ$6,LEN($CO10)>0,$AY10>0),MATCH(INDEX($Y$7:$Y$16,$AY10)&"-"&$AZ10,$DA$7:$DA$126,0),""),"")} -> 2 | CR10: {=IFERROR(IF(AND(COUNTIF($CO$7:$CO10,"")+1=CR$6,LEN($CO10)>0,$AY10>0),MATCH(INDEX($Y$7:$Y$16,$AY10)&"-"&$AZ10,$DA$7:$DA$126,0),""),"")} | CS10: {=IFERROR(IF(AND(COUNTIF($CO$7:$CO10,"")+1=CS$6,LEN($CO10)>0,$AY10>0),MATCH(INDEX($Y$7:$Y$16,$AY10)&"-"&$AZ10,$DA$7:$DA$126,0),""),"")} | CT10: {=IFERROR(IF(AND(COUNTIF($CO$7:$CO10,"")+1=CT$6,LEN($CO10)>0,$AY10>0),MATCH(INDEX($Y$7:$Y$16,$AY10)&"-"&$AZ10,$DA$7:$DA$126,0),""),"")} | CU10: {=IFERROR(IF(AND(COUNTIF($CO$7:$CO10,"")+1=CU$6,LEN($CO10)>0,$AY10>0),MATCH(INDEX($Y$7:$Y$16,$AY10)&"-"&$AZ10,$DA$7:$DA$126,0),""),"")} | CV10: {=IFERROR(IF(AND(COUNTIF($CO$7:$CO10,"")+1=CV$6,LEN($CO10)>0,$AY10>0),MATCH(INDEX($Y$7:$Y$16,$AY10)&"-"&$AZ10,$DA$7:$DA$126,0),""),"")} | CW10: {=IFERROR(IF(AND(COUNTIF($CO$7:$CO10,"")+1=CW$6,LEN($CO10)>0,$AY10>0),MATCH(INDEX($Y$7:$Y$16,$AY10)&"-"&$AZ10,$DA$7:$DA$126,0),""),"")} | ... CZ10: {=IFERROR(IF(AND(COUNTIF($CO$7:$CO10,"")+1=CZ$6,LEN($CO10)>0,$AY10>0),MATCH(INDEX($Y$7:$Y$16,$AY10)&"-"&$AZ10,$DA$7:$DA$126,0),""),"")} | DA10: =IF(LEN(BA10)=0,"",BA10&"-"&BB10) -> Customer-4 | DC10: {=IFERROR(IF(LEN(BQ10)=0,"",SUM((BF$7:BO$126=$BD10)*(BF$6:BO$6))),"")} -> 1 | DD10: {=IFERROR(IF(LEN(CC10)=0,"",SUM((BR$7:CA$126=$BD10)*(BR$6:CA$6))),"")} -> 2 | DE10: {=IFERROR(IF(LEN(CO10)=0,"",SUM((CD$7:CM$126=$BD10)*(CD$6:CM$6))),"")} -> 2 | DF10: {=IFERROR(IF(LEN(DA10)=0,"",SUM((CP$7:CY$126=$BD10)*(CP$6:CY$6))),"")} -> 5
B11: 4 | C11: {=IFERROR(IF(AND(LEN(C$7)>0,SUM((InputList!$C14:$H14=Cond!C$7)*1)>0),InputList!$B14,""),"")} | D11: {=IFERROR(IF(AND(LEN(D$7)>0,SUM((InputList!$C14:$H14=Cond!D$7)*1)>0),InputList!$B14,""),"")} | E11: {=IFERROR(IF(AND(LEN(E$7)>0,SUM((InputList!$C14:$H14=Cond!E$7)*1)>0),InputList!$B14,""),"")} -> Ingredients ( Milk, Sugar, Chocolate etc.) | F11: {=IFERROR(IF(AND(LEN(F$7)>0,SUM((InputList!$C14:$H14=Cond!F$7)*1)>0),InputList!$B14,""),"")} | G11: {=IFERROR(IF(AND(LEN(G$7)>0,SUM((InputList!$C14:$H14=Cond!G$7)*1)>0),InputList!$B14,""),"")} | H11: {=IFERROR(IF(AND(LEN(H$7)>0,SUM((InputList!$C14:$H14=Cond!H$7)*1)>0),InputList!$B14,""),"")} | I11: {=IFERROR(IF(AND(LEN(I$7)>0,SUM((InputList!$C14:$H14=Cond!I$7)*1)>0),InputList!$B14,""),"")} | J11: {=IFERROR(IF(AND(LEN(J$7)>0,SUM((InputList!$C14:$H14=Cond!J$7)*1)>0),InputList!$B14,""),"")} | ... L11: {=IFERROR(IF(AND(LEN(L$7)>0,SUM((InputList!$C14:$H14=Cond!L$7)*1)>0),InputList!$B14,""),"")} | M11: =COUNTA(C11:L11)-COUNTBLANK(C11:L11) -> 1 | O11: 5 | P11: 1 | Q11: =IFERROR(INDEX($C$8:$L$17,$O11,$P11),"") | R11: =IFERROR(INDEX($C$23:$L$32,$O11,$P11),"") | T11: 5 | U11: =IFERROR(IF(LEN(INDEX(InputList!$B$25:$B$34,Cond!T11))=0,"",INDEX(InputList!$B$25:$B$34,Cond!T11)),"") | V11: =IFERROR(IF(LEN(INDEX(InputList!$B$11:$B$20,Cond!T11))=0,"",INDEX(InputList!$B$11:$B$20,Cond!T11)),"") -> Cookie | W11: =IF(LEN(Process5)=0,"",Process5) | X11: =IFERROR(IF(LEN(INDEX(OutputList!$B$11:$B$20,Cond!T11))=0,"",INDEX(OutputList!$B$11:$B$20,Cond!T11)),"") -> Order | Y11: =IFERROR(IF(LEN(INDEX(OutputList!$B$25:$B$34,Cond!T11))=0,"",INDEX(OutputList!$B$25:$B$34,Cond!T11)),"") | AA11: 5 | AB11: =U11 | AC11: =IFERROR(IF(LEN(AB11)=0,"",INDEX($M$23:$M$32,AA11)),"") | AD11: =IF(LEN(AB11)=0,"",0) | AE11: =IF(LEN(AB11)=0,"",MAX(AC11:AD11)) | AF11: =IFERROR(IF(LEN(AB11)=0,"",MAX($AG$7:AG10)+2),"") | AG11: =IFERROR(IF(LEN(AB11)=0,"",AF11+AE11),"") | AH11: =IFERROR(IF(LEN(AB11)=0,"",ROUNDDOWN((AG11-AF11)/2,0)+AF11),"") | AJ11: 5 | AK11: {=IFERROR(IF(MAX(($AJ11>=$AF$7:$AF$16)*($AJ11<=$AG$7:$AG$16)*$AA$7:$AA$16)=0,"",INDEX($AB$7:$AB$16,MAX(($AJ11>=$AF$7:$AF$16)*($AJ11<=$AG$7:$AG$16)*$AA$7:$AA$16))),"")} -> Cashier | AL11: =IFERROR(IF(LEN(AK11)=0,"",COUNTIF(AK$7:AK11,AK11)),"") -> 1 | AM11: {=IFERROR(IF(LEN(AK11)=0,"",LARGE((AK11=$R$7:$R$126)*($P$7:$P$126),COUNTIF(AK11:AK$126,AK11)-1)),"")} -> 2 | AN11: =IFERROR(IF(LEN(AK11)=0,"",COUNTIF(AM$7:AM11,AM11)),"") -> 2 | AO11: {=IFERROR(IF(MAX(($AJ11>=$AF$19:$AF$28)*($AJ11<=$AG$19:$AG$28)*$AA$19:$AA$28)=0,"",INDEX($AB$19:$AB$28,MAX(($AJ11>=$AF$19:$AF$28)*($AJ11<=$AG$19:$AG$28)*$AA$19:$AA$28))),"")} -> Money | AP11: =IFERROR(IF(LEN(AO11)=0,"",COUNTIF(AO$7:AO11,AO11)),"") -> 2 | AQ11: {=IFERROR(IF(LEN(AO11)=0,"",LARGE((AO11=$Q$7:$Q$126)*($P$7:$P$126),COUNTIF(AO11:AO$126,AO11)-1)),"")} -> 2 | AR11: =IFERROR(IF(LEN(AO11)=0,"",COUNTIF(AQ$7:AQ11,AQ11)),"") -> 1 | AS11: {=IFERROR(IF(MAX(($AJ11>=$AF$31:$AF$40)*($AJ11<=$AG$31:$AG$40)*$AA$31:$AA$40)=0,"",INDEX($AB$31:$AB$40,MAX(($AJ11>=$AF$31:$AF$40)*($AJ11<=$AG$31:$AG$40)*$AA$31:$AA$40))),"")} -> Customer orders the coffee | AT11: =IFERROR(IF(LEN(AS11)=0,"",COUNTIF(AS$7:AS11,AS11)),"") -> 2 | AU11: =IFERROR(IF(LEN(AS11)=0,"",INDEX($C$68:$L$77,AT11,MATCH(AS11,$AB$31:$AB$40,0))),"") -> 3 | AV11: =IFERROR(IF(LEN(AU11)=0,"",COUNTIF(AU$7:AU11,AU11)),"") -> 1 | AW11: {=IFERROR(IF(MAX(($AJ11>=$AF$43:$AF$52)*($AJ11<=$AG$43:$AG$52)*$AA$43:$AA$52)=0,"",INDEX($AB$43:$AB$52,MAX(($AJ11>=$AF$43:$AF$52)*($AJ11<=$AG$43:$AG$52)*$AA$43:$AA$52))),"")} -> Bill | AX11: =IFERROR(IF(LEN(AW11)=0,"",COUNTIF(AW$7:AW11,AW11)),"") -> 2 | AY11: =IFERROR(IF(LEN(AW11)=0,"",INDEX($C$83:$L$92,AX11,MATCH(AW11,$AB$43:$AB$52,0))),"") | AZ11: =IFERROR(IF(LEN(AY11)=0,"",COUNTIF(AY$7:AY11,AY11)),"") | BA11: {=IFERROR(IF(MAX(($AJ11>=$AF$55:$AF$64)*($AJ11<=$AG$55:$AG$64)*$AA$55:$AA$64)=0,"",INDEX($AB$55:$AB$64,MAX(($AJ11>=$AF$55:$AF$64)*($AJ11<=$AG$55:$AG$64)*$AA$55:$AA$64))),"")} -> Customer | BB11: =IFERROR(IF(LEN(BA11)=0,"",COUNTIF(BA$7:BA11,BA11)),"") -> 5 | BD11: 5 | BE11: =IFERROR(IF(LEN(AK11)=0,"",AK11&"-"&AL11),"") -> Cashier-1 | BF11: {=IFERROR(IF(AND(COUNTIF($BE$7:$BE11,"")+1=BF$6,LEN($BE11)>0,$AM11>0),MATCH(INDEX($V$7:$V$16,$AM11)&"-"&$AN11,$BQ$7:$BQ$126,0),""),"")} | BG11: {=IFERROR(IF(AND(COUNTIF($BE$7:$BE11,"")+1=BG$6,LEN($BE11)>0,$AM11>0),MATCH(INDEX($V$7:$V$16,$AM11)&"-"&$AN11,$BQ$7:$BQ$126,0),""),"")} -> 5 | BH11: {=IFERROR(IF(AND(COUNTIF($BE$7:$BE11,"")+1=BH$6,LEN($BE11)>0,$AM11>0),MATCH(INDEX($V$7:$V$16,$AM11)&"-"&$AN11,$BQ$7:$BQ$126,0),""),"")} | BI11: {=IFERROR(IF(AND(COUNTIF($BE$7:$BE11,"")+1=BI$6,LEN($BE11)>0,$AM11>0),MATCH(INDEX($V$7:$V$16,$AM11)&"-"&$AN11,$BQ$7:$BQ$126,0),""),"")} | BJ11: {=IFERROR(IF(AND(COUNTIF($BE$7:$BE11,"")+1=BJ$6,LEN($BE11)>0,$AM11>0),MATCH(INDEX($V$7:$V$16,$AM11)&"-"&$AN11,$BQ$7:$BQ$126,0),""),"")} | BK11: {=IFERROR(IF(AND(COUNTIF($BE$7:$BE11,"")+1=BK$6,LEN($BE11)>0,$AM11>0),MATCH(INDEX($V$7:$V$16,$AM11)&"-"&$AN11,$BQ$7:$BQ$126,0),""),"")} | BL11: {=IFERROR(IF(AND(COUNTIF($BE$7:$BE11,"")+1=BL$6,LEN($BE11)>0,$AM11>0),MATCH(INDEX($V$7:$V$16,$AM11)&"-"&$AN11,$BQ$7:$BQ$126,0),""),"")} | BM11: {=IFERROR(IF(AND(COUNTIF($BE$7:$BE11,"")+1=BM$6,LEN($BE11)>0,$AM11>0),MATCH(INDEX($V$7:$V$16,$AM11)&"-"&$AN11,$BQ$7:$BQ$126,0),""),"")} | ... BP11: {=IFERROR(IF(AND(COUNTIF($BE$7:$BE11,"")+1=BP$6,LEN($BE11)>0,$AM11>0),MATCH(INDEX($V$7:$V$16,$AM11)&"-"&$AN11,$BQ$7:$BQ$126,0),""),"")} | BQ11: =IF(LEN(AO11)=0,"",AO11&"-"&AP11) -> Money-2 | BR11: {=IFERROR(IF(AND(COUNTIF($BQ$7:$BQ11,"")+1=BR$6,LEN($BQ11)>0,$AQ11>0),MATCH(INDEX($W$7:$W$16,$AQ11)&"-"&$AR11,$CC$7:$CC$126,0),""),"")} | BS11: {=IFERROR(IF(AND(COUNTIF($BQ$7:$BQ11,"")+1=BS$6,LEN($BQ11)>0,$AQ11>0),MATCH(INDEX($W$7:$W$16,$AQ11)&"-"&$AR11,$CC$7:$CC$126,0),""),"")} -> 4 | BT11: {=IFERROR(IF(AND(COUNTIF($BQ$7:$BQ11,"")+1=BT$6,LEN($BQ11)>0,$AQ11>0),MATCH(INDEX($W$7:$W$16,$AQ11)&"-"&$AR11,$CC$7:$CC$126,0),""),"")} | BU11: {=IFERROR(IF(AND(COUNTIF($BQ$7:$BQ11,"")+1=BU$6,LEN($BQ11)>0,$AQ11>0),MATCH(INDEX($W$7:$W$16,$AQ11)&"-"&$AR11,$CC$7:$CC$126,0),""),"")} | BV11: {=IFERROR(IF(AND(COUNTIF($BQ$7:$BQ11,"")+1=BV$6,LEN($BQ11)>0,$AQ11>0),MATCH(INDEX($W$7:$W$16,$AQ11)&"-"&$AR11,$CC$7:$CC$126,0),""),"")} | BW11: {=IFERROR(IF(AND(COUNTIF($BQ$7:$BQ11,"")+1=BW$6,LEN($BQ11)>0,$AQ11>0),MATCH(INDEX($W$7:$W$16,$AQ11)&"-"&$AR11,$CC$7:$CC$126,0),""),"")} | BX11: {=IFERROR(IF(AND(COUNTIF($BQ$7:$BQ11,"")+1=BX$6,LEN($BQ11)>0,$AQ11>0),MATCH(INDEX($W$7:$W$16,$AQ11)&"-"&$AR11,$CC$7:$CC$126,0),""),"")} | BY11: {=IFERROR(IF(AND(COUNTIF($BQ$7:$BQ11,"")+1=BY$6,LEN($BQ11)>0,$AQ11>0),MATCH(INDEX($W$7:$W$16,$AQ11)&"-"&$AR11,$CC$7:$CC$126,0),""),"")} | ... CB11: {=IFERROR(IF(AND(COUNTIF($BQ$7:$BQ11,"")+1=CB$6,LEN($BQ11)>0,$AQ11>0),MATCH(INDEX($W$7:$W$16,$AQ11)&"-"&$AR11,$CC$7:$CC$126,0),""),"")} | CC11: =IFERROR(IF(LEN(AS11)=0,"",AS11&"-"&AT11),"") -> Customer orders the coffee-2 | CD11: {=IFERROR(IF(AND(COUNTIF($CC$7:$CC11,"")+1=CD$6,LEN($CC11)>0,$AU11>0),MATCH(INDEX($X$7:$X$16,$AU11)&"-"&$AV11,$CO$7:$CO$126,0),""),"")} | CE11: {=IFERROR(IF(AND(COUNTIF($CC$7:$CC11,"")+1=CE$6,LEN($CC11)>0,$AU11>0),MATCH(INDEX($X$7:$X$16,$AU11)&"-"&$AV11,$CO$7:$CO$126,0),""),"")} -> 7 | CF11: {=IFERROR(IF(AND(COUNTIF($CC$7:$CC11,"")+1=CF$6,LEN($CC11)>0,$AU11>0),MATCH(INDEX($X$7:$X$16,$AU11)&"-"&$AV11,$CO$7:$CO$126,0),""),"")} | CG11: {=IFERROR(IF(AND(COUNTIF($CC$7:$CC11,"")+1=CG$6,LEN($CC11)>0,$AU11>0),MATCH(INDEX($X$7:$X$16,$AU11)&"-"&$AV11,$CO$7:$CO$126,0),""),"")} | CH11: {=IFERROR(IF(AND(COUNTIF($CC$7:$CC11,"")+1=CH$6,LEN($CC11)>0,$AU11>0),MATCH(INDEX($X$7:$X$16,$AU11)&"-"&$AV11,$CO$7:$CO$126,0),""),"")} | CI11: {=IFERROR(IF(AND(COUNTIF($CC$7:$CC11,"")+1=CI$6,LEN($CC11)>0,$AU11>0),MATCH(INDEX($X$7:$X$16,$AU11)&"-"&$AV11,$CO$7:$CO$126,0),""),"")} | CJ11: {=IFERROR(IF(AND(COUNTIF($CC$7:$CC11,"")+1=CJ$6,LEN($CC11)>0,$AU11>0),MATCH(INDEX($X$7:$X$16,$AU11)&"-"&$AV11,$CO$7:$CO$126,0),""),"")} | CK11: {=IFERROR(IF(AND(COUNTIF($CC$7:$CC11,"")+1=CK$6,LEN($CC11)>0,$AU11>0),MATCH(INDEX($X$7:$X$16,$AU11)&"-"&$AV11,$CO$7:$CO$126,0),""),"")} | ... CN11: {=IFERROR(IF(AND(COUNTIF($CC$7:$CC11,"")+1=CN$6,LEN($CC11)>0,$AU11>0),MATCH(INDEX($X$7:$X$16,$AU11)&"-"&$AV11,$CO$7:$CO$126,0),""),"")} | CO11: =IFERROR(IF(LEN(AW11)=0,"",AW11&"-"&AX11),"") -> Bill-2 | CP11: {=IFERROR(IF(AND(COUNTIF($CO$7:$CO11,"")+1=CP$6,LEN($CO11)>0,$AY11>0),MATCH(INDEX($Y$7:$Y$16,$AY11)&"-"&$AZ11,$DA$7:$DA$126,0),""),"")} | CQ11: {=IFERROR(IF(AND(COUNTIF($CO$7:$CO11,"")+1=CQ$6,LEN($CO11)>0,$AY11>0),MATCH(INDEX($Y$7:$Y$16,$AY11)&"-"&$AZ11,$DA$7:$DA$126,0),""),"")} | CR11: {=IFERROR(IF(AND(COUNTIF($CO$7:$CO11,"")+1=CR$6,LEN($CO11)>0,$AY11>0),MATCH(INDEX($Y$7:$Y$16,$AY11)&"-"&$AZ11,$DA$7:$DA$126,0),""),"")} | CS11: {=IFERROR(IF(AND(COUNTIF($CO$7:$CO11,"")+1=CS$6,LEN($CO11)>0,$AY11>0),MATCH(INDEX($Y$7:$Y$16,$AY11)&"-"&$AZ11,$DA$7:$DA$126,0),""),"")} | CT11: {=IFERROR(IF(AND(COUNTIF($CO$7:$CO11,"")+1=CT$6,LEN($CO11)>0,$AY11>0),MATCH(INDEX($Y$7:$Y$16,$AY11)&"-"&$AZ11,$DA$7:$DA$126,0),""),"")} | CU11: {=IFERROR(IF(AND(COUNTIF($CO$7:$CO11,"")+1=CU$6,LEN($CO11)>0,$AY11>0),MATCH(INDEX($Y$7:$Y$16,$AY11)&"-"&$AZ11,$DA$7:$DA$126,0),""),"")} | CV11: {=IFERROR(IF(AND(COUNTIF($CO$7:$CO11,"")+1=CV$6,LEN($CO11)>0,$AY11>0),MATCH(INDEX($Y$7:$Y$16,$AY11)&"-"&$AZ11,$DA$7:$DA$126,0),""),"")} | CW11: {=IFERROR(IF(AND(COUNTIF($CO$7:$CO11,"")+1=CW$6,LEN($CO11)>0,$AY11>0),MATCH(INDEX($Y$7:$Y$16,$AY11)&"-"&$AZ11,$DA$7:$DA$126,0),""),"")} | ... CZ11: {=IFERROR(IF(AND(COUNTIF($CO$7:$CO11,"")+1=CZ$6,LEN($CO11)>0,$AY11>0),MATCH(INDEX($Y$7:$Y$16,$AY11)&"-"&$AZ11,$DA$7:$DA$126,0),""),"")} | DA11: =IF(LEN(BA11)=0,"",BA11&"-"&BB11) -> Customer-5 | DC11: {=IFERROR(IF(LEN(BQ11)=0,"",SUM((BF$7:BO$126=$BD11)*(BF$6:BO$6))),"")} -> 2 | DD11: {=IFERROR(IF(LEN(CC11)=0,"",SUM((BR$7:CA$126=$BD11)*(BR$6:CA$6))),"")} -> 0 | DE11: {=IFERROR(IF(LEN(CO11)=0,"",SUM((CD$7:CM$126=$BD11)*(CD$6:CM$6))),"")} -> 0 | DF11: {=IFERROR(IF(LEN(DA11)=0,"",SUM((CP$7:CY$126=$BD11)*(CP$6:CY$6))),"")} -> 0
B12: 5 | C12: {=IFERROR(IF(AND(LEN(C$7)>0,SUM((InputList!$C15:$H15=Cond!C$7)*1)>0),InputList!$B15,""),"")} | D12: {=IFERROR(IF(AND(LEN(D$7)>0,SUM((InputList!$C15:$H15=Cond!D$7)*1)>0),InputList!$B15,""),"")} | E12: {=IFERROR(IF(AND(LEN(E$7)>0,SUM((InputList!$C15:$H15=Cond!E$7)*1)>0),InputList!$B15,""),"")} | F12: {=IFERROR(IF(AND(LEN(F$7)>0,SUM((InputList!$C15:$H15=Cond!F$7)*1)>0),InputList!$B15,""),"")} -> Cookie | G12: {=IFERROR(IF(AND(LEN(G$7)>0,SUM((InputList!$C15:$H15=Cond!G$7)*1)>0),InputList!$B15,""),"")} | H12: {=IFERROR(IF(AND(LEN(H$7)>0,SUM((InputList!$C15:$H15=Cond!H$7)*1)>0),InputList!$B15,""),"")} | I12: {=IFERROR(IF(AND(LEN(I$7)>0,SUM((InputList!$C15:$H15=Cond!I$7)*1)>0),InputList!$B15,""),"")} | J12: {=IFERROR(IF(AND(LEN(J$7)>0,SUM((InputList!$C15:$H15=Cond!J$7)*1)>0),InputList!$B15,""),"")} | ... L12: {=IFERROR(IF(AND(LEN(L$7)>0,SUM((InputList!$C15:$H15=Cond!L$7)*1)>0),InputList!$B15,""),"")} | M12: =COUNTA(C12:L12)-COUNTBLANK(C12:L12) -> 1 | O12: 6 | P12: 1 | Q12: =IFERROR(INDEX($C$8:$L$17,$O12,$P12),"") | R12: =IFERROR(INDEX($C$23:$L$32,$O12,$P12),"") | T12: 6 | U12: =IFERROR(IF(LEN(INDEX(InputList!$B$25:$B$34,Cond!T12))=0,"",INDEX(InputList!$B$25:$B$34,Cond!T12)),"") | V12: =IFERROR(IF(LEN(INDEX(InputList!$B$11:$B$20,Cond!T12))=0,"",INDEX(InputList!$B$11:$B$20,Cond!T12)),"") -> Supplies(Cup, tissue, straw etc.) | W12: =IF(LEN(Process6)=0,"",Process6) | X12: =IFERROR(IF(LEN(INDEX(OutputList!$B$11:$B$20,Cond!T12))=0,"",INDEX(OutputList!$B$11:$B$20,Cond!T12)),"") | Y12: =IFERROR(IF(LEN(INDEX(OutputList!$B$25:$B$34,Cond!T12))=0,"",INDEX(OutputList!$B$25:$B$34,Cond!T12)),"") | AA12: 6 | AB12: =U12 | AC12: =IFERROR(IF(LEN(AB12)=0,"",INDEX($M$23:$M$32,AA12)),"") | AD12: =IF(LEN(AB12)=0,"",0) | AE12: =IF(LEN(AB12)=0,"",MAX(AC12:AD12)) | AF12: =IFERROR(IF(LEN(AB12)=0,"",MAX($AG$7:AG11)+2),"") | AG12: =IFERROR(IF(LEN(AB12)=0,"",AF12+AE12),"") | AH12: =IFERROR(IF(LEN(AB12)=0,"",ROUNDDOWN((AG12-AF12)/2,0)+AF12),"") | AJ12: 6 | AK12: {=IFERROR(IF(MAX(($AJ12>=$AF$7:$AF$16)*($AJ12<=$AG$7:$AG$16)*$AA$7:$AA$16)=0,"",INDEX($AB$7:$AB$16,MAX(($AJ12>=$AF$7:$AF$16)*($AJ12<=$AG$7:$AG$16)*$AA$7:$AA$16))),"")} -> Cashier | AL12: =IFERROR(IF(LEN(AK12)=0,"",COUNTIF(AK$7:AK12,AK12)),"") -> 2 | AM12: {=IFERROR(IF(LEN(AK12)=0,"",LARGE((AK12=$R$7:$R$126)*($P$7:$P$126),COUNTIF(AK12:AK$126,AK12)-1)),"")} | AN12: =IFERROR(IF(LEN(AK12)=0,"",COUNTIF(AM$7:AM12,AM12)),"") -> 3 | AO12: {=IFERROR(IF(MAX(($AJ12>=$AF$19:$AF$28)*($AJ12<=$AG$19:$AG$28)*$AA$19:$AA$28)=0,"",INDEX($AB$19:$AB$28,MAX(($AJ12>=$AF$19:$AF$28)*($AJ12<=$AG$19:$AG$28)*$AA$19:$AA$28))),"")} -> Money | AP12: =IFERROR(IF(LEN(AO12)=0,"",COUNTIF(AO$7:AO12,AO12)),"") -> 3 | AQ12: {=IFERROR(IF(LEN(AO12)=0,"",LARGE((AO12=$Q$7:$Q$126)*($P$7:$P$126),COUNTIF(AO12:AO$126,AO12)-1)),"")} | AR12: =IFERROR(IF(LEN(AO12)=0,"",COUNTIF(AQ$7:AQ12,AQ12)),"") -> 3 | AS12: {=IFERROR(IF(MAX(($AJ12>=$AF$31:$AF$40)*($AJ12<=$AG$31:$AG$40)*$AA$31:$AA$40)=0,"",INDEX($AB$31:$AB$40,MAX(($AJ12>=$AF$31:$AF$40)*($AJ12<=$AG$31:$AG$40)*$AA$31:$AA$40))),"")} -> Customer orders the coffee | AT12: =IFERROR(IF(LEN(AS12)=0,"",COUNTIF(AS$7:AS12,AS12)),"") -> 3 | AU12: =IFERROR(IF(LEN(AS12)=0,"",INDEX($C$68:$L$77,AT12,MATCH(AS12,$AB$31:$AB$40,0))),"") | AV12: =IFERROR(IF(LEN(AU12)=0,"",COUNTIF(AU$7:AU12,AU12)),"") | AW12: {=IFERROR(IF(MAX(($AJ12>=$AF$43:$AF$52)*($AJ12<=$AG$43:$AG$52)*$AA$43:$AA$52)=0,"",INDEX($AB$43:$AB$52,MAX(($AJ12>=$AF$43:$AF$52)*($AJ12<=$AG$43:$AG$52)*$AA$43:$AA$52))),"")} | AX12: =IFERROR(IF(LEN(AW12)=0,"",COUNTIF(AW$7:AW12,AW12)),"") | AY12: =IFERROR(IF(LEN(AW12)=0,"",INDEX($C$83:$L$92,AX12,MATCH(AW12,$AB$43:$AB$52,0))),"") | AZ12: =IFERROR(IF(LEN(AY12)=0,"",COUNTIF(AY$7:AY12,AY12)),"") | BA12: {=IFERROR(IF(MAX(($AJ12>=$AF$55:$AF$64)*($AJ12<=$AG$55:$AG$64)*$AA$55:$AA$64)=0,"",INDEX($AB$55:$AB$64,MAX(($AJ12>=$AF$55:$AF$64)*($AJ12<=$AG$55:$AG$64)*$AA$55:$AA$64))),"")} | BB12: =IFERROR(IF(LEN(BA12)=0,"",COUNTIF(BA$7:BA12,BA12)),"") | BD12: 6 | BE12: =IFERROR(IF(LEN(AK12)=0,"",AK12&"-"&AL12),"") -> Cashier-2 | BF12: {=IFERROR(IF(AND(COUNTIF($BE$7:$BE12,"")+1=BF$6,LEN($BE12)>0,$AM12>0),MATCH(INDEX($V$7:$V$16,$AM12)&"-"&$AN12,$BQ$7:$BQ$126,0),""),"")} | BG12: {=IFERROR(IF(AND(COUNTIF($BE$7:$BE12,"")+1=BG$6,LEN($BE12)>0,$AM12>0),MATCH(INDEX($V$7:$V$16,$AM12)&"-"&$AN12,$BQ$7:$BQ$126,0),""),"")} | BH12: {=IFERROR(IF(AND(COUNTIF($BE$7:$BE12,"")+1=BH$6,LEN($BE12)>0,$AM12>0),MATCH(INDEX($V$7:$V$16,$AM12)&"-"&$AN12,$BQ$7:$BQ$126,0),""),"")} | BI12: {=IFERROR(IF(AND(COUNTIF($BE$7:$BE12,"")+1=BI$6,LEN($BE12)>0,$AM12>0),MATCH(INDEX($V$7:$V$16,$AM12)&"-"&$AN12,$BQ$7:$BQ$126,0),""),"")} | BJ12: {=IFERROR(IF(AND(COUNTIF($BE$7:$BE12,"")+1=BJ$6,LEN($BE12)>0,$AM12>0),MATCH(INDEX($V$7:$V$16,$AM12)&"-"&$AN12,$BQ$7:$BQ$126,0),""),"")} | BK12: {=IFERROR(IF(AND(COUNTIF($BE$7:$BE12,"")+1=BK$6,LEN($BE12)>0,$AM12>0),MATCH(INDEX($V$7:$V$16,$AM12)&"-"&$AN12,$BQ$7:$BQ$126,0),""),"")} | BL12: {=IFERROR(IF(AND(COUNTIF($BE$7:$BE12,"")+1=BL$6,LEN($BE12)>0,$AM12>0),MATCH(INDEX($V$7:$V$16,$AM12)&"-"&$AN12,$BQ$7:$BQ$126,0),""),"")} | BM12: {=IFERROR(IF(AND(COUNTIF($BE$7:$BE12,"")+1=BM$6,LEN($BE12)>0,$AM12>0),MATCH(INDEX($V$7:$V$16,$AM12)&"-"&$AN12,$BQ$7:$BQ$126,0),""),"")} | ... BP12: {=IFERROR(IF(AND(COUNTIF($BE$7:$BE12,"")+1=BP$6,LEN($BE12)>0,$AM12>0),MATCH(INDEX($V$7:$V$16,$AM12)&"-"&$AN12,$BQ$7:$BQ$126,0),""),"")} | BQ12: =IF(LEN(AO12)=0,"",AO12&"-"&AP12) -> Money-3 | BR12: {=IFERROR(IF(AND(COUNTIF($BQ$7:$BQ12,"")+1=BR$6,LEN($BQ12)>0,$AQ12>0),MATCH(INDEX($W$7:$W$16,$AQ12)&"-"&$AR12,$CC$7:$CC$126,0),""),"")} | BS12: {=IFERROR(IF(AND(COUNTIF($BQ$7:$BQ12,"")+1=BS$6,LEN($BQ12)>0,$AQ12>0),MATCH(INDEX($W$7:$W$16,$AQ12)&"-"&$AR12,$CC$7:$CC$126,0),""),"")} | BT12: {=IFERROR(IF(AND(COUNTIF($BQ$7:$BQ12,"")+1=BT$6,LEN($BQ12)>0,$AQ12>0),MATCH(INDEX($W$7:$W$16,$AQ12)&"-"&$AR12,$CC$7:$CC$126,0),""),"")} | BU12: {=IFERROR(IF(AND(COUNTIF($BQ$7:$BQ12,"")+1=BU$6,LEN($BQ12)>0,$AQ12>0),MATCH(INDEX($W$7:$W$16,$AQ12)&"-"&$AR12,$CC$7:$CC$126,0),""),"")} | BV12: {=IFERROR(IF(AND(COUNTIF($BQ$7:$BQ12,"")+1=BV$6,LEN($BQ12)>0,$AQ12>0),MATCH(INDEX($W$7:$W$16,$AQ12)&"-"&$AR12,$CC$7:$CC$126,0),""),"")} | BW12: {=IFERROR(IF(AND(COUNTIF($BQ$7:$BQ12,"")+1=BW$6,LEN($BQ12)>0,$AQ12>0),MATCH(INDEX($W$7:$W$16,$AQ12)&"-"&$AR12,$CC$7:$CC$126,0),""),"")} | BX12: {=IFERROR(IF(AND(COUNTIF($BQ$7:$BQ12,"")+1=BX$6,LEN($BQ12)>0,$AQ12>0),MATCH(INDEX($W$7:$W$16,$AQ12)&"-"&$AR12,$CC$7:$CC$126,0),""),"")} | BY12: {=IFERROR(IF(AND(COUNTIF($BQ$7:$BQ12,"")+1=BY$6,LEN($BQ12)>0,$AQ12>0),MATCH(INDEX($W$7:$W$16,$AQ12)&"-"&$AR12,$CC$7:$CC$126,0),""),"")} | ... CB12: {=IFERROR(IF(AND(COUNTIF($BQ$7:$BQ12,"")+1=CB$6,LEN($BQ12)>0,$AQ12>0),MATCH(INDEX($W$7:$W$16,$AQ12)&"-"&$AR12,$CC$7:$CC$126,0),""),"")} | CC12: =IFERROR(IF(LEN(AS12)=0,"",AS12&"-"&AT12),"") -> Customer orders the coffee-3 | CD12: {=IFERROR(IF(AND(COUNTIF($CC$7:$CC12,"")+1=CD$6,LEN($CC12)>0,$AU12>0),MATCH(INDEX($X$7:$X$16,$AU12)&"-"&$AV12,$CO$7:$CO$126,0),""),"")} | CE12: {=IFERROR(IF(AND(COUNTIF($CC$7:$CC12,"")+1=CE$6,LEN($CC12)>0,$AU12>0),MATCH(INDEX($X$7:$X$16,$AU12)&"-"&$AV12,$CO$7:$CO$126,0),""),"")} | CF12: {=IFERROR(IF(AND(COUNTIF($CC$7:$CC12,"")+1=CF$6,LEN($CC12)>0,$AU12>0),MATCH(INDEX($X$7:$X$16,$AU12)&"-"&$AV12,$CO$7:$CO$126,0),""),"")} | CG12: {=IFERROR(IF(AND(COUNTIF($CC$7:$CC12,"")+1=CG$6,LEN($CC12)>0,$AU12>0),MATCH(INDEX($X$7:$X$16,$AU12)&"-"&$AV12,$CO$7:$CO$126,0),""),"")} | CH12: {=IFERROR(IF(AND(COUNTIF($CC$7:$CC12,"")+1=CH$6,LEN($CC12)>0,$AU12>0),MATCH(INDEX($X$7:$X$16,$AU12)&"-"&$AV12,$CO$7:$CO$126,0),""),"")} | CI12: {=IFERROR(IF(AND(COUNTIF($CC$7:$CC12,"")+1=CI$6,LEN($CC12)>0,$AU12>0),MATCH(INDEX($X$7:$X$16,$AU12)&"-"&$AV12,$CO$7:$CO$126,0),""),"")} | CJ12: {=IFERROR(IF(AND(COUNTIF($CC$7:$CC12,"")+1=CJ$6,LEN($CC12)>0,$AU12>0),MATCH(INDEX($X$7:$X$16,$AU12)&"-"&$AV12,$CO$7:$CO$126,0),""),"")} | CK12: {=IFERROR(IF(AND(COUNTIF($CC$7:$CC12,"")+1=CK$6,LEN($CC12)>0,$AU12>0),MATCH(INDEX($X$7:$X$16,$AU12)&"-"&$AV12,$CO$7:$CO$126,0),""),"")} | ... CN12: {=IFERROR(IF(AND(COUNTIF($CC$7:$CC12,"")+1=CN$6,LEN($CC12)>0,$AU12>0),MATCH(INDEX($X$7:$X$16,$AU12)&"-"&$AV12,$CO$7:$CO$126,0),""),"")} | CO12: =IFERROR(IF(LEN(AW12)=0,"",AW12&"-"&AX12),"") | CP12: {=IFERROR(IF(AND(COUNTIF($CO$7:$CO12,"")+1=CP$6,LEN($CO12)>0,$AY12>0),MATCH(INDEX($Y$7:$Y$16,$AY12)&"-"&$AZ12,$DA$7:$DA$126,0),""),"")} | CQ12: {=IFERROR(IF(AND(COUNTIF($CO$7:$CO12,"")+1=CQ$6,LEN($CO12)>0,$AY12>0),MATCH(INDEX($Y$7:$Y$16,$AY12)&"-"&$AZ12,$DA$7:$DA$126,0),""),"")} | CR12: {=IFERROR(IF(AND(COUNTIF($CO$7:$CO12,"")+1=CR$6,LEN($CO12)>0,$AY12>0),MATCH(INDEX($Y$7:$Y$16,$AY12)&"-"&$AZ12,$DA$7:$DA$126,0),""),"")} | CS12: {=IFERROR(IF(AND(COUNTIF($CO$7:$CO12,"")+1=CS$6,LEN($CO12)>0,$AY12>0),MATCH(INDEX($Y$7:$Y$16,$AY12)&"-"&$AZ12,$DA$7:$DA$126,0),""),"")} | CT12: {=IFERROR(IF(AND(COUNTIF($CO$7:$CO12,"")+1=CT$6,LEN($CO12)>0,$AY12>0),MATCH(INDEX($Y$7:$Y$16,$AY12)&"-"&$AZ12,$DA$7:$DA$126,0),""),"")} | CU12: {=IFERROR(IF(AND(COUNTIF($CO$7:$CO12,"")+1=CU$6,LEN($CO12)>0,$AY12>0),MATCH(INDEX($Y$7:$Y$16,$AY12)&"-"&$AZ12,$DA$7:$DA$126,0),""),"")} | CV12: {=IFERROR(IF(AND(COUNTIF($CO$7:$CO12,"")+1=CV$6,LEN($CO12)>0,$AY12>0),MATCH(INDEX($Y$7:$Y$16,$AY12)&"-"&$AZ12,$DA$7:$DA$126,0),""),"")} | CW12: {=IFERROR(IF(AND(COUNTIF($CO$7:$CO12,"")+1=CW$6,LEN($CO12)>0,$AY12>0),MATCH(INDEX($Y$7:$Y$16,$AY12)&"-"&$AZ12,$DA$7:$DA$126,0),""),"")} | ... CZ12: {=IFERROR(IF(AND(COUNTIF($CO$7:$CO12,"")+1=CZ$6,LEN($CO12)>0,$AY12>0),MATCH(INDEX($Y$7:$Y$16,$AY12)&"-"&$AZ12,$DA$7:$DA$126,0),""),"")} | DA12: =IF(LEN(BA12)=0,"",BA12&"-"&BB12) | DC12: {=IFERROR(IF(LEN(BQ12)=0,"",SUM((BF$7:BO$126=$BD12)*(BF$6:BO$6))),"")} -> 0 | DD12: {=IFERROR(IF(LEN(CC12)=0,"",SUM((BR$7:CA$126=$BD12)*(BR$6:CA$6))),"")} -> 0 | DE12: {=IFERROR(IF(LEN(CO12)=0,"",SUM((CD$7:CM$126=$BD12)*(CD$6:CM$6))),"")} | DF12: {=IFERROR(IF(LEN(DA12)=0,"",SUM((CP$7:CY$126=$BD12)*(CP$6:CY$6))),"")}
B13: 6 | C13: {=IFERROR(IF(AND(LEN(C$7)>0,SUM((InputList!$C16:$H16=Cond!C$7)*1)>0),InputList!$B16,""),"")} | D13: {=IFERROR(IF(AND(LEN(D$7)>0,SUM((InputList!$C16:$H16=Cond!D$7)*1)>0),InputList!$B16,""),"")} | E13: {=IFERROR(IF(AND(LEN(E$7)>0,SUM((InputList!$C16:$H16=Cond!E$7)*1)>0),InputList!$B16,""),"")} | F13: {=IFERROR(IF(AND(LEN(F$7)>0,SUM((InputList!$C16:$H16=Cond!F$7)*1)>0),InputList!$B16,""),"")} -> Supplies(Cup, tissue, straw etc.) | G13: {=IFERROR(IF(AND(LEN(G$7)>0,SUM((InputList!$C16:$H16=Cond!G$7)*1)>0),InputList!$B16,""),"")} | H13: {=IFERROR(IF(AND(LEN(H$7)>0,SUM((InputList!$C16:$H16=Cond!H$7)*1)>0),InputList!$B16,""),"")} | I13: {=IFERROR(IF(AND(LEN(I$7)>0,SUM((InputList!$C16:$H16=Cond!I$7)*1)>0),InputList!$B16,""),"")} | J13: {=IFERROR(IF(AND(LEN(J$7)>0,SUM((InputList!$C16:$H16=Cond!J$7)*1)>0),InputList!$B16,""),"")} | ... L13: {=IFERROR(IF(AND(LEN(L$7)>0,SUM((InputList!$C16:$H16=Cond!L$7)*1)>0),InputList!$B16,""),"")} | M13: =COUNTA(C13:L13)-COUNTBLANK(C13:L13) -> 1 | O13: 7 | P13: 1 | Q13: =IFERROR(INDEX($C$8:$L$17,$O13,$P13),"") | R13: =IFERROR(INDEX($C$23:$L$32,$O13,$P13),"") | T13: 7 | U13: =IFERROR(IF(LEN(INDEX(InputList!$B$25:$B$34,Cond!T13))=0,"",INDEX(InputList!$B$25:$B$34,Cond!T13)),"") | V13: =IFERROR(IF(LEN(INDEX(InputList!$B$11:$B$20,Cond!T13))=0,"",INDEX(InputList!$B$11:$B$20,Cond!T13)),"") | X13: =IFERROR(IF(LEN(INDEX(OutputList!$B$11:$B$20,Cond!T13))=0,"",INDEX(OutputList!$B$11:$B$20,Cond!T13)),"") | Y13: =IFERROR(IF(LEN(INDEX(OutputList!$B$25:$B$34,Cond!T13))=0,"",INDEX(OutputList!$B$25:$B$34,Cond!T13)),"") | AA13: 7 | AB13: =U13 | AC13: =IFERROR(IF(LEN(AB13)=0,"",INDEX($M$23:$M$32,AA13)),"") | AD13: =IF(LEN(AB13)=0,"",0) | AE13: =IF(LEN(AB13)=0,"",MAX(AC13:AD13)) | AF13: =IFERROR(IF(LEN(AB13)=0,"",MAX($AG$7:AG12)+2),"") | AG13: =IFERROR(IF(LEN(AB13)=0,"",AF13+AE13),"") | AH13: =IFERROR(IF(LEN(AB13)=0,"",ROUNDDOWN((AG13-AF13)/2,0)+AF13),"") | AJ13: 7 | AK13: {=IFERROR(IF(MAX(($AJ13>=$AF$7:$AF$16)*($AJ13<=$AG$7:$AG$16)*$AA$7:$AA$16)=0,"",INDEX($AB$7:$AB$16,MAX(($AJ13>=$AF$7:$AF$16)*($AJ13<=$AG$7:$AG$16)*$AA$7:$AA$16))),"")} | AL13: =IFERROR(IF(LEN(AK13)=0,"",COUNTIF(AK$7:AK13,AK13)),"") | AM13: {=IFERROR(IF(LEN(AK13)=0,"",LARGE((AK13=$R$7:$R$126)*($P$7:$P$126),COUNTIF(AK13:AK$126,AK13)-1)),"")} | AN13: =IFERROR(IF(LEN(AK13)=0,"",COUNTIF(AM$7:AM13,AM13)),"") | AO13: {=IFERROR(IF(MAX(($AJ13>=$AF$19:$AF$28)*($AJ13<=$AG$19:$AG$28)*$AA$19:$AA$28)=0,"",INDEX($AB$19:$AB$28,MAX(($AJ13>=$AF$19:$AF$28)*($AJ13<=$AG$19:$AG$28)*$AA$19:$AA$28))),"")} | AP13: =IFERROR(IF(LEN(AO13)=0,"",COUNTIF(AO$7:AO13,AO13)),"") | AQ13: {=IFERROR(IF(LEN(AO13)=0,"",LARGE((AO13=$Q$7:$Q$126)*($P$7:$P$126),COUNTIF(AO13:AO$126,AO13)-1)),"")} | AR13: =IFERROR(IF(LEN(AO13)=0,"",COUNTIF(AQ$7:AQ13,AQ13)),"") | AS13: {=IFERROR(IF(MAX(($AJ13>=$AF$31:$AF$40)*($AJ13<=$AG$31:$AG$40)*$AA$31:$AA$40)=0,"",INDEX($AB$31:$AB$40,MAX(($AJ13>=$AF$31:$AF$40)*($AJ13<=$AG$31:$AG$40)*$AA$31:$AA$40))),"")} | AT13: =IFERROR(IF(LEN(AS13)=0,"",COUNTIF(AS$7:AS13,AS13)),"") | AU13: =IFERROR(IF(LEN(AS13)=0,"",INDEX($C$68:$L$77,AT13,MATCH(AS13,$AB$31:$AB$40,0))),"") | AV13: =IFERROR(IF(LEN(AU13)=0,"",COUNTIF(AU$7:AU13,AU13)),"") | AW13: {=IFERROR(IF(MAX(($AJ13>=$AF$43:$AF$52)*($AJ13<=$AG$43:$AG$52)*$AA$43:$AA$52)=0,"",INDEX($AB$43:$AB$52,MAX(($AJ13>=$AF$43:$AF$52)*($AJ13<=$AG$43:$AG$52)*$AA$43:$AA$52))),"")} -> Order details | AX13: =IFERROR(IF(LEN(AW13)=0,"",COUNTIF(AW$7:AW13,AW13)),"") -> 1 | AY13: =IFERROR(IF(LEN(AW13)=0,"",INDEX($C$83:$L$92,AX13,MATCH(AW13,$AB$43:$AB$52,0))),"") -> 2 | AZ13: =IFERROR(IF(LEN(AY13)=0,"",COUNTIF(AY$7:AY13,AY13)),"") -> 1 | BA13: {=IFERROR(IF(MAX(($AJ13>=$AF$55:$AF$64)*($AJ13<=$AG$55:$AG$64)*$AA$55:$AA$64)=0,"",INDEX($AB$55:$AB$64,MAX(($AJ13>=$AF$55:$AF$64)*($AJ13<=$AG$55:$AG$64)*$AA$55:$AA$64))),"")} -> Barista | BB13: =IFERROR(IF(LEN(BA13)=0,"",COUNTIF(BA$7:BA13,BA13)),"") -> 1 | BD13: 7 | BE13: =IFERROR(IF(LEN(AK13)=0,"",AK13&"-"&AL13),"") | BF13: {=IFERROR(IF(AND(COUNTIF($BE$7:$BE13,"")+1=BF$6,LEN($BE13)>0,$AM13>0),MATCH(INDEX($V$7:$V$16,$AM13)&"-"&$AN13,$BQ$7:$BQ$126,0),""),"")} | BG13: {=IFERROR(IF(AND(COUNTIF($BE$7:$BE13,"")+1=BG$6,LEN($BE13)>0,$AM13>0),MATCH(INDEX($V$7:$V$16,$AM13)&"-"&$AN13,$BQ$7:$BQ$126,0),""),"")} | BH13: {=IFERROR(IF(AND(COUNTIF($BE$7:$BE13,"")+1=BH$6,LEN($BE13)>0,$AM13>0),MATCH(INDEX($V$7:$V$16,$AM13)&"-"&$AN13,$BQ$7:$BQ$126,0),""),"")} | BI13: {=IFERROR(IF(AND(COUNTIF($BE$7:$BE13,"")+1=BI$6,LEN($BE13)>0,$AM13>0),MATCH(INDEX($V$7:$V$16,$AM13)&"-"&$AN13,$BQ$7:$BQ$126,0),""),"")} | BJ13: {=IFERROR(IF(AND(COUNTIF($BE$7:$BE13,"")+1=BJ$6,LEN($BE13)>0,$AM13>0),MATCH(INDEX($V$7:$V$16,$AM13)&"-"&$AN13,$BQ$7:$BQ$126,0),""),"")} | BK13: {=IFERROR(IF(AND(COUNTIF($BE$7:$BE13,"")+1=BK$6,LEN($BE13)>0,$AM13>0),MATCH(INDEX($V$7:$V$16,$AM13)&"-"&$AN13,$BQ$7:$BQ$126,0),""),"")} | BL13: {=IFERROR(IF(AND(COUNTIF($BE$7:$BE13,"")+1=BL$6,LEN($BE13)>0,$AM13>0),MATCH(INDEX($V$7:$V$16,$AM13)&"-"&$AN13,$BQ$7:$BQ$126,0),""),"")} | BM13: {=IFERROR(IF(AND(COUNTIF($BE$7:$BE13,"")+1=BM$6,LEN($BE13)>0,$AM13>0),MATCH(INDEX($V$7:$V$16,$AM13)&"-"&$AN13,$BQ$7:$BQ$126,0),""),"")} | ... BP13: {=IFERROR(IF(AND(COUNTIF($BE$7:$BE13,"")+1=BP$6,LEN($BE13)>0,$AM13>0),MATCH(INDEX($V$7:$V$16,$AM13)&"-"&$AN13,$BQ$7:$BQ$126,0),""),"")} | BQ13: =IF(LEN(AO13)=0,"",AO13&"-"&AP13) | BR13: {=IFERROR(IF(AND(COUNTIF($BQ$7:$BQ13,"")+1=BR$6,LEN($BQ13)>0,$AQ13>0),MATCH(INDEX($W$7:$W$16,$AQ13)&"-"&$AR13,$CC$7:$CC$126,0),""),"")} | BS13: {=IFERROR(IF(AND(COUNTIF($BQ$7:$BQ13,"")+1=BS$6,LEN($BQ13)>0,$AQ13>0),MATCH(INDEX($W$7:$W$16,$AQ13)&"-"&$AR13,$CC$7:$CC$126,0),""),"")} | BT13: {=IFERROR(IF(AND(COUNTIF($BQ$7:$BQ13,"")+1=BT$6,LEN($BQ13)>0,$AQ13>0),MATCH(INDEX($W$7:$W$16,$AQ13)&"-"&$AR13,$CC$7:$CC$126,0),""),"")} | BU13: {=IFERROR(IF(AND(COUNTIF($BQ$7:$BQ13,"")+1=BU$6,LEN($BQ13)>0,$AQ13>0),MATCH(INDEX($W$7:$W$16,$AQ13)&"-"&$AR13,$CC$7:$CC$126,0),""),"")} | BV13: {=IFERROR(IF(AND(COUNTIF($BQ$7:$BQ13,"")+1=BV$6,LEN($BQ13)>0,$AQ13>0),MATCH(INDEX($W$7:$W$16,$AQ13)&"-"&$AR13,$CC$7:$CC$126,0),""),"")} | BW13: {=IFERROR(IF(AND(COUNTIF($BQ$7:$BQ13,"")+1=BW$6,LEN($BQ13)>0,$AQ13>0),MATCH(INDEX($W$7:$W$16,$AQ13)&"-"&$AR13,$CC$7:$CC$126,0),""),"")} | BX13: {=IFERROR(IF(AND(COUNTIF($BQ$7:$BQ13,"")+1=BX$6,LEN($BQ13)>0,$AQ13>0),MATCH(INDEX($W$7:$W$16,$AQ13)&"-"&$AR13,$CC$7:$CC$126,0),""),"")} | BY13: {=IFERROR(IF(AND(COUNTIF($BQ$7:$BQ13,"")+1=BY$6,LEN($BQ13)>0,$AQ13>0),MATCH(INDEX($W$7:$W$16,$AQ13)&"-"&$AR13,$CC$7:$CC$126,0),""),"")} | ... CB13: {=IFERROR(IF(AND(COUNTIF($BQ$7:$BQ13,"")+1=CB$6,LEN($BQ13)>0,$AQ13>0),MATCH(INDEX($W$7:$W$16,$AQ13)&"-"&$AR13,$CC$7:$CC$126,0),""),"")} | CC13: =IFERROR(IF(LEN(AS13)=0,"",AS13&"-"&AT13),"") | CD13: {=IFERROR(IF(AND(COUNTIF($CC$7:$CC13,"")+1=CD$6,LEN($CC13)>0,$AU13>0),MATCH(INDEX($X$7:$X$16,$AU13)&"-"&$AV13,$CO$7:$CO$126,0),""),"")} | CE13: {=IFERROR(IF(AND(COUNTIF($CC$7:$CC13,"")+1=CE$6,LEN($CC13)>0,$AU13>0),MATCH(INDEX($X$7:$X$16,$AU13)&"-"&$AV13,$CO$7:$CO$126,0),""),"")} | CF13: {=IFERROR(IF(AND(COUNTIF($CC$7:$CC13,"")+1=CF$6,LEN($CC13)>0,$AU13>0),MATCH(INDEX($X$7:$X$16,$AU13)&"-"&$AV13,$CO$7:$CO$126,0),""),"")} | CG13: {=IFERROR(IF(AND(COUNTIF($CC$7:$CC13,"")+1=CG$6,LEN($CC13)>0,$AU13>0),MATCH(INDEX($X$7:$X$16,$AU13)&"-"&$AV13,$CO$7:$CO$126,0),""),"")} | CH13: {=IFERROR(IF(AND(COUNTIF($CC$7:$CC13,"")+1=CH$6,LEN($CC13)>0,$AU13>0),MATCH(INDEX($X$7:$X$16,$AU13)&"-"&$AV13,$CO$7:$CO$126,0),""),"")} | CI13: {=IFERROR(IF(AND(COUNTIF($CC$7:$CC13,"")+1=CI$6,LEN($CC13)>0,$AU13>0),MATCH(INDEX($X$7:$X$16,$AU13)&"-"&$AV13,$CO$7:$CO$126,0),""),"")} | CJ13: {=IFERROR(IF(AND(COUNTIF($CC$7:$CC13,"")+1=CJ$6,LEN($CC13)>0,$AU13>0),MATCH(INDEX($X$7:$X$16,$AU13)&"-"&$AV13,$CO$7:$CO$126,0),""),"")} | CK13: {=IFERROR(IF(AND(COUNTIF($CC$7:$CC13,"")+1=CK$6,LEN($CC13)>0,$AU13>0),MATCH(INDEX($X$7:$X$16,$AU13)&"-"&$AV13,$CO$7:$CO$126,0),""),"")} | ... CN13: {=IFERROR(IF(AND(COUNTIF($CC$7:$CC13,"")+1=CN$6,LEN($CC13)>0,$AU13>0),MATCH(INDEX($X$7:$X$16,$AU13)&"-"&$AV13,$CO$7:$CO$126,0),""),"")} | CO13: =IFERROR(IF(LEN(AW13)=0,"",AW13&"-"&AX13),"") -> Order details-1 | CP13: {=IFERROR(IF(AND(COUNTIF($CO$7:$CO13,"")+1=CP$6,LEN($CO13)>0,$AY13>0),MATCH(INDEX($Y$7:$Y$16,$AY13)&"-"&$AZ13,$DA$7:$DA$126,0),""),"")} | CQ13: {=IFERROR(IF(AND(COUNTIF($CO$7:$CO13,"")+1=CQ$6,LEN($CO13)>0,$AY13>0),MATCH(INDEX($Y$7:$Y$16,$AY13)&"-"&$AZ13,$DA$7:$DA$126,0),""),"")} | CR13: {=IFERROR(IF(AND(COUNTIF($CO$7:$CO13,"")+1=CR$6,LEN($CO13)>0,$AY13>0),MATCH(INDEX($Y$7:$Y$16,$AY13)&"-"&$AZ13,$DA$7:$DA$126,0),""),"")} -> 7 | CS13: {=IFERROR(IF(AND(COUNTIF($CO$7:$CO13,"")+1=CS$6,LEN($CO13)>0,$AY13>0),MATCH(INDEX($Y$7:$Y$16,$AY13)&"-"&$AZ13,$DA$7:$DA$126,0),""),"")} | CT13: {=IFERROR(IF(AND(COUNTIF($CO$7:$CO13,"")+1=CT$6,LEN($CO13)>0,$AY13>0),MATCH(INDEX($Y$7:$Y$16,$AY13)&"-"&$AZ13,$DA$7:$DA$126,0),""),"")} | CU13: {=IFERROR(IF(AND(COUNTIF($CO$7:$CO13,"")+1=CU$6,LEN($CO13)>0,$AY13>0),MATCH(INDEX($Y$7:$Y$16,$AY13)&"-"&$AZ13,$DA$7:$DA$126,0),""),"")} | CV13: {=IFERROR(IF(AND(COUNTIF($CO$7:$CO13,"")+1=CV$6,LEN($CO13)>0,$AY13>0),MATCH(INDEX($Y$7:$Y$16,$AY13)&"-"&$AZ13,$DA$7:$DA$126,0),""),"")} | CW13: {=IFERROR(IF(AND(COUNTIF($CO$7:$CO13,"")+1=CW$6,LEN($CO13)>0,$AY13>0),MATCH(INDEX($Y$7:$Y$16,$AY13)&"-"&$AZ13,$DA$7:$DA$126,0),""),"")} | ... CZ13: {=IFERROR(IF(AND(COUNTIF($CO$7:$CO13,"")+1=CZ$6,LEN($CO13)>0,$AY13>0),MATCH(INDEX($Y$7:$Y$16,$AY13)&"-"&$AZ13,$DA$7:$DA$126,0),""),"")} | DA13: =IF(LEN(BA13)=0,"",BA13&"-"&BB13) -> Barista-1 | DC13: {=IFERROR(IF(LEN(BQ13)=0,"",SUM((BF$7:BO$126=$BD13)*(BF$6:BO$6))),"")} | DD13: {=IFERROR(IF(LEN(CC13)=0,"",SUM((BR$7:CA$126=$BD13)*(BR$6:CA$6))),"")} | DE13: {=IFERROR(IF(LEN(CO13)=0,"",SUM((CD$7:CM$126=$BD13)*(CD$6:CM$6))),"")} -> 2 | DF13: {=IFERROR(IF(LEN(DA13)=0,"",SUM((CP$7:CY$126=$BD13)*(CP$6:CY$6))),"")} -> 3
B14: 7 | C14: {=IFERROR(IF(AND(LEN(C$7)>0,SUM((InputList!$C17:$H17=Cond!C$7)*1)>0),InputList!$B17,""),"")} | D14: {=IFERROR(IF(AND(LEN(D$7)>0,SUM((InputList!$C17:$H17=Cond!D$7)*1)>0),InputList!$B17,""),"")} | E14: {=IFERROR(IF(AND(LEN(E$7)>0,SUM((InputList!$C17:$H17=Cond!E$7)*1)>0),InputList!$B17,""),"")} | F14: {=IFERROR(IF(AND(LEN(F$7)>0,SUM((InputList!$C17:$H17=Cond!F$7)*1)>0),InputList!$B17,""),"")} | G14: {=IFERROR(IF(AND(LEN(G$7)>0,SUM((InputList!$C17:$H17=Cond!G$7)*1)>0),InputList!$B17,""),"")} | H14: {=IFERROR(IF(AND(LEN(H$7)>0,SUM((InputList!$C17:$H17=Cond!H$7)*1)>0),InputList!$B17,""),"")} | I14: {=IFERROR(IF(AND(LEN(I$7)>0,SUM((InputList!$C17:$H17=Cond!I$7)*1)>0),InputList!$B17,""),"")} | J14: {=IFERROR(IF(AND(LEN(J$7)>0,SUM((InputList!$C17:$H17=Cond!J$7)*1)>0),InputList!$B17,""),"")} | ... L14: {=IFERROR(IF(AND(LEN(L$7)>0,SUM((InputList!$C17:$H17=Cond!L$7)*1)>0),InputList!$B17,""),"")} | M14: =COUNTA(C14:L14)-COUNTBLANK(C14:L14) -> 0 | O14: 8 | P14: 1 | Q14: =IFERROR(INDEX($C$8:$L$17,$O14,$P14),"") | R14: =IFERROR(INDEX($C$23:$L$32,$O14,$P14),"") | T14: 8 | U14: =IFERROR(IF(LEN(INDEX(InputList!$B$25:$B$34,Cond!T14))=0,"",INDEX(InputList!$B$25:$B$34,Cond!T14)),"") | V14: =IFERROR(IF(LEN(INDEX(InputList!$B$11:$B$20,Cond!T14))=0,"",INDEX(InputList!$B$11:$B$20,Cond!T14)),"") | X14: =IFERROR(IF(LEN(INDEX(OutputList!$B$11:$B$20,Cond!T14))=0,"",INDEX(OutputList!$B$11:$B$20,Cond!T14)),"") | Y14: =IFERROR(IF(LEN(INDEX(OutputList!$B$25:$B$34,Cond!T14))=0,"",INDEX(OutputList!$B$25:$B$34,Cond!T14)),"") | AA14: 8 | AB14: =U14 | AC14: =IFERROR(IF(LEN(AB14)=0,"",INDEX($M$23:$M$32,AA14)),"") | AD14: =IF(LEN(AB14)=0,"",0) | AE14: =IF(LEN(AB14)=0,"",MAX(AC14:AD14)) | AF14: =IFERROR(IF(LEN(AB14)=0,"",MAX($AG$7:AG13)+2),"") | AG14: =IFERROR(IF(LEN(AB14)=0,"",AF14+AE14),"") | AH14: =IFERROR(IF(LEN(AB14)=0,"",ROUNDDOWN((AG14-AF14)/2,0)+AF14),"") | AJ14: 8 | AK14: {=IFERROR(IF(MAX(($AJ14>=$AF$7:$AF$16)*($AJ14<=$AG$7:$AG$16)*$AA$7:$AA$16)=0,"",INDEX($AB$7:$AB$16,MAX(($AJ14>=$AF$7:$AF$16)*($AJ14<=$AG$7:$AG$16)*$AA$7:$AA$16))),"")} -> Manufacturer | AL14: =IFERROR(IF(LEN(AK14)=0,"",COUNTIF(AK$7:AK14,AK14)),"") -> 1 | AM14: {=IFERROR(IF(LEN(AK14)=0,"",LARGE((AK14=$R$7:$R$126)*($P$7:$P$126),COUNTIF(AK14:AK$126,AK14)-1)),"")} -> 3 | AN14: =IFERROR(IF(LEN(AK14)=0,"",COUNTIF(AM$7:AM14,AM14)),"") -> 1 | AO14: {=IFERROR(IF(MAX(($AJ14>=$AF$19:$AF$28)*($AJ14<=$AG$19:$AG$28)*$AA$19:$AA$28)=0,"",INDEX($AB$19:$AB$28,MAX(($AJ14>=$AF$19:$AF$28)*($AJ14<=$AG$19:$AG$28)*$AA$19:$AA$28))),"")} -> Coffee beans | AP14: =IFERROR(IF(LEN(AO14)=0,"",COUNTIF(AO$7:AO14,AO14)),"") -> 1 | AQ14: {=IFERROR(IF(LEN(AO14)=0,"",LARGE((AO14=$Q$7:$Q$126)*($P$7:$P$126),COUNTIF(AO14:AO$126,AO14)-1)),"")} -> 3 | AR14: =IFERROR(IF(LEN(AO14)=0,"",COUNTIF(AQ$7:AQ14,AQ14)),"") -> 1 | AS14: {=IFERROR(IF(MAX(($AJ14>=$AF$31:$AF$40)*($AJ14<=$AG$31:$AG$40)*$AA$31:$AA$40)=0,"",INDEX($AB$31:$AB$40,MAX(($AJ14>=$AF$31:$AF$40)*($AJ14<=$AG$31:$AG$40)*$AA$31:$AA$40))),"")} -> Preparation of coffee | AT14: =IFERROR(IF(LEN(AS14)=0,"",COUNTIF(AS$7:AS14,AS14)),"") -> 1 | AU14: =IFERROR(IF(LEN(AS14)=0,"",INDEX($C$68:$L$77,AT14,MATCH(AS14,$AB$31:$AB$40,0))),"") -> 4 | AV14: =IFERROR(IF(LEN(AU14)=0,"",COUNTIF(AU$7:AU14,AU14)),"") -> 1 | AW14: {=IFERROR(IF(MAX(($AJ14>=$AF$43:$AF$52)*($AJ14<=$AG$43:$AG$52)*$AA$43:$AA$52)=0,"",INDEX($AB$43:$AB$52,MAX(($AJ14>=$AF$43:$AF$52)*($AJ14<=$AG$43:$AG$52)*$AA$43:$AA$52))),"")} -> Order details | AX14: =IFERROR(IF(LEN(AW14)=0,"",COUNTIF(AW$7:AW14,AW14)),"") -> 2 | AY14: =IFERROR(IF(LEN(AW14)=0,"",INDEX($C$83:$L$92,AX14,MATCH(AW14,$AB$43:$AB$52,0))),"") | AZ14: =IFERROR(IF(LEN(AY14)=0,"",COUNTIF(AY$7:AY14,AY14)),"") | BA14: {=IFERROR(IF(MAX(($AJ14>=$AF$55:$AF$64)*($AJ14<=$AG$55:$AG$64)*$AA$55:$AA$64)=0,"",INDEX($AB$55:$AB$64,MAX(($AJ14>=$AF$55:$AF$64)*($AJ14<=$AG$55:$AG$64)*$AA$55:$AA$64))),"")} -> Barista | BB14: =IFERROR(IF(LEN(BA14)=0,"",COUNTIF(BA$7:BA14,BA14)),"") -> 2 | BD14: 8 | BE14: =IFERROR(IF(LEN(AK14)=0,"",AK14&"-"&AL14),"") -> Manufacturer-1 | BF14: {=IFERROR(IF(AND(COUNTIF($BE$7:$BE14,"")+1=BF$6,LEN($BE14)>0,$AM14>0),MATCH(INDEX($V$7:$V$16,$AM14)&"-"&$AN14,$BQ$7:$BQ$126,0),""),"")} | BG14: {=IFERROR(IF(AND(COUNTIF($BE$7:$BE14,"")+1=BG$6,LEN($BE14)>0,$AM14>0),MATCH(INDEX($V$7:$V$16,$AM14)&"-"&$AN14,$BQ$7:$BQ$126,0),""),"")} | BH14: {=IFERROR(IF(AND(COUNTIF($BE$7:$BE14,"")+1=BH$6,LEN($BE14)>0,$AM14>0),MATCH(INDEX($V$7:$V$16,$AM14)&"-"&$AN14,$BQ$7:$BQ$126,0),""),"")} -> 8 | BI14: {=IFERROR(IF(AND(COUNTIF($BE$7:$BE14,"")+1=BI$6,LEN($BE14)>0,$AM14>0),MATCH(INDEX($V$7:$V$16,$AM14)&"-"&$AN14,$BQ$7:$BQ$126,0),""),"")} | BJ14: {=IFERROR(IF(AND(COUNTIF($BE$7:$BE14,"")+1=BJ$6,LEN($BE14)>0,$AM14>0),MATCH(INDEX($V$7:$V$16,$AM14)&"-"&$AN14,$BQ$7:$BQ$126,0),""),"")} | BK14: {=IFERROR(IF(AND(COUNTIF($BE$7:$BE14,"")+1=BK$6,LEN($BE14)>0,$AM14>0),MATCH(INDEX($V$7:$V$16,$AM14)&"-"&$AN14,$BQ$7:$BQ$126,0),""),"")} | BL14: {=IFERROR(IF(AND(COUNTIF($BE$7:$BE14,"")+1=BL$6,LEN($BE14)>0,$AM14>0),MATCH(INDEX($V$7:$V$16,$AM14)&"-"&$AN14,$BQ$7:$BQ$126,0),""),"")} | BM14: {=IFERROR(IF(AND(COUNTIF($BE$7:$BE14,"")+1=BM$6,LEN($BE14)>0,$AM14>0),MATCH(INDEX($V$7:$V$16,$AM14)&"-"&$AN14,$BQ$7:$BQ$126,0),""),"")} | ... BP14: {=IFERROR(IF(AND(COUNTIF($BE$7:$BE14,"")+1=BP$6,LEN($BE14)>0,$AM14>0),MATCH(INDEX($V$7:$V$16,$AM14)&"-"&$AN14,$BQ$7:$BQ$126,0),""),"")} | BQ14: =IF(LEN(AO14)=0,"",AO14&"-"&AP14) -> Coffee beans-1 | BR14: {=IFERROR(IF(AND(COUNTIF($BQ$7:$BQ14,"")+1=BR$6,LEN($BQ14)>0,$AQ14>0),MATCH(INDEX($W$7:$W$16,$AQ14)&"-"&$AR14,$CC$7:$CC$126,0),""),"")} | BS14: {=IFERROR(IF(AND(COUNTIF($BQ$7:$BQ14,"")+1=BS$6,LEN($BQ14)>0,$AQ14>0),MATCH(INDEX($W$7:$W$16,$AQ14)&"-"&$AR14,$CC$7:$CC$126,0),""),"")} | BT14: {=IFERROR(IF(AND(COUNTIF($BQ$7:$BQ14,"")+1=BT$6,LEN($BQ14)>0,$AQ14>0),MATCH(INDEX($W$7:$W$16,$AQ14)&"-"&$AR14,$CC$7:$CC$126,0),""),"")} -> 8 | BU14: {=IFERROR(IF(AND(COUNTIF($BQ$7:$BQ14,"")+1=BU$6,LEN($BQ14)>0,$AQ14>0),MATCH(INDEX($W$7:$W$16,$AQ14)&"-"&$AR14,$CC$7:$CC$126,0),""),"")} | BV14: {=IFERROR(IF(AND(COUNTIF($BQ$7:$BQ14,"")+1=BV$6,LEN($BQ14)>0,$AQ14>0),MATCH(INDEX($W$7:$W$16,$AQ14)&"-"&$AR14,$CC$7:$CC$126,0),""),"")} | BW14: {=IFERROR(IF(AND(COUNTIF($BQ$7:$BQ14,"")+1=BW$6,LEN($BQ14)>0,$AQ14>0),MATCH(INDEX($W$7:$W$16,$AQ14)&"-"&$AR14,$CC$7:$CC$126,0),""),"")} | BX14: {=IFERROR(IF(AND(COUNTIF($BQ$7:$BQ14,"")+1=BX$6,LEN($BQ14)>0,$AQ14>0),MATCH(INDEX($W$7:$W$16,$AQ14)&"-"&$AR14,$CC$7:$CC$126,0),""),"")} | BY14: {=IFERROR(IF(AND(COUNTIF($BQ$7:$BQ14,"")+1=BY$6,LEN($BQ14)>0,$AQ14>0),MATCH(INDEX($W$7:$W$16,$AQ14)&"-"&$AR14,$CC$7:$CC$126,0),""),"")} | ... CB14: {=IFERROR(IF(AND(COUNTIF($BQ$7:$BQ14,"")+1=CB$6,LEN($BQ14)>0,$AQ14>0),MATCH(INDEX($W$7:$W$16,$AQ14)&"-"&$AR14,$CC$7:$CC$126,0),""),"")} | CC14: =IFERROR(IF(LEN(AS14)=0,"",AS14&"-"&AT14),"") -> Preparation of coffee-1 | CD14: {=IFERROR(IF(AND(COUNTIF($CC$7:$CC14,"")+1=CD$6,LEN($CC14)>0,$AU14>0),MATCH(INDEX($X$7:$X$16,$AU14)&"-"&$AV14,$CO$7:$CO$126,0),""),"")} | CE14: {=IFERROR(IF(AND(COUNTIF($CC$7:$CC14,"")+1=CE$6,LEN($CC14)>0,$AU14>0),MATCH(INDEX($X$7:$X$16,$AU14)&"-"&$AV14,$CO$7:$CO$126,0),""),"")} | CF14: {=IFERROR(IF(AND(COUNTIF($CC$7:$CC14,"")+1=CF$6,LEN($CC14)>0,$AU14>0),MATCH(INDEX($X$7:$X$16,$AU14)&"-"&$AV14,$CO$7:$CO$126,0),""),"")} -> 10 | CG14: {=IFERROR(IF(AND(COUNTIF($CC$7:$CC14,"")+1=CG$6,LEN($CC14)>0,$AU14>0),MATCH(INDEX($X$7:$X$16,$AU14)&"-"&$AV14,$CO$7:$CO$126,0),""),"")} | CH14: {=IFERROR(IF(AND(COUNTIF($CC$7:$CC14,"")+1=CH$6,LEN($CC14)>0,$AU14>0),MATCH(INDEX($X$7:$X$16,$AU14)&"-"&$AV14,$CO$7:$CO$126,0),""),"")} | CI14: {=IFERROR(IF(AND(COUNTIF($CC$7:$CC14,"")+1=CI$6,LEN($CC14)>0,$AU14>0),MATCH(INDEX($X$7:$X$16,$AU14)&"-"&$AV14,$CO$7:$CO$126,0),""),"")} | CJ14: {=IFERROR(IF(AND(COUNTIF($CC$7:$CC14,"")+1=CJ$6,LEN($CC14)>0,$AU14>0),MATCH(INDEX($X$7:$X$16,$AU14)&"-"&$AV14,$CO$7:$CO$126,0),""),"")} | CK14: {=IFERROR(IF(AND(COUNTIF($CC$7:$CC14,"")+1=CK$6,LEN($CC14)>0,$AU14>0),MATCH(INDEX($X$7:$X$16,$AU14)&"-"&$AV14,$CO$7:$CO$126,0),""),"")} | ... CN14: {=IFERROR(IF(AND(COUNTIF($CC$7:$CC14,"")+1=CN$6,LEN($CC14)>0,$AU14>0),MATCH(INDEX($X$7:$X$16,$AU14)&"-"&$AV14,$CO$7:$CO$126,0),""),"")} | CO14: =IFERROR(IF(LEN(AW14)=0,"",AW14&"-"&AX14),"") -> Order details-2 | CP14: {=IFERROR(IF(AND(COUNTIF($CO$7:$CO14,"")+1=CP$6,LEN($CO14)>0,$AY14>0),MATCH(INDEX($Y$7:$Y$16,$AY14)&"-"&$AZ14,$DA$7:$DA$126,0),""),"")} | CQ14: {=IFERROR(IF(AND(COUNTIF($CO$7:$CO14,"")+1=CQ$6,LEN($CO14)>0,$AY14>0),MATCH(INDEX($Y$7:$Y$16,$AY14)&"-"&$AZ14,$DA$7:$DA$126,0),""),"")} | CR14: {=IFERROR(IF(AND(COUNTIF($CO$7:$CO14,"")+1=CR$6,LEN($CO14)>0,$AY14>0),MATCH(INDEX($Y$7:$Y$16,$AY14)&"-"&$AZ14,$DA$7:$DA$126,0),""),"")} | CS14: {=IFERROR(IF(AND(COUNTIF($CO$7:$CO14,"")+1=CS$6,LEN($CO14)>0,$AY14>0),MATCH(INDEX($Y$7:$Y$16,$AY14)&"-"&$AZ14,$DA$7:$DA$126,0),""),"")} | CT14: {=IFERROR(IF(AND(COUNTIF($CO$7:$CO14,"")+1=CT$6,LEN($CO14)>0,$AY14>0),MATCH(INDEX($Y$7:$Y$16,$AY14)&"-"&$AZ14,$DA$7:$DA$126,0),""),"")} | CU14: {=IFERROR(IF(AND(COUNTIF($CO$7:$CO14,"")+1=CU$6,LEN($CO14)>0,$AY14>0),MATCH(INDEX($Y$7:$Y$16,$AY14)&"-"&$AZ14,$DA$7:$DA$126,0),""),"")} | CV14: {=IFERROR(IF(AND(COUNTIF($CO$7:$CO14,"")+1=CV$6,LEN($CO14)>0,$AY14>0),MATCH(INDEX($Y$7:$Y$16,$AY14)&"-"&$AZ14,$DA$7:$DA$126,0),""),"")} | CW14: {=IFERROR(IF(AND(COUNTIF($CO$7:$CO14,"")+1=CW$6,LEN($CO14)>0,$AY14>0),MATCH(INDEX($Y$7:$Y$16,$AY14)&"-"&$AZ14,$DA$7:$DA$126,0),""),"")} | ... CZ14: {=IFERROR(IF(AND(COUNTIF($CO$7:$CO14,"")+1=CZ$6,LEN($CO14)>0,$AY14>0),MATCH(INDEX($Y$7:$Y$16,$AY14)&"-"&$AZ14,$DA$7:$DA$126,0),""),"")} | DA14: =IF(LEN(BA14)=0,"",BA14&"-"&BB14) -> Barista-2 | DC14: {=IFERROR(IF(LEN(BQ14)=0,"",SUM((BF$7:BO$126=$BD14)*(BF$6:BO$6))),"")} -> 3 | DD14: {=IFERROR(IF(LEN(CC14)=0,"",SUM((BR$7:CA$126=$BD14)*(BR$6:CA$6))),"")} -> 3 | DE14: {=IFERROR(IF(LEN(CO14)=0,"",SUM((CD$7:CM$126=$BD14)*(CD$6:CM$6))),"")} -> 0 | DF14: {=IFERROR(IF(LEN(DA14)=0,"",SUM((CP$7:CY$126=$BD14)*(CP$6:CY$6))),"")} -> 0
B15: 8 | C15: {=IFERROR(IF(AND(LEN(C$7)>0,SUM((InputList!$C18:$H18=Cond!C$7)*1)>0),InputList!$B18,""),"")} | D15: {=IFERROR(IF(AND(LEN(D$7)>0,SUM((InputList!$C18:$H18=Cond!D$7)*1)>0),InputList!$B18,""),"")} | E15: {=IFERROR(IF(AND(LEN(E$7)>0,SUM((InputList!$C18:$H18=Cond!E$7)*1)>0),InputList!$B18,""),"")} | F15: {=IFERROR(IF(AND(LEN(F$7)>0,SUM((InputList!$C18:$H18=Cond!F$7)*1)>0),InputList!$B18,""),"")} | G15: {=IFERROR(IF(AND(LEN(G$7)>0,SUM((InputList!$C18:$H18=Cond!G$7)*1)>0),InputList!$B18,""),"")} | H15: {=IFERROR(IF(AND(LEN(H$7)>0,SUM((InputList!$C18:$H18=Cond!H$7)*1)>0),InputList!$B18,""),"")} | I15: {=IFERROR(IF(AND(LEN(I$7)>0,SUM((InputList!$C18:$H18=Cond!I$7)*1)>0),InputList!$B18,""),"")} | J15: {=IFERROR(IF(AND(LEN(J$7)>0,SUM((InputList!$C18:$H18=Cond!J$7)*1)>0),InputList!$B18,""),"")} | ... L15: {=IFERROR(IF(AND(LEN(L$7)>0,SUM((InputList!$C18:$H18=Cond!L$7)*1)>0),InputList!$B18,""),"")} | M15: =COUNTA(C15:L15)-COUNTBLANK(C15:L15) -> 0 | O15: 9 | P15: 1 | Q15: =IFERROR(INDEX($C$8:$L$17,$O15,$P15),"") | R15: =IFERROR(INDEX($C$23:$L$32,$O15,$P15),"") | T15: 9 | U15: =IFERROR(IF(LEN(INDEX(InputList!$B$25:$B$34,Cond!T15))=0,"",INDEX(InputList!$B$25:$B$34,Cond!T15)),"") | V15: =IFERROR(IF(LEN(INDEX(InputList!$B$11:$B$20,Cond!T15))=0,"",INDEX(InputList!$B$11:$B$20,Cond!T15)),"") | X15: =IFERROR(IF(LEN(INDEX(OutputList!$B$11:$B$20,Cond!T15))=0,"",INDEX(OutputList!$B$11:$B$20,Cond!T15)),"") | Y15: =IFERROR(IF(LEN(INDEX(OutputList!$B$25:$B$34,Cond!T15))=0,"",INDEX(OutputList!$B$25:$B$34,Cond!T15)),"") | AA15: 9 | AB15: =U15 | AC15: =IFERROR(IF(LEN(AB15)=0,"",INDEX($M$23:$M$32,AA15)),"") | AD15: =IF(LEN(AB15)=0,"",0) | AE15: =IF(LEN(AB15)=0,"",MAX(AC15:AD15)) | AF15: =IFERROR(IF(LEN(AB15)=0,"",MAX($AG$7:AG14)+2),"") | AG15: =IFERROR(IF(LEN(AB15)=0,"",AF15+AE15),"") | AH15: =IFERROR(IF(LEN(AB15)=0,"",ROUNDDOWN((AG15-AF15)/2,0)+AF15),"") | AJ15: 9 | AK15: {=IFERROR(IF(MAX(($AJ15>=$AF$7:$AF$16)*($AJ15<=$AG$7:$AG$16)*$AA$7:$AA$16)=0,"",INDEX($AB$7:$AB$16,MAX(($AJ15>=$AF$7:$AF$16)*($AJ15<=$AG$7:$AG$16)*$AA$7:$AA$16))),"")} -> Manufacturer | AL15: =IFERROR(IF(LEN(AK15)=0,"",COUNTIF(AK$7:AK15,AK15)),"") -> 2 | AM15: {=IFERROR(IF(LEN(AK15)=0,"",LARGE((AK15=$R$7:$R$126)*($P$7:$P$126),COUNTIF(AK15:AK$126,AK15)-1)),"")} -> 4 | AN15: =IFERROR(IF(LEN(AK15)=0,"",COUNTIF(AM$7:AM15,AM15)),"") -> 1 | AO15: {=IFERROR(IF(MAX(($AJ15>=$AF$19:$AF$28)*($AJ15<=$AG$19:$AG$28)*$AA$19:$AA$28)=0,"",INDEX($AB$19:$AB$28,MAX(($AJ15>=$AF$19:$AF$28)*($AJ15<=$AG$19:$AG$28)*$AA$19:$AA$28))),"")} -> Coffee beans | AP15: =IFERROR(IF(LEN(AO15)=0,"",COUNTIF(AO$7:AO15,AO15)),"") -> 2 | AQ15: {=IFERROR(IF(LEN(AO15)=0,"",LARGE((AO15=$Q$7:$Q$126)*($P$7:$P$126),COUNTIF(AO15:AO$126,AO15)-1)),"")} | AR15: =IFERROR(IF(LEN(AO15)=0,"",COUNTIF(AQ$7:AQ15,AQ15)),"") -> 5 | AS15: {=IFERROR(IF(MAX(($AJ15>=$AF$31:$AF$40)*($AJ15<=$AG$31:$AG$40)*$AA$31:$AA$40)=0,"",INDEX($AB$31:$AB$40,MAX(($AJ15>=$AF$31:$AF$40)*($AJ15<=$AG$31:$AG$40)*$AA$31:$AA$40))),"")} -> Preparation of coffee | AT15: =IFERROR(IF(LEN(AS15)=0,"",COUNTIF(AS$7:AS15,AS15)),"") -> 2 | AU15: =IFERROR(IF(LEN(AS15)=0,"",INDEX($C$68:$L$77,AT15,MATCH(AS15,$AB$31:$AB$40,0))),"") | AV15: =IFERROR(IF(LEN(AU15)=0,"",COUNTIF(AU$7:AU15,AU15)),"") | AW15: {=IFERROR(IF(MAX(($AJ15>=$AF$43:$AF$52)*($AJ15<=$AG$43:$AG$52)*$AA$43:$AA$52)=0,"",INDEX($AB$43:$AB$52,MAX(($AJ15>=$AF$43:$AF$52)*($AJ15<=$AG$43:$AG$52)*$AA$43:$AA$52))),"")} | AX15: =IFERROR(IF(LEN(AW15)=0,"",COUNTIF(AW$7:AW15,AW15)),"") | AY15: =IFERROR(IF(LEN(AW15)=0,"",INDEX($C$83:$L$92,AX15,MATCH(AW15,$AB$43:$AB$52,0))),"") | AZ15: =IFERROR(IF(LEN(AY15)=0,"",COUNTIF(AY$7:AY15,AY15)),"") | BA15: {=IFERROR(IF(MAX(($AJ15>=$AF$55:$AF$64)*($AJ15<=$AG$55:$AG$64)*$AA$55:$AA$64)=0,"",INDEX($AB$55:$AB$64,MAX(($AJ15>=$AF$55:$AF$64)*($AJ15<=$AG$55:$AG$64)*$AA$55:$AA$64))),"")} | BB15: =IFERROR(IF(LEN(BA15)=0,"",COUNTIF(BA$7:BA15,BA15)),"") | BD15: 9 | BE15: =IFERROR(IF(LEN(AK15)=0,"",AK15&"-"&AL15),"") -> Manufacturer-2 | BF15: {=IFERROR(IF(AND(COUNTIF($BE$7:$BE15,"")+1=BF$6,LEN($BE15)>0,$AM15>0),MATCH(INDEX($V$7:$V$16,$AM15)&"-"&$AN15,$BQ$7:$BQ$126,0),""),"")} | BG15: {=IFERROR(IF(AND(COUNTIF($BE$7:$BE15,"")+1=BG$6,LEN($BE15)>0,$AM15>0),MATCH(INDEX($V$7:$V$16,$AM15)&"-"&$AN15,$BQ$7:$BQ$126,0),""),"")} | BH15: {=IFERROR(IF(AND(COUNTIF($BE$7:$BE15,"")+1=BH$6,LEN($BE15)>0,$AM15>0),MATCH(INDEX($V$7:$V$16,$AM15)&"-"&$AN15,$BQ$7:$BQ$126,0),""),"")} -> 11 | BI15: {=IFERROR(IF(AND(COUNTIF($BE$7:$BE15,"")+1=BI$6,LEN($BE15)>0,$AM15>0),MATCH(INDEX($V$7:$V$16,$AM15)&"-"&$AN15,$BQ$7:$BQ$126,0),""),"")} | BJ15: {=IFERROR(IF(AND(COUNTIF($BE$7:$BE15,"")+1=BJ$6,LEN($BE15)>0,$AM15>0),MATCH(INDEX($V$7:$V$16,$AM15)&"-"&$AN15,$BQ$7:$BQ$126,0),""),"")} | BK15: {=IFERROR(IF(AND(COUNTIF($BE$7:$BE15,"")+1=BK$6,LEN($BE15)>0,$AM15>0),MATCH(INDEX($V$7:$V$16,$AM15)&"-"&$AN15,$BQ$7:$BQ$126,0),""),"")} | BL15: {=IFERROR(IF(AND(COUNTIF($BE$7:$BE15,"")+1=BL$6,LEN($BE15)>0,$AM15>0),MATCH(INDEX($V$7:$V$16,$AM15)&"-"&$AN15,$BQ$7:$BQ$126,0),""),"")} | BM15: {=IFERROR(IF(AND(COUNTIF($BE$7:$BE15,"")+1=BM$6,LEN($BE15)>0,$AM15>0),MATCH(INDEX($V$7:$V$16,$AM15)&"-"&$AN15,$BQ$7:$BQ$126,0),""),"")} | ... BP15: {=IFERROR(IF(AND(COUNTIF($BE$7:$BE15,"")+1=BP$6,LEN($BE15)>0,$AM15>0),MATCH(INDEX($V$7:$V$16,$AM15)&"-"&$AN15,$BQ$7:$BQ$126,0),""),"")} | BQ15: =IF(LEN(AO15)=0,"",AO15&"-"&AP15) -> Coffee beans-2 | BR15: {=IFERROR(IF(AND(COUNTIF($BQ$7:$BQ15,"")+1=BR$6,LEN($BQ15)>0,$AQ15>0),MATCH(INDEX($W$7:$W$16,$AQ15)&"-"&$AR15,$CC$7:$CC$126,0),""),"")} | BS15: {=IFERROR(IF(AND(COUNTIF($BQ$7:$BQ15,"")+1=BS$6,LEN($BQ15)>0,$AQ15>0),MATCH(INDEX($W$7:$W$16,$AQ15)&"-"&$AR15,$CC$7:$CC$126,0),""),"")} | BT15: {=IFERROR(IF(AND(COUNTIF($BQ$7:$BQ15,"")+1=BT$6,LEN($BQ15)>0,$AQ15>0),MATCH(INDEX($W$7:$W$16,$AQ15)&"-"&$AR15,$CC$7:$CC$126,0),""),"")} | BU15: {=IFERROR(IF(AND(COUNTIF($BQ$7:$BQ15,"")+1=BU$6,LEN($BQ15)>0,$AQ15>0),MATCH(INDEX($W$7:$W$16,$AQ15)&"-"&$AR15,$CC$7:$CC$126,0),""),"")} | BV15: {=IFERROR(IF(AND(COUNTIF($BQ$7:$BQ15,"")+1=BV$6,LEN($BQ15)>0,$AQ15>0),MATCH(INDEX($W$7:$W$16,$AQ15)&"-"&$AR15,$CC$7:$CC$126,0),""),"")} | BW15: {=IFERROR(IF(AND(COUNTIF($BQ$7:$BQ15,"")+1=BW$6,LEN($BQ15)>0,$AQ15>0),MATCH(INDEX($W$7:$W$16,$AQ15)&"-"&$AR15,$CC$7:$CC$126,0),""),"")} | BX15: {=IFERROR(IF(AND(COUNTIF($BQ$7:$BQ15,"")+1=BX$6,LEN($BQ15)>0,$AQ15>0),MATCH(INDEX($W$7:$W$16,$AQ15)&"-"&$AR15,$CC$7:$CC$126,0),""),"")} | BY15: {=IFERROR(IF(AND(COUNTIF($BQ$7:$BQ15,"")+1=BY$6,LEN($BQ15)>0,$AQ15>0),MATCH(INDEX($W$7:$W$16,$AQ15)&"-"&$AR15,$CC$7:$CC$126,0),""),"")} | ... CB15: {=IFERROR(IF(AND(COUNTIF($BQ$7:$BQ15,"")+1=CB$6,LEN($BQ15)>0,$AQ15>0),MATCH(INDEX($W$7:$W$16,$AQ15)&"-"&$AR15,$CC$7:$CC$126,0),""),"")} | CC15: =IFERROR(IF(LEN(AS15)=0,"",AS15&"-"&AT15),"") -> Preparation of coffee-2 | CD15: {=IFERROR(IF(AND(COUNTIF($CC$7:$CC15,"")+1=CD$6,LEN($CC15)>0,$AU15>0),MATCH(INDEX($X$7:$X$16,$AU15)&"-"&$AV15,$CO$7:$CO$126,0),""),"")} | CE15: {=IFERROR(IF(AND(COUNTIF($CC$7:$CC15,"")+1=CE$6,LEN($CC15)>0,$AU15>0),MATCH(INDEX($X$7:$X$16,$AU15)&"-"&$AV15,$CO$7:$CO$126,0),""),"")} | CF15: {=IFERROR(IF(AND(COUNTIF($CC$7:$CC15,"")+1=CF$6,LEN($CC15)>0,$AU15>0),MATCH(INDEX($X$7:$X$16,$AU15)&"-"&$AV15,$CO$7:$CO$126,0),""),"")} | CG15: {=IFERROR(IF(AND(COUNTIF($CC$7:$CC15,"")+1=CG$6,LEN($CC15)>0,$AU15>0),MATCH(INDEX($X$7:$X$16,$AU15)&"-"&$AV15,$CO$7:$CO$126,0),""),"")} | CH15: {=IFERROR(IF(AND(COUNTIF($CC$7:$CC15,"")+1=CH$6,LEN($CC15)>0,$AU15>0),MATCH(INDEX($X$7:$X$16,$AU15)&"-"&$AV15,$CO$7:$CO$126,0),""),"")} | CI15: {=IFERROR(IF(AND(COUNTIF($CC$7:$CC15,"")+1=CI$6,LEN($CC15)>0,$AU15>0),MATCH(INDEX($X$7:$X$16,$AU15)&"-"&$AV15,$CO$7:$CO$126,0),""),"")} | CJ15: {=IFERROR(IF(AND(COUNTIF($CC$7:$CC15,"")+1=CJ$6,LEN($CC15)>0,$AU15>0),MATCH(INDEX($X$7:$X$16,$AU15)&"-"&$AV15,$CO$7:$CO$126,0),""),"")} | CK15: {=IFERROR(IF(AND(COUNTIF($CC$7:$CC15,"")+1=CK$6,LEN($CC15)>0,$AU15>0),MATCH(INDEX($X$7:$X$16,$AU15)&"-"&$AV15,$CO$7:$CO$126,0),""),"")} | ... CN15: {=IFERROR(IF(AND(COUNTIF($CC$7:$CC15,"")+1=CN$6,LEN($CC15)>0,$AU15>0),MATCH(INDEX($X$7:$X$16,$AU15)&"-"&$AV15,$CO$7:$CO$126,0),""),"")} | CO15: =IFERROR(IF(LEN(AW15)=0,"",AW15&"-"&AX15),"") | CP15: {=IFERROR(IF(AND(COUNTIF($CO$7:$CO15,"")+1=CP$6,LEN($CO15)>0,$AY15>0),MATCH(INDEX($Y$7:$Y$16,$AY15)&"-"&$AZ15,$DA$7:$DA$126,0),""),"")} | CQ15: {=IFERROR(IF(AND(COUNTIF($CO$7:$CO15,"")+1=CQ$6,LEN($CO15)>0,$AY15>0),MATCH(INDEX($Y$7:$Y$16,$AY15)&"-"&$AZ15,$DA$7:$DA$126,0),""),"")} | CR15: {=IFERROR(IF(AND(COUNTIF($CO$7:$CO15,"")+1=CR$6,LEN($CO15)>0,$AY15>0),MATCH(INDEX($Y$7:$Y$16,$AY15)&"-"&$AZ15,$DA$7:$DA$126,0),""),"")} | CS15: {=IFERROR(IF(AND(COUNTIF($CO$7:$CO15,"")+1=CS$6,LEN($CO15)>0,$AY15>0),MATCH(INDEX($Y$7:$Y$16,$AY15)&"-"&$AZ15,$DA$7:$DA$126,0),""),"")} | CT15: {=IFERROR(IF(AND(COUNTIF($CO$7:$CO15,"")+1=CT$6,LEN($CO15)>0,$AY15>0),MATCH(INDEX($Y$7:$Y$16,$AY15)&"-"&$AZ15,$DA$7:$DA$126,0),""),"")} | CU15: {=IFERROR(IF(AND(COUNTIF($CO$7:$CO15,"")+1=CU$6,LEN($CO15)>0,$AY15>0),MATCH(INDEX($Y$7:$Y$16,$AY15)&"-"&$AZ15,$DA$7:$DA$126,0),""),"")} | CV15: {=IFERROR(IF(AND(COUNTIF($CO$7:$CO15,"")+1=CV$6,LEN($CO15)>0,$AY15>0),MATCH(INDEX($Y$7:$Y$16,$AY15)&"-"&$AZ15,$DA$7:$DA$126,0),""),"")} | CW15: {=IFERROR(IF(AND(COUNTIF($CO$7:$CO15,"")+1=CW$6,LEN($CO15)>0,$AY15>0),MATCH(INDEX($Y$7:$Y$16,$AY15)&"-"&$AZ15,$DA$7:$DA$126,0),""),"")} | ... CZ15: {=IFERROR(IF(AND(COUNTIF($CO$7:$CO15,"")+1=CZ$6,LEN($CO15)>0,$AY15>0),MATCH(INDEX($Y$7:$Y$16,$AY15)&"-"&$AZ15,$DA$7:$DA$126,0),""),"")} | DA15: =IF(LEN(BA15)=0,"",BA15&"-"&BB15) | DC15: {=IFERROR(IF(LEN(BQ15)=0,"",SUM((BF$7:BO$126=$BD15)*(BF$6:BO$6))),"")} -> 0 | DD15: {=IFERROR(IF(LEN(CC15)=0,"",SUM((BR$7:CA$126=$BD15)*(BR$6:CA$6))),"")} -> 4 | DE15: {=IFERROR(IF(LEN(CO15)=0,"",SUM((CD$7:CM$126=$BD15)*(CD$6:CM$6))),"")} | DF15: {=IFERROR(IF(LEN(DA15)=0,"",SUM((CP$7:CY$126=$BD15)*(CP$6:CY$6))),"")}
B16: 9 | C16: {=IFERROR(IF(AND(LEN(C$7)>0,SUM((InputList!$C19:$H19=Cond!C$7)*1)>0),InputList!$B19,""),"")} | D16: {=IFERROR(IF(AND(LEN(D$7)>0,SUM((InputList!$C19:$H19=Cond!D$7)*1)>0),InputList!$B19,""),"")} | E16: {=IFERROR(IF(AND(LEN(E$7)>0,SUM((InputList!$C19:$H19=Cond!E$7)*1)>0),InputList!$B19,""),"")} | F16: {=IFERROR(IF(AND(LEN(F$7)>0,SUM((InputList!$C19:$H19=Cond!F$7)*1)>0),InputList!$B19,""),"")} | G16: {=IFERROR(IF(AND(LEN(G$7)>0,SUM((InputList!$C19:$H19=Cond!G$7)*1)>0),InputList!$B19,""),"")} | H16: {=IFERROR(IF(AND(LEN(H$7)>0,SUM((InputList!$C19:$H19=Cond!H$7)*1)>0),InputList!$B19,""),"")} | I16: {=IFERROR(IF(AND(LEN(I$7)>0,SUM((InputList!$C19:$H19=Cond!I$7)*1)>0),InputList!$B19,""),"")} | J16: {=IFERROR(IF(AND(LEN(J$7)>0,SUM((InputList!$C19:$H19=Cond!J$7)*1)>0),InputList!$B19,""),"")} | ... L16: {=IFERROR(IF(AND(LEN(L$7)>0,SUM((InputList!$C19:$H19=Cond!L$7)*1)>0),InputList!$B19,""),"")} | M16: =COUNTA(C16:L16)-COUNTBLANK(C16:L16) -> 0 | O16: 10 | P16: 1 | Q16: =IFERROR(INDEX($C$8:$L$17,$O16,$P16),"") | R16: =IFERROR(INDEX($C$23:$L$32,$O16,$P16),"") | T16: 10 | U16: =IFERROR(IF(LEN(INDEX(InputList!$B$25:$B$34,Cond!T16))=0,"",INDEX(InputList!$B$25:$B$34,Cond!T16)),"") | V16: =IFERROR(IF(LEN(INDEX(InputList!$B$11:$B$20,Cond!T16))=0,"",INDEX(InputList!$B$11:$B$20,Cond!T16)),"") | X16: =IFERROR(IF(LEN(INDEX(OutputList!$B$11:$B$20,Cond!T16))=0,"",INDEX(OutputList!$B$11:$B$20,Cond!T16)),"") | Y16: =IFERROR(IF(LEN(INDEX(OutputList!$B$25:$B$34,Cond!T16))=0,"",INDEX(OutputList!$B$25:$B$34,Cond!T16)),"") | AA16: 10 | AB16: =U16 | AC16: =IFERROR(IF(LEN(AB16)=0,"",INDEX($M$23:$M$32,AA16)),"") | AD16: =IF(LEN(AB16)=0,"",0) | AE16: =IF(LEN(AB16)=0,"",MAX(AC16:AD16)) | AF16: =IFERROR(IF(LEN(AB16)=0,"",MAX($AG$7:AG15)+2),"") | AG16: =IFERROR(IF(LEN(AB16)=0,"",AF16+AE16),"") | AH16: =IFERROR(IF(LEN(AB16)=0,"",ROUNDDOWN((AG16-AF16)/2,0)+AF16),"") | AJ16: 10 | AK16: {=IFERROR(IF(MAX(($AJ16>=$AF$7:$AF$16)*($AJ16<=$AG$7:$AG$16)*$AA$7:$AA$16)=0,"",INDEX($AB$7:$AB$16,MAX(($AJ16>=$AF$7:$AF$16)*($AJ16<=$AG$7:$AG$16)*$AA$7:$AA$16))),"")} -> Manufacturer | AL16: =IFERROR(IF(LEN(AK16)=0,"",COUNTIF(AK$7:AK16,AK16)),"") -> 3 | AM16: {=IFERROR(IF(LEN(AK16)=0,"",LARGE((AK16=$R$7:$R$126)*($P$7:$P$126),COUNTIF(AK16:AK$126,AK16)-1)),"")} -> 5 | AN16: =IFERROR(IF(LEN(AK16)=0,"",COUNTIF(AM$7:AM16,AM16)),"") -> 1 | AO16: {=IFERROR(IF(MAX(($AJ16>=$AF$19:$AF$28)*($AJ16<=$AG$19:$AG$28)*$AA$19:$AA$28)=0,"",INDEX($AB$19:$AB$28,MAX(($AJ16>=$AF$19:$AF$28)*($AJ16<=$AG$19:$AG$28)*$AA$19:$AA$28))),"")} | AP16: =IFERROR(IF(LEN(AO16)=0,"",COUNTIF(AO$7:AO16,AO16)),"") | AQ16: {=IFERROR(IF(LEN(AO16)=0,"",LARGE((AO16=$Q$7:$Q$126)*($P$7:$P$126),COUNTIF(AO16:AO$126,AO16)-1)),"")} | AR16: =IFERROR(IF(LEN(AO16)=0,"",COUNTIF(AQ$7:AQ16,AQ16)),"") | AS16: {=IFERROR(IF(MAX(($AJ16>=$AF$31:$AF$40)*($AJ16<=$AG$31:$AG$40)*$AA$31:$AA$40)=0,"",INDEX($AB$31:$AB$40,MAX(($AJ16>=$AF$31:$AF$40)*($AJ16<=$AG$31:$AG$40)*$AA$31:$AA$40))),"")} -> Preparation of coffee | AT16: =IFERROR(IF(LEN(AS16)=0,"",COUNTIF(AS$7:AS16,AS16)),"") -> 3 | AU16: =IFERROR(IF(LEN(AS16)=0,"",INDEX($C$68:$L$77,AT16,MATCH(AS16,$AB$31:$AB$40,0))),"") | AV16: =IFERROR(IF(LEN(AU16)=0,"",COUNTIF(AU$7:AU16,AU16)),"") | AW16: {=IFERROR(IF(MAX(($AJ16>=$AF$43:$AF$52)*($AJ16<=$AG$43:$AG$52)*$AA$43:$AA$52)=0,"",INDEX($AB$43:$AB$52,MAX(($AJ16>=$AF$43:$AF$52)*($AJ16<=$AG$43:$AG$52)*$AA$43:$AA$52))),"")} -> Coffee | AX16: =IFERROR(IF(LEN(AW16)=0,"",COUNTIF(AW$7:AW16,AW16)),"") -> 1 | AY16: =IFERROR(IF(LEN(AW16)=0,"",INDEX($C$83:$L$92,AX16,MATCH(AW16,$AB$43:$AB$52,0))),"") -> 1 | AZ16: =IFERROR(IF(LEN(AY16)=0,"",COUNTIF(AY$7:AY16,AY16)),"") -> 3 | BA16: {=IFERROR(IF(MAX(($AJ16>=$AF$55:$AF$64)*($AJ16<=$AG$55:$AG$64)*$AA$55:$AA$64)=0,"",INDEX($AB$55:$AB$64,MAX(($AJ16>=$AF$55:$AF$64)*($AJ16<=$AG$55:$AG$64)*$AA$55:$AA$64))),"")} | BB16: =IFERROR(IF(LEN(BA16)=0,"",COUNTIF(BA$7:BA16,BA16)),"") | BD16: 10 | BE16: =IFERROR(IF(LEN(AK16)=0,"",AK16&"-"&AL16),"") -> Manufacturer-3 | BF16: {=IFERROR(IF(AND(COUNTIF($BE$7:$BE16,"")+1=BF$6,LEN($BE16)>0,$AM16>0),MATCH(INDEX($V$7:$V$16,$AM16)&"-"&$AN16,$BQ$7:$BQ$126,0),""),"")} | BG16: {=IFERROR(IF(AND(COUNTIF($BE$7:$BE16,"")+1=BG$6,LEN($BE16)>0,$AM16>0),MATCH(INDEX($V$7:$V$16,$AM16)&"-"&$AN16,$BQ$7:$BQ$126,0),""),"")} | BH16: {=IFERROR(IF(AND(COUNTIF($BE$7:$BE16,"")+1=BH$6,LEN($BE16)>0,$AM16>0),MATCH(INDEX($V$7:$V$16,$AM16)&"-"&$AN16,$BQ$7:$BQ$126,0),""),"")} -> 14 | BI16: {=IFERROR(IF(AND(COUNTIF($BE$7:$BE16,"")+1=BI$6,LEN($BE16)>0,$AM16>0),MATCH(INDEX($V$7:$V$16,$AM16)&"-"&$AN16,$BQ$7:$BQ$126,0),""),"")} | BJ16: {=IFERROR(IF(AND(COUNTIF($BE$7:$BE16,"")+1=BJ$6,LEN($BE16)>0,$AM16>0),MATCH(INDEX($V$7:$V$16,$AM16)&"-"&$AN16,$BQ$7:$BQ$126,0),""),"")} | BK16: {=IFERROR(IF(AND(COUNTIF($BE$7:$BE16,"")+1=BK$6,LEN($BE16)>0,$AM16>0),MATCH(INDEX($V$7:$V$16,$AM16)&"-"&$AN16,$BQ$7:$BQ$126,0),""),"")} | BL16: {=IFERROR(IF(AND(COUNTIF($BE$7:$BE16,"")+1=BL$6,LEN($BE16)>0,$AM16>0),MATCH(INDEX($V$7:$V$16,$AM16)&"-"&$AN16,$BQ$7:$BQ$126,0),""),"")} | BM16: {=IFERROR(IF(AND(COUNTIF($BE$7:$BE16,"")+1=BM$6,LEN($BE16)>0,$AM16>0),MATCH(INDEX($V$7:$V$16,$AM16)&"-"&$AN16,$BQ$7:$BQ$126,0),""),"")} | ... BP16: {=IFERROR(IF(AND(COUNTIF($BE$7:$BE16,"")+1=BP$6,LEN($BE16)>0,$AM16>0),MATCH(INDEX($V$7:$V$16,$AM16)&"-"&$AN16,$BQ$7:$BQ$126,0),""),"")} | BQ16: =IF(LEN(AO16)=0,"",AO16&"-"&AP16) | BR16: {=IFERROR(IF(AND(COUNTIF($BQ$7:$BQ16,"")+1=BR$6,LEN($BQ16)>0,$AQ16>0),MATCH(INDEX($W$7:$W$16,$AQ16)&"-"&$AR16,$CC$7:$CC$126,0),""),"")} | BS16: {=IFERROR(IF(AND(COUNTIF($BQ$7:$BQ16,"")+1=BS$6,LEN($BQ16)>0,$AQ16>0),MATCH(INDEX($W$7:$W$16,$AQ16)&"-"&$AR16,$CC$7:$CC$126,0),""),"")} | BT16: {=IFERROR(IF(AND(COUNTIF($BQ$7:$BQ16,"")+1=BT$6,LEN($BQ16)>0,$AQ16>0),MATCH(INDEX($W$7:$W$16,$AQ16)&"-"&$AR16,$CC$7:$CC$126,0),""),"")} | BU16: {=IFERROR(IF(AND(COUNTIF($BQ$7:$BQ16,"")+1=BU$6,LEN($BQ16)>0,$AQ16>0),MATCH(INDEX($W$7:$W$16,$AQ16)&"-"&$AR16,$CC$7:$CC$126,0),""),"")} | BV16: {=IFERROR(IF(AND(COUNTIF($BQ$7:$BQ16,"")+1=BV$6,LEN($BQ16)>0,$AQ16>0),MATCH(INDEX($W$7:$W$16,$AQ16)&"-"&$AR16,$CC$7:$CC$126,0),""),"")} | BW16: {=IFERROR(IF(AND(COUNTIF($BQ$7:$BQ16,"")+1=BW$6,LEN($BQ16)>0,$AQ16>0),MATCH(INDEX($W$7:$W$16,$AQ16)&"-"&$AR16,$CC$7:$CC$126,0),""),"")} | BX16: {=IFERROR(IF(AND(COUNTIF($BQ$7:$BQ16,"")+1=BX$6,LEN($BQ16)>0,$AQ16>0),MATCH(INDEX($W$7:$W$16,$AQ16)&"-"&$AR16,$CC$7:$CC$126,0),""),"")} | BY16: {=IFERROR(IF(AND(COUNTIF($BQ$7:$BQ16,"")+1=BY$6,LEN($BQ16)>0,$AQ16>0),MATCH(INDEX($W$7:$W$16,$AQ16)&"-"&$AR16,$CC$7:$CC$126,0),""),"")} | ... CB16: {=IFERROR(IF(AND(COUNTIF($BQ$7:$BQ16,"")+1=CB$6,LEN($BQ16)>0,$AQ16>0),MATCH(INDEX($W$7:$W$16,$AQ16)&"-"&$AR16,$CC$7:$CC$126,0),""),"")} | CC16: =IFERROR(IF(LEN(AS16)=0,"",AS16&"-"&AT16),"") -> Preparation of coffee-3 | CD16: {=IFERROR(IF(AND(COUNTIF($CC$7:$CC16,"")+1=CD$6,LEN($CC16)>0,$AU16>0),MATCH(INDEX($X$7:$X$16,$AU16)&"-"&$AV16,$CO$7:$CO$126,0),""),"")} | CE16: {=IFERROR(IF(AND(COUNTIF($CC$7:$CC16,"")+1=CE$6,LEN($CC16)>0,$AU16>0),MATCH(INDEX($X$7:$X$16,$AU16)&"-"&$AV16,$CO$7:$CO$126,0),""),"")} | CF16: {=IFERROR(IF(AND(COUNTIF($CC$7:$CC16,"")+1=CF$6,LEN($CC16)>0,$AU16>0),MATCH(INDEX($X$7:$X$16,$AU16)&"-"&$AV16,$CO$7:$CO$126,0),""),"")} | CG16: {=IFERROR(IF(AND(COUNTIF($CC$7:$CC16,"")+1=CG$6,LEN($CC16)>0,$AU16>0),MATCH(INDEX($X$7:$X$16,$AU16)&"-"&$AV16,$CO$7:$CO$126,0),""),"")} | CH16: {=IFERROR(IF(AND(COUNTIF($CC$7:$CC16,"")+1=CH$6,LEN($CC16)>0,$AU16>0),MATCH(INDEX($X$7:$X$16,$AU16)&"-"&$AV16,$CO$7:$CO$126,0),""),"")} | CI16: {=IFERROR(IF(AND(COUNTIF($CC$7:$CC16,"")+1=CI$6,LEN($CC16)>0,$AU16>0),MATCH(INDEX($X$7:$X$16,$AU16)&"-"&$AV16,$CO$7:$CO$126,0),""),"")} | CJ16: {=IFERROR(IF(AND(COUNTIF($CC$7:$CC16,"")+1=CJ$6,LEN($CC16)>0,$AU16>0),MATCH(INDEX($X$7:$X$16,$AU16)&"-"&$AV16,$CO$7:$CO$126,0),""),"")} | CK16: {=IFERROR(IF(AND(COUNTIF($CC$7:$CC16,"")+1=CK$6,LEN($CC16)>0,$AU16>0),MATCH(INDEX($X$7:$X$16,$AU16)&"-"&$AV16,$CO$7:$CO$126,0),""),"")} | ... CN16: {=IFERROR(IF(AND(COUNTIF($CC$7:$CC16,"")+1=CN$6,LEN($CC16)>0,$AU16>0),MATCH(INDEX($X$7:$X$16,$AU16)&"-"&$AV16,$CO$7:$CO$126,0),""),"")} | CO16: =IFERROR(IF(LEN(AW16)=0,"",AW16&"-"&AX16),"") -> Coffee-1 | CP16: {=IFERROR(IF(AND(COUNTIF($CO$7:$CO16,"")+1=CP$6,LEN($CO16)>0,$AY16>0),MATCH(INDEX($Y$7:$Y$16,$AY16)&"-"&$AZ16,$DA$7:$DA$126,0),""),"")} | CQ16: {=IFERROR(IF(AND(COUNTIF($CO$7:$CO16,"")+1=CQ$6,LEN($CO16)>0,$AY16>0),MATCH(INDEX($Y$7:$Y$16,$AY16)&"-"&$AZ16,$DA$7:$DA$126,0),""),"")} | CR16: {=IFERROR(IF(AND(COUNTIF($CO$7:$CO16,"")+1=CR$6,LEN($CO16)>0,$AY16>0),MATCH(INDEX($Y$7:$Y$16,$AY16)&"-"&$AZ16,$DA$7:$DA$126,0),""),"")} | CS16: {=IFERROR(IF(AND(COUNTIF($CO$7:$CO16,"")+1=CS$6,LEN($CO16)>0,$AY16>0),MATCH(INDEX($Y$7:$Y$16,$AY16)&"-"&$AZ16,$DA$7:$DA$126,0),""),"")} -> 3 | CT16: {=IFERROR(IF(AND(COUNTIF($CO$7:$CO16,"")+1=CT$6,LEN($CO16)>0,$AY16>0),MATCH(INDEX($Y$7:$Y$16,$AY16)&"-"&$AZ16,$DA$7:$DA$126,0),""),"")} | CU16: {=IFERROR(IF(AND(COUNTIF($CO$7:$CO16,"")+1=CU$6,LEN($CO16)>0,$AY16>0),MATCH(INDEX($Y$7:$Y$16,$AY16)&"-"&$AZ16,$DA$7:$DA$126,0),""),"")} | CV16: {=IFERROR(IF(AND(COUNTIF($CO$7:$CO16,"")+1=CV$6,LEN($CO16)>0,$AY16>0),MATCH(INDEX($Y$7:$Y$16,$AY16)&"-"&$AZ16,$DA$7:$DA$126,0),""),"")} | CW16: {=IFERROR(IF(AND(COUNTIF($CO$7:$CO16,"")+1=CW$6,LEN($CO16)>0,$AY16>0),MATCH(INDEX($Y$7:$Y$16,$AY16)&"-"&$AZ16,$DA$7:$DA$126,0),""),"")} | ... CZ16: {=IFERROR(IF(AND(COUNTIF($CO$7:$CO16,"")+1=CZ$6,LEN($CO16)>0,$AY16>0),MATCH(INDEX($Y$7:$Y$16,$AY16)&"-"&$AZ16,$DA$7:$DA$126,0),""),"")} | DA16: =IF(LEN(BA16)=0,"",BA16&"-"&BB16) | DC16: {=IFERROR(IF(LEN(BQ16)=0,"",SUM((BF$7:BO$126=$BD16)*(BF$6:BO$6))),"")} | DD16: {=IFERROR(IF(LEN(CC16)=0,"",SUM((BR$7:CA$126=$BD16)*(BR$6:CA$6))),"")} -> 0 | DE16: {=IFERROR(IF(LEN(CO16)=0,"",SUM((CD$7:CM$126=$BD16)*(CD$6:CM$6))),"")} -> 3 | DF16: {=IFERROR(IF(LEN(DA16)=0,"",SUM((CP$7:CY$126=$BD16)*(CP$6:CY$6))),"")}
B17: 10 | C17: {=IFERROR(IF(AND(LEN(C$7)>0,SUM((InputList!$C20:$H20=Cond!C$7)*1)>0),InputList!$B20,""),"")} | D17: {=IFERROR(IF(AND(LEN(D$7)>0,SUM((InputList!$C20:$H20=Cond!D$7)*1)>0),InputList!$B20,""),"")} | E17: {=IFERROR(IF(AND(LEN(E$7)>0,SUM((InputList!$C20:$H20=Cond!E$7)*1)>0),InputList!$B20,""),"")} | F17: {=IFERROR(IF(AND(LEN(F$7)>0,SUM((InputList!$C20:$H20=Cond!F$7)*1)>0),InputList!$B20,""),"")} | G17: {=IFERROR(IF(AND(LEN(G$7)>0,SUM((InputList!$C20:$H20=Cond!G$7)*1)>0),InputList!$B20,""),"")} | H17: {=IFERROR(IF(AND(LEN(H$7)>0,SUM((InputList!$C20:$H20=Cond!H$7)*1)>0),InputList!$B20,""),"")} | I17: {=IFERROR(IF(AND(LEN(I$7)>0,SUM((InputList!$C20:$H20=Cond!I$7)*1)>0),InputList!$B20,""),"")} | J17: {=IFERROR(IF(AND(LEN(J$7)>0,SUM((InputList!$C20:$H20=Cond!J$7)*1)>0),InputList!$B20,""),"")} | ... L17: {=IFERROR(IF(AND(LEN(L$7)>0,SUM((InputList!$C20:$H20=Cond!L$7)*1)>0),InputList!$B20,""),"")} | M17: =COUNTA(C17:L17)-COUNTBLANK(C17:L17) -> 0 | O17: 1 | P17: 2 | Q17: =IFERROR(INDEX($C$8:$L$17,$O17,$P17),"") | R17: =IFERROR(INDEX($C$23:$L$32,$O17,$P17),"") -> Customer | AJ17: 11 | AK17: {=IFERROR(IF(MAX(($AJ17>=$AF$7:$AF$16)*($AJ17<=$AG$7:$AG$16)*$AA$7:$AA$16)=0,"",INDEX($AB$7:$AB$16,MAX(($AJ17>=$AF$7:$AF$16)*($AJ17<=$AG$7:$AG$16)*$AA$7:$AA$16))),"")} -> Manufacturer | AL17: =IFERROR(IF(LEN(AK17)=0,"",COUNTIF(AK$7:AK17,AK17)),"") -> 4 | AM17: {=IFERROR(IF(LEN(AK17)=0,"",LARGE((AK17=$R$7:$R$126)*($P$7:$P$126),COUNTIF(AK17:AK$126,AK17)-1)),"")} -> 6 | AN17: =IFERROR(IF(LEN(AK17)=0,"",COUNTIF(AM$7:AM17,AM17)),"") -> 1 | AO17: {=IFERROR(IF(MAX(($AJ17>=$AF$19:$AF$28)*($AJ17<=$AG$19:$AG$28)*$AA$19:$AA$28)=0,"",INDEX($AB$19:$AB$28,MAX(($AJ17>=$AF$19:$AF$28)*($AJ17<=$AG$19:$AG$28)*$AA$19:$AA$28))),"")} -> Ingredients ( Milk, Sugar, Chocolate etc.) | AP17: =IFERROR(IF(LEN(AO17)=0,"",COUNTIF(AO$7:AO17,AO17)),"") -> 1 | AQ17: {=IFERROR(IF(LEN(AO17)=0,"",LARGE((AO17=$Q$7:$Q$126)*($P$7:$P$126),COUNTIF(AO17:AO$126,AO17)-1)),"")} -> 3 | AR17: =IFERROR(IF(LEN(AO17)=0,"",COUNTIF(AQ$7:AQ17,AQ17)),"") -> 2 | AS17: {=IFERROR(IF(MAX(($AJ17>=$AF$31:$AF$40)*($AJ17<=$AG$31:$AG$40)*$AA$31:$AA$40)=0,"",INDEX($AB$31:$AB$40,MAX(($AJ17>=$AF$31:$AF$40)*($AJ17<=$AG$31:$AG$40)*$AA$31:$AA$40))),"")} | AT17: =IFERROR(IF(LEN(AS17)=0,"",COUNTIF(AS$7:AS17,AS17)),"") | AU17: =IFERROR(IF(LEN(AS17)=0,"",INDEX($C$68:$L$77,AT17,MATCH(AS17,$AB$31:$AB$40,0))),"") | AV17: =IFERROR(IF(LEN(AU17)=0,"",COUNTIF(AU$7:AU17,AU17)),"") | AW17: {=IFERROR(IF(MAX(($AJ17>=$AF$43:$AF$52)*($AJ17<=$AG$43:$AG$52)*$AA$43:$AA$52)=0,"",INDEX($AB$43:$AB$52,MAX(($AJ17>=$AF$43:$AF$52)*($AJ17<=$AG$43:$AG$52)*$AA$43:$AA$52))),"")} -> Coffee | AX17: =IFERROR(IF(LEN(AW17)=0,"",COUNTIF(AW$7:AW17,AW17)),"") -> 2 | AY17: =IFERROR(IF(LEN(AW17)=0,"",INDEX($C$83:$L$92,AX17,MATCH(AW17,$AB$43:$AB$52,0))),"") | AZ17: =IFERROR(IF(LEN(AY17)=0,"",COUNTIF(AY$7:AY17,AY17)),"") | BA17: {=IFERROR(IF(MAX(($AJ17>=$AF$55:$AF$64)*($AJ17<=$AG$55:$AG$64)*$AA$55:$AA$64)=0,"",INDEX($AB$55:$AB$64,MAX(($AJ17>=$AF$55:$AF$64)*($AJ17<=$AG$55:$AG$64)*$AA$55:$AA$64))),"")} | BB17: =IFERROR(IF(LEN(BA17)=0,"",COUNTIF(BA$7:BA17,BA17)),"") | BD17: 11 | BE17: =IFERROR(IF(LEN(AK17)=0,"",AK17&"-"&AL17),"") -> Manufacturer-4 | BF17: {=IFERROR(IF(AND(COUNTIF($BE$7:$BE17,"")+1=BF$6,LEN($BE17)>0,$AM17>0),MATCH(INDEX($V$7:$V$16,$AM17)&"-"&$AN17,$BQ$7:$BQ$126,0),""),"")} | BG17: {=IFERROR(IF(AND(COUNTIF($BE$7:$BE17,"")+1=BG$6,LEN($BE17)>0,$AM17>0),MATCH(INDEX($V$7:$V$16,$AM17)&"-"&$AN17,$BQ$7:$BQ$126,0),""),"")} | BH17: {=IFERROR(IF(AND(COUNTIF($BE$7:$BE17,"")+1=BH$6,LEN($BE17)>0,$AM17>0),MATCH(INDEX($V$7:$V$16,$AM17)&"-"&$AN17,$BQ$7:$BQ$126,0),""),"")} -> 17 | BI17: {=IFERROR(IF(AND(COUNTIF($BE$7:$BE17,"")+1=BI$6,LEN($BE17)>0,$AM17>0),MATCH(INDEX($V$7:$V$16,$AM17)&"-"&$AN17,$BQ$7:$BQ$126,0),""),"")} | BJ17: {=IFERROR(IF(AND(COUNTIF($BE$7:$BE17,"")+1=BJ$6,LEN($BE17)>0,$AM17>0),MATCH(INDEX($V$7:$V$16,$AM17)&"-"&$AN17,$BQ$7:$BQ$126,0),""),"")} | BK17: {=IFERROR(IF(AND(COUNTIF($BE$7:$BE17,"")+1=BK$6,LEN($BE17)>0,$AM17>0),MATCH(INDEX($V$7:$V$16,$AM17)&"-"&$AN17,$BQ$7:$BQ$126,0),""),"")} | BL17: {=IFERROR(IF(AND(COUNTIF($BE$7:$BE17,"")+1=BL$6,LEN($BE17)>0,$AM17>0),MATCH(INDEX($V$7:$V$16,$AM17)&"-"&$AN17,$BQ$7:$BQ$126,0),""),"")} | BM17: {=IFERROR(IF(AND(COUNTIF($BE$7:$BE17,"")+1=BM$6,LEN($BE17)>0,$AM17>0),MATCH(INDEX($V$7:$V$16,$AM17)&"-"&$AN17,$BQ$7:$BQ$126,0),""),"")} | ... BP17: {=IFERROR(IF(AND(COUNTIF($BE$7:$BE17,"")+1=BP$6,LEN($BE17)>0,$AM17>0),MATCH(INDEX($V$7:$V$16,$AM17)&"-"&$AN17,$BQ$7:$BQ$126,0),""),"")} | BQ17: =IF(LEN(AO17)=0,"",AO17&"-"&AP17) -> Ingredients ( Milk, Sugar, Chocolate etc.)-1 | BR17: {=IFERROR(IF(AND(COUNTIF($BQ$7:$BQ17,"")+1=BR$6,LEN($BQ17)>0,$AQ17>0),MATCH(INDEX($W$7:$W$16,$AQ17)&"-"&$AR17,$CC$7:$CC$126,0),""),"")} | BS17: {=IFERROR(IF(AND(COUNTIF($BQ$7:$BQ17,"")+1=BS$6,LEN($BQ17)>0,$AQ17>0),MATCH(INDEX($W$7:$W$16,$AQ17)&"-"&$AR17,$CC$7:$CC$126,0),""),"")} | BT17: {=IFERROR(IF(AND(COUNTIF($BQ$7:$BQ17,"")+1=BT$6,LEN($BQ17)>0,$AQ17>0),MATCH(INDEX($W$7:$W$16,$AQ17)&"-"&$AR17,$CC$7:$CC$126,0),""),"")} | BU17: {=IFERROR(IF(AND(COUNTIF($BQ$7:$BQ17,"")+1=BU$6,LEN($BQ17)>0,$AQ17>0),MATCH(INDEX($W$7:$W$16,$AQ17)&"-"&$AR17,$CC$7:$CC$126,0),""),"")} -> 9 | BV17: {=IFERROR(IF(AND(COUNTIF($BQ$7:$BQ17,"")+1=BV$6,LEN($BQ17)>0,$AQ17>0),MATCH(INDEX($W$7:$W$16,$AQ17)&"-"&$AR17,$CC$7:$CC$126,0),""),"")} | BW17: {=IFERROR(IF(AND(COUNTIF($BQ$7:$BQ17,"")+1=BW$6,LEN($BQ17)>0,$AQ17>0),MATCH(INDEX($W$7:$W$16,$AQ17)&"-"&$AR17,$CC$7:$CC$126,0),""),"")} | BX17: {=IFERROR(IF(AND(COUNTIF($BQ$7:$BQ17,"")+1=BX$6,LEN($BQ17)>0,$AQ17>0),MATCH(INDEX($W$7:$W$16,$AQ17)&"-"&$AR17,$CC$7:$CC$126,0),""),"")} | BY17: {=IFERROR(IF(AND(COUNTIF($BQ$7:$BQ17,"")+1=BY$6,LEN($BQ17)>0,$AQ17>0),MATCH(INDEX($W$7:$W$16,$AQ17)&"-"&$AR17,$CC$7:$CC$126,0),""),"")} | ... CB17: {=IFERROR(IF(AND(COUNTIF($BQ$7:$BQ17,"")+1=CB$6,LEN($BQ17)>0,$AQ17>0),MATCH(INDEX($W$7:$W$16,$AQ17)&"-"&$AR17,$CC$7:$CC$126,0),""),"")} | CC17: =IFERROR(IF(LEN(AS17)=0,"",AS17&"-"&AT17),"") | CD17: {=IFERROR(IF(AND(COUNTIF($CC$7:$CC17,"")+1=CD$6,LEN($CC17)>0,$AU17>0),MATCH(INDEX($X$7:$X$16,$AU17)&"-"&$AV17,$CO$7:$CO$126,0),""),"")} | CE17: {=IFERROR(IF(AND(COUNTIF($CC$7:$CC17,"")+1=CE$6,LEN($CC17)>0,$AU17>0),MATCH(INDEX($X$7:$X$16,$AU17)&"-"&$AV17,$CO$7:$CO$126,0),""),"")} | CF17: {=IFERROR(IF(AND(COUNTIF($CC$7:$CC17,"")+1=CF$6,LEN($CC17)>0,$AU17>0),MATCH(INDEX($X$7:$X$16,$AU17)&"-"&$AV17,$CO$7:$CO$126,0),""),"")} | CG17: {=IFERROR(IF(AND(COUNTIF($CC$7:$CC17,"")+1=CG$6,LEN($CC17)>0,$AU17>0),MATCH(INDEX($X$7:$X$16,$AU17)&"-"&$AV17,$CO$7:$CO$126,0),""),"")} | CH17: {=IFERROR(IF(AND(COUNTIF($CC$7:$CC17,"")+1=CH$6,LEN($CC17)>0,$AU17>0),MATCH(INDEX($X$7:$X$16,$AU17)&"-"&$AV17,$CO$7:$CO$126,0),""),"")} | CI17: {=IFERROR(IF(AND(COUNTIF($CC$7:$CC17,"")+1=CI$6,LEN($CC17)>0,$AU17>0),MATCH(INDEX($X$7:$X$16,$AU17)&"-"&$AV17,$CO$7:$CO$126,0),""),"")} | CJ17: {=IFERROR(IF(AND(COUNTIF($CC$7:$CC17,"")+1=CJ$6,LEN($CC17)>0,$AU17>0),MATCH(INDEX($X$7:$X$16,$AU17)&"-"&$AV17,$CO$7:$CO$126,0),""),"")} | CK17: {=IFERROR(IF(AND(COUNTIF($CC$7:$CC17,"")+1=CK$6,LEN($CC17)>0,$AU17>0),MATCH(INDEX($X$7:$X$16,$AU17)&"-"&$AV17,$CO$7:$CO$126,0),""),"")} | ... CN17: {=IFERROR(IF(AND(COUNTIF($CC$7:$CC17,"")+1=CN$6,LEN($CC17)>0,$AU17>0),MATCH(INDEX($X$7:$X$16,$AU17)&"-"&$AV17,$CO$7:$CO$126,0),""),"")} | CO17: =IFERROR(IF(LEN(AW17)=0,"",AW17&"-"&AX17),"") -> Coffee-2 | CP17: {=IFERROR(IF(AND(COUNTIF($CO$7:$CO17,"")+1=CP$6,LEN($CO17)>0,$AY17>0),MATCH(INDEX($Y$7:$Y$16,$AY17)&"-"&$AZ17,$DA$7:$DA$126,0),""),"")} | CQ17: {=IFERROR(IF(AND(COUNTIF($CO$7:$CO17,"")+1=CQ$6,LEN($CO17)>0,$AY17>0),MATCH(INDEX($Y$7:$Y$16,$AY17)&"-"&$AZ17,$DA$7:$DA$126,0),""),"")} | CR17: {=IFERROR(IF(AND(COUNTIF($CO$7:$CO17,"")+1=CR$6,LEN($CO17)>0,$AY17>0),MATCH(INDEX($Y$7:$Y$16,$AY17)&"-"&$AZ17,$DA$7:$DA$126,0),""),"")} | CS17: {=IFERROR(IF(AND(COUNTIF($CO$7:$CO17,"")+1=CS$6,LEN($CO17)>0,$AY17>0),MATCH(INDEX($Y$7:$Y$16,$AY17)&"-"&$AZ17,$DA$7:$DA$126,0),""),"")} | CT17: {=IFERROR(IF(AND(COUNTIF($CO$7:$CO17,"")+1=CT$6,LEN($CO17)>0,$AY17>0),MATCH(INDEX($Y$7:$Y$16,$AY17)&"-"&$AZ17,$DA$7:$DA$126,0),""),"")} | CU17: {=IFERROR(IF(AND(COUNTIF($CO$7:$CO17,"")+1=CU$6,LEN($CO17)>0,$AY17>0),MATCH(INDEX($Y$7:$Y$16,$AY17)&"-"&$AZ17,$DA$7:$DA$126,0),""),"")} | CV17: {=IFERROR(IF(AND(COUNTIF($CO$7:$CO17,"")+1=CV$6,LEN($CO17)>0,$AY17>0),MATCH(INDEX($Y$7:$Y$16,$AY17)&"-"&$AZ17,$DA$7:$DA$126,0),""),"")} | CW17: {=IFERROR(IF(AND(COUNTIF($CO$7:$CO17,"")+1=CW$6,LEN($CO17)>0,$AY17>0),MATCH(INDEX($Y$7:$Y$16,$AY17)&"-"&$AZ17,$DA$7:$DA$126,0),""),"")} | ... CZ17: {=IFERROR(IF(AND(COUNTIF($CO$7:$CO17,"")+1=CZ$6,LEN($CO17)>0,$AY17>0),MATCH(INDEX($Y$7:$Y$16,$AY17)&"-"&$AZ17,$DA$7:$DA$126,0),""),"")} | DA17: =IF(LEN(BA17)=0,"",BA17&"-"&BB17) | DC17: {=IFERROR(IF(LEN(BQ17)=0,"",SUM((BF$7:BO$126=$BD17)*(BF$6:BO$6))),"")} -> 3 | DD17: {=IFERROR(IF(LEN(CC17)=0,"",SUM((BR$7:CA$126=$BD17)*(BR$6:CA$6))),"")} | DE17: {=IFERROR(IF(LEN(CO17)=0,"",SUM((CD$7:CM$126=$BD17)*(CD$6:CM$6))),"")} -> 0 | DF17: {=IFERROR(IF(LEN(DA17)=0,"",SUM((CP$7:CY$126=$BD17)*(CP$6:CY$6))),"")}
B18: Count | C18: =COUNTA(C8:C17)-COUNTBLANK(C8:C17) -> 1 | D18: =COUNTA(D8:D17)-COUNTBLANK(D8:D17) -> 1 | E18: =COUNTA(E8:E17)-COUNTBLANK(E8:E17) -> 2 | F18: =COUNTA(F8:F17)-COUNTBLANK(F8:F17) -> 2 | G18: =COUNTA(G8:G17)-COUNTBLANK(G8:G17) -> 0 | H18: =COUNTA(H8:H17)-COUNTBLANK(H8:H17) -> 0 | I18: =COUNTA(I8:I17)-COUNTBLANK(I8:I17) -> 0 | J18: =COUNTA(J8:J17)-COUNTBLANK(J8:J17) -> 0 | ... L18: =COUNTA(L8:L17)-COUNTBLANK(L8:L17) -> 0 | O18: 2 | P18: 2 | Q18: =IFERROR(INDEX($C$8:$L$17,$O18,$P18),"") -> Money | R18: =IFERROR(INDEX($C$23:$L$32,$O18,$P18),"") -> Cashier | U18: Max | V18: Max | W18: Max | X18: Max | Y18: Max | AA18: Index | AB18: Input | AC18: subsequent | AD18: precedent | AE18: Max Node | AF18: From | AG18: To | AH18: Mid | AJ18: 12 | AK18: {=IFERROR(IF(MAX(($AJ18>=$AF$7:$AF$16)*($AJ18<=$AG$7:$AG$16)*$AA$7:$AA$16)=0,"",INDEX($AB$7:$AB$16,MAX(($AJ18>=$AF$7:$AF$16)*($AJ18<=$AG$7:$AG$16)*$AA$7:$AA$16))),"")} -> Manufacturer | AL18: =IFERROR(IF(LEN(AK18)=0,"",COUNTIF(AK$7:AK18,AK18)),"") -> 5 | AM18: {=IFERROR(IF(LEN(AK18)=0,"",LARGE((AK18=$R$7:$R$126)*($P$7:$P$126),COUNTIF(AK18:AK$126,AK18)-1)),"")} | AN18: =IFERROR(IF(LEN(AK18)=0,"",COUNTIF(AM$7:AM18,AM18)),"") -> 5 | AO18: {=IFERROR(IF(MAX(($AJ18>=$AF$19:$AF$28)*($AJ18<=$AG$19:$AG$28)*$AA$19:$AA$28)=0,"",INDEX($AB$19:$AB$28,MAX(($AJ18>=$AF$19:$AF$28)*($AJ18<=$AG$19:$AG$28)*$AA$19:$AA$28))),"")} -> Ingredients ( Milk, Sugar, Chocolate etc.) | AP18: =IFERROR(IF(LEN(AO18)=0,"",COUNTIF(AO$7:AO18,AO18)),"") -> 2 | AQ18: {=IFERROR(IF(LEN(AO18)=0,"",LARGE((AO18=$Q$7:$Q$126)*($P$7:$P$126),COUNTIF(AO18:AO$126,AO18)-1)),"")} | AR18: =IFERROR(IF(LEN(AO18)=0,"",COUNTIF(AQ$7:AQ18,AQ18)),"") -> 7 | AS18: {=IFERROR(IF(MAX(($AJ18>=$AF$31:$AF$40)*($AJ18<=$AG$31:$AG$40)*$AA$31:$AA$40)=0,"",INDEX($AB$31:$AB$40,MAX(($AJ18>=$AF$31:$AF$40)*($AJ18<=$AG$31:$AG$40)*$AA$31:$AA$40))),"")} -> Serving the order | AT18: =IFERROR(IF(LEN(AS18)=0,"",COUNTIF(AS$7:AS18,AS18)),"") -> 1 | AU18: =IFERROR(IF(LEN(AS18)=0,"",INDEX($C$68:$L$77,AT18,MATCH(AS18,$AB$31:$AB$40,0))),"") -> 5 | AV18: =IFERROR(IF(LEN(AU18)=0,"",COUNTIF(AU$7:AU18,AU18)),"") -> 1 | AW18: {=IFERROR(IF(MAX(($AJ18>=$AF$43:$AF$52)*($AJ18<=$AG$43:$AG$52)*$AA$43:$AA$52)=0,"",INDEX($AB$43:$AB$52,MAX(($AJ18>=$AF$43:$AF$52)*($AJ18<=$AG$43:$AG$52)*$AA$43:$AA$52))),"")} | AX18: =IFERROR(IF(LEN(AW18)=0,"",COUNTIF(AW$7:AW18,AW18)),"") | AY18: =IFERROR(IF(LEN(AW18)=0,"",INDEX($C$83:$L$92,AX18,MATCH(AW18,$AB$43:$AB$52,0))),"") | AZ18: =IFERROR(IF(LEN(AY18)=0,"",COUNTIF(AY$7:AY18,AY18)),"") | BA18: {=IFERROR(IF(MAX(($AJ18>=$AF$55:$AF$64)*($AJ18<=$AG$55:$AG$64)*$AA$55:$AA$64)=0,"",INDEX($AB$55:$AB$64,MAX(($AJ18>=$AF$55:$AF$64)*($AJ18<=$AG$55:$AG$64)*$AA$55:$AA$64))),"")} | BB18: =IFERROR(IF(LEN(BA18)=0,"",COUNTIF(BA$7:BA18,BA18)),"") | BD18: 12 | BE18: =IFERROR(IF(LEN(AK18)=0,"",AK18&"-"&AL18),"") -> Manufacturer-5 | BF18: {=IFERROR(IF(AND(COUNTIF($BE$7:$BE18,"")+1=BF$6,LEN($BE18)>0,$AM18>0),MATCH(INDEX($V$7:$V$16,$AM18)&"-"&$AN18,$BQ$7:$BQ$126,0),""),"")} | BG18: {=IFERROR(IF(AND(COUNTIF($BE$7:$BE18,"")+1=BG$6,LEN($BE18)>0,$AM18>0),MATCH(INDEX($V$7:$V$16,$AM18)&"-"&$AN18,$BQ$7:$BQ$126,0),""),"")} | BH18: {=IFERROR(IF(AND(COUNTIF($BE$7:$BE18,"")+1=BH$6,LEN($BE18)>0,$AM18>0),MATCH(INDEX($V$7:$V$16,$AM18)&"-"&$AN18,$BQ$7:$BQ$126,0),""),"")} | BI18: {=IFERROR(IF(AND(COUNTIF($BE$7:$BE18,"")+1=BI$6,LEN($BE18)>0,$AM18>0),MATCH(INDEX($V$7:$V$16,$AM18)&"-"&$AN18,$BQ$7:$BQ$126,0),""),"")} | BJ18: {=IFERROR(IF(AND(COUNTIF($BE$7:$BE18,"")+1=BJ$6,LEN($BE18)>0,$AM18>0),MATCH(INDEX($V$7:$V$16,$AM18)&"-"&$AN18,$BQ$7:$BQ$126,0),""),"")} | BK18: {=IFERROR(IF(AND(COUNTIF($BE$7:$BE18,"")+1=BK$6,LEN($BE18)>0,$AM18>0),MATCH(INDEX($V$7:$V$16,$AM18)&"-"&$AN18,$BQ$7:$BQ$126,0),""),"")} | BL18: {=IFERROR(IF(AND(COUNTIF($BE$7:$BE18,"")+1=BL$6,LEN($BE18)>0,$AM18>0),MATCH(INDEX($V$7:$V$16,$AM18)&"-"&$AN18,$BQ$7:$BQ$126,0),""),"")} | BM18: {=IFERROR(IF(AND(COUNTIF($BE$7:$BE18,"")+1=BM$6,LEN($BE18)>0,$AM18>0),MATCH(INDEX($V$7:$V$16,$AM18)&"-"&$AN18,$BQ$7:$BQ$126,0),""),"")} | ... BP18: {=IFERROR(IF(AND(COUNTIF($BE$7:$BE18,"")+1=BP$6,LEN($BE18)>0,$AM18>0),MATCH(INDEX($V$7:$V$16,$AM18)&"-"&$AN18,$BQ$7:$BQ$126,0),""),"")} | BQ18: =IF(LEN(AO18)=0,"",AO18&"-"&AP18) -> Ingredients ( Milk, Sugar, Chocolate etc.)-2 | BR18: {=IFERROR(IF(AND(COUNTIF($BQ$7:$BQ18,"")+1=BR$6,LEN($BQ18)>0,$AQ18>0),MATCH(INDEX($W$7:$W$16,$AQ18)&"-"&$AR18,$CC$7:$CC$126,0),""),"")} | BS18: {=IFERROR(IF(AND(COUNTIF($BQ$7:$BQ18,"")+1=BS$6,LEN($BQ18)>0,$AQ18>0),MATCH(INDEX($W$7:$W$16,$AQ18)&"-"&$AR18,$CC$7:$CC$126,0),""),"")} | BT18: {=IFERROR(IF(AND(COUNTIF($BQ$7:$BQ18,"")+1=BT$6,LEN($BQ18)>0,$AQ18>0),MATCH(INDEX($W$7:$W$16,$AQ18)&"-"&$AR18,$CC$7:$CC$126,0),""),"")} | BU18: {=IFERROR(IF(AND(COUNTIF($BQ$7:$BQ18,"")+1=BU$6,LEN($BQ18)>0,$AQ18>0),MATCH(INDEX($W$7:$W$16,$AQ18)&"-"&$AR18,$CC$7:$CC$126,0),""),"")} | BV18: {=IFERROR(IF(AND(COUNTIF($BQ$7:$BQ18,"")+1=BV$6,LEN($BQ18)>0,$AQ18>0),MATCH(INDEX($W$7:$W$16,$AQ18)&"-"&$AR18,$CC$7:$CC$126,0),""),"")} | BW18: {=IFERROR(IF(AND(COUNTIF($BQ$7:$BQ18,"")+1=BW$6,LEN($BQ18)>0,$AQ18>0),MATCH(INDEX($W$7:$W$16,$AQ18)&"-"&$AR18,$CC$7:$CC$126,0),""),"")} | BX18: {=IFERROR(IF(AND(COUNTIF($BQ$7:$BQ18,"")+1=BX$6,LEN($BQ18)>0,$AQ18>0),MATCH(INDEX($W$7:$W$16,$AQ18)&"-"&$AR18,$CC$7:$CC$126,0),""),"")} | BY18: {=IFERROR(IF(AND(COUNTIF($BQ$7:$BQ18,"")+1=BY$6,LEN($BQ18)>0,$AQ18>0),MATCH(INDEX($W$7:$W$16,$AQ18)&"-"&$AR18,$CC$7:$CC$126,0),""),"")} | ... CB18: {=IFERROR(IF(AND(COUNTIF($BQ$7:$BQ18,"")+1=CB$6,LEN($BQ18)>0,$AQ18>0),MATCH(INDEX($W$7:$W$16,$AQ18)&"-"&$AR18,$CC$7:$CC$126,0),""),"")} | CC18: =IFERROR(IF(LEN(AS18)=0,"",AS18&"-"&AT18),"") -> Serving the order-1 | CD18: {=IFERROR(IF(AND(COUNTIF($CC$7:$CC18,"")+1=CD$6,LEN($CC18)>0,$AU18>0),MATCH(INDEX($X$7:$X$16,$AU18)&"-"&$AV18,$CO$7:$CO$126,0),""),"")} | CE18: {=IFERROR(IF(AND(COUNTIF($CC$7:$CC18,"")+1=CE$6,LEN($CC18)>0,$AU18>0),MATCH(INDEX($X$7:$X$16,$AU18)&"-"&$AV18,$CO$7:$CO$126,0),""),"")} | CF18: {=IFERROR(IF(AND(COUNTIF($CC$7:$CC18,"")+1=CF$6,LEN($CC18)>0,$AU18>0),MATCH(INDEX($X$7:$X$16,$AU18)&"-"&$AV18,$CO$7:$CO$126,0),""),"")} | CG18: {=IFERROR(IF(AND(COUNTIF($CC$7:$CC18,"")+1=CG$6,LEN($CC18)>0,$AU18>0),MATCH(INDEX($X$7:$X$16,$AU18)&"-"&$AV18,$CO$7:$CO$126,0),""),"")} -> 13 | CH18: {=IFERROR(IF(AND(COUNTIF($CC$7:$CC18,"")+1=CH$6,LEN($CC18)>0,$AU18>0),MATCH(INDEX($X$7:$X$16,$AU18)&"-"&$AV18,$CO$7:$CO$126,0),""),"")} | CI18: {=IFERROR(IF(AND(COUNTIF($CC$7:$CC18,"")+1=CI$6,LEN($CC18)>0,$AU18>0),MATCH(INDEX($X$7:$X$16,$AU18)&"-"&$AV18,$CO$7:$CO$126,0),""),"")} | CJ18: {=IFERROR(IF(AND(COUNTIF($CC$7:$CC18,"")+1=CJ$6,LEN($CC18)>0,$AU18>0),MATCH(INDEX($X$7:$X$16,$AU18)&"-"&$AV18,$CO$7:$CO$126,0),""),"")} | CK18: {=IFERROR(IF(AND(COUNTIF($CC$7:$CC18,"")+1=CK$6,LEN($CC18)>0,$AU18>0),MATCH(INDEX($X$7:$X$16,$AU18)&"-"&$AV18,$CO$7:$CO$126,0),""),"")} | ... CN18: {=IFERROR(IF(AND(COUNTIF($CC$7:$CC18,"")+1=CN$6,LEN($CC18)>0,$AU18>0),MATCH(INDEX($X$7:$X$16,$AU18)&"-"&$AV18,$CO$7:$CO$126,0),""),"")} | CO18: =IFERROR(IF(LEN(AW18)=0,"",AW18&"-"&AX18),"") | CP18: {=IFERROR(IF(AND(COUNTIF($CO$7:$CO18,"")+1=CP$6,LEN($CO18)>0,$AY18>0),MATCH(INDEX($Y$7:$Y$16,$AY18)&"-"&$AZ18,$DA$7:$DA$126,0),""),"")} | CQ18: {=IFERROR(IF(AND(COUNTIF($CO$7:$CO18,"")+1=CQ$6,LEN($CO18)>0,$AY18>0),MATCH(INDEX($Y$7:$Y$16,$AY18)&"-"&$AZ18,$DA$7:$DA$126,0),""),"")} | CR18: {=IFERROR(IF(AND(COUNTIF($CO$7:$CO18,"")+1=CR$6,LEN($CO18)>0,$AY18>0),MATCH(INDEX($Y$7:$Y$16,$AY18)&"-"&$AZ18,$DA$7:$DA$126,0),""),"")} | CS18: {=IFERROR(IF(AND(COUNTIF($CO$7:$CO18,"")+1=CS$6,LEN($CO18)>0,$AY18>0),MATCH(INDEX($Y$7:$Y$16,$AY18)&"-"&$AZ18,$DA$7:$DA$126,0),""),"")} | CT18: {=IFERROR(IF(AND(COUNTIF($CO$7:$CO18,"")+1=CT$6,LEN($CO18)>0,$AY18>0),MATCH(INDEX($Y$7:$Y$16,$AY18)&"-"&$AZ18,$DA$7:$DA$126,0),""),"")} | CU18: {=IFERROR(IF(AND(COUNTIF($CO$7:$CO18,"")+1=CU$6,LEN($CO18)>0,$AY18>0),MATCH(INDEX($Y$7:$Y$16,$AY18)&"-"&$AZ18,$DA$7:$DA$126,0),""),"")} | CV18: {=IFERROR(IF(AND(COUNTIF($CO$7:$CO18,"")+1=CV$6,LEN($CO18)>0,$AY18>0),MATCH(INDEX($Y$7:$Y$16,$AY18)&"-"&$AZ18,$DA$7:$DA$126,0),""),"")} | CW18: {=IFERROR(IF(AND(COUNTIF($CO$7:$CO18,"")+1=CW$6,LEN($CO18)>0,$AY18>0),MATCH(INDEX($Y$7:$Y$16,$AY18)&"-"&$AZ18,$DA$7:$DA$126,0),""),"")} | ... CZ18: {=IFERROR(IF(AND(COUNTIF($CO$7:$CO18,"")+1=CZ$6,LEN($CO18)>0,$AY18>0),MATCH(INDEX($Y$7:$Y$16,$AY18)&"-"&$AZ18,$DA$7:$DA$126,0),""),"")} | DA18: =IF(LEN(BA18)=0,"",BA18&"-"&BB18) | DC18: {=IFERROR(IF(LEN(BQ18)=0,"",SUM((BF$7:BO$126=$BD18)*(BF$6:BO$6))),"")} -> 0 | DD18: {=IFERROR(IF(LEN(CC18)=0,"",SUM((BR$7:CA$126=$BD18)*(BR$6:CA$6))),"")} -> 5 | DE18: {=IFERROR(IF(LEN(CO18)=0,"",SUM((CD$7:CM$126=$BD18)*(CD$6:CM$6))),"")} | DF18: {=IFERROR(IF(LEN(DA18)=0,"",SUM((CP$7:CY$126=$BD18)*(CP$6:CY$6))),"")}
O19: 3 | P19: 2 | Q19: =IFERROR(INDEX($C$8:$L$17,$O19,$P19),"") | R19: =IFERROR(INDEX($C$23:$L$32,$O19,$P19),"") | U19: =COUNTA(U21:U30)-COUNTBLANK(U21:U30) -> 3 | V19: =COUNTA(V21:V30)-COUNTBLANK(V21:V30) -> 6 | W19: =COUNTA(W21:W30)-COUNTBLANK(W21:W30) -> 4 | X19: =COUNTA(X21:X30)-COUNTBLANK(X21:X30) -> 5 | Y19: =COUNTA(Y21:Y30)-COUNTBLANK(Y21:Y30) -> 2 | AA19: 1 | AB19: =V7 -> Queue | AC19: =IFERROR(IF(LEN(AB19)=0,"",INDEX($M$8:$M$17,AA19)),"") -> 1 | AD19: =IFERROR(IF(LEN(AB19)=0,"",INDEX($C$33:$L$33,AA19)),"") -> 1 | AE19: =IF(LEN(AB19)=0,"",MAX(AC19:AD19)) -> 1 | AF19: =IFERROR(IF(LEN(AB19)=0,"",1),"") -> 1 | AG19: =IFERROR(IF(LEN(AB19)=0,"",AF19+AE19),"") -> 2 | AH19: =IFERROR(IF(LEN(AB19)=0,"",ROUNDDOWN((AG19-AF19)/2,0)+AF19),"") -> 1 | AJ19: 13 | AK19: {=IFERROR(IF(MAX(($AJ19>=$AF$7:$AF$16)*($AJ19<=$AG$7:$AG$16)*$AA$7:$AA$16)=0,"",INDEX($AB$7:$AB$16,MAX(($AJ19>=$AF$7:$AF$16)*($AJ19<=$AG$7:$AG$16)*$AA$7:$AA$16))),"")} | AL19: =IFERROR(IF(LEN(AK19)=0,"",COUNTIF(AK$7:AK19,AK19)),"") | AM19: {=IFERROR(IF(LEN(AK19)=0,"",LARGE((AK19=$R$7:$R$126)*($P$7:$P$126),COUNTIF(AK19:AK$126,AK19)-1)),"")} | AN19: =IFERROR(IF(LEN(AK19)=0,"",COUNTIF(AM$7:AM19,AM19)),"") | AO19: {=IFERROR(IF(MAX(($AJ19>=$AF$19:$AF$28)*($AJ19<=$AG$19:$AG$28)*$AA$19:$AA$28)=0,"",INDEX($AB$19:$AB$28,MAX(($AJ19>=$AF$19:$AF$28)*($AJ19<=$AG$19:$AG$28)*$AA$19:$AA$28))),"")} | AP19: =IFERROR(IF(LEN(AO19)=0,"",COUNTIF(AO$7:AO19,AO19)),"") | AQ19: {=IFERROR(IF(LEN(AO19)=0,"",LARGE((AO19=$Q$7:$Q$126)*($P$7:$P$126),COUNTIF(AO19:AO$126,AO19)-1)),"")} | AR19: =IFERROR(IF(LEN(AO19)=0,"",COUNTIF(AQ$7:AQ19,AQ19)),"") | AS19: {=IFERROR(IF(MAX(($AJ19>=$AF$31:$AF$40)*($AJ19<=$AG$31:$AG$40)*$AA$31:$AA$40)=0,"",INDEX($AB$31:$AB$40,MAX(($AJ19>=$AF$31:$AF$40)*($AJ19<=$AG$31:$AG$40)*$AA$31:$AA$40))),"")} -> Serving the order | AT19: =IFERROR(IF(LEN(AS19)=0,"",COUNTIF(AS$7:AS19,AS19)),"") -> 2 | AU19: =IFERROR(IF(LEN(AS19)=0,"",INDEX($C$68:$L$77,AT19,MATCH(AS19,$AB$31:$AB$40,0))),"") | AV19: =IFERROR(IF(LEN(AU19)=0,"",COUNTIF(AU$7:AU19,AU19)),"") | AW19: {=IFERROR(IF(MAX(($AJ19>=$AF$43:$AF$52)*($AJ19<=$AG$43:$AG$52)*$AA$43:$AA$52)=0,"",INDEX($AB$43:$AB$52,MAX(($AJ19>=$AF$43:$AF$52)*($AJ19<=$AG$43:$AG$52)*$AA$43:$AA$52))),"")} -> Order | AX19: =IFERROR(IF(LEN(AW19)=0,"",COUNTIF(AW$7:AW19,AW19)),"") -> 1 | AY19: =IFERROR(IF(LEN(AW19)=0,"",INDEX($C$83:$L$92,AX19,MATCH(AW19,$AB$43:$AB$52,0))),"") -> 1 | AZ19: =IFERROR(IF(LEN(AY19)=0,"",COUNTIF(AY$7:AY19,AY19)),"") -> 4 | BA19: {=IFERROR(IF(MAX(($AJ19>=$AF$55:$AF$64)*($AJ19<=$AG$55:$AG$64)*$AA$55:$AA$64)=0,"",INDEX($AB$55:$AB$64,MAX(($AJ19>=$AF$55:$AF$64)*($AJ19<=$AG$55:$AG$64)*$AA$55:$AA$64))),"")} | BB19: =IFERROR(IF(LEN(BA19)=0,"",COUNTIF(BA$7:BA19,BA19)),"") | BD19: 13 | BE19: =IFERROR(IF(LEN(AK19)=0,"",AK19&"-"&AL19),"") | BF19: {=IFERROR(IF(AND(COUNTIF($BE$7:$BE19,"")+1=BF$6,LEN($BE19)>0,$AM19>0),MATCH(INDEX($V$7:$V$16,$AM19)&"-"&$AN19,$BQ$7:$BQ$126,0),""),"")} | BG19: {=IFERROR(IF(AND(COUNTIF($BE$7:$BE19,"")+1=BG$6,LEN($BE19)>0,$AM19>0),MATCH(INDEX($V$7:$V$16,$AM19)&"-"&$AN19,$BQ$7:$BQ$126,0),""),"")} | BH19: {=IFERROR(IF(AND(COUNTIF($BE$7:$BE19,"")+1=BH$6,LEN($BE19)>0,$AM19>0),MATCH(INDEX($V$7:$V$16,$AM19)&"-"&$AN19,$BQ$7:$BQ$126,0),""),"")} | BI19: {=IFERROR(IF(AND(COUNTIF($BE$7:$BE19,"")+1=BI$6,LEN($BE19)>0,$AM19>0),MATCH(INDEX($V$7:$V$16,$AM19)&"-"&$AN19,$BQ$7:$BQ$126,0),""),"")} | BJ19: {=IFERROR(IF(AND(COUNTIF($BE$7:$BE19,"")+1=BJ$6,LEN($BE19)>0,$AM19>0),MATCH(INDEX($V$7:$V$16,$AM19)&"-"&$AN19,$BQ$7:$BQ$126,0),""),"")} | BK19: {=IFERROR(IF(AND(COUNTIF($BE$7:$BE19,"")+1=BK$6,LEN($BE19)>0,$AM19>0),MATCH(INDEX($V$7:$V$16,$AM19)&"-"&$AN19,$BQ$7:$BQ$126,0),""),"")} | BL19: {=IFERROR(IF(AND(COUNTIF($BE$7:$BE19,"")+1=BL$6,LEN($BE19)>0,$AM19>0),MATCH(INDEX($V$7:$V$16,$AM19)&"-"&$AN19,$BQ$7:$BQ$126,0),""),"")} | BM19: {=IFERROR(IF(AND(COUNTIF($BE$7:$BE19,"")+1=BM$6,LEN($BE19)>0,$AM19>0),MATCH(INDEX($V$7:$V$16,$AM19)&"-"&$AN19,$BQ$7:$BQ$126,0),""),"")} | ... BP19: {=IFERROR(IF(AND(COUNTIF($BE$7:$BE19,"")+1=BP$6,LEN($BE19)>0,$AM19>0),MATCH(INDEX($V$7:$V$16,$AM19)&"-"&$AN19,$BQ$7:$BQ$126,0),""),"")} | BQ19: =IF(LEN(AO19)=0,"",AO19&"-"&AP19) | BR19: {=IFERROR(IF(AND(COUNTIF($BQ$7:$BQ19,"")+1=BR$6,LEN($BQ19)>0,$AQ19>0),MATCH(INDEX($W$7:$W$16,$AQ19)&"-"&$AR19,$CC$7:$CC$126,0),""),"")} | BS19: {=IFERROR(IF(AND(COUNTIF($BQ$7:$BQ19,"")+1=BS$6,LEN($BQ19)>0,$AQ19>0),MATCH(INDEX($W$7:$W$16,$AQ19)&"-"&$AR19,$CC$7:$CC$126,0),""),"")} | BT19: {=IFERROR(IF(AND(COUNTIF($BQ$7:$BQ19,"")+1=BT$6,LEN($BQ19)>0,$AQ19>0),MATCH(INDEX($W$7:$W$16,$AQ19)&"-"&$AR19,$CC$7:$CC$126,0),""),"")} | BU19: {=IFERROR(IF(AND(COUNTIF($BQ$7:$BQ19,"")+1=BU$6,LEN($BQ19)>0,$AQ19>0),MATCH(INDEX($W$7:$W$16,$AQ19)&"-"&$AR19,$CC$7:$CC$126,0),""),"")} | BV19: {=IFERROR(IF(AND(COUNTIF($BQ$7:$BQ19,"")+1=BV$6,LEN($BQ19)>0,$AQ19>0),MATCH(INDEX($W$7:$W$16,$AQ19)&"-"&$AR19,$CC$7:$CC$126,0),""),"")} | BW19: {=IFERROR(IF(AND(COUNTIF($BQ$7:$BQ19,"")+1=BW$6,LEN($BQ19)>0,$AQ19>0),MATCH(INDEX($W$7:$W$16,$AQ19)&"-"&$AR19,$CC$7:$CC$126,0),""),"")} | BX19: {=IFERROR(IF(AND(COUNTIF($BQ$7:$BQ19,"")+1=BX$6,LEN($BQ19)>0,$AQ19>0),MATCH(INDEX($W$7:$W$16,$AQ19)&"-"&$AR19,$CC$7:$CC$126,0),""),"")} | BY19: {=IFERROR(IF(AND(COUNTIF($BQ$7:$BQ19,"")+1=BY$6,LEN($BQ19)>0,$AQ19>0),MATCH(INDEX($W$7:$W$16,$AQ19)&"-"&$AR19,$CC$7:$CC$126,0),""),"")} | ... CB19: {=IFERROR(IF(AND(COUNTIF($BQ$7:$BQ19,"")+1=CB$6,LEN($BQ19)>0,$AQ19>0),MATCH(INDEX($W$7:$W$16,$AQ19)&"-"&$AR19,$CC$7:$CC$126,0),""),"")} | CC19: =IFERROR(IF(LEN(AS19)=0,"",AS19&"-"&AT19),"") -> Serving the order-2 | CD19: {=IFERROR(IF(AND(COUNTIF($CC$7:$CC19,"")+1=CD$6,LEN($CC19)>0,$AU19>0),MATCH(INDEX($X$7:$X$16,$AU19)&"-"&$AV19,$CO$7:$CO$126,0),""),"")} | CE19: {=IFERROR(IF(AND(COUNTIF($CC$7:$CC19,"")+1=CE$6,LEN($CC19)>0,$AU19>0),MATCH(INDEX($X$7:$X$16,$AU19)&"-"&$AV19,$CO$7:$CO$126,0),""),"")} | CF19: {=IFERROR(IF(AND(COUNTIF($CC$7:$CC19,"")+1=CF$6,LEN($CC19)>0,$AU19>0),MATCH(INDEX($X$7:$X$16,$AU19)&"-"&$AV19,$CO$7:$CO$126,0),""),"")} | CG19: {=IFERROR(IF(AND(COUNTIF($CC$7:$CC19,"")+1=CG$6,LEN($CC19)>0,$AU19>0),MATCH(INDEX($X$7:$X$16,$AU19)&"-"&$AV19,$CO$7:$CO$126,0),""),"")} | CH19: {=IFERROR(IF(AND(COUNTIF($CC$7:$CC19,"")+1=CH$6,LEN($CC19)>0,$AU19>0),MATCH(INDEX($X$7:$X$16,$AU19)&"-"&$AV19,$CO$7:$CO$126,0),""),"")} | CI19: {=IFERROR(IF(AND(COUNTIF($CC$7:$CC19,"")+1=CI$6,LEN($CC19)>0,$AU19>0),MATCH(INDEX($X$7:$X$16,$AU19)&"-"&$AV19,$CO$7:$CO$126,0),""),"")} | CJ19: {=IFERROR(IF(AND(COUNTIF($CC$7:$CC19,"")+1=CJ$6,LEN($CC19)>0,$AU19>0),MATCH(INDEX($X$7:$X$16,$AU19)&"-"&$AV19,$CO$7:$CO$126,0),""),"")} | CK19: {=IFERROR(IF(AND(COUNTIF($CC$7:$CC19,"")+1=CK$6,LEN($CC19)>0,$AU19>0),MATCH(INDEX($X$7:$X$16,$AU19)&"-"&$AV19,$CO$7:$CO$126,0),""),"")} | ... CN19: {=IFERROR(IF(AND(COUNTIF($CC$7:$CC19,"")+1=CN$6,LEN($CC19)>0,$AU19>0),MATCH(INDEX($X$7:$X$16,$AU19)&"-"&$AV19,$CO$7:$CO$126,0),""),"")} | CO19: =IFERROR(IF(LEN(AW19)=0,"",AW19&"-"&AX19),"") -> Order-1 | CP19: {=IFERROR(IF(AND(COUNTIF($CO$7:$CO19,"")+1=CP$6,LEN($CO19)>0,$AY19>0),MATCH(INDEX($Y$7:$Y$16,$AY19)&"-"&$AZ19,$DA$7:$DA$126,0),""),"")} | CQ19: {=IFERROR(IF(AND(COUNTIF($CO$7:$CO19,"")+1=CQ$6,LEN($CO19)>0,$AY19>0),MATCH(INDEX($Y$7:$Y$16,$AY19)&"-"&$AZ19,$DA$7:$DA$126,0),""),"")} | CR19: {=IFERROR(IF(AND(COUNTIF($CO$7:$CO19,"")+1=CR$6,LEN($CO19)>0,$AY19>0),MATCH(INDEX($Y$7:$Y$16,$AY19)&"-"&$AZ19,$DA$7:$DA$126,0),""),"")} | CS19: {=IFERROR(IF(AND(COUNTIF($CO$7:$CO19,"")+1=CS$6,LEN($CO19)>0,$AY19>0),MATCH(INDEX($Y$7:$Y$16,$AY19)&"-"&$AZ19,$DA$7:$DA$126,0),""),"")} | CT19: {=IFERROR(IF(AND(COUNTIF($CO$7:$CO19,"")+1=CT$6,LEN($CO19)>0,$AY19>0),MATCH(INDEX($Y$7:$Y$16,$AY19)&"-"&$AZ19,$DA$7:$DA$126,0),""),"")} -> 4 | CU19: {=IFERROR(IF(AND(COUNTIF($CO$7:$CO19,"")+1=CU$6,LEN($CO19)>0,$AY19>0),MATCH(INDEX($Y$7:$Y$16,$AY19)&"-"&$AZ19,$DA$7:$DA$126,0),""),"")} | CV19: {=IFERROR(IF(AND(COUNTIF($CO$7:$CO19,"")+1=CV$6,LEN($CO19)>0,$AY19>0),MATCH(INDEX($Y$7:$Y$16,$AY19)&"-"&$AZ19,$DA$7:$DA$126,0),""),"")} | CW19: {=IFERROR(IF(AND(COUNTIF($CO$7:$CO19,"")+1=CW$6,LEN($CO19)>0,$AY19>0),MATCH(INDEX($Y$7:$Y$16,$AY19)&"-"&$AZ19,$DA$7:$DA$126,0),""),"")} | ... CZ19: {=IFERROR(IF(AND(COUNTIF($CO$7:$CO19,"")+1=CZ$6,LEN($CO19)>0,$AY19>0),MATCH(INDEX($Y$7:$Y$16,$AY19)&"-"&$AZ19,$DA$7:$DA$126,0),""),"")} | DA19: =IF(LEN(BA19)=0,"",BA19&"-"&BB19) | DC19: {=IFERROR(IF(LEN(BQ19)=0,"",SUM((BF$7:BO$126=$BD19)*(BF$6:BO$6))),"")} | DD19: {=IFERROR(IF(LEN(CC19)=0,"",SUM((BR$7:CA$126=$BD19)*(BR$6:CA$6))),"")} -> 6 | DE19: {=IFERROR(IF(LEN(CO19)=0,"",SUM((CD$7:CM$126=$BD19)*(CD$6:CM$6))),"")} -> 4 | DF19: {=IFERROR(IF(LEN(DA19)=0,"",SUM((CP$7:CY$126=$BD19)*(CP$6:CY$6))),"")}
O20: 4 | P20: 2 | Q20: =IFERROR(INDEX($C$8:$L$17,$O20,$P20),"") | R20: =IFERROR(INDEX($C$23:$L$32,$O20,$P20),"") | U20: Supplier | V20: Input | W20: Process | X20: Output | Y20: Customer | AA20: 2 | AB20: =V8 -> Money | AC20: =IFERROR(IF(LEN(AB20)=0,"",INDEX($M$8:$M$17,AA20)),"") -> 1 | AD20: =IFERROR(IF(LEN(AB20)=0,"",INDEX($C$33:$L$33,AA20)),"") -> 2 | AE20: =IF(LEN(AB20)=0,"",MAX(AC20:AD20)) -> 2 | AF20: =IFERROR(IF(LEN(AB20)=0,"",MAX($AG$19:AG19)+2),"") -> 4 | AG20: =IFERROR(IF(LEN(AB20)=0,"",AF20+AE20),"") -> 6 | AH20: =IFERROR(IF(LEN(AB20)=0,"",ROUNDDOWN((AG20-AF20)/2,0)+AF20),"") -> 5 | AJ20: 14 | AK20: {=IFERROR(IF(MAX(($AJ20>=$AF$7:$AF$16)*($AJ20<=$AG$7:$AG$16)*$AA$7:$AA$16)=0,"",INDEX($AB$7:$AB$16,MAX(($AJ20>=$AF$7:$AF$16)*($AJ20<=$AG$7:$AG$16)*$AA$7:$AA$16))),"")} | AL20: =IFERROR(IF(LEN(AK20)=0,"",COUNTIF(AK$7:AK20,AK20)),"") | AM20: {=IFERROR(IF(LEN(AK20)=0,"",LARGE((AK20=$R$7:$R$126)*($P$7:$P$126),COUNTIF(AK20:AK$126,AK20)-1)),"")} | AN20: =IFERROR(IF(LEN(AK20)=0,"",COUNTIF(AM$7:AM20,AM20)),"") | AO20: {=IFERROR(IF(MAX(($AJ20>=$AF$19:$AF$28)*($AJ20<=$AG$19:$AG$28)*$AA$19:$AA$28)=0,"",INDEX($AB$19:$AB$28,MAX(($AJ20>=$AF$19:$AF$28)*($AJ20<=$AG$19:$AG$28)*$AA$19:$AA$28))),"")} -> Cookie | AP20: =IFERROR(IF(LEN(AO20)=0,"",COUNTIF(AO$7:AO20,AO20)),"") -> 1 | AQ20: {=IFERROR(IF(LEN(AO20)=0,"",LARGE((AO20=$Q$7:$Q$126)*($P$7:$P$126),COUNTIF(AO20:AO$126,AO20)-1)),"")} -> 4 | AR20: =IFERROR(IF(LEN(AO20)=0,"",COUNTIF(AQ$7:AQ20,AQ20)),"") -> 1 | AS20: {=IFERROR(IF(MAX(($AJ20>=$AF$31:$AF$40)*($AJ20<=$AG$31:$AG$40)*$AA$31:$AA$40)=0,"",INDEX($AB$31:$AB$40,MAX(($AJ20>=$AF$31:$AF$40)*($AJ20<=$AG$31:$AG$40)*$AA$31:$AA$40))),"")} -> Serving the order | AT20: =IFERROR(IF(LEN(AS20)=0,"",COUNTIF(AS$7:AS20,AS20)),"") -> 3 | AU20: =IFERROR(IF(LEN(AS20)=0,"",INDEX($C$68:$L$77,AT20,MATCH(AS20,$AB$31:$AB$40,0))),"") | AV20: =IFERROR(IF(LEN(AU20)=0,"",COUNTIF(AU$7:AU20,AU20)),"") | AW20: {=IFERROR(IF(MAX(($AJ20>=$AF$43:$AF$52)*($AJ20<=$AG$43:$AG$52)*$AA$43:$AA$52)=0,"",INDEX($AB$43:$AB$52,MAX(($AJ20>=$AF$43:$AF$52)*($AJ20<=$AG$43:$AG$52)*$AA$43:$AA$52))),"")} -> Order | AX20: =IFERROR(IF(LEN(AW20)=0,"",COUNTIF(AW$7:AW20,AW20)),"") -> 2 | AY20: =IFERROR(IF(LEN(AW20)=0,"",INDEX($C$83:$L$92,AX20,MATCH(AW20,$AB$43:$AB$52,0))),"") | AZ20: =IFERROR(IF(LEN(AY20)=0,"",COUNTIF(AY$7:AY20,AY20)),"") | BA20: {=IFERROR(IF(MAX(($AJ20>=$AF$55:$AF$64)*($AJ20<=$AG$55:$AG$64)*$AA$55:$AA$64)=0,"",INDEX($AB$55:$AB$64,MAX(($AJ20>=$AF$55:$AF$64)*($AJ20<=$AG$55:$AG$64)*$AA$55:$AA$64))),"")} | BB20: =IFERROR(IF(LEN(BA20)=0,"",COUNTIF(BA$7:BA20,BA20)),"") | BD20: 14 | BE20: =IFERROR(IF(LEN(AK20)=0,"",AK20&"-"&AL20),"") | BF20: {=IFERROR(IF(AND(COUNTIF($BE$7:$BE20,"")+1=BF$6,LEN($BE20)>0,$AM20>0),MATCH(INDEX($V$7:$V$16,$AM20)&"-"&$AN20,$BQ$7:$BQ$126,0),""),"")} | BG20: {=IFERROR(IF(AND(COUNTIF($BE$7:$BE20,"")+1=BG$6,LEN($BE20)>0,$AM20>0),MATCH(INDEX($V$7:$V$16,$AM20)&"-"&$AN20,$BQ$7:$BQ$126,0),""),"")} | BH20: {=IFERROR(IF(AND(COUNTIF($BE$7:$BE20,"")+1=BH$6,LEN($BE20)>0,$AM20>0),MATCH(INDEX($V$7:$V$16,$AM20)&"-"&$AN20,$BQ$7:$BQ$126,0),""),"")} | BI20: {=IFERROR(IF(AND(COUNTIF($BE$7:$BE20,"")+1=BI$6,LEN($BE20)>0,$AM20>0),MATCH(INDEX($V$7:$V$16,$AM20)&"-"&$AN20,$BQ$7:$BQ$126,0),""),"")} | BJ20: {=IFERROR(IF(AND(COUNTIF($BE$7:$BE20,"")+1=BJ$6,LEN($BE20)>0,$AM20>0),MATCH(INDEX($V$7:$V$16,$AM20)&"-"&$AN20,$BQ$7:$BQ$126,0),""),"")} | BK20: {=IFERROR(IF(AND(COUNTIF($BE$7:$BE20,"")+1=BK$6,LEN($BE20)>0,$AM20>0),MATCH(INDEX($V$7:$V$16,$AM20)&"-"&$AN20,$BQ$7:$BQ$126,0),""),"")} | BL20: {=IFERROR(IF(AND(COUNTIF($BE$7:$BE20,"")+1=BL$6,LEN($BE20)>0,$AM20>0),MATCH(INDEX($V$7:$V$16,$AM20)&"-"&$AN20,$BQ$7:$BQ$126,0),""),"")} | BM20: {=IFERROR(IF(AND(COUNTIF($BE$7:$BE20,"")+1=BM$6,LEN($BE20)>0,$AM20>0),MATCH(INDEX($V$7:$V$16,$AM20)&"-"&$AN20,$BQ$7:$BQ$126,0),""),"")} | ... BP20: {=IFERROR(IF(AND(COUNTIF($BE$7:$BE20,"")+1=BP$6,LEN($BE20)>0,$AM20>0),MATCH(INDEX($V$7:$V$16,$AM20)&"-"&$AN20,$BQ$7:$BQ$126,0),""),"")} | BQ20: =IF(LEN(AO20)=0,"",AO20&"-"&AP20) -> Cookie-1 | BR20: {=IFERROR(IF(AND(COUNTIF($BQ$7:$BQ20,"")+1=BR$6,LEN($BQ20)>0,$AQ20>0),MATCH(INDEX($W$7:$W$16,$AQ20)&"-"&$AR20,$CC$7:$CC$126,0),""),"")} | BS20: {=IFERROR(IF(AND(COUNTIF($BQ$7:$BQ20,"")+1=BS$6,LEN($BQ20)>0,$AQ20>0),MATCH(INDEX($W$7:$W$16,$AQ20)&"-"&$AR20,$CC$7:$CC$126,0),""),"")} | BT20: {=IFERROR(IF(AND(COUNTIF($BQ$7:$BQ20,"")+1=BT$6,LEN($BQ20)>0,$AQ20>0),MATCH(INDEX($W$7:$W$16,$AQ20)&"-"&$AR20,$CC$7:$CC$126,0),""),"")} | BU20: {=IFERROR(IF(AND(COUNTIF($BQ$7:$BQ20,"")+1=BU$6,LEN($BQ20)>0,$AQ20>0),MATCH(INDEX($W$7:$W$16,$AQ20)&"-"&$AR20,$CC$7:$CC$126,0),""),"")} | BV20: {=IFERROR(IF(AND(COUNTIF($BQ$7:$BQ20,"")+1=BV$6,LEN($BQ20)>0,$AQ20>0),MATCH(INDEX($W$7:$W$16,$AQ20)&"-"&$AR20,$CC$7:$CC$126,0),""),"")} -> 12 | BW20: {=IFERROR(IF(AND(COUNTIF($BQ$7:$BQ20,"")+1=BW$6,LEN($BQ20)>0,$AQ20>0),MATCH(INDEX($W$7:$W$16,$AQ20)&"-"&$AR20,$CC$7:$CC$126,0),""),"")} | BX20: {=IFERROR(IF(AND(COUNTIF($BQ$7:$BQ20,"")+1=BX$6,LEN($BQ20)>0,$AQ20>0),MATCH(INDEX($W$7:$W$16,$AQ20)&"-"&$AR20,$CC$7:$CC$126,0),""),"")} | BY20: {=IFERROR(IF(AND(COUNTIF($BQ$7:$BQ20,"")+1=BY$6,LEN($BQ20)>0,$AQ20>0),MATCH(INDEX($W$7:$W$16,$AQ20)&"-"&$AR20,$CC$7:$CC$126,0),""),"")} | ... CB20: {=IFERROR(IF(AND(COUNTIF($BQ$7:$BQ20,"")+1=CB$6,LEN($BQ20)>0,$AQ20>0),MATCH(INDEX($W$7:$W$16,$AQ20)&"-"&$AR20,$CC$7:$CC$126,0),""),"")} | CC20: =IFERROR(IF(LEN(AS20)=0,"",AS20&"-"&AT20),"") -> Serving the order-3 | CD20: {=IFERROR(IF(AND(COUNTIF($CC$7:$CC20,"")+1=CD$6,LEN($CC20)>0,$AU20>0),MATCH(INDEX($X$7:$X$16,$AU20)&"-"&$AV20,$CO$7:$CO$126,0),""),"")} | CE20: {=IFERROR(IF(AND(COUNTIF($CC$7:$CC20,"")+1=CE$6,LEN($CC20)>0,$AU20>0),MATCH(INDEX($X$7:$X$16,$AU20)&"-"&$AV20,$CO$7:$CO$126,0),""),"")} | CF20: {=IFERROR(IF(AND(COUNTIF($CC$7:$CC20,"")+1=CF$6,LEN($CC20)>0,$AU20>0),MATCH(INDEX($X$7:$X$16,$AU20)&"-"&$AV20,$CO$7:$CO$126,0),""),"")} | CG20: {=IFERROR(IF(AND(COUNTIF($CC$7:$CC20,"")+1=CG$6,LEN($CC20)>0,$AU20>0),MATCH(INDEX($X$7:$X$16,$AU20)&"-"&$AV20,$CO$7:$CO$126,0),""),"")} | CH20: {=IFERROR(IF(AND(COUNTIF($CC$7:$CC20,"")+1=CH$6,LEN($CC20)>0,$AU20>0),MATCH(INDEX($X$7:$X$16,$AU20)&"-"&$AV20,$CO$7:$CO$126,0),""),"")} | CI20: {=IFERROR(IF(AND(COUNTIF($CC$7:$CC20,"")+1=CI$6,LEN($CC20)>0,$AU20>0),MATCH(INDEX($X$7:$X$16,$AU20)&"-"&$AV20,$CO$7:$CO$126,0),""),"")} | CJ20: {=IFERROR(IF(AND(COUNTIF($CC$7:$CC20,"")+1=CJ$6,LEN($CC20)>0,$AU20>0),MATCH(INDEX($X$7:$X$16,$AU20)&"-"&$AV20,$CO$7:$CO$126,0),""),"")} | CK20: {=IFERROR(IF(AND(COUNTIF($CC$7:$CC20,"")+1=CK$6,LEN($CC20)>0,$AU20>0),MATCH(INDEX($X$7:$X$16,$AU20)&"-"&$AV20,$CO$7:$CO$126,0),""),"")} | ... CN20: {=IFERROR(IF(AND(COUNTIF($CC$7:$CC20,"")+1=CN$6,LEN($CC20)>0,$AU20>0),MATCH(INDEX($X$7:$X$16,$AU20)&"-"&$AV20,$CO$7:$CO$126,0),""),"")} | CO20: =IFERROR(IF(LEN(AW20)=0,"",AW20&"-"&AX20),"") -> Order-2 | CP20: {=IFERROR(IF(AND(COUNTIF($CO$7:$CO20,"")+1=CP$6,LEN($CO20)>0,$AY20>0),MATCH(INDEX($Y$7:$Y$16,$AY20)&"-"&$AZ20,$DA$7:$DA$126,0),""),"")} | CQ20: {=IFERROR(IF(AND(COUNTIF($CO$7:$CO20,"")+1=CQ$6,LEN($CO20)>0,$AY20>0),MATCH(INDEX($Y$7:$Y$16,$AY20)&"-"&$AZ20,$DA$7:$DA$126,0),""),"")} | CR20: {=IFERROR(IF(AND(COUNTIF($CO$7:$CO20,"")+1=CR$6,LEN($CO20)>0,$AY20>0),MATCH(INDEX($Y$7:$Y$16,$AY20)&"-"&$AZ20,$DA$7:$DA$126,0),""),"")} | CS20: {=IFERROR(IF(AND(COUNTIF($CO$7:$CO20,"")+1=CS$6,LEN($CO20)>0,$AY20>0),MATCH(INDEX($Y$7:$Y$16,$AY20)&"-"&$AZ20,$DA$7:$DA$126,0),""),"")} | CT20: {=IFERROR(IF(AND(COUNTIF($CO$7:$CO20,"")+1=CT$6,LEN($CO20)>0,$AY20>0),MATCH(INDEX($Y$7:$Y$16,$AY20)&"-"&$AZ20,$DA$7:$DA$126,0),""),"")} | CU20: {=IFERROR(IF(AND(COUNTIF($CO$7:$CO20,"")+1=CU$6,LEN($CO20)>0,$AY20>0),MATCH(INDEX($Y$7:$Y$16,$AY20)&"-"&$AZ20,$DA$7:$DA$126,0),""),"")} | CV20: {=IFERROR(IF(AND(COUNTIF($CO$7:$CO20,"")+1=CV$6,LEN($CO20)>0,$AY20>0),MATCH(INDEX($Y$7:$Y$16,$AY20)&"-"&$AZ20,$DA$7:$DA$126,0),""),"")} | CW20: {=IFERROR(IF(AND(COUNTIF($CO$7:$CO20,"")+1=CW$6,LEN($CO20)>0,$AY20>0),MATCH(INDEX($Y$7:$Y$16,$AY20)&"-"&$AZ20,$DA$7:$DA$126,0),""),"")} | ... CZ20: {=IFERROR(IF(AND(COUNTIF($CO$7:$CO20,"")+1=CZ$6,LEN($CO20)>0,$AY20>0),MATCH(INDEX($Y$7:$Y$16,$AY20)&"-"&$AZ20,$DA$7:$DA$126,0),""),"")} | DA20: =IF(LEN(BA20)=0,"",BA20&"-"&BB20) | DC20: {=IFERROR(IF(LEN(BQ20)=0,"",SUM((BF$7:BO$126=$BD20)*(BF$6:BO$6))),"")} -> 3 | DD20: {=IFERROR(IF(LEN(CC20)=0,"",SUM((BR$7:CA$126=$BD20)*(BR$6:CA$6))),"")} -> 0 | DE20: {=IFERROR(IF(LEN(CO20)=0,"",SUM((CD$7:CM$126=$BD20)*(CD$6:CM$6))),"")} -> 0 | DF20: {=IFERROR(IF(LEN(DA20)=0,"",SUM((CP$7:CY$126=$BD20)*(CP$6:CY$6))),"")}
B21: Index | C21: 1 | D21: 2 | E21: 3 | F21: 4 | G21: 5 | H21: 6 | I21: 7 | J21: 8 | K21: 9 | L21: 10 | O21: 5 | P21: 2 | Q21: =IFERROR(INDEX($C$8:$L$17,$O21,$P21),"") | R21: =IFERROR(INDEX($C$23:$L$32,$O21,$P21),"") | T21: 1 | U21: {=IFERROR(INDEX(U$7:U$16,SMALL(IF(LEN(U$7:U$16)>0,$T$7:$T$16,""),$T21)),"")} -> Customer | V21: {=IFERROR(INDEX(V$7:V$16,SMALL(IF(LEN(V$7:V$16)>0,$T$7:$T$16,""),$T21)),"")} -> Queue | W21: {=IFERROR(INDEX(W$7:W$16,SMALL(IF(LEN(W$7:W$16)>0,$T$7:$T$16,""),$T21)),"")} -> Customer goes to the queue | X21: {=IFERROR(INDEX(X$7:X$16,SMALL(IF(LEN(X$7:X$16)>0,$T$7:$T$16,""),$T21)),"")} -> Giving a queue number | Y21: {=IFERROR(INDEX(Y$7:Y$16,SMALL(IF(LEN(Y$7:Y$16)>0,$T$7:$T$16,""),$T21)),"")} -> Customer | AA21: 3 | AB21: =V9 -> Coffee beans | AC21: =IFERROR(IF(LEN(AB21)=0,"",INDEX($M$8:$M$17,AA21)),"") -> 1 | AD21: =IFERROR(IF(LEN(AB21)=0,"",INDEX($C$33:$L$33,AA21)),"") -> 1 | AE21: =IF(LEN(AB21)=0,"",MAX(AC21:AD21)) -> 1 | AF21: =IFERROR(IF(LEN(AB21)=0,"",MAX($AG$19:AG20)+2),"") -> 8 | AG21: =IFERROR(IF(LEN(AB21)=0,"",AF21+AE21),"") -> 9 | AH21: =IFERROR(IF(LEN(AB21)=0,"",ROUNDDOWN((AG21-AF21)/2,0)+AF21),"") -> 8 | AJ21: 15 | AK21: {=IFERROR(IF(MAX(($AJ21>=$AF$7:$AF$16)*($AJ21<=$AG$7:$AG$16)*$AA$7:$AA$16)=0,"",INDEX($AB$7:$AB$16,MAX(($AJ21>=$AF$7:$AF$16)*($AJ21<=$AG$7:$AG$16)*$AA$7:$AA$16))),"")} | AL21: =IFERROR(IF(LEN(AK21)=0,"",COUNTIF(AK$7:AK21,AK21)),"") | AM21: {=IFERROR(IF(LEN(AK21)=0,"",LARGE((AK21=$R$7:$R$126)*($P$7:$P$126),COUNTIF(AK21:AK$126,AK21)-1)),"")} | AN21: =IFERROR(IF(LEN(AK21)=0,"",COUNTIF(AM$7:AM21,AM21)),"") | AO21: {=IFERROR(IF(MAX(($AJ21>=$AF$19:$AF$28)*($AJ21<=$AG$19:$AG$28)*$AA$19:$AA$28)=0,"",INDEX($AB$19:$AB$28,MAX(($AJ21>=$AF$19:$AF$28)*($AJ21<=$AG$19:$AG$28)*$AA$19:$AA$28))),"")} -> Cookie | AP21: =IFERROR(IF(LEN(AO21)=0,"",COUNTIF(AO$7:AO21,AO21)),"") -> 2 | AQ21: {=IFERROR(IF(LEN(AO21)=0,"",LARGE((AO21=$Q$7:$Q$126)*($P$7:$P$126),COUNTIF(AO21:AO$126,AO21)-1)),"")} | AR21: =IFERROR(IF(LEN(AO21)=0,"",COUNTIF(AQ$7:AQ21,AQ21)),"") -> 9 | AS21: {=IFERROR(IF(MAX(($AJ21>=$AF$31:$AF$40)*($AJ21<=$AG$31:$AG$40)*$AA$31:$AA$40)=0,"",INDEX($AB$31:$AB$40,MAX(($AJ21>=$AF$31:$AF$40)*($AJ21<=$AG$31:$AG$40)*$AA$31:$AA$40))),"")} | AT21: =IFERROR(IF(LEN(AS21)=0,"",COUNTIF(AS$7:AS21,AS21)),"") | AU21: =IFERROR(IF(LEN(AS21)=0,"",INDEX($C$68:$L$77,AT21,MATCH(AS21,$AB$31:$AB$40,0))),"") | AV21: =IFERROR(IF(LEN(AU21)=0,"",COUNTIF(AU$7:AU21,AU21)),"") | AW21: {=IFERROR(IF(MAX(($AJ21>=$AF$43:$AF$52)*($AJ21<=$AG$43:$AG$52)*$AA$43:$AA$52)=0,"",INDEX($AB$43:$AB$52,MAX(($AJ21>=$AF$43:$AF$52)*($AJ21<=$AG$43:$AG$52)*$AA$43:$AA$52))),"")} | AX21: =IFERROR(IF(LEN(AW21)=0,"",COUNTIF(AW$7:AW21,AW21)),"") | AY21: =IFERROR(IF(LEN(AW21)=0,"",INDEX($C$83:$L$92,AX21,MATCH(AW21,$AB$43:$AB$52,0))),"") | AZ21: =IFERROR(IF(LEN(AY21)=0,"",COUNTIF(AY$7:AY21,AY21)),"") | BA21: {=IFERROR(IF(MAX(($AJ21>=$AF$55:$AF$64)*($AJ21<=$AG$55:$AG$64)*$AA$55:$AA$64)=0,"",INDEX($AB$55:$AB$64,MAX(($AJ21>=$AF$55:$AF$64)*($AJ21<=$AG$55:$AG$64)*$AA$55:$AA$64))),"")} | BB21: =IFERROR(IF(LEN(BA21)=0,"",COUNTIF(BA$7:BA21,BA21)),"") | BD21: 15 | BE21: =IFERROR(IF(LEN(AK21)=0,"",AK21&"-"&AL21),"") | BF21: {=IFERROR(IF(AND(COUNTIF($BE$7:$BE21,"")+1=BF$6,LEN($BE21)>0,$AM21>0),MATCH(INDEX($V$7:$V$16,$AM21)&"-"&$AN21,$BQ$7:$BQ$126,0),""),"")} | BG21: {=IFERROR(IF(AND(COUNTIF($BE$7:$BE21,"")+1=BG$6,LEN($BE21)>0,$AM21>0),MATCH(INDEX($V$7:$V$16,$AM21)&"-"&$AN21,$BQ$7:$BQ$126,0),""),"")} | BH21: {=IFERROR(IF(AND(COUNTIF($BE$7:$BE21,"")+1=BH$6,LEN($BE21)>0,$AM21>0),MATCH(INDEX($V$7:$V$16,$AM21)&"-"&$AN21,$BQ$7:$BQ$126,0),""),"")} | BI21: {=IFERROR(IF(AND(COUNTIF($BE$7:$BE21,"")+1=BI$6,LEN($BE21)>0,$AM21>0),MATCH(INDEX($V$7:$V$16,$AM21)&"-"&$AN21,$BQ$7:$BQ$126,0),""),"")} | BJ21: {=IFERROR(IF(AND(COUNTIF($BE$7:$BE21,"")+1=BJ$6,LEN($BE21)>0,$AM21>0),MATCH(INDEX($V$7:$V$16,$AM21)&"-"&$AN21,$BQ$7:$BQ$126,0),""),"")} | BK21: {=IFERROR(IF(AND(COUNTIF($BE$7:$BE21,"")+1=BK$6,LEN($BE21)>0,$AM21>0),MATCH(INDEX($V$7:$V$16,$AM21)&"-"&$AN21,$BQ$7:$BQ$126,0),""),"")} | BL21: {=IFERROR(IF(AND(COUNTIF($BE$7:$BE21,"")+1=BL$6,LEN($BE21)>0,$AM21>0),MATCH(INDEX($V$7:$V$16,$AM21)&"-"&$AN21,$BQ$7:$BQ$126,0),""),"")} | BM21: {=IFERROR(IF(AND(COUNTIF($BE$7:$BE21,"")+1=BM$6,LEN($BE21)>0,$AM21>0),MATCH(INDEX($V$7:$V$16,$AM21)&"-"&$AN21,$BQ$7:$BQ$126,0),""),"")} | ... BP21: {=IFERROR(IF(AND(COUNTIF($BE$7:$BE21,"")+1=BP$6,LEN($BE21)>0,$AM21>0),MATCH(INDEX($V$7:$V$16,$AM21)&"-"&$AN21,$BQ$7:$BQ$126,0),""),"")} | BQ21: =IF(LEN(AO21)=0,"",AO21&"-"&AP21) -> Cookie-2 | BR21: {=IFERROR(IF(AND(COUNTIF($BQ$7:$BQ21,"")+1=BR$6,LEN($BQ21)>0,$AQ21>0),MATCH(INDEX($W$7:$W$16,$AQ21)&"-"&$AR21,$CC$7:$CC$126,0),""),"")} | BS21: {=IFERROR(IF(AND(COUNTIF($BQ$7:$BQ21,"")+1=BS$6,LEN($BQ21)>0,$AQ21>0),MATCH(INDEX($W$7:$W$16,$AQ21)&"-"&$AR21,$CC$7:$CC$126,0),""),"")} | BT21: {=IFERROR(IF(AND(COUNTIF($BQ$7:$BQ21,"")+1=BT$6,LEN($BQ21)>0,$AQ21>0),MATCH(INDEX($W$7:$W$16,$AQ21)&"-"&$AR21,$CC$7:$CC$126,0),""),"")} | BU21: {=IFERROR(IF(AND(COUNTIF($BQ$7:$BQ21,"")+1=BU$6,LEN($BQ21)>0,$AQ21>0),MATCH(INDEX($W$7:$W$16,$AQ21)&"-"&$AR21,$CC$7:$CC$126,0),""),"")} | BV21: {=IFERROR(IF(AND(COUNTIF($BQ$7:$BQ21,"")+1=BV$6,LEN($BQ21)>0,$AQ21>0),MATCH(INDEX($W$7:$W$16,$AQ21)&"-"&$AR21,$CC$7:$CC$126,0),""),"")} | BW21: {=IFERROR(IF(AND(COUNTIF($BQ$7:$BQ21,"")+1=BW$6,LEN($BQ21)>0,$AQ21>0),MATCH(INDEX($W$7:$W$16,$AQ21)&"-"&$AR21,$CC$7:$CC$126,0),""),"")} | BX21: {=IFERROR(IF(AND(COUNTIF($BQ$7:$BQ21,"")+1=BX$6,LEN($BQ21)>0,$AQ21>0),MATCH(INDEX($W$7:$W$16,$AQ21)&"-"&$AR21,$CC$7:$CC$126,0),""),"")} | BY21: {=IFERROR(IF(AND(COUNTIF($BQ$7:$BQ21,"")+1=BY$6,LEN($BQ21)>0,$AQ21>0),MATCH(INDEX($W$7:$W$16,$AQ21)&"-"&$AR21,$CC$7:$CC$126,0),""),"")} | ... CB21: {=IFERROR(IF(AND(COUNTIF($BQ$7:$BQ21,"")+1=CB$6,LEN($BQ21)>0,$AQ21>0),MATCH(INDEX($W$7:$W$16,$AQ21)&"-"&$AR21,$CC$7:$CC$126,0),""),"")} | CC21: =IFERROR(IF(LEN(AS21)=0,"",AS21&"-"&AT21),"") | CD21: {=IFERROR(IF(AND(COUNTIF($CC$7:$CC21,"")+1=CD$6,LEN($CC21)>0,$AU21>0),MATCH(INDEX($X$7:$X$16,$AU21)&"-"&$AV21,$CO$7:$CO$126,0),""),"")} | CE21: {=IFERROR(IF(AND(COUNTIF($CC$7:$CC21,"")+1=CE$6,LEN($CC21)>0,$AU21>0),MATCH(INDEX($X$7:$X$16,$AU21)&"-"&$AV21,$CO$7:$CO$126,0),""),"")} | CF21: {=IFERROR(IF(AND(COUNTIF($CC$7:$CC21,"")+1=CF$6,LEN($CC21)>0,$AU21>0),MATCH(INDEX($X$7:$X$16,$AU21)&"-"&$AV21,$CO$7:$CO$126,0),""),"")} | CG21: {=IFERROR(IF(AND(COUNTIF($CC$7:$CC21,"")+1=CG$6,LEN($CC21)>0,$AU21>0),MATCH(INDEX($X$7:$X$16,$AU21)&"-"&$AV21,$CO$7:$CO$126,0),""),"")} | CH21: {=IFERROR(IF(AND(COUNTIF($CC$7:$CC21,"")+1=CH$6,LEN($CC21)>0,$AU21>0),MATCH(INDEX($X$7:$X$16,$AU21)&"-"&$AV21,$CO$7:$CO$126,0),""),"")} | CI21: {=IFERROR(IF(AND(COUNTIF($CC$7:$CC21,"")+1=CI$6,LEN($CC21)>0,$AU21>0),MATCH(INDEX($X$7:$X$16,$AU21)&"-"&$AV21,$CO$7:$CO$126,0),""),"")} | CJ21: {=IFERROR(IF(AND(COUNTIF($CC$7:$CC21,"")+1=CJ$6,LEN($CC21)>0,$AU21>0),MATCH(INDEX($X$7:$X$16,$AU21)&"-"&$AV21,$CO$7:$CO$126,0),""),"")} | CK21: {=IFERROR(IF(AND(COUNTIF($CC$7:$CC21,"")+1=CK$6,LEN($CC21)>0,$AU21>0),MATCH(INDEX($X$7:$X$16,$AU21)&"-"&$AV21,$CO$7:$CO$126,0),""),"")} | ... CN21: {=IFERROR(IF(AND(COUNTIF($CC$7:$CC21,"")+1=CN$6,LEN($CC21)>0,$AU21>0),MATCH(INDEX($X$7:$X$16,$AU21)&"-"&$AV21,$CO$7:$CO$126,0),""),"")} | CO21: =IFERROR(IF(LEN(AW21)=0,"",AW21&"-"&AX21),"") | CP21: {=IFERROR(IF(AND(COUNTIF($CO$7:$CO21,"")+1=CP$6,LEN($CO21)>0,$AY21>0),MATCH(INDEX($Y$7:$Y$16,$AY21)&"-"&$AZ21,$DA$7:$DA$126,0),""),"")} | CQ21: {=IFERROR(IF(AND(COUNTIF($CO$7:$CO21,"")+1=CQ$6,LEN($CO21)>0,$AY21>0),MATCH(INDEX($Y$7:$Y$16,$AY21)&"-"&$AZ21,$DA$7:$DA$126,0),""),"")} | CR21: {=IFERROR(IF(AND(COUNTIF($CO$7:$CO21,"")+1=CR$6,LEN($CO21)>0,$AY21>0),MATCH(INDEX($Y$7:$Y$16,$AY21)&"-"&$AZ21,$DA$7:$DA$126,0),""),"")} | CS21: {=IFERROR(IF(AND(COUNTIF($CO$7:$CO21,"")+1=CS$6,LEN($CO21)>0,$AY21>0),MATCH(INDEX($Y$7:$Y$16,$AY21)&"-"&$AZ21,$DA$7:$DA$126,0),""),"")} | CT21: {=IFERROR(IF(AND(COUNTIF($CO$7:$CO21,"")+1=CT$6,LEN($CO21)>0,$AY21>0),MATCH(INDEX($Y$7:$Y$16,$AY21)&"-"&$AZ21,$DA$7:$DA$126,0),""),"")} | CU21: {=IFERROR(IF(AND(COUNTIF($CO$7:$CO21,"")+1=CU$6,LEN($CO21)>0,$AY21>0),MATCH(INDEX($Y$7:$Y$16,$AY21)&"-"&$AZ21,$DA$7:$DA$126,0),""),"")} | CV21: {=IFERROR(IF(AND(COUNTIF($CO$7:$CO21,"")+1=CV$6,LEN($CO21)>0,$AY21>0),MATCH(INDEX($Y$7:$Y$16,$AY21)&"-"&$AZ21,$DA$7:$DA$126,0),""),"")} | CW21: {=IFERROR(IF(AND(COUNTIF($CO$7:$CO21,"")+1=CW$6,LEN($CO21)>0,$AY21>0),MATCH(INDEX($Y$7:$Y$16,$AY21)&"-"&$AZ21,$DA$7:$DA$126,0),""),"")} | ... CZ21: {=IFERROR(IF(AND(COUNTIF($CO$7:$CO21,"")+1=CZ$6,LEN($CO21)>0,$AY21>0),MATCH(INDEX($Y$7:$Y$16,$AY21)&"-"&$AZ21,$DA$7:$DA$126,0),""),"")} | DA21: =IF(LEN(BA21)=0,"",BA21&"-"&BB21) | DC21: {=IFERROR(IF(LEN(BQ21)=0,"",SUM((BF$7:BO$126=$BD21)*(BF$6:BO$6))),"")} -> 0 | DD21: {=IFERROR(IF(LEN(CC21)=0,"",SUM((BR$7:CA$126=$BD21)*(BR$6:CA$6))),"")} | DE21: {=IFERROR(IF(LEN(CO21)=0,"",SUM((CD$7:CM$126=$BD21)*(CD$6:CM$6))),"")} | DF21: {=IFERROR(IF(LEN(DA21)=0,"",SUM((CP$7:CY$126=$BD21)*(CP$6:CY$6))),"")}
C22: =IF(LEN(INDEX($V$7:$V$16,C21))=0,"",INDEX($V$7:$V$16,C21)) -> Queue | D22: =IF(LEN(INDEX($V$7:$V$16,D21))=0,"",INDEX($V$7:$V$16,D21)) -> Money | E22: =IF(LEN(INDEX($V$7:$V$16,E21))=0,"",INDEX($V$7:$V$16,E21)) -> Coffee beans | F22: =IF(LEN(INDEX($V$7:$V$16,F21))=0,"",INDEX($V$7:$V$16,F21)) -> Ingredients ( Milk, Sugar, Chocolate etc.) | G22: =IF(LEN(INDEX($V$7:$V$16,G21))=0,"",INDEX($V$7:$V$16,G21)) -> Cookie | H22: =IF(LEN(INDEX($V$7:$V$16,H21))=0,"",INDEX($V$7:$V$16,H21)) -> Supplies(Cup, tissue, straw etc.) | I22: =IF(LEN(INDEX($V$7:$V$16,I21))=0,"",INDEX($V$7:$V$16,I21)) | J22: =IF(LEN(INDEX($V$7:$V$16,J21))=0,"",INDEX($V$7:$V$16,J21)) | ... L22: =IF(LEN(INDEX($V$7:$V$16,L21))=0,"",INDEX($V$7:$V$16,L21)) | M22: Count | O22: 6 | P22: 2 | Q22: =IFERROR(INDEX($C$8:$L$17,$O22,$P22),"") | R22: =IFERROR(INDEX($C$23:$L$32,$O22,$P22),"") | T22: 2 | U22: {=IFERROR(INDEX(U$7:U$16,SMALL(IF(LEN(U$7:U$16)>0,$T$7:$T$16,""),$T22)),"")} -> Cashier | V22: {=IFERROR(INDEX(V$7:V$16,SMALL(IF(LEN(V$7:V$16)>0,$T$7:$T$16,""),$T22)),"")} -> Money | W22: {=IFERROR(INDEX(W$7:W$16,SMALL(IF(LEN(W$7:W$16)>0,$T$7:$T$16,""),$T22)),"")} -> Customer orders the coffee | X22: {=IFERROR(INDEX(X$7:X$16,SMALL(IF(LEN(X$7:X$16)>0,$T$7:$T$16,""),$T22)),"")} -> Bill | Y22: {=IFERROR(INDEX(Y$7:Y$16,SMALL(IF(LEN(Y$7:Y$16)>0,$T$7:$T$16,""),$T22)),"")} -> Barista | AA22: 4 | AB22: =V10 -> Ingredients ( Milk, Sugar, Chocolate etc.) | AC22: =IFERROR(IF(LEN(AB22)=0,"",INDEX($M$8:$M$17,AA22)),"") -> 1 | AD22: =IFERROR(IF(LEN(AB22)=0,"",INDEX($C$33:$L$33,AA22)),"") -> 1 | AE22: =IF(LEN(AB22)=0,"",MAX(AC22:AD22)) -> 1 | AF22: =IFERROR(IF(LEN(AB22)=0,"",MAX($AG$19:AG21)+2),"") -> 11 | AG22: =IFERROR(IF(LEN(AB22)=0,"",AF22+AE22),"") -> 12 | AH22: =IFERROR(IF(LEN(AB22)=0,"",ROUNDDOWN((AG22-AF22)/2,0)+AF22),"") -> 11 | AJ22: 16 | AK22: {=IFERROR(IF(MAX(($AJ22>=$AF$7:$AF$16)*($AJ22<=$AG$7:$AG$16)*$AA$7:$AA$16)=0,"",INDEX($AB$7:$AB$16,MAX(($AJ22>=$AF$7:$AF$16)*($AJ22<=$AG$7:$AG$16)*$AA$7:$AA$16))),"")} | AL22: =IFERROR(IF(LEN(AK22)=0,"",COUNTIF(AK$7:AK22,AK22)),"") | AM22: {=IFERROR(IF(LEN(AK22)=0,"",LARGE((AK22=$R$7:$R$126)*($P$7:$P$126),COUNTIF(AK22:AK$126,AK22)-1)),"")} | AN22: =IFERROR(IF(LEN(AK22)=0,"",COUNTIF(AM$7:AM22,AM22)),"") | AO22: {=IFERROR(IF(MAX(($AJ22>=$AF$19:$AF$28)*($AJ22<=$AG$19:$AG$28)*$AA$19:$AA$28)=0,"",INDEX($AB$19:$AB$28,MAX(($AJ22>=$AF$19:$AF$28)*($AJ22<=$AG$19:$AG$28)*$AA$19:$AA$28))),"")} | AP22: =IFERROR(IF(LEN(AO22)=0,"",COUNTIF(AO$7:AO22,AO22)),"") | AQ22: {=IFERROR(IF(LEN(AO22)=0,"",LARGE((AO22=$Q$7:$Q$126)*($P$7:$P$126),COUNTIF(AO22:AO$126,AO22)-1)),"")} | AR22: =IFERROR(IF(LEN(AO22)=0,"",COUNTIF(AQ$7:AQ22,AQ22)),"") | AS22: {=IFERROR(IF(MAX(($AJ22>=$AF$31:$AF$40)*($AJ22<=$AG$31:$AG$40)*$AA$31:$AA$40)=0,"",INDEX($AB$31:$AB$40,MAX(($AJ22>=$AF$31:$AF$40)*($AJ22<=$AG$31:$AG$40)*$AA$31:$AA$40))),"")} | AT22: =IFERROR(IF(LEN(AS22)=0,"",COUNTIF(AS$7:AS22,AS22)),"") | AU22: =IFERROR(IF(LEN(AS22)=0,"",INDEX($C$68:$L$77,AT22,MATCH(AS22,$AB$31:$AB$40,0))),"") | AV22: =IFERROR(IF(LEN(AU22)=0,"",COUNTIF(AU$7:AU22,AU22)),"") | AW22: {=IFERROR(IF(MAX(($AJ22>=$AF$43:$AF$52)*($AJ22<=$AG$43:$AG$52)*$AA$43:$AA$52)=0,"",INDEX($AB$43:$AB$52,MAX(($AJ22>=$AF$43:$AF$52)*($AJ22<=$AG$43:$AG$52)*$AA$43:$AA$52))),"")} | AX22: =IFERROR(IF(LEN(AW22)=0,"",COUNTIF(AW$7:AW22,AW22)),"") | AY22: =IFERROR(IF(LEN(AW22)=0,"",INDEX($C$83:$L$92,AX22,MATCH(AW22,$AB$43:$AB$52,0))),"") | AZ22: =IFERROR(IF(LEN(AY22)=0,"",COUNTIF(AY$7:AY22,AY22)),"") | BA22: {=IFERROR(IF(MAX(($AJ22>=$AF$55:$AF$64)*($AJ22<=$AG$55:$AG$64)*$AA$55:$AA$64)=0,"",INDEX($AB$55:$AB$64,MAX(($AJ22>=$AF$55:$AF$64)*($AJ22<=$AG$55:$AG$64)*$AA$55:$AA$64))),"")} | BB22: =IFERROR(IF(LEN(BA22)=0,"",COUNTIF(BA$7:BA22,BA22)),"") | BD22: 16 | BE22: =IFERROR(IF(LEN(AK22)=0,"",AK22&"-"&AL22),"") | BF22: {=IFERROR(IF(AND(COUNTIF($BE$7:$BE22,"")+1=BF$6,LEN($BE22)>0,$AM22>0),MATCH(INDEX($V$7:$V$16,$AM22)&"-"&$AN22,$BQ$7:$BQ$126,0),""),"")} | BG22: {=IFERROR(IF(AND(COUNTIF($BE$7:$BE22,"")+1=BG$6,LEN($BE22)>0,$AM22>0),MATCH(INDEX($V$7:$V$16,$AM22)&"-"&$AN22,$BQ$7:$BQ$126,0),""),"")} | BH22: {=IFERROR(IF(AND(COUNTIF($BE$7:$BE22,"")+1=BH$6,LEN($BE22)>0,$AM22>0),MATCH(INDEX($V$7:$V$16,$AM22)&"-"&$AN22,$BQ$7:$BQ$126,0),""),"")} | BI22: {=IFERROR(IF(AND(COUNTIF($BE$7:$BE22,"")+1=BI$6,LEN($BE22)>0,$AM22>0),MATCH(INDEX($V$7:$V$16,$AM22)&"-"&$AN22,$BQ$7:$BQ$126,0),""),"")} | BJ22: {=IFERROR(IF(AND(COUNTIF($BE$7:$BE22,"")+1=BJ$6,LEN($BE22)>0,$AM22>0),MATCH(INDEX($V$7:$V$16,$AM22)&"-"&$AN22,$BQ$7:$BQ$126,0),""),"")} | BK22: {=IFERROR(IF(AND(COUNTIF($BE$7:$BE22,"")+1=BK$6,LEN($BE22)>0,$AM22>0),MATCH(INDEX($V$7:$V$16,$AM22)&"-"&$AN22,$BQ$7:$BQ$126,0),""),"")} | BL22: {=IFERROR(IF(AND(COUNTIF($BE$7:$BE22,"")+1=BL$6,LEN($BE22)>0,$AM22>0),MATCH(INDEX($V$7:$V$16,$AM22)&"-"&$AN22,$BQ$7:$BQ$126,0),""),"")} | BM22: {=IFERROR(IF(AND(COUNTIF($BE$7:$BE22,"")+1=BM$6,LEN($BE22)>0,$AM22>0),MATCH(INDEX($V$7:$V$16,$AM22)&"-"&$AN22,$BQ$7:$BQ$126,0),""),"")} | ... BP22: {=IFERROR(IF(AND(COUNTIF($BE$7:$BE22,"")+1=BP$6,LEN($BE22)>0,$AM22>0),MATCH(INDEX($V$7:$V$16,$AM22)&"-"&$AN22,$BQ$7:$BQ$126,0),""),"")} | BQ22: =IF(LEN(AO22)=0,"",AO22&"-"&AP22) | BR22: {=IFERROR(IF(AND(COUNTIF($BQ$7:$BQ22,"")+1=BR$6,LEN($BQ22)>0,$AQ22>0),MATCH(INDEX($W$7:$W$16,$AQ22)&"-"&$AR22,$CC$7:$CC$126,0),""),"")} | BS22: {=IFERROR(IF(AND(COUNTIF($BQ$7:$BQ22,"")+1=BS$6,LEN($BQ22)>0,$AQ22>0),MATCH(INDEX($W$7:$W$16,$AQ22)&"-"&$AR22,$CC$7:$CC$126,0),""),"")} | BT22: {=IFERROR(IF(AND(COUNTIF($BQ$7:$BQ22,"")+1=BT$6,LEN($BQ22)>0,$AQ22>0),MATCH(INDEX($W$7:$W$16,$AQ22)&"-"&$AR22,$CC$7:$CC$126,0),""),"")} | BU22: {=IFERROR(IF(AND(COUNTIF($BQ$7:$BQ22,"")+1=BU$6,LEN($BQ22)>0,$AQ22>0),MATCH(INDEX($W$7:$W$16,$AQ22)&"-"&$AR22,$CC$7:$CC$126,0),""),"")} | BV22: {=IFERROR(IF(AND(COUNTIF($BQ$7:$BQ22,"")+1=BV$6,LEN($BQ22)>0,$AQ22>0),MATCH(INDEX($W$7:$W$16,$AQ22)&"-"&$AR22,$CC$7:$CC$126,0),""),"")} | BW22: {=IFERROR(IF(AND(COUNTIF($BQ$7:$BQ22,"")+1=BW$6,LEN($BQ22)>0,$AQ22>0),MATCH(INDEX($W$7:$W$16,$AQ22)&"-"&$AR22,$CC$7:$CC$126,0),""),"")} | BX22: {=IFERROR(IF(AND(COUNTIF($BQ$7:$BQ22,"")+1=BX$6,LEN($BQ22)>0,$AQ22>0),MATCH(INDEX($W$7:$W$16,$AQ22)&"-"&$AR22,$CC$7:$CC$126,0),""),"")} | BY22: {=IFERROR(IF(AND(COUNTIF($BQ$7:$BQ22,"")+1=BY$6,LEN($BQ22)>0,$AQ22>0),MATCH(INDEX($W$7:$W$16,$AQ22)&"-"&$AR22,$CC$7:$CC$126,0),""),"")} | ... CB22: {=IFERROR(IF(AND(COUNTIF($BQ$7:$BQ22,"")+1=CB$6,LEN($BQ22)>0,$AQ22>0),MATCH(INDEX($W$7:$W$16,$AQ22)&"-"&$AR22,$CC$7:$CC$126,0),""),"")} | CC22: =IFERROR(IF(LEN(AS22)=0,"",AS22&"-"&AT22),"") | CD22: {=IFERROR(IF(AND(COUNTIF($CC$7:$CC22,"")+1=CD$6,LEN($CC22)>0,$AU22>0),MATCH(INDEX($X$7:$X$16,$AU22)&"-"&$AV22,$CO$7:$CO$126,0),""),"")} | CE22: {=IFERROR(IF(AND(COUNTIF($CC$7:$CC22,"")+1=CE$6,LEN($CC22)>0,$AU22>0),MATCH(INDEX($X$7:$X$16,$AU22)&"-"&$AV22,$CO$7:$CO$126,0),""),"")} | CF22: {=IFERROR(IF(AND(COUNTIF($CC$7:$CC22,"")+1=CF$6,LEN($CC22)>0,$AU22>0),MATCH(INDEX($X$7:$X$16,$AU22)&"-"&$AV22,$CO$7:$CO$126,0),""),"")} | CG22: {=IFERROR(IF(AND(COUNTIF($CC$7:$CC22,"")+1=CG$6,LEN($CC22)>0,$AU22>0),MATCH(INDEX($X$7:$X$16,$AU22)&"-"&$AV22,$CO$7:$CO$126,0),""),"")} | CH22: {=IFERROR(IF(AND(COUNTIF($CC$7:$CC22,"")+1=CH$6,LEN($CC22)>0,$AU22>0),MATCH(INDEX($X$7:$X$16,$AU22)&"-"&$AV22,$CO$7:$CO$126,0),""),"")} | CI22: {=IFERROR(IF(AND(COUNTIF($CC$7:$CC22,"")+1=CI$6,LEN($CC22)>0,$AU22>0),MATCH(INDEX($X$7:$X$16,$AU22)&"-"&$AV22,$CO$7:$CO$126,0),""),"")} | CJ22: {=IFERROR(IF(AND(COUNTIF($CC$7:$CC22,"")+1=CJ$6,LEN($CC22)>0,$AU22>0),MATCH(INDEX($X$7:$X$16,$AU22)&"-"&$AV22,$CO$7:$CO$126,0),""),"")} | CK22: {=IFERROR(IF(AND(COUNTIF($CC$7:$CC22,"")+1=CK$6,LEN($CC22)>0,$AU22>0),MATCH(INDEX($X$7:$X$16,$AU22)&"-"&$AV22,$CO$7:$CO$126,0),""),"")} | ... CN22: {=IFERROR(IF(AND(COUNTIF($CC$7:$CC22,"")+1=CN$6,LEN($CC22)>0,$AU22>0),MATCH(INDEX($X$7:$X$16,$AU22)&"-"&$AV22,$CO$7:$CO$126,0),""),"")} | CO22: =IFERROR(IF(LEN(AW22)=0,"",AW22&"-"&AX22),"") | CP22: {=IFERROR(IF(AND(COUNTIF($CO$7:$CO22,"")+1=CP$6,LEN($CO22)>0,$AY22>0),MATCH(INDEX($Y$7:$Y$16,$AY22)&"-"&$AZ22,$DA$7:$DA$126,0),""),"")} | CQ22: {=IFERROR(IF(AND(COUNTIF($CO$7:$CO22,"")+1=CQ$6,LEN($CO22)>0,$AY22>0),MATCH(INDEX($Y$7:$Y$16,$AY22)&"-"&$AZ22,$DA$7:$DA$126,0),""),"")} | CR22: {=IFERROR(IF(AND(COUNTIF($CO$7:$CO22,"")+1=CR$6,LEN($CO22)>0,$AY22>0),MATCH(INDEX($Y$7:$Y$16,$AY22)&"-"&$AZ22,$DA$7:$DA$126,0),""),"")} | CS22: {=IFERROR(IF(AND(COUNTIF($CO$7:$CO22,"")+1=CS$6,LEN($CO22)>0,$AY22>0),MATCH(INDEX($Y$7:$Y$16,$AY22)&"-"&$AZ22,$DA$7:$DA$126,0),""),"")} | CT22: {=IFERROR(IF(AND(COUNTIF($CO$7:$CO22,"")+1=CT$6,LEN($CO22)>0,$AY22>0),MATCH(INDEX($Y$7:$Y$16,$AY22)&"-"&$AZ22,$DA$7:$DA$126,0),""),"")} | CU22: {=IFERROR(IF(AND(COUNTIF($CO$7:$CO22,"")+1=CU$6,LEN($CO22)>0,$AY22>0),MATCH(INDEX($Y$7:$Y$16,$AY22)&"-"&$AZ22,$DA$7:$DA$126,0),""),"")} | CV22: {=IFERROR(IF(AND(COUNTIF($CO$7:$CO22,"")+1=CV$6,LEN($CO22)>0,$AY22>0),MATCH(INDEX($Y$7:$Y$16,$AY22)&"-"&$AZ22,$DA$7:$DA$126,0),""),"")} | CW22: {=IFERROR(IF(AND(COUNTIF($CO$7:$CO22,"")+1=CW$6,LEN($CO22)>0,$AY22>0),MATCH(INDEX($Y$7:$Y$16,$AY22)&"-"&$AZ22,$DA$7:$DA$126,0),""),"")} | ... CZ22: {=IFERROR(IF(AND(COUNTIF($CO$7:$CO22,"")+1=CZ$6,LEN($CO22)>0,$AY22>0),MATCH(INDEX($Y$7:$Y$16,$AY22)&"-"&$AZ22,$DA$7:$DA$126,0),""),"")} | DA22: =IF(LEN(BA22)=0,"",BA22&"-"&BB22) | DC22: {=IFERROR(IF(LEN(BQ22)=0,"",SUM((BF$7:BO$126=$BD22)*(BF$6:BO$6))),"")} | DD22: {=IFERROR(IF(LEN(CC22)=0,"",SUM((BR$7:CA$126=$BD22)*(BR$6:CA$6))),"")} | DE22: {=IFERROR(IF(LEN(CO22)=0,"",SUM((CD$7:CM$126=$BD22)*(CD$6:CM$6))),"")} | DF22: {=IFERROR(IF(LEN(DA22)=0,"",SUM((CP$7:CY$126=$BD22)*(CP$6:CY$6))),"")}
B23: 1 | C23: {=IFERROR(IF(AND(LEN(C$22)>0,SUM((InputList!$C25:$H25=Cond!C$22)*1)>0),InputList!$B25,""),"")} -> Customer | D23: {=IFERROR(IF(AND(LEN(D$22)>0,SUM((InputList!$C25:$H25=Cond!D$22)*1)>0),InputList!$B25,""),"")} -> Customer | E23: {=IFERROR(IF(AND(LEN(E$22)>0,SUM((InputList!$C25:$H25=Cond!E$22)*1)>0),InputList!$B25,""),"")} | F23: {=IFERROR(IF(AND(LEN(F$22)>0,SUM((InputList!$C25:$H25=Cond!F$22)*1)>0),InputList!$B25,""),"")} | G23: {=IFERROR(IF(AND(LEN(G$22)>0,SUM((InputList!$C25:$H25=Cond!G$22)*1)>0),InputList!$B25,""),"")} | H23: {=IFERROR(IF(AND(LEN(H$22)>0,SUM((InputList!$C25:$H25=Cond!H$22)*1)>0),InputList!$B25,""),"")} | I23: {=IFERROR(IF(AND(LEN(I$22)>0,SUM((InputList!$C25:$H25=Cond!I$22)*1)>0),InputList!$B25,""),"")} | J23: {=IFERROR(IF(AND(LEN(J$22)>0,SUM((InputList!$C25:$H25=Cond!J$22)*1)>0),InputList!$B25,""),"")} | ... L23: {=IFERROR(IF(AND(LEN(L$22)>0,SUM((InputList!$C25:$H25=Cond!L$22)*1)>0),InputList!$B25,""),"")} | M23: =COUNTA(C23:L23)-COUNTBLANK(C23:L23) -> 2 | O23: 7 | P23: 2 | Q23: =IFERROR(INDEX($C$8:$L$17,$O23,$P23),"") | R23: =IFERROR(INDEX($C$23:$L$32,$O23,$P23),"") | T23: 3 | U23: {=IFERROR(INDEX(U$7:U$16,SMALL(IF(LEN(U$7:U$16)>0,$T$7:$T$16,""),$T23)),"")} -> Manufacturer | V23: {=IFERROR(INDEX(V$7:V$16,SMALL(IF(LEN(V$7:V$16)>0,$T$7:$T$16,""),$T23)),"")} -> Coffee beans | W23: {=IFERROR(INDEX(W$7:W$16,SMALL(IF(LEN(W$7:W$16)>0,$T$7:$T$16,""),$T23)),"")} -> Preparation of coffee | X23: {=IFERROR(INDEX(X$7:X$16,SMALL(IF(LEN(X$7:X$16)>0,$T$7:$T$16,""),$T23)),"")} -> Order details | Y23: {=IFERROR(INDEX(Y$7:Y$16,SMALL(IF(LEN(Y$7:Y$16)>0,$T$7:$T$16,""),$T23)),"")} | AA23: 5 | AB23: =V11 -> Cookie | AC23: =IFERROR(IF(LEN(AB23)=0,"",INDEX($M$8:$M$17,AA23)),"") -> 1 | AD23: =IFERROR(IF(LEN(AB23)=0,"",INDEX($C$33:$L$33,AA23)),"") -> 1 | AE23: =IF(LEN(AB23)=0,"",MAX(AC23:AD23)) -> 1 | AF23: =IFERROR(IF(LEN(AB23)=0,"",MAX($AG$19:AG22)+2),"") -> 14 | AG23: =IFERROR(IF(LEN(AB23)=0,"",AF23+AE23),"") -> 15 | AH23: =IFERROR(IF(LEN(AB23)=0,"",ROUNDDOWN((AG23-AF23)/2,0)+AF23),"") -> 14 | AJ23: 17 | AK23: {=IFERROR(IF(MAX(($AJ23>=$AF$7:$AF$16)*($AJ23<=$AG$7:$AG$16)*$AA$7:$AA$16)=0,"",INDEX($AB$7:$AB$16,MAX(($AJ23>=$AF$7:$AF$16)*($AJ23<=$AG$7:$AG$16)*$AA$7:$AA$16))),"")} | AL23: =IFERROR(IF(LEN(AK23)=0,"",COUNTIF(AK$7:AK23,AK23)),"") | AM23: {=IFERROR(IF(LEN(AK23)=0,"",LARGE((AK23=$R$7:$R$126)*($P$7:$P$126),COUNTIF(AK23:AK$126,AK23)-1)),"")} | AN23: =IFERROR(IF(LEN(AK23)=0,"",COUNTIF(AM$7:AM23,AM23)),"") | AO23: {=IFERROR(IF(MAX(($AJ23>=$AF$19:$AF$28)*($AJ23<=$AG$19:$AG$28)*$AA$19:$AA$28)=0,"",INDEX($AB$19:$AB$28,MAX(($AJ23>=$AF$19:$AF$28)*($AJ23<=$AG$19:$AG$28)*$AA$19:$AA$28))),"")} -> Supplies(Cup, tissue, straw etc.) | AP23: =IFERROR(IF(LEN(AO23)=0,"",COUNTIF(AO$7:AO23,AO23)),"") -> 1 | AQ23: {=IFERROR(IF(LEN(AO23)=0,"",LARGE((AO23=$Q$7:$Q$126)*($P$7:$P$126),COUNTIF(AO23:AO$126,AO23)-1)),"")} -> 4 | AR23: =IFERROR(IF(LEN(AO23)=0,"",COUNTIF(AQ$7:AQ23,AQ23)),"") -> 2 | AS23: {=IFERROR(IF(MAX(($AJ23>=$AF$31:$AF$40)*($AJ23<=$AG$31:$AG$40)*$AA$31:$AA$40)=0,"",INDEX($AB$31:$AB$40,MAX(($AJ23>=$AF$31:$AF$40)*($AJ23<=$AG$31:$AG$40)*$AA$31:$AA$40))),"")} | AT23: =IFERROR(IF(LEN(AS23)=0,"",COUNTIF(AS$7:AS23,AS23)),"") | AU23: =IFERROR(IF(LEN(AS23)=0,"",INDEX($C$68:$L$77,AT23,MATCH(AS23,$AB$31:$AB$40,0))),"") | AV23: =IFERROR(IF(LEN(AU23)=0,"",COUNTIF(AU$7:AU23,AU23)),"") | AW23: {=IFERROR(IF(MAX(($AJ23>=$AF$43:$AF$52)*($AJ23<=$AG$43:$AG$52)*$AA$43:$AA$52)=0,"",INDEX($AB$43:$AB$52,MAX(($AJ23>=$AF$43:$AF$52)*($AJ23<=$AG$43:$AG$52)*$AA$43:$AA$52))),"")} | AX23: =IFERROR(IF(LEN(AW23)=0,"",COUNTIF(AW$7:AW23,AW23)),"") | AY23: =IFERROR(IF(LEN(AW23)=0,"",INDEX($C$83:$L$92,AX23,MATCH(AW23,$AB$43:$AB$52,0))),"") | AZ23: =IFERROR(IF(LEN(AY23)=0,"",COUNTIF(AY$7:AY23,AY23)),"") | BA23: {=IFERROR(IF(MAX(($AJ23>=$AF$55:$AF$64)*($AJ23<=$AG$55:$AG$64)*$AA$55:$AA$64)=0,"",INDEX($AB$55:$AB$64,MAX(($AJ23>=$AF$55:$AF$64)*($AJ23<=$AG$55:$AG$64)*$AA$55:$AA$64))),"")} | BB23: =IFERROR(IF(LEN(BA23)=0,"",COUNTIF(BA$7:BA23,BA23)),"") | BD23: 17 | BE23: =IFERROR(IF(LEN(AK23)=0,"",AK23&"-"&AL23),"") | BF23: {=IFERROR(IF(AND(COUNTIF($BE$7:$BE23,"")+1=BF$6,LEN($BE23)>0,$AM23>0),MATCH(INDEX($V$7:$V$16,$AM23)&"-"&$AN23,$BQ$7:$BQ$126,0),""),"")} | BG23: {=IFERROR(IF(AND(COUNTIF($BE$7:$BE23,"")+1=BG$6,LEN($BE23)>0,$AM23>0),MATCH(INDEX($V$7:$V$16,$AM23)&"-"&$AN23,$BQ$7:$BQ$126,0),""),"")} | BH23: {=IFERROR(IF(AND(COUNTIF($BE$7:$BE23,"")+1=BH$6,LEN($BE23)>0,$AM23>0),MATCH(INDEX($V$7:$V$16,$AM23)&"-"&$AN23,$BQ$7:$BQ$126,0),""),"")} | BI23: {=IFERROR(IF(AND(COUNTIF($BE$7:$BE23,"")+1=BI$6,LEN($BE23)>0,$AM23>0),MATCH(INDEX($V$7:$V$16,$AM23)&"-"&$AN23,$BQ$7:$BQ$126,0),""),"")} | BJ23: {=IFERROR(IF(AND(COUNTIF($BE$7:$BE23,"")+1=BJ$6,LEN($BE23)>0,$AM23>0),MATCH(INDEX($V$7:$V$16,$AM23)&"-"&$AN23,$BQ$7:$BQ$126,0),""),"")} | BK23: {=IFERROR(IF(AND(COUNTIF($BE$7:$BE23,"")+1=BK$6,LEN($BE23)>0,$AM23>0),MATCH(INDEX($V$7:$V$16,$AM23)&"-"&$AN23,$BQ$7:$BQ$126,0),""),"")} | BL23: {=IFERROR(IF(AND(COUNTIF($BE$7:$BE23,"")+1=BL$6,LEN($BE23)>0,$AM23>0),MATCH(INDEX($V$7:$V$16,$AM23)&"-"&$AN23,$BQ$7:$BQ$126,0),""),"")} | BM23: {=IFERROR(IF(AND(COUNTIF($BE$7:$BE23,"")+1=BM$6,LEN($BE23)>0,$AM23>0),MATCH(INDEX($V$7:$V$16,$AM23)&"-"&$AN23,$BQ$7:$BQ$126,0),""),"")} | ... BP23: {=IFERROR(IF(AND(COUNTIF($BE$7:$BE23,"")+1=BP$6,LEN($BE23)>0,$AM23>0),MATCH(INDEX($V$7:$V$16,$AM23)&"-"&$AN23,$BQ$7:$BQ$126,0),""),"")} | BQ23: =IF(LEN(AO23)=0,"",AO23&"-"&AP23) -> Supplies(Cup, tissue, straw etc.)-1 | BR23: {=IFERROR(IF(AND(COUNTIF($BQ$7:$BQ23,"")+1=BR$6,LEN($BQ23)>0,$AQ23>0),MATCH(INDEX($W$7:$W$16,$AQ23)&"-"&$AR23,$CC$7:$CC$126,0),""),"")} | BS23: {=IFERROR(IF(AND(COUNTIF($BQ$7:$BQ23,"")+1=BS$6,LEN($BQ23)>0,$AQ23>0),MATCH(INDEX($W$7:$W$16,$AQ23)&"-"&$AR23,$CC$7:$CC$126,0),""),"")} | BT23: {=IFERROR(IF(AND(COUNTIF($BQ$7:$BQ23,"")+1=BT$6,LEN($BQ23)>0,$AQ23>0),MATCH(INDEX($W$7:$W$16,$AQ23)&"-"&$AR23,$CC$7:$CC$126,0),""),"")} | BU23: {=IFERROR(IF(AND(COUNTIF($BQ$7:$BQ23,"")+1=BU$6,LEN($BQ23)>0,$AQ23>0),MATCH(INDEX($W$7:$W$16,$AQ23)&"-"&$AR23,$CC$7:$CC$126,0),""),"")} | BV23: {=IFERROR(IF(AND(COUNTIF($BQ$7:$BQ23,"")+1=BV$6,LEN($BQ23)>0,$AQ23>0),MATCH(INDEX($W$7:$W$16,$AQ23)&"-"&$AR23,$CC$7:$CC$126,0),""),"")} | BW23: {=IFERROR(IF(AND(COUNTIF($BQ$7:$BQ23,"")+1=BW$6,LEN($BQ23)>0,$AQ23>0),MATCH(INDEX($W$7:$W$16,$AQ23)&"-"&$AR23,$CC$7:$CC$126,0),""),"")} -> 13 | BX23: {=IFERROR(IF(AND(COUNTIF($BQ$7:$BQ23,"")+1=BX$6,LEN($BQ23)>0,$AQ23>0),MATCH(INDEX($W$7:$W$16,$AQ23)&"-"&$AR23,$CC$7:$CC$126,0),""),"")} | BY23: {=IFERROR(IF(AND(COUNTIF($BQ$7:$BQ23,"")+1=BY$6,LEN($BQ23)>0,$AQ23>0),MATCH(INDEX($W$7:$W$16,$AQ23)&"-"&$AR23,$CC$7:$CC$126,0),""),"")} | ... CB23: {=IFERROR(IF(AND(COUNTIF($BQ$7:$BQ23,"")+1=CB$6,LEN($BQ23)>0,$AQ23>0),MATCH(INDEX($W$7:$W$16,$AQ23)&"-"&$AR23,$CC$7:$CC$126,0),""),"")} | CC23: =IFERROR(IF(LEN(AS23)=0,"",AS23&"-"&AT23),"") | CD23: {=IFERROR(IF(AND(COUNTIF($CC$7:$CC23,"")+1=CD$6,LEN($CC23)>0,$AU23>0),MATCH(INDEX($X$7:$X$16,$AU23)&"-"&$AV23,$CO$7:$CO$126,0),""),"")} | CE23: {=IFERROR(IF(AND(COUNTIF($CC$7:$CC23,"")+1=CE$6,LEN($CC23)>0,$AU23>0),MATCH(INDEX($X$7:$X$16,$AU23)&"-"&$AV23,$CO$7:$CO$126,0),""),"")} | CF23: {=IFERROR(IF(AND(COUNTIF($CC$7:$CC23,"")+1=CF$6,LEN($CC23)>0,$AU23>0),MATCH(INDEX($X$7:$X$16,$AU23)&"-"&$AV23,$CO$7:$CO$126,0),""),"")} | CG23: {=IFERROR(IF(AND(COUNTIF($CC$7:$CC23,"")+1=CG$6,LEN($CC23)>0,$AU23>0),MATCH(INDEX($X$7:$X$16,$AU23)&"-"&$AV23,$CO$7:$CO$126,0),""),"")} | CH23: {=IFERROR(IF(AND(COUNTIF($CC$7:$CC23,"")+1=CH$6,LEN($CC23)>0,$AU23>0),MATCH(INDEX($X$7:$X$16,$AU23)&"-"&$AV23,$CO$7:$CO$126,0),""),"")} | CI23: {=IFERROR(IF(AND(COUNTIF($CC$7:$CC23,"")+1=CI$6,LEN($CC23)>0,$AU23>0),MATCH(INDEX($X$7:$X$16,$AU23)&"-"&$AV23,$CO$7:$CO$126,0),""),"")} | CJ23: {=IFERROR(IF(AND(COUNTIF($CC$7:$CC23,"")+1=CJ$6,LEN($CC23)>0,$AU23>0),MATCH(INDEX($X$7:$X$16,$AU23)&"-"&$AV23,$CO$7:$CO$126,0),""),"")} | CK23: {=IFERROR(IF(AND(COUNTIF($CC$7:$CC23,"")+1=CK$6,LEN($CC23)>0,$AU23>0),MATCH(INDEX($X$7:$X$16,$AU23)&"-"&$AV23,$CO$7:$CO$126,0),""),"")} | ... CN23: {=IFERROR(IF(AND(COUNTIF($CC$7:$CC23,"")+1=CN$6,LEN($CC23)>0,$AU23>0),MATCH(INDEX($X$7:$X$16,$AU23)&"-"&$AV23,$CO$7:$CO$126,0),""),"")} | CO23: =IFERROR(IF(LEN(AW23)=0,"",AW23&"-"&AX23),"") | CP23: {=IFERROR(IF(AND(COUNTIF($CO$7:$CO23,"")+1=CP$6,LEN($CO23)>0,$AY23>0),MATCH(INDEX($Y$7:$Y$16,$AY23)&"-"&$AZ23,$DA$7:$DA$126,0),""),"")} | CQ23: {=IFERROR(IF(AND(COUNTIF($CO$7:$CO23,"")+1=CQ$6,LEN($CO23)>0,$AY23>0),MATCH(INDEX($Y$7:$Y$16,$AY23)&"-"&$AZ23,$DA$7:$DA$126,0),""),"")} | CR23: {=IFERROR(IF(AND(COUNTIF($CO$7:$CO23,"")+1=CR$6,LEN($CO23)>0,$AY23>0),MATCH(INDEX($Y$7:$Y$16,$AY23)&"-"&$AZ23,$DA$7:$DA$126,0),""),"")} | CS23: {=IFERROR(IF(AND(COUNTIF($CO$7:$CO23,"")+1=CS$6,LEN($CO23)>0,$AY23>0),MATCH(INDEX($Y$7:$Y$16,$AY23)&"-"&$AZ23,$DA$7:$DA$126,0),""),"")} | CT23: {=IFERROR(IF(AND(COUNTIF($CO$7:$CO23,"")+1=CT$6,LEN($CO23)>0,$AY23>0),MATCH(INDEX($Y$7:$Y$16,$AY23)&"-"&$AZ23,$DA$7:$DA$126,0),""),"")} | CU23: {=IFERROR(IF(AND(COUNTIF($CO$7:$CO23,"")+1=CU$6,LEN($CO23)>0,$AY23>0),MATCH(INDEX($Y$7:$Y$16,$AY23)&"-"&$AZ23,$DA$7:$DA$126,0),""),"")} | CV23: {=IFERROR(IF(AND(COUNTIF($CO$7:$CO23,"")+1=CV$6,LEN($CO23)>0,$AY23>0),MATCH(INDEX($Y$7:$Y$16,$AY23)&"-"&$AZ23,$DA$7:$DA$126,0),""),"")} | CW23: {=IFERROR(IF(AND(COUNTIF($CO$7:$CO23,"")+1=CW$6,LEN($CO23)>0,$AY23>0),MATCH(INDEX($Y$7:$Y$16,$AY23)&"-"&$AZ23,$DA$7:$DA$126,0),""),"")} | ... CZ23: {=IFERROR(IF(AND(COUNTIF($CO$7:$CO23,"")+1=CZ$6,LEN($CO23)>0,$AY23>0),MATCH(INDEX($Y$7:$Y$16,$AY23)&"-"&$AZ23,$DA$7:$DA$126,0),""),"")} | DA23: =IF(LEN(BA23)=0,"",BA23&"-"&BB23) | DC23: {=IFERROR(IF(LEN(BQ23)=0,"",SUM((BF$7:BO$126=$BD23)*(BF$6:BO$6))),"")} -> 3 | DD23: {=IFERROR(IF(LEN(CC23)=0,"",SUM((BR$7:CA$126=$BD23)*(BR$6:CA$6))),"")} | DE23: {=IFERROR(IF(LEN(CO23)=0,"",SUM((CD$7:CM$126=$BD23)*(CD$6:CM$6))),"")} | DF23: {=IFERROR(IF(LEN(DA23)=0,"",SUM((CP$7:CY$126=$BD23)*(CP$6:CY$6))),"")}
B24: 2 | C24: {=IFERROR(IF(AND(LEN(C$22)>0,SUM((InputList!$C26:$H26=Cond!C$22)*1)>0),InputList!$B26,""),"")} | D24: {=IFERROR(IF(AND(LEN(D$22)>0,SUM((InputList!$C26:$H26=Cond!D$22)*1)>0),InputList!$B26,""),"")} -> Cashier | E24: {=IFERROR(IF(AND(LEN(E$22)>0,SUM((InputList!$C26:$H26=Cond!E$22)*1)>0),InputList!$B26,""),"")} | F24: {=IFERROR(IF(AND(LEN(F$22)>0,SUM((InputList!$C26:$H26=Cond!F$22)*1)>0),InputList!$B26,""),"")} | G24: {=IFERROR(IF(AND(LEN(G$22)>0,SUM((InputList!$C26:$H26=Cond!G$22)*1)>0),InputList!$B26,""),"")} | H24: {=IFERROR(IF(AND(LEN(H$22)>0,SUM((InputList!$C26:$H26=Cond!H$22)*1)>0),InputList!$B26,""),"")} | I24: {=IFERROR(IF(AND(LEN(I$22)>0,SUM((InputList!$C26:$H26=Cond!I$22)*1)>0),InputList!$B26,""),"")} | J24: {=IFERROR(IF(AND(LEN(J$22)>0,SUM((InputList!$C26:$H26=Cond!J$22)*1)>0),InputList!$B26,""),"")} | ... L24: {=IFERROR(IF(AND(LEN(L$22)>0,SUM((InputList!$C26:$H26=Cond!L$22)*1)>0),InputList!$B26,""),"")} | M24: =COUNTA(C24:L24)-COUNTBLANK(C24:L24) -> 1 | O24: 8 | P24: 2 | Q24: =IFERROR(INDEX($C$8:$L$17,$O24,$P24),"") | R24: =IFERROR(INDEX($C$23:$L$32,$O24,$P24),"") | T24: 4 | U24: {=IFERROR(INDEX(U$7:U$16,SMALL(IF(LEN(U$7:U$16)>0,$T$7:$T$16,""),$T24)),"")} | V24: {=IFERROR(INDEX(V$7:V$16,SMALL(IF(LEN(V$7:V$16)>0,$T$7:$T$16,""),$T24)),"")} -> Ingredients ( Milk, Sugar, Chocolate etc.) | W24: {=IFERROR(INDEX(W$7:W$16,SMALL(IF(LEN(W$7:W$16)>0,$T$7:$T$16,""),$T24)),"")} -> Serving the order | X24: {=IFERROR(INDEX(X$7:X$16,SMALL(IF(LEN(X$7:X$16)>0,$T$7:$T$16,""),$T24)),"")} -> Coffee | Y24: {=IFERROR(INDEX(Y$7:Y$16,SMALL(IF(LEN(Y$7:Y$16)>0,$T$7:$T$16,""),$T24)),"")} | AA24: 6 | AB24: =V12 -> Supplies(Cup, tissue, straw etc.) | AC24: =IFERROR(IF(LEN(AB24)=0,"",INDEX($M$8:$M$17,AA24)),"") -> 1 | AD24: =IFERROR(IF(LEN(AB24)=0,"",INDEX($C$33:$L$33,AA24)),"") -> 1 | AE24: =IF(LEN(AB24)=0,"",MAX(AC24:AD24)) -> 1 | AF24: =IFERROR(IF(LEN(AB24)=0,"",MAX($AG$19:AG23)+2),"") -> 17 | AG24: =IFERROR(IF(LEN(AB24)=0,"",AF24+AE24),"") -> 18 | AH24: =IFERROR(IF(LEN(AB24)=0,"",ROUNDDOWN((AG24-AF24)/2,0)+AF24),"") -> 17 | AJ24: 18 | AK24: {=IFERROR(IF(MAX(($AJ24>=$AF$7:$AF$16)*($AJ24<=$AG$7:$AG$16)*$AA$7:$AA$16)=0,"",INDEX($AB$7:$AB$16,MAX(($AJ24>=$AF$7:$AF$16)*($AJ24<=$AG$7:$AG$16)*$AA$7:$AA$16))),"")} | AL24: =IFERROR(IF(LEN(AK24)=0,"",COUNTIF(AK$7:AK24,AK24)),"") | AM24: {=IFERROR(IF(LEN(AK24)=0,"",LARGE((AK24=$R$7:$R$126)*($P$7:$P$126),COUNTIF(AK24:AK$126,AK24)-1)),"")} | AN24: =IFERROR(IF(LEN(AK24)=0,"",COUNTIF(AM$7:AM24,AM24)),"") | AO24: {=IFERROR(IF(MAX(($AJ24>=$AF$19:$AF$28)*($AJ24<=$AG$19:$AG$28)*$AA$19:$AA$28)=0,"",INDEX($AB$19:$AB$28,MAX(($AJ24>=$AF$19:$AF$28)*($AJ24<=$AG$19:$AG$28)*$AA$19:$AA$28))),"")} -> Supplies(Cup, tissue, straw etc.) | AP24: =IFERROR(IF(LEN(AO24)=0,"",COUNTIF(AO$7:AO24,AO24)),"") -> 2 | AQ24: {=IFERROR(IF(LEN(AO24)=0,"",LARGE((AO24=$Q$7:$Q$126)*($P$7:$P$126),COUNTIF(AO24:AO$126,AO24)-1)),"")} | AR24: =IFERROR(IF(LEN(AO24)=0,"",COUNTIF(AQ$7:AQ24,AQ24)),"") -> 11 | AS24: {=IFERROR(IF(MAX(($AJ24>=$AF$31:$AF$40)*($AJ24<=$AG$31:$AG$40)*$AA$31:$AA$40)=0,"",INDEX($AB$31:$AB$40,MAX(($AJ24>=$AF$31:$AF$40)*($AJ24<=$AG$31:$AG$40)*$AA$31:$AA$40))),"")} | AT24: =IFERROR(IF(LEN(AS24)=0,"",COUNTIF(AS$7:AS24,AS24)),"") | AU24: =IFERROR(IF(LEN(AS24)=0,"",INDEX($C$68:$L$77,AT24,MATCH(AS24,$AB$31:$AB$40,0))),"") | AV24: =IFERROR(IF(LEN(AU24)=0,"",COUNTIF(AU$7:AU24,AU24)),"") | AW24: {=IFERROR(IF(MAX(($AJ24>=$AF$43:$AF$52)*($AJ24<=$AG$43:$AG$52)*$AA$43:$AA$52)=0,"",INDEX($AB$43:$AB$52,MAX(($AJ24>=$AF$43:$AF$52)*($AJ24<=$AG$43:$AG$52)*$AA$43:$AA$52))),"")} | AX24: =IFERROR(IF(LEN(AW24)=0,"",COUNTIF(AW$7:AW24,AW24)),"") | AY24: =IFERROR(IF(LEN(AW24)=0,"",INDEX($C$83:$L$92,AX24,MATCH(AW24,$AB$43:$AB$52,0))),"") | AZ24: =IFERROR(IF(LEN(AY24)=0,"",COUNTIF(AY$7:AY24,AY24)),"") | BA24: {=IFERROR(IF(MAX(($AJ24>=$AF$55:$AF$64)*($AJ24<=$AG$55:$AG$64)*$AA$55:$AA$64)=0,"",INDEX($AB$55:$AB$64,MAX(($AJ24>=$AF$55:$AF$64)*($AJ24<=$AG$55:$AG$64)*$AA$55:$AA$64))),"")} | BB24: =IFERROR(IF(LEN(BA24)=0,"",COUNTIF(BA$7:BA24,BA24)),"") | BD24: 18 | BE24: =IFERROR(IF(LEN(AK24)=0,"",AK24&"-"&AL24),"") | BF24: {=IFERROR(IF(AND(COUNTIF($BE$7:$BE24,"")+1=BF$6,LEN($BE24)>0,$AM24>0),MATCH(INDEX($V$7:$V$16,$AM24)&"-"&$AN24,$BQ$7:$BQ$126,0),""),"")} | BG24: {=IFERROR(IF(AND(COUNTIF($BE$7:$BE24,"")+1=BG$6,LEN($BE24)>0,$AM24>0),MATCH(INDEX($V$7:$V$16,$AM24)&"-"&$AN24,$BQ$7:$BQ$126,0),""),"")} | BH24: {=IFERROR(IF(AND(COUNTIF($BE$7:$BE24,"")+1=BH$6,LEN($BE24)>0,$AM24>0),MATCH(INDEX($V$7:$V$16,$AM24)&"-"&$AN24,$BQ$7:$BQ$126,0),""),"")} | BI24: {=IFERROR(IF(AND(COUNTIF($BE$7:$BE24,"")+1=BI$6,LEN($BE24)>0,$AM24>0),MATCH(INDEX($V$7:$V$16,$AM24)&"-"&$AN24,$BQ$7:$BQ$126,0),""),"")} | BJ24: {=IFERROR(IF(AND(COUNTIF($BE$7:$BE24,"")+1=BJ$6,LEN($BE24)>0,$AM24>0),MATCH(INDEX($V$7:$V$16,$AM24)&"-"&$AN24,$BQ$7:$BQ$126,0),""),"")} | BK24: {=IFERROR(IF(AND(COUNTIF($BE$7:$BE24,"")+1=BK$6,LEN($BE24)>0,$AM24>0),MATCH(INDEX($V$7:$V$16,$AM24)&"-"&$AN24,$BQ$7:$BQ$126,0),""),"")} | BL24: {=IFERROR(IF(AND(COUNTIF($BE$7:$BE24,"")+1=BL$6,LEN($BE24)>0,$AM24>0),MATCH(INDEX($V$7:$V$16,$AM24)&"-"&$AN24,$BQ$7:$BQ$126,0),""),"")} | BM24: {=IFERROR(IF(AND(COUNTIF($BE$7:$BE24,"")+1=BM$6,LEN($BE24)>0,$AM24>0),MATCH(INDEX($V$7:$V$16,$AM24)&"-"&$AN24,$BQ$7:$BQ$126,0),""),"")} | ... BP24: {=IFERROR(IF(AND(COUNTIF($BE$7:$BE24,"")+1=BP$6,LEN($BE24)>0,$AM24>0),MATCH(INDEX($V$7:$V$16,$AM24)&"-"&$AN24,$BQ$7:$BQ$126,0),""),"")} | BQ24: =IF(LEN(AO24)=0,"",AO24&"-"&AP24) -> Supplies(Cup, tissue, straw etc.)-2 | BR24: {=IFERROR(IF(AND(COUNTIF($BQ$7:$BQ24,"")+1=BR$6,LEN($BQ24)>0,$AQ24>0),MATCH(INDEX($W$7:$W$16,$AQ24)&"-"&$AR24,$CC$7:$CC$126,0),""),"")} | BS24: {=IFERROR(IF(AND(COUNTIF($BQ$7:$BQ24,"")+1=BS$6,LEN($BQ24)>0,$AQ24>0),MATCH(INDEX($W$7:$W$16,$AQ24)&"-"&$AR24,$CC$7:$CC$126,0),""),"")} | BT24: {=IFERROR(IF(AND(COUNTIF($BQ$7:$BQ24,"")+1=BT$6,LEN($BQ24)>0,$AQ24>0),MATCH(INDEX($W$7:$W$16,$AQ24)&"-"&$AR24,$CC$7:$CC$126,0),""),"")} | BU24: {=IFERROR(IF(AND(COUNTIF($BQ$7:$BQ24,"")+1=BU$6,LEN($BQ24)>0,$AQ24>0),MATCH(INDEX($W$7:$W$16,$AQ24)&"-"&$AR24,$CC$7:$CC$126,0),""),"")} | BV24: {=IFERROR(IF(AND(COUNTIF($BQ$7:$BQ24,"")+1=BV$6,LEN($BQ24)>0,$AQ24>0),MATCH(INDEX($W$7:$W$16,$AQ24)&"-"&$AR24,$CC$7:$CC$126,0),""),"")} | BW24: {=IFERROR(IF(AND(COUNTIF($BQ$7:$BQ24,"")+1=BW$6,LEN($BQ24)>0,$AQ24>0),MATCH(INDEX($W$7:$W$16,$AQ24)&"-"&$AR24,$CC$7:$CC$126,0),""),"")} | BX24: {=IFERROR(IF(AND(COUNTIF($BQ$7:$BQ24,"")+1=BX$6,LEN($BQ24)>0,$AQ24>0),MATCH(INDEX($W$7:$W$16,$AQ24)&"-"&$AR24,$CC$7:$CC$126,0),""),"")} | BY24: {=IFERROR(IF(AND(COUNTIF($BQ$7:$BQ24,"")+1=BY$6,LEN($BQ24)>0,$AQ24>0),MATCH(INDEX($W$7:$W$16,$AQ24)&"-"&$AR24,$CC$7:$CC$126,0),""),"")} | ... CB24: {=IFERROR(IF(AND(COUNTIF($BQ$7:$BQ24,"")+1=CB$6,LEN($BQ24)>0,$AQ24>0),MATCH(INDEX($W$7:$W$16,$AQ24)&"-"&$AR24,$CC$7:$CC$126,0),""),"")} | CC24: =IFERROR(IF(LEN(AS24)=0,"",AS24&"-"&AT24),"") | CD24: {=IFERROR(IF(AND(COUNTIF($CC$7:$CC24,"")+1=CD$6,LEN($CC24)>0,$AU24>0),MATCH(INDEX($X$7:$X$16,$AU24)&"-"&$AV24,$CO$7:$CO$126,0),""),"")} | CE24: {=IFERROR(IF(AND(COUNTIF($CC$7:$CC24,"")+1=CE$6,LEN($CC24)>0,$AU24>0),MATCH(INDEX($X$7:$X$16,$AU24)&"-"&$AV24,$CO$7:$CO$126,0),""),"")} | CF24: {=IFERROR(IF(AND(COUNTIF($CC$7:$CC24,"")+1=CF$6,LEN($CC24)>0,$AU24>0),MATCH(INDEX($X$7:$X$16,$AU24)&"-"&$AV24,$CO$7:$CO$126,0),""),"")} | CG24: {=IFERROR(IF(AND(COUNTIF($CC$7:$CC24,"")+1=CG$6,LEN($CC24)>0,$AU24>0),MATCH(INDEX($X$7:$X$16,$AU24)&"-"&$AV24,$CO$7:$CO$126,0),""),"")} | CH24: {=IFERROR(IF(AND(COUNTIF($CC$7:$CC24,"")+1=CH$6,LEN($CC24)>0,$AU24>0),MATCH(INDEX($X$7:$X$16,$AU24)&"-"&$AV24,$CO$7:$CO$126,0),""),"")} | CI24: {=IFERROR(IF(AND(COUNTIF($CC$7:$CC24,"")+1=CI$6,LEN($CC24)>0,$AU24>0),MATCH(INDEX($X$7:$X$16,$AU24)&"-"&$AV24,$CO$7:$CO$126,0),""),"")} | CJ24: {=IFERROR(IF(AND(COUNTIF($CC$7:$CC24,"")+1=CJ$6,LEN($CC24)>0,$AU24>0),MATCH(INDEX($X$7:$X$16,$AU24)&"-"&$AV24,$CO$7:$CO$126,0),""),"")} | CK24: {=IFERROR(IF(AND(COUNTIF($CC$7:$CC24,"")+1=CK$6,LEN($CC24)>0,$AU24>0),MATCH(INDEX($X$7:$X$16,$AU24)&"-"&$AV24,$CO$7:$CO$126,0),""),"")} | ... CN24: {=IFERROR(IF(AND(COUNTIF($CC$7:$CC24,"")+1=CN$6,LEN($CC24)>0,$AU24>0),MATCH(INDEX($X$7:$X$16,$AU24)&"-"&$AV24,$CO$7:$CO$126,0),""),"")} | CO24: =IFERROR(IF(LEN(AW24)=0,"",AW24&"-"&AX24),"") | CP24: {=IFERROR(IF(AND(COUNTIF($CO$7:$CO24,"")+1=CP$6,LEN($CO24)>0,$AY24>0),MATCH(INDEX($Y$7:$Y$16,$AY24)&"-"&$AZ24,$DA$7:$DA$126,0),""),"")} | CQ24: {=IFERROR(IF(AND(COUNTIF($CO$7:$CO24,"")+1=CQ$6,LEN($CO24)>0,$AY24>0),MATCH(INDEX($Y$7:$Y$16,$AY24)&"-"&$AZ24,$DA$7:$DA$126,0),""),"")} | CR24: {=IFERROR(IF(AND(COUNTIF($CO$7:$CO24,"")+1=CR$6,LEN($CO24)>0,$AY24>0),MATCH(INDEX($Y$7:$Y$16,$AY24)&"-"&$AZ24,$DA$7:$DA$126,0),""),"")} | CS24: {=IFERROR(IF(AND(COUNTIF($CO$7:$CO24,"")+1=CS$6,LEN($CO24)>0,$AY24>0),MATCH(INDEX($Y$7:$Y$16,$AY24)&"-"&$AZ24,$DA$7:$DA$126,0),""),"")} | CT24: {=IFERROR(IF(AND(COUNTIF($CO$7:$CO24,"")+1=CT$6,LEN($CO24)>0,$AY24>0),MATCH(INDEX($Y$7:$Y$16,$AY24)&"-"&$AZ24,$DA$7:$DA$126,0),""),"")} | CU24: {=IFERROR(IF(AND(COUNTIF($CO$7:$CO24,"")+1=CU$6,LEN($CO24)>0,$AY24>0),MATCH(INDEX($Y$7:$Y$16,$AY24)&"-"&$AZ24,$DA$7:$DA$126,0),""),"")} | CV24: {=IFERROR(IF(AND(COUNTIF($CO$7:$CO24,"")+1=CV$6,LEN($CO24)>0,$AY24>0),MATCH(INDEX($Y$7:$Y$16,$AY24)&"-"&$AZ24,$DA$7:$DA$126,0),""),"")} | CW24: {=IFERROR(IF(AND(COUNTIF($CO$7:$CO24,"")+1=CW$6,LEN($CO24)>0,$AY24>0),MATCH(INDEX($Y$7:$Y$16,$AY24)&"-"&$AZ24,$DA$7:$DA$126,0),""),"")} | ... CZ24: {=IFERROR(IF(AND(COUNTIF($CO$7:$CO24,"")+1=CZ$6,LEN($CO24)>0,$AY24>0),MATCH(INDEX($Y$7:$Y$16,$AY24)&"-"&$AZ24,$DA$7:$DA$126,0),""),"")} | DA24: =IF(LEN(BA24)=0,"",BA24&"-"&BB24) | DC24: {=IFERROR(IF(LEN(BQ24)=0,"",SUM((BF$7:BO$126=$BD24)*(BF$6:BO$6))),"")} -> 0 | DD24: {=IFERROR(IF(LEN(CC24)=0,"",SUM((BR$7:CA$126=$BD24)*(BR$6:CA$6))),"")} | DE24: {=IFERROR(IF(LEN(CO24)=0,"",SUM((CD$7:CM$126=$BD24)*(CD$6:CM$6))),"")} | DF24: {=IFERROR(IF(LEN(DA24)=0,"",SUM((CP$7:CY$126=$BD24)*(CP$6:CY$6))),"")}
