Workbook
Name PrntRisks: OFFSET(Risks!$B$5,0,0,COUNTIF(Risks!$B$5:$B$205,"?*"),COUNTIF(Risks!$B$5:$H$5,"?*"))

Sheet Matrix
C2: RISK ASSESSMENT TEMPLATE
C3: RISK MATRIX
C7: MATRIX OPTIONS | J7: RISK ASSESSMENT MATRIX
K8: Likelihood
C9: Severity Options | E9: Likelihood Options | G9: Risk Impact Options | K9: =IFERROR(IF(LEN(E10)=0,"",E10),"") -> Very Likely | L9: =IFERROR(IF(LEN(E11)=0,"",E11),"") -> Likely | M9: =IFERROR(IF(LEN(E12)=0,"",E12),"") -> Unlikely | N9: =IFERROR(IF(LEN(E13)=0,"",E13),"") -> Highly Unlikely
C10: Fatality | E10: Very Likely | G10: High | I10: Severity | J10: =IFERROR(IF(LEN(C10)=0,"",C10),"") -> Fatality | K10: =IFERROR(IF(LEN($G$10)=0,"",$G$10),"") -> High | L10: =IFERROR(IF(LEN($G$10)=0,"",$G$10),"") -> High | M10: =IFERROR(IF(LEN($G$10)=0,"",$G$10),"") -> High | N10: =IFERROR(IF(LEN($G$11)=0,"",$G$11),"") -> Medium
C11: Major Injuries | E11: Likely | G11: Medium | J11: =IFERROR(IF(LEN(C11)=0,"",C11),"") -> Major Injuries | K11: =IFERROR(IF(LEN($G$10)=0,"",$G$10),"") -> High | L11: =IFERROR(IF(LEN($G$10)=0,"",$G$10),"") -> High | M11: =IFERROR(IF(LEN($G$11)=0,"",$G$11),"") -> Medium | N11: =IFERROR(IF(LEN($G$11)=0,"",$G$11),"") -> Medium
C12: Minor Injuries | E12: Unlikely | G12: Low | J12: =IFERROR(IF(LEN(C12)=0,"",C12),"") -> Minor Injuries | K12: =IFERROR(IF(LEN($G$10)=0,"",$G$10),"") -> High | L12: =IFERROR(IF(LEN($G$11)=0,"",$G$11),"") -> Medium | M12: =IFERROR(IF(LEN($G$11)=0,"",$G$11),"") -> Medium | N12: =IFERROR(IF(LEN($G$12)=0,"",$G$12),"") -> Low
C13: Negligible Injuries | E13: Highly Unlikely | J13: =IFERROR(IF(LEN(C13)=0,"",C13),"") -> Negligible Injuries | K13: =IFERROR(IF(LEN($G$11)=0,"",$G$11),"") -> Medium | L13: =IFERROR(IF(LEN($G$11)=0,"",$G$11),"") -> Medium | M13: =IFERROR(IF(LEN($G$12)=0,"",$G$12),"") -> Low | N13: =IFERROR(IF(LEN($G$12)=0,"",$G$12),"") -> Low

Sheet Risks
B2: RISK ASSESSMENT TEMPLATE
B3: RISK LIST
B5: Hazard | C5: Who is at risk? | D5: Severity | E5: Likelihood | F5: Risk Impact | G5: Responsible | H5: Recommended Action
B6: Food left over after meals | C6: 2nd floor staff | D6: Negligible Injuries | E6: Likely | F6: =IFERROR(IF(OR(LEN(B6)=0,LEN(D6)=0,LEN(E6)=0),"",INDEX(Matrix!$K$10:$N$13,MATCH(Risks!D6,Matrix!$J$10:$J$13,0),MATCH(Risks!E6,Matrix!$K$9:$N$9,0))),"") -> Medium | G6: John Smith | H6: Everyone will be responsible for cleaning their left over.
B7: Slippery stairs after the rain | C7: All the company employees | D7: Major Injuries | E7: Unlikely | F7: =IFERROR(IF(OR(LEN(B7)=0,LEN(D7)=0,LEN(E7)=0),"",INDEX(Matrix!$K$10:$N$13,MATCH(Risks!D7,Matrix!$J$10:$J$13,0),MATCH(Risks!E7,Matrix!$K$9:$N$9,0))),"") -> Medium | G7: John Smith | H7: Special non -slippery materials will be put on the stairs
B8: Slippery slopes during the winter season | C8: All the company employees | D8: Fatality | E8: Likely | F8: =IFERROR(IF(OR(LEN(B8)=0,LEN(D8)=0,LEN(E8)=0),"",INDEX(Matrix!$K$10:$N$13,MATCH(Risks!D8,Matrix!$J$10:$J$13,0),MATCH(Risks!E8,Matrix!$K$9:$N$9,0))),"") -> High | G8: John Smith | H8: Slopes must be cleaned in the morning and in the evening.
B9: Maintenance forgets to put caution signs while cleaning | C9: All the company employees | D9: Major Injuries | E9: Likely | F9: =IFERROR(IF(OR(LEN(B9)=0,LEN(D9)=0,LEN(E9)=0),"",INDEX(Matrix!$K$10:$N$13,MATCH(Risks!D9,Matrix!$J$10:$J$13,0),MATCH(Risks!E9,Matrix!$K$9:$N$9,0))),"") -> High | G9: John Smith | H9: Orientation must be made to inform our employees.
B10: Some employees do not use gloves during the process | C10: Customers | D10: Minor Injuries | E10: Likely | F10: =IFERROR(IF(OR(LEN(B10)=0,LEN(D10)=0,LEN(E10)=0),"",INDEX(Matrix!$K$10:$N$13,MATCH(Risks!D10,Matrix!$J$10:$J$13,0),MATCH(Risks!E10,Matrix!$K$9:$N$9,0))),"") -> Medium | G10: John Smith | H10: Orientation must be made to inform our employees.
B11: Refrigerator doesn't work properly in the kitchen | C11: All the company employees | D11: Minor Injuries | E11: Very Likely | F11: =IFERROR(IF(OR(LEN(B11)=0,LEN(D11)=0,LEN(E11)=0),"",INDEX(Matrix!$K$10:$N$13,MATCH(Risks!D11,Matrix!$J$10:$J$13,0),MATCH(Risks!E11,Matrix!$K$9:$N$9,0))),"") -> High | G11: John Smith | H11: Meals may go bad.
B12: Employees use too many additional plugs for devices | C12: All the company employees. | D12: Fatality | E12: Unlikely | F12: =IFERROR(IF(OR(LEN(B12)=0,LEN(D12)=0,LEN(E12)=0),"",INDEX(Matrix!$K$10:$N$13,MATCH(Risks!D12,Matrix!$J$10:$J$13,0),MATCH(Risks!E12,Matrix!$K$9:$N$9,0))),"") -> High | G12: John Smith | H12: Employees will be warned about the danger of these additional plugs.
B13: The wardrobe in the accounting should be repaired | C13: Accounting department employees | D13: Negligible Injuries | E13: Unlikely | F13: =IFERROR(IF(OR(LEN(B13)=0,LEN(D13)=0,LEN(E13)=0),"",INDEX(Matrix!$K$10:$N$13,MATCH(Risks!D13,Matrix!$J$10:$J$13,0),MATCH(Risks!E13,Matrix!$K$9:$N$9,0))),"") -> Low | G13: John Smith | H13: Maintenance will be told to repair it immediately.
B14: Lack of sleeves in the cafeteria | C14: People who use cafeteria regularly | D14: Major Injuries | E14: Highly Unlikely | F14: =IFERROR(IF(OR(LEN(B14)=0,LEN(D14)=0,LEN(E14)=0),"",INDEX(Matrix!$K$10:$N$13,MATCH(Risks!D14,Matrix!$J$10:$J$13,0),MATCH(Risks!E14,Matrix!$K$9:$N$9,0))),"") -> Medium | G14: John Smith | H14: This issue will be talked with the cafeteria manager.
B15: Incorrect use of the equipment | C15: Production department employees | D15: Fatality | E15: Likely | F15: =IFERROR(IF(OR(LEN(B15)=0,LEN(D15)=0,LEN(E15)=0),"",INDEX(Matrix!$K$10:$N$13,MATCH(Risks!D15,Matrix!$J$10:$J$13,0),MATCH(Risks!E15,Matrix!$K$9:$N$9,0))),"") -> High | G15: John Smith | H15: An expert will give an orientation about the mechanics
F16: =IFERROR(IF(OR(LEN(B16)=0,LEN(D16)=0,LEN(E16)=0),"",INDEX(Matrix!$K$10:$N$13,MATCH(Risks!D16,Matrix!$J$10:$J$13,0),MATCH(Risks!E16,Matrix!$K$9:$N$9,0))),"")
F17: =IFERROR(IF(OR(LEN(B17)=0,LEN(D17)=0,LEN(E17)=0),"",INDEX(Matrix!$K$10:$N$13,MATCH(Risks!D17,Matrix!$J$10:$J$13,0),MATCH(Risks!E17,Matrix!$K$9:$N$9,0))),"")
F18: =IFERROR(IF(OR(LEN(B18)=0,LEN(D18)=0,LEN(E18)=0),"",INDEX(Matrix!$K$10:$N$13,MATCH(Risks!D18,Matrix!$J$10:$J$13,0),MATCH(Risks!E18,Matrix!$K$9:$N$9,0))),"")
F19: =IFERROR(IF(OR(LEN(B19)=0,LEN(D19)=0,LEN(E19)=0),"",INDEX(Matrix!$K$10:$N$13,MATCH(Risks!D19,Matrix!$J$10:$J$13,0),MATCH(Risks!E19,Matrix!$K$9:$N$9,0))),"")
F20: =IFERROR(IF(OR(LEN(B20)=0,LEN(D20)=0,LEN(E20)=0),"",INDEX(Matrix!$K$10:$N$13,MATCH(Risks!D20,Matrix!$J$10:$J$13,0),MATCH(Risks!E20,Matrix!$K$9:$N$9,0))),"")

Sheet Report
C2: RISK ASSESSMENT TEMPLATE
C3: RISK REPORT
C7: Total Risks
C8: =IFERROR(COUNTIF(Risks!B6:B20,"?*"),"") -> 10
C10: =IFERROR(IF(LEN(Matrix!G10)=0,"",Matrix!G10&" Impact Risks"),"") -> High Impact Risks
C11: =IFERROR(IF(LEN(Matrix!G10)=0,"",COUNTIF(Risks!$F$6:$F$20,Matrix!$G$10)),"") -> 5
C13: =IFERROR(IF(LEN(Matrix!G11)=0,"",Matrix!G11&" Impact Risks"),"") -> Medium Impact Risks
C14: =IFERROR(IF(LEN(Matrix!G11)=0,"",COUNTIF(Risks!$F$6:$F$20,Matrix!$G$11)),"") -> 4
C16: =IFERROR(IF(LEN(Matrix!G12)=0,"",Matrix!G12&" Impact Risks"),"") -> Low Impact Risks
C17: =IFERROR(IF(LEN(Matrix!G12)=0,"",COUNTIF(Risks!$F$6:$F$20,Matrix!$G$12)),"") -> 1
C19: Detailed Breakdown
D20: =IFERROR(IF(LEN(Matrix!E10)=0,"",Matrix!E10),"") -> Very Likely | E20: =IFERROR(IF(LEN(Matrix!E11)=0,"",Matrix!E11),"") -> Likely | F20: =IFERROR(IF(LEN(Matrix!E12)=0,"",Matrix!E12),"") -> Unlikely | G20: =IFERROR(IF(LEN(Matrix!E13)=0,"",Matrix!E13),"") -> Highly Unlikely | H20: Total | I20: %
C21: =IFERROR(IF(LEN(Matrix!C10)=0,"",Matrix!C10),"") -> Fatality | D21: =IFERROR(IF(OR(LEN(D$20)=0,LEN($C21)=0),"",COUNTIFS(Risks!$D$6:$D$20,Report!$C21,Risks!$E$6:$E$20,Report!D$20)),"") -> 0 | E21: =IFERROR(IF(OR(LEN(E$20)=0,LEN($C21)=0),"",COUNTIFS(Risks!$D$6:$D$20,Report!$C21,Risks!$E$6:$E$20,Report!E$20)),"") -> 2 | F21: =IFERROR(IF(OR(LEN(F$20)=0,LEN($C21)=0),"",COUNTIFS(Risks!$D$6:$D$20,Report!$C21,Risks!$E$6:$E$20,Report!F$20)),"") -> 1 | G21: =IFERROR(IF(OR(LEN(G$20)=0,LEN($C21)=0),"",COUNTIFS(Risks!$D$6:$D$20,Report!$C21,Risks!$E$6:$E$20,Report!G$20)),"") -> 0 | H21: =IFERROR(SUM(D21:G21),"") -> 3 | I21: =IFERROR(H21/$H$25,"") -> 0.3
C22: =IFERROR(IF(LEN(Matrix!C11)=0,"",Matrix!C11),"") -> Major Injuries | D22: =IFERROR(IF(OR(LEN(D$20)=0,LEN($C22)=0),"",COUNTIFS(Risks!$D$6:$D$20,Report!$C22,Risks!$E$6:$E$20,Report!D$20)),"") -> 0 | E22: =IFERROR(IF(OR(LEN(E$20)=0,LEN($C22)=0),"",COUNTIFS(Risks!$D$6:$D$20,Report!$C22,Risks!$E$6:$E$20,Report!E$20)),"") -> 1 | F22: =IFERROR(IF(OR(LEN(F$20)=0,LEN($C22)=0),"",COUNTIFS(Risks!$D$6:$D$20,Report!$C22,Risks!$E$6:$E$20,Report!F$20)),"") -> 1 | G22: =IFERROR(IF(OR(LEN(G$20)=0,LEN($C22)=0),"",COUNTIFS(Risks!$D$6:$D$20,Report!$C22,Risks!$E$6:$E$20,Report!G$20)),"") -> 1 | H22: =IFERROR(SUM(D22:G22),"") -> 3 | I22: =IFERROR(H22/$H$25,"") -> 0.3
C23: =IFERROR(IF(LEN(Matrix!C12)=0,"",Matrix!C12),"") -> Minor Injuries | D23: =IFERROR(IF(OR(LEN(D$20)=0,LEN($C23)=0),"",COUNTIFS(Risks!$D$6:$D$20,Report!$C23,Risks!$E$6:$E$20,Report!D$20)),"") -> 1 | E23: =IFERROR(IF(OR(LEN(E$20)=0,LEN($C23)=0),"",COUNTIFS(Risks!$D$6:$D$20,Report!$C23,Risks!$E$6:$E$20,Report!E$20)),"") -> 1 | F23: =IFERROR(IF(OR(LEN(F$20)=0,LEN($C23)=0),"",COUNTIFS(Risks!$D$6:$D$20,Report!$C23,Risks!$E$6:$E$20,Report!F$20)),"") -> 0 | G23: =IFERROR(IF(OR(LEN(G$20)=0,LEN($C23)=0),"",COUNTIFS(Risks!$D$6:$D$20,Report!$C23,Risks!$E$6:$E$20,Report!G$20)),"") -> 0 | H23: =IFERROR(SUM(D23:G23),"") -> 2 | I23: =IFERROR(H23/$H$25,"") -> 0.2
C24: =IFERROR(IF(LEN(Matrix!C13)=0,"",Matrix!C13),"") -> Negligible Injuries | D24: =IFERROR(IF(OR(LEN(D$20)=0,LEN($C24)=0),"",COUNTIFS(Risks!$D$6:$D$20,Report!$C24,Risks!$E$6:$E$20,Report!D$20)),"") -> 0 | E24: =IFERROR(IF(OR(LEN(E$20)=0,LEN($C24)=0),"",COUNTIFS(Risks!$D$6:$D$20,Report!$C24,Risks!$E$6:$E$20,Report!E$20)),"") -> 1 | F24: =IFERROR(IF(OR(LEN(F$20)=0,LEN($C24)=0),"",COUNTIFS(Risks!$D$6:$D$20,Report!$C24,Risks!$E$6:$E$20,Report!F$20)),"") -> 1 | G24: =IFERROR(IF(OR(LEN(G$20)=0,LEN($C24)=0),"",COUNTIFS(Risks!$D$6:$D$20,Report!$C24,Risks!$E$6:$E$20,Report!G$20)),"") -> 0 | H24: =IFERROR(SUM(D24:G24),"") -> 2 | I24: =IFERROR(H24/$H$25,"") -> 0.2
C25: Total | D25: =IFERROR(SUM(D21:D24),"") -> 1 | E25: =IFERROR(SUM(E21:E24),"") -> 5 | F25: =IFERROR(SUM(F21:F24),"") -> 3 | G25: =IFERROR(SUM(G21:G24),"") -> 1 | H25: =IFERROR(SUM(D25:G25),"") -> 10
C26: % | D26: =IFERROR(D25/$H$25,"") -> 0.1 | E26: =IFERROR(E25/$H$25,"") -> 0.5 | F26: =IFERROR(F25/$H$25,"") -> 0.3 | G26: =IFERROR(G25/$H$25,"") -> 0.1
