Workbook
Name alternatives: OFFSET(Calc!$AA$10,0,0,Calc!$AA$6,1)
Name criterionscore: OFFSET(Calc!$AH$10,0,0,Calc!$AG$6,1)
Name filteredcriterion: OFFSET(Calc!$AG$10,0,0,Calc!$AG$6,1)
Name pughscores: OFFSET(Calc!$AB$10,0,0,Calc!$AA$6,1)

Sheet Matrix
B2: PUGH MATRIX TEMPLATE
B3: PUGH MATRIX
D7: PUGH SCORE | F7: =IFERROR(IF(LEN(F$9)=0,"",SUMPRODUCT($E$10:$E$59,F10:F59)),"") -> 9 | G7: =IFERROR(IF(LEN(G$9)=0,"",SUMPRODUCT($E$10:$E$59,G10:G59)),"") -> 19 | H7: =IFERROR(IF(LEN(H$9)=0,"",SUMPRODUCT($E$10:$E$59,H10:H59)),"") -> -11 | I7: =IFERROR(IF(LEN(I$9)=0,"",SUMPRODUCT($E$10:$E$59,I10:I59)),"") -> 9 | J7: =IFERROR(IF(LEN(J$9)=0,"",SUMPRODUCT($E$10:$E$59,J10:J59)),"")
C9: Criteria Group | D9: Criterion | E9: Weight | F9: Web App | G9: Training Course | H9: Software | I9: Mobile App
C10: Financial Factors | D10: Cost to implement | E10: 10 | F10: 1 | G10: 1 | H10: -1 | I10: 1
C11: Financial Factors | D11: Ongoing Maintenance Cost | E11: 2 | F11: -1 | G11: 1 | H11: 0 | I11: -1
C12: Technical Factors | D12: Customization Options | E12: 7 | F12: 1 | G12: 1 | H12: -1 | I12: 1
C13: User Impact | D13: User Friendliness | E13: 6 | F13: -1 | G13: 0 | H13: 1 | I13: -1

Sheet Dashboard
B2: PUGH MATRIX TEMPLATE
B3: DASHBOARD
C7: Criterion Groups | E7: All
C9: Rank | D9: Alternative Name | E9: Pugh Score
C10: 1 | D10: =IFERROR(IF(INDEX(Calc!$AA$10:$AA$19,MATCH(C10,Calc!$AD$10:$AD$19,0))="","",INDEX(Calc!$AA$10:$AA$19,MATCH(C10,Calc!$AD$10:$AD$19,0))),"") -> Training Course | E10: =IFERROR(IF(INDEX(Calc!$AB$10:$AB$19,MATCH(C10,Calc!$AD$10:$AD$19,0))="","",INDEX(Calc!$AB$10:$AB$19,MATCH(C10,Calc!$AD$10:$AD$19,0))),"") -> 19
C11: 2 | D11: =IFERROR(IF(INDEX(Calc!$AA$10:$AA$19,MATCH(C11,Calc!$AD$10:$AD$19,0))="","",INDEX(Calc!$AA$10:$AA$19,MATCH(C11,Calc!$AD$10:$AD$19,0))),"") -> Web App | E11: =IFERROR(IF(INDEX(Calc!$AB$10:$AB$19,MATCH(C11,Calc!$AD$10:$AD$19,0))="","",INDEX(Calc!$AB$10:$AB$19,MATCH(C11,Calc!$AD$10:$AD$19,0))),"") -> 9
C12: 3 | D12: =IFERROR(IF(INDEX(Calc!$AA$10:$AA$19,MATCH(C12,Calc!$AD$10:$AD$19,0))="","",INDEX(Calc!$AA$10:$AA$19,MATCH(C12,Calc!$AD$10:$AD$19,0))),"") -> Mobile App | E12: =IFERROR(IF(INDEX(Calc!$AB$10:$AB$19,MATCH(C12,Calc!$AD$10:$AD$19,0))="","",INDEX(Calc!$AB$10:$AB$19,MATCH(C12,Calc!$AD$10:$AD$19,0))),"") -> 9
C13: 4 | D13: =IFERROR(IF(INDEX(Calc!$AA$10:$AA$19,MATCH(C13,Calc!$AD$10:$AD$19,0))="","",INDEX(Calc!$AA$10:$AA$19,MATCH(C13,Calc!$AD$10:$AD$19,0))),"") -> Software | E13: =IFERROR(IF(INDEX(Calc!$AB$10:$AB$19,MATCH(C13,Calc!$AD$10:$AD$19,0))="","",INDEX(Calc!$AB$10:$AB$19,MATCH(C13,Calc!$AD$10:$AD$19,0))),"") -> -11
C14: 5 | D14: =IFERROR(IF(INDEX(Calc!$AA$10:$AA$19,MATCH(C14,Calc!$AD$10:$AD$19,0))="","",INDEX(Calc!$AA$10:$AA$19,MATCH(C14,Calc!$AD$10:$AD$19,0))),"") | E14: =IFERROR(IF(INDEX(Calc!$AB$10:$AB$19,MATCH(C14,Calc!$AD$10:$AD$19,0))="","",INDEX(Calc!$AB$10:$AB$19,MATCH(C14,Calc!$AD$10:$AD$19,0))),"")
C15: 6 | D15: =IFERROR(IF(INDEX(Calc!$AA$10:$AA$19,MATCH(C15,Calc!$AD$10:$AD$19,0))="","",INDEX(Calc!$AA$10:$AA$19,MATCH(C15,Calc!$AD$10:$AD$19,0))),"") | E15: =IFERROR(IF(INDEX(Calc!$AB$10:$AB$19,MATCH(C15,Calc!$AD$10:$AD$19,0))="","",INDEX(Calc!$AB$10:$AB$19,MATCH(C15,Calc!$AD$10:$AD$19,0))),"")
C16: 7 | D16: =IFERROR(IF(INDEX(Calc!$AA$10:$AA$19,MATCH(C16,Calc!$AD$10:$AD$19,0))="","",INDEX(Calc!$AA$10:$AA$19,MATCH(C16,Calc!$AD$10:$AD$19,0))),"") | E16: =IFERROR(IF(INDEX(Calc!$AB$10:$AB$19,MATCH(C16,Calc!$AD$10:$AD$19,0))="","",INDEX(Calc!$AB$10:$AB$19,MATCH(C16,Calc!$AD$10:$AD$19,0))),"")
C17: 8 | D17: =IFERROR(IF(INDEX(Calc!$AA$10:$AA$19,MATCH(C17,Calc!$AD$10:$AD$19,0))="","",INDEX(Calc!$AA$10:$AA$19,MATCH(C17,Calc!$AD$10:$AD$19,0))),"") | E17: =IFERROR(IF(INDEX(Calc!$AB$10:$AB$19,MATCH(C17,Calc!$AD$10:$AD$19,0))="","",INDEX(Calc!$AB$10:$AB$19,MATCH(C17,Calc!$AD$10:$AD$19,0))),"")
C18: 9 | D18: =IFERROR(IF(INDEX(Calc!$AA$10:$AA$19,MATCH(C18,Calc!$AD$10:$AD$19,0))="","",INDEX(Calc!$AA$10:$AA$19,MATCH(C18,Calc!$AD$10:$AD$19,0))),"") | E18: =IFERROR(IF(INDEX(Calc!$AB$10:$AB$19,MATCH(C18,Calc!$AD$10:$AD$19,0))="","",INDEX(Calc!$AB$10:$AB$19,MATCH(C18,Calc!$AD$10:$AD$19,0))),"")
C19: 10 | D19: =IFERROR(IF(INDEX(Calc!$AA$10:$AA$19,MATCH(C19,Calc!$AD$10:$AD$19,0))="","",INDEX(Calc!$AA$10:$AA$19,MATCH(C19,Calc!$AD$10:$AD$19,0))),"") | E19: =IFERROR(IF(INDEX(Calc!$AB$10:$AB$19,MATCH(C19,Calc!$AD$10:$AD$19,0))="","",INDEX(Calc!$AB$10:$AB$19,MATCH(C19,Calc!$AD$10:$AD$19,0))),"")

Sheet Calc
B2: Basic Dropdown Menus | F2: General Calculations | W2: Filter Dropdown Calculations | Z2: Ranking and Radar Chart Calculations | AF2: Column Chart Calculations
B4: Matrix Labels | D4: Weight | H4: Total Score | J4: =IFERROR(IF(LEN(J9)=0,"",SUMPRODUCT($I$10:$I$14,J$10:J$14)),"") -> 9 | K4: =IFERROR(IF(LEN(K9)=0,"",SUMPRODUCT($I$10:$I$14,K$10:K$14)),"") -> 19 | L4: =IFERROR(IF(LEN(L9)=0,"",SUMPRODUCT($I$10:$I$14,L$10:L$14)),"") -> -11 | M4: =IFERROR(IF(LEN(M9)=0,"",SUMPRODUCT($I$10:$I$14,M$10:M$14)),"") -> 9 | N4: =IFERROR(IF(LEN(N9)=0,"",SUMPRODUCT($I$10:$I$14,N$10:N$14)),"") | O4: =IFERROR(IF(LEN(O9)=0,"",SUMPRODUCT($I$10:$I$14,O$10:O$14)),"") | P4: =IFERROR(IF(LEN(P9)=0,"",SUMPRODUCT($I$10:$I$14,P$10:P$14)),"") | Q4: =IFERROR(IF(LEN(Q9)=0,"",SUMPRODUCT($I$10:$I$14,Q$10:Q$14)),"") | ... S4: =IFERROR(IF(LEN(S9)=0,"",SUMPRODUCT($I$10:$I$14,S$10:S$14)),"")
B5: 1 | D5: 1 | H5: Filtered Score | J5: =IFERROR(IF(LEN(J9)=0,"",SUMPRODUCT($I$10:$I$14,J$10:J$14,$T$10:$T$14)),"") -> 9 | K5: =IFERROR(IF(LEN(K9)=0,"",SUMPRODUCT($I$10:$I$14,K$10:K$14,$T$10:$T$14)),"") -> 19 | L5: =IFERROR(IF(LEN(L9)=0,"",SUMPRODUCT($I$10:$I$14,L$10:L$14,$T$10:$T$14)),"") -> -11 | M5: =IFERROR(IF(LEN(M9)=0,"",SUMPRODUCT($I$10:$I$14,M$10:M$14,$T$10:$T$14)),"") -> 9 | N5: =IFERROR(IF(LEN(N9)=0,"",SUMPRODUCT($I$10:$I$14,N$10:N$14,$T$10:$T$14)),"") | O5: =IFERROR(IF(LEN(O9)=0,"",SUMPRODUCT($I$10:$I$14,O$10:O$14,$T$10:$T$14)),"") | P5: =IFERROR(IF(LEN(P9)=0,"",SUMPRODUCT($I$10:$I$14,P$10:P$14,$T$10:$T$14)),"") | Q5: =IFERROR(IF(LEN(Q9)=0,"",SUMPRODUCT($I$10:$I$14,Q$10:Q$14,$T$10:$T$14)),"") | ... S5: =IFERROR(IF(LEN(S9)=0,"",SUMPRODUCT($I$10:$I$14,S$10:S$14,$T$10:$T$14)),"")
B6: 0 | D6: 2 | W6: Criterion # | X6: =IFERROR(COUNTIF(X10:X14,"?*"),0) -> 3 | Z6: Alternative # | AA6: =IFERROR(MAX(COUNTIF($AA$10:$AA$19,"?*"),1),"") -> 4 | AF6: Filtered Criterion # | AG6: =IFERROR(MAX(COUNTIF($AG$10:$AG$14,"?*"),1),"") -> 4
B7: -1 | D7: 3
D8: 4 | F8: col.index | G8: 1 | H8: 2 | I8: 3 | J8: 4 | K8: 5 | L8: 6 | M8: 7 | N8: 8 | O8: 9 | P8: 10 | Q8: 11 | R8: 12 | S8: 13 | W8: Unique Criterion Group | X8: Group-Dropdown
D9: 5 | F9: row.index | G9: =IFERROR(IF(LEN(INDEX(Matrix!$C$9:$O$9,1,Calc!G$8))=0,"",INDEX(Matrix!$C$9:$O$9,1,Calc!G$8)),"") -> Criteria Group | H9: =IFERROR(IF(LEN(INDEX(Matrix!$C$9:$O$9,1,Calc!H$8))=0,"",INDEX(Matrix!$C$9:$O$9,1,Calc!H$8)),"") -> Criterion | I9: =IFERROR(IF(LEN(INDEX(Matrix!$C$9:$O$9,1,Calc!I$8))=0,"",INDEX(Matrix!$C$9:$O$9,1,Calc!I$8)),"") -> Weight | J9: =IFERROR(IF(LEN(INDEX(Matrix!$C$9:$O$9,1,Calc!J$8))=0,"",INDEX(Matrix!$C$9:$O$9,1,Calc!J$8)),"") -> Web App | K9: =IFERROR(IF(LEN(INDEX(Matrix!$C$9:$O$9,1,Calc!K$8))=0,"",INDEX(Matrix!$C$9:$O$9,1,Calc!K$8)),"") -> Training Course | L9: =IFERROR(IF(LEN(INDEX(Matrix!$C$9:$O$9,1,Calc!L$8))=0,"",INDEX(Matrix!$C$9:$O$9,1,Calc!L$8)),"") -> Software | M9: =IFERROR(IF(LEN(INDEX(Matrix!$C$9:$O$9,1,Calc!M$8))=0,"",INDEX(Matrix!$C$9:$O$9,1,Calc!M$8)),"") -> Mobile App | N9: =IFERROR(IF(LEN(INDEX(Matrix!$C$9:$O$9,1,Calc!N$8))=0,"",INDEX(Matrix!$C$9:$O$9,1,Calc!N$8)),"") | T9: Filter | U9: Criterion Total | X9: All | Z9: index | AA9: Alternatives | AB9: Fitered Scores | AC9: Rank | AD9: Rank Helper | AF9: Filtered Criterion | AG9: Criterion Without Blank | AH9: Total Score
D10: 6 | F10: 1 | G10: =IFERROR(IF(LEN(INDEX(Matrix!$C$10:$O$14,Calc!$F10,Calc!G$8))=0,"",INDEX(Matrix!$C$10:$O$14,Calc!$F10,Calc!G$8)),"") -> Financial Factors | H10: =IFERROR(IF(LEN(INDEX(Matrix!$C$10:$O$14,Calc!$F10,Calc!H$8))=0,"",INDEX(Matrix!$C$10:$O$14,Calc!$F10,Calc!H$8)),"") -> Cost to implement | I10: =IFERROR(IF(LEN(INDEX(Matrix!$C$10:$O$14,Calc!$F10,Calc!I$8))=0,"",INDEX(Matrix!$C$10:$O$14,Calc!$F10,Calc!I$8)),"") -> 10 | J10: =IFERROR(IF(LEN(INDEX(Matrix!$C$10:$O$14,Calc!$F10,Calc!J$8))=0,"",INDEX(Matrix!$C$10:$O$14,Calc!$F10,Calc!J$8)),"") -> 1 | K10: =IFERROR(IF(LEN(INDEX(Matrix!$C$10:$O$14,Calc!$F10,Calc!K$8))=0,"",INDEX(Matrix!$C$10:$O$14,Calc!$F10,Calc!K$8)),"") -> 1 | L10: =IFERROR(IF(LEN(INDEX(Matrix!$C$10:$O$14,Calc!$F10,Calc!L$8))=0,"",INDEX(Matrix!$C$10:$O$14,Calc!$F10,Calc!L$8)),"") -> -1 | M10: =IFERROR(IF(LEN(INDEX(Matrix!$C$10:$O$14,Calc!$F10,Calc!M$8))=0,"",INDEX(Matrix!$C$10:$O$14,Calc!$F10,Calc!M$8)),"") -> 1 | N10: =IFERROR(IF(LEN(INDEX(Matrix!$C$10:$O$14,Calc!$F10,Calc!N$8))=0,"",INDEX(Matrix!$C$10:$O$14,Calc!$F10,Calc!N$8)),"") | ... S10: =IFERROR(IF(LEN(INDEX(Matrix!$C$10:$O$14,Calc!$F10,Calc!S$8))=0,"",INDEX(Matrix!$C$10:$O$14,Calc!$F10,Calc!S$8)),"") | T10: =IFERROR(IF(OR(Dashboard!$E$7="",Dashboard!$E$7="All"),1,IF(Dashboard!$E$7=Calc!$G10,1,0)),"") -> 1 | U10: =IFERROR(IF(LEN(H10)=0,"",SUM(J10:S10)),"") -> 2 | W10: =IFERROR(IF(COUNTIF($G$10:$G10,G10)>1,"",G10),"") -> Financial Factors | X10: {=IFERROR(INDEX($W$10:$W$14,SMALL(IF(LEN($W$10:$W$14)>0,ROW($W$10:$W$14)-ROW(INDEX($W$10:$W$14,1,1))+1),ROW(A10)-ROW($A$9))),"")} -> Financial Factors | Z10: 1 | AA10: =IFERROR(IF(LEN(INDEX($J$9:$S$9,1,Calc!$Z10))=0,"",INDEX($J$9:$S$9,1,Calc!$Z10)),"") -> Web App | AB10: =IFERROR(IF(LEN(AA10)=0,"",INDEX($J$5:$S$5,1,MATCH(AA10,$J$9:$S$9,0))),"") -> 9 | AC10: =IFERROR(RANK($AB10,$AB$10:$AB$19),"") -> 2 | AD10: =IFERROR(IF(COUNTIF($AC$10:AC10,AC10)>1,AC10+COUNTIF($AC$10:AC10,AC10)-1,AC10),"") -> 2 | AF10: =IFERROR(IF(OR(LEN(G10)=0,LEN(H10)=0),"",IF(T10=1,Calc!H10,"")),"") -> Cost to implement | AG10: {=IFERROR(INDEX($AF$10:$AF$59,SMALL(IF(LEN($AF$10:$AF$59)>0,ROW($AF$10:$AF$59)-ROW(INDEX($AF$10:$AF$59,1,1))+1),ROW(A10)-ROW($A$9))),"")} -> Cost to implement | AH10: =IFERROR(IF(LEN(AG10)=0,"",INDEX($U$10:$U$59,MATCH(AG10,$H$10:$H$59,0))),"") -> 2
D11: 7 | F11: 2 | G11: =IFERROR(IF(LEN(INDEX(Matrix!$C$10:$O$14,Calc!$F11,Calc!G$8))=0,"",INDEX(Matrix!$C$10:$O$14,Calc!$F11,Calc!G$8)),"") -> Financial Factors | H11: =IFERROR(IF(LEN(INDEX(Matrix!$C$10:$O$14,Calc!$F11,Calc!H$8))=0,"",INDEX(Matrix!$C$10:$O$14,Calc!$F11,Calc!H$8)),"") -> Ongoing Maintenance Cost | I11: =IFERROR(IF(LEN(INDEX(Matrix!$C$10:$O$14,Calc!$F11,Calc!I$8))=0,"",INDEX(Matrix!$C$10:$O$14,Calc!$F11,Calc!I$8)),"") -> 2 | J11: =IFERROR(IF(LEN(INDEX(Matrix!$C$10:$O$14,Calc!$F11,Calc!J$8))=0,"",INDEX(Matrix!$C$10:$O$14,Calc!$F11,Calc!J$8)),"") -> -1 | K11: =IFERROR(IF(LEN(INDEX(Matrix!$C$10:$O$14,Calc!$F11,Calc!K$8))=0,"",INDEX(Matrix!$C$10:$O$14,Calc!$F11,Calc!K$8)),"") -> 1 | L11: =IFERROR(IF(LEN(INDEX(Matrix!$C$10:$O$14,Calc!$F11,Calc!L$8))=0,"",INDEX(Matrix!$C$10:$O$14,Calc!$F11,Calc!L$8)),"") -> 0 | M11: =IFERROR(IF(LEN(INDEX(Matrix!$C$10:$O$14,Calc!$F11,Calc!M$8))=0,"",INDEX(Matrix!$C$10:$O$14,Calc!$F11,Calc!M$8)),"") -> -1 | N11: =IFERROR(IF(LEN(INDEX(Matrix!$C$10:$O$14,Calc!$F11,Calc!N$8))=0,"",INDEX(Matrix!$C$10:$O$14,Calc!$F11,Calc!N$8)),"") | ... S11: =IFERROR(IF(LEN(INDEX(Matrix!$C$10:$O$14,Calc!$F11,Calc!S$8))=0,"",INDEX(Matrix!$C$10:$O$14,Calc!$F11,Calc!S$8)),"") | T11: =IFERROR(IF(OR(Dashboard!$E$7="",Dashboard!$E$7="All"),1,IF(Dashboard!$E$7=Calc!$G11,1,0)),"") -> 1 | U11: =IFERROR(IF(LEN(H11)=0,"",SUM(J11:S11)),"") -> -1 | W11: =IFERROR(IF(COUNTIF($G$10:$G11,G11)>1,"",G11),"") | X11: {=IFERROR(INDEX($W$10:$W$14,SMALL(IF(LEN($W$10:$W$14)>0,ROW($W$10:$W$14)-ROW(INDEX($W$10:$W$14,1,1))+1),ROW(A11)-ROW($A$9))),"")} -> Technical Factors | Z11: 2 | AA11: =IFERROR(IF(LEN(INDEX($J$9:$S$9,1,Calc!$Z11))=0,"",INDEX($J$9:$S$9,1,Calc!$Z11)),"") -> Training Course | AB11: =IFERROR(IF(LEN(AA11)=0,"",INDEX($J$5:$S$5,1,MATCH(AA11,$J$9:$S$9,0))),"") -> 19 | AC11: =IFERROR(RANK($AB11,$AB$10:$AB$19),"") -> 1 | AD11: =IFERROR(IF(COUNTIF($AC$10:AC11,AC11)>1,AC11+COUNTIF($AC$10:AC11,AC11)-1,AC11),"") -> 1 | AF11: =IFERROR(IF(OR(LEN(G11)=0,LEN(H11)=0),"",IF(T11=1,Calc!H11,"")),"") -> Ongoing Maintenance Cost | AG11: {=IFERROR(INDEX($AF$10:$AF$59,SMALL(IF(LEN($AF$10:$AF$59)>0,ROW($AF$10:$AF$59)-ROW(INDEX($AF$10:$AF$59,1,1))+1),ROW(A11)-ROW($A$9))),"")} -> Ongoing Maintenance Cost | AH11: =IFERROR(IF(LEN(AG11)=0,"",INDEX($U$10:$U$59,MATCH(AG11,$H$10:$H$59,0))),"") -> -1
D12: 8 | F12: 3 | G12: =IFERROR(IF(LEN(INDEX(Matrix!$C$10:$O$14,Calc!$F12,Calc!G$8))=0,"",INDEX(Matrix!$C$10:$O$14,Calc!$F12,Calc!G$8)),"") -> Technical Factors | H12: =IFERROR(IF(LEN(INDEX(Matrix!$C$10:$O$14,Calc!$F12,Calc!H$8))=0,"",INDEX(Matrix!$C$10:$O$14,Calc!$F12,Calc!H$8)),"") -> Customization Options | I12: =IFERROR(IF(LEN(INDEX(Matrix!$C$10:$O$14,Calc!$F12,Calc!I$8))=0,"",INDEX(Matrix!$C$10:$O$14,Calc!$F12,Calc!I$8)),"") -> 7 | J12: =IFERROR(IF(LEN(INDEX(Matrix!$C$10:$O$14,Calc!$F12,Calc!J$8))=0,"",INDEX(Matrix!$C$10:$O$14,Calc!$F12,Calc!J$8)),"") -> 1 | K12: =IFERROR(IF(LEN(INDEX(Matrix!$C$10:$O$14,Calc!$F12,Calc!K$8))=0,"",INDEX(Matrix!$C$10:$O$14,Calc!$F12,Calc!K$8)),"") -> 1 | L12: =IFERROR(IF(LEN(INDEX(Matrix!$C$10:$O$14,Calc!$F12,Calc!L$8))=0,"",INDEX(Matrix!$C$10:$O$14,Calc!$F12,Calc!L$8)),"") -> -1 | M12: =IFERROR(IF(LEN(INDEX(Matrix!$C$10:$O$14,Calc!$F12,Calc!M$8))=0,"",INDEX(Matrix!$C$10:$O$14,Calc!$F12,Calc!M$8)),"") -> 1 | N12: =IFERROR(IF(LEN(INDEX(Matrix!$C$10:$O$14,Calc!$F12,Calc!N$8))=0,"",INDEX(Matrix!$C$10:$O$14,Calc!$F12,Calc!N$8)),"") | ... S12: =IFERROR(IF(LEN(INDEX(Matrix!$C$10:$O$14,Calc!$F12,Calc!S$8))=0,"",INDEX(Matrix!$C$10:$O$14,Calc!$F12,Calc!S$8)),"") | T12: =IFERROR(IF(OR(Dashboard!$E$7="",Dashboard!$E$7="All"),1,IF(Dashboard!$E$7=Calc!$G12,1,0)),"") -> 1 | U12: =IFERROR(IF(LEN(H12)=0,"",SUM(J12:S12)),"") -> 2 | W12: =IFERROR(IF(COUNTIF($G$10:$G12,G12)>1,"",G12),"") -> Technical Factors | X12: {=IFERROR(INDEX($W$10:$W$14,SMALL(IF(LEN($W$10:$W$14)>0,ROW($W$10:$W$14)-ROW(INDEX($W$10:$W$14,1,1))+1),ROW(A12)-ROW($A$9))),"")} -> User Impact | Z12: 3 | AA12: =IFERROR(IF(LEN(INDEX($J$9:$S$9,1,Calc!$Z12))=0,"",INDEX($J$9:$S$9,1,Calc!$Z12)),"") -> Software | AB12: =IFERROR(IF(LEN(AA12)=0,"",INDEX($J$5:$S$5,1,MATCH(AA12,$J$9:$S$9,0))),"") -> -11 | AC12: =IFERROR(RANK($AB12,$AB$10:$AB$19),"") -> 4 | AD12: =IFERROR(IF(COUNTIF($AC$10:AC12,AC12)>1,AC12+COUNTIF($AC$10:AC12,AC12)-1,AC12),"") -> 4 | AF12: =IFERROR(IF(OR(LEN(G12)=0,LEN(H12)=0),"",IF(T12=1,Calc!H12,"")),"") -> Customization Options | AG12: {=IFERROR(INDEX($AF$10:$AF$59,SMALL(IF(LEN($AF$10:$AF$59)>0,ROW($AF$10:$AF$59)-ROW(INDEX($AF$10:$AF$59,1,1))+1),ROW(A12)-ROW($A$9))),"")} -> Customization Options | AH12: =IFERROR(IF(LEN(AG12)=0,"",INDEX($U$10:$U$59,MATCH(AG12,$H$10:$H$59,0))),"") -> 2
D13: 9 | F13: 4 | G13: =IFERROR(IF(LEN(INDEX(Matrix!$C$10:$O$14,Calc!$F13,Calc!G$8))=0,"",INDEX(Matrix!$C$10:$O$14,Calc!$F13,Calc!G$8)),"") -> User Impact | H13: =IFERROR(IF(LEN(INDEX(Matrix!$C$10:$O$14,Calc!$F13,Calc!H$8))=0,"",INDEX(Matrix!$C$10:$O$14,Calc!$F13,Calc!H$8)),"") -> User Friendliness | I13: =IFERROR(IF(LEN(INDEX(Matrix!$C$10:$O$14,Calc!$F13,Calc!I$8))=0,"",INDEX(Matrix!$C$10:$O$14,Calc!$F13,Calc!I$8)),"") -> 6 | J13: =IFERROR(IF(LEN(INDEX(Matrix!$C$10:$O$14,Calc!$F13,Calc!J$8))=0,"",INDEX(Matrix!$C$10:$O$14,Calc!$F13,Calc!J$8)),"") -> -1 | K13: =IFERROR(IF(LEN(INDEX(Matrix!$C$10:$O$14,Calc!$F13,Calc!K$8))=0,"",INDEX(Matrix!$C$10:$O$14,Calc!$F13,Calc!K$8)),"") -> 0 | L13: =IFERROR(IF(LEN(INDEX(Matrix!$C$10:$O$14,Calc!$F13,Calc!L$8))=0,"",INDEX(Matrix!$C$10:$O$14,Calc!$F13,Calc!L$8)),"") -> 1 | M13: =IFERROR(IF(LEN(INDEX(Matrix!$C$10:$O$14,Calc!$F13,Calc!M$8))=0,"",INDEX(Matrix!$C$10:$O$14,Calc!$F13,Calc!M$8)),"") -> -1 | N13: =IFERROR(IF(LEN(INDEX(Matrix!$C$10:$O$14,Calc!$F13,Calc!N$8))=0,"",INDEX(Matrix!$C$10:$O$14,Calc!$F13,Calc!N$8)),"") | ... S13: =IFERROR(IF(LEN(INDEX(Matrix!$C$10:$O$14,Calc!$F13,Calc!S$8))=0,"",INDEX(Matrix!$C$10:$O$14,Calc!$F13,Calc!S$8)),"") | T13: =IFERROR(IF(OR(Dashboard!$E$7="",Dashboard!$E$7="All"),1,IF(Dashboard!$E$7=Calc!$G13,1,0)),"") -> 1 | U13: =IFERROR(IF(LEN(H13)=0,"",SUM(J13:S13)),"") -> -1 | W13: =IFERROR(IF(COUNTIF($G$10:$G13,G13)>1,"",G13),"") -> User Impact | X13: {=IFERROR(INDEX($W$10:$W$14,SMALL(IF(LEN($W$10:$W$14)>0,ROW($W$10:$W$14)-ROW(INDEX($W$10:$W$14,1,1))+1),ROW(A13)-ROW($A$9))),"")} | Z13: 4 | AA13: =IFERROR(IF(LEN(INDEX($J$9:$S$9,1,Calc!$Z13))=0,"",INDEX($J$9:$S$9,1,Calc!$Z13)),"") -> Mobile App | AB13: =IFERROR(IF(LEN(AA13)=0,"",INDEX($J$5:$S$5,1,MATCH(AA13,$J$9:$S$9,0))),"") -> 9 | AC13: =IFERROR(RANK($AB13,$AB$10:$AB$19),"") -> 2 | AD13: =IFERROR(IF(COUNTIF($AC$10:AC13,AC13)>1,AC13+COUNTIF($AC$10:AC13,AC13)-1,AC13),"") -> 3 | AF13: =IFERROR(IF(OR(LEN(G13)=0,LEN(H13)=0),"",IF(T13=1,Calc!H13,"")),"") -> User Friendliness | AG13: {=IFERROR(INDEX($AF$10:$AF$59,SMALL(IF(LEN($AF$10:$AF$59)>0,ROW($AF$10:$AF$59)-ROW(INDEX($AF$10:$AF$59,1,1))+1),ROW(A13)-ROW($A$9))),"")} -> User Friendliness | AH13: =IFERROR(IF(LEN(AG13)=0,"",INDEX($U$10:$U$59,MATCH(AG13,$H$10:$H$59,0))),"") -> -1
D14: 10 | F14: 5 | G14: =IFERROR(IF(LEN(INDEX(Matrix!$C$10:$O$14,Calc!$F14,Calc!G$8))=0,"",INDEX(Matrix!$C$10:$O$14,Calc!$F14,Calc!G$8)),"") | H14: =IFERROR(IF(LEN(INDEX(Matrix!$C$10:$O$14,Calc!$F14,Calc!H$8))=0,"",INDEX(Matrix!$C$10:$O$14,Calc!$F14,Calc!H$8)),"") | I14: =IFERROR(IF(LEN(INDEX(Matrix!$C$10:$O$14,Calc!$F14,Calc!I$8))=0,"",INDEX(Matrix!$C$10:$O$14,Calc!$F14,Calc!I$8)),"") | J14: =IFERROR(IF(LEN(INDEX(Matrix!$C$10:$O$14,Calc!$F14,Calc!J$8))=0,"",INDEX(Matrix!$C$10:$O$14,Calc!$F14,Calc!J$8)),"") | K14: =IFERROR(IF(LEN(INDEX(Matrix!$C$10:$O$14,Calc!$F14,Calc!K$8))=0,"",INDEX(Matrix!$C$10:$O$14,Calc!$F14,Calc!K$8)),"") | L14: =IFERROR(IF(LEN(INDEX(Matrix!$C$10:$O$14,Calc!$F14,Calc!L$8))=0,"",INDEX(Matrix!$C$10:$O$14,Calc!$F14,Calc!L$8)),"") | M14: =IFERROR(IF(LEN(INDEX(Matrix!$C$10:$O$14,Calc!$F14,Calc!M$8))=0,"",INDEX(Matrix!$C$10:$O$14,Calc!$F14,Calc!M$8)),"") | N14: =IFERROR(IF(LEN(INDEX(Matrix!$C$10:$O$14,Calc!$F14,Calc!N$8))=0,"",INDEX(Matrix!$C$10:$O$14,Calc!$F14,Calc!N$8)),"") | ... S14: =IFERROR(IF(LEN(INDEX(Matrix!$C$10:$O$14,Calc!$F14,Calc!S$8))=0,"",INDEX(Matrix!$C$10:$O$14,Calc!$F14,Calc!S$8)),"") | T14: =IFERROR(IF(OR(Dashboard!$E$7="",Dashboard!$E$7="All"),1,IF(Dashboard!$E$7=Calc!$G14,1,0)),"") -> 1 | U14: =IFERROR(IF(LEN(H14)=0,"",SUM(J14:S14)),"") | W14: =IFERROR(IF(COUNTIF($G$10:$G14,G14)>1,"",G14),"") | X14: {=IFERROR(INDEX($W$10:$W$14,SMALL(IF(LEN($W$10:$W$14)>0,ROW($W$10:$W$14)-ROW(INDEX($W$10:$W$14,1,1))+1),ROW(A14)-ROW($A$9))),"")} | Z14: 5 | AA14: =IFERROR(IF(LEN(INDEX($J$9:$S$9,1,Calc!$Z14))=0,"",INDEX($J$9:$S$9,1,Calc!$Z14)),"") | AB14: =IFERROR(IF(LEN(AA14)=0,"",INDEX($J$5:$S$5,1,MATCH(AA14,$J$9:$S$9,0))),"") | AC14: =IFERROR(RANK($AB14,$AB$10:$AB$19),"") | AD14: =IFERROR(IF(COUNTIF($AC$10:AC14,AC14)>1,AC14+COUNTIF($AC$10:AC14,AC14)-1,AC14),"") | AF14: =IFERROR(IF(OR(LEN(G14)=0,LEN(H14)=0),"",IF(T14=1,Calc!H14,"")),"") | AG14: {=IFERROR(INDEX($AF$10:$AF$59,SMALL(IF(LEN($AF$10:$AF$59)>0,ROW($AF$10:$AF$59)-ROW(INDEX($AF$10:$AF$59,1,1))+1),ROW(A14)-ROW($A$9))),"")} | AH14: =IFERROR(IF(LEN(AG14)=0,"",INDEX($U$10:$U$59,MATCH(AG14,$H$10:$H$59,0))),"")
Z15: 6 | AA15: =IFERROR(IF(LEN(INDEX($J$9:$S$9,1,Calc!$Z15))=0,"",INDEX($J$9:$S$9,1,Calc!$Z15)),"") | AB15: =IFERROR(IF(LEN(AA15)=0,"",INDEX($J$5:$S$5,1,MATCH(AA15,$J$9:$S$9,0))),"") | AC15: =IFERROR(RANK($AB15,$AB$10:$AB$19),"") | AD15: =IFERROR(IF(COUNTIF($AC$10:AC15,AC15)>1,AC15+COUNTIF($AC$10:AC15,AC15)-1,AC15),"")
Z16: 7 | AA16: =IFERROR(IF(LEN(INDEX($J$9:$S$9,1,Calc!$Z16))=0,"",INDEX($J$9:$S$9,1,Calc!$Z16)),"") | AB16: =IFERROR(IF(LEN(AA16)=0,"",INDEX($J$5:$S$5,1,MATCH(AA16,$J$9:$S$9,0))),"") | AC16: =IFERROR(RANK($AB16,$AB$10:$AB$19),"") | AD16: =IFERROR(IF(COUNTIF($AC$10:AC16,AC16)>1,AC16+COUNTIF($AC$10:AC16,AC16)-1,AC16),"")
Z17: 8 | AA17: =IFERROR(IF(LEN(INDEX($J$9:$S$9,1,Calc!$Z17))=0,"",INDEX($J$9:$S$9,1,Calc!$Z17)),"") | AB17: =IFERROR(IF(LEN(AA17)=0,"",INDEX($J$5:$S$5,1,MATCH(AA17,$J$9:$S$9,0))),"") | AC17: =IFERROR(RANK($AB17,$AB$10:$AB$19),"") | AD17: =IFERROR(IF(COUNTIF($AC$10:AC17,AC17)>1,AC17+COUNTIF($AC$10:AC17,AC17)-1,AC17),"")
Z18: 9 | AA18: =IFERROR(IF(LEN(INDEX($J$9:$S$9,1,Calc!$Z18))=0,"",INDEX($J$9:$S$9,1,Calc!$Z18)),"") | AB18: =IFERROR(IF(LEN(AA18)=0,"",INDEX($J$5:$S$5,1,MATCH(AA18,$J$9:$S$9,0))),"") | AC18: =IFERROR(RANK($AB18,$AB$10:$AB$19),"") | AD18: =IFERROR(IF(COUNTIF($AC$10:AC18,AC18)>1,AC18+COUNTIF($AC$10:AC18,AC18)-1,AC18),"")
Z19: 10 | AA19: =IFERROR(IF(LEN(INDEX($J$9:$S$9,1,Calc!$Z19))=0,"",INDEX($J$9:$S$9,1,Calc!$Z19)),"") | AB19: =IFERROR(IF(LEN(AA19)=0,"",INDEX($J$5:$S$5,1,MATCH(AA19,$J$9:$S$9,0))),"") | AC19: =IFERROR(RANK($AB19,$AB$10:$AB$19),"") | AD19: =IFERROR(IF(COUNTIF($AC$10:AC19,AC19)>1,AC19+COUNTIF($AC$10:AC19,AC19)-1,AC19),"")
