Workbook
Name AverageRisksforMarkets: OFFSET(Calc!$K$67,0,0,1,MAX(5-COUNTBLANK(Calc!$K$67:$O$67),1))
Name ForceFilter: Calc!$D$14
Name MarketFilter: Calc!$D$11
Name MarketList: OFFSET(Calc!$K$60,0,0,1,MAX(5-COUNTBLANK(Calc!$K$60:$O$60),1))
Name PowerofBuyers: OFFSET(Calc!$K$64,0,0,1,MAX(5-COUNTBLANK(Calc!$K$64:$O$64),1))
Name PowerofSuppliers: OFFSET(Calc!$K$62,0,0,1,MAX(5-COUNTBLANK(Calc!$K$62:$O$62),1))
Name RivalryAmongExistingCompetitors: OFFSET(Calc!$K$63,0,0,1,MAX(5-COUNTBLANK(Calc!$K$63:$O$63),1))
Name ThreatofNewEntrants: OFFSET(Calc!$K$61,0,0,1,MAX(5-COUNTBLANK(Calc!$K$61:$O$61),1))
Name ThreatScala: Menu!$L$10
Name ThreatsofSubstituteProducts: OFFSET(Calc!$K$65,0,0,1,MAX(5-COUNTBLANK(Calc!$K$65:$O$65),1))

Sheet Menu
C2: PORTER'S FIVE FORCES TEMPLATE
C3: MENU
D7: NAVIGATION WHEEL | L7: SETTINGS
L9: Threat Scale
L10: 1-10
L12: Market List
L13: Market 1
L14: Market 2
L15: Market 3

Sheet Entrants
B2: PORTER'S FIVE FORCES TEMPLATE
B3: THREAT OF NEW ENTRANTS
B5: New Entrants | E5: Threat Scores
B6: Determinants | C6: Description | D6: Notes | E6: =IFERROR(IF(LEN(Menu!$L$13)>0,Menu!$L$13,""),"") -> Market 1 | F6: =IFERROR(IF(LEN(Menu!$L$14)>0,Menu!$L$14,""),"") -> Market 2 | G6: =IFERROR(IF(LEN(Menu!$L$15)>0,Menu!$L$15,""),"") -> Market 3 | H6: =IFERROR(IF(LEN(Menu!$L$16)>0,Menu!$L$16,""),"") | I6: =IFERROR(IF(LEN(Menu!$L$17)>0,Menu!$L$17,""),"")
B7: Brand loyalty | C7: Is there a high interest in the products available in the market? | E7: 3 | F7: 5 | G7: 4 | K7: =IF(AND(ThreatScala="1-5",MAX($E7:$I7)>5),"Please check the threat scale!",IF(AND(ThreatScala="1-10",MAX($E7:$I7)>10),"Please check the threat scale!",IF(AND(ThreatScala="1-100",MAX($E7:$I7)>100),"Please check the threat scale!","")))
B8: Government policy | C8: Are there any industry-specific restrictions? | E8: 4 | F8: 6 | G8: 5 | K8: =IF(AND(ThreatScala="1-5",MAX($E8:$I8)>5),"Please check the threat scale!",IF(AND(ThreatScala="1-10",MAX($E8:$I8)>10),"Please check the threat scale!",IF(AND(ThreatScala="1-100",MAX($E8:$I8)>100),"Please check the threat scale!","")))
B9: Capital requirement | C9: Do you need high capital? | E9: 3 | F9: 7 | G9: 2 | K9: =IF(AND(ThreatScala="1-5",MAX($E9:$I9)>5),"Please check the threat scale!",IF(AND(ThreatScala="1-10",MAX($E9:$I9)>10),"Please check the threat scale!",IF(AND(ThreatScala="1-100",MAX($E9:$I9)>100),"Please check the threat scale!","")))
B10: Access to suppliers and distribution channels | C10: Is it easy to access markets? | D10: It is quite important | E10: 2 | F10: 8 | G10: 2 | K10: =IF(AND(ThreatScala="1-5",MAX($E10:$I10)>5),"Please check the threat scale!",IF(AND(ThreatScala="1-10",MAX($E10:$I10)>10),"Please check the threat scale!",IF(AND(ThreatScala="1-100",MAX($E10:$I10)>100),"Please check the threat scale!","")))
B11: Cost advantages | C11: Do competitors have more experience in this field? | E11: 10 | F11: 9 | G11: 3 | K11: =IF(AND(ThreatScala="1-5",MAX($E11:$I11)>5),"Please check the threat scale!",IF(AND(ThreatScala="1-10",MAX($E11:$I11)>10),"Please check the threat scale!",IF(AND(ThreatScala="1-100",MAX($E11:$I11)>100),"Please check the threat scale!","")))
K12: =IF(AND(ThreatScala="1-5",MAX($E12:$I12)>5),"Please check the threat scale!",IF(AND(ThreatScala="1-10",MAX($E12:$I12)>10),"Please check the threat scale!",IF(AND(ThreatScala="1-100",MAX($E12:$I12)>100),"Please check the threat scale!","")))

Sheet Suppliers
B2: PORTER'S FIVE FORCES TEMPLATE
B3: POWER OF SUPPLIERS
B5: Suppliers Power | E5: Threat Scores
B6: Determinants | C6: Description | D6: Notes | E6: =IFERROR(IF(LEN(Menu!$L$13)>0,Menu!$L$13,""),"") -> Market 1 | F6: =IFERROR(IF(LEN(Menu!$L$14)>0,Menu!$L$14,""),"") -> Market 2 | G6: =IFERROR(IF(LEN(Menu!$L$15)>0,Menu!$L$15,""),"") -> Market 3 | H6: =IFERROR(IF(LEN(Menu!$L$16)>0,Menu!$L$16,""),"") | I6: =IFERROR(IF(LEN(Menu!$L$17)>0,Menu!$L$17,""),"")
B7: Number of suppliers | C7: Are there too many suppliers in the market? | E7: 10 | F7: 5 | G7: 4 | K7: =IF(AND(ThreatScala="1-5",MAX($E7:$I7)>5),"Please check the threat scale!",IF(AND(ThreatScala="1-10",MAX($E7:$I7)>10),"Please check the threat scale!",IF(AND(ThreatScala="1-100",MAX($E7:$I7)>100),"Please check the threat scale!","")))
B8: Patented products | C8: Are there too many patented products? | D8: There are no patented products | E8: 9 | F8: 6 | G8: 5 | K8: =IF(AND(ThreatScala="1-5",MAX($E8:$I8)>5),"Please check the threat scale!",IF(AND(ThreatScala="1-10",MAX($E8:$I8)>10),"Please check the threat scale!",IF(AND(ThreatScala="1-100",MAX($E8:$I8)>100),"Please check the threat scale!","")))
B9: Product substitutes | C9: Are there too many substitutes in the market? | E9: 8 | F9: 7 | G9: 4 | K9: =IF(AND(ThreatScala="1-5",MAX($E9:$I9)>5),"Please check the threat scale!",IF(AND(ThreatScala="1-10",MAX($E9:$I9)>10),"Please check the threat scale!",IF(AND(ThreatScala="1-100",MAX($E9:$I9)>100),"Please check the threat scale!","")))
K10: =IF(AND(ThreatScala="1-5",MAX($E10:$I10)>5),"Please check the threat scale!",IF(AND(ThreatScala="1-10",MAX($E10:$I10)>10),"Please check the threat scale!",IF(AND(ThreatScala="1-100",MAX($E10:$I10)>100),"Please check the threat scale!","")))
K11: =IF(AND(ThreatScala="1-5",MAX($E11:$I11)>5),"Please check the threat scale!",IF(AND(ThreatScala="1-10",MAX($E11:$I11)>10),"Please check the threat scale!",IF(AND(ThreatScala="1-100",MAX($E11:$I11)>100),"Please check the threat scale!","")))
K12: =IF(AND(ThreatScala="1-5",MAX($E12:$I12)>5),"Please check the threat scale!",IF(AND(ThreatScala="1-10",MAX($E12:$I12)>10),"Please check the threat scale!",IF(AND(ThreatScala="1-100",MAX($E12:$I12)>100),"Please check the threat scale!","")))

Sheet Competitors
B2: PORTER'S FIVE FORCES TEMPLATE
B3: RIVALRY AMONG EXISTING COMPETITORS
B5: Competitive Rivalry | E5: Threat Scores
B6: Determinants | C6: Description | D6: Notes | E6: =IFERROR(IF(LEN(Menu!$L$13)>0,Menu!$L$13,""),"") -> Market 1 | F6: =IFERROR(IF(LEN(Menu!$L$14)>0,Menu!$L$14,""),"") -> Market 2 | G6: =IFERROR(IF(LEN(Menu!$L$15)>0,Menu!$L$15,""),"") -> Market 3 | H6: =IFERROR(IF(LEN(Menu!$L$16)>0,Menu!$L$16,""),"") | I6: =IFERROR(IF(LEN(Menu!$L$17)>0,Menu!$L$17,""),"")
B7: Number of competitors | C7: Are there too many competitors in the market? | D7: It is quite important | E7: 10 | F7: 5 | G7: 4 | K7: =IF(AND(ThreatScala="1-5",MAX($E7:$I7)>5),"Please check the threat scale!",IF(AND(ThreatScala="1-10",MAX($E7:$I7)>10),"Please check the threat scale!",IF(AND(ThreatScala="1-100",MAX($E7:$I7)>100),"Please check the threat scale!","")))
B8: Industry growth | C8: Does the industry continue to grow? | E8: 6 | F8: 6 | G8: 5 | K8: =IF(AND(ThreatScala="1-5",MAX($E8:$I8)>5),"Please check the threat scale!",IF(AND(ThreatScala="1-10",MAX($E8:$I8)>10),"Please check the threat scale!",IF(AND(ThreatScala="1-100",MAX($E8:$I8)>100),"Please check the threat scale!","")))
B9: Exit barriers | C9: Are there any restrictions that prevent the company from leaving the market? | E9: 8 | F9: 7 | G9: 4 | K9: =IF(AND(ThreatScala="1-5",MAX($E9:$I9)>5),"Please check the threat scale!",IF(AND(ThreatScala="1-10",MAX($E9:$I9)>10),"Please check the threat scale!",IF(AND(ThreatScala="1-100",MAX($E9:$I9)>100),"Please check the threat scale!","")))
B10: Fixed costs | C10: Are fixed costs high? | E10: 7 | F10: 8 | G10: 2 | K10: =IF(AND(ThreatScala="1-5",MAX($E10:$I10)>5),"Please check the threat scale!",IF(AND(ThreatScala="1-10",MAX($E10:$I10)>10),"Please check the threat scale!",IF(AND(ThreatScala="1-100",MAX($E10:$I10)>100),"Please check the threat scale!","")))
B11: Switching costs | C11: Can similar prices be easily offered by competitors? | E11: 6 | F11: 9 | G11: 3 | K11: =IF(AND(ThreatScala="1-5",MAX($E11:$I11)>5),"Please check the threat scale!",IF(AND(ThreatScala="1-10",MAX($E11:$I11)>10),"Please check the threat scale!",IF(AND(ThreatScala="1-100",MAX($E11:$I11)>100),"Please check the threat scale!","")))
B12: Product differentiation | C12: Is there any competitor that customizes their products? | E12: 4 | F12: 5 | G12: 3 | K12: =IF(AND(ThreatScala="1-5",MAX($E12:$I12)>5),"Please check the threat scale!",IF(AND(ThreatScala="1-10",MAX($E12:$I12)>10),"Please check the threat scale!",IF(AND(ThreatScala="1-100",MAX($E12:$I12)>100),"Please check the threat scale!","")))

Sheet Buyers
B2: PORTER'S FIVE FORCES TEMPLATE
B3: POWER OF BUYERS
B5: Buyers Power | E5: Threat Scores
B6: Determinants | C6: Description | D6: Notes | E6: =IFERROR(IF(LEN(Menu!$L$13)>0,Menu!$L$13,""),"") -> Market 1 | F6: =IFERROR(IF(LEN(Menu!$L$14)>0,Menu!$L$14,""),"") -> Market 2 | G6: =IFERROR(IF(LEN(Menu!$L$15)>0,Menu!$L$15,""),"") -> Market 3 | H6: =IFERROR(IF(LEN(Menu!$L$16)>0,Menu!$L$16,""),"") | I6: =IFERROR(IF(LEN(Menu!$L$17)>0,Menu!$L$17,""),"")
B7: Number of buyers | C7: Are there too many buyers in the market? | E7: 10 | F7: 5 | G7: 4 | K7: =IF(AND(ThreatScala="1-5",MAX($E7:$I7)>5),"Please check the threat scale!",IF(AND(ThreatScala="1-10",MAX($E7:$I7)>10),"Please check the threat scale!",IF(AND(ThreatScala="1-100",MAX($E7:$I7)>100),"Please check the threat scale!","")))
B8: Product standardization | C8: Are there too many similar products on the market? | E8: 9 | F8: 6 | G8: 5 | K8: =IF(AND(ThreatScala="1-5",MAX($E8:$I8)>5),"Please check the threat scale!",IF(AND(ThreatScala="1-10",MAX($E8:$I8)>10),"Please check the threat scale!",IF(AND(ThreatScala="1-100",MAX($E8:$I8)>100),"Please check the threat scale!","")))
B9: Purchase volume | C9: Are there too many high purchase volume customers? | E9: 8 | F9: 7 | G9: 4 | K9: =IF(AND(ThreatScala="1-5",MAX($E9:$I9)>5),"Please check the threat scale!",IF(AND(ThreatScala="1-10",MAX($E9:$I9)>10),"Please check the threat scale!",IF(AND(ThreatScala="1-100",MAX($E9:$I9)>100),"Please check the threat scale!","")))
K10: =IF(AND(ThreatScala="1-5",MAX($E10:$I10)>5),"Please check the threat scale!",IF(AND(ThreatScala="1-10",MAX($E10:$I10)>10),"Please check the threat scale!",IF(AND(ThreatScala="1-100",MAX($E10:$I10)>100),"Please check the threat scale!","")))
K11: =IF(AND(ThreatScala="1-5",MAX($E11:$I11)>5),"Please check the threat scale!",IF(AND(ThreatScala="1-10",MAX($E11:$I11)>10),"Please check the threat scale!",IF(AND(ThreatScala="1-100",MAX($E11:$I11)>100),"Please check the threat scale!","")))
K12: =IF(AND(ThreatScala="1-5",MAX($E12:$I12)>5),"Please check the threat scale!",IF(AND(ThreatScala="1-10",MAX($E12:$I12)>10),"Please check the threat scale!",IF(AND(ThreatScala="1-100",MAX($E12:$I12)>100),"Please check the threat scale!","")))

Sheet Substitutes
B2: PORTER'S FIVE FORCES TEMPLATE
B3: THREAT OF SUBSTITUTE PRODUCTS
B5: Substitutes | E5: Threat Scores
B6: Determinants | C6: Description | D6: Notes | E6: =IFERROR(IF(LEN(Menu!$L$13)>0,Menu!$L$13,""),"") -> Market 1 | F6: =IFERROR(IF(LEN(Menu!$L$14)>0,Menu!$L$14,""),"") -> Market 2 | G6: =IFERROR(IF(LEN(Menu!$L$15)>0,Menu!$L$15,""),"") -> Market 3 | H6: =IFERROR(IF(LEN(Menu!$L$16)>0,Menu!$L$16,""),"") | I6: =IFERROR(IF(LEN(Menu!$L$17)>0,Menu!$L$17,""),"")
B7: Buyer price sensivity | C7: Do the buyers have high sensitivity? | D7: Buyers buy the product they like regardless of the price. | E7: 10 | F7: 9 | G7: 4 | K7: =IF(AND(ThreatScala="1-5",MAX($E7:$I7)>5),"Please check the threat scale!",IF(AND(ThreatScala="1-10",MAX($E7:$I7)>10),"Please check the threat scale!",IF(AND(ThreatScala="1-100",MAX($E7:$I7)>100),"Please check the threat scale!","")))
B8: Buyer switching costs | C8: Is there a high switching cost in the market? | E8: 9 | F8: 6 | G8: 5 | K8: =IF(AND(ThreatScala="1-5",MAX($E8:$I8)>5),"Please check the threat scale!",IF(AND(ThreatScala="1-10",MAX($E8:$I8)>10),"Please check the threat scale!",IF(AND(ThreatScala="1-100",MAX($E8:$I8)>100),"Please check the threat scale!","")))
K9: =IF(AND(ThreatScala="1-5",MAX($E9:$I9)>5),"Please check the threat scale!",IF(AND(ThreatScala="1-10",MAX($E9:$I9)>10),"Please check the threat scale!",IF(AND(ThreatScala="1-100",MAX($E9:$I9)>100),"Please check the threat scale!","")))
K10: =IF(AND(ThreatScala="1-5",MAX($E10:$I10)>5),"Please check the threat scale!",IF(AND(ThreatScala="1-10",MAX($E10:$I10)>10),"Please check the threat scale!",IF(AND(ThreatScala="1-100",MAX($E10:$I10)>100),"Please check the threat scale!","")))
K11: =IF(AND(ThreatScala="1-5",MAX($E11:$I11)>5),"Please check the threat scale!",IF(AND(ThreatScala="1-10",MAX($E11:$I11)>10),"Please check the threat scale!",IF(AND(ThreatScala="1-100",MAX($E11:$I11)>100),"Please check the threat scale!","")))
K12: =IF(AND(ThreatScala="1-5",MAX($E12:$I12)>5),"Please check the threat scale!",IF(AND(ThreatScala="1-10",MAX($E12:$I12)>10),"Please check the threat scale!",IF(AND(ThreatScala="1-100",MAX($E12:$I12)>100),"Please check the threat scale!","")))

Sheet Dashboard
C2: PORTER'S FIVE FORCES TEMPLATE
C3: ANALYSIS DASHBOARD
H7: Threats | I7: Scores
H8: =IF(INDEX(Calc!$D$17:$E$31,ROW()-ROW(Dashboard!$H$7),1)="-","",INDEX(Calc!$D$17:$E$31,ROW()-ROW(Dashboard!$H$7),1)) -> Number of competitors | I8: =IF(INDEX(Calc!$D$17:$E$31,ROW()-ROW(Dashboard!$H$7),2)="-","",INDEX(Calc!$D$17:$E$31,ROW()-ROW(Dashboard!$H$7),2)) -> 5
F9: Market Filter | H9: =IF(INDEX(Calc!$D$17:$E$31,ROW()-ROW(Dashboard!$H$7),1)="-","",INDEX(Calc!$D$17:$E$31,ROW()-ROW(Dashboard!$H$7),1)) -> Industry growth | I9: =IF(INDEX(Calc!$D$17:$E$31,ROW()-ROW(Dashboard!$H$7),2)="-","",INDEX(Calc!$D$17:$E$31,ROW()-ROW(Dashboard!$H$7),2)) -> 6
F10: Market 2 | H10: =IF(INDEX(Calc!$D$17:$E$31,ROW()-ROW(Dashboard!$H$7),1)="-","",INDEX(Calc!$D$17:$E$31,ROW()-ROW(Dashboard!$H$7),1)) -> Exit barriers | I10: =IF(INDEX(Calc!$D$17:$E$31,ROW()-ROW(Dashboard!$H$7),2)="-","",INDEX(Calc!$D$17:$E$31,ROW()-ROW(Dashboard!$H$7),2)) -> 7
H11: =IF(INDEX(Calc!$D$17:$E$31,ROW()-ROW(Dashboard!$H$7),1)="-","",INDEX(Calc!$D$17:$E$31,ROW()-ROW(Dashboard!$H$7),1)) -> Fixed costs | I11: =IF(INDEX(Calc!$D$17:$E$31,ROW()-ROW(Dashboard!$H$7),2)="-","",INDEX(Calc!$D$17:$E$31,ROW()-ROW(Dashboard!$H$7),2)) -> 8
H12: =IF(INDEX(Calc!$D$17:$E$31,ROW()-ROW(Dashboard!$H$7),1)="-","",INDEX(Calc!$D$17:$E$31,ROW()-ROW(Dashboard!$H$7),1)) -> Switching costs | I12: =IF(INDEX(Calc!$D$17:$E$31,ROW()-ROW(Dashboard!$H$7),2)="-","",INDEX(Calc!$D$17:$E$31,ROW()-ROW(Dashboard!$H$7),2)) -> 9
F13: Force Filter | H13: =IF(INDEX(Calc!$D$17:$E$31,ROW()-ROW(Dashboard!$H$7),1)="-","",INDEX(Calc!$D$17:$E$31,ROW()-ROW(Dashboard!$H$7),1)) -> Product differentiation | I13: =IF(INDEX(Calc!$D$17:$E$31,ROW()-ROW(Dashboard!$H$7),2)="-","",INDEX(Calc!$D$17:$E$31,ROW()-ROW(Dashboard!$H$7),2)) -> 5
F14: Competitive Rivalry

Sheet Calc
AW1: Threat Scala Dropdowns
J2: Column Index | K2: 1 | L2: 2 | M2: 3 | N2: 4 | O2: 5 | R2: Column Index | S2: 1 | T2: 2 | U2: 3 | V2: 4 | W2: 5 | Z2: Column Index | AA2: 1 | AB2: 2 | AC2: 3 | AD2: 4 | AE2: 5 | AH2: Column Index | AI2: 1 | AJ2: 2 | AK2: 3 | AL2: 4 | AM2: 5 | AP2: Column Index | AQ2: 1 | AR2: 2 | AS2: 3 | AT2: 4 | AU2: 5
D3: Forces List | G3: Row Index | I3: =MarketFilter -> Market 2 | J3: New Entrants | K3: =IF(LEN(Entrants!$E$6)>0,Entrants!$E$6,"") -> Market 1 | L3: =IF(LEN(Entrants!$F$6)>0,Entrants!$F$6,"") -> Market 2 | M3: =IF(LEN(Entrants!$G$6)>0,Entrants!$G$6,"") -> Market 3 | N3: =IF(LEN(Entrants!$H$6)>0,Entrants!$H$6,"") | O3: =IF(LEN(Entrants!$I$6)>0,Entrants!$I$6,"") | Q3: =MarketFilter -> Market 2 | R3: Suppliers Power | S3: =IF(LEN(Suppliers!$E$6)>0,Suppliers!$E$6,"") -> Market 1 | T3: =IF(LEN(Suppliers!$F$6)>0,Suppliers!$F$6,"") -> Market 2 | U3: =IF(LEN(Suppliers!$G$6)>0,Suppliers!$G$6,"") -> Market 3 | V3: =IF(LEN(Suppliers!$H$6)>0,Suppliers!$H$6,"") | W3: =IF(LEN(Suppliers!$I$6)>0,Suppliers!$I$6,"") | Y3: =MarketFilter -> Market 2 | Z3: Competitive Rivalry | AA3: =IF(LEN(Competitors!$E$6)>0,Competitors!$E$6,"") -> Market 1 | AB3: =IF(LEN(Competitors!$F$6)>0,Competitors!$F$6,"") -> Market 2 | AC3: =IF(LEN(Competitors!$G$6)>0,Competitors!$G$6,"") -> Market 3 | AD3: =IF(LEN(Competitors!$H$6)>0,Competitors!$H$6,"") | AE3: =IF(LEN(Competitors!$I$6)>0,Competitors!$I$6,"") | AG3: =MarketFilter -> Market 2 | AH3: Buyers Power | AI3: =IF(LEN(Buyers!$E$6)>0,Buyers!$E$6,"") -> Market 1 | AJ3: =IF(LEN(Buyers!$F$6)>0,Buyers!$F$6,"") -> Market 2 | AK3: =IF(LEN(Buyers!$G$6)>0,Buyers!$G$6,"") -> Market 3 | AL3: =IF(LEN(Buyers!$H$6)>0,Buyers!$H$6,"") | AM3: =IF(LEN(Buyers!$I$6)>0,Buyers!$I$6,"") | AO3: =MarketFilter -> Market 2 | AP3: Substitutes | AQ3: =IF(LEN(Substitutes!$E$6)>0,Substitutes!$E$6,"") -> Market 1 | AR3: =IF(LEN(Substitutes!$F$6)>0,Substitutes!$F$6,"") -> Market 2 | AS3: =IF(LEN(Substitutes!$G$6)>0,Substitutes!$G$6,"") -> Market 3 | AT3: =IF(LEN(Substitutes!$H$6)>0,Substitutes!$H$6,"") | AU3: =IF(LEN(Substitutes!$I$6)>0,Substitutes!$I$6,"") | AW3: Threat Scale | AY3: List-1 | BA3: List-2 | BC3: List - 3
D4: New Entrants | G4: 1 | I4: =IFERROR(IF(LEN($J4)>0,INDEX($K$4:$O$53,$G4,MATCH(MarketFilter,$K$3:$O$3,0)),""),"") -> 5 | J4: =IFERROR(IF(INDEX(Entrants!$B$7:$B$56,$G4,1)<>"",INDEX(Entrants!$B$7:$B$56,$G4,1),""),"") -> Brand loyalty | K4: =IFERROR(IF(LEN($J4)>0,INDEX(Entrants!$E$7:$I$21,$G4,K$2),""),"") -> 3 | L4: =IFERROR(IF(LEN($J4)>0,INDEX(Entrants!$E$7:$I$21,$G4,L$2),""),"") -> 5 | M4: =IFERROR(IF(LEN($J4)>0,INDEX(Entrants!$E$7:$I$21,$G4,M$2),""),"") -> 4 | N4: =IFERROR(IF(LEN($J4)>0,INDEX(Entrants!$E$7:$I$21,$G4,N$2),""),"") -> 0 | O4: =IFERROR(IF(LEN($J4)>0,INDEX(Entrants!$E$7:$I$21,$G4,O$2),""),"") -> 0 | Q4: =IFERROR(IF(LEN($R4)>0,INDEX($S$4:$W$53,$G4,MATCH(MarketFilter,$S$3:$W$3,0)),""),"") -> 5 | R4: =IFERROR(IF(INDEX(Suppliers!$B$7:$B$56,$G4,1)<>"",INDEX(Suppliers!$B$7:$B$56,$G4,1),""),"") -> Number of suppliers | S4: =IFERROR(IF(LEN($R4)>0,INDEX(Suppliers!$E$7:$I$21,$G4,S$2),""),"") -> 10 | T4: =IFERROR(IF(LEN($R4)>0,INDEX(Suppliers!$E$7:$I$21,$G4,T$2),""),"") -> 5 | U4: =IFERROR(IF(LEN($R4)>0,INDEX(Suppliers!$E$7:$I$21,$G4,U$2),""),"") -> 4 | V4: =IFERROR(IF(LEN($R4)>0,INDEX(Suppliers!$E$7:$I$21,$G4,V$2),""),"") -> 0 | W4: =IFERROR(IF(LEN($R4)>0,INDEX(Suppliers!$E$7:$I$21,$G4,W$2),""),"") -> 0 | Y4: =IFERROR(IF(LEN($Z4)>0,INDEX($AA$4:$AE$53,$G4,MATCH(MarketFilter,$AA$3:$AE$3,0)),""),"") -> 5 | Z4: =IFERROR(IF(INDEX(Competitors!$B$7:$B$56,$G4,1)<>"",INDEX(Competitors!$B$7:$B$56,$G4,1),""),"") -> Number of competitors | AA4: =IFERROR(IF(LEN($Z4)>0,INDEX(Competitors!$E$7:$I$21,$G4,AA$2),""),"") -> 10 | AB4: =IFERROR(IF(LEN($Z4)>0,INDEX(Competitors!$E$7:$I$21,$G4,AB$2),""),"") -> 5 | AC4: =IFERROR(IF(LEN($Z4)>0,INDEX(Competitors!$E$7:$I$21,$G4,AC$2),""),"") -> 4 | AD4: =IFERROR(IF(LEN($Z4)>0,INDEX(Competitors!$E$7:$I$21,$G4,AD$2),""),"") -> 0 | AE4: =IFERROR(IF(LEN($Z4)>0,INDEX(Competitors!$E$7:$I$21,$G4,AE$2),""),"") -> 0 | AG4: =IFERROR(IF(LEN($AH4)>0,INDEX($AI$4:$AM$53,$G4,MATCH(MarketFilter,$AI$3:$AM$3,0)),""),"") -> 5 | AH4: =IFERROR(IF(INDEX(Buyers!$B$7:$B$56,$G4,1)<>"",INDEX(Buyers!$B$7:$B$56,$G4,1),""),"") -> Number of buyers | AI4: =IFERROR(IF(LEN($AH4)>0,INDEX(Buyers!$E$7:$I$21,$G4,AI$2),""),"") -> 10 | AJ4: =IFERROR(IF(LEN($AH4)>0,INDEX(Buyers!$E$7:$I$21,$G4,AJ$2),""),"") -> 5 | AK4: =IFERROR(IF(LEN($AH4)>0,INDEX(Buyers!$E$7:$I$21,$G4,AK$2),""),"") -> 4 | AL4: =IFERROR(IF(LEN($AH4)>0,INDEX(Buyers!$E$7:$I$21,$G4,AL$2),""),"") -> 0 | AM4: =IFERROR(IF(LEN($AH4)>0,INDEX(Buyers!$E$7:$I$21,$G4,AM$2),""),"") -> 0 | AO4: =IFERROR(IF(LEN($AP4)>0,INDEX($AQ$4:$AU$53,$G4,MATCH(MarketFilter,$AQ$3:$AU$3,0)),""),"") -> 9 | AP4: =IFERROR(IF(INDEX(Substitutes!$B$7:$B$56,$G4,1)<>"",INDEX(Substitutes!$B$7:$B$56,$G4,1),""),"") -> Buyer price sensivity | AQ4: =IFERROR(IF(LEN($AP4)>0,INDEX(Substitutes!$E$7:$I$21,$G4,AQ$2),""),"") -> 10 | AR4: =IFERROR(IF(LEN($AP4)>0,INDEX(Substitutes!$E$7:$I$21,$G4,AR$2),""),"") -> 9 | AS4: =IFERROR(IF(LEN($AP4)>0,INDEX(Substitutes!$E$7:$I$21,$G4,AS$2),""),"") -> 4 | AT4: =IFERROR(IF(LEN($AP4)>0,INDEX(Substitutes!$E$7:$I$21,$G4,AT$2),""),"") -> 0 | AU4: =IFERROR(IF(LEN($AP4)>0,INDEX(Substitutes!$E$7:$I$21,$G4,AU$2),""),"") -> 0 | AW4: 1-5 | AY4: 1 | BA4: 1 | BC4: 1
D5: Substitutes | G5: 2 | I5: =IFERROR(IF(LEN($J5)>0,INDEX($K$4:$O$53,$G5,MATCH(MarketFilter,$K$3:$O$3,0)),""),"") -> 6 | J5: =IFERROR(IF(INDEX(Entrants!$B$7:$B$56,$G5,1)<>"",INDEX(Entrants!$B$7:$B$56,$G5,1),""),"") -> Government policy | K5: =IFERROR(IF(LEN($J5)>0,INDEX(Entrants!$E$7:$I$21,$G5,K$2),""),"") -> 4 | L5: =IFERROR(IF(LEN($J5)>0,INDEX(Entrants!$E$7:$I$21,$G5,L$2),""),"") -> 6 | M5: =IFERROR(IF(LEN($J5)>0,INDEX(Entrants!$E$7:$I$21,$G5,M$2),""),"") -> 5 | N5: =IFERROR(IF(LEN($J5)>0,INDEX(Entrants!$E$7:$I$21,$G5,N$2),""),"") -> 0 | O5: =IFERROR(IF(LEN($J5)>0,INDEX(Entrants!$E$7:$I$21,$G5,O$2),""),"") -> 0 | Q5: =IFERROR(IF(LEN($R5)>0,INDEX($S$4:$W$53,$G5,MATCH(MarketFilter,$S$3:$W$3,0)),""),"") -> 6 | R5: =IFERROR(IF(INDEX(Suppliers!$B$7:$B$56,$G5,1)<>"",INDEX(Suppliers!$B$7:$B$56,$G5,1),""),"") -> Patented products | S5: =IFERROR(IF(LEN($R5)>0,INDEX(Suppliers!$E$7:$I$21,$G5,S$2),""),"") -> 9 | T5: =IFERROR(IF(LEN($R5)>0,INDEX(Suppliers!$E$7:$I$21,$G5,T$2),""),"") -> 6 | U5: =IFERROR(IF(LEN($R5)>0,INDEX(Suppliers!$E$7:$I$21,$G5,U$2),""),"") -> 5 | V5: =IFERROR(IF(LEN($R5)>0,INDEX(Suppliers!$E$7:$I$21,$G5,V$2),""),"") -> 0 | W5: =IFERROR(IF(LEN($R5)>0,INDEX(Suppliers!$E$7:$I$21,$G5,W$2),""),"") -> 0 | Y5: =IFERROR(IF(LEN($Z5)>0,INDEX($AA$4:$AE$53,$G5,MATCH(MarketFilter,$AA$3:$AE$3,0)),""),"") -> 6 | Z5: =IFERROR(IF(INDEX(Competitors!$B$7:$B$56,$G5,1)<>"",INDEX(Competitors!$B$7:$B$56,$G5,1),""),"") -> Industry growth | AA5: =IFERROR(IF(LEN($Z5)>0,INDEX(Competitors!$E$7:$I$21,$G5,AA$2),""),"") -> 6 | AB5: =IFERROR(IF(LEN($Z5)>0,INDEX(Competitors!$E$7:$I$21,$G5,AB$2),""),"") -> 6 | AC5: =IFERROR(IF(LEN($Z5)>0,INDEX(Competitors!$E$7:$I$21,$G5,AC$2),""),"") -> 5 | AD5: =IFERROR(IF(LEN($Z5)>0,INDEX(Competitors!$E$7:$I$21,$G5,AD$2),""),"") -> 0 | AE5: =IFERROR(IF(LEN($Z5)>0,INDEX(Competitors!$E$7:$I$21,$G5,AE$2),""),"") -> 0 | AG5: =IFERROR(IF(LEN($AH5)>0,INDEX($AI$4:$AM$53,$G5,MATCH(MarketFilter,$AI$3:$AM$3,0)),""),"") -> 6 | AH5: =IFERROR(IF(INDEX(Buyers!$B$7:$B$56,$G5,1)<>"",INDEX(Buyers!$B$7:$B$56,$G5,1),""),"") -> Product standardization | AI5: =IFERROR(IF(LEN($AH5)>0,INDEX(Buyers!$E$7:$I$21,$G5,AI$2),""),"") -> 9 | AJ5: =IFERROR(IF(LEN($AH5)>0,INDEX(Buyers!$E$7:$I$21,$G5,AJ$2),""),"") -> 6 | AK5: =IFERROR(IF(LEN($AH5)>0,INDEX(Buyers!$E$7:$I$21,$G5,AK$2),""),"") -> 5 | AL5: =IFERROR(IF(LEN($AH5)>0,INDEX(Buyers!$E$7:$I$21,$G5,AL$2),""),"") -> 0 | AM5: =IFERROR(IF(LEN($AH5)>0,INDEX(Buyers!$E$7:$I$21,$G5,AM$2),""),"") -> 0 | AO5: =IFERROR(IF(LEN($AP5)>0,INDEX($AQ$4:$AU$53,$G5,MATCH(MarketFilter,$AQ$3:$AU$3,0)),""),"") -> 6 | AP5: =IFERROR(IF(INDEX(Substitutes!$B$7:$B$56,$G5,1)<>"",INDEX(Substitutes!$B$7:$B$56,$G5,1),""),"") -> Buyer switching costs | AQ5: =IFERROR(IF(LEN($AP5)>0,INDEX(Substitutes!$E$7:$I$21,$G5,AQ$2),""),"") -> 9 | AR5: =IFERROR(IF(LEN($AP5)>0,INDEX(Substitutes!$E$7:$I$21,$G5,AR$2),""),"") -> 6 | AS5: =IFERROR(IF(LEN($AP5)>0,INDEX(Substitutes!$E$7:$I$21,$G5,AS$2),""),"") -> 5 | AT5: =IFERROR(IF(LEN($AP5)>0,INDEX(Substitutes!$E$7:$I$21,$G5,AT$2),""),"") -> 0 | AU5: =IFERROR(IF(LEN($AP5)>0,INDEX(Substitutes!$E$7:$I$21,$G5,AU$2),""),"") -> 0 | AW5: 1-10 | AY5: 2 | BA5: 2 | BC5: 2
D6: Competitive Rivalry | G6: 3 | I6: =IFERROR(IF(LEN($J6)>0,INDEX($K$4:$O$53,$G6,MATCH(MarketFilter,$K$3:$O$3,0)),""),"") -> 7 | J6: =IFERROR(IF(INDEX(Entrants!$B$7:$B$56,$G6,1)<>"",INDEX(Entrants!$B$7:$B$56,$G6,1),""),"") -> Capital requirement | K6: =IFERROR(IF(LEN($J6)>0,INDEX(Entrants!$E$7:$I$21,$G6,K$2),""),"") -> 3 | L6: =IFERROR(IF(LEN($J6)>0,INDEX(Entrants!$E$7:$I$21,$G6,L$2),""),"") -> 7 | M6: =IFERROR(IF(LEN($J6)>0,INDEX(Entrants!$E$7:$I$21,$G6,M$2),""),"") -> 2 | N6: =IFERROR(IF(LEN($J6)>0,INDEX(Entrants!$E$7:$I$21,$G6,N$2),""),"") -> 0 | O6: =IFERROR(IF(LEN($J6)>0,INDEX(Entrants!$E$7:$I$21,$G6,O$2),""),"") -> 0 | Q6: =IFERROR(IF(LEN($R6)>0,INDEX($S$4:$W$53,$G6,MATCH(MarketFilter,$S$3:$W$3,0)),""),"") -> 7 | R6: =IFERROR(IF(INDEX(Suppliers!$B$7:$B$56,$G6,1)<>"",INDEX(Suppliers!$B$7:$B$56,$G6,1),""),"") -> Product substitutes | S6: =IFERROR(IF(LEN($R6)>0,INDEX(Suppliers!$E$7:$I$21,$G6,S$2),""),"") -> 8 | T6: =IFERROR(IF(LEN($R6)>0,INDEX(Suppliers!$E$7:$I$21,$G6,T$2),""),"") -> 7 | U6: =IFERROR(IF(LEN($R6)>0,INDEX(Suppliers!$E$7:$I$21,$G6,U$2),""),"") -> 4 | V6: =IFERROR(IF(LEN($R6)>0,INDEX(Suppliers!$E$7:$I$21,$G6,V$2),""),"") -> 0 | W6: =IFERROR(IF(LEN($R6)>0,INDEX(Suppliers!$E$7:$I$21,$G6,W$2),""),"") -> 0 | Y6: =IFERROR(IF(LEN($Z6)>0,INDEX($AA$4:$AE$53,$G6,MATCH(MarketFilter,$AA$3:$AE$3,0)),""),"") -> 7 | Z6: =IFERROR(IF(INDEX(Competitors!$B$7:$B$56,$G6,1)<>"",INDEX(Competitors!$B$7:$B$56,$G6,1),""),"") -> Exit barriers | AA6: =IFERROR(IF(LEN($Z6)>0,INDEX(Competitors!$E$7:$I$21,$G6,AA$2),""),"") -> 8 | AB6: =IFERROR(IF(LEN($Z6)>0,INDEX(Competitors!$E$7:$I$21,$G6,AB$2),""),"") -> 7 | AC6: =IFERROR(IF(LEN($Z6)>0,INDEX(Competitors!$E$7:$I$21,$G6,AC$2),""),"") -> 4 | AD6: =IFERROR(IF(LEN($Z6)>0,INDEX(Competitors!$E$7:$I$21,$G6,AD$2),""),"") -> 0 | AE6: =IFERROR(IF(LEN($Z6)>0,INDEX(Competitors!$E$7:$I$21,$G6,AE$2),""),"") -> 0 | AG6: =IFERROR(IF(LEN($AH6)>0,INDEX($AI$4:$AM$53,$G6,MATCH(MarketFilter,$AI$3:$AM$3,0)),""),"") -> 7 | AH6: =IFERROR(IF(INDEX(Buyers!$B$7:$B$56,$G6,1)<>"",INDEX(Buyers!$B$7:$B$56,$G6,1),""),"") -> Purchase volume | AI6: =IFERROR(IF(LEN($AH6)>0,INDEX(Buyers!$E$7:$I$21,$G6,AI$2),""),"") -> 8 | AJ6: =IFERROR(IF(LEN($AH6)>0,INDEX(Buyers!$E$7:$I$21,$G6,AJ$2),""),"") -> 7 | AK6: =IFERROR(IF(LEN($AH6)>0,INDEX(Buyers!$E$7:$I$21,$G6,AK$2),""),"") -> 4 | AL6: =IFERROR(IF(LEN($AH6)>0,INDEX(Buyers!$E$7:$I$21,$G6,AL$2),""),"") -> 0 | AM6: =IFERROR(IF(LEN($AH6)>0,INDEX(Buyers!$E$7:$I$21,$G6,AM$2),""),"") -> 0 | AO6: =IFERROR(IF(LEN($AP6)>0,INDEX($AQ$4:$AU$53,$G6,MATCH(MarketFilter,$AQ$3:$AU$3,0)),""),"") | AP6: =IFERROR(IF(INDEX(Substitutes!$B$7:$B$56,$G6,1)<>"",INDEX(Substitutes!$B$7:$B$56,$G6,1),""),"") | AQ6: =IFERROR(IF(LEN($AP6)>0,INDEX(Substitutes!$E$7:$I$21,$G6,AQ$2),""),"") | AR6: =IFERROR(IF(LEN($AP6)>0,INDEX(Substitutes!$E$7:$I$21,$G6,AR$2),""),"") | AS6: =IFERROR(IF(LEN($AP6)>0,INDEX(Substitutes!$E$7:$I$21,$G6,AS$2),""),"") | AT6: =IFERROR(IF(LEN($AP6)>0,INDEX(Substitutes!$E$7:$I$21,$G6,AT$2),""),"") | AU6: =IFERROR(IF(LEN($AP6)>0,INDEX(Substitutes!$E$7:$I$21,$G6,AU$2),""),"") | AW6: 1-100 | AY6: 3 | BA6: 3 | BC6: 3
D7: Suppliers Power | G7: 4 | I7: =IFERROR(IF(LEN($J7)>0,INDEX($K$4:$O$53,$G7,MATCH(MarketFilter,$K$3:$O$3,0)),""),"") -> 8 | J7: =IFERROR(IF(INDEX(Entrants!$B$7:$B$56,$G7,1)<>"",INDEX(Entrants!$B$7:$B$56,$G7,1),""),"") -> Access to suppliers and distribution channels | K7: =IFERROR(IF(LEN($J7)>0,INDEX(Entrants!$E$7:$I$21,$G7,K$2),""),"") -> 2 | L7: =IFERROR(IF(LEN($J7)>0,INDEX(Entrants!$E$7:$I$21,$G7,L$2),""),"") -> 8 | M7: =IFERROR(IF(LEN($J7)>0,INDEX(Entrants!$E$7:$I$21,$G7,M$2),""),"") -> 2 | N7: =IFERROR(IF(LEN($J7)>0,INDEX(Entrants!$E$7:$I$21,$G7,N$2),""),"") -> 0 | O7: =IFERROR(IF(LEN($J7)>0,INDEX(Entrants!$E$7:$I$21,$G7,O$2),""),"") -> 0 | Q7: =IFERROR(IF(LEN($R7)>0,INDEX($S$4:$W$53,$G7,MATCH(MarketFilter,$S$3:$W$3,0)),""),"") | R7: =IFERROR(IF(INDEX(Suppliers!$B$7:$B$56,$G7,1)<>"",INDEX(Suppliers!$B$7:$B$56,$G7,1),""),"") | S7: =IFERROR(IF(LEN($R7)>0,INDEX(Suppliers!$E$7:$I$21,$G7,S$2),""),"") | T7: =IFERROR(IF(LEN($R7)>0,INDEX(Suppliers!$E$7:$I$21,$G7,T$2),""),"") | U7: =IFERROR(IF(LEN($R7)>0,INDEX(Suppliers!$E$7:$I$21,$G7,U$2),""),"") | V7: =IFERROR(IF(LEN($R7)>0,INDEX(Suppliers!$E$7:$I$21,$G7,V$2),""),"") | W7: =IFERROR(IF(LEN($R7)>0,INDEX(Suppliers!$E$7:$I$21,$G7,W$2),""),"") | Y7: =IFERROR(IF(LEN($Z7)>0,INDEX($AA$4:$AE$53,$G7,MATCH(MarketFilter,$AA$3:$AE$3,0)),""),"") -> 8 | Z7: =IFERROR(IF(INDEX(Competitors!$B$7:$B$56,$G7,1)<>"",INDEX(Competitors!$B$7:$B$56,$G7,1),""),"") -> Fixed costs | AA7: =IFERROR(IF(LEN($Z7)>0,INDEX(Competitors!$E$7:$I$21,$G7,AA$2),""),"") -> 7 | AB7: =IFERROR(IF(LEN($Z7)>0,INDEX(Competitors!$E$7:$I$21,$G7,AB$2),""),"") -> 8 | AC7: =IFERROR(IF(LEN($Z7)>0,INDEX(Competitors!$E$7:$I$21,$G7,AC$2),""),"") -> 2 | AD7: =IFERROR(IF(LEN($Z7)>0,INDEX(Competitors!$E$7:$I$21,$G7,AD$2),""),"") -> 0 | AE7: =IFERROR(IF(LEN($Z7)>0,INDEX(Competitors!$E$7:$I$21,$G7,AE$2),""),"") -> 0 | AG7: =IFERROR(IF(LEN($AH7)>0,INDEX($AI$4:$AM$53,$G7,MATCH(MarketFilter,$AI$3:$AM$3,0)),""),"") | AH7: =IFERROR(IF(INDEX(Buyers!$B$7:$B$56,$G7,1)<>"",INDEX(Buyers!$B$7:$B$56,$G7,1),""),"") | AI7: =IFERROR(IF(LEN($AH7)>0,INDEX(Buyers!$E$7:$I$21,$G7,AI$2),""),"") | AJ7: =IFERROR(IF(LEN($AH7)>0,INDEX(Buyers!$E$7:$I$21,$G7,AJ$2),""),"") | AK7: =IFERROR(IF(LEN($AH7)>0,INDEX(Buyers!$E$7:$I$21,$G7,AK$2),""),"") | AL7: =IFERROR(IF(LEN($AH7)>0,INDEX(Buyers!$E$7:$I$21,$G7,AL$2),""),"") | AM7: =IFERROR(IF(LEN($AH7)>0,INDEX(Buyers!$E$7:$I$21,$G7,AM$2),""),"") | AO7: =IFERROR(IF(LEN($AP7)>0,INDEX($AQ$4:$AU$53,$G7,MATCH(MarketFilter,$AQ$3:$AU$3,0)),""),"") | AP7: =IFERROR(IF(INDEX(Substitutes!$B$7:$B$56,$G7,1)<>"",INDEX(Substitutes!$B$7:$B$56,$G7,1),""),"") | AQ7: =IFERROR(IF(LEN($AP7)>0,INDEX(Substitutes!$E$7:$I$21,$G7,AQ$2),""),"") | AR7: =IFERROR(IF(LEN($AP7)>0,INDEX(Substitutes!$E$7:$I$21,$G7,AR$2),""),"") | AS7: =IFERROR(IF(LEN($AP7)>0,INDEX(Substitutes!$E$7:$I$21,$G7,AS$2),""),"") | AT7: =IFERROR(IF(LEN($AP7)>0,INDEX(Substitutes!$E$7:$I$21,$G7,AT$2),""),"") | AU7: =IFERROR(IF(LEN($AP7)>0,INDEX(Substitutes!$E$7:$I$21,$G7,AU$2),""),"") | AY7: 4 | BA7: 4 | BC7: 4
D8: Buyers Power | G8: 5 | I8: =IFERROR(IF(LEN($J8)>0,INDEX($K$4:$O$53,$G8,MATCH(MarketFilter,$K$3:$O$3,0)),""),"") -> 9 | J8: =IFERROR(IF(INDEX(Entrants!$B$7:$B$56,$G8,1)<>"",INDEX(Entrants!$B$7:$B$56,$G8,1),""),"") -> Cost advantages | K8: =IFERROR(IF(LEN($J8)>0,INDEX(Entrants!$E$7:$I$21,$G8,K$2),""),"") -> 10 | L8: =IFERROR(IF(LEN($J8)>0,INDEX(Entrants!$E$7:$I$21,$G8,L$2),""),"") -> 9 | M8: =IFERROR(IF(LEN($J8)>0,INDEX(Entrants!$E$7:$I$21,$G8,M$2),""),"") -> 3 | N8: =IFERROR(IF(LEN($J8)>0,INDEX(Entrants!$E$7:$I$21,$G8,N$2),""),"") -> 0 | O8: =IFERROR(IF(LEN($J8)>0,INDEX(Entrants!$E$7:$I$21,$G8,O$2),""),"") -> 0 | Q8: =IFERROR(IF(LEN($R8)>0,INDEX($S$4:$W$53,$G8,MATCH(MarketFilter,$S$3:$W$3,0)),""),"") | R8: =IFERROR(IF(INDEX(Suppliers!$B$7:$B$56,$G8,1)<>"",INDEX(Suppliers!$B$7:$B$56,$G8,1),""),"") | S8: =IFERROR(IF(LEN($R8)>0,INDEX(Suppliers!$E$7:$I$21,$G8,S$2),""),"") | T8: =IFERROR(IF(LEN($R8)>0,INDEX(Suppliers!$E$7:$I$21,$G8,T$2),""),"") | U8: =IFERROR(IF(LEN($R8)>0,INDEX(Suppliers!$E$7:$I$21,$G8,U$2),""),"") | V8: =IFERROR(IF(LEN($R8)>0,INDEX(Suppliers!$E$7:$I$21,$G8,V$2),""),"") | W8: =IFERROR(IF(LEN($R8)>0,INDEX(Suppliers!$E$7:$I$21,$G8,W$2),""),"") | Y8: =IFERROR(IF(LEN($Z8)>0,INDEX($AA$4:$AE$53,$G8,MATCH(MarketFilter,$AA$3:$AE$3,0)),""),"") -> 9 | Z8: =IFERROR(IF(INDEX(Competitors!$B$7:$B$56,$G8,1)<>"",INDEX(Competitors!$B$7:$B$56,$G8,1),""),"") -> Switching costs | AA8: =IFERROR(IF(LEN($Z8)>0,INDEX(Competitors!$E$7:$I$21,$G8,AA$2),""),"") -> 6 | AB8: =IFERROR(IF(LEN($Z8)>0,INDEX(Competitors!$E$7:$I$21,$G8,AB$2),""),"") -> 9 | AC8: =IFERROR(IF(LEN($Z8)>0,INDEX(Competitors!$E$7:$I$21,$G8,AC$2),""),"") -> 3 | AD8: =IFERROR(IF(LEN($Z8)>0,INDEX(Competitors!$E$7:$I$21,$G8,AD$2),""),"") -> 0 | AE8: =IFERROR(IF(LEN($Z8)>0,INDEX(Competitors!$E$7:$I$21,$G8,AE$2),""),"") -> 0 | AG8: =IFERROR(IF(LEN($AH8)>0,INDEX($AI$4:$AM$53,$G8,MATCH(MarketFilter,$AI$3:$AM$3,0)),""),"") | AH8: =IFERROR(IF(INDEX(Buyers!$B$7:$B$56,$G8,1)<>"",INDEX(Buyers!$B$7:$B$56,$G8,1),""),"") | AI8: =IFERROR(IF(LEN($AH8)>0,INDEX(Buyers!$E$7:$I$21,$G8,AI$2),""),"") | AJ8: =IFERROR(IF(LEN($AH8)>0,INDEX(Buyers!$E$7:$I$21,$G8,AJ$2),""),"") | AK8: =IFERROR(IF(LEN($AH8)>0,INDEX(Buyers!$E$7:$I$21,$G8,AK$2),""),"") | AL8: =IFERROR(IF(LEN($AH8)>0,INDEX(Buyers!$E$7:$I$21,$G8,AL$2),""),"") | AM8: =IFERROR(IF(LEN($AH8)>0,INDEX(Buyers!$E$7:$I$21,$G8,AM$2),""),"") | AO8: =IFERROR(IF(LEN($AP8)>0,INDEX($AQ$4:$AU$53,$G8,MATCH(MarketFilter,$AQ$3:$AU$3,0)),""),"") | AP8: =IFERROR(IF(INDEX(Substitutes!$B$7:$B$56,$G8,1)<>"",INDEX(Substitutes!$B$7:$B$56,$G8,1),""),"") | AQ8: =IFERROR(IF(LEN($AP8)>0,INDEX(Substitutes!$E$7:$I$21,$G8,AQ$2),""),"") | AR8: =IFERROR(IF(LEN($AP8)>0,INDEX(Substitutes!$E$7:$I$21,$G8,AR$2),""),"") | AS8: =IFERROR(IF(LEN($AP8)>0,INDEX(Substitutes!$E$7:$I$21,$G8,AS$2),""),"") | AT8: =IFERROR(IF(LEN($AP8)>0,INDEX(Substitutes!$E$7:$I$21,$G8,AT$2),""),"") | AU8: =IFERROR(IF(LEN($AP8)>0,INDEX(Substitutes!$E$7:$I$21,$G8,AU$2),""),"") | AW8: Threat Scale ("") | AY8: 5 | BA8: 5 | BC8: 5
G9: 6 | I9: =IFERROR(IF(LEN($J9)>0,INDEX($K$4:$O$53,$G9,MATCH(MarketFilter,$K$3:$O$3,0)),""),"") | J9: =IFERROR(IF(INDEX(Entrants!$B$7:$B$56,$G9,1)<>"",INDEX(Entrants!$B$7:$B$56,$G9,1),""),"") | K9: =IFERROR(IF(LEN($J9)>0,INDEX(Entrants!$E$7:$I$21,$G9,K$2),""),"") | L9: =IFERROR(IF(LEN($J9)>0,INDEX(Entrants!$E$7:$I$21,$G9,L$2),""),"") | M9: =IFERROR(IF(LEN($J9)>0,INDEX(Entrants!$E$7:$I$21,$G9,M$2),""),"") | N9: =IFERROR(IF(LEN($J9)>0,INDEX(Entrants!$E$7:$I$21,$G9,N$2),""),"") | O9: =IFERROR(IF(LEN($J9)>0,INDEX(Entrants!$E$7:$I$21,$G9,O$2),""),"") | Q9: =IFERROR(IF(LEN($R9)>0,INDEX($S$4:$W$53,$G9,MATCH(MarketFilter,$S$3:$W$3,0)),""),"") | R9: =IFERROR(IF(INDEX(Suppliers!$B$7:$B$56,$G9,1)<>"",INDEX(Suppliers!$B$7:$B$56,$G9,1),""),"") | S9: =IFERROR(IF(LEN($R9)>0,INDEX(Suppliers!$E$7:$I$21,$G9,S$2),""),"") | T9: =IFERROR(IF(LEN($R9)>0,INDEX(Suppliers!$E$7:$I$21,$G9,T$2),""),"") | U9: =IFERROR(IF(LEN($R9)>0,INDEX(Suppliers!$E$7:$I$21,$G9,U$2),""),"") | V9: =IFERROR(IF(LEN($R9)>0,INDEX(Suppliers!$E$7:$I$21,$G9,V$2),""),"") | W9: =IFERROR(IF(LEN($R9)>0,INDEX(Suppliers!$E$7:$I$21,$G9,W$2),""),"") | Y9: =IFERROR(IF(LEN($Z9)>0,INDEX($AA$4:$AE$53,$G9,MATCH(MarketFilter,$AA$3:$AE$3,0)),""),"") -> 5 | Z9: =IFERROR(IF(INDEX(Competitors!$B$7:$B$56,$G9,1)<>"",INDEX(Competitors!$B$7:$B$56,$G9,1),""),"") -> Product differentiation | AA9: =IFERROR(IF(LEN($Z9)>0,INDEX(Competitors!$E$7:$I$21,$G9,AA$2),""),"") -> 4 | AB9: =IFERROR(IF(LEN($Z9)>0,INDEX(Competitors!$E$7:$I$21,$G9,AB$2),""),"") -> 5 | AC9: =IFERROR(IF(LEN($Z9)>0,INDEX(Competitors!$E$7:$I$21,$G9,AC$2),""),"") -> 3 | AD9: =IFERROR(IF(LEN($Z9)>0,INDEX(Competitors!$E$7:$I$21,$G9,AD$2),""),"") -> 0 | AE9: =IFERROR(IF(LEN($Z9)>0,INDEX(Competitors!$E$7:$I$21,$G9,AE$2),""),"") -> 0 | AG9: =IFERROR(IF(LEN($AH9)>0,INDEX($AI$4:$AM$53,$G9,MATCH(MarketFilter,$AI$3:$AM$3,0)),""),"") | AH9: =IFERROR(IF(INDEX(Buyers!$B$7:$B$56,$G9,1)<>"",INDEX(Buyers!$B$7:$B$56,$G9,1),""),"") | AI9: =IFERROR(IF(LEN($AH9)>0,INDEX(Buyers!$E$7:$I$21,$G9,AI$2),""),"") | AJ9: =IFERROR(IF(LEN($AH9)>0,INDEX(Buyers!$E$7:$I$21,$G9,AJ$2),""),"") | AK9: =IFERROR(IF(LEN($AH9)>0,INDEX(Buyers!$E$7:$I$21,$G9,AK$2),""),"") | AL9: =IFERROR(IF(LEN($AH9)>0,INDEX(Buyers!$E$7:$I$21,$G9,AL$2),""),"") | AM9: =IFERROR(IF(LEN($AH9)>0,INDEX(Buyers!$E$7:$I$21,$G9,AM$2),""),"") | AO9: =IFERROR(IF(LEN($AP9)>0,INDEX($AQ$4:$AU$53,$G9,MATCH(MarketFilter,$AQ$3:$AU$3,0)),""),"") | AP9: =IFERROR(IF(INDEX(Substitutes!$B$7:$B$56,$G9,1)<>"",INDEX(Substitutes!$B$7:$B$56,$G9,1),""),"") | AQ9: =IFERROR(IF(LEN($AP9)>0,INDEX(Substitutes!$E$7:$I$21,$G9,AQ$2),""),"") | AR9: =IFERROR(IF(LEN($AP9)>0,INDEX(Substitutes!$E$7:$I$21,$G9,AR$2),""),"") | AS9: =IFERROR(IF(LEN($AP9)>0,INDEX(Substitutes!$E$7:$I$21,$G9,AS$2),""),"") | AT9: =IFERROR(IF(LEN($AP9)>0,INDEX(Substitutes!$E$7:$I$21,$G9,AT$2),""),"") | AU9: =IFERROR(IF(LEN($AP9)>0,INDEX(Substitutes!$E$7:$I$21,$G9,AU$2),""),"") | AW9: - | BA9: 6 | BC9: 6
D10: Market Filter | BA10: 7 | BC10: 7
D11: =IF(LEN(Dashboard!$F$10)>0,Dashboard!$F$10,"") -> Market 2 | BA11: 8 | BC11: 8
BA12: 9 | BC12: 9
D13: Force Filter | BA13: 10 | BC13: 10
D14: =IF(LEN(Dashboard!$F$14)>0,Dashboard!$F$14,"") -> Competitive Rivalry | BC14: 11
BC15: 12
B16: Row Index | D16: Threat List | E16: Threat Value | BC16: 13
B17: 1 | D17: =IFERROR(IF(ForceFilter=$J$3,INDEX($J$4:$J$53,$B17,1),IF(ForceFilter=$R$3,INDEX($R$4:$R$53,$B17,1),IF(ForceFilter=$Z$3,INDEX($Z$4:$Z$53,$B17,1),IF(ForceFilter=$AH$3,INDEX($AH$4:$AH$53,$B17,1),IF(ForceFilter=$AP$3,INDEX($AP$4:$AP$53,$B17,1),""))))),"") -> Number of competitors | E17: =IFERROR(IF(ForceFilter=$J$3,INDEX($I$4:$I$53,$B17,1),IF(ForceFilter=$R$3,INDEX($Q$4:$Q$53,$B17,1),IF(ForceFilter=$Z$3,INDEX($Y$4:$Y$53,$B17,1),IF(ForceFilter=$AH$3,INDEX($AG$4:$AG$53,$B17,1),IF(ForceFilter=$AP$3,INDEX($AO$4:$AO$53,$B17,1),""))))),"") -> 5 | BC17: 14
B18: 2 | D18: =IFERROR(IF(ForceFilter=$J$3,INDEX($J$4:$J$53,$B18,1),IF(ForceFilter=$R$3,INDEX($R$4:$R$53,$B18,1),IF(ForceFilter=$Z$3,INDEX($Z$4:$Z$53,$B18,1),IF(ForceFilter=$AH$3,INDEX($AH$4:$AH$53,$B18,1),IF(ForceFilter=$AP$3,INDEX($AP$4:$AP$53,$B18,1),""))))),"") -> Industry growth | E18: =IFERROR(IF(ForceFilter=$J$3,INDEX($I$4:$I$53,$B18,1),IF(ForceFilter=$R$3,INDEX($Q$4:$Q$53,$B18,1),IF(ForceFilter=$Z$3,INDEX($Y$4:$Y$53,$B18,1),IF(ForceFilter=$AH$3,INDEX($AG$4:$AG$53,$B18,1),IF(ForceFilter=$AP$3,INDEX($AO$4:$AO$53,$B18,1),""))))),"") -> 6 | BC18: 15
B19: 3 | D19: =IFERROR(IF(ForceFilter=$J$3,INDEX($J$4:$J$53,$B19,1),IF(ForceFilter=$R$3,INDEX($R$4:$R$53,$B19,1),IF(ForceFilter=$Z$3,INDEX($Z$4:$Z$53,$B19,1),IF(ForceFilter=$AH$3,INDEX($AH$4:$AH$53,$B19,1),IF(ForceFilter=$AP$3,INDEX($AP$4:$AP$53,$B19,1),""))))),"") -> Exit barriers | E19: =IFERROR(IF(ForceFilter=$J$3,INDEX($I$4:$I$53,$B19,1),IF(ForceFilter=$R$3,INDEX($Q$4:$Q$53,$B19,1),IF(ForceFilter=$Z$3,INDEX($Y$4:$Y$53,$B19,1),IF(ForceFilter=$AH$3,INDEX($AG$4:$AG$53,$B19,1),IF(ForceFilter=$AP$3,INDEX($AO$4:$AO$53,$B19,1),""))))),"") -> 7 | BC19: 16
B20: 4 | D20: =IFERROR(IF(ForceFilter=$J$3,INDEX($J$4:$J$53,$B20,1),IF(ForceFilter=$R$3,INDEX($R$4:$R$53,$B20,1),IF(ForceFilter=$Z$3,INDEX($Z$4:$Z$53,$B20,1),IF(ForceFilter=$AH$3,INDEX($AH$4:$AH$53,$B20,1),IF(ForceFilter=$AP$3,INDEX($AP$4:$AP$53,$B20,1),""))))),"") -> Fixed costs | E20: =IFERROR(IF(ForceFilter=$J$3,INDEX($I$4:$I$53,$B20,1),IF(ForceFilter=$R$3,INDEX($Q$4:$Q$53,$B20,1),IF(ForceFilter=$Z$3,INDEX($Y$4:$Y$53,$B20,1),IF(ForceFilter=$AH$3,INDEX($AG$4:$AG$53,$B20,1),IF(ForceFilter=$AP$3,INDEX($AO$4:$AO$53,$B20,1),""))))),"") -> 8 | BC20: 17
B21: 5 | D21: =IFERROR(IF(ForceFilter=$J$3,INDEX($J$4:$J$53,$B21,1),IF(ForceFilter=$R$3,INDEX($R$4:$R$53,$B21,1),IF(ForceFilter=$Z$3,INDEX($Z$4:$Z$53,$B21,1),IF(ForceFilter=$AH$3,INDEX($AH$4:$AH$53,$B21,1),IF(ForceFilter=$AP$3,INDEX($AP$4:$AP$53,$B21,1),""))))),"") -> Switching costs | E21: =IFERROR(IF(ForceFilter=$J$3,INDEX($I$4:$I$53,$B21,1),IF(ForceFilter=$R$3,INDEX($Q$4:$Q$53,$B21,1),IF(ForceFilter=$Z$3,INDEX($Y$4:$Y$53,$B21,1),IF(ForceFilter=$AH$3,INDEX($AG$4:$AG$53,$B21,1),IF(ForceFilter=$AP$3,INDEX($AO$4:$AO$53,$B21,1),""))))),"") -> 9 | BC21: 18
B22: 6 | D22: =IFERROR(IF(ForceFilter=$J$3,INDEX($J$4:$J$53,$B22,1),IF(ForceFilter=$R$3,INDEX($R$4:$R$53,$B22,1),IF(ForceFilter=$Z$3,INDEX($Z$4:$Z$53,$B22,1),IF(ForceFilter=$AH$3,INDEX($AH$4:$AH$53,$B22,1),IF(ForceFilter=$AP$3,INDEX($AP$4:$AP$53,$B22,1),""))))),"") -> Product differentiation | E22: =IFERROR(IF(ForceFilter=$J$3,INDEX($I$4:$I$53,$B22,1),IF(ForceFilter=$R$3,INDEX($Q$4:$Q$53,$B22,1),IF(ForceFilter=$Z$3,INDEX($Y$4:$Y$53,$B22,1),IF(ForceFilter=$AH$3,INDEX($AG$4:$AG$53,$B22,1),IF(ForceFilter=$AP$3,INDEX($AO$4:$AO$53,$B22,1),""))))),"") -> 5 | BC22: 19
BC23: 20
BC24: 21
BC25: 22
BC26: 23
BC27: 24
BC28: 25
BC29: 26
BC30: 27
BC31: 28
BC32: 29
BC33: 30
BC34: 31
... BC54: 51
J55: Number of Threat | K55: =IFERROR(MAX($G$4:$G$9)-COUNTIF($J$4:$J$9,""),0) -> 5 | L55: =IFERROR(MAX($G$4:$G$9)-COUNTIF($J$4:$J$9,""),0) -> 5 | M55: =IFERROR(MAX($G$4:$G$9)-COUNTIF($J$4:$J$9,""),0) -> 5 | N55: =IFERROR(MAX($G$4:$G$9)-COUNTIF($J$4:$J$9,""),0) -> 5 | O55: =IFERROR(MAX($G$4:$G$9)-COUNTIF($J$4:$J$9,""),0) -> 5 | R55: Number of Threat | S55: =IFERROR(MAX($G$4:$G$9)-COUNTIF($R$4:$R$9,""),0) -> 3 | T55: =IFERROR(MAX($G$4:$G$9)-COUNTIF($R$4:$R$9,""),0) -> 3 | U55: =IFERROR(MAX($G$4:$G$9)-COUNTIF($R$4:$R$9,""),0) -> 3 | V55: =IFERROR(MAX($G$4:$G$9)-COUNTIF($R$4:$R$9,""),0) -> 3 | W55: =IFERROR(MAX($G$4:$G$9)-COUNTIF($R$4:$R$9,""),0) -> 3 | Z55: Number of Threat | AA55: =IFERROR(MAX($G$4:$G$9)-COUNTIF($Z$4:$Z$9,""),0) -> 6 | AB55: =IFERROR(MAX($G$4:$G$9)-COUNTIF($Z$4:$Z$9,""),0) -> 6 | AC55: =IFERROR(MAX($G$4:$G$9)-COUNTIF($Z$4:$Z$9,""),0) -> 6 | AD55: =IFERROR(MAX($G$4:$G$9)-COUNTIF($Z$4:$Z$9,""),0) -> 6 | AE55: =IFERROR(MAX($G$4:$G$9)-COUNTIF($Z$4:$Z$9,""),0) -> 6 | AH55: Number of Threat | AI55: =IFERROR(MAX($G$4:$G$9)-COUNTIF($AH$4:$AH$9,""),0) -> 3 | AJ55: =IFERROR(MAX($G$4:$G$9)-COUNTIF($AH$4:$AH$9,""),0) -> 3 | AK55: =IFERROR(MAX($G$4:$G$9)-COUNTIF($AH$4:$AH$9,""),0) -> 3 | AL55: =IFERROR(MAX($G$4:$G$9)-COUNTIF($AH$4:$AH$9,""),0) -> 3 | AM55: =IFERROR(MAX($G$4:$G$9)-COUNTIF($AH$4:$AH$9,""),0) -> 3 | AP55: Number of Threat | AQ55: =IFERROR(MAX($G$4:$G$9)-COUNTIF($AP$4:$AP$9,""),0) -> 2 | AR55: =IFERROR(MAX($G$4:$G$9)-COUNTIF($AP$4:$AP$9,""),0) -> 2 | AS55: =IFERROR(MAX($G$4:$G$9)-COUNTIF($AP$4:$AP$9,""),0) -> 2 | AT55: =IFERROR(MAX($G$4:$G$9)-COUNTIF($AP$4:$AP$9,""),0) -> 2 | AU55: =IFERROR(MAX($G$4:$G$9)-COUNTIF($AP$4:$AP$9,""),0) -> 2 | BC55: 52
J56: Sum of Risks | K56: =IFERROR(SUMIF($J$4:$J$9,"<>""",K$4:K$9),0) -> 22 | L56: =IFERROR(SUMIF($J$4:$J$9,"<>""",L$4:L$9),0) -> 35 | M56: =IFERROR(SUMIF($J$4:$J$9,"<>""",M$4:M$9),0) -> 16 | N56: =IFERROR(SUMIF($J$4:$J$9,"<>""",N$4:N$9),0) -> 0 | O56: =IFERROR(SUMIF($J$4:$J$9,"<>""",O$4:O$9),0) -> 0 | R56: Sum of Risks | S56: =IFERROR(SUMIF($R$4:$R$9,"<>""",S$4:S$9),0) -> 27 | T56: =IFERROR(SUMIF($R$4:$R$9,"<>""",T$4:T$9),0) -> 18 | U56: =IFERROR(SUMIF($R$4:$R$9,"<>""",U$4:U$9),0) -> 13 | V56: =IFERROR(SUMIF($R$4:$R$9,"<>""",V$4:V$9),0) -> 0 | W56: =IFERROR(SUMIF($R$4:$R$9,"<>""",W$4:W$9),0) -> 0 | Z56: Sum of Risks | AA56: =IFERROR(SUMIF($Z$4:$Z$9,"<>""",AA$4:AA$9),0) -> 41 | AB56: =IFERROR(SUMIF($Z$4:$Z$9,"<>""",AB$4:AB$9),0) -> 40 | AC56: =IFERROR(SUMIF($Z$4:$Z$9,"<>""",AC$4:AC$9),0) -> 21 | AD56: =IFERROR(SUMIF($Z$4:$Z$9,"<>""",AD$4:AD$9),0) -> 0 | AE56: =IFERROR(SUMIF($Z$4:$Z$9,"<>""",AE$4:AE$9),0) -> 0 | AH56: Sum of Risks | AI56: =IFERROR(SUMIF($AH$4:$AH$9,"<>""",AI$4:AI$9),0) -> 27 | AJ56: =IFERROR(SUMIF($AH$4:$AH$9,"<>""",AJ$4:AJ$9),0) -> 18 | AK56: =IFERROR(SUMIF($AH$4:$AH$9,"<>""",AK$4:AK$9),0) -> 13 | AL56: =IFERROR(SUMIF($AH$4:$AH$9,"<>""",AL$4:AL$9),0) -> 0 | AM56: =IFERROR(SUMIF($AH$4:$AH$9,"<>""",AM$4:AM$9),0) -> 0 | AP56: Sum of Risks | AQ56: =IFERROR(SUMIF($AP$4:$AP$9,"<>""",AQ$4:AQ$9),0) -> 19 | AR56: =IFERROR(SUMIF($AP$4:$AP$9,"<>""",AR$4:AR$9),0) -> 15 | AS56: =IFERROR(SUMIF($AP$4:$AP$9,"<>""",AS$4:AS$9),0) -> 9 | AT56: =IFERROR(SUMIF($AP$4:$AP$9,"<>""",AT$4:AT$9),0) -> 0 | AU56: =IFERROR(SUMIF($AP$4:$AP$9,"<>""",AU$4:AU$9),0) -> 0 | BC56: 53
J57: Avarage Risk | K57: =IFERROR(K$56/K$55,0) -> 4.4 | L57: =IFERROR(L$56/L$55,0) -> 7 | M57: =IFERROR(M$56/M$55,0) -> 3.2 | N57: =IFERROR(N$56/N$55,0) -> 0 | O57: =IFERROR(O$56/O$55,0) -> 0 | R57: Avarage Risk | S57: =IFERROR(S$56/S$55,0) -> 9 | T57: =IFERROR(T$56/T$55,0) -> 6 | U57: =IFERROR(U$56/U$55,0) -> 4.3333333 | V57: =IFERROR(V$56/V$55,0) -> 0 | W57: =IFERROR(W$56/W$55,0) -> 0 | Z57: Avarage Risk | AA57: =IFERROR(AA$56/AA$55,0) -> 6.8333333 | AB57: =IFERROR(AB$56/AB$55,0) -> 6.6666667 | AC57: =IFERROR(AC$56/AC$55,0) -> 3.5 | AD57: =IFERROR(AD$56/AD$55,0) -> 0 | AE57: =IFERROR(AE$56/AE$55,0) -> 0 | AH57: Avarage Risk | AI57: =IFERROR(AI$56/AI$55,0) -> 9 | AJ57: =IFERROR(AJ$56/AJ$55,0) -> 6 | AK57: =IFERROR(AK$56/AK$55,0) -> 4.3333333 | AL57: =IFERROR(AL$56/AL$55,0) -> 0 | AM57: =IFERROR(AM$56/AM$55,0) -> 0 | AP57: Avarage Risk | AQ57: =IFERROR(AQ$56/AQ$55,0) -> 9.5 | AR57: =IFERROR(AR$56/AR$55,0) -> 7.5 | AS57: =IFERROR(AS$56/AS$55,0) -> 4.5 | AT57: =IFERROR(AT$56/AT$55,0) -> 0 | AU57: =IFERROR(AU$56/AU$55,0) -> 0 | BC57: 54
J58: Highest Risk | K58: =IFERROR(MAX(K$4:K$9),0) -> 10 | L58: =IFERROR(MAX(L$4:L$9),0) -> 9 | M58: =IFERROR(MAX(M$4:M$9),0) -> 5 | N58: =IFERROR(MAX(N$4:N$9),0) -> 0 | O58: =IFERROR(MAX(O$4:O$9),0) -> 0 | R58: Highest Risk | S58: =IFERROR(MAX(S$4:S$9),0) -> 10 | T58: =IFERROR(MAX(T$4:T$9),0) -> 7 | U58: =IFERROR(MAX(U$4:U$9),0) -> 5 | V58: =IFERROR(MAX(V$4:V$9),0) -> 0 | W58: =IFERROR(MAX(W$4:W$9),0) -> 0 | Z58: Highest Risk | AA58: =IFERROR(MAX(AA$4:AA$9),0) -> 10 | AB58: =IFERROR(MAX(AB$4:AB$9),0) -> 9 | AC58: =IFERROR(MAX(AC$4:AC$9),0) -> 5 | AD58: =IFERROR(MAX(AD$4:AD$9),0) -> 0 | AE58: =IFERROR(MAX(AE$4:AE$9),0) -> 0 | AH58: Highest Risk | AI58: =IFERROR(MAX(AI$4:AI$9),0) -> 10 | AJ58: =IFERROR(MAX(AJ$4:AJ$9),0) -> 7 | AK58: =IFERROR(MAX(AK$4:AK$9),0) -> 5 | AL58: =IFERROR(MAX(AL$4:AL$9),0) -> 0 | AM58: =IFERROR(MAX(AM$4:AM$9),0) -> 0 | AP58: Highest Risk | AQ58: =IFERROR(MAX(AQ$4:AQ$9),0) -> 10 | AR58: =IFERROR(MAX(AR$4:AR$9),0) -> 9 | AS58: =IFERROR(MAX(AS$4:AS$9),0) -> 5 | AT58: =IFERROR(MAX(AT$4:AT$9),0) -> 0 | AU58: =IFERROR(MAX(AU$4:AU$9),0) -> 0 | BC58: 55
BC59: 56
...
