Workbook
Name Brands: Calc!$C$7:$C$13
Name BubbleSize: Calc!$H$7:$H$13
Name xAxis: Calc!$F$7:$F$13
Name yAxis: Calc!$G$7:$G$13

Sheet Dashboard
B2: PERCEPTUAL MAP TEMPLATE
B3: DASHBOARD
B6: BRANDS | C6: SIZE PARAMETER | D6: KEY ATTRIBUTES
C7: Market Share % | D7: Price | E7: Quality | F7: Power | G7: Size | H7: Designn | I7: Delivery | J7: Features
B8: Ford | C8: 6 | D8: 30000 | E8: 80 | F8: 10 | G8: 3 | H8: 4 | I8: 8 | J8: 50
B9: Toyota | C9: 12 | D9: 50000 | E9: 50 | F9: 8 | G9: 4 | H9: 3 | I9: 10 | J9: 60
B10: Volkswagen | C10: 10 | D10: 60000 | E10: 60 | F10: 7 | G10: 2 | H10: 5 | I10: 4 | J10: 40
B11: Kia | C11: 4 | D11: 20000 | E11: 20 | F11: 4 | G11: 1 | H11: 2 | I11: 5 | J11: 50
B12: Nissan | C12: 6 | D12: 30000 | E12: 40 | F12: 5 | G12: 5 | H12: 1 | I12: 6 | J12: 30
B29: OPTIONS | E29: PERCEPTUAL MAP
B31: X-Axis | D31: =C39 -> HIGH QUALITY
B32: Attribute | C32: Price
B33: Low-End Definition | C33: CHEAP
B34: High-End Definition | C34: EXPENSIVE
B36: Y-Axis
B37: Attribute | C37: Power
B38: Low-End Definition | C38: LOW QUALITY | D38: =C38 -> LOW QUALITY
B39: High-End Definition | C39: HIGH QUALITY
B41: Bubble Size Option
B42: Equal Sizes
E45: =C33 -> CHEAP | H45: =C34 -> EXPENSIVE

Sheet Calc
D4: Raw Data | F4: Bubble Data
D5: X-Axis | E5: Y-Axis | F5: X-Axis | G5: Y-Axis | H5: Size Parameter
C6: Brand | D6: =Dashboard!C32 -> Price | E6: =Dashboard!C37 -> Power | F6: =Dashboard!C32 -> Price | G6: =Dashboard!C37 -> Power | H6: =Dashboard!C7 -> Market Share %
C7: =IF(LEN(Dashboard!B8)=0,"",Dashboard!B8) -> Ford | D7: =IFERROR(IF(INDEX(Dashboard!$D$8:$J$14,MATCH($C7,Dashboard!$B$8:$B$14,0),MATCH(D$6,Dashboard!$D$7:$J$7,0))="",NA(),INDEX(Dashboard!$D$8:$J$14,MATCH($C7,Dashboard!$B$8:$B$14,0),MATCH(D$6,Dashboard!$D$7:$J$7,0))),NA()) -> 30000 | E7: =IFERROR(IF(INDEX(Dashboard!$D$8:$J$14,MATCH($C7,Dashboard!$B$8:$B$14,0),MATCH(E$6,Dashboard!$D$7:$J$7,0))="",NA(),INDEX(Dashboard!$D$8:$J$14,MATCH($C7,Dashboard!$B$8:$B$14,0),MATCH(E$6,Dashboard!$D$7:$J$7,0))),NA()) -> 10 | F7: =IF(AND(ISNUMBER($D7),ISNUMBER($E7)),$D7,NA()) -> 30000 | G7: =IF(AND(ISNUMBER($D7),ISNUMBER($E7)),$E7,NA()) -> 10 | H7: =IFERROR(IF(Dashboard!$B$42="Equal Sizes",1,IF(AND(Dashboard!$B$42="Proportional Sizes",LEN(Dashboard!$C8)=0),1,Dashboard!$C8)),"") -> 1
C8: =IF(LEN(Dashboard!B9)=0,"",Dashboard!B9) -> Toyota | D8: =IFERROR(IF(INDEX(Dashboard!$D$8:$J$14,MATCH($C8,Dashboard!$B$8:$B$14,0),MATCH(D$6,Dashboard!$D$7:$J$7,0))="",NA(),INDEX(Dashboard!$D$8:$J$14,MATCH($C8,Dashboard!$B$8:$B$14,0),MATCH(D$6,Dashboard!$D$7:$J$7,0))),NA()) -> 50000 | E8: =IFERROR(IF(INDEX(Dashboard!$D$8:$J$14,MATCH($C8,Dashboard!$B$8:$B$14,0),MATCH(E$6,Dashboard!$D$7:$J$7,0))="",NA(),INDEX(Dashboard!$D$8:$J$14,MATCH($C8,Dashboard!$B$8:$B$14,0),MATCH(E$6,Dashboard!$D$7:$J$7,0))),NA()) -> 8 | F8: =IF(AND(ISNUMBER($D8),ISNUMBER($E8)),$D8,NA()) -> 50000 | G8: =IF(AND(ISNUMBER($D8),ISNUMBER($E8)),$E8,NA()) -> 8 | H8: =IFERROR(IF(Dashboard!$B$42="Equal Sizes",1,IF(AND(Dashboard!$B$42="Proportional Sizes",LEN(Dashboard!$C9)=0),1,Dashboard!$C9)),"") -> 1
C9: =IF(LEN(Dashboard!B10)=0,"",Dashboard!B10) -> Volkswagen | D9: =IFERROR(IF(INDEX(Dashboard!$D$8:$J$14,MATCH($C9,Dashboard!$B$8:$B$14,0),MATCH(D$6,Dashboard!$D$7:$J$7,0))="",NA(),INDEX(Dashboard!$D$8:$J$14,MATCH($C9,Dashboard!$B$8:$B$14,0),MATCH(D$6,Dashboard!$D$7:$J$7,0))),NA()) -> 60000 | E9: =IFERROR(IF(INDEX(Dashboard!$D$8:$J$14,MATCH($C9,Dashboard!$B$8:$B$14,0),MATCH(E$6,Dashboard!$D$7:$J$7,0))="",NA(),INDEX(Dashboard!$D$8:$J$14,MATCH($C9,Dashboard!$B$8:$B$14,0),MATCH(E$6,Dashboard!$D$7:$J$7,0))),NA()) -> 7 | F9: =IF(AND(ISNUMBER($D9),ISNUMBER($E9)),$D9,NA()) -> 60000 | G9: =IF(AND(ISNUMBER($D9),ISNUMBER($E9)),$E9,NA()) -> 7 | H9: =IFERROR(IF(Dashboard!$B$42="Equal Sizes",1,IF(AND(Dashboard!$B$42="Proportional Sizes",LEN(Dashboard!$C10)=0),1,Dashboard!$C10)),"") -> 1
C10: =IF(LEN(Dashboard!B11)=0,"",Dashboard!B11) -> Kia | D10: =IFERROR(IF(INDEX(Dashboard!$D$8:$J$14,MATCH($C10,Dashboard!$B$8:$B$14,0),MATCH(D$6,Dashboard!$D$7:$J$7,0))="",NA(),INDEX(Dashboard!$D$8:$J$14,MATCH($C10,Dashboard!$B$8:$B$14,0),MATCH(D$6,Dashboard!$D$7:$J$7,0))),NA()) -> 20000 | E10: =IFERROR(IF(INDEX(Dashboard!$D$8:$J$14,MATCH($C10,Dashboard!$B$8:$B$14,0),MATCH(E$6,Dashboard!$D$7:$J$7,0))="",NA(),INDEX(Dashboard!$D$8:$J$14,MATCH($C10,Dashboard!$B$8:$B$14,0),MATCH(E$6,Dashboard!$D$7:$J$7,0))),NA()) -> 4 | F10: =IF(AND(ISNUMBER($D10),ISNUMBER($E10)),$D10,NA()) -> 20000 | G10: =IF(AND(ISNUMBER($D10),ISNUMBER($E10)),$E10,NA()) -> 4 | H10: =IFERROR(IF(Dashboard!$B$42="Equal Sizes",1,IF(AND(Dashboard!$B$42="Proportional Sizes",LEN(Dashboard!$C11)=0),1,Dashboard!$C11)),"") -> 1
C11: =IF(LEN(Dashboard!B12)=0,"",Dashboard!B12) -> Nissan | D11: =IFERROR(IF(INDEX(Dashboard!$D$8:$J$14,MATCH($C11,Dashboard!$B$8:$B$14,0),MATCH(D$6,Dashboard!$D$7:$J$7,0))="",NA(),INDEX(Dashboard!$D$8:$J$14,MATCH($C11,Dashboard!$B$8:$B$14,0),MATCH(D$6,Dashboard!$D$7:$J$7,0))),NA()) -> 30000 | E11: =IFERROR(IF(INDEX(Dashboard!$D$8:$J$14,MATCH($C11,Dashboard!$B$8:$B$14,0),MATCH(E$6,Dashboard!$D$7:$J$7,0))="",NA(),INDEX(Dashboard!$D$8:$J$14,MATCH($C11,Dashboard!$B$8:$B$14,0),MATCH(E$6,Dashboard!$D$7:$J$7,0))),NA()) -> 5 | F11: =IF(AND(ISNUMBER($D11),ISNUMBER($E11)),$D11,NA()) -> 30000 | G11: =IF(AND(ISNUMBER($D11),ISNUMBER($E11)),$E11,NA()) -> 5 | H11: =IFERROR(IF(Dashboard!$B$42="Equal Sizes",1,IF(AND(Dashboard!$B$42="Proportional Sizes",LEN(Dashboard!$C12)=0),1,Dashboard!$C12)),"") -> 1
C12: =IF(LEN(Dashboard!B13)=0,"",Dashboard!B13) | D12: =IFERROR(IF(INDEX(Dashboard!$D$8:$J$14,MATCH($C12,Dashboard!$B$8:$B$14,0),MATCH(D$6,Dashboard!$D$7:$J$7,0))="",NA(),INDEX(Dashboard!$D$8:$J$14,MATCH($C12,Dashboard!$B$8:$B$14,0),MATCH(D$6,Dashboard!$D$7:$J$7,0))),NA()) -> #N/A | E12: =IFERROR(IF(INDEX(Dashboard!$D$8:$J$14,MATCH($C12,Dashboard!$B$8:$B$14,0),MATCH(E$6,Dashboard!$D$7:$J$7,0))="",NA(),INDEX(Dashboard!$D$8:$J$14,MATCH($C12,Dashboard!$B$8:$B$14,0),MATCH(E$6,Dashboard!$D$7:$J$7,0))),NA()) -> #N/A | F12: =IF(AND(ISNUMBER($D12),ISNUMBER($E12)),$D12,NA()) -> #N/A | G12: =IF(AND(ISNUMBER($D12),ISNUMBER($E12)),$E12,NA()) -> #N/A | H12: =IFERROR(IF(Dashboard!$B$42="Equal Sizes",1,IF(AND(Dashboard!$B$42="Proportional Sizes",LEN(Dashboard!$C13)=0),1,Dashboard!$C13)),"") -> 1
C13: =IF(LEN(Dashboard!B14)=0,"",Dashboard!B14) | D13: =IFERROR(IF(INDEX(Dashboard!$D$8:$J$14,MATCH($C13,Dashboard!$B$8:$B$14,0),MATCH(D$6,Dashboard!$D$7:$J$7,0))="",NA(),INDEX(Dashboard!$D$8:$J$14,MATCH($C13,Dashboard!$B$8:$B$14,0),MATCH(D$6,Dashboard!$D$7:$J$7,0))),NA()) -> #N/A | E13: =IFERROR(IF(INDEX(Dashboard!$D$8:$J$14,MATCH($C13,Dashboard!$B$8:$B$14,0),MATCH(E$6,Dashboard!$D$7:$J$7,0))="",NA(),INDEX(Dashboard!$D$8:$J$14,MATCH($C13,Dashboard!$B$8:$B$14,0),MATCH(E$6,Dashboard!$D$7:$J$7,0))),NA()) -> #N/A | F13: =IF(AND(ISNUMBER($D13),ISNUMBER($E13)),$D13,NA()) -> #N/A | G13: =IF(AND(ISNUMBER($D13),ISNUMBER($E13)),$E13,NA()) -> #N/A | H13: =IFERROR(IF(Dashboard!$B$42="Equal Sizes",1,IF(AND(Dashboard!$B$42="Proportional Sizes",LEN(Dashboard!$C14)=0),1,Dashboard!$C14)),"") -> 1
