Workbook
Name chart1count: IF(calc!$J$28>0,OFFSET(calc!$I$28,0,0,calc!$J$28,1),OFFSET(calc!$H$30,0,0))
Name chart1names: IF(calc!$J$28>0,OFFSET(calc!$G$28,0,0,calc!$J$28,1),OFFSET(calc!$G$30,0,0))
Name count1: calc!$B$3
Name count2: calc!$F$3
Name count3: calc!$J$3
Name count4: calc!$N$3
Name count5: calc!$R$3
Name count6: calc!$V$3
Name countResults: IF(calc!$B$25>0,OFFSET(calc!$C$25,0,0,1,calc!$B$25),OFFSET(calc!$M$25,0,0))
Name NoSolutionCount: IF(calc!$B$19>0,OFFSET(calc!$D$19,0,0,1,calc!$B$19),OFFSET(calc!$K$19,0,0))
Name ProblemHeaders: IF(calc!$B$16>0,OFFSET(calc!$D$15,0,0,1,calc!$B$16),OFFSET(calc!$K$15,0,0))
Name ProblemsCount: IF(calc!$B$16>0,OFFSET(calc!$D$16,0,0,1,calc!$B$16),OFFSET(calc!$K$16,0,0))
Name RelationList: OFFSET(calc!$Q$14,,,calc!$Q$21)
Name RelationStep3: OFFSET(calc!$P$14,,,calc!$P$20)
Name resultsNames: IF(calc!$B$25>0,OFFSET(calc!$C$24,0,0,1,calc!$B$25),OFFSET(calc!$M$24,0,0))
Name ResultStep3: OFFSET(calc!$W$14,,,calc!$W$24)
Name Solution1: calc!$D$5:$D$11
Name Solution2: calc!$H$5:$H$11
Name Solution3: calc!$L$5:$L$11
Name Solution4: calc!$P$5:$P$11
Name Solution5: calc!$T$5:$T$11
Name Solution6: calc!$X$5:$X$11
Name SolutionCount: IF(calc!$B$18>0,OFFSET(calc!$D$18,0,0,1,calc!$B$18),OFFSET(calc!$K$18,0,0))

Sheet Dashboard
C2: NADLER-TUSHMAN CONGRUENCE MODEL
C3: DASHBOARD
J15: RESULTS OPTIONS
J16: Success
J17: Not Implemented
J18: Rejected
J19: In Progress
J20: Under Consideration

Sheet Step1
B2: NADLER-TUSHMAN CONGRUENCE MODEL
B3: STEP 1 - DEFINE AND ANALYZE EACH ELEMENT
B6: INPUT | D6: OUTPUT | F6: WORK
B7: Strategy | D7: Organizational | F7: Existing tasks
B8: Environment | D8: Team | F8: Jobs roles
B9: Resources | D9: Individual performance | F9: Requirements
B10: History | F10: Work flows
F11: Projects
B38: STRUCTURE | D38: CULTURE | F38: PEOPLE
B39: Systems | D39: Values | F39: Skills
B40: Processes | D40: Leadership | F40: Knowledge
B41: Divisions | D41: Individuals | F41: Experience
B42: Functions | D42: Behaviors | F42: Education
B43: Procedures | D43: Political situation | F43: Approach

Sheet Step2
B2: NADLER-TUSHMAN CONGRUENCE MODEL
B3: STEP 2 - ANALYZE RELATIONS
B6: =IF(OR(LEN(calc!N14)=0,LEN(calc!N15)=0),calc!$N$18,calc!N14& "↔" &calc!N15) -> WORK↔STRUCTURE | D6: =IF(OR(LEN(calc!N14)=0,LEN(calc!N16)=0),calc!$N$18,calc!N14& "↔" &calc!N16) -> WORK↔CULTURE | F6: =IF(OR(LEN(calc!N14)=0,LEN(calc!N17)=0),calc!$N$18,calc!N14& "↔" &calc!N17) -> WORK↔PEOPLE
B7: Work coordination. | D7: Does company culture help in effective work? | F7: Is work done by skilled people?
B8: Job reporting structure. | D8: How it can be improved? | F8: - missing senior c# developer
B9: How procedures impact work results? | D9: Are there any drawbacks? | F9: - too many salesman
B10: People reports to many people instead of one | D10: Holidays - different days, different countries. | F10: Are tasks individually scaled?
B38: =IF(OR(LEN(calc!N15)=0,LEN(calc!N16)=0),calc!$N$18,calc!N15& "↔" &calc!N16) -> STRUCTURE↔CULTURE | D38: =IF(OR(LEN(calc!N15)=0,LEN(calc!N17)=0),calc!$N$18,calc!N15& "↔" &calc!N17) -> STRUCTURE↔PEOPLE | F38: =IF(OR(LEN(calc!N16)=0,LEN(calc!N17)=0),calc!$N$18,calc!N16& "↔" &calc!N17) -> CULTURE↔PEOPLE
B39: Does structure go along with the culture? | D39: Are people with correct skills on the right positions? | F39: Does culture of the company suits people?
B40: Is structure support or block people's values or beliefs? | D40: Is experience valued in the career steps? | F40: Are there any complaints?
D41: Are there educational programs/ projects? | F41: How individuals are impacted by culture?
D42: Is there a clear point system for the specific positions.

Sheet Step3
B2: NADLER-TUSHMAN CONGRUENCE MODEL
B3: STEP 3 - ACTION PLAN & RESULT
B5: RELATION | C5: PROBLEM | D5: Column1 | E5: SOLUTION(S) | F5: RESULT | G5: NOTES
B6: WORK↔CULTURE | C6: Does company culture help in effective work? | D6: =IF(LEN(calc!C28)>0,COUNTIF(calc!$C$28:C28,calc!C28),"") -> 1 | E6: make people aware of the case | F6: Success
D7: =IF(LEN(calc!C29)>0,COUNTIF(calc!$C$28:C29,calc!C29),"") -> 2 | E7: create a holidays calendar | F7: In Progress
B8: WORK↔PEOPLE | C8: - missing senior c# developer | D8: =IF(LEN(calc!C30)>0,COUNTIF(calc!$C$28:C30,calc!C30),"") -> 1 | E8: internal hire | F8: Not Implemented | G8: if not succeed try other solutions
D9: =IF(LEN(calc!C31)>0,COUNTIF(calc!$C$28:C31,calc!C31),"") -> 2 | E9: provide courses | F9: In Progress
D10: =IF(LEN(calc!C32)>0,COUNTIF(calc!$C$28:C32,calc!C32),"") -> 3 | E10: external hire | F10: Under Consideration
D11: =IF(LEN(calc!C33)>0,COUNTIF(calc!$C$28:C33,calc!C33),"") -> 4 | E11: outsource | F11: Under Consideration | G11: check the cost
C12: - too many salesman | D12: =IF(LEN(calc!C34)>0,COUNTIF(calc!$C$28:C34,calc!C34),"") -> 1 | E12: open new branch
D13: =IF(LEN(calc!C35)>0,COUNTIF(calc!$C$28:C35,calc!C35),"") -> 2 | E13: provide trainings, assign other tasks
B14: CULTURE↔PEOPLE | C14: How individuals are impacted by culture? | D14: =IF(LEN(calc!C36)>0,COUNTIF(calc!$C$28:C36,calc!C36),"") -> 1
D15: =IF(LEN(calc!C37)>0,COUNTIF(calc!$C$28:C37,calc!C37),"")
D16: =IF(LEN(calc!C38)>0,COUNTIF(calc!$C$28:C38,calc!C38),"")
B17: WORK↔STRUCTURE | C17: Job reporting structure. | D17: =IF(LEN(calc!C39)>0,COUNTIF(calc!$C$28:C39,calc!C39),"") -> 1
D18: =IF(LEN(calc!C40)>0,COUNTIF(calc!$C$28:C40,calc!C40),"")
D19: =IF(LEN(calc!C41)>0,COUNTIF(calc!$C$28:C41,calc!C41),"")
B20: STRUCTURE↔CULTURE | C20: Is structure support or block people's values or beliefs? | D20: =IF(LEN(calc!C42)>0,COUNTIF(calc!$C$28:C42,calc!C42),"") -> 1 | E20: Create clear career paths
D21: =IF(LEN(calc!C43)>0,COUNTIF(calc!$C$28:C43,calc!C43),"") -> 2 | E21: Point system to reach next levels of the career
D22: =IF(LEN(calc!C44)>0,COUNTIF(calc!$C$28:C44,calc!C44),"")
D23: =IF(LEN(calc!C45)>0,COUNTIF(calc!$C$28:C45,calc!C45),"")
D24: =IF(LEN(calc!C46)>0,COUNTIF(calc!$C$28:C46,calc!C46),"")
D25: =IF(LEN(calc!C47)>0,COUNTIF(calc!$C$28:C47,calc!C47),"")
D26: =IF(LEN(calc!C48)>0,COUNTIF(calc!$C$28:C48,calc!C48),"")

Sheet Results
C2: NADLER-TUSHMAN CONGRUENCE MODEL
C3: SUMMARY
C7: RELATION | D7: TOTAL

Sheet Chart1
C2: NADLER-TUSHMAN CONGRUENCE MODEL
C3: CHART

Sheet calc
B2: INPUT | F2: OUTPUT | J2: =Step1!F6 -> WORK | N2: =Step1!F38 -> PEOPLE | R2: =Step1!D38 -> CULTURE | V2: =Step1!B38 -> STRUCTURE
B3: =COUNTA($B$5:$B$11)-COUNTBLANK($B$5:$B$11) -> 4 | C3: =COUNTA($C$5:$C$11)-COUNTBLANK($C$5:$C$11) -> 4 | F3: =COUNTA($F$5:$F$11)-COUNTBLANK($F$5:$F$11) -> 4 | G3: =COUNTA($G$5:$G$11)-COUNTBLANK($G$5:$G$11) -> 4 | J3: =COUNTA($J$5:$J$11)-COUNTBLANK($J$5:$J$11) -> 4 | K3: =COUNTA($K$5:$K$11)-COUNTBLANK($K$5:$K$11) -> 4 | N3: =COUNTA($N$5:$N$11)-COUNTBLANK($N$5:$N$11) -> 2 | O3: =COUNTA($O$5:$O$11)-COUNTBLANK($O$5:$O$11) -> 2 | R3: =COUNTA($R$5:$R$11)-COUNTBLANK($R$5:$R$11) -> 4 | S3: =COUNTA($S$5:$S$11)-COUNTBLANK($S$5:$S$11) -> 4 | V3: =COUNTA($V$5:$V$11)-COUNTBLANK($V$5:$V$11) -> 3 | W3: =COUNTA($W$5:$W$11)-COUNTBLANK($W$5:$W$11) -> 3
B4: =IF(Step2!B6=$N$18,"",Step2!B6) -> WORK↔STRUCTURE | C4: NO BLANK | D4: Solution? | F4: =IF(Step2!D6=$N$18,"",Step2!D6) -> WORK↔CULTURE | G4: NO BLANK | H4: Solution? | J4: =IF(Step2!F6=$N$18,"",Step2!F6) -> WORK↔PEOPLE | K4: NO BLANK | L4: Solution? | N4: =IF(Step2!B38=$N$18,"",Step2!B38) -> STRUCTURE↔CULTURE | O4: NO BLANK | P4: Solution? | R4: =IF(Step2!D38=$N$18,"",Step2!D38) -> STRUCTURE↔PEOPLE | S4: NO BLANK | T4: Solution? | V4: =IF(Step2!F38=$N$18,"",Step2!F38) -> CULTURE↔PEOPLE | W4: NO BLANK | X4: Solution?
B5: =IF(LEN(Step2!B7)>0,Step2!B7,"") -> Work coordination. | C5: {=IFERROR(INDEX($B$5:$B$11, MATCH(0,INDEX((LEN($B$5:$B$11)=0)+COUNTIF($C$4:$C4,$B$5:$B$11),0),0)),"")} -> Work coordination. | D5: =IF(LEN(C5)=0,0,COUNTIFS(Step3!$C$6:$C$26,C5,Step3!$D$6:$D$26,">0")) -> 0 | F5: =IF(LEN(Step2!D7)>0,Step2!D7,"") -> Does company culture help in effective work? | G5: {=IFERROR(INDEX($F$5:$F$11, MATCH(0,INDEX((LEN($F$5:$F$11)=0)+COUNTIF($G$4:$G4,$F$5:$F$11),0),0)),"")} -> Does company culture help in effective work? | H5: =IF(LEN(G5)=0,0,COUNTIFS(Step3!$C$6:$C$26,G5,Step3!$D$6:$D$26,">0")) -> 1 | J5: =IF(LEN(Step2!F7)>0,Step2!F7,"") -> Is work done by skilled people? | K5: {=IFERROR(INDEX($J$5:$J$11, MATCH(0,INDEX((LEN($J$5:$J$11)=0)+COUNTIF($K$4:$K4,$J$5:$J$11),0),0)),"")} -> Is work done by skilled people? | L5: =IF(LEN(K5)=0,0,COUNTIFS(Step3!$C$6:$C$26,K5,Step3!$D$6:$D$26,">0")) -> 0 | N5: =IF(LEN(Step2!B39)>0,Step2!B39,"") -> Does structure go along with the culture? | O5: {=IFERROR(INDEX($N$5:$N$11, MATCH(0,INDEX((LEN($N$5:$N$11)=0)+COUNTIF($O$4:$O4,$N$5:$N$11),0),0)),"")} -> Does structure go along with the culture? | P5: =IF(LEN(O5)=0,0,COUNTIFS(Step3!$C$6:$C$26,O5,Step3!$D$6:$D$26,">0")) -> 0 | R5: =IF(LEN(Step2!D39)>0,Step2!D39,"") -> Are people with correct skills on the right positions? | S5: {=IFERROR(INDEX($R$5:$R$11, MATCH(0,INDEX((LEN($R$5:$R$11)=0)+COUNTIF($S$4:$S4,$R$5:$R$11),0),0)),"")} -> Are people with correct skills on the right positions? | T5: =IF(LEN(S5)=0,0,COUNTIFS(Step3!$C$6:$C$26,S5,Step3!$D$6:$D$26,">0")) -> 0 | V5: =IF(LEN(Step2!F39)>0,Step2!F39,"") -> Does culture of the company suits people? | W5: {=IFERROR(INDEX($V$5:$V$11, MATCH(0,INDEX((LEN($V$5:$V$11)=0)+COUNTIF($W$4:$W4,$V$5:$V$11),0),0)),"")} -> Does culture of the company suits people? | X5: =IF(LEN(W5)=0,0,COUNTIFS(Step3!$C$6:$C$26,W5,Step3!$D$6:$D$26,">0")) -> 0
B6: =IF(LEN(Step2!B8)>0,Step2!B8,"") -> Job reporting structure. | C6: {=IFERROR(INDEX($B$5:$B$11, MATCH(0,INDEX((LEN($B$5:$B$11)=0)+COUNTIF($C$4:$C5,$B$5:$B$11),0),0)),"")} -> Job reporting structure. | D6: =IF(LEN(C6)=0,0,COUNTIFS(Step3!$C$6:$C$26,C6,Step3!$D$6:$D$26,">0")) -> 1 | F6: =IF(LEN(Step2!D8)>0,Step2!D8,"") -> How it can be improved? | G6: {=IFERROR(INDEX($F$5:$F$11, MATCH(0,INDEX((LEN($F$5:$F$11)=0)+COUNTIF($G$4:$G5,$F$5:$F$11),0),0)),"")} -> How it can be improved? | H6: =IF(LEN(G6)=0,0,COUNTIFS(Step3!$C$6:$C$26,G6,Step3!$D$6:$D$26,">0")) -> 0 | J6: =IF(LEN(Step2!F8)>0,Step2!F8,"") -> - missing senior c# developer | K6: {=IFERROR(INDEX($J$5:$J$11, MATCH(0,INDEX((LEN($J$5:$J$11)=0)+COUNTIF($K$4:$K5,$J$5:$J$11),0),0)),"")} -> - missing senior c# developer | L6: =IF(LEN(K6)=0,0,COUNTIFS(Step3!$C$6:$C$26,K6,Step3!$D$6:$D$26,">0")) -> 1 | N6: =IF(LEN(Step2!B40)>0,Step2!B40,"") -> Is structure support or block people's values or beliefs? | O6: {=IFERROR(INDEX($N$5:$N$11, MATCH(0,INDEX((LEN($N$5:$N$11)=0)+COUNTIF($O$4:$O5,$N$5:$N$11),0),0)),"")} -> Is structure support or block people's values or beliefs? | P6: =IF(LEN(O6)=0,0,COUNTIFS(Step3!$C$6:$C$26,O6,Step3!$D$6:$D$26,">0")) -> 1 | R6: =IF(LEN(Step2!D40)>0,Step2!D40,"") -> Is experience valued in the career steps? | S6: {=IFERROR(INDEX($R$5:$R$11, MATCH(0,INDEX((LEN($R$5:$R$11)=0)+COUNTIF($S$4:$S5,$R$5:$R$11),0),0)),"")} -> Is experience valued in the career steps? | T6: =IF(LEN(S6)=0,0,COUNTIFS(Step3!$C$6:$C$26,S6,Step3!$D$6:$D$26,">0")) -> 0 | V6: =IF(LEN(Step2!F40)>0,Step2!F40,"") -> Are there any complaints? | W6: {=IFERROR(INDEX($V$5:$V$11, MATCH(0,INDEX((LEN($V$5:$V$11)=0)+COUNTIF($W$4:$W5,$V$5:$V$11),0),0)),"")} -> Are there any complaints? | X6: =IF(LEN(W6)=0,0,COUNTIFS(Step3!$C$6:$C$26,W6,Step3!$D$6:$D$26,">0")) -> 0
B7: =IF(LEN(Step2!B9)>0,Step2!B9,"") -> How procedures impact work results? | C7: {=IFERROR(INDEX($B$5:$B$11, MATCH(0,INDEX((LEN($B$5:$B$11)=0)+COUNTIF($C$4:$C6,$B$5:$B$11),0),0)),"")} -> How procedures impact work results? | D7: =IF(LEN(C7)=0,0,COUNTIFS(Step3!$C$6:$C$26,C7,Step3!$D$6:$D$26,">0")) -> 0 | F7: =IF(LEN(Step2!D9)>0,Step2!D9,"") -> Are there any drawbacks? | G7: {=IFERROR(INDEX($F$5:$F$11, MATCH(0,INDEX((LEN($F$5:$F$11)=0)+COUNTIF($G$4:$G6,$F$5:$F$11),0),0)),"")} -> Are there any drawbacks? | H7: =IF(LEN(G7)=0,0,COUNTIFS(Step3!$C$6:$C$26,G7,Step3!$D$6:$D$26,">0")) -> 0 | J7: =IF(LEN(Step2!F9)>0,Step2!F9,"") -> - too many salesman | K7: {=IFERROR(INDEX($J$5:$J$11, MATCH(0,INDEX((LEN($J$5:$J$11)=0)+COUNTIF($K$4:$K6,$J$5:$J$11),0),0)),"")} -> - too many salesman | L7: =IF(LEN(K7)=0,0,COUNTIFS(Step3!$C$6:$C$26,K7,Step3!$D$6:$D$26,">0")) -> 1 | N7: =IF(LEN(Step2!B41)>0,Step2!B41,"") | O7: {=IFERROR(INDEX($N$5:$N$11, MATCH(0,INDEX((LEN($N$5:$N$11)=0)+COUNTIF($O$4:$O6,$N$5:$N$11),0),0)),"")} | P7: =IF(LEN(O7)=0,0,COUNTIFS(Step3!$C$6:$C$26,O7,Step3!$D$6:$D$26,">0")) -> 0 | R7: =IF(LEN(Step2!D41)>0,Step2!D41,"") -> Are there educational programs/ projects? | S7: {=IFERROR(INDEX($R$5:$R$11, MATCH(0,INDEX((LEN($R$5:$R$11)=0)+COUNTIF($S$4:$S6,$R$5:$R$11),0),0)),"")} -> Are there educational programs/ projects? | T7: =IF(LEN(S7)=0,0,COUNTIFS(Step3!$C$6:$C$26,S7,Step3!$D$6:$D$26,">0")) -> 0 | V7: =IF(LEN(Step2!F41)>0,Step2!F41,"") -> How individuals are impacted by culture? | W7: {=IFERROR(INDEX($V$5:$V$11, MATCH(0,INDEX((LEN($V$5:$V$11)=0)+COUNTIF($W$4:$W6,$V$5:$V$11),0),0)),"")} -> How individuals are impacted by culture? | X7: =IF(LEN(W7)=0,0,COUNTIFS(Step3!$C$6:$C$26,W7,Step3!$D$6:$D$26,">0")) -> 1
B8: =IF(LEN(Step2!B10)>0,Step2!B10,"") -> People reports to many people instead of one | C8: {=IFERROR(INDEX($B$5:$B$11, MATCH(0,INDEX((LEN($B$5:$B$11)=0)+COUNTIF($C$4:$C7,$B$5:$B$11),0),0)),"")} -> People reports to many people instead of one | D8: =IF(LEN(C8)=0,0,COUNTIFS(Step3!$C$6:$C$26,C8,Step3!$D$6:$D$26,">0")) -> 0 | F8: =IF(LEN(Step2!D10)>0,Step2!D10,"") -> Holidays - different days, different countries. | G8: {=IFERROR(INDEX($F$5:$F$11, MATCH(0,INDEX((LEN($F$5:$F$11)=0)+COUNTIF($G$4:$G7,$F$5:$F$11),0),0)),"")} -> Holidays - different days, different countries. | H8: =IF(LEN(G8)=0,0,COUNTIFS(Step3!$C$6:$C$26,G8,Step3!$D$6:$D$26,">0")) -> 0 | J8: =IF(LEN(Step2!F10)>0,Step2!F10,"") -> Are tasks individually scaled? | K8: {=IFERROR(INDEX($J$5:$J$11, MATCH(0,INDEX((LEN($J$5:$J$11)=0)+COUNTIF($K$4:$K7,$J$5:$J$11),0),0)),"")} -> Are tasks individually scaled? | L8: =IF(LEN(K8)=0,0,COUNTIFS(Step3!$C$6:$C$26,K8,Step3!$D$6:$D$26,">0")) -> 0 | N8: =IF(LEN(Step2!B42)>0,Step2!B42,"") | O8: {=IFERROR(INDEX($N$5:$N$11, MATCH(0,INDEX((LEN($N$5:$N$11)=0)+COUNTIF($O$4:$O7,$N$5:$N$11),0),0)),"")} | P8: =IF(LEN(O8)=0,0,COUNTIFS(Step3!$C$6:$C$26,O8,Step3!$D$6:$D$26,">0")) -> 0 | R8: =IF(LEN(Step2!D42)>0,Step2!D42,"") -> Is there a clear point system for the specific positions. | S8: {=IFERROR(INDEX($R$5:$R$11, MATCH(0,INDEX((LEN($R$5:$R$11)=0)+COUNTIF($S$4:$S7,$R$5:$R$11),0),0)),"")} -> Is there a clear point system for the specific positions. | T8: =IF(LEN(S8)=0,0,COUNTIFS(Step3!$C$6:$C$26,S8,Step3!$D$6:$D$26,">0")) -> 0 | V8: =IF(LEN(Step2!F42)>0,Step2!F42,"") | W8: {=IFERROR(INDEX($V$5:$V$11, MATCH(0,INDEX((LEN($V$5:$V$11)=0)+COUNTIF($W$4:$W7,$V$5:$V$11),0),0)),"")} | X8: =IF(LEN(W8)=0,0,COUNTIFS(Step3!$C$6:$C$26,W8,Step3!$D$6:$D$26,">0")) -> 0
B9: =IF(LEN(Step2!B11)>0,Step2!B11,"") | C9: {=IFERROR(INDEX($B$5:$B$11, MATCH(0,INDEX((LEN($B$5:$B$11)=0)+COUNTIF($C$4:$C8,$B$5:$B$11),0),0)),"")} | D9: =IF(LEN(C9)=0,0,COUNTIFS(Step3!$C$6:$C$26,C9,Step3!$D$6:$D$26,">0")) -> 0 | F9: =IF(LEN(Step2!D11)>0,Step2!D11,"") | G9: {=IFERROR(INDEX($F$5:$F$11, MATCH(0,INDEX((LEN($F$5:$F$11)=0)+COUNTIF($G$4:$G8,$F$5:$F$11),0),0)),"")} | H9: =IF(LEN(G9)=0,0,COUNTIFS(Step3!$C$6:$C$26,G9,Step3!$D$6:$D$26,">0")) -> 0 | J9: =IF(LEN(Step2!F11)>0,Step2!F11,"") | K9: {=IFERROR(INDEX($J$5:$J$11, MATCH(0,INDEX((LEN($J$5:$J$11)=0)+COUNTIF($K$4:$K8,$J$5:$J$11),0),0)),"")} | L9: =IF(LEN(K9)=0,0,COUNTIFS(Step3!$C$6:$C$26,K9,Step3!$D$6:$D$26,">0")) -> 0 | N9: =IF(LEN(Step2!B43)>0,Step2!B43,"") | O9: {=IFERROR(INDEX($N$5:$N$11, MATCH(0,INDEX((LEN($N$5:$N$11)=0)+COUNTIF($O$4:$O8,$N$5:$N$11),0),0)),"")} | P9: =IF(LEN(O9)=0,0,COUNTIFS(Step3!$C$6:$C$26,O9,Step3!$D$6:$D$26,">0")) -> 0 | R9: =IF(LEN(Step2!D43)>0,Step2!D43,"") | S9: {=IFERROR(INDEX($R$5:$R$11, MATCH(0,INDEX((LEN($R$5:$R$11)=0)+COUNTIF($S$4:$S8,$R$5:$R$11),0),0)),"")} | T9: =IF(LEN(S9)=0,0,COUNTIFS(Step3!$C$6:$C$26,S9,Step3!$D$6:$D$26,">0")) -> 0 | V9: =IF(LEN(Step2!F43)>0,Step2!F43,"") | W9: {=IFERROR(INDEX($V$5:$V$11, MATCH(0,INDEX((LEN($V$5:$V$11)=0)+COUNTIF($W$4:$W8,$V$5:$V$11),0),0)),"")} | X9: =IF(LEN(W9)=0,0,COUNTIFS(Step3!$C$6:$C$26,W9,Step3!$D$6:$D$26,">0")) -> 0
B10: =IF(LEN(Step2!B12)>0,Step2!B12,"") | C10: {=IFERROR(INDEX($B$5:$B$11, MATCH(0,INDEX((LEN($B$5:$B$11)=0)+COUNTIF($C$4:$C9,$B$5:$B$11),0),0)),"")} | D10: =IF(LEN(C10)=0,0,COUNTIFS(Step3!$C$6:$C$26,C10,Step3!$D$6:$D$26,">0")) -> 0 | F10: =IF(LEN(Step2!D12)>0,Step2!D12,"") | G10: {=IFERROR(INDEX($F$5:$F$11, MATCH(0,INDEX((LEN($F$5:$F$11)=0)+COUNTIF($G$4:$G9,$F$5:$F$11),0),0)),"")} | H10: =IF(LEN(G10)=0,0,COUNTIFS(Step3!$C$6:$C$26,G10,Step3!$D$6:$D$26,">0")) -> 0 | J10: =IF(LEN(Step2!F12)>0,Step2!F12,"") | K10: {=IFERROR(INDEX($J$5:$J$11, MATCH(0,INDEX((LEN($J$5:$J$11)=0)+COUNTIF($K$4:$K9,$J$5:$J$11),0),0)),"")} | L10: =IF(LEN(K10)=0,0,COUNTIFS(Step3!$C$6:$C$26,K10,Step3!$D$6:$D$26,">0")) -> 0 | N10: =IF(LEN(Step2!B44)>0,Step2!B44,"") | O10: {=IFERROR(INDEX($N$5:$N$11, MATCH(0,INDEX((LEN($N$5:$N$11)=0)+COUNTIF($O$4:$O9,$N$5:$N$11),0),0)),"")} | P10: =IF(LEN(O10)=0,0,COUNTIFS(Step3!$C$6:$C$26,O10,Step3!$D$6:$D$26,">0")) -> 0 | R10: =IF(LEN(Step2!D44)>0,Step2!D44,"") | S10: {=IFERROR(INDEX($R$5:$R$11, MATCH(0,INDEX((LEN($R$5:$R$11)=0)+COUNTIF($S$4:$S9,$R$5:$R$11),0),0)),"")} | T10: =IF(LEN(S10)=0,0,COUNTIFS(Step3!$C$6:$C$26,S10,Step3!$D$6:$D$26,">0")) -> 0 | V10: =IF(LEN(Step2!F44)>0,Step2!F44,"") | W10: {=IFERROR(INDEX($V$5:$V$11, MATCH(0,INDEX((LEN($V$5:$V$11)=0)+COUNTIF($W$4:$W9,$V$5:$V$11),0),0)),"")} | X10: =IF(LEN(W10)=0,0,COUNTIFS(Step3!$C$6:$C$26,W10,Step3!$D$6:$D$26,">0")) -> 0
B11: =IF(LEN(Step2!B13)>0,Step2!B13,"") | C11: {=IFERROR(INDEX($B$5:$B$11, MATCH(0,INDEX((LEN($B$5:$B$11)=0)+COUNTIF($C$4:$C10,$B$5:$B$11),0),0)),"")} | D11: =IF(LEN(C11)=0,0,COUNTIFS(Step3!$C$6:$C$26,C11,Step3!$D$6:$D$26,">0")) -> 0 | F11: =IF(LEN(Step2!D13)>0,Step2!D13,"") | G11: {=IFERROR(INDEX($F$5:$F$11, MATCH(0,INDEX((LEN($F$5:$F$11)=0)+COUNTIF($G$4:$G10,$F$5:$F$11),0),0)),"")} | H11: =IF(LEN(G11)=0,0,COUNTIFS(Step3!$C$6:$C$26,G11,Step3!$D$6:$D$26,">0")) -> 0 | J11: =IF(LEN(Step2!F13)>0,Step2!F13,"") | K11: {=IFERROR(INDEX($J$5:$J$11, MATCH(0,INDEX((LEN($J$5:$J$11)=0)+COUNTIF($K$4:$K10,$J$5:$J$11),0),0)),"")} | L11: =IF(LEN(K11)=0,0,COUNTIFS(Step3!$C$6:$C$26,K11,Step3!$D$6:$D$26,">0")) -> 0 | N11: =IF(LEN(Step2!B45)>0,Step2!B45,"") | O11: {=IFERROR(INDEX($N$5:$N$11, MATCH(0,INDEX((LEN($N$5:$N$11)=0)+COUNTIF($O$4:$O10,$N$5:$N$11),0),0)),"")} | P11: =IF(LEN(O11)=0,0,COUNTIFS(Step3!$C$6:$C$26,O11,Step3!$D$6:$D$26,">0")) -> 0 | R11: =IF(LEN(Step2!D45)>0,Step2!D45,"") | S11: {=IFERROR(INDEX($R$5:$R$11, MATCH(0,INDEX((LEN($R$5:$R$11)=0)+COUNTIF($S$4:$S10,$R$5:$R$11),0),0)),"")} | T11: =IF(LEN(S11)=0,0,COUNTIFS(Step3!$C$6:$C$26,S11,Step3!$D$6:$D$26,">0")) -> 0 | V11: =IF(LEN(Step2!F45)>0,Step2!F45,"") | W11: {=IFERROR(INDEX($V$5:$V$11, MATCH(0,INDEX((LEN($V$5:$V$11)=0)+COUNTIF($W$4:$W10,$V$5:$V$11),0),0)),"")} | X11: =IF(LEN(W11)=0,0,COUNTIFS(Step3!$C$6:$C$26,W11,Step3!$D$6:$D$26,">0")) -> 0
O13: =COUNTA($O$14:$O$19)-COUNTBLANK($O$14:$O$19) -> 6 | P13: No blank | Q13: No blank with TOTAL | R13: =P14 -> WORK↔STRUCTURE | S13: List of relations | V13: Resluts Opt. | W13: No blanks
B14: CHARTS INFO | K14: No data | N14: =IF(Step1!F6=0,"",Step1!F6) -> WORK | O14: =IF(OR(LEN(N14)=0,LEN(N15)=0),"",N14& "↔" &N15) -> WORK↔STRUCTURE | P14: {=IFERROR(INDEX($O$14:$O$19, MATCH(0,INDEX((LEN($O$14:$O$19)=0)+COUNTIF($P$13:$P13,$O$14:$O$19),0),0)),"")} -> WORK↔STRUCTURE | Q14: {=IFERROR(INDEX($O$14:$O$20, MATCH(0,INDEX((LEN($O$14:$O$20)=0)+COUNTIF($Q$13:$Q13,$O$14:$O$20),0),0)),"")} -> WORK↔STRUCTURE | R14: =P15 -> WORK↔CULTURE | S14: =Step2!B6 -> WORK↔STRUCTURE | V14: =IF(LEN(Dashboard!J16)>0,Dashboard!J16,"") -> Success | W14: =IFERROR(INDEX($V$14:$V$23, MATCH(0,INDEX((LEN($V$14:$V$23)=0)+COUNTIF($W$13:$W13,$V$14:$V$23),0),0)),"") -> Success
B15: Count | D15: =IF(LEN(calc!J45)>0,calc!J45,"") -> WORK↔STRUCTURE | E15: =IF(LEN(calc!J46)>0,calc!J46,"") -> WORK↔CULTURE | F15: =IF(LEN(calc!J47)>0,calc!J47,"") -> WORK↔PEOPLE | G15: =IF(LEN(calc!J48)>0,calc!J48,"") -> STRUCTURE↔CULTURE | H15: =IF(LEN(calc!J49)>0,calc!J49,"") -> STRUCTURE↔PEOPLE | I15: =IF(LEN(calc!J50)>0,calc!J50,"") -> CULTURE↔PEOPLE | J15: TOTAL | K15: =IF(LEN(D15)=0,"No Data","") | N15: =IF(Step1!B38=0,"",Step1!B38) -> STRUCTURE | O15: =IF(OR(LEN(N14)=0,LEN(N16)=0),"",N14& "↔" &N16) -> WORK↔CULTURE | P15: {=IFERROR(INDEX($O$14:$O$19, MATCH(0,INDEX((LEN($O$14:$O$19)=0)+COUNTIF($P$13:$P14,$O$14:$O$19),0),0)),"")} -> WORK↔CULTURE | Q15: {=IFERROR(INDEX($O$14:$O$20, MATCH(0,INDEX((LEN($O$14:$O$20)=0)+COUNTIF($Q$13:$Q14,$O$14:$O$20),0),0)),"")} -> WORK↔CULTURE | R15: =P16 -> WORK↔PEOPLE | S15: =Step2!D6 -> WORK↔CULTURE | V15: =IF(LEN(Dashboard!J17)>0,Dashboard!J17,"") -> Not Implemented | W15: =IFERROR(INDEX($V$14:$V$23, MATCH(0,INDEX((LEN($V$14:$V$23)=0)+COUNTIF($W$13:$W14,$V$14:$V$23),0),0)),"") -> Not Implemented
B16: =COUNT(D16:I16) -> 6 | C16: Problems: | D16: =$K$45 -> 4 | E16: =$K$46 -> 4 | F16: =$K$47 -> 4 | G16: =$K$48 -> 2 | H16: =$K$49 -> 4 | I16: =$K$50 -> 3 | J16: =SUM(D16:I16) -> 21 | K16: =IF(LEN(K15)=0,"",1) | N16: =IF(Step1!D38=0,"",Step1!D38) -> CULTURE | O16: =IF(OR(LEN(N14)=0,LEN(N17)=0),"",N14& "↔" &N17) -> WORK↔PEOPLE | P16: {=IFERROR(INDEX($O$14:$O$19, MATCH(0,INDEX((LEN($O$14:$O$19)=0)+COUNTIF($P$13:$P15,$O$14:$O$19),0),0)),"")} -> WORK↔PEOPLE | Q16: {=IFERROR(INDEX($O$14:$O$20, MATCH(0,INDEX((LEN($O$14:$O$20)=0)+COUNTIF($Q$13:$Q15,$O$14:$O$20),0),0)),"")} -> WORK↔PEOPLE | R16: =P17 -> STRUCTURE↔CULTURE | S16: =Step2!F6 -> WORK↔PEOPLE | V16: =IF(LEN(Dashboard!J18)>0,Dashboard!J18,"") -> Rejected | W16: =IFERROR(INDEX($V$14:$V$23, MATCH(0,INDEX((LEN($V$14:$V$23)=0)+COUNTIF($W$13:$W15,$V$14:$V$23),0),0)),"") -> Rejected
B17: =COUNT(D17:I17) -> 6 | C17: Total Solutions: | D17: =IF(LEN($D$15)=0,"",SUMIF(calc!$B$28:$B$48,calc!$D$15,calc!$E$28:$E$48)) -> 0 | E17: =IF(LEN($E$15)=0,"",SUMIF(calc!$B$28:$B$48,calc!$E$15,calc!$E$28:$E$48)) -> 2 | F17: =IF(LEN($F$15)=0,"",SUMIF(calc!$B$28:$B$48,calc!$F$15,calc!$E$28:$E$48)) -> 6 | G17: =IF(LEN($G$15)=0,"",SUMIF(calc!$B$28:$B$48,calc!$G$15,calc!$E$28:$E$48)) -> 2 | H17: =IF(LEN($H$15)=0,"",SUMIF(calc!$B$28:$B$48,calc!$R$4,calc!$E$28:$E$48)) -> 0 | I17: =IF(LEN($I$15)=0,"",SUMIF(calc!$B$28:$B$48,calc!$V$4,calc!$E$28:$E$48)) -> 0 | J17: =SUM(D17:I17) -> 10 | N17: =IF(Step1!F38=0,"",Step1!F38) -> PEOPLE | O17: =IF(OR(LEN(N15)=0,LEN(N16)=0),"",N15& "↔" &N16) -> STRUCTURE↔CULTURE | P17: {=IFERROR(INDEX($O$14:$O$19, MATCH(0,INDEX((LEN($O$14:$O$19)=0)+COUNTIF($P$13:$P16,$O$14:$O$19),0),0)),"")} -> STRUCTURE↔CULTURE | Q17: {=IFERROR(INDEX($O$14:$O$20, MATCH(0,INDEX((LEN($O$14:$O$20)=0)+COUNTIF($Q$13:$Q16,$O$14:$O$20),0),0)),"")} -> STRUCTURE↔CULTURE | R17: =P18 -> STRUCTURE↔PEOPLE | S17: =Step2!B38 -> STRUCTURE↔CULTURE | V17: =IF(LEN(Dashboard!J19)>0,Dashboard!J19,"") -> In Progress | W17: =IFERROR(INDEX($V$14:$V$23, MATCH(0,INDEX((LEN($V$14:$V$23)=0)+COUNTIF($W$13:$W16,$V$14:$V$23),0),0)),"") -> In Progress
B18: =COUNT(D18:I18) -> 6 | C18: Problems with solution: | D18: =$L$45 -> 1 | E18: =$L$46 -> 1 | F18: =$L$47 -> 2 | G18: =$L$48 -> 1 | H18: =$L$49 -> 0 | I18: =$L$50 -> 1 | J18: =SUM(D18:I18) -> 6 | K18: =IF(LEN(K15)=0,"",1) | N18: Please add main element from Step1! | O18: =IF(OR(LEN(N15)=0,LEN(N17)=0),"",N15& "↔" &N17) -> STRUCTURE↔PEOPLE | P18: {=IFERROR(INDEX($O$14:$O$19, MATCH(0,INDEX((LEN($O$14:$O$19)=0)+COUNTIF($P$13:$P17,$O$14:$O$19),0),0)),"")} -> STRUCTURE↔PEOPLE | Q18: {=IFERROR(INDEX($O$14:$O$20, MATCH(0,INDEX((LEN($O$14:$O$20)=0)+COUNTIF($Q$13:$Q17,$O$14:$O$20),0),0)),"")} -> STRUCTURE↔PEOPLE | R18: =P19 -> CULTURE↔PEOPLE | S18: =Step2!D38 -> STRUCTURE↔PEOPLE | V18: =IF(LEN(Dashboard!J20)>0,Dashboard!J20,"") -> Under Consideration | W18: =IFERROR(INDEX($V$14:$V$23, MATCH(0,INDEX((LEN($V$14:$V$23)=0)+COUNTIF($W$13:$W17,$V$14:$V$23),0),0)),"") -> Under Consideration
B19: =COUNT(D19:I19) -> 6 | C19: Problems without solution: | D19: =IF(LEN(D$15)=0,"",D$16-D$18) -> 3 | E19: =IF(LEN(E$15)=0,"",E$16-E$18) -> 3 | F19: =IF(LEN(F$15)=0,"",F$16-F$18) -> 2 | G19: =IF(LEN(G$15)=0,"",G$16-G$18) -> 1 | H19: =IF(LEN(H$15)=0,"",H$16-H$18) -> 4 | I19: =IF(LEN(I$15)=0,"",I$16-I$18) -> 2 | J19: =SUM(D19:I19) -> 15 | K19: =IF(LEN(K15)=0,"",1) | O19: =IF(OR(LEN(N16)=0,LEN(N17)=0),"",N16& "↔" &N17) -> CULTURE↔PEOPLE | P19: {=IFERROR(INDEX($O$14:$O$19, MATCH(0,INDEX((LEN($O$14:$O$19)=0)+COUNTIF($P$13:$P18,$O$14:$O$19),0),0)),"")} -> CULTURE↔PEOPLE | Q19: {=IFERROR(INDEX($O$14:$O$20, MATCH(0,INDEX((LEN($O$14:$O$20)=0)+COUNTIF($Q$13:$Q18,$O$14:$O$20),0),0)),"")} -> CULTURE↔PEOPLE | S19: =Step2!F38 -> CULTURE↔PEOPLE | V19: =IF(LEN(Dashboard!J21)>0,Dashboard!J21,"") | W19: =IFERROR(INDEX($V$14:$V$23, MATCH(0,INDEX((LEN($V$14:$V$23)=0)+COUNTIF($W$13:$W18,$V$14:$V$23),0),0)),"")
C20: Problems: | D20: =IF(LEN(D$16)=0,"",D$16&" problems identified") -> 4 problems identified | E20: =IF(LEN(E$16)=0,"",E$16&" problems identified") -> 4 problems identified | F20: =IF(LEN(F$16)=0,"",F$16&" problems identified") -> 4 problems identified | G20: =IF(LEN(G$16)=0,"",G$16&" problems identified") -> 2 problems identified | H20: =IF(LEN(H$16)=0,"",H$16&" problems identified") -> 4 problems identified | I20: =IF(LEN(I$16)=0,"",I$16&" problems identified") -> 3 problems identified | J20: =SUM($D$16:$I$16) & " problems identified" -> 21 problems identified | O20: =IF(O13>1,"TOTAL","") -> TOTAL | P20: =COUNTA($P$14:$P$19)-COUNTBLANK($P$14:$P$19) -> 6 | Q20: {=IFERROR(INDEX($O$14:$O$20, MATCH(0,INDEX((LEN($O$14:$O$20)=0)+COUNTIF($Q$13:$Q19,$O$14:$O$20),0),0)),"")} -> TOTAL | S20: TOTAL | V20: =IF(LEN(Dashboard!J22)>0,Dashboard!J22,"") | W20: =IFERROR(INDEX($V$14:$V$23, MATCH(0,INDEX((LEN($V$14:$V$23)=0)+COUNTIF($W$13:$W19,$V$14:$V$23),0),0)),"")
Q21: =COUNTA($Q$14:$Q$20)-COUNTBLANK($Q$14:$Q$20) -> 7 | V21: =IF(LEN(Dashboard!J23)>0,Dashboard!J23,"") | W21: =IFERROR(INDEX($V$14:$V$23, MATCH(0,INDEX((LEN($V$14:$V$23)=0)+COUNTIF($W$13:$W20,$V$14:$V$23),0),0)),"")
V22: =IF(LEN(Dashboard!J24)>0,Dashboard!J24,"") | W22: =IFERROR(INDEX($V$14:$V$23, MATCH(0,INDEX((LEN($V$14:$V$23)=0)+COUNTIF($W$13:$W21,$V$14:$V$23),0),0)),"")
B23: Count series | C23: ACTION-PLAN RESULTS | D23: Count | E23: CHARTS INFO | M23: No data | V23: =IF(LEN(Dashboard!J25)>0,Dashboard!J25,"") | W23: =IFERROR(INDEX($V$14:$V$23, MATCH(0,INDEX((LEN($V$14:$V$23)=0)+COUNTIF($W$13:$W22,$V$14:$V$23),0),0)),"")
C24: =IF(OR(LEN(calc!J33)>0,Results!$D$7=calc!$S$20),calc!J33,"") -> Success | D24: =IF(OR(LEN(calc!J34)>0,Results!$D$7=calc!$S$20),calc!J34,"") -> Not Implemented | E24: =IF(OR(LEN(calc!J35)>0,Results!$D$7=calc!$S$20),calc!J35,"") -> In Progress | F24: =IF(OR(LEN(calc!J36)>0,Results!$D$7=calc!$S$20),calc!J36,"") -> Under Consideration | G24: =IF(OR(LEN(calc!J37)>0,Results!$D$7=calc!$S$20),calc!J37,"") | H24: =IF(OR(LEN(calc!J38)>0,Results!$D$7=calc!$S$20),calc!J38,"") | I24: =IF(OR(LEN(calc!J39)>0,Results!$D$7=calc!$S$20),calc!J39,"") | J24: =IF(OR(LEN(calc!J40)>0,Results!$D$7=calc!$S$20),calc!J40,"") | K24: =IF(OR(LEN(calc!J41)>0,Results!$D$7=calc!$S$20),calc!J41,"") | L24: =IF(OR(LEN(calc!J42)>0,Results!$D$7=calc!$S$20),calc!J42,"") | M24: =IF(LEN(C24)=0,"No Data","") | W24: =COUNTA($W$14:$W$23)-COUNTBLANK($W$14:$W$23) -> 5
B25: =COUNT(C25:L25) -> 4 | C25: =IFERROR(K33/SUM($K$33:$K$42),"") -> 0.16666667 | D25: =IFERROR(K34/SUM($K$33:$K$42),"") -> 0.16666667 | E25: =IFERROR(K35/SUM($K$33:$K$42),"") -> 0.33333333 | F25: =IFERROR(K36/SUM($K$33:$K$42),"") -> 0.33333333 | G25: =IFERROR(K37/SUM($K$33:$K$42),"") | H25: =IFERROR(K38/SUM($K$33:$K$42),"") | I25: =IFERROR(K39/SUM($K$33:$K$42),"") | J25: =IFERROR(K40/SUM($K$33:$K$42),"") | K25: =IFERROR(K41/SUM($K$33:$K$42),"") | L25: =IFERROR(K42/SUM($K$33:$K$42),"") | M25: =IF(LEN(M24)=0,"",1)
B27: Relation | C27: Problem | D27: check if remove borders | E27: Count solutions | G27: =IF(LEN(Results!D7)=0,"No Data",IF(Results!D7="TOTAL", "TOTAL PROBLEMS VS. SOLUTIONS",Results!D7)) -> TOTAL PROBLEMS VS. SOLUTIONS | H27: =IF(LEN(Results!D7)=0,"No Data",Results!D7) -> TOTAL | I27: Percentage | J27: Count
B28: =IF(LEN(Step3!B6)>0,Step3!B6,B27) -> WORK↔CULTURE | C28: =IF(LEN(Step3!C6)>0,Step3!C6,IF(LEN(Step3!E6)>0,IF(OR(C27=$C$27, B28<>B27),"",C27),"")) -> Does company culture help in effective work? | D28: =IF(AND(C28=C29, C28<>""),"yes","no") -> yes | E28: =IF(LEN(Step3!E6)>0,1,0) -> 1 | G28: =IF(LEN(H28)=0,"","Problems with solution:") -> Problems with solution: | H28: =IFERROR(INDEX(calc!D18:J18,1,MATCH(calc!H27,calc!D15:J15,0)),"") -> 6 | I28: =IFERROR(H28/SUM($H$28:$H$29),"") -> 0.28571429 | J28: =COUNT($I$28:$I$29) -> 2
B29: =IF(LEN(Step3!B7)>0,Step3!B7,B28) -> WORK↔CULTURE | C29: =IF(LEN(Step3!C7)>0,Step3!C7,IF(LEN(Step3!E7)>0,IF(OR(C28=$C$27, B29<>B28),"",C28),"")) -> Does company culture help in effective work? | D29: =IF(AND(C29=C30, C29<>""),"yes","no") -> no | E29: =IF(LEN(Step3!E7)>0,1,0) -> 1 | G29: =IF(LEN(H28)=0,"","Problems without solution:") -> Problems without solution: | H29: =IFERROR(INDEX(calc!D19:J19,1,MATCH(calc!H27,calc!D15:J15,0)),"") -> 15 | I29: =IFERROR(H29/SUM($H$28:$H$29),"") -> 0.71428571
B30: =IF(LEN(Step3!B8)>0,Step3!B8,B29) -> WORK↔PEOPLE | C30: =IF(LEN(Step3!C8)>0,Step3!C8,IF(LEN(Step3!E8)>0,IF(OR(C29=$C$27, B30<>B29),"",C29),"")) -> - missing senior c# developer | D30: =IF(AND(C30=C31, C30<>""),"yes","no") -> yes | E30: =IF(LEN(Step3!E8)>0,1,0) -> 1 | G30: =IF(COUNT($G$28:$G$29)=0,"No Data","") -> No Data | H30: =IF(LEN(G30)=0,"",1) -> 1
B31: =IF(LEN(Step3!B9)>0,Step3!B9,B30) -> WORK↔PEOPLE | C31: =IF(LEN(Step3!C9)>0,Step3!C9,IF(LEN(Step3!E9)>0,IF(OR(C30=$C$27, B31<>B30),"",C30),"")) -> - missing senior c# developer | D31: =IF(AND(C31=C32, C31<>""),"yes","no") -> yes | E31: =IF(LEN(Step3!E9)>0,1,0) -> 1
B32: =IF(LEN(Step3!B10)>0,Step3!B10,B31) -> WORK↔PEOPLE | C32: =IF(LEN(Step3!C10)>0,Step3!C10,IF(LEN(Step3!E10)>0,IF(OR(C31=$C$27, B32<>B31),"",C31),"")) -> - missing senior c# developer | D32: =IF(AND(C32=C33, C32<>""),"yes","no") -> yes | E32: =IF(LEN(Step3!E10)>0,1,0) -> 1 | G32: ACTION PLAN CHART | J32: No blank
B33: =IF(LEN(Step3!B11)>0,Step3!B11,B32) -> WORK↔PEOPLE | C33: =IF(LEN(Step3!C11)>0,Step3!C11,IF(LEN(Step3!E11)>0,IF(OR(C32=$C$27, B33<>B32),"",C32),"")) -> - missing senior c# developer | D33: =IF(AND(C33=C34, C33<>""),"yes","no") -> no | E33: =IF(LEN(Step3!E11)>0,1,0) -> 1 | G33: =IF(LEN(Dashboard!J16)>0,Dashboard!J16,"") -> Success | H33: =IF(LEN(G33)=0,"",IF(Results!$D$7=calc!$S$20,COUNTIFS(Step3!$F$6:$F$26,calc!G33),COUNTIFS(Step3!$F$6:$F$26,calc!G33,calc!$B$28:$B$48,Results!$D$7))) -> 1 | I33: =IF(H33=0,"",G33) -> Success | J33: {=IFERROR(INDEX($I$33:$I$42,MATCH(0,INDEX((LEN($I$33:$I$42)=0)+COUNTIF($J$32:$J32,$I$33:$I$42),0),0)),"")} -> Success | K33: =IF(LEN(J33)=0,"",IF(Results!$D$7=calc!$S$20,COUNTIFS(Step3!$F$6:$F$26,calc!J33),COUNTIFS(Step3!$F$6:$F$26,calc!J33,calc!$B$28:$B$48,Results!$D$7))) -> 1
B34: =IF(LEN(Step3!B12)>0,Step3!B12,B33) -> WORK↔PEOPLE | C34: =IF(LEN(Step3!C12)>0,Step3!C12,IF(LEN(Step3!E12)>0,IF(OR(C33=$C$27, B34<>B33),"",C33),"")) -> - too many salesman | D34: =IF(AND(C34=C35, C34<>""),"yes","no") -> yes | E34: =IF(LEN(Step3!E12)>0,1,0) -> 1 | G34: =IF(LEN(Dashboard!J17)>0,Dashboard!J17,"") -> Not Implemented | H34: =IF(LEN(G34)=0,"",IF(Results!$D$7=calc!$S$20,COUNTIFS(Step3!$F$6:$F$26,calc!G34),COUNTIFS(Step3!$F$6:$F$26,calc!G34,calc!$B$28:$B$48,Results!$D$7))) -> 1 | I34: =IF(H34=0,"",G34) -> Not Implemented | J34: {=IFERROR(INDEX($I$33:$I$42,MATCH(0,INDEX((LEN($I$33:$I$42)=0)+COUNTIF($J$32:$J33,$I$33:$I$42),0),0)),"")} -> Not Implemented | K34: =IF(LEN(J34)=0,"",IF(Results!$D$7=calc!$S$20,COUNTIFS(Step3!$F$6:$F$26,calc!J34),COUNTIFS(Step3!$F$6:$F$26,calc!J34,calc!$B$28:$B$48,Results!$D$7))) -> 1
B35: =IF(LEN(Step3!B13)>0,Step3!B13,B34) -> WORK↔PEOPLE | C35: =IF(LEN(Step3!C13)>0,Step3!C13,IF(LEN(Step3!E13)>0,IF(OR(C34=$C$27, B35<>B34),"",C34),"")) -> - too many salesman | D35: =IF(AND(C35=C36, C35<>""),"yes","no") -> no | E35: =IF(LEN(Step3!E13)>0,1,0) -> 1 | G35: =IF(LEN(Dashboard!J18)>0,Dashboard!J18,"") -> Rejected | H35: =IF(LEN(G35)=0,"",IF(Results!$D$7=calc!$S$20,COUNTIFS(Step3!$F$6:$F$26,calc!G35),COUNTIFS(Step3!$F$6:$F$26,calc!G35,calc!$B$28:$B$48,Results!$D$7))) -> 0 | I35: =IF(H35=0,"",G35) | J35: {=IFERROR(INDEX($I$33:$I$42,MATCH(0,INDEX((LEN($I$33:$I$42)=0)+COUNTIF($J$32:$J34,$I$33:$I$42),0),0)),"")} -> In Progress | K35: =IF(LEN(J35)=0,"",IF(Results!$D$7=calc!$S$20,COUNTIFS(Step3!$F$6:$F$26,calc!J35),COUNTIFS(Step3!$F$6:$F$26,calc!J35,calc!$B$28:$B$48,Results!$D$7))) -> 2
B36: =IF(LEN(Step3!B14)>0,Step3!B14,B35) -> CULTURE↔PEOPLE | C36: =IF(LEN(Step3!C14)>0,Step3!C14,IF(LEN(Step3!E14)>0,IF(OR(C35=$C$27, B36<>B35),"",C35),"")) -> How individuals are impacted by culture? | D36: =IF(AND(C36=C37, C36<>""),"yes","no") -> no | E36: =IF(LEN(Step3!E14)>0,1,0) -> 0 | G36: =IF(LEN(Dashboard!J19)>0,Dashboard!J19,"") -> In Progress | H36: =IF(LEN(G36)=0,"",IF(Results!$D$7=calc!$S$20,COUNTIFS(Step3!$F$6:$F$26,calc!G36),COUNTIFS(Step3!$F$6:$F$26,calc!G36,calc!$B$28:$B$48,Results!$D$7))) -> 2 | I36: =IF(H36=0,"",G36) -> In Progress | J36: {=IFERROR(INDEX($I$33:$I$42,MATCH(0,INDEX((LEN($I$33:$I$42)=0)+COUNTIF($J$32:$J35,$I$33:$I$42),0),0)),"")} -> Under Consideration | K36: =IF(LEN(J36)=0,"",IF(Results!$D$7=calc!$S$20,COUNTIFS(Step3!$F$6:$F$26,calc!J36),COUNTIFS(Step3!$F$6:$F$26,calc!J36,calc!$B$28:$B$48,Results!$D$7))) -> 2
B37: =IF(LEN(Step3!B15)>0,Step3!B15,B36) -> CULTURE↔PEOPLE | C37: =IF(LEN(Step3!C15)>0,Step3!C15,IF(LEN(Step3!E15)>0,IF(OR(C36=$C$27, B37<>B36),"",C36),"")) | D37: =IF(AND(C37=C38, C37<>""),"yes","no") -> no | E37: =IF(LEN(Step3!E15)>0,1,0) -> 0 | G37: =IF(LEN(Dashboard!J20)>0,Dashboard!J20,"") -> Under Consideration | H37: =IF(LEN(G37)=0,"",IF(Results!$D$7=calc!$S$20,COUNTIFS(Step3!$F$6:$F$26,calc!G37),COUNTIFS(Step3!$F$6:$F$26,calc!G37,calc!$B$28:$B$48,Results!$D$7))) -> 2 | I37: =IF(H37=0,"",G37) -> Under Consideration | J37: {=IFERROR(INDEX($I$33:$I$42,MATCH(0,INDEX((LEN($I$33:$I$42)=0)+COUNTIF($J$32:$J36,$I$33:$I$42),0),0)),"")} | K37: =IF(LEN(J37)=0,"",IF(Results!$D$7=calc!$S$20,COUNTIFS(Step3!$F$6:$F$26,calc!J37),COUNTIFS(Step3!$F$6:$F$26,calc!J37,calc!$B$28:$B$48,Results!$D$7)))
B38: =IF(LEN(Step3!B16)>0,Step3!B16,B37) -> CULTURE↔PEOPLE | C38: =IF(LEN(Step3!C16)>0,Step3!C16,IF(LEN(Step3!E16)>0,IF(OR(C37=$C$27, B38<>B37),"",C37),"")) | D38: =IF(AND(C38=C39, C38<>""),"yes","no") -> no | E38: =IF(LEN(Step3!E16)>0,1,0) -> 0 | G38: =IF(LEN(Dashboard!J21)>0,Dashboard!J21,"") | H38: =IF(LEN(G38)=0,"",IF(Results!$D$7=calc!$S$20,COUNTIFS(Step3!$F$6:$F$26,calc!G38),COUNTIFS(Step3!$F$6:$F$26,calc!G38,calc!$B$28:$B$48,Results!$D$7))) | I38: =IF(H38=0,"",G38) | J38: {=IFERROR(INDEX($I$33:$I$42,MATCH(0,INDEX((LEN($I$33:$I$42)=0)+COUNTIF($J$32:$J37,$I$33:$I$42),0),0)),"")} | K38: =IF(LEN(J38)=0,"",IF(Results!$D$7=calc!$S$20,COUNTIFS(Step3!$F$6:$F$26,calc!J38),COUNTIFS(Step3!$F$6:$F$26,calc!J38,calc!$B$28:$B$48,Results!$D$7)))
B39: =IF(LEN(Step3!B17)>0,Step3!B17,B38) -> WORK↔STRUCTURE | C39: =IF(LEN(Step3!C17)>0,Step3!C17,IF(LEN(Step3!E17)>0,IF(OR(C38=$C$27, B39<>B38),"",C38),"")) -> Job reporting structure. | D39: =IF(AND(C39=C40, C39<>""),"yes","no") -> no | E39: =IF(LEN(Step3!E17)>0,1,0) -> 0 | G39: =IF(LEN(Dashboard!J22)>0,Dashboard!J22,"") | H39: =IF(LEN(G39)=0,"",IF(Results!$D$7=calc!$S$20,COUNTIFS(Step3!$F$6:$F$26,calc!G39),COUNTIFS(Step3!$F$6:$F$26,calc!G39,calc!$B$28:$B$48,Results!$D$7))) | I39: =IF(H39=0,"",G39) | J39: {=IFERROR(INDEX($I$33:$I$42,MATCH(0,INDEX((LEN($I$33:$I$42)=0)+COUNTIF($J$32:$J38,$I$33:$I$42),0),0)),"")} | K39: =IF(LEN(J39)=0,"",IF(Results!$D$7=calc!$S$20,COUNTIFS(Step3!$F$6:$F$26,calc!J39),COUNTIFS(Step3!$F$6:$F$26,calc!J39,calc!$B$28:$B$48,Results!$D$7)))
B40: =IF(LEN(Step3!B18)>0,Step3!B18,B39) -> WORK↔STRUCTURE | C40: =IF(LEN(Step3!C18)>0,Step3!C18,IF(LEN(Step3!E18)>0,IF(OR(C39=$C$27, B40<>B39),"",C39),"")) | D40: =IF(AND(C40=C41, C40<>""),"yes","no") -> no | E40: =IF(LEN(Step3!E18)>0,1,0) -> 0 | G40: =IF(LEN(Dashboard!J23)>0,Dashboard!J23,"") | H40: =IF(LEN(G40)=0,"",IF(Results!$D$7=calc!$S$20,COUNTIFS(Step3!$F$6:$F$26,calc!G40),COUNTIFS(Step3!$F$6:$F$26,calc!G40,calc!$B$28:$B$48,Results!$D$7))) | I40: =IF(H40=0,"",G40) | J40: {=IFERROR(INDEX($I$33:$I$42,MATCH(0,INDEX((LEN($I$33:$I$42)=0)+COUNTIF($J$32:$J39,$I$33:$I$42),0),0)),"")} | K40: =IF(LEN(J40)=0,"",IF(Results!$D$7=calc!$S$20,COUNTIFS(Step3!$F$6:$F$26,calc!J40),COUNTIFS(Step3!$F$6:$F$26,calc!J40,calc!$B$28:$B$48,Results!$D$7)))
B41: =IF(LEN(Step3!B19)>0,Step3!B19,B40) -> WORK↔STRUCTURE | C41: =IF(LEN(Step3!C19)>0,Step3!C19,IF(LEN(Step3!E19)>0,IF(OR(C40=$C$27, B41<>B40),"",C40),"")) | D41: =IF(AND(C41=C42, C41<>""),"yes","no") -> no | E41: =IF(LEN(Step3!E19)>0,1,0) -> 0 | G41: =IF(LEN(Dashboard!J24)>0,Dashboard!J24,"") | H41: =IF(LEN(G41)=0,"",IF(Results!$D$7=calc!$S$20,COUNTIFS(Step3!$F$6:$F$26,calc!G41),COUNTIFS(Step3!$F$6:$F$26,calc!G41,calc!$B$28:$B$48,Results!$D$7))) | I41: =IF(H41=0,"",G41) | J41: {=IFERROR(INDEX($I$33:$I$42,MATCH(0,INDEX((LEN($I$33:$I$42)=0)+COUNTIF($J$32:$J40,$I$33:$I$42),0),0)),"")} | K41: =IF(LEN(J41)=0,"",IF(Results!$D$7=calc!$S$20,COUNTIFS(Step3!$F$6:$F$26,calc!J41),COUNTIFS(Step3!$F$6:$F$26,calc!J41,calc!$B$28:$B$48,Results!$D$7)))
B42: =IF(LEN(Step3!B20)>0,Step3!B20,B41) -> STRUCTURE↔CULTURE | C42: =IF(LEN(Step3!C20)>0,Step3!C20,IF(LEN(Step3!E20)>0,IF(OR(C41=$C$27, B42<>B41),"",C41),"")) -> Is structure support or block people's values or beliefs? | D42: =IF(AND(C42=C43, C42<>""),"yes","no") -> yes | E42: =IF(LEN(Step3!E20)>0,1,0) -> 1 | G42: =IF(LEN(Dashboard!J25)>0,Dashboard!J25,"") | H42: =IF(LEN(G42)=0,"",IF(Results!$D$7=calc!$S$20,COUNTIFS(Step3!$F$6:$F$26,calc!G42),COUNTIFS(Step3!$F$6:$F$26,calc!G42,calc!$B$28:$B$48,Results!$D$7))) | I42: =IF(H42=0,"",G42) | J42: {=IFERROR(INDEX($I$33:$I$42,MATCH(0,INDEX((LEN($I$33:$I$42)=0)+COUNTIF($J$32:$J41,$I$33:$I$42),0),0)),"")} | K42: =IF(LEN(J42)=0,"",IF(Results!$D$7=calc!$S$20,COUNTIFS(Step3!$F$6:$F$26,calc!J42),COUNTIFS(Step3!$F$6:$F$26,calc!J42,calc!$B$28:$B$48,Results!$D$7)))
B43: =IF(LEN(Step3!B21)>0,Step3!B21,B42) -> STRUCTURE↔CULTURE | C43: =IF(LEN(Step3!C21)>0,Step3!C21,IF(LEN(Step3!E21)>0,IF(OR(C42=$C$27, B43<>B42),"",C42),"")) -> Is structure support or block people's values or beliefs? | D43: =IF(AND(C43=C44, C43<>""),"yes","no") -> no | E43: =IF(LEN(Step3!E21)>0,1,0) -> 1
B44: =IF(LEN(Step3!B22)>0,Step3!B22,B43) -> STRUCTURE↔CULTURE | C44: =IF(LEN(Step3!C22)>0,Step3!C22,IF(LEN(Step3!E22)>0,IF(OR(C43=$C$27, B44<>B43),"",C43),"")) | D44: =IF(AND(C44=C45, C44<>""),"yes","no") -> no | E44: =IF(LEN(Step3!E22)>0,1,0) -> 0 | G44: PROBLEM COMPARISON CHART | J44: No Blank
B45: =IF(LEN(Step3!B23)>0,Step3!B23,B44) -> STRUCTURE↔CULTURE | C45: =IF(LEN(Step3!C23)>0,Step3!C23,IF(LEN(Step3!E23)>0,IF(OR(C44=$C$27, B45<>B44),"",C44),"")) | D45: =IF(AND(C45=C46, C45<>""),"yes","no") -> no | E45: =IF(LEN(Step3!E23)>0,1,0) -> 0 | G45: =IF(LEN(B4)=0,"",B4) -> WORK↔STRUCTURE | H45: =count1 -> 4 | I45: =SUM(Solution1) -> 1 | J45: {=IFERROR(INDEX($G$45:$G$50,MATCH(0,INDEX((LEN($G$45:$G$50)=0)+COUNTIF($J$44:$J44,$G$45:$G$50),0),0)),"")} -> WORK↔STRUCTURE | K45: =IF(LEN(J45)=0,"",INDEX($G$45:$H$50,MATCH(J45,$G$45:$G$50,0),2)) -> 4 | L45: =IF(LEN(J45)=0,"",INDEX($G$45:$I$50,MATCH(J45,$G$45:$G$50,0),3)) -> 1
B46: =IF(LEN(Step3!B24)>0,Step3!B24,B45) -> STRUCTURE↔CULTURE | C46: =IF(LEN(Step3!C24)>0,Step3!C24,IF(LEN(Step3!E24)>0,IF(OR(C45=$C$27, B46<>B45),"",C45),"")) | D46: =IF(AND(C46=C47, C46<>""),"yes","no") -> no | E46: =IF(LEN(Step3!E24)>0,1,0) -> 0 | G46: =IF(LEN(F4)=0,"",F4) -> WORK↔CULTURE | H46: =count2 -> 4 | I46: =SUM(Solution2) -> 1 | J46: {=IFERROR(INDEX($G$45:$G$50,MATCH(0,INDEX((LEN($G$45:$G$50)=0)+COUNTIF($J$44:$J45,$G$45:$G$50),0),0)),"")} -> WORK↔CULTURE | K46: =IF(LEN(J46)=0,"",INDEX($G$45:$H$50,MATCH(J46,$G$45:$G$50,0),2)) -> 4 | L46: =IF(LEN(J46)=0,"",INDEX($G$45:$I$50,MATCH(J46,$G$45:$G$50,0),3)) -> 1
B47: =IF(LEN(Step3!B25)>0,Step3!B25,B46) -> STRUCTURE↔CULTURE | C47: =IF(LEN(Step3!C25)>0,Step3!C25,IF(LEN(Step3!E25)>0,IF(OR(C46=$C$27, B47<>B46),"",C46),"")) | D47: =IF(AND(C47=C48, C47<>""),"yes","no") -> no | E47: =IF(LEN(Step3!E25)>0,1,0) -> 0 | G47: =IF(LEN(J4)=0,"",J4) -> WORK↔PEOPLE | H47: =count3 -> 4 | I47: =SUM(Solution3) -> 2 | J47: {=IFERROR(INDEX($G$45:$G$50,MATCH(0,INDEX((LEN($G$45:$G$50)=0)+COUNTIF($J$44:$J46,$G$45:$G$50),0),0)),"")} -> WORK↔PEOPLE | K47: =IF(LEN(J47)=0,"",INDEX($G$45:$H$50,MATCH(J47,$G$45:$G$50,0),2)) -> 4 | L47: =IF(LEN(J47)=0,"",INDEX($G$45:$I$50,MATCH(J47,$G$45:$G$50,0),3)) -> 2
B48: =IF(LEN(Step3!B26)>0,Step3!B26,B47) -> STRUCTURE↔CULTURE | C48: =IF(LEN(Step3!C26)>0,Step3!C26,IF(LEN(Step3!E26)>0,IF(OR(C47=$C$27, B48<>B47),"",C47),"")) | D48: =IF(AND(C48=C49, C48<>""),"yes","no") -> no | E48: =IF(LEN(Step3!E26)>0,1,0) -> 0 | G48: =IF(LEN(N4)=0,"",N4) -> STRUCTURE↔CULTURE | H48: =count4 -> 2 | I48: =SUM(Solution4) -> 1 | J48: {=IFERROR(INDEX($G$45:$G$50,MATCH(0,INDEX((LEN($G$45:$G$50)=0)+COUNTIF($J$44:$J47,$G$45:$G$50),0),0)),"")} -> STRUCTURE↔CULTURE | K48: =IF(LEN(J48)=0,"",INDEX($G$45:$H$50,MATCH(J48,$G$45:$G$50,0),2)) -> 2 | L48: =IF(LEN(J48)=0,"",INDEX($G$45:$I$50,MATCH(J48,$G$45:$G$50,0),3)) -> 1
G49: =IF(LEN(R4)=0,"",R4) -> STRUCTURE↔PEOPLE | H49: =count5 -> 4 | I49: =SUM(Solution5) -> 0 | J49: {=IFERROR(INDEX($G$45:$G$50,MATCH(0,INDEX((LEN($G$45:$G$50)=0)+COUNTIF($J$44:$J48,$G$45:$G$50),0),0)),"")} -> STRUCTURE↔PEOPLE | K49: =IF(LEN(J49)=0,"",INDEX($G$45:$H$50,MATCH(J49,$G$45:$G$50,0),2)) -> 4 | L49: =IF(LEN(J49)=0,"",INDEX($G$45:$I$50,MATCH(J49,$G$45:$G$50,0),3)) -> 0
G50: =IF(LEN(V4)=0,"",V4) -> CULTURE↔PEOPLE | H50: =count6 -> 3 | I50: =SUM(Solution6) -> 1 | J50: {=IFERROR(INDEX($G$45:$G$50,MATCH(0,INDEX((LEN($G$45:$G$50)=0)+COUNTIF($J$44:$J49,$G$45:$G$50),0),0)),"")} -> CULTURE↔PEOPLE | K50: =IF(LEN(J50)=0,"",INDEX($G$45:$H$50,MATCH(J50,$G$45:$G$50,0),2)) -> 3 | L50: =IF(LEN(J50)=0,"",INDEX($G$45:$I$50,MATCH(J50,$G$45:$G$50,0),3)) -> 1
