Workbook
Name DynActionsPrnt: OFFSET(Actions!$B$5,0,0,MAX(Actions!$B$6:$B$505)+1,5)
Name Numbers: IFERROR(OFFSET(Calc!$K$3,0,0,Calc!$J$21,1),"")
Name Results: IFERROR(OFFSET(Calc!$J$3,0,0,Calc!$J$21,1),"")
Name TodayDate: Calc!$J$18

Sheet Dashboard
C2: MCKINSEY 7S MODEL
C3: DASHBOARD
J7: SETTINGS
J9: Analysis Order | M9: Result Options
J10: Strategy | K10: 1 | M10: Success
J11: Structure | K11: 2 | M11: Not implemented
J12: Systems | K12: 3 | M12: Rejected
J13: Staff | K13: 4 | M13: In progress
J14: Skills | K14: 5 | M14: Under consideration
J15: Style | K15: 6
J16: Shared Values | K16: 7

Sheet Diagnosis
B2: MCKINSEY 7S MODEL
B3: DIAGNOSIS
B5: ="1 - "&Calc!C3 -> 1 - STRATEGY | E5: ="2 - "&Calc!C4 -> 2 - STRUCTURE | H5: ="3 - "&Calc!C5 -> 3 - SYSTEMS | K5: ="4 - "&Calc!C6 -> 4 - STAFF | N5: ="5 - "&Calc!C7 -> 5 - SKILLS | Q5: ="6 - "&Calc!C8 -> 6 - STYLE | T5: ="7 - "&Calc!C9 -> 7 - SHARED VALUES
B6: Notes | E6: Notes | H6: Notes | K6: Notes | N6: Notes | Q6: Notes | T6: Notes
B7: What is our strategy? | C7: =IFERROR(IF(LEN(B7)>0,"!",""),"") -> ! | E7: How is the company divided? | F7: =IFERROR(IF(LEN(E7)>0,"!",""),"") -> ! | H7: What are our main systems? | I7: =IFERROR(IF(LEN(H7)>0,"!",""),"") -> ! | K7: What positions need to be filled? | L7: =IFERROR(IF(LEN(K7)>0,"!",""),"") -> ! | N7: What are our strongest skills? | O7: =IFERROR(IF(LEN(N7)>0,"!",""),"") -> ! | Q7: What is our leadership style? | R7: =IFERROR(IF(LEN(Q7)>0,"!",""),"") -> ! | T7: What are our core values? | U7: =IFERROR(IF(LEN(T7)>0,"!",""),"") -> !
B8: How do we achieve our objectives? | C8: =IFERROR(IF(LEN(B8)>0,"!",""),"") -> ! | E8: What is the hierarchy? | F8: =IFERROR(IF(LEN(E8)>0,"!",""),"") -> ! | H8: What are the controls? | I8: =IFERROR(IF(LEN(H8)>0,"!",""),"") -> ! | K8: Are there gaps in required skills? | L8: =IFERROR(IF(LEN(K8)>0,"!",""),"") -> ! | N8: What are our weakest skills? | O8: =IFERROR(IF(LEN(N8)>0,"!",""),"") -> ! | Q8: The way we do things here? | R8: =IFERROR(IF(LEN(Q8)>0,"!",""),"") -> ! | T8: How strong our values? | U8: =IFERROR(IF(LEN(T8)>0,"!",""),"") -> !
B9: How do we deal with pressure? | C9: =IFERROR(IF(LEN(B9)>0,"!",""),"") -> ! | E9: How do we coordinate? | F9: =IFERROR(IF(LEN(E9)>0,"!",""),"") -> ! | H9: How we track our processes? | I9: =IFERROR(IF(LEN(H9)>0,"!",""),"") -> ! | K9: How do we develop new skills? | L9: =IFERROR(IF(LEN(K9)>0,"!",""),"") -> ! | N9: How do we monitor skills? | O9: =IFERROR(IF(LEN(N9)>0,"!",""),"") -> ! | R9: =IFERROR(IF(LEN(Q9)>0,"!",""),"") | T9: Commitment | U9: =IFERROR(IF(LEN(T9)>0,"!",""),"") -> !
B10: What is our vision? | C10: =IFERROR(IF(LEN(B10)>0,"!",""),"") -> ! | F10: =IFERROR(IF(LEN(E10)>0,"!",""),"") | I10: =IFERROR(IF(LEN(H10)>0,"!",""),"") | L10: =IFERROR(IF(LEN(K10)>0,"!",""),"") | O10: =IFERROR(IF(LEN(N10)>0,"!",""),"") | R10: =IFERROR(IF(LEN(Q10)>0,"!",""),"") | U10: =IFERROR(IF(LEN(T10)>0,"!",""),"")
C11: =IFERROR(IF(LEN(B11)>0,"!",""),"") | F11: =IFERROR(IF(LEN(E11)>0,"!",""),"") | I11: =IFERROR(IF(LEN(H11)>0,"!",""),"") | L11: =IFERROR(IF(LEN(K11)>0,"!",""),"") | O11: =IFERROR(IF(LEN(N11)>0,"!",""),"") | R11: =IFERROR(IF(LEN(Q11)>0,"!",""),"") | U11: =IFERROR(IF(LEN(T11)>0,"!",""),"")
C12: =IFERROR(IF(LEN(B12)>0,"!",""),"") | F12: =IFERROR(IF(LEN(E12)>0,"!",""),"") | I12: =IFERROR(IF(LEN(H12)>0,"!",""),"") | L12: =IFERROR(IF(LEN(K12)>0,"!",""),"") | O12: =IFERROR(IF(LEN(N12)>0,"!",""),"") | R12: =IFERROR(IF(LEN(Q12)>0,"!",""),"") | U12: =IFERROR(IF(LEN(T12)>0,"!",""),"")
C13: =IFERROR(IF(LEN(B13)>0,"!",""),"") | F13: =IFERROR(IF(LEN(E13)>0,"!",""),"") | I13: =IFERROR(IF(LEN(H13)>0,"!",""),"") | L13: =IFERROR(IF(LEN(K13)>0,"!",""),"") | O13: =IFERROR(IF(LEN(N13)>0,"!",""),"") | R13: =IFERROR(IF(LEN(Q13)>0,"!",""),"") | U13: =IFERROR(IF(LEN(T13)>0,"!",""),"")
C14: =IFERROR(IF(LEN(B14)>0,"!",""),"") | F14: =IFERROR(IF(LEN(E14)>0,"!",""),"") | I14: =IFERROR(IF(LEN(H14)>0,"!",""),"") | L14: =IFERROR(IF(LEN(K14)>0,"!",""),"") | O14: =IFERROR(IF(LEN(N14)>0,"!",""),"") | R14: =IFERROR(IF(LEN(Q14)>0,"!",""),"") | U14: =IFERROR(IF(LEN(T14)>0,"!",""),"")
C15: =IFERROR(IF(LEN(B15)>0,"!",""),"") | F15: =IFERROR(IF(LEN(E15)>0,"!",""),"") | I15: =IFERROR(IF(LEN(H15)>0,"!",""),"") | L15: =IFERROR(IF(LEN(K15)>0,"!",""),"") | O15: =IFERROR(IF(LEN(N15)>0,"!",""),"") | R15: =IFERROR(IF(LEN(Q15)>0,"!",""),"") | U15: =IFERROR(IF(LEN(T15)>0,"!",""),"")
C16: =IFERROR(IF(LEN(B16)>0,"!",""),"") | F16: =IFERROR(IF(LEN(E16)>0,"!",""),"") | I16: =IFERROR(IF(LEN(H16)>0,"!",""),"") | L16: =IFERROR(IF(LEN(K16)>0,"!",""),"") | O16: =IFERROR(IF(LEN(N16)>0,"!",""),"") | R16: =IFERROR(IF(LEN(Q16)>0,"!",""),"") | U16: =IFERROR(IF(LEN(T16)>0,"!",""),"")
C17: =IFERROR(IF(LEN(B17)>0,"!",""),"") | F17: =IFERROR(IF(LEN(E17)>0,"!",""),"") | I17: =IFERROR(IF(LEN(H17)>0,"!",""),"") | L17: =IFERROR(IF(LEN(K17)>0,"!",""),"") | O17: =IFERROR(IF(LEN(N17)>0,"!",""),"") | R17: =IFERROR(IF(LEN(Q17)>0,"!",""),"") | U17: =IFERROR(IF(LEN(T17)>0,"!",""),"")
C18: =IFERROR(IF(LEN(B18)>0,"!",""),"") | F18: =IFERROR(IF(LEN(E18)>0,"!",""),"") | I18: =IFERROR(IF(LEN(H18)>0,"!",""),"") | L18: =IFERROR(IF(LEN(K18)>0,"!",""),"") | O18: =IFERROR(IF(LEN(N18)>0,"!",""),"") | R18: =IFERROR(IF(LEN(Q18)>0,"!",""),"") | U18: =IFERROR(IF(LEN(T18)>0,"!",""),"")
C19: =IFERROR(IF(LEN(B19)>0,"!",""),"") | F19: =IFERROR(IF(LEN(E19)>0,"!",""),"") | I19: =IFERROR(IF(LEN(H19)>0,"!",""),"") | L19: =IFERROR(IF(LEN(K19)>0,"!",""),"") | O19: =IFERROR(IF(LEN(N19)>0,"!",""),"") | R19: =IFERROR(IF(LEN(Q19)>0,"!",""),"") | U19: =IFERROR(IF(LEN(T19)>0,"!",""),"")
C20: =IFERROR(IF(LEN(B20)>0,"!",""),"") | F20: =IFERROR(IF(LEN(E20)>0,"!",""),"") | I20: =IFERROR(IF(LEN(H20)>0,"!",""),"") | L20: =IFERROR(IF(LEN(K20)>0,"!",""),"") | O20: =IFERROR(IF(LEN(N20)>0,"!",""),"") | R20: =IFERROR(IF(LEN(Q20)>0,"!",""),"") | U20: =IFERROR(IF(LEN(T20)>0,"!",""),"")
C21: =IFERROR(IF(LEN(B21)>0,"!",""),"") | F21: =IFERROR(IF(LEN(E21)>0,"!",""),"") | I21: =IFERROR(IF(LEN(H21)>0,"!",""),"") | L21: =IFERROR(IF(LEN(K21)>0,"!",""),"") | O21: =IFERROR(IF(LEN(N21)>0,"!",""),"") | R21: =IFERROR(IF(LEN(Q21)>0,"!",""),"") | U21: =IFERROR(IF(LEN(T21)>0,"!",""),"")
C22: =IFERROR(IF(LEN(B22)>0,"!",""),"") | F22: =IFERROR(IF(LEN(E22)>0,"!",""),"") | I22: =IFERROR(IF(LEN(H22)>0,"!",""),"") | L22: =IFERROR(IF(LEN(K22)>0,"!",""),"") | O22: =IFERROR(IF(LEN(N22)>0,"!",""),"") | R22: =IFERROR(IF(LEN(Q22)>0,"!",""),"") | U22: =IFERROR(IF(LEN(T22)>0,"!",""),"")
... C46: =IFERROR(IF(LEN(B46)>0,"!",""),"") | F46: =IFERROR(IF(LEN(E46)>0,"!",""),"") | I46: =IFERROR(IF(LEN(H46)>0,"!",""),"") | L46: =IFERROR(IF(LEN(K46)>0,"!",""),"") | O46: =IFERROR(IF(LEN(N46)>0,"!",""),"") | R46: =IFERROR(IF(LEN(Q46)>0,"!",""),"") | U46: =IFERROR(IF(LEN(T46)>0,"!",""),"")
E47: Consistent with? | H47: Consistent with? | K47: Consistent with? | N47: Consistent with? | Q47: Consistent with? | T47: Consistent with?
E48: =Calc!C3 -> STRATEGY | F48: Yes | H48: =E48 -> STRATEGY | I48: No | K48: =H48 -> STRATEGY | L48: Yes | N48: =K48 -> STRATEGY | O48: Yes | Q48: =N48 -> STRATEGY | R48: Yes | T48: =Q48 -> STRATEGY | U48: Yes
H49: =Calc!C4 -> STRUCTURE | I49: No | K49: =H49 -> STRUCTURE | L49: No | N49: =K49 -> STRUCTURE | O49: No | Q49: =N49 -> STRUCTURE | R49: No | T49: =Q49 -> STRUCTURE | U49: Yes
K50: =Calc!C5 -> SYSTEMS | L50: Yes | N50: =K50 -> SYSTEMS | O50: No | Q50: =N50 -> SYSTEMS | R50: Yes | T50: =Q50 -> SYSTEMS | U50: No
N51: =Calc!C6 -> STAFF | O51: Yes | Q51: =N51 -> STAFF | R51: Yes | T51: =Q51 -> STAFF | U51: Yes
Q52: =Calc!C7 -> SKILLS | R52: Yes | T52: =Q52 -> SKILLS | U52: Yes
T53: =Calc!C8 -> STYLE | U53: No

Sheet Analysis_Summary
C2: MCKINSEY 7S MODEL
C3: ANALYSIS SUMMARY
C7: McKinsey 7S Model Inconsistency Matrix | L7: Inconsistencies Detected | M7: # of Actions Identified
D8: =Calc!C3 -> STRATEGY | E8: =Calc!C4 -> STRUCTURE | F8: =Calc!C5 -> SYSTEMS | G8: =Calc!C6 -> STAFF | H8: =Calc!C7 -> SKILLS | I8: =Calc!C8 -> STYLE | J8: =Calc!C9 -> SHARED VALUES | L8: =Calc!H3 -> SYSTEMS - STRATEGY | M8: =IFERROR(IF(LEN(L8)=0,"",COUNTIFS(Actions!$C$6:$C$505,L8,Actions!$E$6:$E$505,"<>")),"") -> 2
C9: =Calc!C3 -> STRATEGY | E9: =IFERROR(IF(Calc!F4=0,"",IF(Calc!F4="Yes",Calc!$J$14,Calc!$J$13)),"") -> ✔ | F9: =IFERROR(IF(Calc!F5=0,"",IF(Calc!F5="Yes",Calc!$J$14,Calc!$J$13)),"") -> ✘ | G9: =IFERROR(IF(Calc!F7=0,"",IF(Calc!F7="Yes",Calc!$J$14,Calc!$J$13)),"") -> ✔ | H9: =IFERROR(IF(Calc!F10=0,"",IF(Calc!F10="Yes",Calc!$J$14,Calc!$J$13)),"") -> ✔ | I9: =IFERROR(IF(Calc!F14=0,"",IF(Calc!F14="Yes",Calc!$J$14,Calc!$J$13)),"") -> ✔ | J9: =IFERROR(IF(Calc!F19=0,"",IF(Calc!F19="Yes",Calc!$J$14,Calc!$J$13)),"") -> ✔ | L9: =Calc!H4 -> SYSTEMS - STRUCTURE | M9: =IFERROR(IF(LEN(L9)=0,"",COUNTIFS(Actions!$C$6:$C$505,L9,Actions!$E$6:$E$505,"<>")),"") -> 0
C10: =Calc!C4 -> STRUCTURE | D10: =E9 -> ✔ | F10: =IFERROR(IF(Calc!F6=0,"",IF(Calc!F6="Yes",Calc!$J$14,Calc!$J$13)),"") -> ✘ | G10: =IFERROR(IF(Calc!F8=0,"",IF(Calc!F8="Yes",Calc!$J$14,Calc!$J$13)),"") -> ✘ | H10: =IFERROR(IF(Calc!F11=0,"",IF(Calc!F11="Yes",Calc!$J$14,Calc!$J$13)),"") -> ✘ | I10: =IFERROR(IF(Calc!F15=0,"",IF(Calc!F15="Yes",Calc!$J$14,Calc!$J$13)),"") -> ✘ | J10: =IFERROR(IF(Calc!F20=0,"",IF(Calc!F20="Yes",Calc!$J$14,Calc!$J$13)),"") -> ✔ | L10: =Calc!H5 -> STAFF - STRUCTURE | M10: =IFERROR(IF(LEN(L10)=0,"",COUNTIFS(Actions!$C$6:$C$505,L10,Actions!$E$6:$E$505,"<>")),"") -> 1
C11: =Calc!C5 -> SYSTEMS | D11: =F9 -> ✘ | E11: =F10 -> ✘ | G11: =IFERROR(IF(Calc!F9=0,"",IF(Calc!F9="Yes",Calc!$J$14,Calc!$J$13)),"") -> ✔ | H11: =IFERROR(IF(Calc!F12=0,"",IF(Calc!F12="Yes",Calc!$J$14,Calc!$J$13)),"") -> ✘ | I11: =IFERROR(IF(Calc!F16=0,"",IF(Calc!F16="Yes",Calc!$J$14,Calc!$J$13)),"") -> ✔ | J11: =IFERROR(IF(Calc!F21=0,"",IF(Calc!F21="Yes",Calc!$J$14,Calc!$J$13)),"") -> ✘ | L11: =Calc!H6 -> SKILLS - STRUCTURE | M11: =IFERROR(IF(LEN(L11)=0,"",COUNTIFS(Actions!$C$6:$C$505,L11,Actions!$E$6:$E$505,"<>")),"") -> 1
C12: =Calc!C6 -> STAFF | D12: =G9 -> ✔ | E12: =G10 -> ✘ | F12: =G11 -> ✔ | H12: =IFERROR(IF(Calc!F13=0,"",IF(Calc!F13="Yes",Calc!$J$14,Calc!$J$13)),"") -> ✔ | I12: =IFERROR(IF(Calc!F17=0,"",IF(Calc!F17="Yes",Calc!$J$14,Calc!$J$13)),"") -> ✔ | J12: =IFERROR(IF(Calc!F22=0,"",IF(Calc!F22="Yes",Calc!$J$14,Calc!$J$13)),"") -> ✔ | L12: =Calc!H7 -> SKILLS - SYSTEMS | M12: =IFERROR(IF(LEN(L12)=0,"",COUNTIFS(Actions!$C$6:$C$505,L12,Actions!$E$6:$E$505,"<>")),"") -> 2
C13: =Calc!C7 -> SKILLS | D13: =H9 -> ✔ | E13: =H10 -> ✘ | F13: =H11 -> ✘ | G13: =H12 -> ✔ | I13: =IFERROR(IF(Calc!F18=0,"",IF(Calc!F18="Yes",Calc!$J$14,Calc!$J$13)),"") -> ✔ | J13: =IFERROR(IF(Calc!F23=0,"",IF(Calc!F23="Yes",Calc!$J$14,Calc!$J$13)),"") -> ✔ | L13: =Calc!H8 -> STYLE - STRUCTURE | M13: =IFERROR(IF(LEN(L13)=0,"",COUNTIFS(Actions!$C$6:$C$505,L13,Actions!$E$6:$E$505,"<>")),"") -> 1
C14: =Calc!C8 -> STYLE | D14: =I9 -> ✔ | E14: =I10 -> ✘ | F14: =I11 -> ✔ | G14: =I12 -> ✔ | H14: =I13 -> ✔ | J14: =IFERROR(IF(Calc!F24=0,"",IF(Calc!F24="Yes",Calc!$J$14,Calc!$J$13)),"") -> ✘ | L14: =Calc!H9 -> SHARED VALUES - SYSTEMS | M14: =IFERROR(IF(LEN(L14)=0,"",COUNTIFS(Actions!$C$6:$C$505,L14,Actions!$E$6:$E$505,"<>")),"") -> 2
C15: =Calc!C9 -> SHARED VALUES | D15: =J9 -> ✔ | E15: =J10 -> ✔ | F15: =J11 -> ✘ | G15: =J12 -> ✔ | H15: =J13 -> ✔ | I15: =J14 -> ✘ | L15: =Calc!H10 -> SHARED VALUES - STYLE | M15: =IFERROR(IF(LEN(L15)=0,"",COUNTIFS(Actions!$C$6:$C$505,L15,Actions!$E$6:$E$505,"<>")),"") -> 2
L16: =Calc!H11 | M16: =IFERROR(IF(LEN(L16)=0,"",COUNTIFS(Actions!$C$6:$C$505,L16,Actions!$E$6:$E$505,"<>")),"")
L17: =Calc!H12 | M17: =IFERROR(IF(LEN(L17)=0,"",COUNTIFS(Actions!$C$6:$C$505,L17,Actions!$E$6:$E$505,"<>")),"")
L18: =Calc!H13 | M18: =IFERROR(IF(LEN(L18)=0,"",COUNTIFS(Actions!$C$6:$C$505,L18,Actions!$E$6:$E$505,"<>")),"")
L19: =Calc!H14 | M19: =IFERROR(IF(LEN(L19)=0,"",COUNTIFS(Actions!$C$6:$C$505,L19,Actions!$E$6:$E$505,"<>")),"")
L20: =Calc!H15 | M20: =IFERROR(IF(LEN(L20)=0,"",COUNTIFS(Actions!$C$6:$C$505,L20,Actions!$E$6:$E$505,"<>")),"")
L21: =Calc!H16 | M21: =IFERROR(IF(LEN(L21)=0,"",COUNTIFS(Actions!$C$6:$C$505,L21,Actions!$E$6:$E$505,"<>")),"")
L22: =Calc!H17 | M22: =IFERROR(IF(LEN(L22)=0,"",COUNTIFS(Actions!$C$6:$C$505,L22,Actions!$E$6:$E$505,"<>")),"")
L23: =Calc!H18 | M23: =IFERROR(IF(LEN(L23)=0,"",COUNTIFS(Actions!$C$6:$C$505,L23,Actions!$E$6:$E$505,"<>")),"")
L24: =Calc!H19 | M24: =IFERROR(IF(LEN(L24)=0,"",COUNTIFS(Actions!$C$6:$C$505,L24,Actions!$E$6:$E$505,"<>")),"")
L25: =Calc!H20 | M25: =IFERROR(IF(LEN(L25)=0,"",COUNTIFS(Actions!$C$6:$C$505,L25,Actions!$E$6:$E$505,"<>")),"")
L26: =Calc!H21 | M26: =IFERROR(IF(LEN(L26)=0,"",COUNTIFS(Actions!$C$6:$C$505,L26,Actions!$E$6:$E$505,"<>")),"")
L27: =Calc!H22 | M27: =IFERROR(IF(LEN(L27)=0,"",COUNTIFS(Actions!$C$6:$C$505,L27,Actions!$E$6:$E$505,"<>")),"")
L28: =Calc!H23 | M28: =IFERROR(IF(LEN(L28)=0,"",COUNTIFS(Actions!$C$6:$C$505,L28,Actions!$E$6:$E$505,"<>")),"")

Sheet Actions
C2: MCKINSEY 7S MODEL
C3: ACTION PLAN
B5: # | C5: INCONSISTENCY | E5: ACTION(S) | F5: RESULT | G5: NOTES
B6: =IFERROR(IF(AND(LEN(C6)=0,LEN(E6)=0),"",ROW($A6)-ROW($A$5)),"") -> 1 | C6: SYSTEMS - STRATEGY | D6: =IF(LEN($C6)>0,IF(COUNTIF(Calc!$H$3:$H$23,Actions!$C6)>0,"","!"),"") | E6: Innovate payment systems | F6: In progress | G6: Delegated to finance director
B7: =IFERROR(IF(AND(LEN(C7)=0,LEN(E7)=0),"",ROW($A7)-ROW($A$5)),"") -> 2 | C7: SYSTEMS - STRATEGY | D7: =IF(LEN($C7)>0,IF(COUNTIF(Calc!$H$3:$H$23,Actions!$C7)>0,"","!"),"") | E7: Innovate marketing process | F7: Rejected | G7: Not necessary
B8: =IFERROR(IF(AND(LEN(C8)=0,LEN(E8)=0),"",ROW($A8)-ROW($A$5)),"") -> 3 | C8: STAFF - STRUCTURE | D8: =IF(LEN($C8)>0,IF(COUNTIF(Calc!$H$3:$H$23,Actions!$C8)>0,"","!"),"") | E8: Staff meeting about new strategy | F8: Success
B9: =IFERROR(IF(AND(LEN(C9)=0,LEN(E9)=0),"",ROW($A9)-ROW($A$5)),"") -> 4 | C9: SKILLS - SYSTEMS | D9: =IF(LEN($C9)>0,IF(COUNTIF(Calc!$H$3:$H$23,Actions!$C9)>0,"","!"),"") | E9: Education about new payment systems | F9: Rejected
B10: =IFERROR(IF(AND(LEN(C10)=0,LEN(E10)=0),"",ROW($A10)-ROW($A$5)),"") -> 5 | C10: SKILLS - SYSTEMS | D10: =IF(LEN($C10)>0,IF(COUNTIF(Calc!$H$3:$H$23,Actions!$C10)>0,"","!"),"") | E10: Education about new marketing systems | F10: In progress
B11: =IFERROR(IF(AND(LEN(C11)=0,LEN(E11)=0),"",ROW($A11)-ROW($A$5)),"") -> 6 | C11: STYLE - STRUCTURE | D11: =IF(LEN($C11)>0,IF(COUNTIF(Calc!$H$3:$H$23,Actions!$C11)>0,"","!"),"") | E11: Reconstruct org chart by decreasing the hierarchie level | F11: Under consideration
B12: =IFERROR(IF(AND(LEN(C12)=0,LEN(E12)=0),"",ROW($A12)-ROW($A$5)),"") -> 7 | C12: SKILLS - STRUCTURE | D12: =IF(LEN($C12)>0,IF(COUNTIF(Calc!$H$3:$H$23,Actions!$C12)>0,"","!"),"") | E12: Develop decision making skills | F12: Under consideration
B13: =IFERROR(IF(AND(LEN(C13)=0,LEN(E13)=0),"",ROW($A13)-ROW($A$5)),"") -> 8 | C13: SHARED VALUES - SYSTEMS | D13: =IF(LEN($C13)>0,IF(COUNTIF(Calc!$H$3:$H$23,Actions!$C13)>0,"","!"),"") | E13: Adding innovation as a new value | F13: Not implemented
B14: =IFERROR(IF(AND(LEN(C14)=0,LEN(E14)=0),"",ROW($A14)-ROW($A$5)),"") -> 9 | C14: SHARED VALUES - SYSTEMS | D14: =IF(LEN($C14)>0,IF(COUNTIF(Calc!$H$3:$H$23,Actions!$C14)>0,"","!"),"") | E14: Adjust systems for the new values | F14: Rejected
B15: =IFERROR(IF(AND(LEN(C15)=0,LEN(E15)=0),"",ROW($A15)-ROW($A$5)),"") -> 10 | C15: SHARED VALUES - STYLE | D15: =IF(LEN($C15)>0,IF(COUNTIF(Calc!$H$3:$H$23,Actions!$C15)>0,"","!"),"") | E15: Orientation about innovation at the management level | F15: In progress | G15: HR department takes responsibility
B16: =IFERROR(IF(AND(LEN(C16)=0,LEN(E16)=0),"",ROW($A16)-ROW($A$5)),"") -> 11 | C16: SHARED VALUES - STYLE | D16: =IF(LEN($C16)>0,IF(COUNTIF(Calc!$H$3:$H$23,Actions!$C16)>0,"","!"),"") | E16: Meeting with managers about decreasing hierarchie level | F16: Not implemented
B17: =IFERROR(IF(AND(LEN(C17)=0,LEN(E17)=0),"",ROW($A17)-ROW($A$5)),"") | D17: =IF(LEN($C17)>0,IF(COUNTIF(Calc!$H$3:$H$23,Actions!$C17)>0,"","!"),"")
B18: =IFERROR(IF(AND(LEN(C18)=0,LEN(E18)=0),"",ROW($A18)-ROW($A$5)),"") | D18: =IF(LEN($C18)>0,IF(COUNTIF(Calc!$H$3:$H$23,Actions!$C18)>0,"","!"),"")
B19: =IFERROR(IF(AND(LEN(C19)=0,LEN(E19)=0),"",ROW($A19)-ROW($A$5)),"") | D19: =IF(LEN($C19)>0,IF(COUNTIF(Calc!$H$3:$H$23,Actions!$C19)>0,"","!"),"")
B20: =IFERROR(IF(AND(LEN(C20)=0,LEN(E20)=0),"",ROW($A20)-ROW($A$5)),"") | D20: =IF(LEN($C20)>0,IF(COUNTIF(Calc!$H$3:$H$23,Actions!$C20)>0,"","!"),"")

Sheet Calc
B2: Analysis Order | E2: Inconsistency Table | H2: Inconsistency Table | J2: Results | K2: Numbers
B3: 1 | C3: =IFERROR(SUBSTITUTE(UPPER(INDEX(Dashboard!$J$10:$K$16,MATCH($B3,Dashboard!$K$10:$K$16,0),1)),"İ","I"),"") -> STRATEGY | E3: Relation | F3: Status | H3: {=IFERROR(INDEX($E$4:$E$25,SMALL(IF($F$4:$F$25="No",ROW($E$4:$E$25)-ROW(INDEX($E$4:$E$25,1,1))+1),ROW(D4)-ROW($D$3))),"")} -> SYSTEMS - STRATEGY | J3: =IFERROR(IF(LEN(Dashboard!M10)=0,"",Dashboard!M10),"") -> Success | K3: =IFERROR(IF(OR(LEN(J3)=0,COUNTA($H$3:$H$23)-COUNTBLANK($H$3:$H$23)=0),"",COUNTIFS(Actions!$E$6:$E$505,"<>",Actions!$F$6:$F$505,J3,Actions!$D$6:$D$505,"",Actions!$C$6:$C$505,"<>")),"") -> 1
B4: 2 | C4: =IFERROR(SUBSTITUTE(UPPER(INDEX(Dashboard!$J$10:$K$16,MATCH($B4,Dashboard!$K$10:$K$16,0),1)),"İ","I"),"") -> STRUCTURE | E4: =C4&" - "&C3 -> STRUCTURE - STRATEGY | F4: =Diagnosis!F48 -> Yes | H4: {=IFERROR(INDEX($E$4:$E$25,SMALL(IF($F$4:$F$25="No",ROW($E$4:$E$25)-ROW(INDEX($E$4:$E$25,1,1))+1),ROW(D5)-ROW($D$3))),"")} -> SYSTEMS - STRUCTURE | J4: =IFERROR(IF(LEN(Dashboard!M11)=0,"",Dashboard!M11),"") -> Not implemented | K4: =IFERROR(IF(OR(LEN(J4)=0,COUNTA($H$3:$H$23)-COUNTBLANK($H$3:$H$23)=0),"",COUNTIFS(Actions!$E$6:$E$505,"<>",Actions!$F$6:$F$505,J4,Actions!$D$6:$D$505,"",Actions!$C$6:$C$505,"<>")),"") -> 2
B5: 3 | C5: =IFERROR(SUBSTITUTE(UPPER(INDEX(Dashboard!$J$10:$K$16,MATCH($B5,Dashboard!$K$10:$K$16,0),1)),"İ","I"),"") -> SYSTEMS | E5: =C5&" - "&C3 -> SYSTEMS - STRATEGY | F5: =Diagnosis!I48 -> No | H5: {=IFERROR(INDEX($E$4:$E$25,SMALL(IF($F$4:$F$25="No",ROW($E$4:$E$25)-ROW(INDEX($E$4:$E$25,1,1))+1),ROW(D6)-ROW($D$3))),"")} -> STAFF - STRUCTURE | J5: =IFERROR(IF(LEN(Dashboard!M12)=0,"",Dashboard!M12),"") -> Rejected | K5: =IFERROR(IF(OR(LEN(J5)=0,COUNTA($H$3:$H$23)-COUNTBLANK($H$3:$H$23)=0),"",COUNTIFS(Actions!$E$6:$E$505,"<>",Actions!$F$6:$F$505,J5,Actions!$D$6:$D$505,"",Actions!$C$6:$C$505,"<>")),"") -> 3
B6: 4 | C6: =IFERROR(SUBSTITUTE(UPPER(INDEX(Dashboard!$J$10:$K$16,MATCH($B6,Dashboard!$K$10:$K$16,0),1)),"İ","I"),"") -> STAFF | E6: =C5&" - "&C4 -> SYSTEMS - STRUCTURE | F6: =Diagnosis!I49 -> No | H6: {=IFERROR(INDEX($E$4:$E$25,SMALL(IF($F$4:$F$25="No",ROW($E$4:$E$25)-ROW(INDEX($E$4:$E$25,1,1))+1),ROW(D7)-ROW($D$3))),"")} -> SKILLS - STRUCTURE | J6: =IFERROR(IF(LEN(Dashboard!M13)=0,"",Dashboard!M13),"") -> In progress | K6: =IFERROR(IF(OR(LEN(J6)=0,COUNTA($H$3:$H$23)-COUNTBLANK($H$3:$H$23)=0),"",COUNTIFS(Actions!$E$6:$E$505,"<>",Actions!$F$6:$F$505,J6,Actions!$D$6:$D$505,"",Actions!$C$6:$C$505,"<>")),"") -> 3
B7: 5 | C7: =IFERROR(SUBSTITUTE(UPPER(INDEX(Dashboard!$J$10:$K$16,MATCH($B7,Dashboard!$K$10:$K$16,0),1)),"İ","I"),"") -> SKILLS | E7: =C6&" - "&C3 -> STAFF - STRATEGY | F7: =Diagnosis!L48 -> Yes | H7: {=IFERROR(INDEX($E$4:$E$25,SMALL(IF($F$4:$F$25="No",ROW($E$4:$E$25)-ROW(INDEX($E$4:$E$25,1,1))+1),ROW(D8)-ROW($D$3))),"")} -> SKILLS - SYSTEMS | J7: =IFERROR(IF(LEN(Dashboard!M14)=0,"",Dashboard!M14),"") -> Under consideration | K7: =IFERROR(IF(OR(LEN(J7)=0,COUNTA($H$3:$H$23)-COUNTBLANK($H$3:$H$23)=0),"",COUNTIFS(Actions!$E$6:$E$505,"<>",Actions!$F$6:$F$505,J7,Actions!$D$6:$D$505,"",Actions!$C$6:$C$505,"<>")),"") -> 2
B8: 6 | C8: =IFERROR(SUBSTITUTE(UPPER(INDEX(Dashboard!$J$10:$K$16,MATCH($B8,Dashboard!$K$10:$K$16,0),1)),"İ","I"),"") -> STYLE | E8: =C6&" - "&C4 -> STAFF - STRUCTURE | F8: =Diagnosis!L49 -> No | H8: {=IFERROR(INDEX($E$4:$E$25,SMALL(IF($F$4:$F$25="No",ROW($E$4:$E$25)-ROW(INDEX($E$4:$E$25,1,1))+1),ROW(D9)-ROW($D$3))),"")} -> STYLE - STRUCTURE | J8: =IFERROR(IF(LEN(Dashboard!M15)=0,"",Dashboard!M15),"") | K8: =IFERROR(IF(OR(LEN(J8)=0,COUNTA($H$3:$H$23)-COUNTBLANK($H$3:$H$23)=0),"",COUNTIFS(Actions!$E$6:$E$505,"<>",Actions!$F$6:$F$505,J8,Actions!$D$6:$D$505,"",Actions!$C$6:$C$505,"<>")),"")
B9: 7 | C9: =IFERROR(SUBSTITUTE(UPPER(INDEX(Dashboard!$J$10:$K$16,MATCH($B9,Dashboard!$K$10:$K$16,0),1)),"İ","I"),"") -> SHARED VALUES | E9: =C6&" - "&C5 -> STAFF - SYSTEMS | F9: =Diagnosis!L50 -> Yes | H9: {=IFERROR(INDEX($E$4:$E$25,SMALL(IF($F$4:$F$25="No",ROW($E$4:$E$25)-ROW(INDEX($E$4:$E$25,1,1))+1),ROW(D10)-ROW($D$3))),"")} -> SHARED VALUES - SYSTEMS | J9: =IFERROR(IF(LEN(Dashboard!M16)=0,"",Dashboard!M16),"") | K9: =IFERROR(IF(OR(LEN(J9)=0,COUNTA($H$3:$H$23)-COUNTBLANK($H$3:$H$23)=0),"",COUNTIFS(Actions!$E$6:$E$505,"<>",Actions!$F$6:$F$505,J9,Actions!$D$6:$D$505,"",Actions!$C$6:$C$505,"<>")),"")
E10: =C7&" - "&C3 -> SKILLS - STRATEGY | F10: =Diagnosis!O48 -> Yes | H10: {=IFERROR(INDEX($E$4:$E$25,SMALL(IF($F$4:$F$25="No",ROW($E$4:$E$25)-ROW(INDEX($E$4:$E$25,1,1))+1),ROW(D11)-ROW($D$3))),"")} -> SHARED VALUES - STYLE
E11: =C7&" - "&C4 -> SKILLS - STRUCTURE | F11: =Diagnosis!O49 -> No | H11: {=IFERROR(INDEX($E$4:$E$25,SMALL(IF($F$4:$F$25="No",ROW($E$4:$E$25)-ROW(INDEX($E$4:$E$25,1,1))+1),ROW(D12)-ROW($D$3))),"")}
E12: =C7&" - "&C5 -> SKILLS - SYSTEMS | F12: =Diagnosis!O50 -> No | H12: {=IFERROR(INDEX($E$4:$E$25,SMALL(IF($F$4:$F$25="No",ROW($E$4:$E$25)-ROW(INDEX($E$4:$E$25,1,1))+1),ROW(D13)-ROW($D$3))),"")} | J12: Matrix Labels
E13: =C7&" - "&C6 -> SKILLS - STAFF | F13: =Diagnosis!O51 -> Yes | H13: {=IFERROR(INDEX($E$4:$E$25,SMALL(IF($F$4:$F$25="No",ROW($E$4:$E$25)-ROW(INDEX($E$4:$E$25,1,1))+1),ROW(D14)-ROW($D$3))),"")} | J13: ✘
E14: =C8&" - "&C3 -> STYLE - STRATEGY | F14: =Diagnosis!R48 -> Yes | H14: {=IFERROR(INDEX($E$4:$E$25,SMALL(IF($F$4:$F$25="No",ROW($E$4:$E$25)-ROW(INDEX($E$4:$E$25,1,1))+1),ROW(D15)-ROW($D$3))),"")} | J14: ✔
E15: =C8&" - "&C4 -> STYLE - STRUCTURE | F15: =Diagnosis!R49 -> No | H15: {=IFERROR(INDEX($E$4:$E$25,SMALL(IF($F$4:$F$25="No",ROW($E$4:$E$25)-ROW(INDEX($E$4:$E$25,1,1))+1),ROW(D16)-ROW($D$3))),"")}
E16: =C8&" - "&C5 -> STYLE - SYSTEMS | F16: =Diagnosis!R50 -> Yes | H16: {=IFERROR(INDEX($E$4:$E$25,SMALL(IF($F$4:$F$25="No",ROW($E$4:$E$25)-ROW(INDEX($E$4:$E$25,1,1))+1),ROW(D17)-ROW($D$3))),"")}
E17: =C8&" - "&C6 -> STYLE - STAFF | F17: =Diagnosis!R51 -> Yes | H17: {=IFERROR(INDEX($E$4:$E$25,SMALL(IF($F$4:$F$25="No",ROW($E$4:$E$25)-ROW(INDEX($E$4:$E$25,1,1))+1),ROW(D18)-ROW($D$3))),"")} | J17: Today
E18: =C8&" - "&C7 -> STYLE - SKILLS | F18: =Diagnosis!R52 -> Yes | H18: {=IFERROR(INDEX($E$4:$E$25,SMALL(IF($F$4:$F$25="No",ROW($E$4:$E$25)-ROW(INDEX($E$4:$E$25,1,1))+1),ROW(D19)-ROW($D$3))),"")} | J18: =TODAY() -> 44767
E19: =C9&" - "&C3 -> SHARED VALUES - STRATEGY | F19: =Diagnosis!U48 -> Yes | H19: {=IFERROR(INDEX($E$4:$E$25,SMALL(IF($F$4:$F$25="No",ROW($E$4:$E$25)-ROW(INDEX($E$4:$E$25,1,1))+1),ROW(D20)-ROW($D$3))),"")}
E20: =C9&" - "&C4 -> SHARED VALUES - STRUCTURE | F20: =Diagnosis!U49 -> Yes | H20: {=IFERROR(INDEX($E$4:$E$25,SMALL(IF($F$4:$F$25="No",ROW($E$4:$E$25)-ROW(INDEX($E$4:$E$25,1,1))+1),ROW(D21)-ROW($D$3))),"")} | J20: Chart Number
E21: =C9&" - "&C5 -> SHARED VALUES - SYSTEMS | F21: =Diagnosis!U50 -> No | H21: {=IFERROR(INDEX($E$4:$E$25,SMALL(IF($F$4:$F$25="No",ROW($E$4:$E$25)-ROW(INDEX($E$4:$E$25,1,1))+1),ROW(D22)-ROW($D$3))),"")} | J21: =COUNTA(Calc!$J$3:$J$9)-COUNTBLANK(J3:J9) -> 5
E22: =C9&" - "&C6 -> SHARED VALUES - STAFF | F22: =Diagnosis!U51 -> Yes | H22: {=IFERROR(INDEX($E$4:$E$25,SMALL(IF($F$4:$F$25="No",ROW($E$4:$E$25)-ROW(INDEX($E$4:$E$25,1,1))+1),ROW(D23)-ROW($D$3))),"")}
E23: =C9&" - "&C7 -> SHARED VALUES - SKILLS | F23: =Diagnosis!U52 -> Yes | H23: {=IFERROR(INDEX($E$4:$E$25,SMALL(IF($F$4:$F$25="No",ROW($E$4:$E$25)-ROW(INDEX($E$4:$E$25,1,1))+1),ROW(D24)-ROW($D$3))),"")}
E24: =C9&" - "&C8 -> SHARED VALUES - STYLE | F24: =Diagnosis!U53 -> No
H25: Max.Num
H26: {=IF(MAX(IF(LEN($H$3:$H$23)>0,ROW($H$3:$H$23)-ROW($G$2),0))=0,1,MAX(IF(LEN($H$3:$H$23)>0,ROW($H$3:$H$23)-ROW($G$2),0)))} -> 8
