Workbook
Name Dropdown_Counta: Settings!$AK$37:$BN$37
Name Dropdown_Headers: Settings!$C$7:$AF$7
Name First_Chart_Axis: OFFSET(Calculations!$R$6,0,0,Calculations!$S$306,1)
Name First_Chart_Series: OFFSET(Calculations!$T$6,0,0,Calculations!$S$306,1)
Name Fourth_Chart_Axis: OFFSET(Calculations!$AA$6,0,0,Calculations!$AB$306,1)
Name Fourth_Chart_Series: OFFSET(Calculations!$AC$6,0,0,Calculations!$AB$306,1)
Name RawData_Headers: OFFSET(Database!$C$6,0,0,1,COUNTA(Database!$C$6:$AB$6))
Name Report_Dynamic_Height_Print: Calculations!$AF$3
Name Second_Chart_Axis: OFFSET(Calculations!$U$6,0,0,Calculations!$V$306,1)
Name Second_Chart_Series: OFFSET(Calculations!$W$6,0,0,Calculations!$V$306,1)
Name SettingsMetrics: OFFSET(Info!$C$8,0,0,COUNTA(Info!$C$8:$C$297),1)
Name Third_Chart_Axis: OFFSET(Calculations!$X$6,0,0,Calculations!$Y$306,1)
Name Third_Chart_Series: OFFSET(Calculations!$Z$6,0,0,Calculations!$Y$306,1)
Name Unused_Dyn_DataHeight: Calculations!$AH$3

Sheet Navigation
C2: INTERNAL AUDIT TEMPLATE
C3: NAVIGATION

Sheet Info
C2: INTERNAL AUDIT TEMPLATE
C3: METRIC INFO
K6: Raw Data Height | L6: {=IFERROR(IF(MAX(IF(LEN(Database!$C$6:$C$205)>0,ROW(Database!$C$6:$C$205),2)-ROW(M5))<=1,2,MAX(IF(LEN(Database!$C$6:$C$205)>0,ROW(Database!$C$6:$C$205),2)-ROW(M5))),2)} -> 9
C7: Metrics | D7: Description | I7: COUNTIF | K7: Metric Amount | L7: {=IFERROR(IF(MAX(IF(LEN($C$8:$C$297)>0,ROW($C$8:$C$297),1)-ROW(M7))<=0,1,MAX(IF(LEN($C$8:$C$297)>0,ROW($C$8:$C$297),1)-ROW(M7))),1)} -> 31
C8: Action Date | D8: Due date agreed with process owners for each finding | G8: =IF(I8>1,"← This metric has been input more than one!","") | I8: {=IF(LEN(INDEX($C$8:$C$297,ROW(I7)-ROW($I$6)))=0,0,COUNTIF($C$8:$C$297,INDEX($C$8:$C$297,ROW(I7)-ROW($I$6))))} -> 1
C9: Action Owner | D9: The responsible who is appointed to the action | G9: =IF(I9>1,"← This metric has been input more than one!","") | I9: {=IF(LEN(INDEX($C$8:$C$297,ROW(I8)-ROW($I$6)))=0,0,COUNTIF($C$8:$C$297,INDEX($C$8:$C$297,ROW(I8)-ROW($I$6))))} -> 1
C10: Management's Response | D10: The response represents management's plan for correcting or improving the finding situation. | G10: =IF(I10>1,"← This metric has been input more than one!","") | I10: {=IF(LEN(INDEX($C$8:$C$297,ROW(I9)-ROW($I$6)))=0,0,COUNTIF($C$8:$C$297,INDEX($C$8:$C$297,ROW(I9)-ROW($I$6))))} -> 1
C11: Conclusion | D11: Conclusion of the design and functioning of the control and a brief summary of the finding (if any) | G11: =IF(I11>1,"← This metric has been input more than one!","") | I11: {=IF(LEN(INDEX($C$8:$C$297,ROW(I10)-ROW($I$6)))=0,0,COUNTIF($C$8:$C$297,INDEX($C$8:$C$297,ROW(I10)-ROW($I$6))))} -> 1
C12: Control Definition | D12: A detailed description of the operation of control | G12: =IF(I12>1,"← This metric has been input more than one!","") | I12: {=IF(LEN(INDEX($C$8:$C$297,ROW(I11)-ROW($I$6)))=0,0,COUNTIF($C$8:$C$297,INDEX($C$8:$C$297,ROW(I11)-ROW($I$6))))} -> 1
C13: Control Frequency | D13: Frequency of controls_x000D_ (Continuous, Annual, Periodic, Monthly, Weekly, Daily, Multiple Days, As Required) | G13: =IF(I13>1,"← This metric has been input more than one!","") | I13: {=IF(LEN(INDEX($C$8:$C$297,ROW(I12)-ROW($I$6)))=0,0,COUNTIF($C$8:$C$297,INDEX($C$8:$C$297,ROW(I12)-ROW($I$6))))} -> 1
C14: Control Location | D14: In which location the control is used (Head Office, branches, etc.) | G14: =IF(I14>1,"← This metric has been input more than one!","") | I14: {=IF(LEN(INDEX($C$8:$C$297,ROW(I13)-ROW($I$6)))=0,0,COUNTIF($C$8:$C$297,INDEX($C$8:$C$297,ROW(I13)-ROW($I$6))))} -> 1
C15: Control Purpose | D15: States the purpose of the control whether it is protective or preventive | G15: =IF(I15>1,"← This metric has been input more than one!","") | I15: {=IF(LEN(INDEX($C$8:$C$297,ROW(I14)-ROW($I$6)))=0,0,COUNTIF($C$8:$C$297,INDEX($C$8:$C$297,ROW(I14)-ROW($I$6))))} -> 1
C16: Control Type | D16: Features of the control | G16: =IF(I16>1,"← This metric has been input more than one!","") | I16: {=IF(LEN(INDEX($C$8:$C$297,ROW(I15)-ROW($I$6)))=0,0,COUNTIF($C$8:$C$297,INDEX($C$8:$C$297,ROW(I15)-ROW($I$6))))} -> 1
C17: Control Owner | D17: The unit and / or person who creates the control and regulates the issues related to its operation | G17: =IF(I17>1,"← This metric has been input more than one!","") | I17: {=IF(LEN(INDEX($C$8:$C$297,ROW(I16)-ROW($I$6)))=0,0,COUNTIF($C$8:$C$297,INDEX($C$8:$C$297,ROW(I16)-ROW($I$6))))} -> 1
C18: Date | D18: The preparation date of Risk and Control Matrix (RCM) | G18: =IF(I18>1,"← This metric has been input more than one!","") | I18: {=IF(LEN(INDEX($C$8:$C$297,ROW(I17)-ROW($I$6)))=0,0,COUNTIF($C$8:$C$297,INDEX($C$8:$C$297,ROW(I17)-ROW($I$6))))} -> 1
C19: Description | D19: A detailed description of the specified issue | G19: =IF(I19>1,"← This metric has been input more than one!","") | I19: {=IF(LEN(INDEX($C$8:$C$297,ROW(I18)-ROW($I$6)))=0,0,COUNTIF($C$8:$C$297,INDEX($C$8:$C$297,ROW(I18)-ROW($I$6))))} -> 1
... C38: Example Metric 5 | D38: It is a dummy metric data to show you the dynamic feature of the template | G38: =IF(I38>1,"← This metric has been input more than one!","") | I38: {=IF(LEN(INDEX($C$8:$C$297,ROW(I37)-ROW($I$6)))=0,0,COUNTIF($C$8:$C$297,INDEX($C$8:$C$297,ROW(I37)-ROW($I$6))))} -> 1
G39: =IF(I39>1,"← This metric has been input more than one!","") | I39: {=IF(LEN(INDEX($C$8:$C$297,ROW(I38)-ROW($I$6)))=0,0,COUNTIF($C$8:$C$297,INDEX($C$8:$C$297,ROW(I38)-ROW($I$6))))} -> 0
G40: =IF(I40>1,"← This metric has been input more than one!","") | I40: {=IF(LEN(INDEX($C$8:$C$297,ROW(I39)-ROW($I$6)))=0,0,COUNTIF($C$8:$C$297,INDEX($C$8:$C$297,ROW(I39)-ROW($I$6))))} -> 0
G41: =IF(I41>1,"← This metric has been input more than one!","") | I41: {=IF(LEN(INDEX($C$8:$C$297,ROW(I40)-ROW($I$6)))=0,0,COUNTIF($C$8:$C$297,INDEX($C$8:$C$297,ROW(I40)-ROW($I$6))))} -> 0
G42: =IF(I42>1,"← This metric has been input more than one!","") | I42: {=IF(LEN(INDEX($C$8:$C$297,ROW(I41)-ROW($I$6)))=0,0,COUNTIF($C$8:$C$297,INDEX($C$8:$C$297,ROW(I41)-ROW($I$6))))} -> 0
G43: =IF(I43>1,"← This metric has been input more than one!","") | I43: {=IF(LEN(INDEX($C$8:$C$297,ROW(I42)-ROW($I$6)))=0,0,COUNTIF($C$8:$C$297,INDEX($C$8:$C$297,ROW(I42)-ROW($I$6))))} -> 0
G44: =IF(I44>1,"← This metric has been input more than one!","") | I44: {=IF(LEN(INDEX($C$8:$C$297,ROW(I43)-ROW($I$6)))=0,0,COUNTIF($C$8:$C$297,INDEX($C$8:$C$297,ROW(I43)-ROW($I$6))))} -> 0
G45: =IF(I45>1,"← This metric has been input more than one!","") | I45: {=IF(LEN(INDEX($C$8:$C$297,ROW(I44)-ROW($I$6)))=0,0,COUNTIF($C$8:$C$297,INDEX($C$8:$C$297,ROW(I44)-ROW($I$6))))} -> 0
G46: =IF(I46>1,"← This metric has been input more than one!","") | I46: {=IF(LEN(INDEX($C$8:$C$297,ROW(I45)-ROW($I$6)))=0,0,COUNTIF($C$8:$C$297,INDEX($C$8:$C$297,ROW(I45)-ROW($I$6))))} -> 0
G47: =IF(I47>1,"← This metric has been input more than one!","") | I47: {=IF(LEN(INDEX($C$8:$C$297,ROW(I46)-ROW($I$6)))=0,0,COUNTIF($C$8:$C$297,INDEX($C$8:$C$297,ROW(I46)-ROW($I$6))))} -> 0
G48: =IF(I48>1,"← This metric has been input more than one!","") | I48: {=IF(LEN(INDEX($C$8:$C$297,ROW(I47)-ROW($I$6)))=0,0,COUNTIF($C$8:$C$297,INDEX($C$8:$C$297,ROW(I47)-ROW($I$6))))} -> 0
G49: =IF(I49>1,"← This metric has been input more than one!","") | I49: {=IF(LEN(INDEX($C$8:$C$297,ROW(I48)-ROW($I$6)))=0,0,COUNTIF($C$8:$C$297,INDEX($C$8:$C$297,ROW(I48)-ROW($I$6))))} -> 0
G50: =IF(I50>1,"← This metric has been input more than one!","") | I50: {=IF(LEN(INDEX($C$8:$C$297,ROW(I49)-ROW($I$6)))=0,0,COUNTIF($C$8:$C$297,INDEX($C$8:$C$297,ROW(I49)-ROW($I$6))))} -> 0
... G297: =IF(I297>1,"← This metric has been input more than one!","") | I297: {=IF(LEN(INDEX($C$8:$C$297,ROW(I296)-ROW($I$6)))=0,0,COUNTIF($C$8:$C$297,INDEX($C$8:$C$297,ROW(I296)-ROW($I$6))))} -> 0

Sheet Settings
C2: INTERNAL AUDIT TEMPLATE
C3: SETTINGS
C7: Reason of Finding | D7: Risk Ranking | E7: Control Type | F7: Control Purpose | G7: Action Owner
C8: Lack of Design | D8: Very High | E8: Manual | F8: Preventive | G8: John Doe
C9: Lack of Management | D9: High | E9: IT Dependant* | F9: Protective | G9: Jane Doe
D10: Low | G10: Adam Smith
AK36: Option Count | AL36: Option Count | AM36: Option Count | AN36: Option Count | AO36: Option Count | AP36: Option Count | AQ36: Option Count | AR36: Option Count | AS36: Option Count | AT36: Option Count | AU36: Option Count | AV36: Option Count | AW36: Option Count | AX36: Option Count | AY36: Option Count | AZ36: Option Count | BA36: Option Count | BB36: Option Count | BC36: Option Count | BD36: Option Count | BE36: Option Count | BF36: Option Count | BG36: Option Count | BH36: Option Count | BI36: Option Count | BJ36: Option Count | BK36: Option Count | BL36: Option Count | BM36: Option Count | BN36: Option Count
AK37: =IFERROR(IF(COUNTA(C$8:C$29)=0,0,COUNTA(C$8:C$29)),0) -> 2 | AL37: =IFERROR(IF(COUNTA(D$8:D$29)=0,0,COUNTA(D$8:D$29)),0) -> 3 | AM37: =IFERROR(IF(COUNTA(E$8:E$29)=0,0,COUNTA(E$8:E$29)),0) -> 2 | AN37: =IFERROR(IF(COUNTA(F$8:F$29)=0,0,COUNTA(F$8:F$29)),0) -> 2 | AO37: =IFERROR(IF(COUNTA(G$8:G$29)=0,0,COUNTA(G$8:G$29)),0) -> 3 | AP37: =IFERROR(IF(COUNTA(H$8:H$29)=0,0,COUNTA(H$8:H$29)),0) -> 0 | AQ37: =IFERROR(IF(COUNTA(I$8:I$29)=0,0,COUNTA(I$8:I$29)),0) -> 0 | AR37: =IFERROR(IF(COUNTA(J$8:J$29)=0,0,COUNTA(J$8:J$29)),0) -> 0 | ... BN37: =IFERROR(IF(COUNTA(AF$8:AF$29)=0,0,COUNTA(AF$8:AF$29)),0) -> 0

Sheet Database
C2: INTERNAL AUDIT TEMPLATE
C3: DATABASE
C6: Reference Number | D6: Report Number | E6: Date | F6: Sub-Process | G6: Reason of Finding | H6: Risk Title | I6: Risk Definition | J6: Risk Ranking | K6: Control Definition | L6: Control Type | M6: Control Purpose | N6: Control Frequency | O6: Control Owner | P6: Sub-Controller | Q6: Description | R6: Suggestions | S6: Action Date | T6: Process Name | U6: Notes | V6: Action Owner | W6: Other Action Owners | X6: Example Metric 1 | Y6: Example Metric 2 | Z6: Example Metric 3 | AA6: Example Metric 4 | AB6: Example Metric 5
C7: STR0001 | D7: 1 | E7: 43831 | F7: Level 1 | G7: Lack of Design | H7: Sanitation | I7: Stairs get slippery when the vantilation is off for hours. | J7: Very High | L7: Manual | M7: Preventive | N7: 6 Months | O7: Department A | P7: Bryan Wollder | S7: 43983 | T7: PRC0001 | U7: Note 1 | V7: John Doe
C8: STR0002 | D8: 2 | E8: 43832 | F8: Level 2 | G8: Lack of Management | H8: Usage of Equipments | I8: Some misusage of equipments have been observed. Will check again | J8: High | L8: IT Dependant* | M8: Preventive | N8: 6 Months | O8: Department A | P8: Jessica Palmer | S8: 43983 | T8: PRC0002 | U8: Note 2 | V8: Jane Doe
C9: STR0003 | D9: 3 | E9: 43833 | F9: Level 3 | G9: Lack of Management | H9: Flammable Gas | I9: The procedures for gas transportation have changed. Procedures will be changed | J9: Low | L9: Manual | M9: Protective | N9: 6 Months | O9: Department A | P9: Mike Sylotski | S9: 44077 | T9: PRC0003 | U9: Note 3 | V9: John Doe
C10: STR0004 | D10: 4 | E10: 43834 | F10: Level 4 | G10: Lack of Management | H10: Standard Procedures | I10: Due to COVID-19 our standard procedures will change accordingly | J10: Very High | L10: IT Dependant* | M10: Protective | N10: 1 Year | O10: Department B | P10: Mark Gündelberg | S10: 44077 | T10: PRC0004 | U10: Note 4 | V10: Adam Smith
C11: STR0005 | D11: 5 | E11: 43834 | F11: Level 2 | G11: Lack of Management | H11: Office Hours | I11: Due to the latest procedures a stable schedule table will be formed | J11: Low | L11: Manual | M11: Preventive | N11: 6 Months | O11: Department C | P11: Jessica Palmer | S11: 44078 | T11: PRC0005 | U11: Note 5 | V11: John Doe
C12: STR0006 | D12: 6 | E12: 43837 | F12: Level 3 | G12: Lack of Design | H12: Emergency Exit | I12: 1 Emergency Exit door's sight has been covered with a door | J12: Very High | L12: IT Dependant* | M12: Protective | N12: 6 Months | O12: Department A | P12: Mike Sylotski | S12: 44081 | T12: PRC0006 | U12: Note 6 | V12: Jane Doe
C13: STR0007 | D13: 7 | E13: 43845 | F13: Level 2 | G13: Lack of Design | H13: Possible Injuries | I13: 1 Emergency Exit door's sight has been covered with a door | J13: High | L13: Manual | M13: Protective | N13: 6 Months | O13: Department B | P13: Mark Gündelberg | S13: 44081 | T13: PRC0007 | U13: Note 7 | V13: John Doe
C14: STR0008 | D14: 8 | E14: 43852 | F14: Level 1 | G14: Lack of Management | H14: Bugs | I14: If the room is not cleaned properly bugs come out | J14: Low | L14: IT Dependant* | M14: Protective | N14: 1 Year | O14: Department B | P14: Mark Gündelberg | S14: 44081 | T14: PRC0008 | U14: Note 8 | V14: Adam Smith

Sheet Report
C2: INTERNAL AUDIT TEMPLATE
C3: REPORT SECTION
C7: Risk Reference | D7: STR0004
C9: Date | D9: =IFERROR(IF(AND(LEN($C9)=0,LEN($D$7)=0),"",IF(LEN(INDEX(_xlnm.Database,MATCH($D$7,Database!$C$6:$C$205,0),MATCH(Report!$C9,RawData_Headers,0)))=0,"",INDEX(_xlnm.Database,MATCH($D$7,Database!$C$6:$C$205,0),MATCH(Report!$C9,RawData_Headers,0)))),"") -> 43834
C10: Process Name | D10: =IFERROR(IF(AND(LEN($C10)=0,LEN($D$7)=0),"",IF(LEN(INDEX(_xlnm.Database,MATCH($D$7,Database!$C$6:$C$205,0),MATCH(Report!$C10,RawData_Headers,0)))=0,"",INDEX(_xlnm.Database,MATCH($D$7,Database!$C$6:$C$205,0),MATCH(Report!$C10,RawData_Headers,0)))),"") -> PRC0004
C11: Control Definition | D11: =IFERROR(IF(AND(LEN($C11)=0,LEN($D$7)=0),"",IF(LEN(INDEX(_xlnm.Database,MATCH($D$7,Database!$C$6:$C$205,0),MATCH(Report!$C11,RawData_Headers,0)))=0,"",INDEX(_xlnm.Database,MATCH($D$7,Database!$C$6:$C$205,0),MATCH(Report!$C11,RawData_Headers,0)))),"")
D12: =IFERROR(IF(AND(LEN($C12)=0,LEN($D$7)=0),"",IF(LEN(INDEX(_xlnm.Database,MATCH($D$7,Database!$C$6:$C$205,0),MATCH(Report!$C12,RawData_Headers,0)))=0,"",INDEX(_xlnm.Database,MATCH($D$7,Database!$C$6:$C$205,0),MATCH(Report!$C12,RawData_Headers,0)))),"")
D13: =IFERROR(IF(AND(LEN($C13)=0,LEN($D$7)=0),"",IF(LEN(INDEX(_xlnm.Database,MATCH($D$7,Database!$C$6:$C$205,0),MATCH(Report!$C13,RawData_Headers,0)))=0,"",INDEX(_xlnm.Database,MATCH($D$7,Database!$C$6:$C$205,0),MATCH(Report!$C13,RawData_Headers,0)))),"")
C14: Control Type | D14: =IFERROR(IF(AND(LEN($C14)=0,LEN($D$7)=0),"",IF(LEN(INDEX(_xlnm.Database,MATCH($D$7,Database!$C$6:$C$205,0),MATCH(Report!$C14,RawData_Headers,0)))=0,"",INDEX(_xlnm.Database,MATCH($D$7,Database!$C$6:$C$205,0),MATCH(Report!$C14,RawData_Headers,0)))),"") -> IT Dependant*
C15: Control Purpose | D15: =IFERROR(IF(AND(LEN($C15)=0,LEN($D$7)=0),"",IF(LEN(INDEX(_xlnm.Database,MATCH($D$7,Database!$C$6:$C$205,0),MATCH(Report!$C15,RawData_Headers,0)))=0,"",INDEX(_xlnm.Database,MATCH($D$7,Database!$C$6:$C$205,0),MATCH(Report!$C15,RawData_Headers,0)))),"") -> Protective
C16: Control Frequency | D16: =IFERROR(IF(AND(LEN($C16)=0,LEN($D$7)=0),"",IF(LEN(INDEX(_xlnm.Database,MATCH($D$7,Database!$C$6:$C$205,0),MATCH(Report!$C16,RawData_Headers,0)))=0,"",INDEX(_xlnm.Database,MATCH($D$7,Database!$C$6:$C$205,0),MATCH(Report!$C16,RawData_Headers,0)))),"") -> 1 Year
C17: Controller | D17: =IFERROR(IF(AND(LEN($C17)=0,LEN($D$7)=0),"",IF(LEN(INDEX(_xlnm.Database,MATCH($D$7,Database!$C$6:$C$205,0),MATCH(Report!$C17,RawData_Headers,0)))=0,"",INDEX(_xlnm.Database,MATCH($D$7,Database!$C$6:$C$205,0),MATCH(Report!$C17,RawData_Headers,0)))),"")
C18: Control Location | D18: =IFERROR(IF(AND(LEN($C18)=0,LEN($D$7)=0),"",IF(LEN(INDEX(_xlnm.Database,MATCH($D$7,Database!$C$6:$C$205,0),MATCH(Report!$C18,RawData_Headers,0)))=0,"",INDEX(_xlnm.Database,MATCH($D$7,Database!$C$6:$C$205,0),MATCH(Report!$C18,RawData_Headers,0)))),"")
C19: System | D19: =IFERROR(IF(AND(LEN($C19)=0,LEN($D$7)=0),"",IF(LEN(INDEX(_xlnm.Database,MATCH($D$7,Database!$C$6:$C$205,0),MATCH(Report!$C19,RawData_Headers,0)))=0,"",INDEX(_xlnm.Database,MATCH($D$7,Database!$C$6:$C$205,0),MATCH(Report!$C19,RawData_Headers,0)))),"")
C20: Sub-Controller | D20: =IFERROR(IF(AND(LEN($C20)=0,LEN($D$7)=0),"",IF(LEN(INDEX(_xlnm.Database,MATCH($D$7,Database!$C$6:$C$205,0),MATCH(Report!$C20,RawData_Headers,0)))=0,"",INDEX(_xlnm.Database,MATCH($D$7,Database!$C$6:$C$205,0),MATCH(Report!$C20,RawData_Headers,0)))),"") -> Mark Gündelberg
D21: =IFERROR(IF(AND(LEN($C21)=0,LEN($D$7)=0),"",IF(LEN(INDEX(_xlnm.Database,MATCH($D$7,Database!$C$6:$C$205,0),MATCH(Report!$C21,RawData_Headers,0)))=0,"",INDEX(_xlnm.Database,MATCH($D$7,Database!$C$6:$C$205,0),MATCH(Report!$C21,RawData_Headers,0)))),"")
C22: Conclusion | D22: =IFERROR(IF(AND(LEN($C22)=0,LEN($D$7)=0),"",IF(LEN(INDEX(_xlnm.Database,MATCH($D$7,Database!$C$6:$C$205,0),MATCH(Report!$C22,RawData_Headers,0)))=0,"",INDEX(_xlnm.Database,MATCH($D$7,Database!$C$6:$C$205,0),MATCH(Report!$C22,RawData_Headers,0)))),"")
C23: Notes | D23: =IFERROR(IF(AND(LEN($C23)=0,LEN($D$7)=0),"",IF(LEN(INDEX(_xlnm.Database,MATCH($D$7,Database!$C$6:$C$205,0),MATCH(Report!$C23,RawData_Headers,0)))=0,"",INDEX(_xlnm.Database,MATCH($D$7,Database!$C$6:$C$205,0),MATCH(Report!$C23,RawData_Headers,0)))),"") -> Note 4
D24: =IFERROR(IF(AND(LEN($C24)=0,LEN($D$7)=0),"",IF(LEN(INDEX(_xlnm.Database,MATCH($D$7,Database!$C$6:$C$205,0),MATCH(Report!$C24,RawData_Headers,0)))=0,"",INDEX(_xlnm.Database,MATCH($D$7,Database!$C$6:$C$205,0),MATCH(Report!$C24,RawData_Headers,0)))),"")
D25: =IFERROR(IF(AND(LEN($C25)=0,LEN($D$7)=0),"",IF(LEN(INDEX(_xlnm.Database,MATCH($D$7,Database!$C$6:$C$205,0),MATCH(Report!$C25,RawData_Headers,0)))=0,"",INDEX(_xlnm.Database,MATCH($D$7,Database!$C$6:$C$205,0),MATCH(Report!$C25,RawData_Headers,0)))),"")
D26: =IFERROR(IF(AND(LEN($C26)=0,LEN($D$7)=0),"",IF(LEN(INDEX(_xlnm.Database,MATCH($D$7,Database!$C$6:$C$205,0),MATCH(Report!$C26,RawData_Headers,0)))=0,"",INDEX(_xlnm.Database,MATCH($D$7,Database!$C$6:$C$205,0),MATCH(Report!$C26,RawData_Headers,0)))),"")
D27: =IFERROR(IF(AND(LEN($C27)=0,LEN($D$7)=0),"",IF(LEN(INDEX(_xlnm.Database,MATCH($D$7,Database!$C$6:$C$205,0),MATCH(Report!$C27,RawData_Headers,0)))=0,"",INDEX(_xlnm.Database,MATCH($D$7,Database!$C$6:$C$205,0),MATCH(Report!$C27,RawData_Headers,0)))),"")
D28: =IFERROR(IF(AND(LEN($C28)=0,LEN($D$7)=0),"",IF(LEN(INDEX(_xlnm.Database,MATCH($D$7,Database!$C$6:$C$205,0),MATCH(Report!$C28,RawData_Headers,0)))=0,"",INDEX(_xlnm.Database,MATCH($D$7,Database!$C$6:$C$205,0),MATCH(Report!$C28,RawData_Headers,0)))),"")
D29: =IFERROR(IF(AND(LEN($C29)=0,LEN($D$7)=0),"",IF(LEN(INDEX(_xlnm.Database,MATCH($D$7,Database!$C$6:$C$205,0),MATCH(Report!$C29,RawData_Headers,0)))=0,"",INDEX(_xlnm.Database,MATCH($D$7,Database!$C$6:$C$205,0),MATCH(Report!$C29,RawData_Headers,0)))),"")
D30: =IFERROR(IF(AND(LEN($C30)=0,LEN($D$7)=0),"",IF(LEN(INDEX(_xlnm.Database,MATCH($D$7,Database!$C$6:$C$205,0),MATCH(Report!$C30,RawData_Headers,0)))=0,"",INDEX(_xlnm.Database,MATCH($D$7,Database!$C$6:$C$205,0),MATCH(Report!$C30,RawData_Headers,0)))),"")
D31: =IFERROR(IF(AND(LEN($C31)=0,LEN($D$7)=0),"",IF(LEN(INDEX(_xlnm.Database,MATCH($D$7,Database!$C$6:$C$205,0),MATCH(Report!$C31,RawData_Headers,0)))=0,"",INDEX(_xlnm.Database,MATCH($D$7,Database!$C$6:$C$205,0),MATCH(Report!$C31,RawData_Headers,0)))),"")
D32: =IFERROR(IF(AND(LEN($C32)=0,LEN($D$7)=0),"",IF(LEN(INDEX(_xlnm.Database,MATCH($D$7,Database!$C$6:$C$205,0),MATCH(Report!$C32,RawData_Headers,0)))=0,"",INDEX(_xlnm.Database,MATCH($D$7,Database!$C$6:$C$205,0),MATCH(Report!$C32,RawData_Headers,0)))),"")
D33: =IFERROR(IF(AND(LEN($C33)=0,LEN($D$7)=0),"",IF(LEN(INDEX(_xlnm.Database,MATCH($D$7,Database!$C$6:$C$205,0),MATCH(Report!$C33,RawData_Headers,0)))=0,"",INDEX(_xlnm.Database,MATCH($D$7,Database!$C$6:$C$205,0),MATCH(Report!$C33,RawData_Headers,0)))),"")
D34: =IFERROR(IF(AND(LEN($C34)=0,LEN($D$7)=0),"",IF(LEN(INDEX(_xlnm.Database,MATCH($D$7,Database!$C$6:$C$205,0),MATCH(Report!$C34,RawData_Headers,0)))=0,"",INDEX(_xlnm.Database,MATCH($D$7,Database!$C$6:$C$205,0),MATCH(Report!$C34,RawData_Headers,0)))),"")
D35: =IFERROR(IF(AND(LEN($C35)=0,LEN($D$7)=0),"",IF(LEN(INDEX(_xlnm.Database,MATCH($D$7,Database!$C$6:$C$205,0),MATCH(Report!$C35,RawData_Headers,0)))=0,"",INDEX(_xlnm.Database,MATCH($D$7,Database!$C$6:$C$205,0),MATCH(Report!$C35,RawData_Headers,0)))),"")
... D132: =IFERROR(IF(AND(LEN($C132)=0,LEN($D$7)=0),"",IF(LEN(INDEX(_xlnm.Database,MATCH($D$7,Database!$C$6:$C$205,0),MATCH(Report!$C132,RawData_Headers,0)))=0,"",INDEX(_xlnm.Database,MATCH($D$7,Database!$C$6:$C$205,0),MATCH(Report!$C132,RawData_Headers,0)))),"")

Sheet Dashboard
C2: INTERNAL AUDIT TEMPLATE
C3: DASHBOARD
C7: Sub-Controller | H7: Action Owner
C22: Control Purpose | H22: Reason of Finding

Sheet Calculations
B2: AREA | R2: TABLE FOR CHART DYNAMICITY
B3: 1st Chart | E3: 2nd Chart | H3: 3rd Chart | K3: 4th Chart | R3: 1st Chart | U3: 2nd Chart | X3: 3rd Chart | AA3: 4th Chart | AE3: Report Page Dynamic Height | AF3: {=IFERROR(IF(MAX(IF(LEN(Report!$C$6:$C$132)>0,ROW(Report!$C$6:$C$132),2)-ROW(Report!C4))<=0,2,MAX(IF(LEN(Report!$C$6:$C$132)>0,ROW(Report!$C$6:$C$132),2)-ROW(Report!C4))),2)} -> 19
B5: =IFERROR(IF(LEN(Dashboard!C7)=0,"",Dashboard!C7),"") -> Sub-Controller | C5: Status | D5: =B5&" Dynamicity" -> Sub-Controller Dynamicity | E5: =IFERROR(IF(LEN(Dashboard!H7)=0,"",Dashboard!H7),"") -> Action Owner | F5: Status | G5: =E5&" Dynamicity" -> Action Owner Dynamicity | H5: =IFERROR(IF(LEN(Dashboard!C22)=0,"",Dashboard!C22),"") -> Control Purpose | I5: Status | J5: =H5&" Dynamicity" -> Control Purpose Dynamicity | K5: =IFERROR(IF(LEN(Dashboard!H22)=0,"",Dashboard!H22),"") -> Reason of Finding | L5: Status | M5: =K5&" Dynamicity" -> Reason of Finding Dynamicity | O5: Month Numbers | P5: Month Names | R5: ="Remove Duplicates"&" "&B5 -> Remove Duplicates Sub-Controller | S5: Height for Dyn | T5: Total Amount | U5: ="Remove Duplicates"&" "&E5 -> Remove Duplicates Action Owner | V5: Height for Dyn | W5: Total Amount | X5: ="Remove Duplicates"&" "&H5 -> Remove Duplicates Control Purpose | Y5: Height for Dyn | Z5: Total Amount | AA5: ="Remove Duplicates"&" "&K5 -> Remove Duplicates Reason of Finding | AB5: Height for Dyn | AC5: Total Amount
B6: =IFERROR(IF(LEN(B$5)=0,"",IF(LEN(INDEX(_xlnm.Database,ROW($C6)-ROW($C$4),MATCH(B$5,RawData_Headers,0)))=0,"",INDEX(_xlnm.Database,ROW($C6)-ROW($C$4),MATCH(B$5,RawData_Headers,0)))),"") -> Bryan Wollder | C6: =IFERROR(IF(LEN(B6)=0,0,1),0) -> 1 | D6: =IFERROR(IF(C6=0,0,1),0) -> 1 | E6: =IFERROR(IF(LEN(E$5)=0,"",IF(LEN(INDEX(_xlnm.Database,ROW($F6)-ROW($F$4),MATCH(E$5,RawData_Headers,0)))=0,"",INDEX(_xlnm.Database,ROW($F6)-ROW($F$4),MATCH(E$5,RawData_Headers,0)))),"") -> John Doe | F6: =IFERROR(IF(LEN(E6)=0,0,1),0) -> 1 | G6: =IFERROR(IF(F6=0,0,1),0) -> 1 | H6: =IFERROR(IF(LEN(H$5)=0,"",IF(LEN(INDEX(_xlnm.Database,ROW($I6)-ROW($I$4),MATCH(H$5,RawData_Headers,0)))=0,"",INDEX(_xlnm.Database,ROW($I6)-ROW($I$4),MATCH(H$5,RawData_Headers,0)))),"") -> Preventive | I6: =IFERROR(IF(LEN(H6)=0,0,1),0) -> 1 | J6: =IFERROR(IF(I6=0,0,1),0) -> 1 | K6: =IFERROR(IF(LEN(K$5)=0,"",IF(LEN(INDEX(_xlnm.Database,ROW($L6)-ROW($L$4),MATCH(K$5,RawData_Headers,0)))=0,"",INDEX(_xlnm.Database,ROW($L6)-ROW($L$4),MATCH(K$5,RawData_Headers,0)))),"") -> Lack of Design | L6: =IFERROR(IF(LEN(K6)=0,0,1),0) -> 1 | M6: =IFERROR(IF(L6=0,0,1),0) -> 1 | O6: 1 | P6: Jan | R6: {=IFERROR(IF(LEN(B6)=0,"",INDEX(B$6:B$305,MATCH(0,COUNTIF(R$5:R5,B$6:B$305),0))),"")} -> Bryan Wollder | S6: =IFERROR(IF(LEN(R6)=0,0,1),0) -> 1 | T6: =IFERROR(IF(LEN(R6)=0,"",SUMIF($B$6:$B$305,R6,$D$6:$D$305)),"") -> 1 | U6: {=IFERROR(IF(LEN(E6)=0,"",INDEX(E$6:E$305,MATCH(0,COUNTIF(U$5:U5,E$6:E$305),0))),"")} -> John Doe | V6: =IFERROR(IF(LEN(U6)=0,0,1),0) -> 1 | W6: =IFERROR(IF(LEN(U6)=0,"",SUMIF($E$6:$E$305,U6,$G$6:$G$305)),"") -> 4 | X6: {=IFERROR(IF(LEN(H6)=0,"",INDEX(H$6:H$305,MATCH(0,COUNTIF(X$5:X5,H$6:H$305),0))),"")} -> Preventive | Y6: =IFERROR(IF(LEN(X6)=0,0,1),0) -> 1 | Z6: =IFERROR(IF(LEN(X6)=0,"",SUMIF($H$6:$H$305,X6,$J$6:$J$305)),"") -> 3 | AA6: {=IFERROR(IF(LEN(K6)=0,"",INDEX(K$6:K$305,MATCH(0,COUNTIF(AA$5:AA5,K$6:K$305),0))),"")} -> Lack of Design | AB6: =IFERROR(IF(LEN(AA6)=0,0,1),0) -> 1 | AC6: =IFERROR(IF(LEN(AA6)=0,"",SUMIF($K$6:$K$305,AA6,$M$6:$M$305)),"") -> 3
B7: =IFERROR(IF(LEN(B$5)=0,"",IF(LEN(INDEX(_xlnm.Database,ROW($C7)-ROW($C$4),MATCH(B$5,RawData_Headers,0)))=0,"",INDEX(_xlnm.Database,ROW($C7)-ROW($C$4),MATCH(B$5,RawData_Headers,0)))),"") -> Jessica Palmer | C7: =IFERROR(IF(LEN(B7)=0,0,1),0) -> 1 | D7: =IFERROR(IF(C7=0,0,1),0) -> 1 | E7: =IFERROR(IF(LEN(E$5)=0,"",IF(LEN(INDEX(_xlnm.Database,ROW($F7)-ROW($F$4),MATCH(E$5,RawData_Headers,0)))=0,"",INDEX(_xlnm.Database,ROW($F7)-ROW($F$4),MATCH(E$5,RawData_Headers,0)))),"") -> Jane Doe | F7: =IFERROR(IF(LEN(E7)=0,0,1),0) -> 1 | G7: =IFERROR(IF(LEN(E7)=0,0,1),0) -> 1 | H7: =IFERROR(IF(LEN(H$5)=0,"",IF(LEN(INDEX(_xlnm.Database,ROW($I7)-ROW($I$4),MATCH(H$5,RawData_Headers,0)))=0,"",INDEX(_xlnm.Database,ROW($I7)-ROW($I$4),MATCH(H$5,RawData_Headers,0)))),"") -> Preventive | I7: =IFERROR(IF(LEN(H7)=0,0,1),0) -> 1 | J7: =IFERROR(IF(I7=0,0,1),0) -> 1 | K7: =IFERROR(IF(LEN(K$5)=0,"",IF(LEN(INDEX(_xlnm.Database,ROW($L7)-ROW($L$4),MATCH(K$5,RawData_Headers,0)))=0,"",INDEX(_xlnm.Database,ROW($L7)-ROW($L$4),MATCH(K$5,RawData_Headers,0)))),"") -> Lack of Management | L7: =IFERROR(IF(LEN(K7)=0,0,1),0) -> 1 | M7: =IFERROR(IF(L7=0,0,1),0) -> 1 | O7: 2 | P7: Feb | R7: {=IFERROR(IF(LEN(B7)=0,"",INDEX(B$6:B$305,MATCH(0,COUNTIF(R$5:R6,B$6:B$305),0))),"")} -> Jessica Palmer | S7: =IFERROR(IF(LEN(R7)=0,0,1),0) -> 1 | T7: =IFERROR(IF(LEN(R7)=0,"",SUMIF($B$6:$B$305,R7,$D$6:$D$305)),"") -> 2 | U7: {=IFERROR(IF(LEN(E7)=0,"",INDEX(E$6:E$305,MATCH(0,COUNTIF(U$5:U6,E$6:E$305),0))),"")} -> Jane Doe | V7: =IFERROR(IF(LEN(U7)=0,0,1),0) -> 1 | W7: =IFERROR(IF(LEN(U7)=0,"",SUMIF($E$6:$E$305,U7,$G$6:$G$305)),"") -> 2 | X7: {=IFERROR(IF(LEN(H7)=0,"",INDEX(H$6:H$305,MATCH(0,COUNTIF(X$5:X6,H$6:H$305),0))),"")} -> Protective | Y7: =IFERROR(IF(LEN(X7)=0,0,1),0) -> 1 | Z7: =IFERROR(IF(LEN(X7)=0,"",SUMIF($H$6:$H$305,X7,$J$6:$J$305)),"") -> 5 | AA7: {=IFERROR(IF(LEN(K7)=0,"",INDEX(K$6:K$305,MATCH(0,COUNTIF(AA$5:AA6,K$6:K$305),0))),"")} -> Lack of Management | AB7: =IFERROR(IF(LEN(AA7)=0,0,1),0) -> 1 | AC7: =IFERROR(IF(LEN(AA7)=0,"",SUMIF($K$6:$K$305,AA7,$M$6:$M$305)),"") -> 5
B8: =IFERROR(IF(LEN(B$5)=0,"",IF(LEN(INDEX(_xlnm.Database,ROW($C8)-ROW($C$4),MATCH(B$5,RawData_Headers,0)))=0,"",INDEX(_xlnm.Database,ROW($C8)-ROW($C$4),MATCH(B$5,RawData_Headers,0)))),"") -> Mike Sylotski | C8: =IFERROR(IF(LEN(B8)=0,0,1),0) -> 1 | D8: =IFERROR(IF(C8=0,0,1),0) -> 1 | E8: =IFERROR(IF(LEN(E$5)=0,"",IF(LEN(INDEX(_xlnm.Database,ROW($F8)-ROW($F$4),MATCH(E$5,RawData_Headers,0)))=0,"",INDEX(_xlnm.Database,ROW($F8)-ROW($F$4),MATCH(E$5,RawData_Headers,0)))),"") -> John Doe | F8: =IFERROR(IF(LEN(E8)=0,0,1),0) -> 1 | G8: =IFERROR(IF(LEN(E8)=0,0,1),0) -> 1 | H8: =IFERROR(IF(LEN(H$5)=0,"",IF(LEN(INDEX(_xlnm.Database,ROW($I8)-ROW($I$4),MATCH(H$5,RawData_Headers,0)))=0,"",INDEX(_xlnm.Database,ROW($I8)-ROW($I$4),MATCH(H$5,RawData_Headers,0)))),"") -> Protective | I8: =IFERROR(IF(LEN(H8)=0,0,1),0) -> 1 | J8: =IFERROR(IF(I8=0,0,1),0) -> 1 | K8: =IFERROR(IF(LEN(K$5)=0,"",IF(LEN(INDEX(_xlnm.Database,ROW($L8)-ROW($L$4),MATCH(K$5,RawData_Headers,0)))=0,"",INDEX(_xlnm.Database,ROW($L8)-ROW($L$4),MATCH(K$5,RawData_Headers,0)))),"") -> Lack of Management | L8: =IFERROR(IF(LEN(K8)=0,0,1),0) -> 1 | M8: =IFERROR(IF(L8=0,0,1),0) -> 1 | O8: 3 | P8: Mar | R8: {=IFERROR(IF(LEN(B8)=0,"",INDEX(B$6:B$305,MATCH(0,COUNTIF(R$5:R7,B$6:B$305),0))),"")} -> Mike Sylotski | S8: =IFERROR(IF(LEN(R8)=0,0,1),0) -> 1 | T8: =IFERROR(IF(LEN(R8)=0,"",SUMIF($B$6:$B$305,R8,$D$6:$D$305)),"") -> 2 | U8: {=IFERROR(IF(LEN(E8)=0,"",INDEX(E$6:E$305,MATCH(0,COUNTIF(U$5:U7,E$6:E$305),0))),"")} -> Adam Smith | V8: =IFERROR(IF(LEN(U8)=0,0,1),0) -> 1 | W8: =IFERROR(IF(LEN(U8)=0,"",SUMIF($E$6:$E$305,U8,$G$6:$G$305)),"") -> 2 | X8: {=IFERROR(IF(LEN(H8)=0,"",INDEX(H$6:H$305,MATCH(0,COUNTIF(X$5:X7,H$6:H$305),0))),"")} | Y8: =IFERROR(IF(LEN(X8)=0,0,1),0) -> 0 | Z8: =IFERROR(IF(LEN(X8)=0,"",SUMIF($H$6:$H$305,X8,$J$6:$J$305)),"") | AA8: {=IFERROR(IF(LEN(K8)=0,"",INDEX(K$6:K$305,MATCH(0,COUNTIF(AA$5:AA7,K$6:K$305),0))),"")} | AB8: =IFERROR(IF(LEN(AA8)=0,0,1),0) -> 0 | AC8: =IFERROR(IF(LEN(AA8)=0,"",SUMIF($K$6:$K$305,AA8,$M$6:$M$305)),"")
B9: =IFERROR(IF(LEN(B$5)=0,"",IF(LEN(INDEX(_xlnm.Database,ROW($C9)-ROW($C$4),MATCH(B$5,RawData_Headers,0)))=0,"",INDEX(_xlnm.Database,ROW($C9)-ROW($C$4),MATCH(B$5,RawData_Headers,0)))),"") -> Mark Gündelberg | C9: =IFERROR(IF(LEN(B9)=0,0,1),0) -> 1 | D9: =IFERROR(IF(C9=0,0,1),0) -> 1 | E9: =IFERROR(IF(LEN(E$5)=0,"",IF(LEN(INDEX(_xlnm.Database,ROW($F9)-ROW($F$4),MATCH(E$5,RawData_Headers,0)))=0,"",INDEX(_xlnm.Database,ROW($F9)-ROW($F$4),MATCH(E$5,RawData_Headers,0)))),"") -> Adam Smith | F9: =IFERROR(IF(LEN(E9)=0,0,1),0) -> 1 | G9: =IFERROR(IF(LEN(E9)=0,0,1),0) -> 1 | H9: =IFERROR(IF(LEN(H$5)=0,"",IF(LEN(INDEX(_xlnm.Database,ROW($I9)-ROW($I$4),MATCH(H$5,RawData_Headers,0)))=0,"",INDEX(_xlnm.Database,ROW($I9)-ROW($I$4),MATCH(H$5,RawData_Headers,0)))),"") -> Protective | I9: =IFERROR(IF(LEN(H9)=0,0,1),0) -> 1 | J9: =IFERROR(IF(I9=0,0,1),0) -> 1 | K9: =IFERROR(IF(LEN(K$5)=0,"",IF(LEN(INDEX(_xlnm.Database,ROW($L9)-ROW($L$4),MATCH(K$5,RawData_Headers,0)))=0,"",INDEX(_xlnm.Database,ROW($L9)-ROW($L$4),MATCH(K$5,RawData_Headers,0)))),"") -> Lack of Management | L9: =IFERROR(IF(LEN(K9)=0,0,1),0) -> 1 | M9: =IFERROR(IF(L9=0,0,1),0) -> 1 | O9: 4 | P9: Apr | R9: {=IFERROR(IF(LEN(B9)=0,"",INDEX(B$6:B$305,MATCH(0,COUNTIF(R$5:R8,B$6:B$305),0))),"")} -> Mark Gündelberg | S9: =IFERROR(IF(LEN(R9)=0,0,1),0) -> 1 | T9: =IFERROR(IF(LEN(R9)=0,"",SUMIF($B$6:$B$305,R9,$D$6:$D$305)),"") -> 3 | U9: {=IFERROR(IF(LEN(E9)=0,"",INDEX(E$6:E$305,MATCH(0,COUNTIF(U$5:U8,E$6:E$305),0))),"")} | V9: =IFERROR(IF(LEN(U9)=0,0,1),0) -> 0 | W9: =IFERROR(IF(LEN(U9)=0,"",SUMIF($E$6:$E$305,U9,$G$6:$G$305)),"") | X9: {=IFERROR(IF(LEN(H9)=0,"",INDEX(H$6:H$305,MATCH(0,COUNTIF(X$5:X8,H$6:H$305),0))),"")} | Y9: =IFERROR(IF(LEN(X9)=0,0,1),0) -> 0 | Z9: =IFERROR(IF(LEN(X9)=0,"",SUMIF($H$6:$H$305,X9,$J$6:$J$305)),"") | AA9: {=IFERROR(IF(LEN(K9)=0,"",INDEX(K$6:K$305,MATCH(0,COUNTIF(AA$5:AA8,K$6:K$305),0))),"")} | AB9: =IFERROR(IF(LEN(AA9)=0,0,1),0) -> 0 | AC9: =IFERROR(IF(LEN(AA9)=0,"",SUMIF($K$6:$K$305,AA9,$M$6:$M$305)),"")
B10: =IFERROR(IF(LEN(B$5)=0,"",IF(LEN(INDEX(_xlnm.Database,ROW($C10)-ROW($C$4),MATCH(B$5,RawData_Headers,0)))=0,"",INDEX(_xlnm.Database,ROW($C10)-ROW($C$4),MATCH(B$5,RawData_Headers,0)))),"") -> Jessica Palmer | C10: =IFERROR(IF(LEN(B10)=0,0,1),0) -> 1 | D10: =IFERROR(IF(C10=0,0,1),0) -> 1 | E10: =IFERROR(IF(LEN(E$5)=0,"",IF(LEN(INDEX(_xlnm.Database,ROW($F10)-ROW($F$4),MATCH(E$5,RawData_Headers,0)))=0,"",INDEX(_xlnm.Database,ROW($F10)-ROW($F$4),MATCH(E$5,RawData_Headers,0)))),"") -> John Doe | F10: =IFERROR(IF(LEN(E10)=0,0,1),0) -> 1 | G10: =IFERROR(IF(LEN(E10)=0,0,1),0) -> 1 | H10: =IFERROR(IF(LEN(H$5)=0,"",IF(LEN(INDEX(_xlnm.Database,ROW($I10)-ROW($I$4),MATCH(H$5,RawData_Headers,0)))=0,"",INDEX(_xlnm.Database,ROW($I10)-ROW($I$4),MATCH(H$5,RawData_Headers,0)))),"") -> Preventive | I10: =IFERROR(IF(LEN(H10)=0,0,1),0) -> 1 | J10: =IFERROR(IF(I10=0,0,1),0) -> 1 | K10: =IFERROR(IF(LEN(K$5)=0,"",IF(LEN(INDEX(_xlnm.Database,ROW($L10)-ROW($L$4),MATCH(K$5,RawData_Headers,0)))=0,"",INDEX(_xlnm.Database,ROW($L10)-ROW($L$4),MATCH(K$5,RawData_Headers,0)))),"") -> Lack of Management | L10: =IFERROR(IF(LEN(K10)=0,0,1),0) -> 1 | M10: =IFERROR(IF(L10=0,0,1),0) -> 1 | O10: 5 | P10: May | R10: {=IFERROR(IF(LEN(B10)=0,"",INDEX(B$6:B$305,MATCH(0,COUNTIF(R$5:R9,B$6:B$305),0))),"")} | S10: =IFERROR(IF(LEN(R10)=0,0,1),0) -> 0 | T10: =IFERROR(IF(LEN(R10)=0,"",SUMIF($B$6:$B$305,R10,$D$6:$D$305)),"") | U10: {=IFERROR(IF(LEN(E10)=0,"",INDEX(E$6:E$305,MATCH(0,COUNTIF(U$5:U9,E$6:E$305),0))),"")} | V10: =IFERROR(IF(LEN(U10)=0,0,1),0) -> 0 | W10: =IFERROR(IF(LEN(U10)=0,"",SUMIF($E$6:$E$305,U10,$G$6:$G$305)),"") | X10: {=IFERROR(IF(LEN(H10)=0,"",INDEX(H$6:H$305,MATCH(0,COUNTIF(X$5:X9,H$6:H$305),0))),"")} | Y10: =IFERROR(IF(LEN(X10)=0,0,1),0) -> 0 | Z10: =IFERROR(IF(LEN(X10)=0,"",SUMIF($H$6:$H$305,X10,$J$6:$J$305)),"") | AA10: {=IFERROR(IF(LEN(K10)=0,"",INDEX(K$6:K$305,MATCH(0,COUNTIF(AA$5:AA9,K$6:K$305),0))),"")} | AB10: =IFERROR(IF(LEN(AA10)=0,0,1),0) -> 0 | AC10: =IFERROR(IF(LEN(AA10)=0,"",SUMIF($K$6:$K$305,AA10,$M$6:$M$305)),"")
B11: =IFERROR(IF(LEN(B$5)=0,"",IF(LEN(INDEX(_xlnm.Database,ROW($C11)-ROW($C$4),MATCH(B$5,RawData_Headers,0)))=0,"",INDEX(_xlnm.Database,ROW($C11)-ROW($C$4),MATCH(B$5,RawData_Headers,0)))),"") -> Mike Sylotski | C11: =IFERROR(IF(LEN(B11)=0,0,1),0) -> 1 | D11: =IFERROR(IF(C11=0,0,1),0) -> 1 | E11: =IFERROR(IF(LEN(E$5)=0,"",IF(LEN(INDEX(_xlnm.Database,ROW($F11)-ROW($F$4),MATCH(E$5,RawData_Headers,0)))=0,"",INDEX(_xlnm.Database,ROW($F11)-ROW($F$4),MATCH(E$5,RawData_Headers,0)))),"") -> Jane Doe | F11: =IFERROR(IF(LEN(E11)=0,0,1),0) -> 1 | G11: =IFERROR(IF(LEN(E11)=0,0,1),0) -> 1 | H11: =IFERROR(IF(LEN(H$5)=0,"",IF(LEN(INDEX(_xlnm.Database,ROW($I11)-ROW($I$4),MATCH(H$5,RawData_Headers,0)))=0,"",INDEX(_xlnm.Database,ROW($I11)-ROW($I$4),MATCH(H$5,RawData_Headers,0)))),"") -> Protective | I11: =IFERROR(IF(LEN(H11)=0,0,1),0) -> 1 | J11: =IFERROR(IF(I11=0,0,1),0) -> 1 | K11: =IFERROR(IF(LEN(K$5)=0,"",IF(LEN(INDEX(_xlnm.Database,ROW($L11)-ROW($L$4),MATCH(K$5,RawData_Headers,0)))=0,"",INDEX(_xlnm.Database,ROW($L11)-ROW($L$4),MATCH(K$5,RawData_Headers,0)))),"") -> Lack of Design | L11: =IFERROR(IF(LEN(K11)=0,0,1),0) -> 1 | M11: =IFERROR(IF(L11=0,0,1),0) -> 1 | O11: 6 | P11: Jun | R11: {=IFERROR(IF(LEN(B11)=0,"",INDEX(B$6:B$305,MATCH(0,COUNTIF(R$5:R10,B$6:B$305),0))),"")} | S11: =IFERROR(IF(LEN(R11)=0,0,1),0) -> 0 | T11: =IFERROR(IF(LEN(R11)=0,"",SUMIF($B$6:$B$305,R11,$D$6:$D$305)),"") | U11: {=IFERROR(IF(LEN(E11)=0,"",INDEX(E$6:E$305,MATCH(0,COUNTIF(U$5:U10,E$6:E$305),0))),"")} | V11: =IFERROR(IF(LEN(U11)=0,0,1),0) -> 0 | W11: =IFERROR(IF(LEN(U11)=0,"",SUMIF($E$6:$E$305,U11,$G$6:$G$305)),"") | X11: {=IFERROR(IF(LEN(H11)=0,"",INDEX(H$6:H$305,MATCH(0,COUNTIF(X$5:X10,H$6:H$305),0))),"")} | Y11: =IFERROR(IF(LEN(X11)=0,0,1),0) -> 0 | Z11: =IFERROR(IF(LEN(X11)=0,"",SUMIF($H$6:$H$305,X11,$J$6:$J$305)),"") | AA11: {=IFERROR(IF(LEN(K11)=0,"",INDEX(K$6:K$305,MATCH(0,COUNTIF(AA$5:AA10,K$6:K$305),0))),"")} | AB11: =IFERROR(IF(LEN(AA11)=0,0,1),0) -> 0 | AC11: =IFERROR(IF(LEN(AA11)=0,"",SUMIF($K$6:$K$305,AA11,$M$6:$M$305)),"")
B12: =IFERROR(IF(LEN(B$5)=0,"",IF(LEN(INDEX(_xlnm.Database,ROW($C12)-ROW($C$4),MATCH(B$5,RawData_Headers,0)))=0,"",INDEX(_xlnm.Database,ROW($C12)-ROW($C$4),MATCH(B$5,RawData_Headers,0)))),"") -> Mark Gündelberg | C12: =IFERROR(IF(LEN(B12)=0,0,1),0) -> 1 | D12: =IFERROR(IF(C12=0,0,1),0) -> 1 | E12: =IFERROR(IF(LEN(E$5)=0,"",IF(LEN(INDEX(_xlnm.Database,ROW($F12)-ROW($F$4),MATCH(E$5,RawData_Headers,0)))=0,"",INDEX(_xlnm.Database,ROW($F12)-ROW($F$4),MATCH(E$5,RawData_Headers,0)))),"") -> John Doe | F12: =IFERROR(IF(LEN(E12)=0,0,1),0) -> 1 | G12: =IFERROR(IF(LEN(E12)=0,0,1),0) -> 1 | H12: =IFERROR(IF(LEN(H$5)=0,"",IF(LEN(INDEX(_xlnm.Database,ROW($I12)-ROW($I$4),MATCH(H$5,RawData_Headers,0)))=0,"",INDEX(_xlnm.Database,ROW($I12)-ROW($I$4),MATCH(H$5,RawData_Headers,0)))),"") -> Protective | I12: =IFERROR(IF(LEN(H12)=0,0,1),0) -> 1 | J12: =IFERROR(IF(I12=0,0,1),0) -> 1 | K12: =IFERROR(IF(LEN(K$5)=0,"",IF(LEN(INDEX(_xlnm.Database,ROW($L12)-ROW($L$4),MATCH(K$5,RawData_Headers,0)))=0,"",INDEX(_xlnm.Database,ROW($L12)-ROW($L$4),MATCH(K$5,RawData_Headers,0)))),"") -> Lack of Design | L12: =IFERROR(IF(LEN(K12)=0,0,1),0) -> 1 | M12: =IFERROR(IF(L12=0,0,1),0) -> 1 | O12: 7 | P12: Jul | R12: {=IFERROR(IF(LEN(B12)=0,"",INDEX(B$6:B$305,MATCH(0,COUNTIF(R$5:R11,B$6:B$305),0))),"")} | S12: =IFERROR(IF(LEN(R12)=0,0,1),0) -> 0 | T12: =IFERROR(IF(LEN(R12)=0,"",SUMIF($B$6:$B$305,R12,$D$6:$D$305)),"") | U12: {=IFERROR(IF(LEN(E12)=0,"",INDEX(E$6:E$305,MATCH(0,COUNTIF(U$5:U11,E$6:E$305),0))),"")} | V12: =IFERROR(IF(LEN(U12)=0,0,1),0) -> 0 | W12: =IFERROR(IF(LEN(U12)=0,"",SUMIF($E$6:$E$305,U12,$G$6:$G$305)),"") | X12: {=IFERROR(IF(LEN(H12)=0,"",INDEX(H$6:H$305,MATCH(0,COUNTIF(X$5:X11,H$6:H$305),0))),"")} | Y12: =IFERROR(IF(LEN(X12)=0,0,1),0) -> 0 | Z12: =IFERROR(IF(LEN(X12)=0,"",SUMIF($H$6:$H$305,X12,$J$6:$J$305)),"") | AA12: {=IFERROR(IF(LEN(K12)=0,"",INDEX(K$6:K$305,MATCH(0,COUNTIF(AA$5:AA11,K$6:K$305),0))),"")} | AB12: =IFERROR(IF(LEN(AA12)=0,0,1),0) -> 0 | AC12: =IFERROR(IF(LEN(AA12)=0,"",SUMIF($K$6:$K$305,AA12,$M$6:$M$305)),"")
B13: =IFERROR(IF(LEN(B$5)=0,"",IF(LEN(INDEX(_xlnm.Database,ROW($C13)-ROW($C$4),MATCH(B$5,RawData_Headers,0)))=0,"",INDEX(_xlnm.Database,ROW($C13)-ROW($C$4),MATCH(B$5,RawData_Headers,0)))),"") -> Mark Gündelberg | C13: =IFERROR(IF(LEN(B13)=0,0,1),0) -> 1 | D13: =IFERROR(IF(C13=0,0,1),0) -> 1 | E13: =IFERROR(IF(LEN(E$5)=0,"",IF(LEN(INDEX(_xlnm.Database,ROW($F13)-ROW($F$4),MATCH(E$5,RawData_Headers,0)))=0,"",INDEX(_xlnm.Database,ROW($F13)-ROW($F$4),MATCH(E$5,RawData_Headers,0)))),"") -> Adam Smith | F13: =IFERROR(IF(LEN(E13)=0,0,1),0) -> 1 | G13: =IFERROR(IF(LEN(E13)=0,0,1),0) -> 1 | H13: =IFERROR(IF(LEN(H$5)=0,"",IF(LEN(INDEX(_xlnm.Database,ROW($I13)-ROW($I$4),MATCH(H$5,RawData_Headers,0)))=0,"",INDEX(_xlnm.Database,ROW($I13)-ROW($I$4),MATCH(H$5,RawData_Headers,0)))),"") -> Protective | I13: =IFERROR(IF(LEN(H13)=0,0,1),0) -> 1 | J13: =IFERROR(IF(I13=0,0,1),0) -> 1 | K13: =IFERROR(IF(LEN(K$5)=0,"",IF(LEN(INDEX(_xlnm.Database,ROW($L13)-ROW($L$4),MATCH(K$5,RawData_Headers,0)))=0,"",INDEX(_xlnm.Database,ROW($L13)-ROW($L$4),MATCH(K$5,RawData_Headers,0)))),"") -> Lack of Management | L13: =IFERROR(IF(LEN(K13)=0,0,1),0) -> 1 | M13: =IFERROR(IF(L13=0,0,1),0) -> 1 | O13: 8 | P13: Aug | R13: {=IFERROR(IF(LEN(B13)=0,"",INDEX(B$6:B$305,MATCH(0,COUNTIF(R$5:R12,B$6:B$305),0))),"")} | S13: =IFERROR(IF(LEN(R13)=0,0,1),0) -> 0 | T13: =IFERROR(IF(LEN(R13)=0,"",SUMIF($B$6:$B$305,R13,$D$6:$D$305)),"") | U13: {=IFERROR(IF(LEN(E13)=0,"",INDEX(E$6:E$305,MATCH(0,COUNTIF(U$5:U12,E$6:E$305),0))),"")} | V13: =IFERROR(IF(LEN(U13)=0,0,1),0) -> 0 | W13: =IFERROR(IF(LEN(U13)=0,"",SUMIF($E$6:$E$305,U13,$G$6:$G$305)),"") | X13: {=IFERROR(IF(LEN(H13)=0,"",INDEX(H$6:H$305,MATCH(0,COUNTIF(X$5:X12,H$6:H$305),0))),"")} | Y13: =IFERROR(IF(LEN(X13)=0,0,1),0) -> 0 | Z13: =IFERROR(IF(LEN(X13)=0,"",SUMIF($H$6:$H$305,X13,$J$6:$J$305)),"") | AA13: {=IFERROR(IF(LEN(K13)=0,"",INDEX(K$6:K$305,MATCH(0,COUNTIF(AA$5:AA12,K$6:K$305),0))),"")} | AB13: =IFERROR(IF(LEN(AA13)=0,0,1),0) -> 0 | AC13: =IFERROR(IF(LEN(AA13)=0,"",SUMIF($K$6:$K$305,AA13,$M$6:$M$305)),"")
B14: =IFERROR(IF(LEN(B$5)=0,"",IF(LEN(INDEX(_xlnm.Database,ROW($C14)-ROW($C$4),MATCH(B$5,RawData_Headers,0)))=0,"",INDEX(_xlnm.Database,ROW($C14)-ROW($C$4),MATCH(B$5,RawData_Headers,0)))),"") | C14: =IFERROR(IF(LEN(B14)=0,0,1),0) -> 0 | D14: =IFERROR(IF(C14=0,0,1),0) -> 0 | E14: =IFERROR(IF(LEN(E$5)=0,"",IF(LEN(INDEX(_xlnm.Database,ROW($F14)-ROW($F$4),MATCH(E$5,RawData_Headers,0)))=0,"",INDEX(_xlnm.Database,ROW($F14)-ROW($F$4),MATCH(E$5,RawData_Headers,0)))),"") | F14: =IFERROR(IF(LEN(E14)=0,0,1),0) -> 0 | G14: =IFERROR(IF(LEN(E14)=0,0,1),0) -> 0 | H14: =IFERROR(IF(LEN(H$5)=0,"",IF(LEN(INDEX(_xlnm.Database,ROW($I14)-ROW($I$4),MATCH(H$5,RawData_Headers,0)))=0,"",INDEX(_xlnm.Database,ROW($I14)-ROW($I$4),MATCH(H$5,RawData_Headers,0)))),"") | I14: =IFERROR(IF(LEN(H14)=0,0,1),0) -> 0 | J14: =IFERROR(IF(I14=0,0,1),0) -> 0 | K14: =IFERROR(IF(LEN(K$5)=0,"",IF(LEN(INDEX(_xlnm.Database,ROW($L14)-ROW($L$4),MATCH(K$5,RawData_Headers,0)))=0,"",INDEX(_xlnm.Database,ROW($L14)-ROW($L$4),MATCH(K$5,RawData_Headers,0)))),"") | L14: =IFERROR(IF(LEN(K14)=0,0,1),0) -> 0 | M14: =IFERROR(IF(L14=0,0,1),0) -> 0 | O14: 9 | P14: Sep | R14: {=IFERROR(IF(LEN(B14)=0,"",INDEX(B$6:B$305,MATCH(0,COUNTIF(R$5:R13,B$6:B$305),0))),"")} | S14: =IFERROR(IF(LEN(R14)=0,0,1),0) -> 0 | T14: =IFERROR(IF(LEN(R14)=0,"",SUMIF($B$6:$B$305,R14,$D$6:$D$305)),"") | U14: {=IFERROR(IF(LEN(E14)=0,"",INDEX(E$6:E$305,MATCH(0,COUNTIF(U$5:U13,E$6:E$305),0))),"")} | V14: =IFERROR(IF(LEN(U14)=0,0,1),0) -> 0 | W14: =IFERROR(IF(LEN(U14)=0,"",SUMIF($E$6:$E$305,U14,$G$6:$G$305)),"") | X14: {=IFERROR(IF(LEN(H14)=0,"",INDEX(H$6:H$305,MATCH(0,COUNTIF(X$5:X13,H$6:H$305),0))),"")} | Y14: =IFERROR(IF(LEN(X14)=0,0,1),0) -> 0 | Z14: =IFERROR(IF(LEN(X14)=0,"",SUMIF($H$6:$H$305,X14,$J$6:$J$305)),"") | AA14: {=IFERROR(IF(LEN(K14)=0,"",INDEX(K$6:K$305,MATCH(0,COUNTIF(AA$5:AA13,K$6:K$305),0))),"")} | AB14: =IFERROR(IF(LEN(AA14)=0,0,1),0) -> 0 | AC14: =IFERROR(IF(LEN(AA14)=0,"",SUMIF($K$6:$K$305,AA14,$M$6:$M$305)),"")
B15: =IFERROR(IF(LEN(B$5)=0,"",IF(LEN(INDEX(_xlnm.Database,ROW($C15)-ROW($C$4),MATCH(B$5,RawData_Headers,0)))=0,"",INDEX(_xlnm.Database,ROW($C15)-ROW($C$4),MATCH(B$5,RawData_Headers,0)))),"") | C15: =IFERROR(IF(LEN(B15)=0,0,1),0) -> 0 | D15: =IFERROR(IF(C15=0,0,1),0) -> 0 | E15: =IFERROR(IF(LEN(E$5)=0,"",IF(LEN(INDEX(_xlnm.Database,ROW($F15)-ROW($F$4),MATCH(E$5,RawData_Headers,0)))=0,"",INDEX(_xlnm.Database,ROW($F15)-ROW($F$4),MATCH(E$5,RawData_Headers,0)))),"") | F15: =IFERROR(IF(LEN(E15)=0,0,1),0) -> 0 | G15: =IFERROR(IF(LEN(E15)=0,0,1),0) -> 0 | H15: =IFERROR(IF(LEN(H$5)=0,"",IF(LEN(INDEX(_xlnm.Database,ROW($I15)-ROW($I$4),MATCH(H$5,RawData_Headers,0)))=0,"",INDEX(_xlnm.Database,ROW($I15)-ROW($I$4),MATCH(H$5,RawData_Headers,0)))),"") | I15: =IFERROR(IF(LEN(H15)=0,0,1),0) -> 0 | J15: =IFERROR(IF(I15=0,0,1),0) -> 0 | K15: =IFERROR(IF(LEN(K$5)=0,"",IF(LEN(INDEX(_xlnm.Database,ROW($L15)-ROW($L$4),MATCH(K$5,RawData_Headers,0)))=0,"",INDEX(_xlnm.Database,ROW($L15)-ROW($L$4),MATCH(K$5,RawData_Headers,0)))),"") | L15: =IFERROR(IF(LEN(K15)=0,0,1),0) -> 0 | M15: =IFERROR(IF(L15=0,0,1),0) -> 0 | O15: 10 | P15: Oct | R15: {=IFERROR(IF(LEN(B15)=0,"",INDEX(B$6:B$305,MATCH(0,COUNTIF(R$5:R14,B$6:B$305),0))),"")} | S15: =IFERROR(IF(LEN(R15)=0,0,1),0) -> 0 | T15: =IFERROR(IF(LEN(R15)=0,"",SUMIF($B$6:$B$305,R15,$D$6:$D$305)),"") | U15: {=IFERROR(IF(LEN(E15)=0,"",INDEX(E$6:E$305,MATCH(0,COUNTIF(U$5:U14,E$6:E$305),0))),"")} | V15: =IFERROR(IF(LEN(U15)=0,0,1),0) -> 0 | W15: =IFERROR(IF(LEN(U15)=0,"",SUMIF($E$6:$E$305,U15,$G$6:$G$305)),"") | X15: {=IFERROR(IF(LEN(H15)=0,"",INDEX(H$6:H$305,MATCH(0,COUNTIF(X$5:X14,H$6:H$305),0))),"")} | Y15: =IFERROR(IF(LEN(X15)=0,0,1),0) -> 0 | Z15: =IFERROR(IF(LEN(X15)=0,"",SUMIF($H$6:$H$305,X15,$J$6:$J$305)),"") | AA15: {=IFERROR(IF(LEN(K15)=0,"",INDEX(K$6:K$305,MATCH(0,COUNTIF(AA$5:AA14,K$6:K$305),0))),"")} | AB15: =IFERROR(IF(LEN(AA15)=0,0,1),0) -> 0 | AC15: =IFERROR(IF(LEN(AA15)=0,"",SUMIF($K$6:$K$305,AA15,$M$6:$M$305)),"")
B16: =IFERROR(IF(LEN(B$5)=0,"",IF(LEN(INDEX(_xlnm.Database,ROW($C16)-ROW($C$4),MATCH(B$5,RawData_Headers,0)))=0,"",INDEX(_xlnm.Database,ROW($C16)-ROW($C$4),MATCH(B$5,RawData_Headers,0)))),"") | C16: =IFERROR(IF(LEN(B16)=0,0,1),0) -> 0 | D16: =IFERROR(IF(C16=0,0,1),0) -> 0 | E16: =IFERROR(IF(LEN(E$5)=0,"",IF(LEN(INDEX(_xlnm.Database,ROW($F16)-ROW($F$4),MATCH(E$5,RawData_Headers,0)))=0,"",INDEX(_xlnm.Database,ROW($F16)-ROW($F$4),MATCH(E$5,RawData_Headers,0)))),"") | F16: =IFERROR(IF(LEN(E16)=0,0,1),0) -> 0 | G16: =IFERROR(IF(LEN(E16)=0,0,1),0) -> 0 | H16: =IFERROR(IF(LEN(H$5)=0,"",IF(LEN(INDEX(_xlnm.Database,ROW($I16)-ROW($I$4),MATCH(H$5,RawData_Headers,0)))=0,"",INDEX(_xlnm.Database,ROW($I16)-ROW($I$4),MATCH(H$5,RawData_Headers,0)))),"") | I16: =IFERROR(IF(LEN(H16)=0,0,1),0) -> 0 | J16: =IFERROR(IF(I16=0,0,1),0) -> 0 | K16: =IFERROR(IF(LEN(K$5)=0,"",IF(LEN(INDEX(_xlnm.Database,ROW($L16)-ROW($L$4),MATCH(K$5,RawData_Headers,0)))=0,"",INDEX(_xlnm.Database,ROW($L16)-ROW($L$4),MATCH(K$5,RawData_Headers,0)))),"") | L16: =IFERROR(IF(LEN(K16)=0,0,1),0) -> 0 | M16: =IFERROR(IF(L16=0,0,1),0) -> 0 | O16: 11 | P16: Nov | R16: {=IFERROR(IF(LEN(B16)=0,"",INDEX(B$6:B$305,MATCH(0,COUNTIF(R$5:R15,B$6:B$305),0))),"")} | S16: =IFERROR(IF(LEN(R16)=0,0,1),0) -> 0 | T16: =IFERROR(IF(LEN(R16)=0,"",SUMIF($B$6:$B$305,R16,$D$6:$D$305)),"") | U16: {=IFERROR(IF(LEN(E16)=0,"",INDEX(E$6:E$305,MATCH(0,COUNTIF(U$5:U15,E$6:E$305),0))),"")} | V16: =IFERROR(IF(LEN(U16)=0,0,1),0) -> 0 | W16: =IFERROR(IF(LEN(U16)=0,"",SUMIF($E$6:$E$305,U16,$G$6:$G$305)),"") | X16: {=IFERROR(IF(LEN(H16)=0,"",INDEX(H$6:H$305,MATCH(0,COUNTIF(X$5:X15,H$6:H$305),0))),"")} | Y16: =IFERROR(IF(LEN(X16)=0,0,1),0) -> 0 | Z16: =IFERROR(IF(LEN(X16)=0,"",SUMIF($H$6:$H$305,X16,$J$6:$J$305)),"") | AA16: {=IFERROR(IF(LEN(K16)=0,"",INDEX(K$6:K$305,MATCH(0,COUNTIF(AA$5:AA15,K$6:K$305),0))),"")} | AB16: =IFERROR(IF(LEN(AA16)=0,0,1),0) -> 0 | AC16: =IFERROR(IF(LEN(AA16)=0,"",SUMIF($K$6:$K$305,AA16,$M$6:$M$305)),"")
B17: =IFERROR(IF(LEN(B$5)=0,"",IF(LEN(INDEX(_xlnm.Database,ROW($C17)-ROW($C$4),MATCH(B$5,RawData_Headers,0)))=0,"",INDEX(_xlnm.Database,ROW($C17)-ROW($C$4),MATCH(B$5,RawData_Headers,0)))),"") | C17: =IFERROR(IF(LEN(B17)=0,0,1),0) -> 0 | D17: =IFERROR(IF(C17=0,0,1),0) -> 0 | E17: =IFERROR(IF(LEN(E$5)=0,"",IF(LEN(INDEX(_xlnm.Database,ROW($F17)-ROW($F$4),MATCH(E$5,RawData_Headers,0)))=0,"",INDEX(_xlnm.Database,ROW($F17)-ROW($F$4),MATCH(E$5,RawData_Headers,0)))),"") | F17: =IFERROR(IF(LEN(E17)=0,0,1),0) -> 0 | G17: =IFERROR(IF(LEN(E17)=0,0,1),0) -> 0 | H17: =IFERROR(IF(LEN(H$5)=0,"",IF(LEN(INDEX(_xlnm.Database,ROW($I17)-ROW($I$4),MATCH(H$5,RawData_Headers,0)))=0,"",INDEX(_xlnm.Database,ROW($I17)-ROW($I$4),MATCH(H$5,RawData_Headers,0)))),"") | I17: =IFERROR(IF(LEN(H17)=0,0,1),0) -> 0 | J17: =IFERROR(IF(I17=0,0,1),0) -> 0 | K17: =IFERROR(IF(LEN(K$5)=0,"",IF(LEN(INDEX(_xlnm.Database,ROW($L17)-ROW($L$4),MATCH(K$5,RawData_Headers,0)))=0,"",INDEX(_xlnm.Database,ROW($L17)-ROW($L$4),MATCH(K$5,RawData_Headers,0)))),"") | L17: =IFERROR(IF(LEN(K17)=0,0,1),0) -> 0 | M17: =IFERROR(IF(L17=0,0,1),0) -> 0 | O17: 12 | P17: Dec | R17: {=IFERROR(IF(LEN(B17)=0,"",INDEX(B$6:B$305,MATCH(0,COUNTIF(R$5:R16,B$6:B$305),0))),"")} | S17: =IFERROR(IF(LEN(R17)=0,0,1),0) -> 0 | T17: =IFERROR(IF(LEN(R17)=0,"",SUMIF($B$6:$B$305,R17,$D$6:$D$305)),"") | U17: {=IFERROR(IF(LEN(E17)=0,"",INDEX(E$6:E$305,MATCH(0,COUNTIF(U$5:U16,E$6:E$305),0))),"")} | V17: =IFERROR(IF(LEN(U17)=0,0,1),0) -> 0 | W17: =IFERROR(IF(LEN(U17)=0,"",SUMIF($E$6:$E$305,U17,$G$6:$G$305)),"") | X17: {=IFERROR(IF(LEN(H17)=0,"",INDEX(H$6:H$305,MATCH(0,COUNTIF(X$5:X16,H$6:H$305),0))),"")} | Y17: =IFERROR(IF(LEN(X17)=0,0,1),0) -> 0 | Z17: =IFERROR(IF(LEN(X17)=0,"",SUMIF($H$6:$H$305,X17,$J$6:$J$305)),"") | AA17: {=IFERROR(IF(LEN(K17)=0,"",INDEX(K$6:K$305,MATCH(0,COUNTIF(AA$5:AA16,K$6:K$305),0))),"")} | AB17: =IFERROR(IF(LEN(AA17)=0,0,1),0) -> 0 | AC17: =IFERROR(IF(LEN(AA17)=0,"",SUMIF($K$6:$K$305,AA17,$M$6:$M$305)),"")
B18: =IFERROR(IF(LEN(B$5)=0,"",IF(LEN(INDEX(_xlnm.Database,ROW($C18)-ROW($C$4),MATCH(B$5,RawData_Headers,0)))=0,"",INDEX(_xlnm.Database,ROW($C18)-ROW($C$4),MATCH(B$5,RawData_Headers,0)))),"") | C18: =IFERROR(IF(LEN(B18)=0,0,1),0) -> 0 | D18: =IFERROR(IF(C18=0,0,1),0) -> 0 | E18: =IFERROR(IF(LEN(E$5)=0,"",IF(LEN(INDEX(_xlnm.Database,ROW($F18)-ROW($F$4),MATCH(E$5,RawData_Headers,0)))=0,"",INDEX(_xlnm.Database,ROW($F18)-ROW($F$4),MATCH(E$5,RawData_Headers,0)))),"") | F18: =IFERROR(IF(LEN(E18)=0,0,1),0) -> 0 | G18: =IFERROR(IF(LEN(E18)=0,0,1),0) -> 0 | H18: =IFERROR(IF(LEN(H$5)=0,"",IF(LEN(INDEX(_xlnm.Database,ROW($I18)-ROW($I$4),MATCH(H$5,RawData_Headers,0)))=0,"",INDEX(_xlnm.Database,ROW($I18)-ROW($I$4),MATCH(H$5,RawData_Headers,0)))),"") | I18: =IFERROR(IF(LEN(H18)=0,0,1),0) -> 0 | J18: =IFERROR(IF(I18=0,0,1),0) -> 0 | K18: =IFERROR(IF(LEN(K$5)=0,"",IF(LEN(INDEX(_xlnm.Database,ROW($L18)-ROW($L$4),MATCH(K$5,RawData_Headers,0)))=0,"",INDEX(_xlnm.Database,ROW($L18)-ROW($L$4),MATCH(K$5,RawData_Headers,0)))),"") | L18: =IFERROR(IF(LEN(K18)=0,0,1),0) -> 0 | M18: =IFERROR(IF(L18=0,0,1),0) -> 0 | R18: {=IFERROR(IF(LEN(B18)=0,"",INDEX(B$6:B$305,MATCH(0,COUNTIF(R$5:R17,B$6:B$305),0))),"")} | S18: =IFERROR(IF(LEN(R18)=0,0,1),0) -> 0 | T18: =IFERROR(IF(LEN(R18)=0,"",SUMIF($B$6:$B$305,R18,$D$6:$D$305)),"") | U18: {=IFERROR(IF(LEN(E18)=0,"",INDEX(E$6:E$305,MATCH(0,COUNTIF(U$5:U17,E$6:E$305),0))),"")} | V18: =IFERROR(IF(LEN(U18)=0,0,1),0) -> 0 | W18: =IFERROR(IF(LEN(U18)=0,"",SUMIF($E$6:$E$305,U18,$G$6:$G$305)),"") | X18: {=IFERROR(IF(LEN(H18)=0,"",INDEX(H$6:H$305,MATCH(0,COUNTIF(X$5:X17,H$6:H$305),0))),"")} | Y18: =IFERROR(IF(LEN(X18)=0,0,1),0) -> 0 | Z18: =IFERROR(IF(LEN(X18)=0,"",SUMIF($H$6:$H$305,X18,$J$6:$J$305)),"") | AA18: {=IFERROR(IF(LEN(K18)=0,"",INDEX(K$6:K$305,MATCH(0,COUNTIF(AA$5:AA17,K$6:K$305),0))),"")} | AB18: =IFERROR(IF(LEN(AA18)=0,0,1),0) -> 0 | AC18: =IFERROR(IF(LEN(AA18)=0,"",SUMIF($K$6:$K$305,AA18,$M$6:$M$305)),"")
B19: =IFERROR(IF(LEN(B$5)=0,"",IF(LEN(INDEX(_xlnm.Database,ROW($C19)-ROW($C$4),MATCH(B$5,RawData_Headers,0)))=0,"",INDEX(_xlnm.Database,ROW($C19)-ROW($C$4),MATCH(B$5,RawData_Headers,0)))),"") | C19: =IFERROR(IF(LEN(B19)=0,0,1),0) -> 0 | D19: =IFERROR(IF(C19=0,0,1),0) -> 0 | E19: =IFERROR(IF(LEN(E$5)=0,"",IF(LEN(INDEX(_xlnm.Database,ROW($F19)-ROW($F$4),MATCH(E$5,RawData_Headers,0)))=0,"",INDEX(_xlnm.Database,ROW($F19)-ROW($F$4),MATCH(E$5,RawData_Headers,0)))),"") | F19: =IFERROR(IF(LEN(E19)=0,0,1),0) -> 0 | G19: =IFERROR(IF(LEN(E19)=0,0,1),0) -> 0 | H19: =IFERROR(IF(LEN(H$5)=0,"",IF(LEN(INDEX(_xlnm.Database,ROW($I19)-ROW($I$4),MATCH(H$5,RawData_Headers,0)))=0,"",INDEX(_xlnm.Database,ROW($I19)-ROW($I$4),MATCH(H$5,RawData_Headers,0)))),"") | I19: =IFERROR(IF(LEN(H19)=0,0,1),0) -> 0 | J19: =IFERROR(IF(I19=0,0,1),0) -> 0 | K19: =IFERROR(IF(LEN(K$5)=0,"",IF(LEN(INDEX(_xlnm.Database,ROW($L19)-ROW($L$4),MATCH(K$5,RawData_Headers,0)))=0,"",INDEX(_xlnm.Database,ROW($L19)-ROW($L$4),MATCH(K$5,RawData_Headers,0)))),"") | L19: =IFERROR(IF(LEN(K19)=0,0,1),0) -> 0 | M19: =IFERROR(IF(L19=0,0,1),0) -> 0 | R19: {=IFERROR(IF(LEN(B19)=0,"",INDEX(B$6:B$305,MATCH(0,COUNTIF(R$5:R18,B$6:B$305),0))),"")} | S19: =IFERROR(IF(LEN(R19)=0,0,1),0) -> 0 | T19: =IFERROR(IF(LEN(R19)=0,"",SUMIF($B$6:$B$305,R19,$D$6:$D$305)),"") | U19: {=IFERROR(IF(LEN(E19)=0,"",INDEX(E$6:E$305,MATCH(0,COUNTIF(U$5:U18,E$6:E$305),0))),"")} | V19: =IFERROR(IF(LEN(U19)=0,0,1),0) -> 0 | W19: =IFERROR(IF(LEN(U19)=0,"",SUMIF($E$6:$E$305,U19,$G$6:$G$305)),"") | X19: {=IFERROR(IF(LEN(H19)=0,"",INDEX(H$6:H$305,MATCH(0,COUNTIF(X$5:X18,H$6:H$305),0))),"")} | Y19: =IFERROR(IF(LEN(X19)=0,0,1),0) -> 0 | Z19: =IFERROR(IF(LEN(X19)=0,"",SUMIF($H$6:$H$305,X19,$J$6:$J$305)),"") | AA19: {=IFERROR(IF(LEN(K19)=0,"",INDEX(K$6:K$305,MATCH(0,COUNTIF(AA$5:AA18,K$6:K$305),0))),"")} | AB19: =IFERROR(IF(LEN(AA19)=0,0,1),0) -> 0 | AC19: =IFERROR(IF(LEN(AA19)=0,"",SUMIF($K$6:$K$305,AA19,$M$6:$M$305)),"")
B20: =IFERROR(IF(LEN(B$5)=0,"",IF(LEN(INDEX(_xlnm.Database,ROW($C20)-ROW($C$4),MATCH(B$5,RawData_Headers,0)))=0,"",INDEX(_xlnm.Database,ROW($C20)-ROW($C$4),MATCH(B$5,RawData_Headers,0)))),"") | C20: =IFERROR(IF(LEN(B20)=0,0,1),0) -> 0 | D20: =IFERROR(IF(C20=0,0,1),0) -> 0 | E20: =IFERROR(IF(LEN(E$5)=0,"",IF(LEN(INDEX(_xlnm.Database,ROW($F20)-ROW($F$4),MATCH(E$5,RawData_Headers,0)))=0,"",INDEX(_xlnm.Database,ROW($F20)-ROW($F$4),MATCH(E$5,RawData_Headers,0)))),"") | F20: =IFERROR(IF(LEN(E20)=0,0,1),0) -> 0 | G20: =IFERROR(IF(LEN(E20)=0,0,1),0) -> 0 | H20: =IFERROR(IF(LEN(H$5)=0,"",IF(LEN(INDEX(_xlnm.Database,ROW($I20)-ROW($I$4),MATCH(H$5,RawData_Headers,0)))=0,"",INDEX(_xlnm.Database,ROW($I20)-ROW($I$4),MATCH(H$5,RawData_Headers,0)))),"") | I20: =IFERROR(IF(LEN(H20)=0,0,1),0) -> 0 | J20: =IFERROR(IF(I20=0,0,1),0) -> 0 | K20: =IFERROR(IF(LEN(K$5)=0,"",IF(LEN(INDEX(_xlnm.Database,ROW($L20)-ROW($L$4),MATCH(K$5,RawData_Headers,0)))=0,"",INDEX(_xlnm.Database,ROW($L20)-ROW($L$4),MATCH(K$5,RawData_Headers,0)))),"") | L20: =IFERROR(IF(LEN(K20)=0,0,1),0) -> 0 | M20: =IFERROR(IF(L20=0,0,1),0) -> 0 | O20: 1st Chart Height | P20: =IFERROR(D306,0) -> 8 | R20: {=IFERROR(IF(LEN(B20)=0,"",INDEX(B$6:B$305,MATCH(0,COUNTIF(R$5:R19,B$6:B$305),0))),"")} | S20: =IFERROR(IF(LEN(R20)=0,0,1),0) -> 0 | T20: =IFERROR(IF(LEN(R20)=0,"",SUMIF($B$6:$B$305,R20,$D$6:$D$305)),"") | U20: {=IFERROR(IF(LEN(E20)=0,"",INDEX(E$6:E$305,MATCH(0,COUNTIF(U$5:U19,E$6:E$305),0))),"")} | V20: =IFERROR(IF(LEN(U20)=0,0,1),0) -> 0 | W20: =IFERROR(IF(LEN(U20)=0,"",SUMIF($E$6:$E$305,U20,$G$6:$G$305)),"") | X20: {=IFERROR(IF(LEN(H20)=0,"",INDEX(H$6:H$305,MATCH(0,COUNTIF(X$5:X19,H$6:H$305),0))),"")} | Y20: =IFERROR(IF(LEN(X20)=0,0,1),0) -> 0 | Z20: =IFERROR(IF(LEN(X20)=0,"",SUMIF($H$6:$H$305,X20,$J$6:$J$305)),"") | AA20: {=IFERROR(IF(LEN(K20)=0,"",INDEX(K$6:K$305,MATCH(0,COUNTIF(AA$5:AA19,K$6:K$305),0))),"")} | AB20: =IFERROR(IF(LEN(AA20)=0,0,1),0) -> 0 | AC20: =IFERROR(IF(LEN(AA20)=0,"",SUMIF($K$6:$K$305,AA20,$M$6:$M$305)),"")
B21: =IFERROR(IF(LEN(B$5)=0,"",IF(LEN(INDEX(_xlnm.Database,ROW($C21)-ROW($C$4),MATCH(B$5,RawData_Headers,0)))=0,"",INDEX(_xlnm.Database,ROW($C21)-ROW($C$4),MATCH(B$5,RawData_Headers,0)))),"") | C21: =IFERROR(IF(LEN(B21)=0,0,1),0) -> 0 | D21: =IFERROR(IF(C21=0,0,1),0) -> 0 | E21: =IFERROR(IF(LEN(E$5)=0,"",IF(LEN(INDEX(_xlnm.Database,ROW($F21)-ROW($F$4),MATCH(E$5,RawData_Headers,0)))=0,"",INDEX(_xlnm.Database,ROW($F21)-ROW($F$4),MATCH(E$5,RawData_Headers,0)))),"") | F21: =IFERROR(IF(LEN(E21)=0,0,1),0) -> 0 | G21: =IFERROR(IF(LEN(E21)=0,0,1),0) -> 0 | H21: =IFERROR(IF(LEN(H$5)=0,"",IF(LEN(INDEX(_xlnm.Database,ROW($I21)-ROW($I$4),MATCH(H$5,RawData_Headers,0)))=0,"",INDEX(_xlnm.Database,ROW($I21)-ROW($I$4),MATCH(H$5,RawData_Headers,0)))),"") | I21: =IFERROR(IF(LEN(H21)=0,0,1),0) -> 0 | J21: =IFERROR(IF(I21=0,0,1),0) -> 0 | K21: =IFERROR(IF(LEN(K$5)=0,"",IF(LEN(INDEX(_xlnm.Database,ROW($L21)-ROW($L$4),MATCH(K$5,RawData_Headers,0)))=0,"",INDEX(_xlnm.Database,ROW($L21)-ROW($L$4),MATCH(K$5,RawData_Headers,0)))),"") | L21: =IFERROR(IF(LEN(K21)=0,0,1),0) -> 0 | M21: =IFERROR(IF(L21=0,0,1),0) -> 0 | O21: 2nd Chart Height | P21: =IFERROR(G306,0) -> 8 | R21: {=IFERROR(IF(LEN(B21)=0,"",INDEX(B$6:B$305,MATCH(0,COUNTIF(R$5:R20,B$6:B$305),0))),"")} | S21: =IFERROR(IF(LEN(R21)=0,0,1),0) -> 0 | T21: =IFERROR(IF(LEN(R21)=0,"",SUMIF($B$6:$B$305,R21,$D$6:$D$305)),"") | U21: {=IFERROR(IF(LEN(E21)=0,"",INDEX(E$6:E$305,MATCH(0,COUNTIF(U$5:U20,E$6:E$305),0))),"")} | V21: =IFERROR(IF(LEN(U21)=0,0,1),0) -> 0 | W21: =IFERROR(IF(LEN(U21)=0,"",SUMIF($E$6:$E$305,U21,$G$6:$G$305)),"") | X21: {=IFERROR(IF(LEN(H21)=0,"",INDEX(H$6:H$305,MATCH(0,COUNTIF(X$5:X20,H$6:H$305),0))),"")} | Y21: =IFERROR(IF(LEN(X21)=0,0,1),0) -> 0 | Z21: =IFERROR(IF(LEN(X21)=0,"",SUMIF($H$6:$H$305,X21,$J$6:$J$305)),"") | AA21: {=IFERROR(IF(LEN(K21)=0,"",INDEX(K$6:K$305,MATCH(0,COUNTIF(AA$5:AA20,K$6:K$305),0))),"")} | AB21: =IFERROR(IF(LEN(AA21)=0,0,1),0) -> 0 | AC21: =IFERROR(IF(LEN(AA21)=0,"",SUMIF($K$6:$K$305,AA21,$M$6:$M$305)),"")
B22: =IFERROR(IF(LEN(B$5)=0,"",IF(LEN(INDEX(_xlnm.Database,ROW($C22)-ROW($C$4),MATCH(B$5,RawData_Headers,0)))=0,"",INDEX(_xlnm.Database,ROW($C22)-ROW($C$4),MATCH(B$5,RawData_Headers,0)))),"") | C22: =IFERROR(IF(LEN(B22)=0,0,1),0) -> 0 | D22: =IFERROR(IF(C22=0,0,1),0) -> 0 | E22: =IFERROR(IF(LEN(E$5)=0,"",IF(LEN(INDEX(_xlnm.Database,ROW($F22)-ROW($F$4),MATCH(E$5,RawData_Headers,0)))=0,"",INDEX(_xlnm.Database,ROW($F22)-ROW($F$4),MATCH(E$5,RawData_Headers,0)))),"") | F22: =IFERROR(IF(LEN(E22)=0,0,1),0) -> 0 | G22: =IFERROR(IF(LEN(E22)=0,0,1),0) -> 0 | H22: =IFERROR(IF(LEN(H$5)=0,"",IF(LEN(INDEX(_xlnm.Database,ROW($I22)-ROW($I$4),MATCH(H$5,RawData_Headers,0)))=0,"",INDEX(_xlnm.Database,ROW($I22)-ROW($I$4),MATCH(H$5,RawData_Headers,0)))),"") | I22: =IFERROR(IF(LEN(H22)=0,0,1),0) -> 0 | J22: =IFERROR(IF(I22=0,0,1),0) -> 0 | K22: =IFERROR(IF(LEN(K$5)=0,"",IF(LEN(INDEX(_xlnm.Database,ROW($L22)-ROW($L$4),MATCH(K$5,RawData_Headers,0)))=0,"",INDEX(_xlnm.Database,ROW($L22)-ROW($L$4),MATCH(K$5,RawData_Headers,0)))),"") | L22: =IFERROR(IF(LEN(K22)=0,0,1),0) -> 0 | M22: =IFERROR(IF(L22=0,0,1),0) -> 0 | O22: 3rd Chart Height | P22: =IFERROR(J306,0) -> 8 | R22: {=IFERROR(IF(LEN(B22)=0,"",INDEX(B$6:B$305,MATCH(0,COUNTIF(R$5:R21,B$6:B$305),0))),"")} | S22: =IFERROR(IF(LEN(R22)=0,0,1),0) -> 0 | T22: =IFERROR(IF(LEN(R22)=0,"",SUMIF($B$6:$B$305,R22,$D$6:$D$305)),"") | U22: {=IFERROR(IF(LEN(E22)=0,"",INDEX(E$6:E$305,MATCH(0,COUNTIF(U$5:U21,E$6:E$305),0))),"")} | V22: =IFERROR(IF(LEN(U22)=0,0,1),0) -> 0 | W22: =IFERROR(IF(LEN(U22)=0,"",SUMIF($E$6:$E$305,U22,$G$6:$G$305)),"") | X22: {=IFERROR(IF(LEN(H22)=0,"",INDEX(H$6:H$305,MATCH(0,COUNTIF(X$5:X21,H$6:H$305),0))),"")} | Y22: =IFERROR(IF(LEN(X22)=0,0,1),0) -> 0 | Z22: =IFERROR(IF(LEN(X22)=0,"",SUMIF($H$6:$H$305,X22,$J$6:$J$305)),"") | AA22: {=IFERROR(IF(LEN(K22)=0,"",INDEX(K$6:K$305,MATCH(0,COUNTIF(AA$5:AA21,K$6:K$305),0))),"")} | AB22: =IFERROR(IF(LEN(AA22)=0,0,1),0) -> 0 | AC22: =IFERROR(IF(LEN(AA22)=0,"",SUMIF($K$6:$K$305,AA22,$M$6:$M$305)),"")
B23: =IFERROR(IF(LEN(B$5)=0,"",IF(LEN(INDEX(_xlnm.Database,ROW($C23)-ROW($C$4),MATCH(B$5,RawData_Headers,0)))=0,"",INDEX(_xlnm.Database,ROW($C23)-ROW($C$4),MATCH(B$5,RawData_Headers,0)))),"") | C23: =IFERROR(IF(LEN(B23)=0,0,1),0) -> 0 | D23: =IFERROR(IF(C23=0,0,1),0) -> 0 | E23: =IFERROR(IF(LEN(E$5)=0,"",IF(LEN(INDEX(_xlnm.Database,ROW($F23)-ROW($F$4),MATCH(E$5,RawData_Headers,0)))=0,"",INDEX(_xlnm.Database,ROW($F23)-ROW($F$4),MATCH(E$5,RawData_Headers,0)))),"") | F23: =IFERROR(IF(LEN(E23)=0,0,1),0) -> 0 | G23: =IFERROR(IF(LEN(E23)=0,0,1),0) -> 0 | H23: =IFERROR(IF(LEN(H$5)=0,"",IF(LEN(INDEX(_xlnm.Database,ROW($I23)-ROW($I$4),MATCH(H$5,RawData_Headers,0)))=0,"",INDEX(_xlnm.Database,ROW($I23)-ROW($I$4),MATCH(H$5,RawData_Headers,0)))),"") | I23: =IFERROR(IF(LEN(H23)=0,0,1),0) -> 0 | J23: =IFERROR(IF(I23=0,0,1),0) -> 0 | K23: =IFERROR(IF(LEN(K$5)=0,"",IF(LEN(INDEX(_xlnm.Database,ROW($L23)-ROW($L$4),MATCH(K$5,RawData_Headers,0)))=0,"",INDEX(_xlnm.Database,ROW($L23)-ROW($L$4),MATCH(K$5,RawData_Headers,0)))),"") | L23: =IFERROR(IF(LEN(K23)=0,0,1),0) -> 0 | M23: =IFERROR(IF(L23=0,0,1),0) -> 0 | O23: 4th Chart Height | P23: =IFERROR(M306,0) -> 8 | R23: {=IFERROR(IF(LEN(B23)=0,"",INDEX(B$6:B$305,MATCH(0,COUNTIF(R$5:R22,B$6:B$305),0))),"")} | S23: =IFERROR(IF(LEN(R23)=0,0,1),0) -> 0 | T23: =IFERROR(IF(LEN(R23)=0,"",SUMIF($B$6:$B$305,R23,$D$6:$D$305)),"") | U23: {=IFERROR(IF(LEN(E23)=0,"",INDEX(E$6:E$305,MATCH(0,COUNTIF(U$5:U22,E$6:E$305),0))),"")} | V23: =IFERROR(IF(LEN(U23)=0,0,1),0) -> 0 | W23: =IFERROR(IF(LEN(U23)=0,"",SUMIF($E$6:$E$305,U23,$G$6:$G$305)),"") | X23: {=IFERROR(IF(LEN(H23)=0,"",INDEX(H$6:H$305,MATCH(0,COUNTIF(X$5:X22,H$6:H$305),0))),"")} | Y23: =IFERROR(IF(LEN(X23)=0,0,1),0) -> 0 | Z23: =IFERROR(IF(LEN(X23)=0,"",SUMIF($H$6:$H$305,X23,$J$6:$J$305)),"") | AA23: {=IFERROR(IF(LEN(K23)=0,"",INDEX(K$6:K$305,MATCH(0,COUNTIF(AA$5:AA22,K$6:K$305),0))),"")} | AB23: =IFERROR(IF(LEN(AA23)=0,0,1),0) -> 0 | AC23: =IFERROR(IF(LEN(AA23)=0,"",SUMIF($K$6:$K$305,AA23,$M$6:$M$305)),"")
B24: =IFERROR(IF(LEN(B$5)=0,"",IF(LEN(INDEX(_xlnm.Database,ROW($C24)-ROW($C$4),MATCH(B$5,RawData_Headers,0)))=0,"",INDEX(_xlnm.Database,ROW($C24)-ROW($C$4),MATCH(B$5,RawData_Headers,0)))),"") | C24: =IFERROR(IF(LEN(B24)=0,0,1),0) -> 0 | D24: =IFERROR(IF(C24=0,0,1),0) -> 0 | E24: =IFERROR(IF(LEN(E$5)=0,"",IF(LEN(INDEX(_xlnm.Database,ROW($F24)-ROW($F$4),MATCH(E$5,RawData_Headers,0)))=0,"",INDEX(_xlnm.Database,ROW($F24)-ROW($F$4),MATCH(E$5,RawData_Headers,0)))),"") | F24: =IFERROR(IF(LEN(E24)=0,0,1),0) -> 0 | G24: =IFERROR(IF(LEN(E24)=0,0,1),0) -> 0 | H24: =IFERROR(IF(LEN(H$5)=0,"",IF(LEN(INDEX(_xlnm.Database,ROW($I24)-ROW($I$4),MATCH(H$5,RawData_Headers,0)))=0,"",INDEX(_xlnm.Database,ROW($I24)-ROW($I$4),MATCH(H$5,RawData_Headers,0)))),"") | I24: =IFERROR(IF(LEN(H24)=0,0,1),0) -> 0 | J24: =IFERROR(IF(I24=0,0,1),0) -> 0 | K24: =IFERROR(IF(LEN(K$5)=0,"",IF(LEN(INDEX(_xlnm.Database,ROW($L24)-ROW($L$4),MATCH(K$5,RawData_Headers,0)))=0,"",INDEX(_xlnm.Database,ROW($L24)-ROW($L$4),MATCH(K$5,RawData_Headers,0)))),"") | L24: =IFERROR(IF(LEN(K24)=0,0,1),0) -> 0 | M24: =IFERROR(IF(L24=0,0,1),0) -> 0 | R24: {=IFERROR(IF(LEN(B24)=0,"",INDEX(B$6:B$305,MATCH(0,COUNTIF(R$5:R23,B$6:B$305),0))),"")} | S24: =IFERROR(IF(LEN(R24)=0,0,1),0) -> 0 | T24: =IFERROR(IF(LEN(R24)=0,"",SUMIF($B$6:$B$305,R24,$D$6:$D$305)),"") | U24: {=IFERROR(IF(LEN(E24)=0,"",INDEX(E$6:E$305,MATCH(0,COUNTIF(U$5:U23,E$6:E$305),0))),"")} | V24: =IFERROR(IF(LEN(U24)=0,0,1),0) -> 0 | W24: =IFERROR(IF(LEN(U24)=0,"",SUMIF($E$6:$E$305,U24,$G$6:$G$305)),"") | X24: {=IFERROR(IF(LEN(H24)=0,"",INDEX(H$6:H$305,MATCH(0,COUNTIF(X$5:X23,H$6:H$305),0))),"")} | Y24: =IFERROR(IF(LEN(X24)=0,0,1),0) -> 0 | Z24: =IFERROR(IF(LEN(X24)=0,"",SUMIF($H$6:$H$305,X24,$J$6:$J$305)),"") | AA24: {=IFERROR(IF(LEN(K24)=0,"",INDEX(K$6:K$305,MATCH(0,COUNTIF(AA$5:AA23,K$6:K$305),0))),"")} | AB24: =IFERROR(IF(LEN(AA24)=0,0,1),0) -> 0 | AC24: =IFERROR(IF(LEN(AA24)=0,"",SUMIF($K$6:$K$305,AA24,$M$6:$M$305)),"")
