Workbook
Name Dropdown_Counta: Settings!$AK$37:$BN$37
Name Dropdown_Headers: Settings!$C$7:$AF$7
Name First_Chart_Axis: OFFSET(Calculations!$R$6,0,0,Calculations!$S$306,1)
Name First_Chart_Series: OFFSET(Calculations!$T$6,0,0,Calculations!$S$306,1)
Name Fourth_Chart_Axis: OFFSET(Calculations!$AA$6,0,0,Calculations!$AB$306,1)
Name Fourth_Chart_Series: OFFSET(Calculations!$AC$6,0,0,Calculations!$AB$306,1)
Name RawData_Headers: OFFSET(Database!$C$6,0,0,1,COUNTA(Database!$C$6:$AB$6))
Name Report_Dynamic_Height_Print: Calculations!$AF$3
Name Second_Chart_Axis: OFFSET(Calculations!$U$6,0,0,Calculations!$V$306,1)
Name Second_Chart_Series: OFFSET(Calculations!$W$6,0,0,Calculations!$V$306,1)
Name SettingsMetrics: OFFSET(Info!$C$8,0,0,COUNTA(Info!$C$8:$C$297),1)
Name Third_Chart_Axis: OFFSET(Calculations!$X$6,0,0,Calculations!$Y$306,1)
Name Third_Chart_Series: OFFSET(Calculations!$Z$6,0,0,Calculations!$Y$306,1)
Name Unused_Dyn_DataHeight: Calculations!$AH$3

Sheet Navigation
C2: INTERNAL AUDIT TEMPLATE
C3: NAVIGATION

Sheet Info
C2: INTERNAL AUDIT TEMPLATE
C3: METRIC INFO
K6: Raw Data Height | L6: {=IFERROR(IF(MAX(IF(LEN(Database!$C$6:$C$205)>0,ROW(Database!$C$6:$C$205),2)-ROW(M5))<=1,2,MAX(IF(LEN(Database!$C$6:$C$205)>0,ROW(Database!$C$6:$C$205),2)-ROW(M5))),2)} -> 9
C7: Metrics | D7: Description | I7: COUNTIF | K7: Metric Amount | L7: {=IFERROR(IF(MAX(IF(LEN($C$8:$C$297)>0,ROW($C$8:$C$297),1)-ROW(M7))<=0,1,MAX(IF(LEN($C$8:$C$297)>0,ROW($C$8:$C$297),1)-ROW(M7))),1)} -> 31
C8: Action Date | D8: Due date agreed with process owners for each finding | G8: =IF(I8>1,"← This metric has been input more than one!","") | I8: {=IF(LEN(INDEX($C$8:$C$297,ROW(I7)-ROW($I$6)))=0,0,COUNTIF($C$8:$C$297,INDEX($C$8:$C$297,ROW(I7)-ROW($I$6))))} -> 1
C9: Action Owner | D9: The responsible who is appointed to the action | G9: =IF(I9>1,"← This metric has been input more than one!","") | I9: {=IF(LEN(INDEX($C$8:$C$297,ROW(I8)-ROW($I$6)))=0,0,COUNTIF($C$8:$C$297,INDEX($C$8:$C$297,ROW(I8)-ROW($I$6))))} -> 1
C10: Management's Response | D10: The response represents management's plan for correcting or improving the finding situation. | G10: =IF(I10>1,"← This metric has been input more than one!","") | I10: {=IF(LEN(INDEX($C$8:$C$297,ROW(I9)-ROW($I$6)))=0,0,COUNTIF($C$8:$C$297,INDEX($C$8:$C$297,ROW(I9)-ROW($I$6))))} -> 1
C11: Conclusion | D11: Conclusion of the design and functioning of the control and a brief summary of the finding (if any) | G11: =IF(I11>1,"← This metric has been input more than one!","") | I11: {=IF(LEN(INDEX($C$8:$C$297,ROW(I10)-ROW($I$6)))=0,0,COUNTIF($C$8:$C$297,INDEX($C$8:$C$297,ROW(I10)-ROW($I$6))))} -> 1
C12: Control Definition | D12: A detailed description of the operation of control | G12: =IF(I12>1,"← This metric has been input more than one!","") | I12: {=IF(LEN(INDEX($C$8:$C$297,ROW(I11)-ROW($I$6)))=0,0,COUNTIF($C$8:$C$297,INDEX($C$8:$C$297,ROW(I11)-ROW($I$6))))} -> 1
C13: Control Frequency | D13: Frequency of controls_x000D_ (Continuous, Annual, Periodic, Monthly, Weekly, Daily, Multiple Days, As Required) | G13: =IF(I13>1,"← This metric has been input more than one!","") | I13: {=IF(LEN(INDEX($C$8:$C$297,ROW(I12)-ROW($I$6)))=0,0,COUNTIF($C$8:$C$297,INDEX($C$8:$C$297,ROW(I12)-ROW($I$6))))} -> 1
C14: Control Location | D14: In which location the control is used (Head Office, branches, etc.) | G14: =IF(I14>1,"← This metric has been input more than one!","") | I14: {=IF(LEN(INDEX($C$8:$C$297,ROW(I13)-ROW($I$6)))=0,0,COUNTIF($C$8:$C$297,INDEX($C$8:$C$297,ROW(I13)-ROW($I$6))))} -> 1
C15: Control Purpose | D15: States the purpose of the control whether it is protective or preventive | G15: =IF(I15>1,"← This metric has been input more than one!","") | I15: {=IF(LEN(INDEX($C$8:$C$297,ROW(I14)-ROW($I$6)))=0,0,COUNTIF($C$8:$C$297,INDEX($C$8:$C$297,ROW(I14)-ROW($I$6))))} -> 1
C16: Control Type | D16: Features of the control | G16: =IF(I16>1,"← This metric has been input more than one!","") | I16: {=IF(LEN(INDEX($C$8:$C$297,ROW(I15)-ROW($I$6)))=0,0,COUNTIF($C$8:$C$297,INDEX($C$8:$C$297,ROW(I15)-ROW($I$6))))} -> 1
C17: Control Owner | D17: The unit and / or person who creates the control and regulates the issues related to its operation | G17: =IF(I17>1,"← This metric has been input more than one!","") | I17: {=IF(LEN(INDEX($C$8:$C$297,ROW(I16)-ROW($I$6)))=0,0,COUNTIF($C$8:$C$297,INDEX($C$8:$C$297,ROW(I16)-ROW($I$6))))} -> 1
C18: Date | D18: The preparation date of Risk and Control Matrix (RCM) | G18: =IF(I18>1,"← This metric has been input more than one!","") | I18: {=IF(LEN(INDEX($C$8:$C$297,ROW(I17)-ROW($I$6)))=0,0,COUNTIF($C$8:$C$297,INDEX($C$8:$C$297,ROW(I17)-ROW($I$6))))} -> 1
C19: Description | D19: A detailed description of the specified issue | G19: =IF(I19>1,"← This metric has been input more than one!","") | I19: {=IF(LEN(INDEX($C$8:$C$297,ROW(I18)-ROW($I$6)))=0,0,COUNTIF($C$8:$C$297,INDEX($C$8:$C$297,ROW(I18)-ROW($I$6))))} -> 1
... C38: Example Metric 5 | D38: It is a dummy metric data to show you the dynamic feature of the template | G38: =IF(I38>1,"← This metric has been input more than one!","") | I38: {=IF(LEN(INDEX($C$8:$C$297,ROW(I37)-ROW($I$6)))=0,0,COUNTIF($C$8:$C$297,INDEX($C$8:$C$297,ROW(I37)-ROW($I$6))))} -> 1
G39: =IF(I39>1,"← This metric has been input more than one!","") | I39: {=IF(LEN(INDEX($C$8:$C$297,ROW(I38)-ROW($I$6)))=0,0,COUNTIF($C$8:$C$297,INDEX($C$8:$C$297,ROW(I38)-ROW($I$6))))} -> 0
G40: =IF(I40>1,"← This metric has been input more than one!","") | I40: {=IF(LEN(INDEX($C$8:$C$297,ROW(I39)-ROW($I$6)))=0,0,COUNTIF($C$8:$C$297,INDEX($C$8:$C$297,ROW(I39)-ROW($I$6))))} -> 0
G41: =IF(I41>1,"← This metric has been input more than one!","") | I41: {=IF(LEN(INDEX($C$8:$C$297,ROW(I40)-ROW($I$6)))=0,0,COUNTIF($C$8:$C$297,INDEX($C$8:$C$297,ROW(I40)-ROW($I$6))))} -> 0
G42: =IF(I42>1,"← This metric has been input more than one!","") | I42: {=IF(LEN(INDEX($C$8:$C$297,ROW(I41)-ROW($I$6)))=0,0,COUNTIF($C$8:$C$297,INDEX($C$8:$C$297,ROW(I41)-ROW($I$6))))} -> 0
G43: =IF(I43>1,"← This metric has been input more than one!","") | I43: {=IF(LEN(INDEX($C$8:$C$297,ROW(I42)-ROW($I$6)))=0,0,COUNTIF($C$8:$C$297,INDEX($C$8:$C$297,ROW(I42)-ROW($I$6))))} -> 0
G44: =IF(I44>1,"← This metric has been input more than one!","") | I44: {=IF(LEN(INDEX($C$8:$C$297,ROW(I43)-ROW($I$6)))=0,0,COUNTIF($C$8:$C$297,INDEX($C$8:$C$297,ROW(I43)-ROW($I$6))))} -> 0
G45: =IF(I45>1,"← This metric has been input more than one!","") | I45: {=IF(LEN(INDEX($C$8:$C$297,ROW(I44)-ROW($I$6)))=0,0,COUNTIF($C$8:$C$297,INDEX($C$8:$C$297,ROW(I44)-ROW($I$6))))} -> 0
G46: =IF(I46>1,"← This metric has been input more than one!","") | I46: {=IF(LEN(INDEX($C$8:$C$297,ROW(I45)-ROW($I$6)))=0,0,COUNTIF($C$8:$C$297,INDEX($C$8:$C$297,ROW(I45)-ROW($I$6))))} -> 0
G47: =IF(I47>1,"← This metric has been input more than one!","") | I47: {=IF(LEN(INDEX($C$8:$C$297,ROW(I46)-ROW($I$6)))=0,0,COUNTIF($C$8:$C$297,INDEX($C$8:$C$297,ROW(I46)-ROW($I$6))))} -> 0
G48: =IF(I48>1,"← This metric has been input more than one!","") | I48: {=IF(LEN(INDEX($C$8:$C$297,ROW(I47)-ROW($I$6)))=0,0,COUNTIF($C$8:$C$297,INDEX($C$8:$C$297,ROW(I47)-ROW($I$6))))} -> 0
G49: =IF(I49>1,"← This metric has been input more than one!","") | I49: {=IF(LEN(INDEX($C$8:$C$297,ROW(I48)-ROW($I$6)))=0,0,COUNTIF($C$8:$C$297,INDEX($C$8:$C$297,ROW(I48)-ROW($I$6))))} -> 0
G50: =IF(I50>1,"← This metric has been input more than one!","") | I50: {=IF(LEN(INDEX($C$8:$C$297,ROW(I49)-ROW($I$6)))=0,0,COUNTIF($C$8:$C$297,INDEX($C$8:$C$297,ROW(I49)-ROW($I$6))))} -> 0
... G297: =IF(I297>1,"← This metric has been input more than one!","") | I297: {=IF(LEN(INDEX($C$8:$C$297,ROW(I296)-ROW($I$6)))=0,0,COUNTIF($C$8:$C$297,INDEX($C$8:$C$297,ROW(I296)-ROW($I$6))))} -> 0

Sheet Settings
C2: INTERNAL AUDIT TEMPLATE
C3: SETTINGS
C7: Reason of Finding | D7: Risk Ranking | E7: Control Type | F7: Control Purpose | G7: Action Owner
C8: Lack of Design | D8: Very High | E8: Manual | F8: Preventive | G8: John Doe
C9: Lack of Management | D9: High | E9: IT Dependant* | F9: Protective | G9: Jane Doe
D10: Low | G10: Adam Smith
AK36: Option Count | AL36: Option Count | AM36: Option Count | AN36: Option Count | AO36: Option Count | AP36: Option Count | AQ36: Option Count | AR36: Option Count | AS36: Option Count | AT36: Option Count | AU36: Option Count | AV36: Option Count | AW36: Option Count | AX36: Option Count | AY36: Option Count | AZ36: Option Count | BA36: Option Count | BB36: Option Count | BC36: Option Count | BD36: Option Count | BE36: Option Count | BF36: Option Count | BG36: Option Count | BH36: Option Count | BI36: Option Count | BJ36: Option Count | BK36: Option Count | BL36: Option Count | BM36: Option Count | BN36: Option Count
AK37: =IFERROR(IF(COUNTA(C$8:C$29)=0,0,COUNTA(C$8:C$29)),0) -> 2 | AL37: =IFERROR(IF(COUNTA(D$8:D$29)=0,0,COUNTA(D$8:D$29)),0) -> 3 | AM37: =IFERROR(IF(COUNTA(E$8:E$29)=0,0,COUNTA(E$8:E$29)),0) -> 2 | AN37: =IFERROR(IF(COUNTA(F$8:F$29)=0,0,COUNTA(F$8:F$29)),0) -> 2 | AO37: =IFERROR(IF(COUNTA(G$8:G$29)=0,0,COUNTA(G$8:G$29)),0) -> 3 | AP37: =IFERROR(IF(COUNTA(H$8:H$29)=0,0,COUNTA(H$8:H$29)),0) -> 0 | AQ37: =IFERROR(IF(COUNTA(I$8:I$29)=0,0,COUNTA(I$8:I$29)),0) -> 0 | AR37: =IFERROR(IF(COUNTA(J$8:J$29)=0,0,COUNTA(J$8:J$29)),0) -> 0 | ... BN37: =IFERROR(IF(COUNTA(AF$8:AF$29)=0,0,COUNTA(AF$8:AF$29)),0) -> 0

Sheet Database
C2: INTERNAL AUDIT TEMPLATE
C3: DATABASE
C6: Reference Number | D6: Report Number | E6: Date | F6: Sub-Process | G6: Reason of Finding | H6: Risk Title | I6: Risk Definition | J6: Risk Ranking | K6: Control Definition | L6: Control Type | M6: Control Purpose | N6: Control Frequency | O6: Control Owner | P6: Sub-Controller | Q6: Description | R6: Suggestions | S6: Action Date | T6: Process Name | U6: Notes | V6: Action Owner | W6: Other Action Owners | X6: Example Metric 1 | Y6: Example Metric 2 | Z6: Example Metric 3 | AA6: Example Metric 4 | AB6: Example Metric 5
C7: STR0001 | D7: 1 | E7: 43831 | F7: Level 1 | G7: Lack of Design | H7: Sanitation | I7: Stairs get slippery when the vantilation is off for hours. | J7: Very High | L7: Manual | M7: Preventive | N7: 6 Months | O7: Department A | P7: Bryan Wollder | S7: 43983 | T7: PRC0001 | U7: Note 1 | V7: John Doe
C8: STR0002 | D8: 2 | E8: 43832 | F8: Level 2 | G8: Lack of Management | H8: Usage of Equipments | I8: Some misusage of equipments have been observed. Will check again | J8: High | L8: IT Dependant* | M8: Preventive | N8: 6 Months | O8: Department A | P8: Jessica Palmer | S8: 43983 | T8: PRC0002 | U8: Note 2 | V8: Jane Doe
C9: STR0003 | D9: 3 | E9: 43833 | F9: Level 3 | G9: Lack of Management | H9: Flammable Gas | I9: The procedures for gas transportation have changed. Procedures will be changed | J9: Low | L9: Manual | M9: Protective | N9: 6 Months | O9: Department A | P9: Mike Sylotski | S9: 44077 | T9: PRC0003 | U9: Note 3 | V9: John Doe
C10: STR0004 | D10: 4 | E10: 43834 | F10: Level 4 | G10: Lack of Management | H10: Standard Procedures | I10: Due to COVID-19 our standard procedures will change accordingly | J10: Very High | L10: IT Dependant* | M10: Protective | N10: 1 Year | O10: Department B | P10: Mark Gündelberg | S10: 44077 | T10: PRC0004 | U10: Note 4 | V10: Adam Smith
C11: STR0005 | D11: 5 | E11: 43834 | F11: Level 2 | G11: Lack of Management | H11: Office Hours | I11: Due to the latest procedures a stable schedule table will be formed | J11: Low | L11: Manual | M11: Preventive | N11: 6 Months | O11: Department C | P11: Jessica Palmer | S11: 44078 | T11: PRC0005 | U11: Note 5 | V11: John Doe
C12: STR0006 | D12: 6 | E12: 43837 | F12: Level 3 | G12: Lack of Design | H12: Emergency Exit | I12: 1 Emergency Exit door's sight has been covered with a door | J12: Very High | L12: IT Dependant* | M12: Protective | N12: 6 Months | O12: Department A | P12: Mike Sylotski | S12: 44081 | T12: PRC0006 | U12: Note 6 | V12: Jane Doe
C13: STR0007 | D13: 7 | E13: 43845 | F13: Level 2 | G13: Lack of Design | H13: Possible Injuries | I13: 1 Emergency Exit door's sight has been covered with a door | J13: High | L13: Manual | M13: Protective | N13: 6 Months | O13: Department B | P13: Mark Gündelberg | S13: 44081 | T13: PRC0007 | U13: Note 7 | V13: John Doe
C14: STR0008 | D14: 8 | E14: 43852 | F14: Level 1 | G14: Lack of Management | H14: Bugs | I14: If the room is not cleaned properly bugs come out | J14: Low | L14: IT Dependant* | M14: Protective | N14: 1 Year | O14: Department B | P14: Mark Gündelberg | S14: 44081 | T14: PRC0008 | U14: Note 8 | V14: Adam Smith

Sheet Report
C2: INTERNAL AUDIT TEMPLATE
C3: REPORT SECTION
C7: Risk Reference | D7: STR0004
C9: Date | D9: =IFERROR(IF(AND(LEN($C9)=0,LEN($D$7)=0),"",IF(LEN(INDEX(_xlnm.Database,MATCH($D$7,Database!$C$6:$C$205,0),MATCH(Report!$C9,RawData_Headers,0)))=0,"",INDEX(_xlnm.Database,MATCH($D$7,Database!$C$6:$C$205,0),MATCH(Report!$C9,RawData_Headers,0)))),"") -> 43834
C10: Process Name | D10: =IFERROR(IF(AND(LEN($C10)=0,LEN($D$7)=0),"",IF(LEN(INDEX(_xlnm.Database,MATCH($D$7,Database!$C$6:$C$205,0),MATCH(Report!$C10,RawData_Headers,0)))=0,"",INDEX(_xlnm.Database,MATCH($D$7,Database!$C$6:$C$205,0),MATCH(Report!$C10,RawData_Headers,0)))),"") -> PRC0004
C11: Control Definition | D11: =IFERROR(IF(AND(LEN($C11)=0,LEN($D$7)=0),"",IF(LEN(INDEX(_xlnm.Database,MATCH($D$7,Database!$C$6:$C$205,0),MATCH(Report!$C11,RawData_Headers,0)))=0,"",INDEX(_xlnm.Database,MATCH($D$7,Database!$C$6:$C$205,0),MATCH(Report!$C11,RawData_Headers,0)))),"")
D12: =IFERROR(IF(AND(LEN($C12)=0,LEN($D$7)=0),"",IF(LEN(INDEX(_xlnm.Database,MATCH($D$7,Database!$C$6:$C$205,0),MATCH(Report!$C12,RawData_Headers,0)))=0,"",INDEX(_xlnm.Database,MATCH($D$7,Database!$C$6:$C$205,0),MATCH(Report!$C12,RawData_Headers,0)))),"")
D13: =IFERROR(IF(AND(LEN($C13)=0,LEN($D$7)=0),"",IF(LEN(INDEX(_xlnm.Database,MATCH($D$7,Database!$C$6:$C$205,0),MATCH(Report!$C13,RawData_Headers,0)))=0,"",INDEX(_xlnm.Database,MATCH($D$7,Database!$C$6:$C$205,0),MATCH(Report!$C13,RawData_Headers,0)))),"")
C14: Control Type | D14: =IFERROR(IF(AND(LEN($C14)=0,LEN($D$7)=0),"",IF(LEN(INDEX(_xlnm.Database,MATCH($D$7,Database!$C$6:$C$205,0),MATCH(Report!$C14,RawData_Headers,0)))=0,"",INDEX(_xlnm.Database,MATCH($D$7,Database!$C$6:$C$205,0),MATCH(Report!$C14,RawData_Headers,0)))),"") -> IT Dependant*
C15: Control Purpose | D15: =IFERROR(IF(AND(LEN($C15)=0,LEN($D$7)=0),"",IF(LEN(INDEX(_xlnm.Database,MATCH($D$7,Database!$C$6:$C$205,0),MATCH(Report!$C15,RawData_Headers,0)))=0,"",INDEX(_xlnm.Database,MATCH($D$7,Database!$C$6:$C$205,0),MATCH(Report!$C15,RawData_Headers,0)))),"") -> Protective
C16: Control Frequency | D16: =IFERROR(IF(AND(LEN($C16)=0,LEN($D$7)=0),"",IF(LEN(INDEX(_xlnm.Database,MATCH($D$7,Database!$C$6:$C$205,0),MATCH(Report!$C16,RawData_Headers,0)))=0,"",INDEX(_xlnm.Database,MATCH($D$7,Database!$C$6:$C$205,0),MATCH(Report!$C16,RawData_Headers,0)))),"") -> 1 Year
C17: Controller | D17: =IFERROR(IF(AND(LEN($C17)=0,LEN($D$7)=0),"",IF(LEN(INDEX(_xlnm.Database,MATCH($D$7,Database!$C$6:$C$205,0),MATCH(Report!$C17,RawData_Headers,0)))=0,"",INDEX(_xlnm.Database,MATCH($D$7,Database!$C$6:$C$205,0),MATCH(Report!$C17,RawData_Headers,0)))),"")
C18: Control Location | D18: =IFERROR(IF(AND(LEN($C18)=0,LEN($D$7)=0),"",IF(LEN(INDEX(_xlnm.Database,MATCH($D$7,Database!$C$6:$C$205,0),MATCH(Report!$C18,RawData_Headers,0)))=0,"",INDEX(_xlnm.Database,MATCH($D$7,Database!$C$6:$C$205,0),MATCH(Report!$C18,RawData_Headers,0)))),"")
C19: System | D19: =IFERROR(IF(AND(LEN($C19)=0,LEN($D$7)=0),"",IF(LEN(INDEX(_xlnm.Database,MATCH($D$7,Database!$C$6:$C$205,0),MATCH(Report!$C19,RawData_Headers,0)))=0,"",INDEX(_xlnm.Database,MATCH($D$7,Database!$C$6:$C$205,0),MATCH(Report!$C19,RawData_Headers,0)))),"")
C20: Sub-Controller | D20: =IFERROR(IF(AND(LEN($C20)=0,LEN($D$7)=0),"",IF(LEN(INDEX(_xlnm.Database,MATCH($D$7,Database!$C$6:$C$205,0),MATCH(Report!$C20,RawData_Headers,0)))=0,"",INDEX(_xlnm.Database,MATCH($D$7,Database!$C$6:$C$205,0),MATCH(Report!$C20,RawData_Headers,0)))),"") -> Mark Gündelberg
D21: =IFERROR(IF(AND(LEN($C21)=0,LEN($D$7)=0),"",IF(LEN(INDEX(_xlnm.Database,MATCH($D$7,Database!$C$6:$C$205,0),MATCH(Report!$C21,RawData_Headers,0)))=0,"",INDEX(_xlnm.Database,MATCH($D$7,Database!$C$6:$C$205,0),MATCH(Report!$C21,RawData_Headers,0)))),"")
C22: Conclusion | D22: =IFERROR(IF(AND(LEN($C22)=0,LEN($D$7)=0),"",IF(LEN(INDEX(_xlnm.Database,MATCH($D$7,Database!$C$6:$C$205,0),MATCH(Report!$C22,RawData_Headers,0)))=0,"",INDEX(_xlnm.Database,MATCH($D$7,Database!$C$6:$C$205,0),MATCH(Report!$C22,RawData_Headers,0)))),"")
C23: Notes | D23: =IFERROR(IF(AND(LEN($C23)=0,LEN($D$7)=0),"",IF(LEN(INDEX(_xlnm.Database,MATCH($D$7,Database!$C$6:$C$205,0),MATCH(Report!$C23,RawData_Headers,0)))=0,"",INDEX(_xlnm.Database,MATCH($D$7,Database!$C$6:$C$205,0),MATCH(Report!$C23,RawData_Headers,0)))),"") -> Note 4
D24: =IFERROR(IF(AND(LEN($C24)=0,LEN($D$7)=0),"",IF(LEN(INDEX(_xlnm.Database,MATCH($D$7,Database!$C$6:$C$205,0),MATCH(Report!$C24,RawData_Headers,0)))=0,"",INDEX(_xlnm.Database,MATCH($D$7,Database!$C$6:$C$205,0),MATCH(Report!$C24,RawData_Headers,0)))),"")
D25: =IFERROR(IF(AND(LEN($C25)=0,LEN($D$7)=0),"",IF(LEN(INDEX(_xlnm.Database,MATCH($D$7,Database!$C$6:$C$205,0),MATCH(Report!$C25,RawData_Headers,0)))=0,"",INDEX(_xlnm.Database,MATCH($D$7,Database!$C$6:$C$205,0),MATCH(Report!$C25,RawData_Headers,0)))),"")
D26: =IFERROR(IF(AND(LEN($C26)=0,LEN($D$7)=0),"",IF(LEN(INDEX(_xlnm.Database,MATCH($D$7,Database!$C$6:$C$205,0),MATCH(Report!$C26,RawData_Headers,0)))=0,"",INDEX(_xlnm.Database,MATCH($D$7,Database!$C$6:$C$205,0),MATCH(Report!$C26,RawData_Headers,0)))),"")
D27: =IFERROR(IF(AND(LEN($C27)=0,LEN($D$7)=0),"",IF(LEN(INDEX(_xlnm.Database,MATCH($D$7,Database!$C$6:$C$205,0),MATCH(Report!$C27,RawData_Headers,0)))=0,"",INDEX(_xlnm.Database,MATCH($D$7,Database!$C$6:$C$205,0),MATCH(Report!$C27,RawData_Headers,0)))),"")
D28: =IFERROR(IF(AND(LEN($C28)=0,LEN($D$7)=0),"",IF(LEN(INDEX(_xlnm.Database,MATCH($D$7,Database!$C$6:$C$205,0),MATCH(Report!$C28,RawData_Headers,0)))=0,"",INDEX(_xlnm.Database,MATCH($D$7,Database!$C$6:$C$205,0),MATCH(Report!$C28,RawData_Headers,0)))),"")
D29: =IFERROR(IF(AND(LEN($C29)=0,LEN($D$7)=0),"",IF(LEN(INDEX(_xlnm.Database,MATCH($D$7,Database!$C$6:$C$205,0),MATCH(Report!$C29,RawData_Headers,0)))=0,"",INDEX(_xlnm.Database,MATCH($D$7,Database!$C$6:$C$205,0),MATCH(Report!$C29,RawData_Headers,0)))),"")
D30: =IFERROR(IF(AND(LEN($C30)=0,LEN($D$7)=0),"",IF(LEN(INDEX(_xlnm.Database,MATCH($D$7,Database!$C$6:$C$205,0),MATCH(Report!$C30,RawData_Headers,0)))=0,"",INDEX(_xlnm.Database,MATCH($D$7,Database!$C$6:$C$205,0),MATCH(Report!$C30,RawData_Headers,0)))),"")
D31: =IFERROR(IF(AND(LEN($C31)=0,LEN($D$7)=0),"",IF(LEN(INDEX(_xlnm.Database,MATCH($D$7,Database!$C$6:$C$205,0),MATCH(Report!$C31,RawData_Headers,0)))=0,"",INDEX(_xlnm.Database,MATCH($D$7,Database!$C$6:$C$205,0),MATCH(Report!$C31,RawData_Headers,0)))),"")
D32: =IFERROR(IF(AND(LEN($C32)=0,LEN($D$7)=0),"",IF(LEN(INDEX(_xlnm.Database,MATCH($D$7,Database!$C$6:$C$205,0),MATCH(Report!$C32,RawData_Headers,0)))=0,"",INDEX(_xlnm.Database,MATCH($D$7,Database!$C$6:$C$205,0),MATCH(Report!$C32,RawData_Headers,0)))),"")
D33: =IFERROR(IF(AND(LEN($C33)=0,LEN($D$7)=0),"",IF(LEN(INDEX(_xlnm.Database,MATCH($D$7,Database!$C$6:$C$205,0),MATCH(Report!$C33,RawData_Headers,0)))=0,"",INDEX(_xlnm.Database,MATCH($D$7,Database!$C$6:$C$205,0),MATCH(Report!$C33,RawData_Headers,0)))),"")
D34: =IFERROR(IF(AND(LEN($C34)=0,LEN($D$7)=0),"",IF(LEN(INDEX(_xlnm.Database,MATCH($D$7,Database!$C$6:$C$205,0),MATCH(Report!$C34,RawData_Headers,0)))=0,"",INDEX(_xlnm.Database,MATCH($D$7,Database!$C$6:$C$205,0),MATCH(Report!$C34,RawData_Headers,0)))),"")
D35: =IFERROR(IF(AND(LEN($C35)=0,LEN($D$7)=0),"",IF(LEN(INDEX(_xlnm.Database,MATCH($D$7,Database!$C$6:$C$205,0),MATCH(Report!$C35,RawData_Headers,0)))=0,"",INDEX(_xlnm.Database,MATCH($D$7,Database!$C$6:$C$205,0),MATCH(Report!$C35,RawData_Headers,0)))),"")
... D132: =IFERROR(IF(AND(LEN($C132)=0,LEN($D$7)=0),"",IF(LEN(INDEX(_xlnm.Database,MATCH($D$7,Database!$C$6:$C$205,0),MATCH(Report!$C132,RawData_Headers,0)))=0,"",INDEX(_xlnm.Database,MATCH($D$7,Database!$C$6:$C$205,0),MATCH(Report!$C132,RawData_Headers,0)))),"")

Sheet Dashboard
C2: INTERNAL AUDIT TEMPLATE
C3: DASHBOARD
C7: Sub-Controller | H7: Action Owner
C22: Control Purpose | H22: Reason of Finding

Sheet Calculations
B2: AREA | R2: TABLE FOR CHART DYNAMICITY
B3: 1st Chart | E3: 2nd Chart | H3: 3rd Chart | K3: 4th Chart | R3: 1st Chart | U3: 2nd Chart | X3: 3rd Chart | AA3: 4th Chart | AE3: Report Page Dynamic Height | AF3: {=IFERROR(IF(MAX(IF(LEN(Report!$C$6:$C$132)>0,ROW(Report!$C$6:$C$132),2)-ROW(Report!C4))<=0,2,MAX(IF(LEN(Report!$C$6:$C$132)>0,ROW(Report!$C$6:$C$132),2)-ROW(Report!C4))),2)} -> 19
B5: =IFERROR(IF(LEN(Dashboard!C7)=0,"",Dashboard!C7),"") -> Sub-Controller | C5: Status | D5: =B5&" Dynamicity" -> Sub-Controller Dynamicity | E5: =IFERROR(IF(LEN(Dashboard!H7)=0,"",Dashboard!H7),"") -> Action Owner | F5: Status | G5: =E5&" Dynamicity" -> Action Owner Dynamicity | H5: =IFERROR(IF(LEN(Dashboard!C22)=0,"",Dashboard!C22),"") -> Control Purpose | I5: Status | J5: =H5&" Dynamicity" -> Control Purpose Dynamicity | K5: =IFERROR(IF(LEN(Dashboard!H22)=0,"",Dashboard!H22),"") -> Reason of Finding | L5: Status | M5: =K5&" Dynamicity" -> Reason of Finding Dynamicity | O5: Month Numbers | P5: Month Names | R5: ="Remove Duplicates"&" "&B5 -> Remove Duplicates Sub-Controller | S5: Height for Dyn | T5: Total Amount | U5: ="Remove Duplicates"&" "&E5 -> Remove Duplicates Action Owner | V5: Height for Dyn | W5: Total Amount | X5: ="Remove Duplicates"&" "&H5 -> Remove Duplicates Control Purpose | Y5: Height for Dyn | Z5: Total Amount | AA5: ="Remove Duplicates"&" "&K5 -> Remove Duplicates Reason of Finding | AB5: Height for Dyn | AC5: Total Amount
B6: =IFERROR(IF(LEN(B$5)=0,"",IF(LEN(INDEX(_xlnm.Database,ROW($C6)-ROW($C$4),MATCH(B$5,RawData_Headers,0)))=0,"",INDEX(_xlnm.Database,ROW($C6)-ROW($C$4),MATCH(B$5,RawData_Headers,0)))),"") -> Bryan Wollder | C6: =IFERROR(IF(LEN(B6)=0,0,1),0) -> 1 | D6: =IFERROR(IF(C6=0,0,1),0) -> 1 | E6: =IFERROR(IF(LEN(E$5)=0,"",IF(LEN(INDEX(_xlnm.Database,ROW($F6)-ROW($F$4),MATCH(E$5,RawData_Headers,0)))=0,"",INDEX(_xlnm.Database,ROW($F6)-ROW($F$4),MATCH(E$5,RawData_Headers,0)))),"") -> John Doe | F6: =IFERROR(IF(LEN(E6)=0,0,1),0) -> 1 | G6: =IFERROR(IF(F6=0,0,1),0) -> 1 | H6: =IFERROR(IF(LEN(H$5)=0,"",IF(LEN(INDEX(_xlnm.Database,ROW($I6)-ROW($I$4),MATCH(H$5,RawData_Headers,0)))=0,"",INDEX(_xlnm.Database,ROW($I6)-ROW($I$4),MATCH(H$5,RawData_Headers,0)))),"") -> Preventive | I6: =IFERROR(IF(LEN(H6)=0,0,1),0) -> 1 | J6: =IFERROR(IF(I6=0,0,1),0) -> 1 | K6: =IFERROR(IF(LEN(K$5)=0,"",IF(LEN(INDEX(_xlnm.Database,ROW($L6)-ROW($L$4),MATCH(K$5,RawData_Headers,0)))=0,"",INDEX(_xlnm.Database,ROW($L6)-ROW($L$4),MATCH(K$5,RawData_Headers,0)))),"") -> Lack of Design | L6: =IFERROR(IF(LEN(K6)=0,0,1),0) -> 1 | M6: =IFERROR(IF(L6=0,0,1),0) -> 1 | O6: 1 | P6: Jan | R6: {=IFERROR(IF(LEN(B6)=0,"",INDEX(B$6:B$305,MATCH(0,COUNTIF(R$5:R5,B$6:B$305),0))),"")} -> Bryan Wollder | S6: =IFERROR(IF(LEN(R6)=0,0,1),0) -> 1 | T6: =IFERROR(IF(LEN(R6)=0,"",SUMIF($B$6:$B$305,R6,$D$6:$D$305)),"") -> 1 | U6: {=IFERROR(IF(LEN(E6)=0,"",INDEX(E$6:E$305,MATCH(0,COUNTIF(U$5:U5,E$6:E$305),0))),"")} -> John Doe | V6: =IFERROR(IF(LEN(U6)=0,0,1),0) -> 1 | W6: =IFERROR(IF(LEN(U6)=0,"",SUMIF($E$6:$E$305,U6,$G$6:$G$305)),"") -> 4 | X6: {=IFERROR(IF(LEN(H6)=0,"",INDEX(H$6:H$305,MATCH(0,COUNTIF(X$5:X5,H$6:H$305),0))),"")} -> Preventive | Y6: =IFERROR(IF(LEN(X6)=0,0,1),0) -> 1 | Z6: =IFERROR(IF(LEN(X6)=0,"",SUMIF($H$6:$H$305,X6,$J$6:$J$305)),"") -> 3 | AA6: {=IFERROR(IF(LEN(K6)=0,"",INDEX(K$6:K$305,MATCH(0,COUNTIF(AA$5:AA5,K$6:K$305),0))),"")} -> Lack of Design | AB6: =IFERROR(IF(LEN(AA6)=0,0,1),0) -> 1 | AC6: =IFERROR(IF(LEN(AA6)=0,"",SUMIF($K$6:$K$305,AA6,$M$6:$M$305)),"") -> 3
B7: =IFERROR(IF(LEN(B$5)=0,"",IF(LEN(INDEX(_xlnm.Database,ROW($C7)-ROW($C$4),MATCH(B$5,RawData_Headers,0)))=0,"",INDEX(_xlnm.Database,ROW($C7)-ROW($C$4),MATCH(B$5,RawData_Headers,0)))),"") -> Jessica Palmer | C7: =IFERROR(IF(LEN(B7)=0,0,1),0) -> 1 | D7: =IFERROR(IF(C7=0,0,1),0) -> 1 | E7: =IFERROR(IF(LEN(E$5)=0,"",IF(LEN(INDEX(_xlnm.Database,ROW($F7)-ROW($F$4),MATCH(E$5,RawData_Headers,0)))=0,"",INDEX(_xlnm.Database,ROW($F7)-ROW($F$4),MATCH(E$5,RawData_Headers,0)))),"") -> Jane Doe | F7: =IFERROR(IF(LEN(E7)=0,0,1),0) -> 1 | G7: =IFERROR(IF(LEN(E7)=0,0,1),0) -> 1 | H7: =IFERROR(IF(LEN(H$5)=0,"",IF(LEN(INDEX(_xlnm.Database,ROW($I7)-ROW($I$4),MATCH(H$5,RawData_Headers,0)))=0,"",INDEX(_xlnm.Database,ROW($I7)-ROW($I$4),MATCH(H$5,RawData_Headers,0)))),"") -> Preventive | I7: =IFERROR(IF(LEN(H7)=0,0,1),0) -> 1 | J7: =IFERROR(IF(I7=0,0,1),0) -> 1 | K7: =IFERROR(IF(LEN(K$5)=0,"",IF(LEN(INDEX(_xlnm.Database,ROW($L7)-ROW($L$4),MATCH(K$5,RawData_Headers,0)))=0,"",INDEX(_xlnm.Database,ROW($L7)-ROW($L$4),MATCH(K$5,RawData_Headers,0)))),"") -> Lack of Management | L7: =IFERROR(IF(LEN(K7)=0,0,1),0) -> 1 | M7: =IFERROR(IF(L7=0,0,1),0) -> 1 | O7: 2 | P7: Feb | R7: {=IFERROR(IF(LEN(B7)=0,"",INDEX(B$6:B$305,MATCH(0,COUNTIF(R$5:R6,B$6:B$305),0))),"")} -> Jessica Palmer | S7: =IFERROR(IF(LEN(R7)=0,0,1),0) -> 1 | T7: =IFERROR(IF(LEN(R7)=0,"",SUMIF($B$6:$B$305,R7,$D$6:$D$305)),"") -> 2 | U7: {=IFERROR(IF(LEN(E7)=0,"",INDEX(E$6:E$305,MATCH(0,COUNTIF(U$5:U6,E$6:E$305),0))),"")} -> Jane Doe | V7: =IFERROR(IF(LEN(U7)=0,0,1),0) -> 1 | W7: =IFERROR(IF(LEN(U7)=0,"",SUMIF($E$6:$E$305,U7,$G$6:$G$305)),"") -> 2 | X7: {=IFERROR(IF(LEN(H7)=0,"",INDEX(H$6:H$305,MATCH(0,COUNTIF(X$5:X6,H$6:H$305),0))),"")} -> Protective | Y7: =IFERROR(IF(LEN(X7)=0,0,1),0) -> 1 | Z7: =IFERROR(IF(LEN(X7)=0,"",SUMIF($H$6:$H$305,X7,$J$6:$J$305)),"") -> 5 | AA7: {=IFERROR(IF(LEN(K7)=0,"",INDEX(K$6:K$305,MATCH(0,COUNTIF(AA$5:AA6,K$6:K$305),0))),"")} -> Lack of Management | AB7: =IFERROR(IF(LEN(AA7)=0,0,1),0) -> 1 | AC7: =IFERROR(IF(LEN(AA7)=0,"",SUMIF($K$6:$K$305,AA7,$M$6:$M$305)),"") -> 5
B8: =IFERROR(IF(LEN(B$5)=0,"",IF(LEN(INDEX(_xlnm.Database,ROW($C8)-ROW($C$4),MATCH(B$5,RawData_Headers,0)))=0,"",INDEX(_xlnm.Database,ROW($C8)-ROW($C$4),MATCH(B$5,RawData_Headers,0)))),"") -> Mike Sylotski | C8: =IFERROR(IF(LEN(B8)=0,0,1),0) -> 1 | D8: =IFERROR(IF(C8=0,0,1),0) -> 1 | E8: =IFERROR(IF(LEN(E$5)=0,"",IF(LEN(INDEX(_xlnm.Database,ROW($F8)-ROW($F$4),MATCH(E$5,RawData_Headers,0)))=0,"",INDEX(_xlnm.Database,ROW($F8)-ROW($F$4),MATCH(E$5,RawData_Headers,0)))),"") -> John Doe | F8: =IFERROR(IF(LEN(E8)=0,0,1),0) -> 1 | G8: =IFERROR(IF(LEN(E8)=0,0,1),0) -> 1 | H8: =IFERROR(IF(LEN(H$5)=0,"",IF(LEN(INDEX(_xlnm.Database,ROW($I8)-ROW($I$4),MATCH(H$5,RawData_Headers,0)))=0,"",INDEX(_xlnm.Database,ROW($I8)-ROW($I$4),MATCH(H$5,RawData_Headers,0)))),"") -> Protective | I8: =IFERROR(IF(LEN(H8)=0,0,1),0) -> 1 | J8: =IFERROR(IF(I8=0,0,1),0) -> 1 | K8: =IFERROR(IF(LEN(K$5)=0,"",IF(LEN(INDEX(_xlnm.Database,ROW($L8)-ROW($L$4),MATCH(K$5,RawData_Headers,0)))=0,"",INDEX(_xlnm.Database,ROW($L8)-ROW($L$4),MATCH(K$5,RawData_Headers,0)))),"") -> Lack of Management | L8: =IFERROR(IF(LEN(K8)=0,0,1),0) -> 1 | M8: =IFERROR(IF(L8=0,0,1),0) -> 1 | O8: 3 | P8: Mar | R8: {=IFERROR(IF(LEN(B8)=0,"",INDEX(B$6:B$305,MATCH(0,COUNTIF(R$5:R7,B$6:B$305),0))),"")} -> Mike Sylotski | S8: =IFERROR(IF(LEN(R8)=0,0,1),0) -> 1 | T8: =IFERROR(IF(LEN(R8)=0,"",SUMIF($B$6:$B$305,R8,$D$6:$D$305)),"") -> 2 | U8: {=IFERROR(IF(LEN(E8)=0,"",INDEX(E$6:E$305,MATCH(0,COUNTIF(U$5:U7,E$6:E$305),0))),"")} -> Adam Smith | V8: =IFERROR(IF(LEN(U8)=0,0,1),0) -> 1 | W8: =IFERROR(IF(LEN(U8)=0,"",SUMIF($E$6:$E$305,U8,$G$6:$G$305)),"") -> 2 | X8: {=IFERROR(IF(LEN(H8)=0,"",INDEX(H$6:H$305,MATCH(0,COUNTIF(X$5:X7,H$6:H$305),0))),"")} | Y8: =IFERROR(IF(LEN(X8)=0,0,1),0) -> 0 | Z8: =IFERROR(IF(LEN(X8)=0,"",SUMIF($H$6:$H$305,X8,$J$6:$J$305)),"") | AA8: {=IFERROR(IF(LEN(K8)=0,"",INDEX(K$6:K$305,MATCH(0,COUNTIF(AA$5:AA7,K$6:K$305),0))),"")} | AB8: =IFERROR(IF(LEN(AA8)=0,0,1),0) -> 0 | AC8: =IFERROR(IF(LEN(AA8)=0,"",SUMIF($K$6:$K$305,AA8,$M$6:$M$305)),"")
B9: =IFERROR(IF(LEN(B$5)=0,"",IF(LEN(INDEX(_xlnm.Database,ROW($C9)-ROW($C$4),MATCH(B$5,RawData_Headers,0)))=0,"",INDEX(_xlnm.Database,ROW($C9)-ROW($C$4),MATCH(B$5,RawData_Headers,0)))),"") -> Mark Gündelberg | C9: =IFERROR(IF(LEN(B9)=0,0,1),0) -> 1 | D9: =IFERROR(IF(C9=0,0,1),0) -> 1 | E9: =IFERROR(IF(LEN(E$5)=0,"",IF(LEN(INDEX(_xlnm.Database,ROW($F9)-ROW($F$4),MATCH(E$5,RawData_Headers,0)))=0,"",INDEX(_xlnm.Database,ROW($F9)-ROW($F$4),MATCH(E$5,RawData_Headers,0)))),"") -> Adam Smith | F9: =IFERROR(IF(LEN(E9)=0,0,1),0) -> 1 | G9: =IFERROR(IF(LEN(E9)=0,0,1),0) -> 1 | H9: =IFERROR(IF(LEN(H$5)=0,"",IF(LEN(INDEX(_xlnm.Database,ROW($I9)-ROW($I$4),MATCH(H$5,RawData_Headers,0)))=0,"",INDEX(_xlnm.Database,ROW($I9)-ROW($I$4),MATCH(H$5,RawData_Headers,0)))),"") -> Protective | I9: =IFERROR(IF(LEN(H9)=0,0,1),0) -> 1 | J9: =IFERROR(IF(I9=0,0,1),0) -> 1 | K9: =IFERROR(IF(LEN(K$5)=0,"",IF(LEN(INDEX(_xlnm.Database,ROW($L9)-ROW($L$4),MATCH(K$5,RawData_Headers,0)))=0,"",INDEX(_xlnm.Database,ROW($L9)-ROW($L$4),MATCH(K$5,RawData_Headers,0)))),"") -> Lack of Management | L9: =IFERROR(IF(LEN(K9)=0,0,1),0) -> 1 | M9: =IFERROR(IF(L9=0,0,1),0) -> 1 | O9: 4 | P9: Apr | R9: {=IFERROR(IF(LEN(B9)=0,"",INDEX(B$6:B$305,MATCH(0,COUNTIF(R$5:R8,B$6:B$305),0))),"")} -> Mark Gündelberg | S9: =IFERROR(IF(LEN(R9)=0,0,1),0) -> 1 | T9: =IFERROR(IF(LEN(R9)=0,"",SUMIF($B$6:$B$305,R9,$D$6:$D$305)),"") -> 3 | U9: {=IFERROR(IF(LEN(E9)=0,"",INDEX(E$6:E$305,MATCH(0,COUNTIF(U$5:U8,E$6:E$305),0))),"")} | V9: =IFERROR(IF(LEN(U9)=0,0,1),0) -> 0 | W9: =IFERROR(IF(LEN(U9)=0,"",SUMIF($E$6:$E$305,U9,$G$6:$G$305)),"") | X9: {=IFERROR(IF(LEN(H9)=0,"",INDEX(H$6:H$305,MATCH(0,COUNTIF(X$5:X8,H$6:H$305),0))),"")} | Y9: =IFERROR(IF(LEN(X9)=0,0,1),0) -> 0 | Z9: =IFERROR(IF(LEN(X9)=0,"",SUMIF($H$6:$H$305,X9,$J$6:$J$305)),"") | AA9: {=IFERROR(IF(LEN(K9)=0,"",INDEX(K$6:K$305,MATCH(0,COUNTIF(AA$5:AA8,K$6:K$305),0))),"")} | AB9: =IFERROR(IF(LEN(AA9)=0,0,1),0) -> 0 | AC9: =IFERROR(IF(LEN(AA9)=0,"",SUMIF($K$6:$K$305,AA9,$M$6:$M$305)),"")
B10: =IFERROR(IF(LEN(B$5)=0,"",IF(LEN(INDEX(_xlnm.Database,ROW($C10)-ROW($C$4),MATCH(B$5,RawData_Headers,0)))=0,"",INDEX(_xlnm.Database,ROW($C10)-ROW($C$4),MATCH(B$5,RawData_Headers,0)))),"") -> Jessica Palmer | C10: =IFERROR(IF(LEN(B10)=0,0,1),0) -> 1 | D10: =IFERROR(IF(C10=0,0,1),0) -> 1 | E10: =IFERROR(IF(LEN(E$5)=0,"",IF(LEN(INDEX(_xlnm.Database,ROW($F10)-ROW($F$4),MATCH(E$5,RawData_Headers,0)))=0,"",INDEX(_xlnm.Database,ROW($F10)-ROW($F$4),MATCH(E$5,RawData_Headers,0)))),"") -> John Doe | F10: =IFERROR(IF(LEN(E10)=0,0,1),0) -> 1 | G10: =IFERROR(IF(LEN(E10)=0,0,1),0) -> 1 | H10: =IFERROR(IF(LEN(H$5)=0,"",IF(LEN(INDEX(_xlnm.Database,ROW($I10)-ROW($I$4),MATCH(H$5,RawData_Headers,0)))=0,"",INDEX(_xlnm.Database,ROW($I10)-ROW($I$4),MATCH(H$5,RawData_Headers,0)))),"") -> Preventive | I10: =IFERROR(IF(LEN(H10)=0,0,1),0) -> 1 | J10: =IFERROR(IF(I10=0,0,1),0) -> 1 | K10: =IFERROR(IF(LEN(K$5)=0,"",IF(LEN(INDEX(_xlnm.Database,ROW($L10)-ROW($L$4),MATCH(K$5,RawData_Headers,0)))=0,"",INDEX(_xlnm.Database,ROW($L10)-ROW($L$4),MATCH(K$5,RawData_Headers,0)))),"") -> Lack of Management | L10: =IFERROR(IF(LEN(K10)=0,0,1),0) -> 1 | M10: =IFERROR(IF(L10=0,0,1),0) -> 1 | O10: 5 | P10: May | R10: {=IFERROR(IF(LEN(B10)=0,"",INDEX(B$6:B$305,MATCH(0,COUNTIF(R$5:R9,B$6:B$305),0))),"")} | S10: =IFERROR(IF(LEN(R10)=0,0,1),0) -> 0 | T10: =IFERROR(IF(LEN(R10)=0,"",SUMIF($B$6:$B$305,R10,$D$6:$D$305)),"") | U10: {=IFERROR(IF(LEN(E10)=0,"",INDEX(E$6:E$305,MATCH(0,COUNTIF(U$5:U9,E$6:E$305),0))),"")} | V10: =IFERROR(IF(LEN(U10)=0,0,1),0) -> 0 | W10: =IFERROR(IF(LEN(U10)=0,"",SUMIF($E$6:$E$305,U10,$G$6:$G$305)),"") | X10: {=IFERROR(IF(LEN(H10)=0,"",INDEX(H$6:H$305,MATCH(0,COUNTIF(X$5:X9,H$6:H$305),0))),"")} | Y10: =IFERROR(IF(LEN(X10)=0,0,1),0) -> 0 | Z10: =IFERROR(IF(LEN(X10)=0,"",SUMIF($H$6:$H$305,X10,$J$6:$J$305)),"") | AA10: {=IFERROR(IF(LEN(K10)=0,"",INDEX(K$6:K$305,MATCH(0,COUNTIF(AA$5:AA9,K$6:K$305),0))),"")} | AB10: =IFERROR(IF(LEN(AA10)=0,0,1),0) -> 0 | AC10: =IFERROR(IF(LEN(AA10)=0,"",SUMIF($K$6:$K$305,AA10,$M$6:$M$305)),"")
B11: =IFERROR(IF(LEN(B$5)=0,"",IF(LEN(INDEX(_xlnm.Database,ROW($C11)-ROW($C$4),MATCH(B$5,RawData_Headers,0)))=0,"",INDEX(_xlnm.Database,ROW($C11)-ROW($C$4),MATCH(B$5,RawData_Headers,0)))),"") -> Mike Sylotski | C11: =IFERROR(IF(LEN(B11)=0,0,1),0) -> 1 | D11: =IFERROR(IF(C11=0,0,1),0) -> 1 | E11: =IFERROR(IF(LEN(E$5)=0,"",IF(LEN(INDEX(_xlnm.Database,ROW($F11)-ROW($F$4),MATCH(E$5,RawData_Headers,0)))=0,"",INDEX(_xlnm.Database,ROW($F11)-ROW($F$4),MATCH(E$5,RawData_Headers,0)))),"") -> Jane Doe | F11: =IFERROR(IF(LEN(E11)=0,0,1),0) -> 1 | G11: =IFERROR(IF(LEN(E11)=0,0,1),0) -> 1 | H11: =IFERROR(IF(LEN(H$5)=0,"",IF(LEN(INDEX(_xlnm.Database,ROW($I11)-ROW($I$4),MATCH(H$5,RawData_Headers,0)))=0,"",INDEX(_xlnm.Database,ROW($I11)-ROW($I$4),MATCH(H$5,RawData_Headers,0)))),"") -> Protective | I11: =IFERROR(IF(LEN(H11)=0,0,1),0) -> 1 | J11: =IFERROR(IF(I11=0,0,1),0) -> 1 | K11: =IFERROR(IF(LEN(K$5)=0,"",IF(LEN(INDEX(_xlnm.Database,ROW($L11)-ROW($L$4),MATCH(K$5,RawData_Headers,0)))=0,"",INDEX(_xlnm.Database,ROW($L11)-ROW($L$4),MATCH(K$5,RawData_Headers,0)))),"") -> Lack of Design | L11: =IFERROR(IF(LEN(K11)=0,0,1),0) -> 1 | M11: =IFERROR(IF(L11=0,0,1),0) -> 1 | O11: 6 | P11: Jun | R11: {=IFERROR(IF(LEN(B11)=0,"",INDEX(B$6:B$305,MATCH(0,COUNTIF(R$5:R10,B$6:B$305),0))),"")} | S11: =IFERROR(IF(LEN(R11)=0,0,1),0) -> 0 | T11: =IFERROR(IF(LEN(R11)=0,"",SUMIF($B$6:$B$305,R11,$D$6:$D$305)),"") | U11: {=IFERROR(IF(LEN(E11)=0,"",INDEX(E$6:E$305,MATCH(0,COUNTIF(U$5:U10,E$6:E$305),0))),"")} | V11: =IFERROR(IF(LEN(U11)=0,0,1),0) -> 0 | W11: =IFERROR(IF(LEN(U11)=0,"",SUMIF($E$6:$E$305,U11,$G$6:$G$305)),"") | X11: {=IFERROR(IF(LEN(H11)=0,"",INDEX(H$6:H$305,MATCH(0,COUNTIF(X$5:X10,H$6:H$305),0))),"")} | Y11: =IFERROR(IF(LEN(X11)=0,0,1),0) -> 0 | Z11: =IFERROR(IF(LEN(X11)=0,"",SUMIF($H$6:$H$305,X11,$J$6:$J$305)),"") | AA11: {=IFERROR(IF(LEN(K11)=0,"",INDEX(K$6:K$305,MATCH(0,COUNTIF(AA$5:AA10,K$6:K$305),0))),"")} | AB11: =IFERROR(IF(LEN(AA11)=0,0,1),0) -> 0 | AC11: =IFERROR(IF(LEN(AA11)=0,"",SUMIF($K$6:$K$305,AA11,$M$6:$M$305)),"")
B12: =IFERROR(IF(LEN(B$5)=0,"",IF(LEN(INDEX(_xlnm.Database,ROW($C12)-ROW($C$4),MATCH(B$5,RawData_Headers,0)))=0,"",INDEX(_xlnm.Database,ROW($C12)-ROW($C$4),MATCH(B$5,RawData_Headers,0)))),"") -> Mark Gündelberg | C12: =IFERROR(IF(LEN(B12)=0,0,1),0) -> 1 | D12: =IFERROR(IF(C12=0,0,1),0) -> 1 | E12: =IFERROR(IF(LEN(E$5)=0,"",IF(LEN(INDEX(_xlnm.Database,ROW($F12)-ROW($F$4),MATCH(E$5,RawData_Headers,0)))=0,"",INDEX(_xlnm.Database,ROW($F12)-ROW($F$4),MATCH(E$5,RawData_Headers,0)))),"") -> John Doe | F12: =IFERROR(IF(LEN(E12)=0,0,1),0) -> 1 | G12: =IFERROR(IF(LEN(E12)=0,0,1),0) -> 1 | H12: =IFERROR(IF(LEN(H$5)=0,"",IF(LEN(INDEX(_xlnm.Database,ROW($I12)-ROW($I$4),MATCH(H$5,RawData_Headers,0)))=0,"",INDEX(_xlnm.Database,ROW($I12)-ROW($I$4),MATCH(H$5,RawData_Headers,0)))),"") -> Protective | I12: =IFERROR(IF(LEN(H12)=0,0,1),0) -> 1 | J12: =IFERROR(IF(I12=0,0,1),0) -> 1 | K12: =IFERROR(IF(LEN(K$5)=0,"",IF(LEN(INDEX(_xlnm.Database,ROW($L12)-ROW($L$4),MATCH(K$5,RawData_Headers,0)))=0,"",INDEX(_xlnm.Database,ROW($L12)-ROW($L$4),MATCH(K$5,RawData_Headers,0)))),"") -> Lack of Design | L12: =IFERROR(IF(LEN(K12)=0,0,1),0) -> 1 | M12: =IFERROR(IF(L12=0,0,1),0) -> 1 | O12: 7 | P12: Jul | R12: {=IFERROR(IF(LEN(B12)=0,"",INDEX(B$6:B$305,MATCH(0,COUNTIF(R$5:R11,B$6:B$305),0))),"")} | S12: =IFERROR(IF(LEN(R12)=0,0,1),0) -> 0 | T12: =IFERROR(IF(LEN(R12)=0,"",SUMIF($B$6:$B$305,R12,$D$6:$D$305)),"") | U12: {=IFERROR(IF(LEN(E12)=0,"",INDEX(E$6:E$305,MATCH(0,COUNTIF(U$5:U11,E$6:E$305),0))),"")} | V12: =IFERROR(IF(LEN(U12)=0,0,1),0) -> 0 | W12: =IFERROR(IF(LEN(U12)=0,"",SUMIF($E$6:$E$305,U12,$G$6:$G$305)),"") | X12: {=IFERROR(IF(LEN(H12)=0,"",INDEX(H$6:H$305,MATCH(0,COUNTIF(X$5:X11,H$6:H$305),0))),"")} | Y12: =IFERROR(IF(LEN(X12)=0,0,1),0) -> 0 | Z12: =IFERROR(IF(LEN(X12)=0,"",SUMIF($H$6:$H$305,X12,$J$6:$J$305)),"") | AA12: {=IFERROR(IF(LEN(K12)=0,"",INDEX(K$6:K$305,MATCH(0,COUNTIF(AA$5:AA11,K$6:K$305),0))),"")} | AB12: =IFERROR(IF(LEN(AA12)=0,0,1),0) -> 0 | AC12: =IFERROR(IF(LEN(AA12)=0,"",SUMIF($K$6:$K$305,AA12,$M$6:$M$305)),"")
B13: =IFERROR(IF(LEN(B$5)=0,"",IF(LEN(INDEX(_xlnm.Database,ROW($C13)-ROW($C$4),MATCH(B$5,RawData_Headers,0)))=0,"",INDEX(_xlnm.Database,ROW($C13)-ROW($C$4),MATCH(B$5,RawData_Headers,0)))),"") -> Mark Gündelberg | C13: =IFERROR(IF(LEN(B13)=0,0,1),0) -> 1 | D13: =IFERROR(IF(C13=0,0,1),0) -> 1 | E13: =IFERROR(IF(LEN(E$5)=0,"",IF(LEN(INDEX(_xlnm.Database,ROW($F13)-ROW($F$4),MATCH(E$5,RawData_Headers,0)))=0,"",INDEX(_xlnm.Database,ROW($F13)-ROW($F$4),MATCH(E$5,RawData_Headers,0)))),"") -> Adam Smith | F13: =IFERROR(IF(LEN(E13)=0,0,1),0) -> 1 | G13: =IFERROR(IF(LEN(E13)=0,0,1),0) -> 1 | H13: =IFERROR(IF(LEN(H$5)=0,"",IF(LEN(INDEX(_xlnm.Database,ROW($I13)-ROW($I$4),MATCH(H$5,RawData_Headers,0)))=0,"",INDEX(_xlnm.Database,ROW($I13)-ROW($I$4),MATCH(H$5,RawData_Headers,0)))),"") -> Protective | I13: =IFERROR(IF(LEN(H13)=0,0,1),0) -> 1 | J13: =IFERROR(IF(I13=0,0,1),0) -> 1 | K13: =IFERROR(IF(LEN(K$5)=0,"",IF(LEN(INDEX(_xlnm.Database,ROW($L13)-ROW($L$4),MATCH(K$5,RawData_Headers,0)))=0,"",INDEX(_xlnm.Database,ROW($L13)-ROW($L$4),MATCH(K$5,RawData_Headers,0)))),"") -> Lack of Management | L13: =IFERROR(IF(LEN(K13)=0,0,1),0) -> 1 | M13: =IFERROR(IF(L13=0,0,1),0) -> 1 | O13: 8 | P13: Aug | R13: {=IFERROR(IF(LEN(B13)=0,"",INDEX(B$6:B$305,MATCH(0,COUNTIF(R$5:R12,B$6:B$305),0))),"")} | S13: =IFERROR(IF(LEN(R13)=0,0,1),0) -> 0 | T13: =IFERROR(IF(LEN(R13)=0,"",SUMIF($B$6:$B$305,R13,$D$6:$D$305)),"") | U13: {=IFERROR(IF(LEN(E13)=0,"",INDEX(E$6:E$305,MATCH(0,COUNTIF(U$5:U12,E$6:E$305),0))),"")} | V13: =IFERROR(IF(LEN(U13)=0,0,1),0) -> 0 | W13: =IFERROR(IF(LEN(U13)=0,"",SUMIF($E$6:$E$305,U13,$G$6:$G$305)),"") | X13: {=IFERROR(IF(LEN(H13)=0,"",INDEX(H$6:H$305,MATCH(0,COUNTIF(X$5:X12,H$6:H$305),0))),"")} | Y13: =IFERROR(IF(LEN(X13)=0,0,1),0) -> 0 | Z13: =IFERROR(IF(LEN(X13)=0,"",SUMIF($H$6:$H$305,X13,$J$6:$J$305)),"") | AA13: {=IFERROR(IF(LEN(K13)=0,"",INDEX(K$6:K$305,MATCH(0,COUNTIF(AA$5:AA12,K$6:K$305),0))),"")} | AB13: =IFERROR(IF(LEN(AA13)=0,0,1),0) -> 0 | AC13: =IFERROR(IF(LEN(AA13)=0,"",SUMIF($K$6:$K$305,AA13,$M$6:$M$305)),"")
B14: =IFERROR(IF(LEN(B$5)=0,"",IF(LEN(INDEX(_xlnm.Database,ROW($C14)-ROW($C$4),MATCH(B$5,RawData_Headers,0)))=0,"",INDEX(_xlnm.Database,ROW($C14)-ROW($C$4),MATCH(B$5,RawData_Headers,0)))),"") | C14: =IFERROR(IF(LEN(B14)=0,0,1),0) -> 0 | D14: =IFERROR(IF(C14=0,0,1),0) -> 0 | E14: =IFERROR(IF(LEN(E$5)=0,"",IF(LEN(INDEX(_xlnm.Database,ROW($F14)-ROW($F$4),MATCH(E$5,RawData_Headers,0)))=0,"",INDEX(_xlnm.Database,ROW($F14)-ROW($F$4),MATCH(E$5,RawData_Headers,0)))),"") | F14: =IFERROR(IF(LEN(E14)=0,0,1),0) -> 0 | G14: =IFERROR(IF(LEN(E14)=0,0,1),0) -> 0 | H14: =IFERROR(IF(LEN(H$5)=0,"",IF(LEN(INDEX(_xlnm.Database,ROW($I14)-ROW($I$4),MATCH(H$5,RawData_Headers,0)))=0,"",INDEX(_xlnm.Database,ROW($I14)-ROW($I$4),MATCH(H$5,RawData_Headers,0)))),"") | I14: =IFERROR(IF(LEN(H14)=0,0,1),0) -> 0 | J14: =IFERROR(IF(I14=0,0,1),0) -> 0 | K14: =IFERROR(IF(LEN(K$5)=0,"",IF(LEN(INDEX(_xlnm.Database,ROW($L14)-ROW($L$4),MATCH(K$5,RawData_Headers,0)))=0,"",INDEX(_xlnm.Database,ROW($L14)-ROW($L$4),MATCH(K$5,RawData_Headers,0)))),"") | L14: =IFERROR(IF(LEN(K14)=0,0,1),0) -> 0 | M14: =IFERROR(IF(L14=0,0,1),0) -> 0 | O14: 9 | P14: Sep | R14: {=IFERROR(IF(LEN(B14)=0,"",INDEX(B$6:B$305,MATCH(0,COUNTIF(R$5:R13,B$6:B$305),0))),"")} | S14: =IFERROR(IF(LEN(R14)=0,0,1),0) -> 0 | T14: =IFERROR(IF(LEN(R14)=0,"",SUMIF($B$6:$B$305,R14,$D$6:$D$305)),"") | U14: {=IFERROR(IF(LEN(E14)=0,"",INDEX(E$6:E$305,MATCH(0,COUNTIF(U$5:U13,E$6:E$305),0))),"")} | V14: =IFERROR(IF(LEN(U14)=0,0,1),0) -> 0 | W14: =IFERROR(IF(LEN(U14)=0,"",SUMIF($E$6:$E$305,U14,$G$6:$G$305)),"") | X14: {=IFERROR(IF(LEN(H14)=0,"",INDEX(H$6:H$305,MATCH(0,COUNTIF(X$5:X13,H$6:H$305),0))),"")} | Y14: =IFERROR(IF(LEN(X14)=0,0,1),0) -> 0 | Z14: =IFERROR(IF(LEN(X14)=0,"",SUMIF($H$6:$H$305,X14,$J$6:$J$305)),"") | AA14: {=IFERROR(IF(LEN(K14)=0,"",INDEX(K$6:K$305,MATCH(0,COUNTIF(AA$5:AA13,K$6:K$305),0))),"")} | AB14: =IFERROR(IF(LEN(AA14)=0,0,1),0) -> 0 | AC14: =IFERROR(IF(LEN(AA14)=0,"",SUMIF($K$6:$K$305,AA14,$M$6:$M$305)),"")
B15: =IFERROR(IF(LEN(B$5)=0,"",IF(LEN(INDEX(_xlnm.Database,ROW($C15)-ROW($C$4),MATCH(B$5,RawData_Headers,0)))=0,"",INDEX(_xlnm.Database,ROW($C15)-ROW($C$4),MATCH(B$5,RawData_Headers,0)))),"") | C15: =IFERROR(IF(LEN(B15)=0,0,1),0) -> 0 | D15: =IFERROR(IF(C15=0,0,1),0) -> 0 | E15: =IFERROR(IF(LEN(E$5)=0,"",IF(LEN(INDEX(_xlnm.Database,ROW($F15)-ROW($F$4),MATCH(E$5,RawData_Headers,0)))=0,"",INDEX(_xlnm.Database,ROW($F15)-ROW($F$4),MATCH(E$5,RawData_Headers,0)))),"") | F15: =IFERROR(IF(LEN(E15)=0,0,1),0) -> 0 | G15: =IFERROR(IF(LEN(E15)=0,0,1),0) -> 0 | H15: =IFERROR(IF(LEN(H$5)=0,"",IF(LEN(INDEX(_xlnm.Database,ROW($I15)-ROW($I$4),MATCH(H$5,RawData_Headers,0)))=0,"",INDEX(_xlnm.Database,ROW($I15)-ROW($I$4),MATCH(H$5,RawData_Headers,0)))),"") | I15: =IFERROR(IF(LEN(H15)=0,0,1),0) -> 0 | J15: =IFERROR(IF(I15=0,0,1),0) -> 0 | K15: =IFERROR(IF(LEN(K$5)=0,"",IF(LEN(INDEX(_xlnm.Database,ROW($L15)-ROW($L$4),MATCH(K$5,RawData_Headers,0)))=0,"",INDEX(_xlnm.Database,ROW($L15)-ROW($L$4),MATCH(K$5,RawData_Headers,0)))),"") | L15: =IFERROR(IF(LEN(K15)=0,0,1),0) -> 0 | M15: =IFERROR(IF(L15=0,0,1),0) -> 0 | O15: 10 | P15: Oct | R15: {=IFERROR(IF(LEN(B15)=0,"",INDEX(B$6:B$305,MATCH(0,COUNTIF(R$5:R14,B$6:B$305),0))),"")} | S15: =IFERROR(IF(LEN(R15)=0,0,1),0) -> 0 | T15: =IFERROR(IF(LEN(R15)=0,"",SUMIF($B$6:$B$305,R15,$D$6:$D$305)),"") | U15: {=IFERROR(IF(LEN(E15)=0,"",INDEX(E$6:E$305,MATCH(0,COUNTIF(U$5:U14,E$6:E$305),0))),"")} | V15: =IFERROR(IF(LEN(U15)=0,0,1),0) -> 0 | W15: =IFERROR(IF(LEN(U15)=0,"",SUMIF($E$6:$E$305,U15,$G$6:$G$305)),"") | X15: {=IFERROR(IF(LEN(H15)=0,"",INDEX(H$6:H$305,MATCH(0,COUNTIF(X$5:X14,H$6:H$305),0))),"")} | Y15: =IFERROR(IF(LEN(X15)=0,0,1),0) -> 0 | Z15: =IFERROR(IF(LEN(X15)=0,"",SUMIF($H$6:$H$305,X15,$J$6:$J$305)),"") | AA15: {=IFERROR(IF(LEN(K15)=0,"",INDEX(K$6:K$305,MATCH(0,COUNTIF(AA$5:AA14,K$6:K$305),0))),"")} | AB15: =IFERROR(IF(LEN(AA15)=0,0,1),0) -> 0 | AC15: =IFERROR(IF(LEN(AA15)=0,"",SUMIF($K$6:$K$305,AA15,$M$6:$M$305)),"")
B16: =IFERROR(IF(LEN(B$5)=0,"",IF(LEN(INDEX(_xlnm.Database,ROW($C16)-ROW($C$4),MATCH(B$5,RawData_Headers,0)))=0,"",INDEX(_xlnm.Database,ROW($C16)-ROW($C$4),MATCH(B$5,RawData_Headers,0)))),"") | C16: =IFERROR(IF(LEN(B16)=0,0,1),0) -> 0 | D16: =IFERROR(IF(C16=0,0,1),0) -> 0 | E16: =IFERROR(IF(LEN(E$5)=0,"",IF(LEN(INDEX(_xlnm.Database,ROW($F16)-ROW($F$4),MATCH(E$5,RawData_Headers,0)))=0,"",INDEX(_xlnm.Database,ROW($F16)-ROW($F$4),MATCH(E$5,RawData_Headers,0)))),"") | F16: =IFERROR(IF(LEN(E16)=0,0,1),0) -> 0 | G16: =IFERROR(IF(LEN(E16)=0,0,1),0) -> 0 | H16: =IFERROR(IF(LEN(H$5)=0,"",IF(LEN(INDEX(_xlnm.Database,ROW($I16)-ROW($I$4),MATCH(H$5,RawData_Headers,0)))=0,"",INDEX(_xlnm.Database,ROW($I16)-ROW($I$4),MATCH(H$5,RawData_Headers,0)))),"") | I16: =IFERROR(IF(LEN(H16)=0,0,1),0) -> 0 | J16: =IFERROR(IF(I16=0,0,1),0) -> 0 | K16: =IFERROR(IF(LEN(K$5)=0,"",IF(LEN(INDEX(_xlnm.Database,ROW($L16)-ROW($L$4),MATCH(K$5,RawData_Headers,0)))=0,"",INDEX(_xlnm.Database,ROW($L16)-ROW($L$4),MATCH(K$5,RawData_Headers,0)))),"") | L16: =IFERROR(IF(LEN(K16)=0,0,1),0) -> 0 | M16: =IFERROR(IF(L16=0,0,1),0) -> 0 | O16: 11 | P16: Nov | R16: {=IFERROR(IF(LEN(B16)=0,"",INDEX(B$6:B$305,MATCH(0,COUNTIF(R$5:R15,B$6:B$305),0))),"")} | S16: =IFERROR(IF(LEN(R16)=0,0,1),0) -> 0 | T16: =IFERROR(IF(LEN(R16)=0,"",SUMIF($B$6:$B$305,R16,$D$6:$D$305)),"") | U16: {=IFERROR(IF(LEN(E16)=0,"",INDEX(E$6:E$305,MATCH(0,COUNTIF(U$5:U15,E$6:E$305),0))),"")} | V16: =IFERROR(IF(LEN(U16)=0,0,1),0) -> 0 | W16: =IFERROR(IF(LEN(U16)=0,"",SUMIF($E$6:$E$305,U16,$G$6:$G$305)),"") | X16: {=IFERROR(IF(LEN(H16)=0,"",INDEX(H$6:H$305,MATCH(0,COUNTIF(X$5:X15,H$6:H$305),0))),"")} | Y16: =IFERROR(IF(LEN(X16)=0,0,1),0) -> 0 | Z16: =IFERROR(IF(LEN(X16)=0,"",SUMIF($H$6:$H$305,X16,$J$6:$J$305)),"") | AA16: {=IFERROR(IF(LEN(K16)=0,"",INDEX(K$6:K$305,MATCH(0,COUNTIF(AA$5:AA15,K$6:K$305),0))),"")} | AB16: =IFERROR(IF(LEN(AA16)=0,0,1),0) -> 0 | AC16: =IFERROR(IF(LEN(AA16)=0,"",SUMIF($K$6:$K$305,AA16,$M$6:$M$305)),"")
B17: =IFERROR(IF(LEN(B$5)=0,"",IF(LEN(INDEX(_xlnm.Database,ROW($C17)-ROW($C$4),MATCH(B$5,RawData_Headers,0)))=0,"",INDEX(_xlnm.Database,ROW($C17)-ROW($C$4),MATCH(B$5,RawData_Headers,0)))),"") | C17: =IFERROR(IF(LEN(B17)=0,0,1),0) -> 0 | D17: =IFERROR(IF(C17=0,0,1),0) -> 0 | E17: =IFERROR(IF(LEN(E$5)=0,"",IF(LEN(INDEX(_xlnm.Database,ROW($F17)-ROW($F$4),MATCH(E$5,RawData_Headers,0)))=0,"",INDEX(_xlnm.Database,ROW($F17)-ROW($F$4),MATCH(E$5,RawData_Headers,0)))),"") | F17: =IFERROR(IF(LEN(E17)=0,0,1),0) -> 0 | G17: =IFERROR(IF(LEN(E17)=0,0,1),0) -> 0 | H17: =IFERROR(IF(LEN(H$5)=0,"",IF(LEN(INDEX(_xlnm.Database,ROW($I17)-ROW($I$4),MATCH(H$5,RawData_Headers,0)))=0,"",INDEX(_xlnm.Database,ROW($I17)-ROW($I$4),MATCH(H$5,RawData_Headers,0)))),"") | I17: =IFERROR(IF(LEN(H17)=0,0,1),0) -> 0 | J17: =IFERROR(IF(I17=0,0,1),0) -> 0 | K17: =IFERROR(IF(LEN(K$5)=0,"",IF(LEN(INDEX(_xlnm.Database,ROW($L17)-ROW($L$4),MATCH(K$5,RawData_Headers,0)))=0,"",INDEX(_xlnm.Database,ROW($L17)-ROW($L$4),MATCH(K$5,RawData_Headers,0)))),"") | L17: =IFERROR(IF(LEN(K17)=0,0,1),0) -> 0 | M17: =IFERROR(IF(L17=0,0,1),0) -> 0 | O17: 12 | P17: Dec | R17: {=IFERROR(IF(LEN(B17)=0,"",INDEX(B$6:B$305,MATCH(0,COUNTIF(R$5:R16,B$6:B$305),0))),"")} | S17: =IFERROR(IF(LEN(R17)=0,0,1),0) -> 0 | T17: =IFERROR(IF(LEN(R17)=0,"",SUMIF($B$6:$B$305,R17,$D$6:$D$305)),"") | U17: {=IFERROR(IF(LEN(E17)=0,"",INDEX(E$6:E$305,MATCH(0,COUNTIF(U$5:U16,E$6:E$305),0))),"")} | V17: =IFERROR(IF(LEN(U17)=0,0,1),0) -> 0 | W17: =IFERROR(IF(LEN(U17)=0,"",SUMIF($E$6:$E$305,U17,$G$6:$G$305)),"") | X17: {=IFERROR(IF(LEN(H17)=0,"",INDEX(H$6:H$305,MATCH(0,COUNTIF(X$5:X16,H$6:H$305),0))),"")} | Y17: =IFERROR(IF(LEN(X17)=0,0,1),0) -> 0 | Z17: =IFERROR(IF(LEN(X17)=0,"",SUMIF($H$6:$H$305,X17,$J$6:$J$305)),"") | AA17: {=IFERROR(IF(LEN(K17)=0,"",INDEX(K$6:K$305,MATCH(0,COUNTIF(AA$5:AA16,K$6:K$305),0))),"")} | AB17: =IFERROR(IF(LEN(AA17)=0,0,1),0) -> 0 | AC17: =IFERROR(IF(LEN(AA17)=0,"",SUMIF($K$6:$K$305,AA17,$M$6:$M$305)),"")
B18: =IFERROR(IF(LEN(B$5)=0,"",IF(LEN(INDEX(_xlnm.Database,ROW($C18)-ROW($C$4),MATCH(B$5,RawData_Headers,0)))=0,"",INDEX(_xlnm.Database,ROW($C18)-ROW($C$4),MATCH(B$5,RawData_Headers,0)))),"") | C18: =IFERROR(IF(LEN(B18)=0,0,1),0) -> 0 | D18: =IFERROR(IF(C18=0,0,1),0) -> 0 | E18: =IFERROR(IF(LEN(E$5)=0,"",IF(LEN(INDEX(_xlnm.Database,ROW($F18)-ROW($F$4),MATCH(E$5,RawData_Headers,0)))=0,"",INDEX(_xlnm.Database,ROW($F18)-ROW($F$4),MATCH(E$5,RawData_Headers,0)))),"") | F18: =IFERROR(IF(LEN(E18)=0,0,1),0) -> 0 | G18: =IFERROR(IF(LEN(E18)=0,0,1),0) -> 0 | H18: =IFERROR(IF(LEN(H$5)=0,"",IF(LEN(INDEX(_xlnm.Database,ROW($I18)-ROW($I$4),MATCH(H$5,RawData_Headers,0)))=0,"",INDEX(_xlnm.Database,ROW($I18)-ROW($I$4),MATCH(H$5,RawData_Headers,0)))),"") | I18: =IFERROR(IF(LEN(H18)=0,0,1),0) -> 0 | J18: =IFERROR(IF(I18=0,0,1),0) -> 0 | K18: =IFERROR(IF(LEN(K$5)=0,"",IF(LEN(INDEX(_xlnm.Database,ROW($L18)-ROW($L$4),MATCH(K$5,RawData_Headers,0)))=0,"",INDEX(_xlnm.Database,ROW($L18)-ROW($L$4),MATCH(K$5,RawData_Headers,0)))),"") | L18: =IFERROR(IF(LEN(K18)=0,0,1),0) -> 0 | M18: =IFERROR(IF(L18=0,0,1),0) -> 0 | R18: {=IFERROR(IF(LEN(B18)=0,"",INDEX(B$6:B$305,MATCH(0,COUNTIF(R$5:R17,B$6:B$305),0))),"")} | S18: =IFERROR(IF(LEN(R18)=0,0,1),0) -> 0 | T18: =IFERROR(IF(LEN(R18)=0,"",SUMIF($B$6:$B$305,R18,$D$6:$D$305)),"") | U18: {=IFERROR(IF(LEN(E18)=0,"",INDEX(E$6:E$305,MATCH(0,COUNTIF(U$5:U17,E$6:E$305),0))),"")} | V18: =IFERROR(IF(LEN(U18)=0,0,1),0) -> 0 | W18: =IFERROR(IF(LEN(U18)=0,"",SUMIF($E$6:$E$305,U18,$G$6:$G$305)),"") | X18: {=IFERROR(IF(LEN(H18)=0,"",INDEX(H$6:H$305,MATCH(0,COUNTIF(X$5:X17,H$6:H$305),0))),"")} | Y18: =IFERROR(IF(LEN(X18)=0,0,1),0) -> 0 | Z18: =IFERROR(IF(LEN(X18)=0,"",SUMIF($H$6:$H$305,X18,$J$6:$J$305)),"") | AA18: {=IFERROR(IF(LEN(K18)=0,"",INDEX(K$6:K$305,MATCH(0,COUNTIF(AA$5:AA17,K$6:K$305),0))),"")} | AB18: =IFERROR(IF(LEN(AA18)=0,0,1),0) -> 0 | AC18: =IFERROR(IF(LEN(AA18)=0,"",SUMIF($K$6:$K$305,AA18,$M$6:$M$305)),"")
B19: =IFERROR(IF(LEN(B$5)=0,"",IF(LEN(INDEX(_xlnm.Database,ROW($C19)-ROW($C$4),MATCH(B$5,RawData_Headers,0)))=0,"",INDEX(_xlnm.Database,ROW($C19)-ROW($C$4),MATCH(B$5,RawData_Headers,0)))),"") | C19: =IFERROR(IF(LEN(B19)=0,0,1),0) -> 0 | D19: =IFERROR(IF(C19=0,0,1),0) -> 0 | E19: =IFERROR(IF(LEN(E$5)=0,"",IF(LEN(INDEX(_xlnm.Database,ROW($F19)-ROW($F$4),MATCH(E$5,RawData_Headers,0)))=0,"",INDEX(_xlnm.Database,ROW($F19)-ROW($F$4),MATCH(E$5,RawData_Headers,0)))),"") | F19: =IFERROR(IF(LEN(E19)=0,0,1),0) -> 0 | G19: =IFERROR(IF(LEN(E19)=0,0,1),0) -> 0 | H19: =IFERROR(IF(LEN(H$5)=0,"",IF(LEN(INDEX(_xlnm.Database,ROW($I19)-ROW($I$4),MATCH(H$5,RawData_Headers,0)))=0,"",INDEX(_xlnm.Database,ROW($I19)-ROW($I$4),MATCH(H$5,RawData_Headers,0)))),"") | I19: =IFERROR(IF(LEN(H19)=0,0,1),0) -> 0 | J19: =IFERROR(IF(I19=0,0,1),0) -> 0 | K19: =IFERROR(IF(LEN(K$5)=0,"",IF(LEN(INDEX(_xlnm.Database,ROW($L19)-ROW($L$4),MATCH(K$5,RawData_Headers,0)))=0,"",INDEX(_xlnm.Database,ROW($L19)-ROW($L$4),MATCH(K$5,RawData_Headers,0)))),"") | L19: =IFERROR(IF(LEN(K19)=0,0,1),0) -> 0 | M19: =IFERROR(IF(L19=0,0,1),0) -> 0 | R19: {=IFERROR(IF(LEN(B19)=0,"",INDEX(B$6:B$305,MATCH(0,COUNTIF(R$5:R18,B$6:B$305),0))),"")} | S19: =IFERROR(IF(LEN(R19)=0,0,1),0) -> 0 | T19: =IFERROR(IF(LEN(R19)=0,"",SUMIF($B$6:$B$305,R19,$D$6:$D$305)),"") | U19: {=IFERROR(IF(LEN(E19)=0,"",INDEX(E$6:E$305,MATCH(0,COUNTIF(U$5:U18,E$6:E$305),0))),"")} | V19: =IFERROR(IF(LEN(U19)=0,0,1),0) -> 0 | W19: =IFERROR(IF(LEN(U19)=0,"",SUMIF($E$6:$E$305,U19,$G$6:$G$305)),"") | X19: {=IFERROR(IF(LEN(H19)=0,"",INDEX(H$6:H$305,MATCH(0,COUNTIF(X$5:X18,H$6:H$305),0))),"")} | Y19: =IFERROR(IF(LEN(X19)=0,0,1),0) -> 0 | Z19: =IFERROR(IF(LEN(X19)=0,"",SUMIF($H$6:$H$305,X19,$J$6:$J$305)),"") | AA19: {=IFERROR(IF(LEN(K19)=0,"",INDEX(K$6:K$305,MATCH(0,COUNTIF(AA$5:AA18,K$6:K$305),0))),"")} | AB19: =IFERROR(IF(LEN(AA19)=0,0,1),0) -> 0 | AC19: =IFERROR(IF(LEN(AA19)=0,"",SUMIF($K$6:$K$305,AA19,$M$6:$M$305)),"")
B20: =IFERROR(IF(LEN(B$5)=0,"",IF(LEN(INDEX(_xlnm.Database,ROW($C20)-ROW($C$4),MATCH(B$5,RawData_Headers,0)))=0,"",INDEX(_xlnm.Database,ROW($C20)-ROW($C$4),MATCH(B$5,RawData_Headers,0)))),"") | C20: =IFERROR(IF(LEN(B20)=0,0,1),0) -> 0 | D20: =IFERROR(IF(C20=0,0,1),0) -> 0 | E20: =IFERROR(IF(LEN(E$5)=0,"",IF(LEN(INDEX(_xlnm.Database,ROW($F20)-ROW($F$4),MATCH(E$5,RawData_Headers,0)))=0,"",INDEX(_xlnm.Database,ROW($F20)-ROW($F$4),MATCH(E$5,RawData_Headers,0)))),"") | F20: =IFERROR(IF(LEN(E20)=0,0,1),0) -> 0 | G20: =IFERROR(IF(LEN(E20)=0,0,1),0) -> 0 | H20: =IFERROR(IF(LEN(H$5)=0,"",IF(LEN(INDEX(_xlnm.Database,ROW($I20)-ROW($I$4),MATCH(H$5,RawData_Headers,0)))=0,"",INDEX(_xlnm.Database,ROW($I20)-ROW($I$4),MATCH(H$5,RawData_Headers,0)))),"") | I20: =IFERROR(IF(LEN(H20)=0,0,1),0) -> 0 | J20: =IFERROR(IF(I20=0,0,1),0) -> 0 | K20: =IFERROR(IF(LEN(K$5)=0,"",IF(LEN(INDEX(_xlnm.Database,ROW($L20)-ROW($L$4),MATCH(K$5,RawData_Headers,0)))=0,"",INDEX(_xlnm.Database,ROW($L20)-ROW($L$4),MATCH(K$5,RawData_Headers,0)))),"") | L20: =IFERROR(IF(LEN(K20)=0,0,1),0) -> 0 | M20: =IFERROR(IF(L20=0,0,1),0) -> 0 | O20: 1st Chart Height | P20: =IFERROR(D306,0) -> 8 | R20: {=IFERROR(IF(LEN(B20)=0,"",INDEX(B$6:B$305,MATCH(0,COUNTIF(R$5:R19,B$6:B$305),0))),"")} | S20: =IFERROR(IF(LEN(R20)=0,0,1),0) -> 0 | T20: =IFERROR(IF(LEN(R20)=0,"",SUMIF($B$6:$B$305,R20,$D$6:$D$305)),"") | U20: {=IFERROR(IF(LEN(E20)=0,"",INDEX(E$6:E$305,MATCH(0,COUNTIF(U$5:U19,E$6:E$305),0))),"")} | V20: =IFERROR(IF(LEN(U20)=0,0,1),0) -> 0 | W20: =IFERROR(IF(LEN(U20)=0,"",SUMIF($E$6:$E$305,U20,$G$6:$G$305)),"") | X20: {=IFERROR(IF(LEN(H20)=0,"",INDEX(H$6:H$305,MATCH(0,COUNTIF(X$5:X19,H$6:H$305),0))),"")} | Y20: =IFERROR(IF(LEN(X20)=0,0,1),0) -> 0 | Z20: =IFERROR(IF(LEN(X20)=0,"",SUMIF($H$6:$H$305,X20,$J$6:$J$305)),"") | AA20: {=IFERROR(IF(LEN(K20)=0,"",INDEX(K$6:K$305,MATCH(0,COUNTIF(AA$5:AA19,K$6:K$305),0))),"")} | AB20: =IFERROR(IF(LEN(AA20)=0,0,1),0) -> 0 | AC20: =IFERROR(IF(LEN(AA20)=0,"",SUMIF($K$6:$K$305,AA20,$M$6:$M$305)),"")
B21: =IFERROR(IF(LEN(B$5)=0,"",IF(LEN(INDEX(_xlnm.Database,ROW($C21)-ROW($C$4),MATCH(B$5,RawData_Headers,0)))=0,"",INDEX(_xlnm.Database,ROW($C21)-ROW($C$4),MATCH(B$5,RawData_Headers,0)))),"") | C21: =IFERROR(IF(LEN(B21)=0,0,1),0) -> 0 | D21: =IFERROR(IF(C21=0,0,1),0) -> 0 | E21: =IFERROR(IF(LEN(E$5)=0,"",IF(LEN(INDEX(_xlnm.Database,ROW($F21)-ROW($F$4),MATCH(E$5,RawData_Headers,0)))=0,"",INDEX(_xlnm.Database,ROW($F21)-ROW($F$4),MATCH(E$5,RawData_Headers,0)))),"") | F21: =IFERROR(IF(LEN(E21)=0,0,1),0) -> 0 | G21: =IFERROR(IF(LEN(E21)=0,0,1),0) -> 0 | H21: =IFERROR(IF(LEN(H$5)=0,"",IF(LEN(INDEX(_xlnm.Database,ROW($I21)-ROW($I$4),MATCH(H$5,RawData_Headers,0)))=0,"",INDEX(_xlnm.Database,ROW($I21)-ROW($I$4),MATCH(H$5,RawData_Headers,0)))),"") | I21: =IFERROR(IF(LEN(H21)=0,0,1),0) -> 0 | J21: =IFERROR(IF(I21=0,0,1),0) -> 0 | K21: =IFERROR(IF(LEN(K$5)=0,"",IF(LEN(INDEX(_xlnm.Database,ROW($L21)-ROW($L$4),MATCH(K$5,RawData_Headers,0)))=0,"",INDEX(_xlnm.Database,ROW($L21)-ROW($L$4),MATCH(K$5,RawData_Headers,0)))),"") | L21: =IFERROR(IF(LEN(K21)=0,0,1),0) -> 0 | M21: =IFERROR(IF(L21=0,0,1),0) -> 0 | O21: 2nd Chart Height | P21: =IFERROR(G306,0) -> 8 | R21: {=IFERROR(IF(LEN(B21)=0,"",INDEX(B$6:B$305,MATCH(0,COUNTIF(R$5:R20,B$6:B$305),0))),"")} | S21: =IFERROR(IF(LEN(R21)=0,0,1),0) -> 0 | T21: =IFERROR(IF(LEN(R21)=0,"",SUMIF($B$6:$B$305,R21,$D$6:$D$305)),"") | U21: {=IFERROR(IF(LEN(E21)=0,"",INDEX(E$6:E$305,MATCH(0,COUNTIF(U$5:U20,E$6:E$305),0))),"")} | V21: =IFERROR(IF(LEN(U21)=0,0,1),0) -> 0 | W21: =IFERROR(IF(LEN(U21)=0,"",SUMIF($E$6:$E$305,U21,$G$6:$G$305)),"") | X21: {=IFERROR(IF(LEN(H21)=0,"",INDEX(H$6:H$305,MATCH(0,COUNTIF(X$5:X20,H$6:H$305),0))),"")} | Y21: =IFERROR(IF(LEN(X21)=0,0,1),0) -> 0 | Z21: =IFERROR(IF(LEN(X21)=0,"",SUMIF($H$6:$H$305,X21,$J$6:$J$305)),"") | AA21: {=IFERROR(IF(LEN(K21)=0,"",INDEX(K$6:K$305,MATCH(0,COUNTIF(AA$5:AA20,K$6:K$305),0))),"")} | AB21: =IFERROR(IF(LEN(AA21)=0,0,1),0) -> 0 | AC21: =IFERROR(IF(LEN(AA21)=0,"",SUMIF($K$6:$K$305,AA21,$M$6:$M$305)),"")
B22: =IFERROR(IF(LEN(B$5)=0,"",IF(LEN(INDEX(_xlnm.Database,ROW($C22)-ROW($C$4),MATCH(B$5,RawData_Headers,0)))=0,"",INDEX(_xlnm.Database,ROW($C22)-ROW($C$4),MATCH(B$5,RawData_Headers,0)))),"") | C22: =IFERROR(IF(LEN(B22)=0,0,1),0) -> 0 | D22: =IFERROR(IF(C22=0,0,1),0) -> 0 | E22: =IFERROR(IF(LEN(E$5)=0,"",IF(LEN(INDEX(_xlnm.Database,ROW($F22)-ROW($F$4),MATCH(E$5,RawData_Headers,0)))=0,"",INDEX(_xlnm.Database,ROW($F22)-ROW($F$4),MATCH(E$5,RawData_Headers,0)))),"") | F22: =IFERROR(IF(LEN(E22)=0,0,1),0) -> 0 | G22: =IFERROR(IF(LEN(E22)=0,0,1),0) -> 0 | H22: =IFERROR(IF(LEN(H$5)=0,"",IF(LEN(INDEX(_xlnm.Database,ROW($I22)-ROW($I$4),MATCH(H$5,RawData_Headers,0)))=0,"",INDEX(_xlnm.Database,ROW($I22)-ROW($I$4),MATCH(H$5,RawData_Headers,0)))),"") | I22: =IFERROR(IF(LEN(H22)=0,0,1),0) -> 0 | J22: =IFERROR(IF(I22=0,0,1),0) -> 0 | K22: =IFERROR(IF(LEN(K$5)=0,"",IF(LEN(INDEX(_xlnm.Database,ROW($L22)-ROW($L$4),MATCH(K$5,RawData_Headers,0)))=0,"",INDEX(_xlnm.Database,ROW($L22)-ROW($L$4),MATCH(K$5,RawData_Headers,0)))),"") | L22: =IFERROR(IF(LEN(K22)=0,0,1),0) -> 0 | M22: =IFERROR(IF(L22=0,0,1),0) -> 0 | O22: 3rd Chart Height | P22: =IFERROR(J306,0) -> 8 | R22: {=IFERROR(IF(LEN(B22)=0,"",INDEX(B$6:B$305,MATCH(0,COUNTIF(R$5:R21,B$6:B$305),0))),"")} | S22: =IFERROR(IF(LEN(R22)=0,0,1),0) -> 0 | T22: =IFERROR(IF(LEN(R22)=0,"",SUMIF($B$6:$B$305,R22,$D$6:$D$305)),"") | U22: {=IFERROR(IF(LEN(E22)=0,"",INDEX(E$6:E$305,MATCH(0,COUNTIF(U$5:U21,E$6:E$305),0))),"")} | V22: =IFERROR(IF(LEN(U22)=0,0,1),0) -> 0 | W22: =IFERROR(IF(LEN(U22)=0,"",SUMIF($E$6:$E$305,U22,$G$6:$G$305)),"") | X22: {=IFERROR(IF(LEN(H22)=0,"",INDEX(H$6:H$305,MATCH(0,COUNTIF(X$5:X21,H$6:H$305),0))),"")} | Y22: =IFERROR(IF(LEN(X22)=0,0,1),0) -> 0 | Z22: =IFERROR(IF(LEN(X22)=0,"",SUMIF($H$6:$H$305,X22,$J$6:$J$305)),"") | AA22: {=IFERROR(IF(LEN(K22)=0,"",INDEX(K$6:K$305,MATCH(0,COUNTIF(AA$5:AA21,K$6:K$305),0))),"")} | AB22: =IFERROR(IF(LEN(AA22)=0,0,1),0) -> 0 | AC22: =IFERROR(IF(LEN(AA22)=0,"",SUMIF($K$6:$K$305,AA22,$M$6:$M$305)),"")
B23: =IFERROR(IF(LEN(B$5)=0,"",IF(LEN(INDEX(_xlnm.Database,ROW($C23)-ROW($C$4),MATCH(B$5,RawData_Headers,0)))=0,"",INDEX(_xlnm.Database,ROW($C23)-ROW($C$4),MATCH(B$5,RawData_Headers,0)))),"") | C23: =IFERROR(IF(LEN(B23)=0,0,1),0) -> 0 | D23: =IFERROR(IF(C23=0,0,1),0) -> 0 | E23: =IFERROR(IF(LEN(E$5)=0,"",IF(LEN(INDEX(_xlnm.Database,ROW($F23)-ROW($F$4),MATCH(E$5,RawData_Headers,0)))=0,"",INDEX(_xlnm.Database,ROW($F23)-ROW($F$4),MATCH(E$5,RawData_Headers,0)))),"") | F23: =IFERROR(IF(LEN(E23)=0,0,1),0) -> 0 | G23: =IFERROR(IF(LEN(E23)=0,0,1),0) -> 0 | H23: =IFERROR(IF(LEN(H$5)=0,"",IF(LEN(INDEX(_xlnm.Database,ROW($I23)-ROW($I$4),MATCH(H$5,RawData_Headers,0)))=0,"",INDEX(_xlnm.Database,ROW($I23)-ROW($I$4),MATCH(H$5,RawData_Headers,0)))),"") | I23: =IFERROR(IF(LEN(H23)=0,0,1),0) -> 0 | J23: =IFERROR(IF(I23=0,0,1),0) -> 0 | K23: =IFERROR(IF(LEN(K$5)=0,"",IF(LEN(INDEX(_xlnm.Database,ROW($L23)-ROW($L$4),MATCH(K$5,RawData_Headers,0)))=0,"",INDEX(_xlnm.Database,ROW($L23)-ROW($L$4),MATCH(K$5,RawData_Headers,0)))),"") | L23: =IFERROR(IF(LEN(K23)=0,0,1),0) -> 0 | M23: =IFERROR(IF(L23=0,0,1),0) -> 0 | O23: 4th Chart Height | P23: =IFERROR(M306,0) -> 8 | R23: {=IFERROR(IF(LEN(B23)=0,"",INDEX(B$6:B$305,MATCH(0,COUNTIF(R$5:R22,B$6:B$305),0))),"")} | S23: =IFERROR(IF(LEN(R23)=0,0,1),0) -> 0 | T23: =IFERROR(IF(LEN(R23)=0,"",SUMIF($B$6:$B$305,R23,$D$6:$D$305)),"") | U23: {=IFERROR(IF(LEN(E23)=0,"",INDEX(E$6:E$305,MATCH(0,COUNTIF(U$5:U22,E$6:E$305),0))),"")} | V23: =IFERROR(IF(LEN(U23)=0,0,1),0) -> 0 | W23: =IFERROR(IF(LEN(U23)=0,"",SUMIF($E$6:$E$305,U23,$G$6:$G$305)),"") | X23: {=IFERROR(IF(LEN(H23)=0,"",INDEX(H$6:H$305,MATCH(0,COUNTIF(X$5:X22,H$6:H$305),0))),"")} | Y23: =IFERROR(IF(LEN(X23)=0,0,1),0) -> 0 | Z23: =IFERROR(IF(LEN(X23)=0,"",SUMIF($H$6:$H$305,X23,$J$6:$J$305)),"") | AA23: {=IFERROR(IF(LEN(K23)=0,"",INDEX(K$6:K$305,MATCH(0,COUNTIF(AA$5:AA22,K$6:K$305),0))),"")} | AB23: =IFERROR(IF(LEN(AA23)=0,0,1),0) -> 0 | AC23: =IFERROR(IF(LEN(AA23)=0,"",SUMIF($K$6:$K$305,AA23,$M$6:$M$305)),"")
B24: =IFERROR(IF(LEN(B$5)=0,"",IF(LEN(INDEX(_xlnm.Database,ROW($C24)-ROW($C$4),MATCH(B$5,RawData_Headers,0)))=0,"",INDEX(_xlnm.Database,ROW($C24)-ROW($C$4),MATCH(B$5,RawData_Headers,0)))),"") | C24: =IFERROR(IF(LEN(B24)=0,0,1),0) -> 0 | D24: =IFERROR(IF(C24=0,0,1),0) -> 0 | E24: =IFERROR(IF(LEN(E$5)=0,"",IF(LEN(INDEX(_xlnm.Database,ROW($F24)-ROW($F$4),MATCH(E$5,RawData_Headers,0)))=0,"",INDEX(_xlnm.Database,ROW($F24)-ROW($F$4),MATCH(E$5,RawData_Headers,0)))),"") | F24: =IFERROR(IF(LEN(E24)=0,0,1),0) -> 0 | G24: =IFERROR(IF(LEN(E24)=0,0,1),0) -> 0 | H24: =IFERROR(IF(LEN(H$5)=0,"",IF(LEN(INDEX(_xlnm.Database,ROW($I24)-ROW($I$4),MATCH(H$5,RawData_Headers,0)))=0,"",INDEX(_xlnm.Database,ROW($I24)-ROW($I$4),MATCH(H$5,RawData_Headers,0)))),"") | I24: =IFERROR(IF(LEN(H24)=0,0,1),0) -> 0 | J24: =IFERROR(IF(I24=0,0,1),0) -> 0 | K24: =IFERROR(IF(LEN(K$5)=0,"",IF(LEN(INDEX(_xlnm.Database,ROW($L24)-ROW($L$4),MATCH(K$5,RawData_Headers,0)))=0,"",INDEX(_xlnm.Database,ROW($L24)-ROW($L$4),MATCH(K$5,RawData_Headers,0)))),"") | L24: =IFERROR(IF(LEN(K24)=0,0,1),0) -> 0 | M24: =IFERROR(IF(L24=0,0,1),0) -> 0 | R24: {=IFERROR(IF(LEN(B24)=0,"",INDEX(B$6:B$305,MATCH(0,COUNTIF(R$5:R23,B$6:B$305),0))),"")} | S24: =IFERROR(IF(LEN(R24)=0,0,1),0) -> 0 | T24: =IFERROR(IF(LEN(R24)=0,"",SUMIF($B$6:$B$305,R24,$D$6:$D$305)),"") | U24: {=IFERROR(IF(LEN(E24)=0,"",INDEX(E$6:E$305,MATCH(0,COUNTIF(U$5:U23,E$6:E$305),0))),"")} | V24: =IFERROR(IF(LEN(U24)=0,0,1),0) -> 0 | W24: =IFERROR(IF(LEN(U24)=0,"",SUMIF($E$6:$E$305,U24,$G$6:$G$305)),"") | X24: {=IFERROR(IF(LEN(H24)=0,"",INDEX(H$6:H$305,MATCH(0,COUNTIF(X$5:X23,H$6:H$305),0))),"")} | Y24: =IFERROR(IF(LEN(X24)=0,0,1),0) -> 0 | Z24: =IFERROR(IF(LEN(X24)=0,"",SUMIF($H$6:$H$305,X24,$J$6:$J$305)),"") | AA24: {=IFERROR(IF(LEN(K24)=0,"",INDEX(K$6:K$305,MATCH(0,COUNTIF(AA$5:AA23,K$6:K$305),0))),"")} | AB24: =IFERROR(IF(LEN(AA24)=0,0,1),0) -> 0 | AC24: =IFERROR(IF(LEN(AA24)=0,"",SUMIF($K$6:$K$305,AA24,$M$6:$M$305)),"")
B25: =IFERROR(IF(LEN(B$5)=0,"",IF(LEN(INDEX(_xlnm.Database,ROW($C25)-ROW($C$4),MATCH(B$5,RawData_Headers,0)))=0,"",INDEX(_xlnm.Database,ROW($C25)-ROW($C$4),MATCH(B$5,RawData_Headers,0)))),"") | C25: =IFERROR(IF(LEN(B25)=0,0,1),0) -> 0 | D25: =IFERROR(IF(C25=0,0,1),0) -> 0 | E25: =IFERROR(IF(LEN(E$5)=0,"",IF(LEN(INDEX(_xlnm.Database,ROW($F25)-ROW($F$4),MATCH(E$5,RawData_Headers,0)))=0,"",INDEX(_xlnm.Database,ROW($F25)-ROW($F$4),MATCH(E$5,RawData_Headers,0)))),"") | F25: =IFERROR(IF(LEN(E25)=0,0,1),0) -> 0 | G25: =IFERROR(IF(LEN(E25)=0,0,1),0) -> 0 | H25: =IFERROR(IF(LEN(H$5)=0,"",IF(LEN(INDEX(_xlnm.Database,ROW($I25)-ROW($I$4),MATCH(H$5,RawData_Headers,0)))=0,"",INDEX(_xlnm.Database,ROW($I25)-ROW($I$4),MATCH(H$5,RawData_Headers,0)))),"") | I25: =IFERROR(IF(LEN(H25)=0,0,1),0) -> 0 | J25: =IFERROR(IF(I25=0,0,1),0) -> 0 | K25: =IFERROR(IF(LEN(K$5)=0,"",IF(LEN(INDEX(_xlnm.Database,ROW($L25)-ROW($L$4),MATCH(K$5,RawData_Headers,0)))=0,"",INDEX(_xlnm.Database,ROW($L25)-ROW($L$4),MATCH(K$5,RawData_Headers,0)))),"") | L25: =IFERROR(IF(LEN(K25)=0,0,1),0) -> 0 | M25: =IFERROR(IF(L25=0,0,1),0) -> 0 | O25: =Dashboard!C7&" Chart" -> Sub-Controller Chart | R25: {=IFERROR(IF(LEN(B25)=0,"",INDEX(B$6:B$305,MATCH(0,COUNTIF(R$5:R24,B$6:B$305),0))),"")} | S25: =IFERROR(IF(LEN(R25)=0,0,1),0) -> 0 | T25: =IFERROR(IF(LEN(R25)=0,"",SUMIF($B$6:$B$305,R25,$D$6:$D$305)),"") | U25: {=IFERROR(IF(LEN(E25)=0,"",INDEX(E$6:E$305,MATCH(0,COUNTIF(U$5:U24,E$6:E$305),0))),"")} | V25: =IFERROR(IF(LEN(U25)=0,0,1),0) -> 0 | W25: =IFERROR(IF(LEN(U25)=0,"",SUMIF($E$6:$E$305,U25,$G$6:$G$305)),"") | X25: {=IFERROR(IF(LEN(H25)=0,"",INDEX(H$6:H$305,MATCH(0,COUNTIF(X$5:X24,H$6:H$305),0))),"")} | Y25: =IFERROR(IF(LEN(X25)=0,0,1),0) -> 0 | Z25: =IFERROR(IF(LEN(X25)=0,"",SUMIF($H$6:$H$305,X25,$J$6:$J$305)),"") | AA25: {=IFERROR(IF(LEN(K25)=0,"",INDEX(K$6:K$305,MATCH(0,COUNTIF(AA$5:AA24,K$6:K$305),0))),"")} | AB25: =IFERROR(IF(LEN(AA25)=0,0,1),0) -> 0 | AC25: =IFERROR(IF(LEN(AA25)=0,"",SUMIF($K$6:$K$305,AA25,$M$6:$M$305)),"")
B26: =IFERROR(IF(LEN(B$5)=0,"",IF(LEN(INDEX(_xlnm.Database,ROW($C26)-ROW($C$4),MATCH(B$5,RawData_Headers,0)))=0,"",INDEX(_xlnm.Database,ROW($C26)-ROW($C$4),MATCH(B$5,RawData_Headers,0)))),"") | C26: =IFERROR(IF(LEN(B26)=0,0,1),0) -> 0 | D26: =IFERROR(IF(C26=0,0,1),0) -> 0 | E26: =IFERROR(IF(LEN(E$5)=0,"",IF(LEN(INDEX(_xlnm.Database,ROW($F26)-ROW($F$4),MATCH(E$5,RawData_Headers,0)))=0,"",INDEX(_xlnm.Database,ROW($F26)-ROW($F$4),MATCH(E$5,RawData_Headers,0)))),"") | F26: =IFERROR(IF(LEN(E26)=0,0,1),0) -> 0 | G26: =IFERROR(IF(LEN(E26)=0,0,1),0) -> 0 | H26: =IFERROR(IF(LEN(H$5)=0,"",IF(LEN(INDEX(_xlnm.Database,ROW($I26)-ROW($I$4),MATCH(H$5,RawData_Headers,0)))=0,"",INDEX(_xlnm.Database,ROW($I26)-ROW($I$4),MATCH(H$5,RawData_Headers,0)))),"") | I26: =IFERROR(IF(LEN(H26)=0,0,1),0) -> 0 | J26: =IFERROR(IF(I26=0,0,1),0) -> 0 | K26: =IFERROR(IF(LEN(K$5)=0,"",IF(LEN(INDEX(_xlnm.Database,ROW($L26)-ROW($L$4),MATCH(K$5,RawData_Headers,0)))=0,"",INDEX(_xlnm.Database,ROW($L26)-ROW($L$4),MATCH(K$5,RawData_Headers,0)))),"") | L26: =IFERROR(IF(LEN(K26)=0,0,1),0) -> 0 | M26: =IFERROR(IF(L26=0,0,1),0) -> 0 | O26: =Dashboard!H7&" Chart" -> Action Owner Chart | R26: {=IFERROR(IF(LEN(B26)=0,"",INDEX(B$6:B$305,MATCH(0,COUNTIF(R$5:R25,B$6:B$305),0))),"")} | S26: =IFERROR(IF(LEN(R26)=0,0,1),0) -> 0 | T26: =IFERROR(IF(LEN(R26)=0,"",SUMIF($B$6:$B$305,R26,$D$6:$D$305)),"") | U26: {=IFERROR(IF(LEN(E26)=0,"",INDEX(E$6:E$305,MATCH(0,COUNTIF(U$5:U25,E$6:E$305),0))),"")} | V26: =IFERROR(IF(LEN(U26)=0,0,1),0) -> 0 | W26: =IFERROR(IF(LEN(U26)=0,"",SUMIF($E$6:$E$305,U26,$G$6:$G$305)),"") | X26: {=IFERROR(IF(LEN(H26)=0,"",INDEX(H$6:H$305,MATCH(0,COUNTIF(X$5:X25,H$6:H$305),0))),"")} | Y26: =IFERROR(IF(LEN(X26)=0,0,1),0) -> 0 | Z26: =IFERROR(IF(LEN(X26)=0,"",SUMIF($H$6:$H$305,X26,$J$6:$J$305)),"") | AA26: {=IFERROR(IF(LEN(K26)=0,"",INDEX(K$6:K$305,MATCH(0,COUNTIF(AA$5:AA25,K$6:K$305),0))),"")} | AB26: =IFERROR(IF(LEN(AA26)=0,0,1),0) -> 0 | AC26: =IFERROR(IF(LEN(AA26)=0,"",SUMIF($K$6:$K$305,AA26,$M$6:$M$305)),"")
B27: =IFERROR(IF(LEN(B$5)=0,"",IF(LEN(INDEX(_xlnm.Database,ROW($C27)-ROW($C$4),MATCH(B$5,RawData_Headers,0)))=0,"",INDEX(_xlnm.Database,ROW($C27)-ROW($C$4),MATCH(B$5,RawData_Headers,0)))),"") | C27: =IFERROR(IF(LEN(B27)=0,0,1),0) -> 0 | D27: =IFERROR(IF(C27=0,0,1),0) -> 0 | E27: =IFERROR(IF(LEN(E$5)=0,"",IF(LEN(INDEX(_xlnm.Database,ROW($F27)-ROW($F$4),MATCH(E$5,RawData_Headers,0)))=0,"",INDEX(_xlnm.Database,ROW($F27)-ROW($F$4),MATCH(E$5,RawData_Headers,0)))),"") | F27: =IFERROR(IF(LEN(E27)=0,0,1),0) -> 0 | G27: =IFERROR(IF(LEN(E27)=0,0,1),0) -> 0 | H27: =IFERROR(IF(LEN(H$5)=0,"",IF(LEN(INDEX(_xlnm.Database,ROW($I27)-ROW($I$4),MATCH(H$5,RawData_Headers,0)))=0,"",INDEX(_xlnm.Database,ROW($I27)-ROW($I$4),MATCH(H$5,RawData_Headers,0)))),"") | I27: =IFERROR(IF(LEN(H27)=0,0,1),0) -> 0 | J27: =IFERROR(IF(I27=0,0,1),0) -> 0 | K27: =IFERROR(IF(LEN(K$5)=0,"",IF(LEN(INDEX(_xlnm.Database,ROW($L27)-ROW($L$4),MATCH(K$5,RawData_Headers,0)))=0,"",INDEX(_xlnm.Database,ROW($L27)-ROW($L$4),MATCH(K$5,RawData_Headers,0)))),"") | L27: =IFERROR(IF(LEN(K27)=0,0,1),0) -> 0 | M27: =IFERROR(IF(L27=0,0,1),0) -> 0 | O27: =Dashboard!C22&" Chart" -> Control Purpose Chart | R27: {=IFERROR(IF(LEN(B27)=0,"",INDEX(B$6:B$305,MATCH(0,COUNTIF(R$5:R26,B$6:B$305),0))),"")} | S27: =IFERROR(IF(LEN(R27)=0,0,1),0) -> 0 | T27: =IFERROR(IF(LEN(R27)=0,"",SUMIF($B$6:$B$305,R27,$D$6:$D$305)),"") | U27: {=IFERROR(IF(LEN(E27)=0,"",INDEX(E$6:E$305,MATCH(0,COUNTIF(U$5:U26,E$6:E$305),0))),"")} | V27: =IFERROR(IF(LEN(U27)=0,0,1),0) -> 0 | W27: =IFERROR(IF(LEN(U27)=0,"",SUMIF($E$6:$E$305,U27,$G$6:$G$305)),"") | X27: {=IFERROR(IF(LEN(H27)=0,"",INDEX(H$6:H$305,MATCH(0,COUNTIF(X$5:X26,H$6:H$305),0))),"")} | Y27: =IFERROR(IF(LEN(X27)=0,0,1),0) -> 0 | Z27: =IFERROR(IF(LEN(X27)=0,"",SUMIF($H$6:$H$305,X27,$J$6:$J$305)),"") | AA27: {=IFERROR(IF(LEN(K27)=0,"",INDEX(K$6:K$305,MATCH(0,COUNTIF(AA$5:AA26,K$6:K$305),0))),"")} | AB27: =IFERROR(IF(LEN(AA27)=0,0,1),0) -> 0 | AC27: =IFERROR(IF(LEN(AA27)=0,"",SUMIF($K$6:$K$305,AA27,$M$6:$M$305)),"")
B28: =IFERROR(IF(LEN(B$5)=0,"",IF(LEN(INDEX(_xlnm.Database,ROW($C28)-ROW($C$4),MATCH(B$5,RawData_Headers,0)))=0,"",INDEX(_xlnm.Database,ROW($C28)-ROW($C$4),MATCH(B$5,RawData_Headers,0)))),"") | C28: =IFERROR(IF(LEN(B28)=0,0,1),0) -> 0 | D28: =IFERROR(IF(C28=0,0,1),0) -> 0 | E28: =IFERROR(IF(LEN(E$5)=0,"",IF(LEN(INDEX(_xlnm.Database,ROW($F28)-ROW($F$4),MATCH(E$5,RawData_Headers,0)))=0,"",INDEX(_xlnm.Database,ROW($F28)-ROW($F$4),MATCH(E$5,RawData_Headers,0)))),"") | F28: =IFERROR(IF(LEN(E28)=0,0,1),0) -> 0 | G28: =IFERROR(IF(LEN(E28)=0,0,1),0) -> 0 | H28: =IFERROR(IF(LEN(H$5)=0,"",IF(LEN(INDEX(_xlnm.Database,ROW($I28)-ROW($I$4),MATCH(H$5,RawData_Headers,0)))=0,"",INDEX(_xlnm.Database,ROW($I28)-ROW($I$4),MATCH(H$5,RawData_Headers,0)))),"") | I28: =IFERROR(IF(LEN(H28)=0,0,1),0) -> 0 | J28: =IFERROR(IF(I28=0,0,1),0) -> 0 | K28: =IFERROR(IF(LEN(K$5)=0,"",IF(LEN(INDEX(_xlnm.Database,ROW($L28)-ROW($L$4),MATCH(K$5,RawData_Headers,0)))=0,"",INDEX(_xlnm.Database,ROW($L28)-ROW($L$4),MATCH(K$5,RawData_Headers,0)))),"") | L28: =IFERROR(IF(LEN(K28)=0,0,1),0) -> 0 | M28: =IFERROR(IF(L28=0,0,1),0) -> 0 | O28: =Dashboard!H22&" Chart" -> Reason of Finding Chart | R28: {=IFERROR(IF(LEN(B28)=0,"",INDEX(B$6:B$305,MATCH(0,COUNTIF(R$5:R27,B$6:B$305),0))),"")} | S28: =IFERROR(IF(LEN(R28)=0,0,1),0) -> 0 | T28: =IFERROR(IF(LEN(R28)=0,"",SUMIF($B$6:$B$305,R28,$D$6:$D$305)),"") | U28: {=IFERROR(IF(LEN(E28)=0,"",INDEX(E$6:E$305,MATCH(0,COUNTIF(U$5:U27,E$6:E$305),0))),"")} | V28: =IFERROR(IF(LEN(U28)=0,0,1),0) -> 0 | W28: =IFERROR(IF(LEN(U28)=0,"",SUMIF($E$6:$E$305,U28,$G$6:$G$305)),"") | X28: {=IFERROR(IF(LEN(H28)=0,"",INDEX(H$6:H$305,MATCH(0,COUNTIF(X$5:X27,H$6:H$305),0))),"")} | Y28: =IFERROR(IF(LEN(X28)=0,0,1),0) -> 0 | Z28: =IFERROR(IF(LEN(X28)=0,"",SUMIF($H$6:$H$305,X28,$J$6:$J$305)),"") | AA28: {=IFERROR(IF(LEN(K28)=0,"",INDEX(K$6:K$305,MATCH(0,COUNTIF(AA$5:AA27,K$6:K$305),0))),"")} | AB28: =IFERROR(IF(LEN(AA28)=0,0,1),0) -> 0 | AC28: =IFERROR(IF(LEN(AA28)=0,"",SUMIF($K$6:$K$305,AA28,$M$6:$M$305)),"")
B29: =IFERROR(IF(LEN(B$5)=0,"",IF(LEN(INDEX(_xlnm.Database,ROW($C29)-ROW($C$4),MATCH(B$5,RawData_Headers,0)))=0,"",INDEX(_xlnm.Database,ROW($C29)-ROW($C$4),MATCH(B$5,RawData_Headers,0)))),"") | C29: =IFERROR(IF(LEN(B29)=0,0,1),0) -> 0 | D29: =IFERROR(IF(C29=0,0,1),0) -> 0 | E29: =IFERROR(IF(LEN(E$5)=0,"",IF(LEN(INDEX(_xlnm.Database,ROW($F29)-ROW($F$4),MATCH(E$5,RawData_Headers,0)))=0,"",INDEX(_xlnm.Database,ROW($F29)-ROW($F$4),MATCH(E$5,RawData_Headers,0)))),"") | F29: =IFERROR(IF(LEN(E29)=0,0,1),0) -> 0 | G29: =IFERROR(IF(LEN(E29)=0,0,1),0) -> 0 | H29: =IFERROR(IF(LEN(H$5)=0,"",IF(LEN(INDEX(_xlnm.Database,ROW($I29)-ROW($I$4),MATCH(H$5,RawData_Headers,0)))=0,"",INDEX(_xlnm.Database,ROW($I29)-ROW($I$4),MATCH(H$5,RawData_Headers,0)))),"") | I29: =IFERROR(IF(LEN(H29)=0,0,1),0) -> 0 | J29: =IFERROR(IF(I29=0,0,1),0) -> 0 | K29: =IFERROR(IF(LEN(K$5)=0,"",IF(LEN(INDEX(_xlnm.Database,ROW($L29)-ROW($L$4),MATCH(K$5,RawData_Headers,0)))=0,"",INDEX(_xlnm.Database,ROW($L29)-ROW($L$4),MATCH(K$5,RawData_Headers,0)))),"") | L29: =IFERROR(IF(LEN(K29)=0,0,1),0) -> 0 | M29: =IFERROR(IF(L29=0,0,1),0) -> 0 | R29: {=IFERROR(IF(LEN(B29)=0,"",INDEX(B$6:B$305,MATCH(0,COUNTIF(R$5:R28,B$6:B$305),0))),"")} | S29: =IFERROR(IF(LEN(R29)=0,0,1),0) -> 0 | T29: =IFERROR(IF(LEN(R29)=0,"",SUMIF($B$6:$B$305,R29,$D$6:$D$305)),"") | U29: {=IFERROR(IF(LEN(E29)=0,"",INDEX(E$6:E$305,MATCH(0,COUNTIF(U$5:U28,E$6:E$305),0))),"")} | V29: =IFERROR(IF(LEN(U29)=0,0,1),0) -> 0 | W29: =IFERROR(IF(LEN(U29)=0,"",SUMIF($E$6:$E$305,U29,$G$6:$G$305)),"") | X29: {=IFERROR(IF(LEN(H29)=0,"",INDEX(H$6:H$305,MATCH(0,COUNTIF(X$5:X28,H$6:H$305),0))),"")} | Y29: =IFERROR(IF(LEN(X29)=0,0,1),0) -> 0 | Z29: =IFERROR(IF(LEN(X29)=0,"",SUMIF($H$6:$H$305,X29,$J$6:$J$305)),"") | AA29: {=IFERROR(IF(LEN(K29)=0,"",INDEX(K$6:K$305,MATCH(0,COUNTIF(AA$5:AA28,K$6:K$305),0))),"")} | AB29: =IFERROR(IF(LEN(AA29)=0,0,1),0) -> 0 | AC29: =IFERROR(IF(LEN(AA29)=0,"",SUMIF($K$6:$K$305,AA29,$M$6:$M$305)),"")
B30: =IFERROR(IF(LEN(B$5)=0,"",IF(LEN(INDEX(_xlnm.Database,ROW($C30)-ROW($C$4),MATCH(B$5,RawData_Headers,0)))=0,"",INDEX(_xlnm.Database,ROW($C30)-ROW($C$4),MATCH(B$5,RawData_Headers,0)))),"") | C30: =IFERROR(IF(LEN(B30)=0,0,1),0) -> 0 | D30: =IFERROR(IF(C30=0,0,1),0) -> 0 | E30: =IFERROR(IF(LEN(E$5)=0,"",IF(LEN(INDEX(_xlnm.Database,ROW($F30)-ROW($F$4),MATCH(E$5,RawData_Headers,0)))=0,"",INDEX(_xlnm.Database,ROW($F30)-ROW($F$4),MATCH(E$5,RawData_Headers,0)))),"") | F30: =IFERROR(IF(LEN(E30)=0,0,1),0) -> 0 | G30: =IFERROR(IF(LEN(E30)=0,0,1),0) -> 0 | H30: =IFERROR(IF(LEN(H$5)=0,"",IF(LEN(INDEX(_xlnm.Database,ROW($I30)-ROW($I$4),MATCH(H$5,RawData_Headers,0)))=0,"",INDEX(_xlnm.Database,ROW($I30)-ROW($I$4),MATCH(H$5,RawData_Headers,0)))),"") | I30: =IFERROR(IF(LEN(H30)=0,0,1),0) -> 0 | J30: =IFERROR(IF(I30=0,0,1),0) -> 0 | K30: =IFERROR(IF(LEN(K$5)=0,"",IF(LEN(INDEX(_xlnm.Database,ROW($L30)-ROW($L$4),MATCH(K$5,RawData_Headers,0)))=0,"",INDEX(_xlnm.Database,ROW($L30)-ROW($L$4),MATCH(K$5,RawData_Headers,0)))),"") | L30: =IFERROR(IF(LEN(K30)=0,0,1),0) -> 0 | M30: =IFERROR(IF(L30=0,0,1),0) -> 0 | R30: {=IFERROR(IF(LEN(B30)=0,"",INDEX(B$6:B$305,MATCH(0,COUNTIF(R$5:R29,B$6:B$305),0))),"")} | S30: =IFERROR(IF(LEN(R30)=0,0,1),0) -> 0 | T30: =IFERROR(IF(LEN(R30)=0,"",SUMIF($B$6:$B$305,R30,$D$6:$D$305)),"") | U30: {=IFERROR(IF(LEN(E30)=0,"",INDEX(E$6:E$305,MATCH(0,COUNTIF(U$5:U29,E$6:E$305),0))),"")} | V30: =IFERROR(IF(LEN(U30)=0,0,1),0) -> 0 | W30: =IFERROR(IF(LEN(U30)=0,"",SUMIF($E$6:$E$305,U30,$G$6:$G$305)),"") | X30: {=IFERROR(IF(LEN(H30)=0,"",INDEX(H$6:H$305,MATCH(0,COUNTIF(X$5:X29,H$6:H$305),0))),"")} | Y30: =IFERROR(IF(LEN(X30)=0,0,1),0) -> 0 | Z30: =IFERROR(IF(LEN(X30)=0,"",SUMIF($H$6:$H$305,X30,$J$6:$J$305)),"") | AA30: {=IFERROR(IF(LEN(K30)=0,"",INDEX(K$6:K$305,MATCH(0,COUNTIF(AA$5:AA29,K$6:K$305),0))),"")} | AB30: =IFERROR(IF(LEN(AA30)=0,0,1),0) -> 0 | AC30: =IFERROR(IF(LEN(AA30)=0,"",SUMIF($K$6:$K$305,AA30,$M$6:$M$305)),"")
B31: =IFERROR(IF(LEN(B$5)=0,"",IF(LEN(INDEX(_xlnm.Database,ROW($C31)-ROW($C$4),MATCH(B$5,RawData_Headers,0)))=0,"",INDEX(_xlnm.Database,ROW($C31)-ROW($C$4),MATCH(B$5,RawData_Headers,0)))),"") | C31: =IFERROR(IF(LEN(B31)=0,0,1),0) -> 0 | D31: =IFERROR(IF(C31=0,0,1),0) -> 0 | E31: =IFERROR(IF(LEN(E$5)=0,"",IF(LEN(INDEX(_xlnm.Database,ROW($F31)-ROW($F$4),MATCH(E$5,RawData_Headers,0)))=0,"",INDEX(_xlnm.Database,ROW($F31)-ROW($F$4),MATCH(E$5,RawData_Headers,0)))),"") | F31: =IFERROR(IF(LEN(E31)=0,0,1),0) -> 0 | G31: =IFERROR(IF(LEN(E31)=0,0,1),0) -> 0 | H31: =IFERROR(IF(LEN(H$5)=0,"",IF(LEN(INDEX(_xlnm.Database,ROW($I31)-ROW($I$4),MATCH(H$5,RawData_Headers,0)))=0,"",INDEX(_xlnm.Database,ROW($I31)-ROW($I$4),MATCH(H$5,RawData_Headers,0)))),"") | I31: =IFERROR(IF(LEN(H31)=0,0,1),0) -> 0 | J31: =IFERROR(IF(I31=0,0,1),0) -> 0 | K31: =IFERROR(IF(LEN(K$5)=0,"",IF(LEN(INDEX(_xlnm.Database,ROW($L31)-ROW($L$4),MATCH(K$5,RawData_Headers,0)))=0,"",INDEX(_xlnm.Database,ROW($L31)-ROW($L$4),MATCH(K$5,RawData_Headers,0)))),"") | L31: =IFERROR(IF(LEN(K31)=0,0,1),0) -> 0 | M31: =IFERROR(IF(L31=0,0,1),0) -> 0 | R31: {=IFERROR(IF(LEN(B31)=0,"",INDEX(B$6:B$305,MATCH(0,COUNTIF(R$5:R30,B$6:B$305),0))),"")} | S31: =IFERROR(IF(LEN(R31)=0,0,1),0) -> 0 | T31: =IFERROR(IF(LEN(R31)=0,"",SUMIF($B$6:$B$305,R31,$D$6:$D$305)),"") | U31: {=IFERROR(IF(LEN(E31)=0,"",INDEX(E$6:E$305,MATCH(0,COUNTIF(U$5:U30,E$6:E$305),0))),"")} | V31: =IFERROR(IF(LEN(U31)=0,0,1),0) -> 0 | W31: =IFERROR(IF(LEN(U31)=0,"",SUMIF($E$6:$E$305,U31,$G$6:$G$305)),"") | X31: {=IFERROR(IF(LEN(H31)=0,"",INDEX(H$6:H$305,MATCH(0,COUNTIF(X$5:X30,H$6:H$305),0))),"")} | Y31: =IFERROR(IF(LEN(X31)=0,0,1),0) -> 0 | Z31: =IFERROR(IF(LEN(X31)=0,"",SUMIF($H$6:$H$305,X31,$J$6:$J$305)),"") | AA31: {=IFERROR(IF(LEN(K31)=0,"",INDEX(K$6:K$305,MATCH(0,COUNTIF(AA$5:AA30,K$6:K$305),0))),"")} | AB31: =IFERROR(IF(LEN(AA31)=0,0,1),0) -> 0 | AC31: =IFERROR(IF(LEN(AA31)=0,"",SUMIF($K$6:$K$305,AA31,$M$6:$M$305)),"")
B32: =IFERROR(IF(LEN(B$5)=0,"",IF(LEN(INDEX(_xlnm.Database,ROW($C32)-ROW($C$4),MATCH(B$5,RawData_Headers,0)))=0,"",INDEX(_xlnm.Database,ROW($C32)-ROW($C$4),MATCH(B$5,RawData_Headers,0)))),"") | C32: =IFERROR(IF(LEN(B32)=0,0,1),0) -> 0 | D32: =IFERROR(IF(C32=0,0,1),0) -> 0 | E32: =IFERROR(IF(LEN(E$5)=0,"",IF(LEN(INDEX(_xlnm.Database,ROW($F32)-ROW($F$4),MATCH(E$5,RawData_Headers,0)))=0,"",INDEX(_xlnm.Database,ROW($F32)-ROW($F$4),MATCH(E$5,RawData_Headers,0)))),"") | F32: =IFERROR(IF(LEN(E32)=0,0,1),0) -> 0 | G32: =IFERROR(IF(LEN(E32)=0,0,1),0) -> 0 | H32: =IFERROR(IF(LEN(H$5)=0,"",IF(LEN(INDEX(_xlnm.Database,ROW($I32)-ROW($I$4),MATCH(H$5,RawData_Headers,0)))=0,"",INDEX(_xlnm.Database,ROW($I32)-ROW($I$4),MATCH(H$5,RawData_Headers,0)))),"") | I32: =IFERROR(IF(LEN(H32)=0,0,1),0) -> 0 | J32: =IFERROR(IF(I32=0,0,1),0) -> 0 | K32: =IFERROR(IF(LEN(K$5)=0,"",IF(LEN(INDEX(_xlnm.Database,ROW($L32)-ROW($L$4),MATCH(K$5,RawData_Headers,0)))=0,"",INDEX(_xlnm.Database,ROW($L32)-ROW($L$4),MATCH(K$5,RawData_Headers,0)))),"") | L32: =IFERROR(IF(LEN(K32)=0,0,1),0) -> 0 | M32: =IFERROR(IF(L32=0,0,1),0) -> 0 | R32: {=IFERROR(IF(LEN(B32)=0,"",INDEX(B$6:B$305,MATCH(0,COUNTIF(R$5:R31,B$6:B$305),0))),"")} | S32: =IFERROR(IF(LEN(R32)=0,0,1),0) -> 0 | T32: =IFERROR(IF(LEN(R32)=0,"",SUMIF($B$6:$B$305,R32,$D$6:$D$305)),"") | U32: {=IFERROR(IF(LEN(E32)=0,"",INDEX(E$6:E$305,MATCH(0,COUNTIF(U$5:U31,E$6:E$305),0))),"")} | V32: =IFERROR(IF(LEN(U32)=0,0,1),0) -> 0 | W32: =IFERROR(IF(LEN(U32)=0,"",SUMIF($E$6:$E$305,U32,$G$6:$G$305)),"") | X32: {=IFERROR(IF(LEN(H32)=0,"",INDEX(H$6:H$305,MATCH(0,COUNTIF(X$5:X31,H$6:H$305),0))),"")} | Y32: =IFERROR(IF(LEN(X32)=0,0,1),0) -> 0 | Z32: =IFERROR(IF(LEN(X32)=0,"",SUMIF($H$6:$H$305,X32,$J$6:$J$305)),"") | AA32: {=IFERROR(IF(LEN(K32)=0,"",INDEX(K$6:K$305,MATCH(0,COUNTIF(AA$5:AA31,K$6:K$305),0))),"")} | AB32: =IFERROR(IF(LEN(AA32)=0,0,1),0) -> 0 | AC32: =IFERROR(IF(LEN(AA32)=0,"",SUMIF($K$6:$K$305,AA32,$M$6:$M$305)),"")
B33: =IFERROR(IF(LEN(B$5)=0,"",IF(LEN(INDEX(_xlnm.Database,ROW($C33)-ROW($C$4),MATCH(B$5,RawData_Headers,0)))=0,"",INDEX(_xlnm.Database,ROW($C33)-ROW($C$4),MATCH(B$5,RawData_Headers,0)))),"") | C33: =IFERROR(IF(LEN(B33)=0,0,1),0) -> 0 | D33: =IFERROR(IF(C33=0,0,1),0) -> 0 | E33: =IFERROR(IF(LEN(E$5)=0,"",IF(LEN(INDEX(_xlnm.Database,ROW($F33)-ROW($F$4),MATCH(E$5,RawData_Headers,0)))=0,"",INDEX(_xlnm.Database,ROW($F33)-ROW($F$4),MATCH(E$5,RawData_Headers,0)))),"") | F33: =IFERROR(IF(LEN(E33)=0,0,1),0) -> 0 | G33: =IFERROR(IF(LEN(E33)=0,0,1),0) -> 0 | H33: =IFERROR(IF(LEN(H$5)=0,"",IF(LEN(INDEX(_xlnm.Database,ROW($I33)-ROW($I$4),MATCH(H$5,RawData_Headers,0)))=0,"",INDEX(_xlnm.Database,ROW($I33)-ROW($I$4),MATCH(H$5,RawData_Headers,0)))),"") | I33: =IFERROR(IF(LEN(H33)=0,0,1),0) -> 0 | J33: =IFERROR(IF(I33=0,0,1),0) -> 0 | K33: =IFERROR(IF(LEN(K$5)=0,"",IF(LEN(INDEX(_xlnm.Database,ROW($L33)-ROW($L$4),MATCH(K$5,RawData_Headers,0)))=0,"",INDEX(_xlnm.Database,ROW($L33)-ROW($L$4),MATCH(K$5,RawData_Headers,0)))),"") | L33: =IFERROR(IF(LEN(K33)=0,0,1),0) -> 0 | M33: =IFERROR(IF(L33=0,0,1),0) -> 0 | R33: {=IFERROR(IF(LEN(B33)=0,"",INDEX(B$6:B$305,MATCH(0,COUNTIF(R$5:R32,B$6:B$305),0))),"")} | S33: =IFERROR(IF(LEN(R33)=0,0,1),0) -> 0 | T33: =IFERROR(IF(LEN(R33)=0,"",SUMIF($B$6:$B$305,R33,$D$6:$D$305)),"") | U33: {=IFERROR(IF(LEN(E33)=0,"",INDEX(E$6:E$305,MATCH(0,COUNTIF(U$5:U32,E$6:E$305),0))),"")} | V33: =IFERROR(IF(LEN(U33)=0,0,1),0) -> 0 | W33: =IFERROR(IF(LEN(U33)=0,"",SUMIF($E$6:$E$305,U33,$G$6:$G$305)),"") | X33: {=IFERROR(IF(LEN(H33)=0,"",INDEX(H$6:H$305,MATCH(0,COUNTIF(X$5:X32,H$6:H$305),0))),"")} | Y33: =IFERROR(IF(LEN(X33)=0,0,1),0) -> 0 | Z33: =IFERROR(IF(LEN(X33)=0,"",SUMIF($H$6:$H$305,X33,$J$6:$J$305)),"") | AA33: {=IFERROR(IF(LEN(K33)=0,"",INDEX(K$6:K$305,MATCH(0,COUNTIF(AA$5:AA32,K$6:K$305),0))),"")} | AB33: =IFERROR(IF(LEN(AA33)=0,0,1),0) -> 0 | AC33: =IFERROR(IF(LEN(AA33)=0,"",SUMIF($K$6:$K$305,AA33,$M$6:$M$305)),"")
B34: =IFERROR(IF(LEN(B$5)=0,"",IF(LEN(INDEX(_xlnm.Database,ROW($C34)-ROW($C$4),MATCH(B$5,RawData_Headers,0)))=0,"",INDEX(_xlnm.Database,ROW($C34)-ROW($C$4),MATCH(B$5,RawData_Headers,0)))),"") | C34: =IFERROR(IF(LEN(B34)=0,0,1),0) -> 0 | D34: =IFERROR(IF(C34=0,0,1),0) -> 0 | E34: =IFERROR(IF(LEN(E$5)=0,"",IF(LEN(INDEX(_xlnm.Database,ROW($F34)-ROW($F$4),MATCH(E$5,RawData_Headers,0)))=0,"",INDEX(_xlnm.Database,ROW($F34)-ROW($F$4),MATCH(E$5,RawData_Headers,0)))),"") | F34: =IFERROR(IF(LEN(E34)=0,0,1),0) -> 0 | G34: =IFERROR(IF(LEN(E34)=0,0,1),0) -> 0 | H34: =IFERROR(IF(LEN(H$5)=0,"",IF(LEN(INDEX(_xlnm.Database,ROW($I34)-ROW($I$4),MATCH(H$5,RawData_Headers,0)))=0,"",INDEX(_xlnm.Database,ROW($I34)-ROW($I$4),MATCH(H$5,RawData_Headers,0)))),"") | I34: =IFERROR(IF(LEN(H34)=0,0,1),0) -> 0 | J34: =IFERROR(IF(I34=0,0,1),0) -> 0 | K34: =IFERROR(IF(LEN(K$5)=0,"",IF(LEN(INDEX(_xlnm.Database,ROW($L34)-ROW($L$4),MATCH(K$5,RawData_Headers,0)))=0,"",INDEX(_xlnm.Database,ROW($L34)-ROW($L$4),MATCH(K$5,RawData_Headers,0)))),"") | L34: =IFERROR(IF(LEN(K34)=0,0,1),0) -> 0 | M34: =IFERROR(IF(L34=0,0,1),0) -> 0 | R34: {=IFERROR(IF(LEN(B34)=0,"",INDEX(B$6:B$305,MATCH(0,COUNTIF(R$5:R33,B$6:B$305),0))),"")} | S34: =IFERROR(IF(LEN(R34)=0,0,1),0) -> 0 | T34: =IFERROR(IF(LEN(R34)=0,"",SUMIF($B$6:$B$305,R34,$D$6:$D$305)),"") | U34: {=IFERROR(IF(LEN(E34)=0,"",INDEX(E$6:E$305,MATCH(0,COUNTIF(U$5:U33,E$6:E$305),0))),"")} | V34: =IFERROR(IF(LEN(U34)=0,0,1),0) -> 0 | W34: =IFERROR(IF(LEN(U34)=0,"",SUMIF($E$6:$E$305,U34,$G$6:$G$305)),"") | X34: {=IFERROR(IF(LEN(H34)=0,"",INDEX(H$6:H$305,MATCH(0,COUNTIF(X$5:X33,H$6:H$305),0))),"")} | Y34: =IFERROR(IF(LEN(X34)=0,0,1),0) -> 0 | Z34: =IFERROR(IF(LEN(X34)=0,"",SUMIF($H$6:$H$305,X34,$J$6:$J$305)),"") | AA34: {=IFERROR(IF(LEN(K34)=0,"",INDEX(K$6:K$305,MATCH(0,COUNTIF(AA$5:AA33,K$6:K$305),0))),"")} | AB34: =IFERROR(IF(LEN(AA34)=0,0,1),0) -> 0 | AC34: =IFERROR(IF(LEN(AA34)=0,"",SUMIF($K$6:$K$305,AA34,$M$6:$M$305)),"")
B35: =IFERROR(IF(LEN(B$5)=0,"",IF(LEN(INDEX(_xlnm.Database,ROW($C35)-ROW($C$4),MATCH(B$5,RawData_Headers,0)))=0,"",INDEX(_xlnm.Database,ROW($C35)-ROW($C$4),MATCH(B$5,RawData_Headers,0)))),"") | C35: =IFERROR(IF(LEN(B35)=0,0,1),0) -> 0 | D35: =IFERROR(IF(C35=0,0,1),0) -> 0 | E35: =IFERROR(IF(LEN(E$5)=0,"",IF(LEN(INDEX(_xlnm.Database,ROW($F35)-ROW($F$4),MATCH(E$5,RawData_Headers,0)))=0,"",INDEX(_xlnm.Database,ROW($F35)-ROW($F$4),MATCH(E$5,RawData_Headers,0)))),"") | F35: =IFERROR(IF(LEN(E35)=0,0,1),0) -> 0 | G35: =IFERROR(IF(LEN(E35)=0,0,1),0) -> 0 | H35: =IFERROR(IF(LEN(H$5)=0,"",IF(LEN(INDEX(_xlnm.Database,ROW($I35)-ROW($I$4),MATCH(H$5,RawData_Headers,0)))=0,"",INDEX(_xlnm.Database,ROW($I35)-ROW($I$4),MATCH(H$5,RawData_Headers,0)))),"") | I35: =IFERROR(IF(LEN(H35)=0,0,1),0) -> 0 | J35: =IFERROR(IF(I35=0,0,1),0) -> 0 | K35: =IFERROR(IF(LEN(K$5)=0,"",IF(LEN(INDEX(_xlnm.Database,ROW($L35)-ROW($L$4),MATCH(K$5,RawData_Headers,0)))=0,"",INDEX(_xlnm.Database,ROW($L35)-ROW($L$4),MATCH(K$5,RawData_Headers,0)))),"") | L35: =IFERROR(IF(LEN(K35)=0,0,1),0) -> 0 | M35: =IFERROR(IF(L35=0,0,1),0) -> 0 | R35: {=IFERROR(IF(LEN(B35)=0,"",INDEX(B$6:B$305,MATCH(0,COUNTIF(R$5:R34,B$6:B$305),0))),"")} | S35: =IFERROR(IF(LEN(R35)=0,0,1),0) -> 0 | T35: =IFERROR(IF(LEN(R35)=0,"",SUMIF($B$6:$B$305,R35,$D$6:$D$305)),"") | U35: {=IFERROR(IF(LEN(E35)=0,"",INDEX(E$6:E$305,MATCH(0,COUNTIF(U$5:U34,E$6:E$305),0))),"")} | V35: =IFERROR(IF(LEN(U35)=0,0,1),0) -> 0 | W35: =IFERROR(IF(LEN(U35)=0,"",SUMIF($E$6:$E$305,U35,$G$6:$G$305)),"") | X35: {=IFERROR(IF(LEN(H35)=0,"",INDEX(H$6:H$305,MATCH(0,COUNTIF(X$5:X34,H$6:H$305),0))),"")} | Y35: =IFERROR(IF(LEN(X35)=0,0,1),0) -> 0 | Z35: =IFERROR(IF(LEN(X35)=0,"",SUMIF($H$6:$H$305,X35,$J$6:$J$305)),"") | AA35: {=IFERROR(IF(LEN(K35)=0,"",INDEX(K$6:K$305,MATCH(0,COUNTIF(AA$5:AA34,K$6:K$305),0))),"")} | AB35: =IFERROR(IF(LEN(AA35)=0,0,1),0) -> 0 | AC35: =IFERROR(IF(LEN(AA35)=0,"",SUMIF($K$6:$K$305,AA35,$M$6:$M$305)),"")
B36: =IFERROR(IF(LEN(B$5)=0,"",IF(LEN(INDEX(_xlnm.Database,ROW($C36)-ROW($C$4),MATCH(B$5,RawData_Headers,0)))=0,"",INDEX(_xlnm.Database,ROW($C36)-ROW($C$4),MATCH(B$5,RawData_Headers,0)))),"") | C36: =IFERROR(IF(LEN(B36)=0,0,1),0) -> 0 | D36: =IFERROR(IF(C36=0,0,1),0) -> 0 | E36: =IFERROR(IF(LEN(E$5)=0,"",IF(LEN(INDEX(_xlnm.Database,ROW($F36)-ROW($F$4),MATCH(E$5,RawData_Headers,0)))=0,"",INDEX(_xlnm.Database,ROW($F36)-ROW($F$4),MATCH(E$5,RawData_Headers,0)))),"") | F36: =IFERROR(IF(LEN(E36)=0,0,1),0) -> 0 | G36: =IFERROR(IF(LEN(E36)=0,0,1),0) -> 0 | H36: =IFERROR(IF(LEN(H$5)=0,"",IF(LEN(INDEX(_xlnm.Database,ROW($I36)-ROW($I$4),MATCH(H$5,RawData_Headers,0)))=0,"",INDEX(_xlnm.Database,ROW($I36)-ROW($I$4),MATCH(H$5,RawData_Headers,0)))),"") | I36: =IFERROR(IF(LEN(H36)=0,0,1),0) -> 0 | J36: =IFERROR(IF(I36=0,0,1),0) -> 0 | K36: =IFERROR(IF(LEN(K$5)=0,"",IF(LEN(INDEX(_xlnm.Database,ROW($L36)-ROW($L$4),MATCH(K$5,RawData_Headers,0)))=0,"",INDEX(_xlnm.Database,ROW($L36)-ROW($L$4),MATCH(K$5,RawData_Headers,0)))),"") | L36: =IFERROR(IF(LEN(K36)=0,0,1),0) -> 0 | M36: =IFERROR(IF(L36=0,0,1),0) -> 0 | R36: {=IFERROR(IF(LEN(B36)=0,"",INDEX(B$6:B$305,MATCH(0,COUNTIF(R$5:R35,B$6:B$305),0))),"")} | S36: =IFERROR(IF(LEN(R36)=0,0,1),0) -> 0 | T36: =IFERROR(IF(LEN(R36)=0,"",SUMIF($B$6:$B$305,R36,$D$6:$D$305)),"") | U36: {=IFERROR(IF(LEN(E36)=0,"",INDEX(E$6:E$305,MATCH(0,COUNTIF(U$5:U35,E$6:E$305),0))),"")} | V36: =IFERROR(IF(LEN(U36)=0,0,1),0) -> 0 | W36: =IFERROR(IF(LEN(U36)=0,"",SUMIF($E$6:$E$305,U36,$G$6:$G$305)),"") | X36: {=IFERROR(IF(LEN(H36)=0,"",INDEX(H$6:H$305,MATCH(0,COUNTIF(X$5:X35,H$6:H$305),0))),"")} | Y36: =IFERROR(IF(LEN(X36)=0,0,1),0) -> 0 | Z36: =IFERROR(IF(LEN(X36)=0,"",SUMIF($H$6:$H$305,X36,$J$6:$J$305)),"") | AA36: {=IFERROR(IF(LEN(K36)=0,"",INDEX(K$6:K$305,MATCH(0,COUNTIF(AA$5:AA35,K$6:K$305),0))),"")} | AB36: =IFERROR(IF(LEN(AA36)=0,0,1),0) -> 0 | AC36: =IFERROR(IF(LEN(AA36)=0,"",SUMIF($K$6:$K$305,AA36,$M$6:$M$305)),"")
B37: =IFERROR(IF(LEN(B$5)=0,"",IF(LEN(INDEX(_xlnm.Database,ROW($C37)-ROW($C$4),MATCH(B$5,RawData_Headers,0)))=0,"",INDEX(_xlnm.Database,ROW($C37)-ROW($C$4),MATCH(B$5,RawData_Headers,0)))),"") | C37: =IFERROR(IF(LEN(B37)=0,0,1),0) -> 0 | D37: =IFERROR(IF(C37=0,0,1),0) -> 0 | E37: =IFERROR(IF(LEN(E$5)=0,"",IF(LEN(INDEX(_xlnm.Database,ROW($F37)-ROW($F$4),MATCH(E$5,RawData_Headers,0)))=0,"",INDEX(_xlnm.Database,ROW($F37)-ROW($F$4),MATCH(E$5,RawData_Headers,0)))),"") | F37: =IFERROR(IF(LEN(E37)=0,0,1),0) -> 0 | G37: =IFERROR(IF(LEN(E37)=0,0,1),0) -> 0 | H37: =IFERROR(IF(LEN(H$5)=0,"",IF(LEN(INDEX(_xlnm.Database,ROW($I37)-ROW($I$4),MATCH(H$5,RawData_Headers,0)))=0,"",INDEX(_xlnm.Database,ROW($I37)-ROW($I$4),MATCH(H$5,RawData_Headers,0)))),"") | I37: =IFERROR(IF(LEN(H37)=0,0,1),0) -> 0 | J37: =IFERROR(IF(I37=0,0,1),0) -> 0 | K37: =IFERROR(IF(LEN(K$5)=0,"",IF(LEN(INDEX(_xlnm.Database,ROW($L37)-ROW($L$4),MATCH(K$5,RawData_Headers,0)))=0,"",INDEX(_xlnm.Database,ROW($L37)-ROW($L$4),MATCH(K$5,RawData_Headers,0)))),"") | L37: =IFERROR(IF(LEN(K37)=0,0,1),0) -> 0 | M37: =IFERROR(IF(L37=0,0,1),0) -> 0 | R37: {=IFERROR(IF(LEN(B37)=0,"",INDEX(B$6:B$305,MATCH(0,COUNTIF(R$5:R36,B$6:B$305),0))),"")} | S37: =IFERROR(IF(LEN(R37)=0,0,1),0) -> 0 | T37: =IFERROR(IF(LEN(R37)=0,"",SUMIF($B$6:$B$305,R37,$D$6:$D$305)),"") | U37: {=IFERROR(IF(LEN(E37)=0,"",INDEX(E$6:E$305,MATCH(0,COUNTIF(U$5:U36,E$6:E$305),0))),"")} | V37: =IFERROR(IF(LEN(U37)=0,0,1),0) -> 0 | W37: =IFERROR(IF(LEN(U37)=0,"",SUMIF($E$6:$E$305,U37,$G$6:$G$305)),"") | X37: {=IFERROR(IF(LEN(H37)=0,"",INDEX(H$6:H$305,MATCH(0,COUNTIF(X$5:X36,H$6:H$305),0))),"")} | Y37: =IFERROR(IF(LEN(X37)=0,0,1),0) -> 0 | Z37: =IFERROR(IF(LEN(X37)=0,"",SUMIF($H$6:$H$305,X37,$J$6:$J$305)),"") | AA37: {=IFERROR(IF(LEN(K37)=0,"",INDEX(K$6:K$305,MATCH(0,COUNTIF(AA$5:AA36,K$6:K$305),0))),"")} | AB37: =IFERROR(IF(LEN(AA37)=0,0,1),0) -> 0 | AC37: =IFERROR(IF(LEN(AA37)=0,"",SUMIF($K$6:$K$305,AA37,$M$6:$M$305)),"")
B38: =IFERROR(IF(LEN(B$5)=0,"",IF(LEN(INDEX(_xlnm.Database,ROW($C38)-ROW($C$4),MATCH(B$5,RawData_Headers,0)))=0,"",INDEX(_xlnm.Database,ROW($C38)-ROW($C$4),MATCH(B$5,RawData_Headers,0)))),"") | C38: =IFERROR(IF(LEN(B38)=0,0,1),0) -> 0 | D38: =IFERROR(IF(C38=0,0,1),0) -> 0 | E38: =IFERROR(IF(LEN(E$5)=0,"",IF(LEN(INDEX(_xlnm.Database,ROW($F38)-ROW($F$4),MATCH(E$5,RawData_Headers,0)))=0,"",INDEX(_xlnm.Database,ROW($F38)-ROW($F$4),MATCH(E$5,RawData_Headers,0)))),"") | F38: =IFERROR(IF(LEN(E38)=0,0,1),0) -> 0 | G38: =IFERROR(IF(LEN(E38)=0,0,1),0) -> 0 | H38: =IFERROR(IF(LEN(H$5)=0,"",IF(LEN(INDEX(_xlnm.Database,ROW($I38)-ROW($I$4),MATCH(H$5,RawData_Headers,0)))=0,"",INDEX(_xlnm.Database,ROW($I38)-ROW($I$4),MATCH(H$5,RawData_Headers,0)))),"") | I38: =IFERROR(IF(LEN(H38)=0,0,1),0) -> 0 | J38: =IFERROR(IF(I38=0,0,1),0) -> 0 | K38: =IFERROR(IF(LEN(K$5)=0,"",IF(LEN(INDEX(_xlnm.Database,ROW($L38)-ROW($L$4),MATCH(K$5,RawData_Headers,0)))=0,"",INDEX(_xlnm.Database,ROW($L38)-ROW($L$4),MATCH(K$5,RawData_Headers,0)))),"") | L38: =IFERROR(IF(LEN(K38)=0,0,1),0) -> 0 | M38: =IFERROR(IF(L38=0,0,1),0) -> 0 | R38: {=IFERROR(IF(LEN(B38)=0,"",INDEX(B$6:B$305,MATCH(0,COUNTIF(R$5:R37,B$6:B$305),0))),"")} | S38: =IFERROR(IF(LEN(R38)=0,0,1),0) -> 0 | T38: =IFERROR(IF(LEN(R38)=0,"",SUMIF($B$6:$B$305,R38,$D$6:$D$305)),"") | U38: {=IFERROR(IF(LEN(E38)=0,"",INDEX(E$6:E$305,MATCH(0,COUNTIF(U$5:U37,E$6:E$305),0))),"")} | V38: =IFERROR(IF(LEN(U38)=0,0,1),0) -> 0 | W38: =IFERROR(IF(LEN(U38)=0,"",SUMIF($E$6:$E$305,U38,$G$6:$G$305)),"") | X38: {=IFERROR(IF(LEN(H38)=0,"",INDEX(H$6:H$305,MATCH(0,COUNTIF(X$5:X37,H$6:H$305),0))),"")} | Y38: =IFERROR(IF(LEN(X38)=0,0,1),0) -> 0 | Z38: =IFERROR(IF(LEN(X38)=0,"",SUMIF($H$6:$H$305,X38,$J$6:$J$305)),"") | AA38: {=IFERROR(IF(LEN(K38)=0,"",INDEX(K$6:K$305,MATCH(0,COUNTIF(AA$5:AA37,K$6:K$305),0))),"")} | AB38: =IFERROR(IF(LEN(AA38)=0,0,1),0) -> 0 | AC38: =IFERROR(IF(LEN(AA38)=0,"",SUMIF($K$6:$K$305,AA38,$M$6:$M$305)),"")
B39: =IFERROR(IF(LEN(B$5)=0,"",IF(LEN(INDEX(_xlnm.Database,ROW($C39)-ROW($C$4),MATCH(B$5,RawData_Headers,0)))=0,"",INDEX(_xlnm.Database,ROW($C39)-ROW($C$4),MATCH(B$5,RawData_Headers,0)))),"") | C39: =IFERROR(IF(LEN(B39)=0,0,1),0) -> 0 | D39: =IFERROR(IF(C39=0,0,1),0) -> 0 | E39: =IFERROR(IF(LEN(E$5)=0,"",IF(LEN(INDEX(_xlnm.Database,ROW($F39)-ROW($F$4),MATCH(E$5,RawData_Headers,0)))=0,"",INDEX(_xlnm.Database,ROW($F39)-ROW($F$4),MATCH(E$5,RawData_Headers,0)))),"") | F39: =IFERROR(IF(LEN(E39)=0,0,1),0) -> 0 | G39: =IFERROR(IF(LEN(E39)=0,0,1),0) -> 0 | H39: =IFERROR(IF(LEN(H$5)=0,"",IF(LEN(INDEX(_xlnm.Database,ROW($I39)-ROW($I$4),MATCH(H$5,RawData_Headers,0)))=0,"",INDEX(_xlnm.Database,ROW($I39)-ROW($I$4),MATCH(H$5,RawData_Headers,0)))),"") | I39: =IFERROR(IF(LEN(H39)=0,0,1),0) -> 0 | J39: =IFERROR(IF(I39=0,0,1),0) -> 0 | K39: =IFERROR(IF(LEN(K$5)=0,"",IF(LEN(INDEX(_xlnm.Database,ROW($L39)-ROW($L$4),MATCH(K$5,RawData_Headers,0)))=0,"",INDEX(_xlnm.Database,ROW($L39)-ROW($L$4),MATCH(K$5,RawData_Headers,0)))),"") | L39: =IFERROR(IF(LEN(K39)=0,0,1),0) -> 0 | M39: =IFERROR(IF(L39=0,0,1),0) -> 0 | R39: {=IFERROR(IF(LEN(B39)=0,"",INDEX(B$6:B$305,MATCH(0,COUNTIF(R$5:R38,B$6:B$305),0))),"")} | S39: =IFERROR(IF(LEN(R39)=0,0,1),0) -> 0 | T39: =IFERROR(IF(LEN(R39)=0,"",SUMIF($B$6:$B$305,R39,$D$6:$D$305)),"") | U39: {=IFERROR(IF(LEN(E39)=0,"",INDEX(E$6:E$305,MATCH(0,COUNTIF(U$5:U38,E$6:E$305),0))),"")} | V39: =IFERROR(IF(LEN(U39)=0,0,1),0) -> 0 | W39: =IFERROR(IF(LEN(U39)=0,"",SUMIF($E$6:$E$305,U39,$G$6:$G$305)),"") | X39: {=IFERROR(IF(LEN(H39)=0,"",INDEX(H$6:H$305,MATCH(0,COUNTIF(X$5:X38,H$6:H$305),0))),"")} | Y39: =IFERROR(IF(LEN(X39)=0,0,1),0) -> 0 | Z39: =IFERROR(IF(LEN(X39)=0,"",SUMIF($H$6:$H$305,X39,$J$6:$J$305)),"") | AA39: {=IFERROR(IF(LEN(K39)=0,"",INDEX(K$6:K$305,MATCH(0,COUNTIF(AA$5:AA38,K$6:K$305),0))),"")} | AB39: =IFERROR(IF(LEN(AA39)=0,0,1),0) -> 0 | AC39: =IFERROR(IF(LEN(AA39)=0,"",SUMIF($K$6:$K$305,AA39,$M$6:$M$305)),"")
B40: =IFERROR(IF(LEN(B$5)=0,"",IF(LEN(INDEX(_xlnm.Database,ROW($C40)-ROW($C$4),MATCH(B$5,RawData_Headers,0)))=0,"",INDEX(_xlnm.Database,ROW($C40)-ROW($C$4),MATCH(B$5,RawData_Headers,0)))),"") | C40: =IFERROR(IF(LEN(B40)=0,0,1),0) -> 0 | D40: =IFERROR(IF(C40=0,0,1),0) -> 0 | E40: =IFERROR(IF(LEN(E$5)=0,"",IF(LEN(INDEX(_xlnm.Database,ROW($F40)-ROW($F$4),MATCH(E$5,RawData_Headers,0)))=0,"",INDEX(_xlnm.Database,ROW($F40)-ROW($F$4),MATCH(E$5,RawData_Headers,0)))),"") | F40: =IFERROR(IF(LEN(E40)=0,0,1),0) -> 0 | G40: =IFERROR(IF(LEN(E40)=0,0,1),0) -> 0 | H40: =IFERROR(IF(LEN(H$5)=0,"",IF(LEN(INDEX(_xlnm.Database,ROW($I40)-ROW($I$4),MATCH(H$5,RawData_Headers,0)))=0,"",INDEX(_xlnm.Database,ROW($I40)-ROW($I$4),MATCH(H$5,RawData_Headers,0)))),"") | I40: =IFERROR(IF(LEN(H40)=0,0,1),0) -> 0 | J40: =IFERROR(IF(I40=0,0,1),0) -> 0 | K40: =IFERROR(IF(LEN(K$5)=0,"",IF(LEN(INDEX(_xlnm.Database,ROW($L40)-ROW($L$4),MATCH(K$5,RawData_Headers,0)))=0,"",INDEX(_xlnm.Database,ROW($L40)-ROW($L$4),MATCH(K$5,RawData_Headers,0)))),"") | L40: =IFERROR(IF(LEN(K40)=0,0,1),0) -> 0 | M40: =IFERROR(IF(L40=0,0,1),0) -> 0 | R40: {=IFERROR(IF(LEN(B40)=0,"",INDEX(B$6:B$305,MATCH(0,COUNTIF(R$5:R39,B$6:B$305),0))),"")} | S40: =IFERROR(IF(LEN(R40)=0,0,1),0) -> 0 | T40: =IFERROR(IF(LEN(R40)=0,"",SUMIF($B$6:$B$305,R40,$D$6:$D$305)),"") | U40: {=IFERROR(IF(LEN(E40)=0,"",INDEX(E$6:E$305,MATCH(0,COUNTIF(U$5:U39,E$6:E$305),0))),"")} | V40: =IFERROR(IF(LEN(U40)=0,0,1),0) -> 0 | W40: =IFERROR(IF(LEN(U40)=0,"",SUMIF($E$6:$E$305,U40,$G$6:$G$305)),"") | X40: {=IFERROR(IF(LEN(H40)=0,"",INDEX(H$6:H$305,MATCH(0,COUNTIF(X$5:X39,H$6:H$305),0))),"")} | Y40: =IFERROR(IF(LEN(X40)=0,0,1),0) -> 0 | Z40: =IFERROR(IF(LEN(X40)=0,"",SUMIF($H$6:$H$305,X40,$J$6:$J$305)),"") | AA40: {=IFERROR(IF(LEN(K40)=0,"",INDEX(K$6:K$305,MATCH(0,COUNTIF(AA$5:AA39,K$6:K$305),0))),"")} | AB40: =IFERROR(IF(LEN(AA40)=0,0,1),0) -> 0 | AC40: =IFERROR(IF(LEN(AA40)=0,"",SUMIF($K$6:$K$305,AA40,$M$6:$M$305)),"")
... B305: =IFERROR(IF(LEN(B$5)=0,"",IF(LEN(INDEX(_xlnm.Database,ROW($C305)-ROW($C$4),MATCH(B$5,RawData_Headers,0)))=0,"",INDEX(_xlnm.Database,ROW($C305)-ROW($C$4),MATCH(B$5,RawData_Headers,0)))),"") | C305: =IFERROR(IF(LEN(B305)=0,0,1),0) -> 0 | D305: =IFERROR(IF(C305=0,0,1),0) -> 0 | E305: =IFERROR(IF(LEN(E$5)=0,"",IF(LEN(INDEX(_xlnm.Database,ROW($F305)-ROW($F$4),MATCH(E$5,RawData_Headers,0)))=0,"",INDEX(_xlnm.Database,ROW($F305)-ROW($F$4),MATCH(E$5,RawData_Headers,0)))),"") | F305: =IFERROR(IF(LEN(E305)=0,0,1),0) -> 0 | G305: =IFERROR(IF(LEN(E305)=0,0,1),0) -> 0 | H305: =IFERROR(IF(LEN(H$5)=0,"",IF(LEN(INDEX(_xlnm.Database,ROW($I305)-ROW($I$4),MATCH(H$5,RawData_Headers,0)))=0,"",INDEX(_xlnm.Database,ROW($I305)-ROW($I$4),MATCH(H$5,RawData_Headers,0)))),"") | I305: =IFERROR(IF(LEN(H305)=0,0,1),0) -> 0 | J305: =IFERROR(IF(I305=0,0,1),0) -> 0 | K305: =IFERROR(IF(LEN(K$5)=0,"",IF(LEN(INDEX(_xlnm.Database,ROW($L305)-ROW($L$4),MATCH(K$5,RawData_Headers,0)))=0,"",INDEX(_xlnm.Database,ROW($L305)-ROW($L$4),MATCH(K$5,RawData_Headers,0)))),"") | L305: =IFERROR(IF(LEN(K305)=0,0,1),0) -> 0 | M305: =IFERROR(IF(L305=0,0,1),0) -> 0 | R305: {=IFERROR(IF(LEN(B305)=0,"",INDEX(B$6:B$305,MATCH(0,COUNTIF(R$5:R304,B$6:B$305),0))),"")} | S305: =IFERROR(IF(LEN(R305)=0,0,1),0) -> 0 | T305: =IFERROR(IF(LEN(R305)=0,"",SUMIF($B$6:$B$305,R305,$D$6:$D$305)),"") | U305: {=IFERROR(IF(LEN(E305)=0,"",INDEX(E$6:E$305,MATCH(0,COUNTIF(U$5:U304,E$6:E$305),0))),"")} | V305: =IFERROR(IF(LEN(U305)=0,0,1),0) -> 0 | W305: =IFERROR(IF(LEN(U305)=0,"",SUMIF($E$6:$E$305,U305,$G$6:$G$305)),"") | X305: {=IFERROR(IF(LEN(H305)=0,"",INDEX(H$6:H$305,MATCH(0,COUNTIF(X$5:X304,H$6:H$305),0))),"")} | Y305: =IFERROR(IF(LEN(X305)=0,0,1),0) -> 0 | Z305: =IFERROR(IF(LEN(X305)=0,"",SUMIF($H$6:$H$305,X305,$J$6:$J$305)),"") | AA305: {=IFERROR(IF(LEN(K305)=0,"",INDEX(K$6:K$305,MATCH(0,COUNTIF(AA$5:AA304,K$6:K$305),0))),"")} | AB305: =IFERROR(IF(LEN(AA305)=0,0,1),0) -> 0 | AC305: =IFERROR(IF(LEN(AA305)=0,"",SUMIF($K$6:$K$305,AA305,$M$6:$M$305)),"")
D306: =IF(SUM(D$6:D$305)=0,1,SUM(D$6:D$305)) -> 8 | G306: =IF(SUM(G$6:G$305)=0,1,SUM(G$6:G$305)) -> 8 | J306: =IF(SUM(J$6:J$305)=0,1,SUM(J$6:J$305)) -> 8 | M306: =IF(SUM(M$6:M$305)=0,1,SUM(M$6:M$305)) -> 8 | S306: =IF(SUM(S$6:S$305)=0,1,SUM(S$6:S$305)) -> 4 | V306: =IF(SUM(V$6:V$305)=0,1,SUM(V$6:V$305)) -> 3 | Y306: =IF(SUM(Y$6:Y$305)=0,1,SUM(Y$6:Y$305)) -> 2 | AB306: =IF(SUM(AB$6:AB$305)=0,1,SUM(AB$6:AB$305)) -> 2
