Workbook
Name AveragePerf: ListByCategory!$D$110
Name categories: Settings!$I$7:$I$15
Name catSymbols: Settings!$J$7:$J$15
Name CorePlayer: ListByCategory!$D$58
Name HighPerf: ListByCategory!$F$58
Name HighPot: ListByCategory!$D$6
Name Inconsistent: ListByCategory!$B$58
Name PotentialGem: ListByCategory!$B$6
Name Risk: ListByCategory!$B$110
Name SolidPerf: ListByCategory!$F$110
Name Star: ListByCategory!$F$6

Sheet Dashboard
C2: GE MCKINSEY MATRIX
C3: DASHBOARD
C7: ID | E7: =BusinessTable!D5 -> INDUSTRY | G7: =BusinessTable!F5 -> RESPONSIBLE | I7: =BusinessTable!G5 -> PROFITABILITY | K7: =BusinessTable!H5 -> BUSINESS STRENGTH | M7: =BusinessTable!I5 -> MARKET ATTRACTIVENESS
C8: ALL | E8: ALL | G8: ALL | I8: ALL | K8: ALL | M8: ALL

Sheet BusinessTable
C2: GE MCKINSEY MATRIX
C3: BUSINESS TABLE
B5: BUSINESS ID | C5: BUSINESS NAME | D5: INDUSTRY | E5: STRATEGIC INITIATIVES | F5: RESPONSIBLE | G5: PROFITABILITY | H5: BUSINESS STRENGTH | I5: MARKET ATTRACTIVENESS | J5: MCKINSEY CATEGORIZATION
B6: 1 | C6: Tech Innovations Inc. | D6: Technology | E6: Expand product portfolio; Invest in R&D | F6: Jackson Foster | G6: High | H6: 2 | I6: 3 | J6: =IFERROR(INDEX(categories,MATCH(H6& " - " &I6,catSymbols,0),1),"") -> Invest to Build
B7: 2 | C7: Pharma Solutions Ltd. | D7: Pharmaceuticals | E7: Seek strategic partnerships; Launch new products | F7: Sophia Evans | G7: Medium | H7: 2 | I7: 2 | J7: =IFERROR(INDEX(categories,MATCH(H7& " - " &I7,catSymbols,0),1),"") -> Maintain
B8: 3 | C8: E-commerce Ventures | D8: E-commerce | E8: Improve user experience; Increase marketing efforts | F8: Jackson Foster | G8: Low | H8: 2 | I8: 1 | J8: =IFERROR(INDEX(categories,MATCH(H8& " - " &I8,catSymbols,0),1),"") -> Manage For Earnings
B9: 4 | C9: Auto Dynamics Corp. | D9: Automotive | E9: Develop fuel-efficient models; Enhance marketing | F9: Jackson Foster | G9: Medium | H9: 2 | I9: 3 | J9: =IFERROR(INDEX(categories,MATCH(H9& " - " &I9,catSymbols,0),1),"") -> Invest to Build
B10: 5 | C10: Consumer Electronics Co. | D10: Consumer Electronics | E10: Upgrade product features; Expand distribution | F10: Noah Mitchell | G10: Low | H10: 2 | I10: 2 | J10: =IFERROR(INDEX(categories,MATCH(H10& " - " &I10,catSymbols,0),1),"") -> Maintain
B11: 6 | C11: Retail Revolution Ltd. | D11: Retail | E11: Implement cost-cutting measures; Explore partnerships | F11: Olivia Turner | G11: Very Low | H11: 2 | I11: 2 | J11: =IFERROR(INDEX(categories,MATCH(H11& " - " &I11,catSymbols,0),1),"") -> Maintain
B12: 7 | C12: Energy Utility Systems | D12: Energy | E12: Invest in renewable energy sources; Enhance customer service | F12: Ava Reynolds | G12: High | H12: 1 | I12: 3 | J12: =IFERROR(INDEX(categories,MATCH(H12& " - " &I12,catSymbols,0),1),"") -> Invest to Improve or Collaborate
B13: 8 | C13: Print Media Enterprises | D13: Media | E13: Digital transformation; Explore online subscriptions | F13: Ava Reynolds | G13: Low | H13: 1 | I13: 2 | J13: =IFERROR(INDEX(categories,MATCH(H13& " - " &I13,catSymbols,0),1),"") -> Build Selectively
B14: 9 | C14: Local Manufacturing Co. | D14: Manufacturing | E14: Explore new markets; Optimize production processes | F14: Liam Bennett | G14: Very Low | H14: 1 | I14: 1 | J14: =IFERROR(INDEX(categories,MATCH(H14& " - " &I14,catSymbols,0),1),"") -> Divest or Exit
B15: 10 | C15: AI Solutions Innovate | D15: Technology | E15: Develop AI applications for new industries; Expand globally | F15: Liam Bennett | G15: High | H15: 3 | I15: 3 | J15: =IFERROR(INDEX(categories,MATCH(H15& " - " &I15,catSymbols,0),1),"") -> Invest and Grow
B16: 11 | C16: Healthcare Technologies | D16: Healthcare | E16: Launch telemedicine services; Collaborate with healthcare providers | F16: Sophia Evans | G16: Medium | H16: 3 | I16: 2 | J16: =IFERROR(INDEX(categories,MATCH(H16& " - " &I16,catSymbols,0),1),"") -> Selective Investment
B17: 12 | C17: Sustainable Retailers Inc. | D17: Retail | E17: Emphasize eco-friendly products; Collaborate with sustainable brands | F17: Jackson Foster | G17: Low | H17: 3 | I17: 1 | J17: =IFERROR(INDEX(categories,MATCH(H17& " - " &I17,catSymbols,0),1),"") -> Harvest or Divest
J18: =IFERROR(INDEX(categories,MATCH(H18& " - " &I18,catSymbols,0),1),"")
J19: =IFERROR(INDEX(categories,MATCH(H19& " - " &I19,catSymbols,0),1),"")
J20: =IFERROR(INDEX(categories,MATCH(H20& " - " &I20,catSymbols,0),1),"")

Sheet ListByCategory
B2: GE MCKINSEY MATRIX
B3: LIST BY CATEGORY
B5: =SUBSTITUTE(UPPER(Settings!I10),"İ","I") -> INVEST TO IMPROVE OR COLLABORATE | D5: =SUBSTITUTE(UPPER(Settings!I9),"İ","I") -> INVEST TO BUILD | F5: =SUBSTITUTE(UPPER(Settings!I7),"İ","I") -> INVEST AND GROW
B6: {=IFERROR(INDEX(Calculation!$D$4:$D$18,MATCH(Calculation!$P$7&(ROW(A6)-ROW($A$5)),Calculation!$L$4:$L$18&Calculation!$N$4:$N$18,0),1),"")} -> Energy Utility Systems | D6: {=IFERROR(INDEX(Calculation!$D$4:$D$18,MATCH(Calculation!$P$6&(ROW(A6)-ROW($A$5)),Calculation!$L$4:$L$18&Calculation!$N$4:$N$18,0),1),"")} -> Tech Innovations Inc. | F6: {=IFERROR(INDEX(Calculation!$D$4:$D$18,MATCH(Calculation!$P$4&(ROW(A6)-ROW($A$5)),Calculation!$L$4:$L$18&Calculation!$N$4:$N$18,0),1),"")} -> AI Solutions Innovate
B7: {=IFERROR(INDEX(Calculation!$D$4:$D$18,MATCH(Calculation!$P$7&(ROW(A7)-ROW($A$5)),Calculation!$L$4:$L$18&Calculation!$N$4:$N$18,0),1),"")} | D7: {=IFERROR(INDEX(Calculation!$D$4:$D$18,MATCH(Calculation!$P$6&(ROW(A7)-ROW($A$5)),Calculation!$L$4:$L$18&Calculation!$N$4:$N$18,0),1),"")} -> Auto Dynamics Corp. | F7: {=IFERROR(INDEX(Calculation!$D$4:$D$18,MATCH(Calculation!$P$4&(ROW(A7)-ROW($A$5)),Calculation!$L$4:$L$18&Calculation!$N$4:$N$18,0),1),"")}
B8: {=IFERROR(INDEX(Calculation!$D$4:$D$18,MATCH(Calculation!$P$7&(ROW(A8)-ROW($A$5)),Calculation!$L$4:$L$18&Calculation!$N$4:$N$18,0),1),"")} | D8: {=IFERROR(INDEX(Calculation!$D$4:$D$18,MATCH(Calculation!$P$6&(ROW(A8)-ROW($A$5)),Calculation!$L$4:$L$18&Calculation!$N$4:$N$18,0),1),"")} | F8: {=IFERROR(INDEX(Calculation!$D$4:$D$18,MATCH(Calculation!$P$4&(ROW(A8)-ROW($A$5)),Calculation!$L$4:$L$18&Calculation!$N$4:$N$18,0),1),"")}
B9: {=IFERROR(INDEX(Calculation!$D$4:$D$18,MATCH(Calculation!$P$7&(ROW(A9)-ROW($A$5)),Calculation!$L$4:$L$18&Calculation!$N$4:$N$18,0),1),"")} | D9: {=IFERROR(INDEX(Calculation!$D$4:$D$18,MATCH(Calculation!$P$6&(ROW(A9)-ROW($A$5)),Calculation!$L$4:$L$18&Calculation!$N$4:$N$18,0),1),"")} | F9: {=IFERROR(INDEX(Calculation!$D$4:$D$18,MATCH(Calculation!$P$4&(ROW(A9)-ROW($A$5)),Calculation!$L$4:$L$18&Calculation!$N$4:$N$18,0),1),"")}
B10: {=IFERROR(INDEX(Calculation!$D$4:$D$18,MATCH(Calculation!$P$7&(ROW(A10)-ROW($A$5)),Calculation!$L$4:$L$18&Calculation!$N$4:$N$18,0),1),"")} | D10: {=IFERROR(INDEX(Calculation!$D$4:$D$18,MATCH(Calculation!$P$6&(ROW(A10)-ROW($A$5)),Calculation!$L$4:$L$18&Calculation!$N$4:$N$18,0),1),"")} | F10: {=IFERROR(INDEX(Calculation!$D$4:$D$18,MATCH(Calculation!$P$4&(ROW(A10)-ROW($A$5)),Calculation!$L$4:$L$18&Calculation!$N$4:$N$18,0),1),"")}
B11: {=IFERROR(INDEX(Calculation!$D$4:$D$18,MATCH(Calculation!$P$7&(ROW(A11)-ROW($A$5)),Calculation!$L$4:$L$18&Calculation!$N$4:$N$18,0),1),"")} | D11: {=IFERROR(INDEX(Calculation!$D$4:$D$18,MATCH(Calculation!$P$6&(ROW(A11)-ROW($A$5)),Calculation!$L$4:$L$18&Calculation!$N$4:$N$18,0),1),"")} | F11: {=IFERROR(INDEX(Calculation!$D$4:$D$18,MATCH(Calculation!$P$4&(ROW(A11)-ROW($A$5)),Calculation!$L$4:$L$18&Calculation!$N$4:$N$18,0),1),"")}
B12: {=IFERROR(INDEX(Calculation!$D$4:$D$18,MATCH(Calculation!$P$7&(ROW(A12)-ROW($A$5)),Calculation!$L$4:$L$18&Calculation!$N$4:$N$18,0),1),"")} | D12: {=IFERROR(INDEX(Calculation!$D$4:$D$18,MATCH(Calculation!$P$6&(ROW(A12)-ROW($A$5)),Calculation!$L$4:$L$18&Calculation!$N$4:$N$18,0),1),"")} | F12: {=IFERROR(INDEX(Calculation!$D$4:$D$18,MATCH(Calculation!$P$4&(ROW(A12)-ROW($A$5)),Calculation!$L$4:$L$18&Calculation!$N$4:$N$18,0),1),"")}
B13: {=IFERROR(INDEX(Calculation!$D$4:$D$18,MATCH(Calculation!$P$7&(ROW(A13)-ROW($A$5)),Calculation!$L$4:$L$18&Calculation!$N$4:$N$18,0),1),"")} | D13: {=IFERROR(INDEX(Calculation!$D$4:$D$18,MATCH(Calculation!$P$6&(ROW(A13)-ROW($A$5)),Calculation!$L$4:$L$18&Calculation!$N$4:$N$18,0),1),"")} | F13: {=IFERROR(INDEX(Calculation!$D$4:$D$18,MATCH(Calculation!$P$4&(ROW(A13)-ROW($A$5)),Calculation!$L$4:$L$18&Calculation!$N$4:$N$18,0),1),"")}
B14: {=IFERROR(INDEX(Calculation!$D$4:$D$18,MATCH(Calculation!$P$7&(ROW(A14)-ROW($A$5)),Calculation!$L$4:$L$18&Calculation!$N$4:$N$18,0),1),"")} | D14: {=IFERROR(INDEX(Calculation!$D$4:$D$18,MATCH(Calculation!$P$6&(ROW(A14)-ROW($A$5)),Calculation!$L$4:$L$18&Calculation!$N$4:$N$18,0),1),"")} | F14: {=IFERROR(INDEX(Calculation!$D$4:$D$18,MATCH(Calculation!$P$4&(ROW(A14)-ROW($A$5)),Calculation!$L$4:$L$18&Calculation!$N$4:$N$18,0),1),"")}
B15: {=IFERROR(INDEX(Calculation!$D$4:$D$18,MATCH(Calculation!$P$7&(ROW(A15)-ROW($A$5)),Calculation!$L$4:$L$18&Calculation!$N$4:$N$18,0),1),"")} | D15: {=IFERROR(INDEX(Calculation!$D$4:$D$18,MATCH(Calculation!$P$6&(ROW(A15)-ROW($A$5)),Calculation!$L$4:$L$18&Calculation!$N$4:$N$18,0),1),"")} | F15: {=IFERROR(INDEX(Calculation!$D$4:$D$18,MATCH(Calculation!$P$4&(ROW(A15)-ROW($A$5)),Calculation!$L$4:$L$18&Calculation!$N$4:$N$18,0),1),"")}
B16: {=IFERROR(INDEX(Calculation!$D$4:$D$18,MATCH(Calculation!$P$7&(ROW(A16)-ROW($A$5)),Calculation!$L$4:$L$18&Calculation!$N$4:$N$18,0),1),"")} | D16: {=IFERROR(INDEX(Calculation!$D$4:$D$18,MATCH(Calculation!$P$6&(ROW(A16)-ROW($A$5)),Calculation!$L$4:$L$18&Calculation!$N$4:$N$18,0),1),"")} | F16: {=IFERROR(INDEX(Calculation!$D$4:$D$18,MATCH(Calculation!$P$4&(ROW(A16)-ROW($A$5)),Calculation!$L$4:$L$18&Calculation!$N$4:$N$18,0),1),"")}
B17: {=IFERROR(INDEX(Calculation!$D$4:$D$18,MATCH(Calculation!$P$7&(ROW(A17)-ROW($A$5)),Calculation!$L$4:$L$18&Calculation!$N$4:$N$18,0),1),"")} | D17: {=IFERROR(INDEX(Calculation!$D$4:$D$18,MATCH(Calculation!$P$6&(ROW(A17)-ROW($A$5)),Calculation!$L$4:$L$18&Calculation!$N$4:$N$18,0),1),"")} | F17: {=IFERROR(INDEX(Calculation!$D$4:$D$18,MATCH(Calculation!$P$4&(ROW(A17)-ROW($A$5)),Calculation!$L$4:$L$18&Calculation!$N$4:$N$18,0),1),"")}
... B55: {=IFERROR(INDEX(Calculation!$D$4:$D$18,MATCH(Calculation!$P$7&(ROW(A55)-ROW($A$5)),Calculation!$L$4:$L$18&Calculation!$N$4:$N$18,0),1),"")} | D55: {=IFERROR(INDEX(Calculation!$D$4:$D$18,MATCH(Calculation!$P$6&(ROW(A55)-ROW($A$5)),Calculation!$L$4:$L$18&Calculation!$N$4:$N$18,0),1),"")} | F55: {=IFERROR(INDEX(Calculation!$D$4:$D$18,MATCH(Calculation!$P$4&(ROW(A55)-ROW($A$5)),Calculation!$L$4:$L$18&Calculation!$N$4:$N$18,0),1),"")}
B57: =SUBSTITUTE(UPPER(Settings!I13),"İ","I") -> BUILD SELECTIVELY | D57: =SUBSTITUTE(UPPER(Settings!I11),"İ","I") -> MAINTAIN | F57: =SUBSTITUTE(UPPER(Settings!I8),"İ","I") -> SELECTIVE INVESTMENT
B58: {=IFERROR(INDEX(Calculation!$D$4:$D$18,MATCH(Calculation!$P$10&(ROW(A6)-ROW($A$5)),Calculation!$L$4:$L$18&Calculation!$N$4:$N$18,0),1),"")} -> Print Media Enterprises | D58: {=IFERROR(INDEX(Calculation!$D$4:$D$18,MATCH(Calculation!$P$8&(ROW(A6)-ROW($A$5)),Calculation!$L$4:$L$18&Calculation!$N$4:$N$18,0),1),"")} -> Pharma Solutions Ltd. | F58: {=IFERROR(INDEX(Calculation!$D$4:$D$18,MATCH(Calculation!$P$5&(ROW(A6)-ROW($A$5)),Calculation!$L$4:$L$18&Calculation!$N$4:$N$18,0),1),"")} -> Healthcare Technologies
B59: {=IFERROR(INDEX(Calculation!$D$4:$D$18,MATCH(Calculation!$P$10&(ROW(A7)-ROW($A$5)),Calculation!$L$4:$L$18&Calculation!$N$4:$N$18,0),1),"")} | D59: {=IFERROR(INDEX(Calculation!$D$4:$D$18,MATCH(Calculation!$P$8&(ROW(A7)-ROW($A$5)),Calculation!$L$4:$L$18&Calculation!$N$4:$N$18,0),1),"")} -> Consumer Electronics Co. | F59: {=IFERROR(INDEX(Calculation!$D$4:$D$18,MATCH(Calculation!$P$5&(ROW(A7)-ROW($A$5)),Calculation!$L$4:$L$18&Calculation!$N$4:$N$18,0),1),"")}
B60: {=IFERROR(INDEX(Calculation!$D$4:$D$18,MATCH(Calculation!$P$10&(ROW(A8)-ROW($A$5)),Calculation!$L$4:$L$18&Calculation!$N$4:$N$18,0),1),"")} | D60: {=IFERROR(INDEX(Calculation!$D$4:$D$18,MATCH(Calculation!$P$8&(ROW(A8)-ROW($A$5)),Calculation!$L$4:$L$18&Calculation!$N$4:$N$18,0),1),"")} -> Retail Revolution Ltd. | F60: {=IFERROR(INDEX(Calculation!$D$4:$D$18,MATCH(Calculation!$P$5&(ROW(A8)-ROW($A$5)),Calculation!$L$4:$L$18&Calculation!$N$4:$N$18,0),1),"")}
B61: {=IFERROR(INDEX(Calculation!$D$4:$D$18,MATCH(Calculation!$P$10&(ROW(A9)-ROW($A$5)),Calculation!$L$4:$L$18&Calculation!$N$4:$N$18,0),1),"")} | D61: {=IFERROR(INDEX(Calculation!$D$4:$D$18,MATCH(Calculation!$P$8&(ROW(A9)-ROW($A$5)),Calculation!$L$4:$L$18&Calculation!$N$4:$N$18,0),1),"")} | F61: {=IFERROR(INDEX(Calculation!$D$4:$D$18,MATCH(Calculation!$P$5&(ROW(A9)-ROW($A$5)),Calculation!$L$4:$L$18&Calculation!$N$4:$N$18,0),1),"")}
B62: {=IFERROR(INDEX(Calculation!$D$4:$D$18,MATCH(Calculation!$P$10&(ROW(A10)-ROW($A$5)),Calculation!$L$4:$L$18&Calculation!$N$4:$N$18,0),1),"")} | D62: {=IFERROR(INDEX(Calculation!$D$4:$D$18,MATCH(Calculation!$P$8&(ROW(A10)-ROW($A$5)),Calculation!$L$4:$L$18&Calculation!$N$4:$N$18,0),1),"")} | F62: {=IFERROR(INDEX(Calculation!$D$4:$D$18,MATCH(Calculation!$P$5&(ROW(A10)-ROW($A$5)),Calculation!$L$4:$L$18&Calculation!$N$4:$N$18,0),1),"")}
B63: {=IFERROR(INDEX(Calculation!$D$4:$D$18,MATCH(Calculation!$P$10&(ROW(A11)-ROW($A$5)),Calculation!$L$4:$L$18&Calculation!$N$4:$N$18,0),1),"")} | D63: {=IFERROR(INDEX(Calculation!$D$4:$D$18,MATCH(Calculation!$P$8&(ROW(A11)-ROW($A$5)),Calculation!$L$4:$L$18&Calculation!$N$4:$N$18,0),1),"")} | F63: {=IFERROR(INDEX(Calculation!$D$4:$D$18,MATCH(Calculation!$P$5&(ROW(A11)-ROW($A$5)),Calculation!$L$4:$L$18&Calculation!$N$4:$N$18,0),1),"")}
B64: {=IFERROR(INDEX(Calculation!$D$4:$D$18,MATCH(Calculation!$P$10&(ROW(A12)-ROW($A$5)),Calculation!$L$4:$L$18&Calculation!$N$4:$N$18,0),1),"")} | D64: {=IFERROR(INDEX(Calculation!$D$4:$D$18,MATCH(Calculation!$P$8&(ROW(A12)-ROW($A$5)),Calculation!$L$4:$L$18&Calculation!$N$4:$N$18,0),1),"")} | F64: {=IFERROR(INDEX(Calculation!$D$4:$D$18,MATCH(Calculation!$P$5&(ROW(A12)-ROW($A$5)),Calculation!$L$4:$L$18&Calculation!$N$4:$N$18,0),1),"")}
B65: {=IFERROR(INDEX(Calculation!$D$4:$D$18,MATCH(Calculation!$P$10&(ROW(A13)-ROW($A$5)),Calculation!$L$4:$L$18&Calculation!$N$4:$N$18,0),1),"")} | D65: {=IFERROR(INDEX(Calculation!$D$4:$D$18,MATCH(Calculation!$P$8&(ROW(A13)-ROW($A$5)),Calculation!$L$4:$L$18&Calculation!$N$4:$N$18,0),1),"")} | F65: {=IFERROR(INDEX(Calculation!$D$4:$D$18,MATCH(Calculation!$P$5&(ROW(A13)-ROW($A$5)),Calculation!$L$4:$L$18&Calculation!$N$4:$N$18,0),1),"")}
B66: {=IFERROR(INDEX(Calculation!$D$4:$D$18,MATCH(Calculation!$P$10&(ROW(A14)-ROW($A$5)),Calculation!$L$4:$L$18&Calculation!$N$4:$N$18,0),1),"")} | D66: {=IFERROR(INDEX(Calculation!$D$4:$D$18,MATCH(Calculation!$P$8&(ROW(A14)-ROW($A$5)),Calculation!$L$4:$L$18&Calculation!$N$4:$N$18,0),1),"")} | F66: {=IFERROR(INDEX(Calculation!$D$4:$D$18,MATCH(Calculation!$P$5&(ROW(A14)-ROW($A$5)),Calculation!$L$4:$L$18&Calculation!$N$4:$N$18,0),1),"")}
B67: {=IFERROR(INDEX(Calculation!$D$4:$D$18,MATCH(Calculation!$P$10&(ROW(A15)-ROW($A$5)),Calculation!$L$4:$L$18&Calculation!$N$4:$N$18,0),1),"")} | D67: {=IFERROR(INDEX(Calculation!$D$4:$D$18,MATCH(Calculation!$P$8&(ROW(A15)-ROW($A$5)),Calculation!$L$4:$L$18&Calculation!$N$4:$N$18,0),1),"")} | F67: {=IFERROR(INDEX(Calculation!$D$4:$D$18,MATCH(Calculation!$P$5&(ROW(A15)-ROW($A$5)),Calculation!$L$4:$L$18&Calculation!$N$4:$N$18,0),1),"")}
B68: {=IFERROR(INDEX(Calculation!$D$4:$D$18,MATCH(Calculation!$P$10&(ROW(A16)-ROW($A$5)),Calculation!$L$4:$L$18&Calculation!$N$4:$N$18,0),1),"")} | D68: {=IFERROR(INDEX(Calculation!$D$4:$D$18,MATCH(Calculation!$P$8&(ROW(A16)-ROW($A$5)),Calculation!$L$4:$L$18&Calculation!$N$4:$N$18,0),1),"")} | F68: {=IFERROR(INDEX(Calculation!$D$4:$D$18,MATCH(Calculation!$P$5&(ROW(A16)-ROW($A$5)),Calculation!$L$4:$L$18&Calculation!$N$4:$N$18,0),1),"")}
B69: {=IFERROR(INDEX(Calculation!$D$4:$D$18,MATCH(Calculation!$P$10&(ROW(A17)-ROW($A$5)),Calculation!$L$4:$L$18&Calculation!$N$4:$N$18,0),1),"")} | D69: {=IFERROR(INDEX(Calculation!$D$4:$D$18,MATCH(Calculation!$P$8&(ROW(A17)-ROW($A$5)),Calculation!$L$4:$L$18&Calculation!$N$4:$N$18,0),1),"")} | F69: {=IFERROR(INDEX(Calculation!$D$4:$D$18,MATCH(Calculation!$P$5&(ROW(A17)-ROW($A$5)),Calculation!$L$4:$L$18&Calculation!$N$4:$N$18,0),1),"")}
... B107: {=IFERROR(INDEX(Calculation!$D$4:$D$18,MATCH(Calculation!$P$10&(ROW(A55)-ROW($A$5)),Calculation!$L$4:$L$18&Calculation!$N$4:$N$18,0),1),"")} | D107: {=IFERROR(INDEX(Calculation!$D$4:$D$18,MATCH(Calculation!$P$8&(ROW(A55)-ROW($A$5)),Calculation!$L$4:$L$18&Calculation!$N$4:$N$18,0),1),"")} | F107: {=IFERROR(INDEX(Calculation!$D$4:$D$18,MATCH(Calculation!$P$5&(ROW(A55)-ROW($A$5)),Calculation!$L$4:$L$18&Calculation!$N$4:$N$18,0),1),"")}
B109: =SUBSTITUTE(UPPER(Settings!I15),"İ","I") -> DIVEST OR EXIT | D109: =SUBSTITUTE(UPPER(Settings!I14),"İ","I") -> MANAGE FOR EARNINGS | F109: =SUBSTITUTE(UPPER(Settings!I12),"İ","I") -> HARVEST OR DIVEST
B110: {=IFERROR(INDEX(Calculation!$D$4:$D$18,MATCH(Calculation!$P$12&(ROW(A6)-ROW($A$5)),Calculation!$L$4:$L$18&Calculation!$N$4:$N$18,0),1),"")} -> Local Manufacturing Co. | D110: {=IFERROR(INDEX(Calculation!$D$4:$D$18,MATCH(Calculation!$P$11&(ROW(A6)-ROW($A$5)),Calculation!$L$4:$L$18&Calculation!$N$4:$N$18,0),1),"")} -> E-commerce Ventures | F110: {=IFERROR(INDEX(Calculation!$D$4:$D$18,MATCH(Calculation!$P$9&(ROW(A6)-ROW($A$5)),Calculation!$L$4:$L$18&Calculation!$N$4:$N$18,0),1),"")} -> Sustainable Retailers Inc.
B111: {=IFERROR(INDEX(Calculation!$D$4:$D$18,MATCH(Calculation!$P$12&(ROW(A7)-ROW($A$5)),Calculation!$L$4:$L$18&Calculation!$N$4:$N$18,0),1),"")} | D111: {=IFERROR(INDEX(Calculation!$D$4:$D$18,MATCH(Calculation!$P$11&(ROW(A7)-ROW($A$5)),Calculation!$L$4:$L$18&Calculation!$N$4:$N$18,0),1),"")} | F111: {=IFERROR(INDEX(Calculation!$D$4:$D$18,MATCH(Calculation!$P$9&(ROW(A7)-ROW($A$5)),Calculation!$L$4:$L$18&Calculation!$N$4:$N$18,0),1),"")}
B112: {=IFERROR(INDEX(Calculation!$D$4:$D$18,MATCH(Calculation!$P$12&(ROW(A8)-ROW($A$5)),Calculation!$L$4:$L$18&Calculation!$N$4:$N$18,0),1),"")} | D112: {=IFERROR(INDEX(Calculation!$D$4:$D$18,MATCH(Calculation!$P$11&(ROW(A8)-ROW($A$5)),Calculation!$L$4:$L$18&Calculation!$N$4:$N$18,0),1),"")} | F112: {=IFERROR(INDEX(Calculation!$D$4:$D$18,MATCH(Calculation!$P$9&(ROW(A8)-ROW($A$5)),Calculation!$L$4:$L$18&Calculation!$N$4:$N$18,0),1),"")}
B113: {=IFERROR(INDEX(Calculation!$D$4:$D$18,MATCH(Calculation!$P$12&(ROW(A9)-ROW($A$5)),Calculation!$L$4:$L$18&Calculation!$N$4:$N$18,0),1),"")} | D113: {=IFERROR(INDEX(Calculation!$D$4:$D$18,MATCH(Calculation!$P$11&(ROW(A9)-ROW($A$5)),Calculation!$L$4:$L$18&Calculation!$N$4:$N$18,0),1),"")} | F113: {=IFERROR(INDEX(Calculation!$D$4:$D$18,MATCH(Calculation!$P$9&(ROW(A9)-ROW($A$5)),Calculation!$L$4:$L$18&Calculation!$N$4:$N$18,0),1),"")}
B114: {=IFERROR(INDEX(Calculation!$D$4:$D$18,MATCH(Calculation!$P$12&(ROW(A10)-ROW($A$5)),Calculation!$L$4:$L$18&Calculation!$N$4:$N$18,0),1),"")} | D114: {=IFERROR(INDEX(Calculation!$D$4:$D$18,MATCH(Calculation!$P$11&(ROW(A10)-ROW($A$5)),Calculation!$L$4:$L$18&Calculation!$N$4:$N$18,0),1),"")} | F114: {=IFERROR(INDEX(Calculation!$D$4:$D$18,MATCH(Calculation!$P$9&(ROW(A10)-ROW($A$5)),Calculation!$L$4:$L$18&Calculation!$N$4:$N$18,0),1),"")}
B115: {=IFERROR(INDEX(Calculation!$D$4:$D$18,MATCH(Calculation!$P$12&(ROW(A11)-ROW($A$5)),Calculation!$L$4:$L$18&Calculation!$N$4:$N$18,0),1),"")} | D115: {=IFERROR(INDEX(Calculation!$D$4:$D$18,MATCH(Calculation!$P$11&(ROW(A11)-ROW($A$5)),Calculation!$L$4:$L$18&Calculation!$N$4:$N$18,0),1),"")} | F115: {=IFERROR(INDEX(Calculation!$D$4:$D$18,MATCH(Calculation!$P$9&(ROW(A11)-ROW($A$5)),Calculation!$L$4:$L$18&Calculation!$N$4:$N$18,0),1),"")}
B116: {=IFERROR(INDEX(Calculation!$D$4:$D$18,MATCH(Calculation!$P$12&(ROW(A12)-ROW($A$5)),Calculation!$L$4:$L$18&Calculation!$N$4:$N$18,0),1),"")} | D116: {=IFERROR(INDEX(Calculation!$D$4:$D$18,MATCH(Calculation!$P$11&(ROW(A12)-ROW($A$5)),Calculation!$L$4:$L$18&Calculation!$N$4:$N$18,0),1),"")} | F116: {=IFERROR(INDEX(Calculation!$D$4:$D$18,MATCH(Calculation!$P$9&(ROW(A12)-ROW($A$5)),Calculation!$L$4:$L$18&Calculation!$N$4:$N$18,0),1),"")}
B117: {=IFERROR(INDEX(Calculation!$D$4:$D$18,MATCH(Calculation!$P$12&(ROW(A13)-ROW($A$5)),Calculation!$L$4:$L$18&Calculation!$N$4:$N$18,0),1),"")} | D117: {=IFERROR(INDEX(Calculation!$D$4:$D$18,MATCH(Calculation!$P$11&(ROW(A13)-ROW($A$5)),Calculation!$L$4:$L$18&Calculation!$N$4:$N$18,0),1),"")} | F117: {=IFERROR(INDEX(Calculation!$D$4:$D$18,MATCH(Calculation!$P$9&(ROW(A13)-ROW($A$5)),Calculation!$L$4:$L$18&Calculation!$N$4:$N$18,0),1),"")}
B118: {=IFERROR(INDEX(Calculation!$D$4:$D$18,MATCH(Calculation!$P$12&(ROW(A14)-ROW($A$5)),Calculation!$L$4:$L$18&Calculation!$N$4:$N$18,0),1),"")} | D118: {=IFERROR(INDEX(Calculation!$D$4:$D$18,MATCH(Calculation!$P$11&(ROW(A14)-ROW($A$5)),Calculation!$L$4:$L$18&Calculation!$N$4:$N$18,0),1),"")} | F118: {=IFERROR(INDEX(Calculation!$D$4:$D$18,MATCH(Calculation!$P$9&(ROW(A14)-ROW($A$5)),Calculation!$L$4:$L$18&Calculation!$N$4:$N$18,0),1),"")}
...

Sheet Settings
C2: GE MCKINSEY MATRIX
C3: SETTINGS
C6: INDUSTRY | E6: RESPONSIBLE | G6: PROFITABILITY | I6: MCKINSEY CATEGORIES | J6: BUSINESS STRENGTH - MARKET ATTRACTIVENESS
C7: Retail | E7: Olivia Turner | G7: Very High | I7: Invest and Grow | J7: =J20 &" - " & J20 -> 3 - 3
C8: Energy | E8: Noah Mitchell | G8: High | I8: Selective Investment | J8: =J20 &" - " & J19 -> 3 - 2
C9: Media | E9: Ava Reynolds | G9: Medium | I9: Invest to Build | J9: =J19 &" - " & J20 -> 2 - 3
C10: Manufacturing | E10: Liam Bennett | G10: Low | I10: Invest to Improve or Collaborate | J10: =J18 &" - " & J20 -> 1 - 3
C11: Technology | E11: Sophia Evans | G11: Very Low | I11: Maintain | J11: =J19 &" - " & J19 -> 2 - 2
C12: Healthcare | E12: Jackson Foster | I12: Harvest or Divest | J12: =J20 &" - " & J18 -> 3 - 1
C13: Automotive | I13: Build Selectively | J13: =J18 &" - " & J19 -> 1 - 2
C14: Consumer Electronics | I14: Manage For Earnings | J14: =J19 &" - " & J18 -> 2 - 1
I15: Divest or Exit | J15: =J18 &" - " & J18 -> 1 - 1
I17: EVALUATION LEVELS | J17: LVL
I18: Low | J18: 1
I19: Medium | J19: 2
I20: High | J20: 3

Sheet Calculation
U2: =COUNTA(U4:U19)-COUNTIF(U4:U19,"") -> 13 | W2: =COUNTA(W4:W24)-COUNTIF(W4:W24,"") -> 9 | Y2: =COUNTA(Y4:Y24)-COUNTIF(Y4:Y24,"") -> 7 | AA2: =COUNTA(AA4:AA24)-COUNTIF(AA4:AA24,"") -> 6 | AC2: =COUNTA(AC4:AC7)-COUNTIF(AC4:AC7,"") -> 4
B3: =SUBSTITUTE(UPPER(BusinessTable!B5),"İ","I") -> BUSINESS ID | C3: Filtered ID | D3: =SUBSTITUTE(UPPER(BusinessTable!C5),"İ","I") -> BUSINESS NAME | E3: =SUBSTITUTE(UPPER(BusinessTable!D5),"İ","I") -> INDUSTRY | F3: =SUBSTITUTE(UPPER(BusinessTable!F5),"İ","I") -> RESPONSIBLE | G3: =SUBSTITUTE(UPPER(BusinessTable!G5),"İ","I") -> PROFITABILITY | H3: =SUBSTITUTE(UPPER(BusinessTable!H5),"İ","I") -> BUSINESS STRENGTH | I3: =SUBSTITUTE(UPPER(BusinessTable!I5),"İ","I") -> MARKET ATTRACTIVENESS | J3: PERFORMANCE | K3: POTENTIAL | L3: =SUBSTITUTE(UPPER(BusinessTable!J5),"İ","I") -> MCKINSEY CATEGORIZATION | M3: Active | N3: COUNT BY CATEGORY | P3: Categorites | Q3: Count | R3: % | S3: Con. Frmt | U3: ID | W3: INDUSTRY | Y3: RESPONSIBLE | AA3: PROFITABILITY | AC3: PROFITABILITY
B4: =IF(LEN(INDEX(BusinessTable!B$6:B$20,ROW($A4)-ROW($A$3),1))=0,"",INDEX(BusinessTable!B$6:B$20,ROW($A4)-ROW($A$3),1)) -> 1 | C4: =IF(OR(Dashboard!$C$8="ALL",Dashboard!$C$8=""),IF(Calculation!B4="","",1),IF(Dashboard!$C$8=Calculation!B4,1,0)) -> 1 | D4: =IF(LEN(INDEX(BusinessTable!C$6:C$20,ROW($A4)-ROW($A$3),1))=0,"",INDEX(BusinessTable!C$6:C$20,ROW($A4)-ROW($A$3),1)) -> Tech Innovations Inc. | E4: =IF(ISNUMBER(C4),IF(OR(Dashboard!$E$8="ALL",Dashboard!$E$8=""),INDEX(BusinessTable!D$6:D$20,ROW($A4)-ROW($A$3),1),IF(Dashboard!$E$8=INDEX(BusinessTable!D$6:D$20,ROW($A4)-ROW($A$3),1),INDEX(BusinessTable!D$6:D$20,ROW($A4)-ROW($A$3),1),"-")),"") -> Technology | F4: =IF(ISNUMBER(C4),IF(OR(Dashboard!$G$8="ALL",Dashboard!$G$8=""),INDEX(BusinessTable!F$6:F$20,ROW($A4)-ROW($A$3),1),IF(Dashboard!$G$8=INDEX(BusinessTable!F$6:F$20,ROW($A4)-ROW($A$3),1),INDEX(BusinessTable!F$6:F$20,ROW($A4)-ROW($A$3),1),"-")),"") -> Jackson Foster | G4: =IF(ISNUMBER(C4),IF(OR(Dashboard!$I$8="ALL",Dashboard!$I$8=""),INDEX(BusinessTable!G$6:G$20,ROW($A4)-ROW($A$3),1),IF(Dashboard!$I$8=INDEX(BusinessTable!G$6:G$20,ROW($A4)-ROW($A$3),1),INDEX(BusinessTable!G$6:G$20,ROW($A4)-ROW($A$3),1),"-")),"") -> High | H4: =IF(LEN(INDEX(BusinessTable!H$6:H$20,ROW($A4)-ROW($A$3),1))=0,"",INDEX(BusinessTable!H$6:H$20,ROW($A4)-ROW($A$3),1)) -> 2 | I4: =IF(LEN(INDEX(BusinessTable!I$6:I$20,ROW($A4)-ROW($A$3),1))=0,"",INDEX(BusinessTable!I$6:I$20,ROW($A4)-ROW($A$3),1)) -> 3 | J4: =IF(LEN(B4)=0,"",IF(OR(Dashboard!$K$8="All",Dashboard!$K$8=""),INDEX(Settings!$I$18:$I$20,MATCH(Calculation!$H4,Settings!$J$18:$J$20,0)),IF(Dashboard!$K$8=INDEX(Settings!$I$18:$I$20,MATCH(Calculation!$H4,Settings!$J$18:$J$20,0)),INDEX(Settings!$I$18:$I$20,MATCH(Calculation!$H4,Settings!$J$18:$J$20,0)),""))) -> Medium | K4: =IF(LEN(B4)=0,"",IF(OR(Dashboard!$M$8="All",Dashboard!$M$8=""),INDEX(Settings!$I$18:$I$20,MATCH(Calculation!$I4,Settings!$J$18:$J$20,0)),IF(Dashboard!$M$8=INDEX(Settings!$I$18:$I$20,MATCH(Calculation!$I4,Settings!$J$18:$J$20,0)),INDEX(Settings!$I$18:$I$20,MATCH(Calculation!$I4,Settings!$J$18:$J$20,0)),""))) -> High | L4: =IF(LEN(INDEX(BusinessTable!J$6:J$20,ROW($A4)-ROW($A$3),1))=0,"",INDEX(BusinessTable!J$6:J$20,ROW($A4)-ROW($A$3),1)) -> Invest to Build | M4: =IF(AND(C4<>0, E4<>"-",F4<>"-",G4<>"-",L4<>"",J4<>"",K4<>""),1,"") -> 1 | N4: {=IF(M4="","",SUM(IF($L$4:L4&$M$4:M4=L4&1,1,0)))} -> 1 | P4: =INDEX(categories,ROW(O4)-ROW($O$3),1) -> Invest and Grow | Q4: =COUNTIFS($L$4:$L$18,P4,$M$4:$M$18,1) -> 1 | R4: =IFERROR(Q4/SUM($Q$4:$Q$12),0) -> 0.083333333 | S4: =COUNTIF($P$4:$P$12,P4) -> 1 | U4: ALL | W4: ALL | Y4: ALL | AA4: ALL | AC4: ALL
B5: =IF(LEN(INDEX(BusinessTable!B$6:B$20,ROW($A5)-ROW($A$3),1))=0,"",INDEX(BusinessTable!B$6:B$20,ROW($A5)-ROW($A$3),1)) -> 2 | C5: =IF(OR(Dashboard!$C$8="ALL",Dashboard!$C$8=""),IF(Calculation!B5="","",1),IF(Dashboard!$C$8=Calculation!B5,1,0)) -> 1 | D5: =IF(LEN(INDEX(BusinessTable!C$6:C$20,ROW($A5)-ROW($A$3),1))=0,"",INDEX(BusinessTable!C$6:C$20,ROW($A5)-ROW($A$3),1)) -> Pharma Solutions Ltd. | E5: =IF(ISNUMBER(C5),IF(OR(Dashboard!$E$8="ALL",Dashboard!$E$8=""),INDEX(BusinessTable!D$6:D$20,ROW($A5)-ROW($A$3),1),IF(Dashboard!$E$8=INDEX(BusinessTable!D$6:D$20,ROW($A5)-ROW($A$3),1),INDEX(BusinessTable!D$6:D$20,ROW($A5)-ROW($A$3),1),"-")),"") -> Pharmaceuticals | F5: =IF(ISNUMBER(C5),IF(OR(Dashboard!$G$8="ALL",Dashboard!$G$8=""),INDEX(BusinessTable!F$6:F$20,ROW($A5)-ROW($A$3),1),IF(Dashboard!$G$8=INDEX(BusinessTable!F$6:F$20,ROW($A5)-ROW($A$3),1),INDEX(BusinessTable!F$6:F$20,ROW($A5)-ROW($A$3),1),"-")),"") -> Sophia Evans | G5: =IF(ISNUMBER(C5),IF(OR(Dashboard!$I$8="ALL",Dashboard!$I$8=""),INDEX(BusinessTable!G$6:G$20,ROW($A5)-ROW($A$3),1),IF(Dashboard!$I$8=INDEX(BusinessTable!G$6:G$20,ROW($A5)-ROW($A$3),1),INDEX(BusinessTable!G$6:G$20,ROW($A5)-ROW($A$3),1),"-")),"") -> Medium | H5: =IF(LEN(INDEX(BusinessTable!H$6:H$20,ROW($A5)-ROW($A$3),1))=0,"",INDEX(BusinessTable!H$6:H$20,ROW($A5)-ROW($A$3),1)) -> 2 | I5: =IF(LEN(INDEX(BusinessTable!I$6:I$20,ROW($A5)-ROW($A$3),1))=0,"",INDEX(BusinessTable!I$6:I$20,ROW($A5)-ROW($A$3),1)) -> 2 | J5: =IF(LEN(B5)=0,"",IF(OR(Dashboard!$K$8="All",Dashboard!$K$8=""),INDEX(Settings!$I$18:$I$20,MATCH(Calculation!$H5,Settings!$J$18:$J$20,0)),IF(Dashboard!$K$8=INDEX(Settings!$I$18:$I$20,MATCH(Calculation!$H5,Settings!$J$18:$J$20,0)),INDEX(Settings!$I$18:$I$20,MATCH(Calculation!$H5,Settings!$J$18:$J$20,0)),""))) -> Medium | K5: =IF(LEN(B5)=0,"",IF(OR(Dashboard!$M$8="All",Dashboard!$M$8=""),INDEX(Settings!$I$18:$I$20,MATCH(Calculation!$I5,Settings!$J$18:$J$20,0)),IF(Dashboard!$M$8=INDEX(Settings!$I$18:$I$20,MATCH(Calculation!$I5,Settings!$J$18:$J$20,0)),INDEX(Settings!$I$18:$I$20,MATCH(Calculation!$I5,Settings!$J$18:$J$20,0)),""))) -> Medium | L5: =IF(LEN(INDEX(BusinessTable!J$6:J$20,ROW($A5)-ROW($A$3),1))=0,"",INDEX(BusinessTable!J$6:J$20,ROW($A5)-ROW($A$3),1)) -> Maintain | M5: =IF(AND(C5<>0, E5<>"-",F5<>"-",G5<>"-",L5<>"",J5<>"",K5<>""),1,"") -> 1 | N5: {=IF(M5="","",SUM(IF($L$4:L5&$M$4:M5=L5&1,1,0)))} -> 1 | P5: =INDEX(categories,ROW(O5)-ROW($O$3),1) -> Selective Investment | Q5: =COUNTIFS($L$4:$L$18,P5,$M$4:$M$18,1) -> 1 | R5: =IFERROR(Q5/SUM($Q$4:$Q$12),0) -> 0.083333333 | S5: =COUNTIF($P$4:$P$12,P5) -> 1 | U5: =B4 -> 1 | W5: =IF(Settings!C7="","",Settings!C7) -> Retail | Y5: =IF(Settings!E7="","",Settings!E7) -> Olivia Turner | AA5: =IF(Settings!G7="","",Settings!G7) -> Very High | AC5: =IF(Settings!I18="","",Settings!I18) -> Low
B6: =IF(LEN(INDEX(BusinessTable!B$6:B$20,ROW($A6)-ROW($A$3),1))=0,"",INDEX(BusinessTable!B$6:B$20,ROW($A6)-ROW($A$3),1)) -> 3 | C6: =IF(OR(Dashboard!$C$8="ALL",Dashboard!$C$8=""),IF(Calculation!B6="","",1),IF(Dashboard!$C$8=Calculation!B6,1,0)) -> 1 | D6: =IF(LEN(INDEX(BusinessTable!C$6:C$20,ROW($A6)-ROW($A$3),1))=0,"",INDEX(BusinessTable!C$6:C$20,ROW($A6)-ROW($A$3),1)) -> E-commerce Ventures | E6: =IF(ISNUMBER(C6),IF(OR(Dashboard!$E$8="ALL",Dashboard!$E$8=""),INDEX(BusinessTable!D$6:D$20,ROW($A6)-ROW($A$3),1),IF(Dashboard!$E$8=INDEX(BusinessTable!D$6:D$20,ROW($A6)-ROW($A$3),1),INDEX(BusinessTable!D$6:D$20,ROW($A6)-ROW($A$3),1),"-")),"") -> E-commerce | F6: =IF(ISNUMBER(C6),IF(OR(Dashboard!$G$8="ALL",Dashboard!$G$8=""),INDEX(BusinessTable!F$6:F$20,ROW($A6)-ROW($A$3),1),IF(Dashboard!$G$8=INDEX(BusinessTable!F$6:F$20,ROW($A6)-ROW($A$3),1),INDEX(BusinessTable!F$6:F$20,ROW($A6)-ROW($A$3),1),"-")),"") -> Jackson Foster | G6: =IF(ISNUMBER(C6),IF(OR(Dashboard!$I$8="ALL",Dashboard!$I$8=""),INDEX(BusinessTable!G$6:G$20,ROW($A6)-ROW($A$3),1),IF(Dashboard!$I$8=INDEX(BusinessTable!G$6:G$20,ROW($A6)-ROW($A$3),1),INDEX(BusinessTable!G$6:G$20,ROW($A6)-ROW($A$3),1),"-")),"") -> Low | H6: =IF(LEN(INDEX(BusinessTable!H$6:H$20,ROW($A6)-ROW($A$3),1))=0,"",INDEX(BusinessTable!H$6:H$20,ROW($A6)-ROW($A$3),1)) -> 2 | I6: =IF(LEN(INDEX(BusinessTable!I$6:I$20,ROW($A6)-ROW($A$3),1))=0,"",INDEX(BusinessTable!I$6:I$20,ROW($A6)-ROW($A$3),1)) -> 1 | J6: =IF(LEN(B6)=0,"",IF(OR(Dashboard!$K$8="All",Dashboard!$K$8=""),INDEX(Settings!$I$18:$I$20,MATCH(Calculation!$H6,Settings!$J$18:$J$20,0)),IF(Dashboard!$K$8=INDEX(Settings!$I$18:$I$20,MATCH(Calculation!$H6,Settings!$J$18:$J$20,0)),INDEX(Settings!$I$18:$I$20,MATCH(Calculation!$H6,Settings!$J$18:$J$20,0)),""))) -> Medium | K6: =IF(LEN(B6)=0,"",IF(OR(Dashboard!$M$8="All",Dashboard!$M$8=""),INDEX(Settings!$I$18:$I$20,MATCH(Calculation!$I6,Settings!$J$18:$J$20,0)),IF(Dashboard!$M$8=INDEX(Settings!$I$18:$I$20,MATCH(Calculation!$I6,Settings!$J$18:$J$20,0)),INDEX(Settings!$I$18:$I$20,MATCH(Calculation!$I6,Settings!$J$18:$J$20,0)),""))) -> Low | L6: =IF(LEN(INDEX(BusinessTable!J$6:J$20,ROW($A6)-ROW($A$3),1))=0,"",INDEX(BusinessTable!J$6:J$20,ROW($A6)-ROW($A$3),1)) -> Manage For Earnings | M6: =IF(AND(C6<>0, E6<>"-",F6<>"-",G6<>"-",L6<>"",J6<>"",K6<>""),1,"") -> 1 | N6: {=IF(M6="","",SUM(IF($L$4:L6&$M$4:M6=L6&1,1,0)))} -> 1 | P6: =INDEX(categories,ROW(O6)-ROW($O$3),1) -> Invest to Build | Q6: =COUNTIFS($L$4:$L$18,P6,$M$4:$M$18,1) -> 2 | R6: =IFERROR(Q6/SUM($Q$4:$Q$12),0) -> 0.16666667 | S6: =COUNTIF($P$4:$P$12,P6) -> 1 | U6: =B5 -> 2 | W6: =IF(Settings!C8="","",Settings!C8) -> Energy | Y6: =IF(Settings!E8="","",Settings!E8) -> Noah Mitchell | AA6: =IF(Settings!G8="","",Settings!G8) -> High | AC6: =IF(Settings!I19="","",Settings!I19) -> Medium
B7: =IF(LEN(INDEX(BusinessTable!B$6:B$20,ROW($A7)-ROW($A$3),1))=0,"",INDEX(BusinessTable!B$6:B$20,ROW($A7)-ROW($A$3),1)) -> 4 | C7: =IF(OR(Dashboard!$C$8="ALL",Dashboard!$C$8=""),IF(Calculation!B7="","",1),IF(Dashboard!$C$8=Calculation!B7,1,0)) -> 1 | D7: =IF(LEN(INDEX(BusinessTable!C$6:C$20,ROW($A7)-ROW($A$3),1))=0,"",INDEX(BusinessTable!C$6:C$20,ROW($A7)-ROW($A$3),1)) -> Auto Dynamics Corp. | E7: =IF(ISNUMBER(C7),IF(OR(Dashboard!$E$8="ALL",Dashboard!$E$8=""),INDEX(BusinessTable!D$6:D$20,ROW($A7)-ROW($A$3),1),IF(Dashboard!$E$8=INDEX(BusinessTable!D$6:D$20,ROW($A7)-ROW($A$3),1),INDEX(BusinessTable!D$6:D$20,ROW($A7)-ROW($A$3),1),"-")),"") -> Automotive | F7: =IF(ISNUMBER(C7),IF(OR(Dashboard!$G$8="ALL",Dashboard!$G$8=""),INDEX(BusinessTable!F$6:F$20,ROW($A7)-ROW($A$3),1),IF(Dashboard!$G$8=INDEX(BusinessTable!F$6:F$20,ROW($A7)-ROW($A$3),1),INDEX(BusinessTable!F$6:F$20,ROW($A7)-ROW($A$3),1),"-")),"") -> Jackson Foster | G7: =IF(ISNUMBER(C7),IF(OR(Dashboard!$I$8="ALL",Dashboard!$I$8=""),INDEX(BusinessTable!G$6:G$20,ROW($A7)-ROW($A$3),1),IF(Dashboard!$I$8=INDEX(BusinessTable!G$6:G$20,ROW($A7)-ROW($A$3),1),INDEX(BusinessTable!G$6:G$20,ROW($A7)-ROW($A$3),1),"-")),"") -> Medium | H7: =IF(LEN(INDEX(BusinessTable!H$6:H$20,ROW($A7)-ROW($A$3),1))=0,"",INDEX(BusinessTable!H$6:H$20,ROW($A7)-ROW($A$3),1)) -> 2 | I7: =IF(LEN(INDEX(BusinessTable!I$6:I$20,ROW($A7)-ROW($A$3),1))=0,"",INDEX(BusinessTable!I$6:I$20,ROW($A7)-ROW($A$3),1)) -> 3 | J7: =IF(LEN(B7)=0,"",IF(OR(Dashboard!$K$8="All",Dashboard!$K$8=""),INDEX(Settings!$I$18:$I$20,MATCH(Calculation!$H7,Settings!$J$18:$J$20,0)),IF(Dashboard!$K$8=INDEX(Settings!$I$18:$I$20,MATCH(Calculation!$H7,Settings!$J$18:$J$20,0)),INDEX(Settings!$I$18:$I$20,MATCH(Calculation!$H7,Settings!$J$18:$J$20,0)),""))) -> Medium | K7: =IF(LEN(B7)=0,"",IF(OR(Dashboard!$M$8="All",Dashboard!$M$8=""),INDEX(Settings!$I$18:$I$20,MATCH(Calculation!$I7,Settings!$J$18:$J$20,0)),IF(Dashboard!$M$8=INDEX(Settings!$I$18:$I$20,MATCH(Calculation!$I7,Settings!$J$18:$J$20,0)),INDEX(Settings!$I$18:$I$20,MATCH(Calculation!$I7,Settings!$J$18:$J$20,0)),""))) -> High | L7: =IF(LEN(INDEX(BusinessTable!J$6:J$20,ROW($A7)-ROW($A$3),1))=0,"",INDEX(BusinessTable!J$6:J$20,ROW($A7)-ROW($A$3),1)) -> Invest to Build | M7: =IF(AND(C7<>0, E7<>"-",F7<>"-",G7<>"-",L7<>"",J7<>"",K7<>""),1,"") -> 1 | N7: {=IF(M7="","",SUM(IF($L$4:L7&$M$4:M7=L7&1,1,0)))} -> 2 | P7: =INDEX(categories,ROW(O7)-ROW($O$3),1) -> Invest to Improve or Collaborate | Q7: =COUNTIFS($L$4:$L$18,P7,$M$4:$M$18,1) -> 1 | R7: =IFERROR(Q7/SUM($Q$4:$Q$12),0) -> 0.083333333 | S7: =COUNTIF($P$4:$P$12,P7) -> 1 | U7: =B6 -> 3 | W7: =IF(Settings!C9="","",Settings!C9) -> Media | Y7: =IF(Settings!E9="","",Settings!E9) -> Ava Reynolds | AA7: =IF(Settings!G9="","",Settings!G9) -> Medium | AC7: =IF(Settings!I20="","",Settings!I20) -> High
B8: =IF(LEN(INDEX(BusinessTable!B$6:B$20,ROW($A8)-ROW($A$3),1))=0,"",INDEX(BusinessTable!B$6:B$20,ROW($A8)-ROW($A$3),1)) -> 5 | C8: =IF(OR(Dashboard!$C$8="ALL",Dashboard!$C$8=""),IF(Calculation!B8="","",1),IF(Dashboard!$C$8=Calculation!B8,1,0)) -> 1 | D8: =IF(LEN(INDEX(BusinessTable!C$6:C$20,ROW($A8)-ROW($A$3),1))=0,"",INDEX(BusinessTable!C$6:C$20,ROW($A8)-ROW($A$3),1)) -> Consumer Electronics Co. | E8: =IF(ISNUMBER(C8),IF(OR(Dashboard!$E$8="ALL",Dashboard!$E$8=""),INDEX(BusinessTable!D$6:D$20,ROW($A8)-ROW($A$3),1),IF(Dashboard!$E$8=INDEX(BusinessTable!D$6:D$20,ROW($A8)-ROW($A$3),1),INDEX(BusinessTable!D$6:D$20,ROW($A8)-ROW($A$3),1),"-")),"") -> Consumer Electronics | F8: =IF(ISNUMBER(C8),IF(OR(Dashboard!$G$8="ALL",Dashboard!$G$8=""),INDEX(BusinessTable!F$6:F$20,ROW($A8)-ROW($A$3),1),IF(Dashboard!$G$8=INDEX(BusinessTable!F$6:F$20,ROW($A8)-ROW($A$3),1),INDEX(BusinessTable!F$6:F$20,ROW($A8)-ROW($A$3),1),"-")),"") -> Noah Mitchell | G8: =IF(ISNUMBER(C8),IF(OR(Dashboard!$I$8="ALL",Dashboard!$I$8=""),INDEX(BusinessTable!G$6:G$20,ROW($A8)-ROW($A$3),1),IF(Dashboard!$I$8=INDEX(BusinessTable!G$6:G$20,ROW($A8)-ROW($A$3),1),INDEX(BusinessTable!G$6:G$20,ROW($A8)-ROW($A$3),1),"-")),"") -> Low | H8: =IF(LEN(INDEX(BusinessTable!H$6:H$20,ROW($A8)-ROW($A$3),1))=0,"",INDEX(BusinessTable!H$6:H$20,ROW($A8)-ROW($A$3),1)) -> 2 | I8: =IF(LEN(INDEX(BusinessTable!I$6:I$20,ROW($A8)-ROW($A$3),1))=0,"",INDEX(BusinessTable!I$6:I$20,ROW($A8)-ROW($A$3),1)) -> 2 | J8: =IF(LEN(B8)=0,"",IF(OR(Dashboard!$K$8="All",Dashboard!$K$8=""),INDEX(Settings!$I$18:$I$20,MATCH(Calculation!$H8,Settings!$J$18:$J$20,0)),IF(Dashboard!$K$8=INDEX(Settings!$I$18:$I$20,MATCH(Calculation!$H8,Settings!$J$18:$J$20,0)),INDEX(Settings!$I$18:$I$20,MATCH(Calculation!$H8,Settings!$J$18:$J$20,0)),""))) -> Medium | K8: =IF(LEN(B8)=0,"",IF(OR(Dashboard!$M$8="All",Dashboard!$M$8=""),INDEX(Settings!$I$18:$I$20,MATCH(Calculation!$I8,Settings!$J$18:$J$20,0)),IF(Dashboard!$M$8=INDEX(Settings!$I$18:$I$20,MATCH(Calculation!$I8,Settings!$J$18:$J$20,0)),INDEX(Settings!$I$18:$I$20,MATCH(Calculation!$I8,Settings!$J$18:$J$20,0)),""))) -> Medium | L8: =IF(LEN(INDEX(BusinessTable!J$6:J$20,ROW($A8)-ROW($A$3),1))=0,"",INDEX(BusinessTable!J$6:J$20,ROW($A8)-ROW($A$3),1)) -> Maintain | M8: =IF(AND(C8<>0, E8<>"-",F8<>"-",G8<>"-",L8<>"",J8<>"",K8<>""),1,"") -> 1 | N8: {=IF(M8="","",SUM(IF($L$4:L8&$M$4:M8=L8&1,1,0)))} -> 2 | P8: =INDEX(categories,ROW(O8)-ROW($O$3),1) -> Maintain | Q8: =COUNTIFS($L$4:$L$18,P8,$M$4:$M$18,1) -> 3 | R8: =IFERROR(Q8/SUM($Q$4:$Q$12),0) -> 0.25 | S8: =COUNTIF($P$4:$P$12,P8) -> 1 | U8: =B7 -> 4 | W8: =IF(Settings!C10="","",Settings!C10) -> Manufacturing | Y8: =IF(Settings!E10="","",Settings!E10) -> Liam Bennett | AA8: =IF(Settings!G10="","",Settings!G10) -> Low
B9: =IF(LEN(INDEX(BusinessTable!B$6:B$20,ROW($A9)-ROW($A$3),1))=0,"",INDEX(BusinessTable!B$6:B$20,ROW($A9)-ROW($A$3),1)) -> 6 | C9: =IF(OR(Dashboard!$C$8="ALL",Dashboard!$C$8=""),IF(Calculation!B9="","",1),IF(Dashboard!$C$8=Calculation!B9,1,0)) -> 1 | D9: =IF(LEN(INDEX(BusinessTable!C$6:C$20,ROW($A9)-ROW($A$3),1))=0,"",INDEX(BusinessTable!C$6:C$20,ROW($A9)-ROW($A$3),1)) -> Retail Revolution Ltd. | E9: =IF(ISNUMBER(C9),IF(OR(Dashboard!$E$8="ALL",Dashboard!$E$8=""),INDEX(BusinessTable!D$6:D$20,ROW($A9)-ROW($A$3),1),IF(Dashboard!$E$8=INDEX(BusinessTable!D$6:D$20,ROW($A9)-ROW($A$3),1),INDEX(BusinessTable!D$6:D$20,ROW($A9)-ROW($A$3),1),"-")),"") -> Retail | F9: =IF(ISNUMBER(C9),IF(OR(Dashboard!$G$8="ALL",Dashboard!$G$8=""),INDEX(BusinessTable!F$6:F$20,ROW($A9)-ROW($A$3),1),IF(Dashboard!$G$8=INDEX(BusinessTable!F$6:F$20,ROW($A9)-ROW($A$3),1),INDEX(BusinessTable!F$6:F$20,ROW($A9)-ROW($A$3),1),"-")),"") -> Olivia Turner | G9: =IF(ISNUMBER(C9),IF(OR(Dashboard!$I$8="ALL",Dashboard!$I$8=""),INDEX(BusinessTable!G$6:G$20,ROW($A9)-ROW($A$3),1),IF(Dashboard!$I$8=INDEX(BusinessTable!G$6:G$20,ROW($A9)-ROW($A$3),1),INDEX(BusinessTable!G$6:G$20,ROW($A9)-ROW($A$3),1),"-")),"") -> Very Low | H9: =IF(LEN(INDEX(BusinessTable!H$6:H$20,ROW($A9)-ROW($A$3),1))=0,"",INDEX(BusinessTable!H$6:H$20,ROW($A9)-ROW($A$3),1)) -> 2 | I9: =IF(LEN(INDEX(BusinessTable!I$6:I$20,ROW($A9)-ROW($A$3),1))=0,"",INDEX(BusinessTable!I$6:I$20,ROW($A9)-ROW($A$3),1)) -> 2 | J9: =IF(LEN(B9)=0,"",IF(OR(Dashboard!$K$8="All",Dashboard!$K$8=""),INDEX(Settings!$I$18:$I$20,MATCH(Calculation!$H9,Settings!$J$18:$J$20,0)),IF(Dashboard!$K$8=INDEX(Settings!$I$18:$I$20,MATCH(Calculation!$H9,Settings!$J$18:$J$20,0)),INDEX(Settings!$I$18:$I$20,MATCH(Calculation!$H9,Settings!$J$18:$J$20,0)),""))) -> Medium | K9: =IF(LEN(B9)=0,"",IF(OR(Dashboard!$M$8="All",Dashboard!$M$8=""),INDEX(Settings!$I$18:$I$20,MATCH(Calculation!$I9,Settings!$J$18:$J$20,0)),IF(Dashboard!$M$8=INDEX(Settings!$I$18:$I$20,MATCH(Calculation!$I9,Settings!$J$18:$J$20,0)),INDEX(Settings!$I$18:$I$20,MATCH(Calculation!$I9,Settings!$J$18:$J$20,0)),""))) -> Medium | L9: =IF(LEN(INDEX(BusinessTable!J$6:J$20,ROW($A9)-ROW($A$3),1))=0,"",INDEX(BusinessTable!J$6:J$20,ROW($A9)-ROW($A$3),1)) -> Maintain | M9: =IF(AND(C9<>0, E9<>"-",F9<>"-",G9<>"-",L9<>"",J9<>"",K9<>""),1,"") -> 1 | N9: {=IF(M9="","",SUM(IF($L$4:L9&$M$4:M9=L9&1,1,0)))} -> 3 | P9: =INDEX(categories,ROW(O9)-ROW($O$3),1) -> Harvest or Divest | Q9: =COUNTIFS($L$4:$L$18,P9,$M$4:$M$18,1) -> 1 | R9: =IFERROR(Q9/SUM($Q$4:$Q$12),0) -> 0.083333333 | S9: =COUNTIF($P$4:$P$12,P9) -> 1 | U9: =B8 -> 5 | W9: =IF(Settings!C11="","",Settings!C11) -> Technology | Y9: =IF(Settings!E11="","",Settings!E11) -> Sophia Evans | AA9: =IF(Settings!G11="","",Settings!G11) -> Very Low
B10: =IF(LEN(INDEX(BusinessTable!B$6:B$20,ROW($A10)-ROW($A$3),1))=0,"",INDEX(BusinessTable!B$6:B$20,ROW($A10)-ROW($A$3),1)) -> 7 | C10: =IF(OR(Dashboard!$C$8="ALL",Dashboard!$C$8=""),IF(Calculation!B10="","",1),IF(Dashboard!$C$8=Calculation!B10,1,0)) -> 1 | D10: =IF(LEN(INDEX(BusinessTable!C$6:C$20,ROW($A10)-ROW($A$3),1))=0,"",INDEX(BusinessTable!C$6:C$20,ROW($A10)-ROW($A$3),1)) -> Energy Utility Systems | E10: =IF(ISNUMBER(C10),IF(OR(Dashboard!$E$8="ALL",Dashboard!$E$8=""),INDEX(BusinessTable!D$6:D$20,ROW($A10)-ROW($A$3),1),IF(Dashboard!$E$8=INDEX(BusinessTable!D$6:D$20,ROW($A10)-ROW($A$3),1),INDEX(BusinessTable!D$6:D$20,ROW($A10)-ROW($A$3),1),"-")),"") -> Energy | F10: =IF(ISNUMBER(C10),IF(OR(Dashboard!$G$8="ALL",Dashboard!$G$8=""),INDEX(BusinessTable!F$6:F$20,ROW($A10)-ROW($A$3),1),IF(Dashboard!$G$8=INDEX(BusinessTable!F$6:F$20,ROW($A10)-ROW($A$3),1),INDEX(BusinessTable!F$6:F$20,ROW($A10)-ROW($A$3),1),"-")),"") -> Ava Reynolds | G10: =IF(ISNUMBER(C10),IF(OR(Dashboard!$I$8="ALL",Dashboard!$I$8=""),INDEX(BusinessTable!G$6:G$20,ROW($A10)-ROW($A$3),1),IF(Dashboard!$I$8=INDEX(BusinessTable!G$6:G$20,ROW($A10)-ROW($A$3),1),INDEX(BusinessTable!G$6:G$20,ROW($A10)-ROW($A$3),1),"-")),"") -> High | H10: =IF(LEN(INDEX(BusinessTable!H$6:H$20,ROW($A10)-ROW($A$3),1))=0,"",INDEX(BusinessTable!H$6:H$20,ROW($A10)-ROW($A$3),1)) -> 1 | I10: =IF(LEN(INDEX(BusinessTable!I$6:I$20,ROW($A10)-ROW($A$3),1))=0,"",INDEX(BusinessTable!I$6:I$20,ROW($A10)-ROW($A$3),1)) -> 3 | J10: =IF(LEN(B10)=0,"",IF(OR(Dashboard!$K$8="All",Dashboard!$K$8=""),INDEX(Settings!$I$18:$I$20,MATCH(Calculation!$H10,Settings!$J$18:$J$20,0)),IF(Dashboard!$K$8=INDEX(Settings!$I$18:$I$20,MATCH(Calculation!$H10,Settings!$J$18:$J$20,0)),INDEX(Settings!$I$18:$I$20,MATCH(Calculation!$H10,Settings!$J$18:$J$20,0)),""))) -> Low | K10: =IF(LEN(B10)=0,"",IF(OR(Dashboard!$M$8="All",Dashboard!$M$8=""),INDEX(Settings!$I$18:$I$20,MATCH(Calculation!$I10,Settings!$J$18:$J$20,0)),IF(Dashboard!$M$8=INDEX(Settings!$I$18:$I$20,MATCH(Calculation!$I10,Settings!$J$18:$J$20,0)),INDEX(Settings!$I$18:$I$20,MATCH(Calculation!$I10,Settings!$J$18:$J$20,0)),""))) -> High | L10: =IF(LEN(INDEX(BusinessTable!J$6:J$20,ROW($A10)-ROW($A$3),1))=0,"",INDEX(BusinessTable!J$6:J$20,ROW($A10)-ROW($A$3),1)) -> Invest to Improve or Collaborate | M10: =IF(AND(C10<>0, E10<>"-",F10<>"-",G10<>"-",L10<>"",J10<>"",K10<>""),1,"") -> 1 | N10: {=IF(M10="","",SUM(IF($L$4:L10&$M$4:M10=L10&1,1,0)))} -> 1 | P10: =INDEX(categories,ROW(O10)-ROW($O$3),1) -> Build Selectively | Q10: =COUNTIFS($L$4:$L$18,P10,$M$4:$M$18,1) -> 1 | R10: =IFERROR(Q10/SUM($Q$4:$Q$12),0) -> 0.083333333 | S10: =COUNTIF($P$4:$P$12,P10) -> 1 | U10: =B9 -> 6 | W10: =IF(Settings!C12="","",Settings!C12) -> Healthcare | Y10: =IF(Settings!E12="","",Settings!E12) -> Jackson Foster | AA10: =IF(Settings!G12="","",Settings!G12)
B11: =IF(LEN(INDEX(BusinessTable!B$6:B$20,ROW($A11)-ROW($A$3),1))=0,"",INDEX(BusinessTable!B$6:B$20,ROW($A11)-ROW($A$3),1)) -> 8 | C11: =IF(OR(Dashboard!$C$8="ALL",Dashboard!$C$8=""),IF(Calculation!B11="","",1),IF(Dashboard!$C$8=Calculation!B11,1,0)) -> 1 | D11: =IF(LEN(INDEX(BusinessTable!C$6:C$20,ROW($A11)-ROW($A$3),1))=0,"",INDEX(BusinessTable!C$6:C$20,ROW($A11)-ROW($A$3),1)) -> Print Media Enterprises | E11: =IF(ISNUMBER(C11),IF(OR(Dashboard!$E$8="ALL",Dashboard!$E$8=""),INDEX(BusinessTable!D$6:D$20,ROW($A11)-ROW($A$3),1),IF(Dashboard!$E$8=INDEX(BusinessTable!D$6:D$20,ROW($A11)-ROW($A$3),1),INDEX(BusinessTable!D$6:D$20,ROW($A11)-ROW($A$3),1),"-")),"") -> Media | F11: =IF(ISNUMBER(C11),IF(OR(Dashboard!$G$8="ALL",Dashboard!$G$8=""),INDEX(BusinessTable!F$6:F$20,ROW($A11)-ROW($A$3),1),IF(Dashboard!$G$8=INDEX(BusinessTable!F$6:F$20,ROW($A11)-ROW($A$3),1),INDEX(BusinessTable!F$6:F$20,ROW($A11)-ROW($A$3),1),"-")),"") -> Ava Reynolds | G11: =IF(ISNUMBER(C11),IF(OR(Dashboard!$I$8="ALL",Dashboard!$I$8=""),INDEX(BusinessTable!G$6:G$20,ROW($A11)-ROW($A$3),1),IF(Dashboard!$I$8=INDEX(BusinessTable!G$6:G$20,ROW($A11)-ROW($A$3),1),INDEX(BusinessTable!G$6:G$20,ROW($A11)-ROW($A$3),1),"-")),"") -> Low | H11: =IF(LEN(INDEX(BusinessTable!H$6:H$20,ROW($A11)-ROW($A$3),1))=0,"",INDEX(BusinessTable!H$6:H$20,ROW($A11)-ROW($A$3),1)) -> 1 | I11: =IF(LEN(INDEX(BusinessTable!I$6:I$20,ROW($A11)-ROW($A$3),1))=0,"",INDEX(BusinessTable!I$6:I$20,ROW($A11)-ROW($A$3),1)) -> 2 | J11: =IF(LEN(B11)=0,"",IF(OR(Dashboard!$K$8="All",Dashboard!$K$8=""),INDEX(Settings!$I$18:$I$20,MATCH(Calculation!$H11,Settings!$J$18:$J$20,0)),IF(Dashboard!$K$8=INDEX(Settings!$I$18:$I$20,MATCH(Calculation!$H11,Settings!$J$18:$J$20,0)),INDEX(Settings!$I$18:$I$20,MATCH(Calculation!$H11,Settings!$J$18:$J$20,0)),""))) -> Low | K11: =IF(LEN(B11)=0,"",IF(OR(Dashboard!$M$8="All",Dashboard!$M$8=""),INDEX(Settings!$I$18:$I$20,MATCH(Calculation!$I11,Settings!$J$18:$J$20,0)),IF(Dashboard!$M$8=INDEX(Settings!$I$18:$I$20,MATCH(Calculation!$I11,Settings!$J$18:$J$20,0)),INDEX(Settings!$I$18:$I$20,MATCH(Calculation!$I11,Settings!$J$18:$J$20,0)),""))) -> Medium | L11: =IF(LEN(INDEX(BusinessTable!J$6:J$20,ROW($A11)-ROW($A$3),1))=0,"",INDEX(BusinessTable!J$6:J$20,ROW($A11)-ROW($A$3),1)) -> Build Selectively | M11: =IF(AND(C11<>0, E11<>"-",F11<>"-",G11<>"-",L11<>"",J11<>"",K11<>""),1,"") -> 1 | N11: {=IF(M11="","",SUM(IF($L$4:L11&$M$4:M11=L11&1,1,0)))} -> 1 | P11: =INDEX(categories,ROW(O11)-ROW($O$3),1) -> Manage For Earnings | Q11: =COUNTIFS($L$4:$L$18,P11,$M$4:$M$18,1) -> 1 | R11: =IFERROR(Q11/SUM($Q$4:$Q$12),0) -> 0.083333333 | S11: =COUNTIF($P$4:$P$12,P11) -> 1 | U11: =B10 -> 7 | W11: =IF(Settings!C13="","",Settings!C13) -> Automotive | Y11: =IF(Settings!E13="","",Settings!E13) | AA11: =IF(Settings!G13="","",Settings!G13)
B12: =IF(LEN(INDEX(BusinessTable!B$6:B$20,ROW($A12)-ROW($A$3),1))=0,"",INDEX(BusinessTable!B$6:B$20,ROW($A12)-ROW($A$3),1)) -> 9 | C12: =IF(OR(Dashboard!$C$8="ALL",Dashboard!$C$8=""),IF(Calculation!B12="","",1),IF(Dashboard!$C$8=Calculation!B12,1,0)) -> 1 | D12: =IF(LEN(INDEX(BusinessTable!C$6:C$20,ROW($A12)-ROW($A$3),1))=0,"",INDEX(BusinessTable!C$6:C$20,ROW($A12)-ROW($A$3),1)) -> Local Manufacturing Co. | E12: =IF(ISNUMBER(C12),IF(OR(Dashboard!$E$8="ALL",Dashboard!$E$8=""),INDEX(BusinessTable!D$6:D$20,ROW($A12)-ROW($A$3),1),IF(Dashboard!$E$8=INDEX(BusinessTable!D$6:D$20,ROW($A12)-ROW($A$3),1),INDEX(BusinessTable!D$6:D$20,ROW($A12)-ROW($A$3),1),"-")),"") -> Manufacturing | F12: =IF(ISNUMBER(C12),IF(OR(Dashboard!$G$8="ALL",Dashboard!$G$8=""),INDEX(BusinessTable!F$6:F$20,ROW($A12)-ROW($A$3),1),IF(Dashboard!$G$8=INDEX(BusinessTable!F$6:F$20,ROW($A12)-ROW($A$3),1),INDEX(BusinessTable!F$6:F$20,ROW($A12)-ROW($A$3),1),"-")),"") -> Liam Bennett | G12: =IF(ISNUMBER(C12),IF(OR(Dashboard!$I$8="ALL",Dashboard!$I$8=""),INDEX(BusinessTable!G$6:G$20,ROW($A12)-ROW($A$3),1),IF(Dashboard!$I$8=INDEX(BusinessTable!G$6:G$20,ROW($A12)-ROW($A$3),1),INDEX(BusinessTable!G$6:G$20,ROW($A12)-ROW($A$3),1),"-")),"") -> Very Low | H12: =IF(LEN(INDEX(BusinessTable!H$6:H$20,ROW($A12)-ROW($A$3),1))=0,"",INDEX(BusinessTable!H$6:H$20,ROW($A12)-ROW($A$3),1)) -> 1 | I12: =IF(LEN(INDEX(BusinessTable!I$6:I$20,ROW($A12)-ROW($A$3),1))=0,"",INDEX(BusinessTable!I$6:I$20,ROW($A12)-ROW($A$3),1)) -> 1 | J12: =IF(LEN(B12)=0,"",IF(OR(Dashboard!$K$8="All",Dashboard!$K$8=""),INDEX(Settings!$I$18:$I$20,MATCH(Calculation!$H12,Settings!$J$18:$J$20,0)),IF(Dashboard!$K$8=INDEX(Settings!$I$18:$I$20,MATCH(Calculation!$H12,Settings!$J$18:$J$20,0)),INDEX(Settings!$I$18:$I$20,MATCH(Calculation!$H12,Settings!$J$18:$J$20,0)),""))) -> Low | K12: =IF(LEN(B12)=0,"",IF(OR(Dashboard!$M$8="All",Dashboard!$M$8=""),INDEX(Settings!$I$18:$I$20,MATCH(Calculation!$I12,Settings!$J$18:$J$20,0)),IF(Dashboard!$M$8=INDEX(Settings!$I$18:$I$20,MATCH(Calculation!$I12,Settings!$J$18:$J$20,0)),INDEX(Settings!$I$18:$I$20,MATCH(Calculation!$I12,Settings!$J$18:$J$20,0)),""))) -> Low | L12: =IF(LEN(INDEX(BusinessTable!J$6:J$20,ROW($A12)-ROW($A$3),1))=0,"",INDEX(BusinessTable!J$6:J$20,ROW($A12)-ROW($A$3),1)) -> Divest or Exit | M12: =IF(AND(C12<>0, E12<>"-",F12<>"-",G12<>"-",L12<>"",J12<>"",K12<>""),1,"") -> 1 | N12: {=IF(M12="","",SUM(IF($L$4:L12&$M$4:M12=L12&1,1,0)))} -> 1 | P12: =INDEX(categories,ROW(O12)-ROW($O$3),1) -> Divest or Exit | Q12: =COUNTIFS($L$4:$L$18,P12,$M$4:$M$18,1) -> 1 | R12: =IFERROR(Q12/SUM($Q$4:$Q$12),0) -> 0.083333333 | S12: =COUNTIF($P$4:$P$12,P12) -> 1 | U12: =B11 -> 8 | W12: =IF(Settings!C14="","",Settings!C14) -> Consumer Electronics | Y12: =IF(Settings!E14="","",Settings!E14) | AA12: =IF(Settings!G14="","",Settings!G14)
B13: =IF(LEN(INDEX(BusinessTable!B$6:B$20,ROW($A13)-ROW($A$3),1))=0,"",INDEX(BusinessTable!B$6:B$20,ROW($A13)-ROW($A$3),1)) -> 10 | C13: =IF(OR(Dashboard!$C$8="ALL",Dashboard!$C$8=""),IF(Calculation!B13="","",1),IF(Dashboard!$C$8=Calculation!B13,1,0)) -> 1 | D13: =IF(LEN(INDEX(BusinessTable!C$6:C$20,ROW($A13)-ROW($A$3),1))=0,"",INDEX(BusinessTable!C$6:C$20,ROW($A13)-ROW($A$3),1)) -> AI Solutions Innovate | E13: =IF(ISNUMBER(C13),IF(OR(Dashboard!$E$8="ALL",Dashboard!$E$8=""),INDEX(BusinessTable!D$6:D$20,ROW($A13)-ROW($A$3),1),IF(Dashboard!$E$8=INDEX(BusinessTable!D$6:D$20,ROW($A13)-ROW($A$3),1),INDEX(BusinessTable!D$6:D$20,ROW($A13)-ROW($A$3),1),"-")),"") -> Technology | F13: =IF(ISNUMBER(C13),IF(OR(Dashboard!$G$8="ALL",Dashboard!$G$8=""),INDEX(BusinessTable!F$6:F$20,ROW($A13)-ROW($A$3),1),IF(Dashboard!$G$8=INDEX(BusinessTable!F$6:F$20,ROW($A13)-ROW($A$3),1),INDEX(BusinessTable!F$6:F$20,ROW($A13)-ROW($A$3),1),"-")),"") -> Liam Bennett | G13: =IF(ISNUMBER(C13),IF(OR(Dashboard!$I$8="ALL",Dashboard!$I$8=""),INDEX(BusinessTable!G$6:G$20,ROW($A13)-ROW($A$3),1),IF(Dashboard!$I$8=INDEX(BusinessTable!G$6:G$20,ROW($A13)-ROW($A$3),1),INDEX(BusinessTable!G$6:G$20,ROW($A13)-ROW($A$3),1),"-")),"") -> High | H13: =IF(LEN(INDEX(BusinessTable!H$6:H$20,ROW($A13)-ROW($A$3),1))=0,"",INDEX(BusinessTable!H$6:H$20,ROW($A13)-ROW($A$3),1)) -> 3 | I13: =IF(LEN(INDEX(BusinessTable!I$6:I$20,ROW($A13)-ROW($A$3),1))=0,"",INDEX(BusinessTable!I$6:I$20,ROW($A13)-ROW($A$3),1)) -> 3 | J13: =IF(LEN(B13)=0,"",IF(OR(Dashboard!$K$8="All",Dashboard!$K$8=""),INDEX(Settings!$I$18:$I$20,MATCH(Calculation!$H13,Settings!$J$18:$J$20,0)),IF(Dashboard!$K$8=INDEX(Settings!$I$18:$I$20,MATCH(Calculation!$H13,Settings!$J$18:$J$20,0)),INDEX(Settings!$I$18:$I$20,MATCH(Calculation!$H13,Settings!$J$18:$J$20,0)),""))) -> High | K13: =IF(LEN(B13)=0,"",IF(OR(Dashboard!$M$8="All",Dashboard!$M$8=""),INDEX(Settings!$I$18:$I$20,MATCH(Calculation!$I13,Settings!$J$18:$J$20,0)),IF(Dashboard!$M$8=INDEX(Settings!$I$18:$I$20,MATCH(Calculation!$I13,Settings!$J$18:$J$20,0)),INDEX(Settings!$I$18:$I$20,MATCH(Calculation!$I13,Settings!$J$18:$J$20,0)),""))) -> High | L13: =IF(LEN(INDEX(BusinessTable!J$6:J$20,ROW($A13)-ROW($A$3),1))=0,"",INDEX(BusinessTable!J$6:J$20,ROW($A13)-ROW($A$3),1)) -> Invest and Grow | M13: =IF(AND(C13<>0, E13<>"-",F13<>"-",G13<>"-",L13<>"",J13<>"",K13<>""),1,"") -> 1 | N13: {=IF(M13="","",SUM(IF($L$4:L13&$M$4:M13=L13&1,1,0)))} -> 1 | U13: =B12 -> 9 | W13: =IF(Settings!C15="","",Settings!C15) | Y13: =IF(Settings!E15="","",Settings!E15) | AA13: =IF(Settings!G15="","",Settings!G15)
B14: =IF(LEN(INDEX(BusinessTable!B$6:B$20,ROW($A14)-ROW($A$3),1))=0,"",INDEX(BusinessTable!B$6:B$20,ROW($A14)-ROW($A$3),1)) -> 11 | C14: =IF(OR(Dashboard!$C$8="ALL",Dashboard!$C$8=""),IF(Calculation!B14="","",1),IF(Dashboard!$C$8=Calculation!B14,1,0)) -> 1 | D14: =IF(LEN(INDEX(BusinessTable!C$6:C$20,ROW($A14)-ROW($A$3),1))=0,"",INDEX(BusinessTable!C$6:C$20,ROW($A14)-ROW($A$3),1)) -> Healthcare Technologies | E14: =IF(ISNUMBER(C14),IF(OR(Dashboard!$E$8="ALL",Dashboard!$E$8=""),INDEX(BusinessTable!D$6:D$20,ROW($A14)-ROW($A$3),1),IF(Dashboard!$E$8=INDEX(BusinessTable!D$6:D$20,ROW($A14)-ROW($A$3),1),INDEX(BusinessTable!D$6:D$20,ROW($A14)-ROW($A$3),1),"-")),"") -> Healthcare | F14: =IF(ISNUMBER(C14),IF(OR(Dashboard!$G$8="ALL",Dashboard!$G$8=""),INDEX(BusinessTable!F$6:F$20,ROW($A14)-ROW($A$3),1),IF(Dashboard!$G$8=INDEX(BusinessTable!F$6:F$20,ROW($A14)-ROW($A$3),1),INDEX(BusinessTable!F$6:F$20,ROW($A14)-ROW($A$3),1),"-")),"") -> Sophia Evans | G14: =IF(ISNUMBER(C14),IF(OR(Dashboard!$I$8="ALL",Dashboard!$I$8=""),INDEX(BusinessTable!G$6:G$20,ROW($A14)-ROW($A$3),1),IF(Dashboard!$I$8=INDEX(BusinessTable!G$6:G$20,ROW($A14)-ROW($A$3),1),INDEX(BusinessTable!G$6:G$20,ROW($A14)-ROW($A$3),1),"-")),"") -> Medium | H14: =IF(LEN(INDEX(BusinessTable!H$6:H$20,ROW($A14)-ROW($A$3),1))=0,"",INDEX(BusinessTable!H$6:H$20,ROW($A14)-ROW($A$3),1)) -> 3 | I14: =IF(LEN(INDEX(BusinessTable!I$6:I$20,ROW($A14)-ROW($A$3),1))=0,"",INDEX(BusinessTable!I$6:I$20,ROW($A14)-ROW($A$3),1)) -> 2 | J14: =IF(LEN(B14)=0,"",IF(OR(Dashboard!$K$8="All",Dashboard!$K$8=""),INDEX(Settings!$I$18:$I$20,MATCH(Calculation!$H14,Settings!$J$18:$J$20,0)),IF(Dashboard!$K$8=INDEX(Settings!$I$18:$I$20,MATCH(Calculation!$H14,Settings!$J$18:$J$20,0)),INDEX(Settings!$I$18:$I$20,MATCH(Calculation!$H14,Settings!$J$18:$J$20,0)),""))) -> High | K14: =IF(LEN(B14)=0,"",IF(OR(Dashboard!$M$8="All",Dashboard!$M$8=""),INDEX(Settings!$I$18:$I$20,MATCH(Calculation!$I14,Settings!$J$18:$J$20,0)),IF(Dashboard!$M$8=INDEX(Settings!$I$18:$I$20,MATCH(Calculation!$I14,Settings!$J$18:$J$20,0)),INDEX(Settings!$I$18:$I$20,MATCH(Calculation!$I14,Settings!$J$18:$J$20,0)),""))) -> Medium | L14: =IF(LEN(INDEX(BusinessTable!J$6:J$20,ROW($A14)-ROW($A$3),1))=0,"",INDEX(BusinessTable!J$6:J$20,ROW($A14)-ROW($A$3),1)) -> Selective Investment | M14: =IF(AND(C14<>0, E14<>"-",F14<>"-",G14<>"-",L14<>"",J14<>"",K14<>""),1,"") -> 1 | N14: {=IF(M14="","",SUM(IF($L$4:L14&$M$4:M14=L14&1,1,0)))} -> 1 | P14: Graph Data | Q14: No | U14: =B13 -> 10 | W14: =IF(Settings!C16="","",Settings!C16) | Y14: =IF(Settings!E16="","",Settings!E16) | AA14: =IF(Settings!G16="","",Settings!G16)
B15: =IF(LEN(INDEX(BusinessTable!B$6:B$20,ROW($A15)-ROW($A$3),1))=0,"",INDEX(BusinessTable!B$6:B$20,ROW($A15)-ROW($A$3),1)) -> 12 | C15: =IF(OR(Dashboard!$C$8="ALL",Dashboard!$C$8=""),IF(Calculation!B15="","",1),IF(Dashboard!$C$8=Calculation!B15,1,0)) -> 1 | D15: =IF(LEN(INDEX(BusinessTable!C$6:C$20,ROW($A15)-ROW($A$3),1))=0,"",INDEX(BusinessTable!C$6:C$20,ROW($A15)-ROW($A$3),1)) -> Sustainable Retailers Inc. | E15: =IF(ISNUMBER(C15),IF(OR(Dashboard!$E$8="ALL",Dashboard!$E$8=""),INDEX(BusinessTable!D$6:D$20,ROW($A15)-ROW($A$3),1),IF(Dashboard!$E$8=INDEX(BusinessTable!D$6:D$20,ROW($A15)-ROW($A$3),1),INDEX(BusinessTable!D$6:D$20,ROW($A15)-ROW($A$3),1),"-")),"") -> Retail | F15: =IF(ISNUMBER(C15),IF(OR(Dashboard!$G$8="ALL",Dashboard!$G$8=""),INDEX(BusinessTable!F$6:F$20,ROW($A15)-ROW($A$3),1),IF(Dashboard!$G$8=INDEX(BusinessTable!F$6:F$20,ROW($A15)-ROW($A$3),1),INDEX(BusinessTable!F$6:F$20,ROW($A15)-ROW($A$3),1),"-")),"") -> Jackson Foster | G15: =IF(ISNUMBER(C15),IF(OR(Dashboard!$I$8="ALL",Dashboard!$I$8=""),INDEX(BusinessTable!G$6:G$20,ROW($A15)-ROW($A$3),1),IF(Dashboard!$I$8=INDEX(BusinessTable!G$6:G$20,ROW($A15)-ROW($A$3),1),INDEX(BusinessTable!G$6:G$20,ROW($A15)-ROW($A$3),1),"-")),"") -> Low | H15: =IF(LEN(INDEX(BusinessTable!H$6:H$20,ROW($A15)-ROW($A$3),1))=0,"",INDEX(BusinessTable!H$6:H$20,ROW($A15)-ROW($A$3),1)) -> 3 | I15: =IF(LEN(INDEX(BusinessTable!I$6:I$20,ROW($A15)-ROW($A$3),1))=0,"",INDEX(BusinessTable!I$6:I$20,ROW($A15)-ROW($A$3),1)) -> 1 | J15: =IF(LEN(B15)=0,"",IF(OR(Dashboard!$K$8="All",Dashboard!$K$8=""),INDEX(Settings!$I$18:$I$20,MATCH(Calculation!$H15,Settings!$J$18:$J$20,0)),IF(Dashboard!$K$8=INDEX(Settings!$I$18:$I$20,MATCH(Calculation!$H15,Settings!$J$18:$J$20,0)),INDEX(Settings!$I$18:$I$20,MATCH(Calculation!$H15,Settings!$J$18:$J$20,0)),""))) -> High | K15: =IF(LEN(B15)=0,"",IF(OR(Dashboard!$M$8="All",Dashboard!$M$8=""),INDEX(Settings!$I$18:$I$20,MATCH(Calculation!$I15,Settings!$J$18:$J$20,0)),IF(Dashboard!$M$8=INDEX(Settings!$I$18:$I$20,MATCH(Calculation!$I15,Settings!$J$18:$J$20,0)),INDEX(Settings!$I$18:$I$20,MATCH(Calculation!$I15,Settings!$J$18:$J$20,0)),""))) -> Low | L15: =IF(LEN(INDEX(BusinessTable!J$6:J$20,ROW($A15)-ROW($A$3),1))=0,"",INDEX(BusinessTable!J$6:J$20,ROW($A15)-ROW($A$3),1)) -> Harvest or Divest | M15: =IF(AND(C15<>0, E15<>"-",F15<>"-",G15<>"-",L15<>"",J15<>"",K15<>""),1,"") -> 1 | N15: {=IF(M15="","",SUM(IF($L$4:L15&$M$4:M15=L15&1,1,0)))} -> 1 | P15: Red | Q15: =Q12 -> 1 | U15: =B14 -> 11 | W15: =IF(Settings!C17="","",Settings!C17) | Y15: =IF(Settings!E17="","",Settings!E17) | AA15: =IF(Settings!G17="","",Settings!G17)
B16: =IF(LEN(INDEX(BusinessTable!B$6:B$20,ROW($A16)-ROW($A$3),1))=0,"",INDEX(BusinessTable!B$6:B$20,ROW($A16)-ROW($A$3),1)) | C16: =IF(OR(Dashboard!$C$8="ALL",Dashboard!$C$8=""),IF(Calculation!B16="","",1),IF(Dashboard!$C$8=Calculation!B16,1,0)) | D16: =IF(LEN(INDEX(BusinessTable!C$6:C$20,ROW($A16)-ROW($A$3),1))=0,"",INDEX(BusinessTable!C$6:C$20,ROW($A16)-ROW($A$3),1)) | E16: =IF(ISNUMBER(C16),IF(OR(Dashboard!$E$8="ALL",Dashboard!$E$8=""),INDEX(BusinessTable!D$6:D$20,ROW($A16)-ROW($A$3),1),IF(Dashboard!$E$8=INDEX(BusinessTable!D$6:D$20,ROW($A16)-ROW($A$3),1),INDEX(BusinessTable!D$6:D$20,ROW($A16)-ROW($A$3),1),"-")),"") | F16: =IF(ISNUMBER(C16),IF(OR(Dashboard!$G$8="ALL",Dashboard!$G$8=""),INDEX(BusinessTable!F$6:F$20,ROW($A16)-ROW($A$3),1),IF(Dashboard!$G$8=INDEX(BusinessTable!F$6:F$20,ROW($A16)-ROW($A$3),1),INDEX(BusinessTable!F$6:F$20,ROW($A16)-ROW($A$3),1),"-")),"") | G16: =IF(ISNUMBER(C16),IF(OR(Dashboard!$I$8="ALL",Dashboard!$I$8=""),INDEX(BusinessTable!G$6:G$20,ROW($A16)-ROW($A$3),1),IF(Dashboard!$I$8=INDEX(BusinessTable!G$6:G$20,ROW($A16)-ROW($A$3),1),INDEX(BusinessTable!G$6:G$20,ROW($A16)-ROW($A$3),1),"-")),"") | H16: =IF(LEN(INDEX(BusinessTable!H$6:H$20,ROW($A16)-ROW($A$3),1))=0,"",INDEX(BusinessTable!H$6:H$20,ROW($A16)-ROW($A$3),1)) | I16: =IF(LEN(INDEX(BusinessTable!I$6:I$20,ROW($A16)-ROW($A$3),1))=0,"",INDEX(BusinessTable!I$6:I$20,ROW($A16)-ROW($A$3),1)) | J16: =IF(LEN(B16)=0,"",IF(OR(Dashboard!$K$8="All",Dashboard!$K$8=""),INDEX(Settings!$I$18:$I$20,MATCH(Calculation!$H16,Settings!$J$18:$J$20,0)),IF(Dashboard!$K$8=INDEX(Settings!$I$18:$I$20,MATCH(Calculation!$H16,Settings!$J$18:$J$20,0)),INDEX(Settings!$I$18:$I$20,MATCH(Calculation!$H16,Settings!$J$18:$J$20,0)),""))) | K16: =IF(LEN(B16)=0,"",IF(OR(Dashboard!$M$8="All",Dashboard!$M$8=""),INDEX(Settings!$I$18:$I$20,MATCH(Calculation!$I16,Settings!$J$18:$J$20,0)),IF(Dashboard!$M$8=INDEX(Settings!$I$18:$I$20,MATCH(Calculation!$I16,Settings!$J$18:$J$20,0)),INDEX(Settings!$I$18:$I$20,MATCH(Calculation!$I16,Settings!$J$18:$J$20,0)),""))) | L16: =IF(LEN(INDEX(BusinessTable!J$6:J$20,ROW($A16)-ROW($A$3),1))=0,"",INDEX(BusinessTable!J$6:J$20,ROW($A16)-ROW($A$3),1)) | M16: =IF(AND(C16<>0, E16<>"-",F16<>"-",G16<>"-",L16<>"",J16<>"",K16<>""),1,"") | N16: {=IF(M16="","",SUM(IF($L$4:L16&$M$4:M16=L16&1,1,0)))} | P16: Orange | Q16: =+Q11+Q9 -> 2 | U16: =B15 -> 12 | W16: =IF(Settings!C18="","",Settings!C18) | Y16: =IF(Settings!E18="","",Settings!E18) | AA16: =IF(Settings!G18="","",Settings!G18)
