Workbook
Name PrntList: OFFSET(List!$B$5,0,0,Calc!$C$16+1,Calc!$C$18)

Sheet List
B2: GAP ANALYSIS TEMPLATE
B3: TASK LIST | J3: DROPDOWN OPTIONS
B5: TASK/OBJECTIVE | C5: CURRENT STATE | D5: DESIRED STATE | E5: GAP IDENTIFIED? | F5: GAP DESCRIPTION | G5: CORRECTIVE ACTIONS | H5: PRIORITY | J5: GAP Identification | L5: Priority Status
B6: Increase annual revenue | C6: $20 Million | D6: $25 Million | E6: YES | F6: Lack of good sales strategy | G6: Find people who can teach the new sales strategies | H6: Medium | J6: YES | M6: High
B7: Decrease the use of paper by 10% | C7: Company spends $20k for paper in a year | D7: This amount is planned to be $18k | E7: NO | G7: Printers will be set to print | H7: Low | J7: NO | M7: Medium
B8: Increase Employee Morale | C8: Company suffers from lack of employee morale | D8: The morale of the employees should be enhanced | E8: YES | F8: Lack of clarity in HR policy | G8: HR must deal with this situation | H8: High | M8: Low
B9: Profitability must be at least 10% on sales | C9: %80 | D9: %10 | E9: NO | H9: High
B10: Employees must learn how to use the equipment correctly | C10: 20% of the employees use the equipment incorrectly | D10: All the employees should correctly use the equipment | E10: YES | F10: Incorrect use of equipment in production department | H10: Medium

Sheet Dashboard
C2: GAP ANALYSIS TEMPLATE
C3: DASHBOARD
C7: TOTAL TASK NUMBER
C8: =IFERROR(Calc!C16,"") -> 5
C10: GAP Identified?
C12: =IF(LEN(List!J6)=0,"",List!J6) -> YES
C13: =IFERROR(IF(LEN(C12)=0,"",Calc!C6),"") -> 3
C15: =IF(LEN(List!J7)=0,"",List!J7) -> NO
C16: =IFERROR(IF(LEN(C15)=0,"",Calc!C7),"") -> 2
B19: ANALYSIS SUMMARY & EVALUATION NOTES

Sheet Calc
B3: Chart Calculations
B5: GAP Identification | E5: Priority Status
B6: =IF(LEN(List!$J6)=0,"",List!$J6) -> YES | C6: =IFERROR(IF(LEN(B6)=0,"",COUNTIF(ListTable[GAP IDENTIFIED?],B6)),"") -> 3 | E6: =IF(LEN(List!$M6)=0,"",List!$M6) -> High | F6: =IFERROR(IF(LEN(E6)=0,"",COUNTIF(ListTable[PRIORITY],E6)),"") -> 2
B7: =IF(LEN(List!$J7)=0,"",List!$J7) -> NO | C7: =IFERROR(IF(LEN(B7)=0,"",COUNTIF(ListTable[GAP IDENTIFIED?],B7)),"") -> 2 | E7: =IF(LEN(List!$M7)=0,"",List!$M7) -> Medium | F7: =IFERROR(IF(LEN(E7)=0,"",COUNTIF(ListTable[PRIORITY],E7)),"") -> 2
E8: =IF(LEN(List!$M8)=0,"",List!$M8) -> Low | F8: =IFERROR(IF(LEN(E8)=0,"",COUNTIF(ListTable[PRIORITY],E8)),"") -> 1
C11: =IF(LEN(List!$M6)=0,"",List!$M6) -> High | D11: =IF(LEN(List!$M7)=0,"",List!$M7) -> Medium | E11: =IF(LEN(List!$M8)=0,"",List!$M8) -> Low
B12: =IF(LEN(List!$J6)=0,"",List!$J6) -> YES | C12: =IFERROR(COUNTIFS(ListTable[GAP IDENTIFIED?],$B12,ListTable[PRIORITY],C$11),"") -> 1 | D12: =IFERROR(COUNTIFS(ListTable[GAP IDENTIFIED?],$B12,ListTable[PRIORITY],D$11),"") -> 2 | E12: =IFERROR(COUNTIFS(ListTable[GAP IDENTIFIED?],$B12,ListTable[PRIORITY],E$11),"") -> 0
B13: =IF(LEN(List!$J7)=0,"",List!$J7) -> NO | C13: =IFERROR(COUNTIFS(ListTable[GAP IDENTIFIED?],$B13,ListTable[PRIORITY],C$11),"") -> 1 | D13: =IFERROR(COUNTIFS(ListTable[GAP IDENTIFIED?],$B13,ListTable[PRIORITY],D$11),"") -> 0 | E13: =IFERROR(COUNTIFS(ListTable[GAP IDENTIFIED?],$B13,ListTable[PRIORITY],E$11),"") -> 1
B16: Total Tasks | C16: =IFERROR(COUNTIF(ListTable[TASK/OBJECTIVE],"?*"),"") -> 5
B18: Column # | C18: =IFERROR(COUNTIF(List!B5:H5,"?*"),7) -> 7
