Workbook
Name forces: OFFSET(Cal!$C$5,,,Cal!$C$3)
Name impacts: OFFSET(Cal!$E$5,,,Cal!$E$5)

Sheet Dashboard
D2: FORCE FIELD ANALYSIS
D3: DASHBOARD
I6: Objective: | K6: Introduce a flexible work schedule policy in a company to improve employee work-life balance and satisfaction.
C8: ID | D8: Force | E8: Type | F8: Impact | G8: Comments / Actions (Optional) | I8: Driving | N8: Restraining
C9: 1 | D9: Employee Satisfaction | E9: Driving | F9: 4 | G9: Implement recognition programs | I9: =IFERROR(Cal!K5*(-1),"") -> 4 | M9: =Cal!J5 -> Employee Satisfaction | N9: =Cal!L5 -> Managerial Resistance | R9: =Cal!M5 -> 3
C10: 2 | D10: Work-Life Balance | E10: Driving | F10: 3 | G10: Offer remote work options | I10: =IFERROR(Cal!K6*(-1),"") -> 3 | M10: =Cal!J6 -> Work-Life Balance | N10: =Cal!L6 -> Communication Challenges | R10: =Cal!M6 -> 2
C11: 3 | D11: Attracting Talent | E11: Driving | F11: 4 | G11: Highlight flexible work in recruitment | I11: =IFERROR(Cal!K7*(-1),"") -> 4 | M11: =Cal!J7 -> Attracting Talent | N11: =Cal!L7 -> Client Expectations | R11: =Cal!M7 -> 4
C12: 4 | D12: Productivity | E12: Driving | F12: 3 | G12: Provide productivity training | I12: =IFERROR(Cal!K8*(-1),"") -> 3 | M12: =Cal!J8 -> Productivity | N12: =Cal!L8 -> Equity Concerns | R12: =Cal!M8 -> 2
C13: 5 | D13: Managerial Resistance | E13: Restraining | F13: 3 | G13: Conduct manager workshops on flexibility | I13: =IFERROR(Cal!K9*(-1),"") | M13: =Cal!J9 | N13: =Cal!L9 | R13: =Cal!M9
C14: 6 | D14: Communication Challenges | E14: Restraining | F14: 2 | G14: Use collaboration tools for remote teams | I14: =IFERROR(Cal!K10*(-1),"") | M14: =Cal!J10 | N14: =Cal!L10 | R14: =Cal!M10
C15: 7 | D15: Client Expectations | E15: Restraining | F15: 4 | G15: Set clear communication guidelines with clients | I15: =IFERROR(Cal!K11*(-1),"") | M15: =Cal!J11 | N15: =Cal!L11 | R15: =Cal!M11
C16: 8 | D16: Equity Concerns | E16: Restraining | F16: 2 | G16: Develop transparent policy for schedule requests | I16: =IFERROR(Cal!K12*(-1),"") | M16: =Cal!J12 | N16: =Cal!L12 | R16: =Cal!M12
C17: 9 | I17: =IFERROR(Cal!K13*(-1),"") | M17: =Cal!J13 | N17: =Cal!L13 | R17: =Cal!M13
C18: 10 | I18: =IFERROR(Cal!K14*(-1),"") | M18: =Cal!J14 | N18: =Cal!L14 | R18: =Cal!M14
C19: 11
C20: 12
C21: 13
C22: 14
C23: 15
C24: 16
C25: 17
C26: 18
C27: 19
C28: 20
C29: 21
C30: 22
... C58: 50

Sheet Cal
B4: ID | C4: Force | D4: Type | E4: Impact | F4: Impact | G4: Impact | I4: ID | J4: Driving | K4: Impact | L4: Restraining | M4: Impact
B5: 1 | C5: =IFERROR(IF(LEN(INDEX(Dashboard!D$9:D$58,Cal!$B5))=0,"",INDEX(Dashboard!D$9:D$58,Cal!$B5)),"") -> Employee Satisfaction | D5: =IFERROR(IF(LEN(INDEX(Dashboard!E$9:E$58,Cal!$B5))=0,"",INDEX(Dashboard!E$9:E$58,Cal!$B5)),"") -> Driving | E5: =IFERROR(IF(LEN(INDEX(Dashboard!F$9:F$58,Cal!$B5))=0,"",INDEX(Dashboard!F$9:F$58,Cal!$B5)*IF(D5="Restraining",1,-1)),"") -> -4 | F5: =IF(LEN(C5)=0,"",COUNTIF($D$5:D5,D5)) -> 1 | G5: =IF(LEN(C5)=0,"",F5&D5) -> 1Driving | I5: 1 | J5: =IFERROR(INDEX($C$5:$C$14,MATCH($I5&J$4,$G$5:$G$14,0)),"") -> Employee Satisfaction | K5: =IFERROR(INDEX($E$5:$E$14,MATCH($I5&$J$4,$G$5:$G$14,0)),"") -> -4 | L5: =IFERROR(INDEX($C$5:$C$14,MATCH($I5&L$4,$G$5:$G$14,0)),"") -> Managerial Resistance | M5: =IFERROR(INDEX($E$5:$E$14,MATCH($I5&$L$4,$G$5:$G$14,0)),"") -> 3
B6: 2 | C6: =IFERROR(IF(LEN(INDEX(Dashboard!D$9:D$58,Cal!$B6))=0,"",INDEX(Dashboard!D$9:D$58,Cal!$B6)),"") -> Work-Life Balance | D6: =IFERROR(IF(LEN(INDEX(Dashboard!E$9:E$58,Cal!$B6))=0,"",INDEX(Dashboard!E$9:E$58,Cal!$B6)),"") -> Driving | E6: =IFERROR(IF(LEN(INDEX(Dashboard!F$9:F$58,Cal!$B6))=0,"",INDEX(Dashboard!F$9:F$58,Cal!$B6)*IF(D6="Restraining",1,-1)),"") -> -3 | F6: =IF(LEN(C6)=0,"",COUNTIF($D$5:D6,D6)) -> 2 | G6: =IF(LEN(C6)=0,"",F6&D6) -> 2Driving | I6: 2 | J6: =IFERROR(INDEX($C$5:$C$14,MATCH($I6&J$4,$G$5:$G$14,0)),"") -> Work-Life Balance | K6: =IFERROR(INDEX($E$5:$E$14,MATCH($I6&$J$4,$G$5:$G$14,0)),"") -> -3 | L6: =IFERROR(INDEX($C$5:$C$14,MATCH($I6&L$4,$G$5:$G$14,0)),"") -> Communication Challenges | M6: =IFERROR(INDEX($E$5:$E$14,MATCH($I6&$L$4,$G$5:$G$14,0)),"") -> 2
B7: 3 | C7: =IFERROR(IF(LEN(INDEX(Dashboard!D$9:D$58,Cal!$B7))=0,"",INDEX(Dashboard!D$9:D$58,Cal!$B7)),"") -> Attracting Talent | D7: =IFERROR(IF(LEN(INDEX(Dashboard!E$9:E$58,Cal!$B7))=0,"",INDEX(Dashboard!E$9:E$58,Cal!$B7)),"") -> Driving | E7: =IFERROR(IF(LEN(INDEX(Dashboard!F$9:F$58,Cal!$B7))=0,"",INDEX(Dashboard!F$9:F$58,Cal!$B7)*IF(D7="Restraining",1,-1)),"") -> -4 | F7: =IF(LEN(C7)=0,"",COUNTIF($D$5:D7,D7)) -> 3 | G7: =IF(LEN(C7)=0,"",F7&D7) -> 3Driving | I7: 3 | J7: =IFERROR(INDEX($C$5:$C$14,MATCH($I7&J$4,$G$5:$G$14,0)),"") -> Attracting Talent | K7: =IFERROR(INDEX($E$5:$E$14,MATCH($I7&$J$4,$G$5:$G$14,0)),"") -> -4 | L7: =IFERROR(INDEX($C$5:$C$14,MATCH($I7&L$4,$G$5:$G$14,0)),"") -> Client Expectations | M7: =IFERROR(INDEX($E$5:$E$14,MATCH($I7&$L$4,$G$5:$G$14,0)),"") -> 4
B8: 4 | C8: =IFERROR(IF(LEN(INDEX(Dashboard!D$9:D$58,Cal!$B8))=0,"",INDEX(Dashboard!D$9:D$58,Cal!$B8)),"") -> Productivity | D8: =IFERROR(IF(LEN(INDEX(Dashboard!E$9:E$58,Cal!$B8))=0,"",INDEX(Dashboard!E$9:E$58,Cal!$B8)),"") -> Driving | E8: =IFERROR(IF(LEN(INDEX(Dashboard!F$9:F$58,Cal!$B8))=0,"",INDEX(Dashboard!F$9:F$58,Cal!$B8)*IF(D8="Restraining",1,-1)),"") -> -3 | F8: =IF(LEN(C8)=0,"",COUNTIF($D$5:D8,D8)) -> 4 | G8: =IF(LEN(C8)=0,"",F8&D8) -> 4Driving | I8: 4 | J8: =IFERROR(INDEX($C$5:$C$14,MATCH($I8&J$4,$G$5:$G$14,0)),"") -> Productivity | K8: =IFERROR(INDEX($E$5:$E$14,MATCH($I8&$J$4,$G$5:$G$14,0)),"") -> -3 | L8: =IFERROR(INDEX($C$5:$C$14,MATCH($I8&L$4,$G$5:$G$14,0)),"") -> Equity Concerns | M8: =IFERROR(INDEX($E$5:$E$14,MATCH($I8&$L$4,$G$5:$G$14,0)),"") -> 2
B9: 5 | C9: =IFERROR(IF(LEN(INDEX(Dashboard!D$9:D$58,Cal!$B9))=0,"",INDEX(Dashboard!D$9:D$58,Cal!$B9)),"") -> Managerial Resistance | D9: =IFERROR(IF(LEN(INDEX(Dashboard!E$9:E$58,Cal!$B9))=0,"",INDEX(Dashboard!E$9:E$58,Cal!$B9)),"") -> Restraining | E9: =IFERROR(IF(LEN(INDEX(Dashboard!F$9:F$58,Cal!$B9))=0,"",INDEX(Dashboard!F$9:F$58,Cal!$B9)*IF(D9="Restraining",1,-1)),"") -> 3 | F9: =IF(LEN(C9)=0,"",COUNTIF($D$5:D9,D9)) -> 1 | G9: =IF(LEN(C9)=0,"",F9&D9) -> 1Restraining | I9: 5 | J9: =IFERROR(INDEX($C$5:$C$14,MATCH($I9&J$4,$G$5:$G$14,0)),"") | K9: =IFERROR(INDEX($E$5:$E$14,MATCH($I9&$J$4,$G$5:$G$14,0)),"") | L9: =IFERROR(INDEX($C$5:$C$14,MATCH($I9&L$4,$G$5:$G$14,0)),"") | M9: =IFERROR(INDEX($E$5:$E$14,MATCH($I9&$L$4,$G$5:$G$14,0)),"")
B10: 6 | C10: =IFERROR(IF(LEN(INDEX(Dashboard!D$9:D$58,Cal!$B10))=0,"",INDEX(Dashboard!D$9:D$58,Cal!$B10)),"") -> Communication Challenges | D10: =IFERROR(IF(LEN(INDEX(Dashboard!E$9:E$58,Cal!$B10))=0,"",INDEX(Dashboard!E$9:E$58,Cal!$B10)),"") -> Restraining | E10: =IFERROR(IF(LEN(INDEX(Dashboard!F$9:F$58,Cal!$B10))=0,"",INDEX(Dashboard!F$9:F$58,Cal!$B10)*IF(D10="Restraining",1,-1)),"") -> 2 | F10: =IF(LEN(C10)=0,"",COUNTIF($D$5:D10,D10)) -> 2 | G10: =IF(LEN(C10)=0,"",F10&D10) -> 2Restraining | I10: 6 | J10: =IFERROR(INDEX($C$5:$C$14,MATCH($I10&J$4,$G$5:$G$14,0)),"") | K10: =IFERROR(INDEX($E$5:$E$14,MATCH($I10&$J$4,$G$5:$G$14,0)),"") | L10: =IFERROR(INDEX($C$5:$C$14,MATCH($I10&L$4,$G$5:$G$14,0)),"") | M10: =IFERROR(INDEX($E$5:$E$14,MATCH($I10&$L$4,$G$5:$G$14,0)),"")
B11: 7 | C11: =IFERROR(IF(LEN(INDEX(Dashboard!D$9:D$58,Cal!$B11))=0,"",INDEX(Dashboard!D$9:D$58,Cal!$B11)),"") -> Client Expectations | D11: =IFERROR(IF(LEN(INDEX(Dashboard!E$9:E$58,Cal!$B11))=0,"",INDEX(Dashboard!E$9:E$58,Cal!$B11)),"") -> Restraining | E11: =IFERROR(IF(LEN(INDEX(Dashboard!F$9:F$58,Cal!$B11))=0,"",INDEX(Dashboard!F$9:F$58,Cal!$B11)*IF(D11="Restraining",1,-1)),"") -> 4 | F11: =IF(LEN(C11)=0,"",COUNTIF($D$5:D11,D11)) -> 3 | G11: =IF(LEN(C11)=0,"",F11&D11) -> 3Restraining | I11: 7 | J11: =IFERROR(INDEX($C$5:$C$14,MATCH($I11&J$4,$G$5:$G$14,0)),"") | K11: =IFERROR(INDEX($E$5:$E$14,MATCH($I11&$J$4,$G$5:$G$14,0)),"") | L11: =IFERROR(INDEX($C$5:$C$14,MATCH($I11&L$4,$G$5:$G$14,0)),"") | M11: =IFERROR(INDEX($E$5:$E$14,MATCH($I11&$L$4,$G$5:$G$14,0)),"")
B12: 8 | C12: =IFERROR(IF(LEN(INDEX(Dashboard!D$9:D$58,Cal!$B12))=0,"",INDEX(Dashboard!D$9:D$58,Cal!$B12)),"") -> Equity Concerns | D12: =IFERROR(IF(LEN(INDEX(Dashboard!E$9:E$58,Cal!$B12))=0,"",INDEX(Dashboard!E$9:E$58,Cal!$B12)),"") -> Restraining | E12: =IFERROR(IF(LEN(INDEX(Dashboard!F$9:F$58,Cal!$B12))=0,"",INDEX(Dashboard!F$9:F$58,Cal!$B12)*IF(D12="Restraining",1,-1)),"") -> 2 | F12: =IF(LEN(C12)=0,"",COUNTIF($D$5:D12,D12)) -> 4 | G12: =IF(LEN(C12)=0,"",F12&D12) -> 4Restraining | I12: 8 | J12: =IFERROR(INDEX($C$5:$C$14,MATCH($I12&J$4,$G$5:$G$14,0)),"") | K12: =IFERROR(INDEX($E$5:$E$14,MATCH($I12&$J$4,$G$5:$G$14,0)),"") | L12: =IFERROR(INDEX($C$5:$C$14,MATCH($I12&L$4,$G$5:$G$14,0)),"") | M12: =IFERROR(INDEX($E$5:$E$14,MATCH($I12&$L$4,$G$5:$G$14,0)),"")
B13: 9 | C13: =IFERROR(IF(LEN(INDEX(Dashboard!D$9:D$58,Cal!$B13))=0,"",INDEX(Dashboard!D$9:D$58,Cal!$B13)),"") | D13: =IFERROR(IF(LEN(INDEX(Dashboard!E$9:E$58,Cal!$B13))=0,"",INDEX(Dashboard!E$9:E$58,Cal!$B13)),"") | E13: =IFERROR(IF(LEN(INDEX(Dashboard!F$9:F$58,Cal!$B13))=0,"",INDEX(Dashboard!F$9:F$58,Cal!$B13)*IF(D13="Restraining",1,-1)),"") | F13: =IF(LEN(C13)=0,"",COUNTIF($D$5:D13,D13)) | G13: =IF(LEN(C13)=0,"",F13&D13) | I13: 9 | J13: =IFERROR(INDEX($C$5:$C$14,MATCH($I13&J$4,$G$5:$G$14,0)),"") | K13: =IFERROR(INDEX($E$5:$E$14,MATCH($I13&$J$4,$G$5:$G$14,0)),"") | L13: =IFERROR(INDEX($C$5:$C$14,MATCH($I13&L$4,$G$5:$G$14,0)),"") | M13: =IFERROR(INDEX($E$5:$E$14,MATCH($I13&$L$4,$G$5:$G$14,0)),"")
B14: 10 | C14: =IFERROR(IF(LEN(INDEX(Dashboard!D$9:D$58,Cal!$B14))=0,"",INDEX(Dashboard!D$9:D$58,Cal!$B14)),"") | D14: =IFERROR(IF(LEN(INDEX(Dashboard!E$9:E$58,Cal!$B14))=0,"",INDEX(Dashboard!E$9:E$58,Cal!$B14)),"") | E14: =IFERROR(IF(LEN(INDEX(Dashboard!F$9:F$58,Cal!$B14))=0,"",INDEX(Dashboard!F$9:F$58,Cal!$B14)*IF(D14="Restraining",1,-1)),"") | F14: =IF(LEN(C14)=0,"",COUNTIF($D$5:D14,D14)) | G14: =IF(LEN(C14)=0,"",F14&D14) | I14: 10 | J14: =IFERROR(INDEX($C$5:$C$14,MATCH($I14&J$4,$G$5:$G$14,0)),"") | K14: =IFERROR(INDEX($E$5:$E$14,MATCH($I14&$J$4,$G$5:$G$14,0)),"") | L14: =IFERROR(INDEX($C$5:$C$14,MATCH($I14&L$4,$G$5:$G$14,0)),"") | M14: =IFERROR(INDEX($E$5:$E$14,MATCH($I14&$L$4,$G$5:$G$14,0)),"")
