Workbook
Name Mode: Dashboard!$E$8
Name Process: Dashboard!$C$8
Name Responsible: Dashboard!$I$8
Name RPNA: Dashboard!$Y$8
Name RPNB: Dashboard!$U$8
Name Status: Dashboard!$O$8

Sheet Dashboard
C2: FMEA EXCEL TEMPLATE
C3: DASHBOARD
C7: Process | E7: Mode | I7: Owner | O7: Action Status | U7: RPN Before | Y7: RPN After
C8: All | E8: All | I8: All | O8: All | U8: All | Y8: All
F12: FMEA SUMMARY
H14: Process | L14: Failure | P14: Effect | T14: Cause
H15: =Cal!BT3 -> 4 | L15: =Cal!BU3 -> 9 | P15: =Cal!BV3 -> 9 | T15: =Cal!BW3 -> 9
J18: Actions | N18: Overdue | R18: Owner
J19: =Cal!CF3 -> 15 | N19: =Cal!CJ8 -> 4 | R19: =Cal!BY3 -> 10
G22: RPN Reduction Ratio
H23: From | R23: To
H24: =Cal!CQ28 -> 662 | N24: =Cal!CQ24 -> 0.60120846 | R24: =Cal!CQ27 -> 264
G27: RPN Change
G28: RPN Before | J28: =Cal!$CR$18 -> 3 | N28: =Cal!$CR$19 -> 6 | R28: =Cal!$CR$20 -> 0
J29: =Cal!F6 -> High | N29: =Cal!F7 -> Medium | R29: =Cal!F8 -> Low
G30: RPN After | J30: =Cal!$CS$18 -> 0 | N30: =Cal!$CS$19 -> 5 | R30: =Cal!$CS$20 -> 4

Sheet Settings
C2: FMEA EXCEL TEMPLATE
C3: SETTINGS
C7: Process | E7: Action Owners | G7: RPN (Risk Prioirty Matrix) | K7: Risk Ranking Explanations
C8: Picking up the product with the handle | E8: Jemima Begum | G8: High | H8: ≤ | I8: 1000 | K8: Ranking | L8: Severity | M8: Occurrence | N8: Detection
C9: Reading the product barcode | E9: Mercedes Banks | G9: Medium | H9: ≤ | I9: 100 | K9: 10 | L9: Hazardous without warning | M9: >1 in 2 | N9: Absolute Uncertainty
C10: Preparation of the product for the next stage | E10: Macauley Peck | G10: Low | H10: ≤ | I10: 20 | K10: 9 | L10: Hazardous with warning | M10: 1 in 3 | N10: Very Remote
C11: Placing the next raw material in the station | E11: Hannah Shaw | K11: 8 | L11: Very High | M11: 1 in 8 | N11: Remote
C12: Removal of the product from the machine as a finished product | E12: Brad Pitt | G12: CML (Counter Measure Level) | K12: 7 | L12: High | M12: 1 in 20 | N12: Very Low
E13: Sarah-Jayne Morrison | G13: 6 | H13: Eliminate the operation | K13: 6 | L13: Moderate | M13: 1 in 80 | N13: Low
E14: Alyce Milner | G14: 5 | H14: Eliminate the Human Element | K14: 5 | L14: Low | M14: 1 in 400 | N14: Moderate
E15: Aviana Kenny | G15: 4 | H15: Make it difficult to do it the incorrect way | K15: 4 | L15: Very Low | M15: 1 in 2,000 | N15: Moderately High
E16: Julia Roberts | G16: 3 | H16: Constantly remind them ‘at a glance’ of the correct way | K16: 3 | L16: Minor | M16: 1 in 15,000 | N16: High
E17: Isobelle Hurley | G17: 2 | H17: Double check that the person has remembered to do it the correct way | K17: 2 | L17: Very Minor | M17: 1 in 150,000 | N17: Very High
G18: 1 | H18: Remind the person of the way to do the check correctly | K18: 1 | L18: None | M18: <1 in 1,500,000 | N18: Almost Certain

Sheet FMEA
C2: FMEA EXCEL TEMPLATE
C3: FMEA
G5: Before | L5: After
B6: ID | C6: Process/Function | D6: Potential Failure Modes | E6: Potential Effects | F6: Possible Cause | G6: Severity | H6: Occurrence | I6: Detection | J6: RPN | K6: Actions | L6: Severity | M6: Occurrence | N6: Detection | O6: RPN
B7: 1 | C7: Picking up the product with the handle | D7: Damage to the product | E7: Joint failure | F7: Damage caused by transportation | G7: 7 | H7: 5 | I7: 3 | J7: =IF(OR(LEN(G7)=0,LEN(H7)=0,LEN(I7)=0),"",G7*H7*I7) -> 105 | K7: =IFERROR(IF(OR(LEN(C7)=0,LEN(D7)=0,LEN(E7)=0,LEN(F7)=0),"",COUNTIFS(Cal!$BM$5:$BM$1004,FMEA!C7&FMEA!D7&FMEA!E7&FMEA!F7,ActionList!$G$6:$G$1005,"<>",ActionList!$H$6:$H$1005,"<>")),"") -> 1 | L7: 7 | M7: 5 | N7: 2 | O7: =IF(OR(LEN(N7)=0,LEN(M7)=0,LEN(L7)=0),"",L7*M7*N7) -> 70
B8: 2 | C8: Picking up the product with the handle | D8: Incorrect output of the product from the previous station | E8: Manufacturing defect | F8: Machine-induced anomalies | G8: 9 | H8: 4 | I8: 2 | J8: =IF(OR(LEN(G8)=0,LEN(H8)=0,LEN(I8)=0),"",G8*H8*I8) -> 72 | K8: =IFERROR(IF(OR(LEN(C8)=0,LEN(D8)=0,LEN(E8)=0,LEN(F8)=0),"",COUNTIFS(Cal!$BM$5:$BM$1004,FMEA!C8&FMEA!D8&FMEA!E8&FMEA!F8,ActionList!$G$6:$G$1005,"<>",ActionList!$H$6:$H$1005,"<>")),"") -> 3 | L8: 5 | M8: 4 | N8: 1 | O8: =IF(OR(LEN(N8)=0,LEN(M8)=0,LEN(L8)=0),"",L8*M8*N8) -> 20
B9: 3 | C9: Picking up the product with the handle | D9: Failure of the machine conveyor | E9: Manufacturing defect | F9: Faults | G9: 7 | H9: 3 | I9: 6 | J9: =IF(OR(LEN(G9)=0,LEN(H9)=0,LEN(I9)=0),"",G9*H9*I9) -> 126 | K9: =IFERROR(IF(OR(LEN(C9)=0,LEN(D9)=0,LEN(E9)=0,LEN(F9)=0),"",COUNTIFS(Cal!$BM$5:$BM$1004,FMEA!C9&FMEA!D9&FMEA!E9&FMEA!F9,ActionList!$G$6:$G$1005,"<>",ActionList!$H$6:$H$1005,"<>")),"") -> 2 | L9: 5 | M9: 3 | N9: 2 | O9: =IF(OR(LEN(N9)=0,LEN(M9)=0,LEN(L9)=0),"",L9*M9*N9) -> 30
B10: 4 | C10: Reading the product barcode | D10: Software not working | E10: Sending wrong product to the customer | F10: Computer malfunction | G10: 8 | H10: 1 | I10: 6 | J10: =IF(OR(LEN(G10)=0,LEN(H10)=0,LEN(I10)=0),"",G10*H10*I10) -> 48 | K10: =IFERROR(IF(OR(LEN(C10)=0,LEN(D10)=0,LEN(E10)=0,LEN(F10)=0),"",COUNTIFS(Cal!$BM$5:$BM$1004,FMEA!C10&FMEA!D10&FMEA!E10&FMEA!F10,ActionList!$G$6:$G$1005,"<>",ActionList!$H$6:$H$1005,"<>")),"") -> 2 | L10: 8 | M10: 1 | N10: 3 | O10: =IF(OR(LEN(N10)=0,LEN(M10)=0,LEN(L10)=0),"",L10*M10*N10) -> 24
B11: 5 | C11: Reading the product barcode | D11: Reading the wrong barcode | E11: Sending wrong product to the customer | F11: Collecting tags | G11: 7 | H11: 3 | I11: 3 | J11: =IF(OR(LEN(G11)=0,LEN(H11)=0,LEN(I11)=0),"",G11*H11*I11) -> 63 | K11: =IFERROR(IF(OR(LEN(C11)=0,LEN(D11)=0,LEN(E11)=0,LEN(F11)=0),"",COUNTIFS(Cal!$BM$5:$BM$1004,FMEA!C11&FMEA!D11&FMEA!E11&FMEA!F11,ActionList!$G$6:$G$1005,"<>",ActionList!$H$6:$H$1005,"<>")),"") -> 1 | L11: 7 | M11: 2 | N11: 2 | O11: =IF(OR(LEN(N11)=0,LEN(M11)=0,LEN(L11)=0),"",L11*M11*N11) -> 28
B12: 6 | C12: Preparation of the product for the next stage | D12: Incorrect preparation by the operator | E12: Failure of the process | F12: Operational error | G12: 4 | H12: 4 | I12: 2 | J12: =IF(OR(LEN(G12)=0,LEN(H12)=0,LEN(I12)=0),"",G12*H12*I12) -> 32 | K12: =IFERROR(IF(OR(LEN(C12)=0,LEN(D12)=0,LEN(E12)=0,LEN(F12)=0),"",COUNTIFS(Cal!$BM$5:$BM$1004,FMEA!C12&FMEA!D12&FMEA!E12&FMEA!F12,ActionList!$G$6:$G$1005,"<>",ActionList!$H$6:$H$1005,"<>")),"") -> 2 | L12: 4 | M12: 2 | N12: 2 | O12: =IF(OR(LEN(N12)=0,LEN(M12)=0,LEN(L12)=0),"",L12*M12*N12) -> 16
B13: 7 | C13: Preparation of the product for the next stage | D13: Sensors are dirty | E13: Failure of the process | F13: Dirtiness | G13: 4 | H13: 5 | I13: 6 | J13: =IF(OR(LEN(G13)=0,LEN(H13)=0,LEN(I13)=0),"",G13*H13*I13) -> 120 | K13: =IFERROR(IF(OR(LEN(C13)=0,LEN(D13)=0,LEN(E13)=0,LEN(F13)=0),"",COUNTIFS(Cal!$BM$5:$BM$1004,FMEA!C13&FMEA!D13&FMEA!E13&FMEA!F13,ActionList!$G$6:$G$1005,"<>",ActionList!$H$6:$H$1005,"<>")),"") -> 2 | L13: 4 | M13: 5 | N13: 2 | O13: =IF(OR(LEN(N13)=0,LEN(M13)=0,LEN(L13)=0),"",L13*M13*N13) -> 40
B14: 8 | C14: Preparation of the product for the next stage | D14: Malfunction in process | E14: Failure of production | F14: Mechanical/electrical fault in the machine | G14: 3 | H14: 2 | I14: 4 | J14: =IF(OR(LEN(G14)=0,LEN(H14)=0,LEN(I14)=0),"",G14*H14*I14) -> 24 | K14: =IFERROR(IF(OR(LEN(C14)=0,LEN(D14)=0,LEN(E14)=0,LEN(F14)=0),"",COUNTIFS(Cal!$BM$5:$BM$1004,FMEA!C14&FMEA!D14&FMEA!E14&FMEA!F14,ActionList!$G$6:$G$1005,"<>",ActionList!$H$6:$H$1005,"<>")),"") -> 1 | L14: 3 | M14: 2 | N14: 3 | O14: =IF(OR(LEN(N14)=0,LEN(M14)=0,LEN(L14)=0),"",L14*M14*N14) -> 18
B15: 9 | C15: Removal of the product from the machine as a finished product | D15: Banding the product without sufficient stretching | E15: Trace formation on the product after barrier systems | F15: Not using the taping tool | G15: 6 | H15: 4 | I15: 3 | J15: =IF(OR(LEN(G15)=0,LEN(H15)=0,LEN(I15)=0),"",G15*H15*I15) -> 72 | K15: =IFERROR(IF(OR(LEN(C15)=0,LEN(D15)=0,LEN(E15)=0,LEN(F15)=0),"",COUNTIFS(Cal!$BM$5:$BM$1004,FMEA!C15&FMEA!D15&FMEA!E15&FMEA!F15,ActionList!$G$6:$G$1005,"<>",ActionList!$H$6:$H$1005,"<>")),"") -> 1 | L15: 6 | M15: 1 | N15: 3 | O15: =IF(OR(LEN(N15)=0,LEN(M15)=0,LEN(L15)=0),"",L15*M15*N15) -> 18
B16: 10 | J16: =IF(OR(LEN(G16)=0,LEN(H16)=0,LEN(I16)=0),"",G16*H16*I16) | K16: =IFERROR(IF(OR(LEN(C16)=0,LEN(D16)=0,LEN(E16)=0,LEN(F16)=0),"",COUNTIFS(Cal!$BM$5:$BM$1004,FMEA!C16&FMEA!D16&FMEA!E16&FMEA!F16,ActionList!$G$6:$G$1005,"<>",ActionList!$H$6:$H$1005,"<>")),"") | O16: =IF(OR(LEN(N16)=0,LEN(M16)=0,LEN(L16)=0),"",L16*M16*N16)
B17: 11 | J17: =IF(OR(LEN(G17)=0,LEN(H17)=0,LEN(I17)=0),"",G17*H17*I17) | K17: =IFERROR(IF(OR(LEN(C17)=0,LEN(D17)=0,LEN(E17)=0,LEN(F17)=0),"",COUNTIFS(Cal!$BM$5:$BM$1004,FMEA!C17&FMEA!D17&FMEA!E17&FMEA!F17,ActionList!$G$6:$G$1005,"<>",ActionList!$H$6:$H$1005,"<>")),"") | O17: =IF(OR(LEN(N17)=0,LEN(M17)=0,LEN(L17)=0),"",L17*M17*N17)
B18: 12
B19: 13
B20: 14
B21: 15
B22: 16
B23: 17
B24: 18
B25: 19
B26: 20
B27: 21
B28: 22
B29: 23
... B506: 500

Sheet ActionList
C2: FMEA EXCEL TEMPLATE
C3: ACTION LIST
B5: ID | C5: Process/Function | D5: Potential Failure Modes | E5: Potential Effects | F5: Possible Cause | G5: Action | H5: CML | I5: Responsible | J5: Start | K5: Due Date | L5: Finish | M5: Status
B6: 1 | C6: Picking up the product with the handle | D6: Incorrect output of the product from the previous station | E6: Manufacturing defect | F6: Machine-induced anomalies | G6: Revise Planned Maintenances | H6: 3 | I6: Jemima Begum | J6: ✓ | K6: 44951 | L6: ✓ | M6: =IF(LEN(K6)=0,IF(AND(LEN(C6)>0,LEN(D6)>0,LEN(E6)>0,LEN(F6)>0,LEN(H6)>0,LEN(G6)>0),"Not Started",""),IF(L6="✓","Finished",IF(K6<TODAY(),"Overdue",IF(J6="✓","In Progress","Not Started")))) -> Finished
B7: 2 | C7: Picking up the product with the handle | D7: Incorrect output of the product from the previous station | E7: Manufacturing defect | F7: Machine-induced anomalies | G7: Place camera to track the machine condition | H7: 4 | I7: Jemima Begum | K7: 44859 | M7: =IF(LEN(K7)=0,IF(AND(LEN(C7)>0,LEN(D7)>0,LEN(E7)>0,LEN(F7)>0,LEN(H7)>0,LEN(G7)>0),"Not Started",""),IF(L7="✓","Finished",IF(K7<TODAY(),"Overdue",IF(J7="✓","In Progress","Not Started")))) -> Overdue
B8: 3 | C8: Picking up the product with the handle | D8: Damage to the product | E8: Joint failure | F8: Damage caused by transportation | G8: Make visual control on product before production | H8: 2 | I8: Macauley Peck | J8: ✓ | K8: 44725 | L8: ✓ | M8: =IF(LEN(K8)=0,IF(AND(LEN(C8)>0,LEN(D8)>0,LEN(E8)>0,LEN(F8)>0,LEN(H8)>0,LEN(G8)>0),"Not Started",""),IF(L8="✓","Finished",IF(K8<TODAY(),"Overdue",IF(J8="✓","In Progress","Not Started")))) -> Finished
B9: 4 | C9: Picking up the product with the handle | D9: Incorrect output of the product from the previous station | E9: Manufacturing defect | F9: Machine-induced anomalies | G9: Gathering real-time data to see production condition | H9: 2 | I9: Isobelle Hurley | J9: ✓ | K9: 44842 | M9: =IF(LEN(K9)=0,IF(AND(LEN(C9)>0,LEN(D9)>0,LEN(E9)>0,LEN(F9)>0,LEN(H9)>0,LEN(G9)>0),"Not Started",""),IF(L9="✓","Finished",IF(K9<TODAY(),"Overdue",IF(J9="✓","In Progress","Not Started")))) -> Overdue
B10: 5 | C10: Picking up the product with the handle | D10: Failure of the machine conveyor | E10: Manufacturing defect | F10: Faults | G10: make the machine emergency stop | H10: 4 | I10: Mercedes Banks | J10: ✓ | K10: 44987 | M10: =IF(LEN(K10)=0,IF(AND(LEN(C10)>0,LEN(D10)>0,LEN(E10)>0,LEN(F10)>0,LEN(H10)>0,LEN(G10)>0),"Not Started",""),IF(L10="✓","Finished",IF(K10<TODAY(),"Overdue",IF(J10="✓","In Progress","Not Started")))) -> In Progress
B11: 6 | C11: Picking up the product with the handle | D11: Failure of the machine conveyor | E11: Manufacturing defect | F11: Faults | G11: Standard checks on machine before running | H11: 3 | I11: Macauley Peck | J11: ✓ | K11: 44775 | L11: ✓ | M11: =IF(LEN(K11)=0,IF(AND(LEN(C11)>0,LEN(D11)>0,LEN(E11)>0,LEN(F11)>0,LEN(H11)>0,LEN(G11)>0),"Not Started",""),IF(L11="✓","Finished",IF(K11<TODAY(),"Overdue",IF(J11="✓","In Progress","Not Started")))) -> Finished
B12: 7 | C12: Removal of the product from the machine as a finished product | D12: Banding the product without sufficient stretching | E12: Trace formation on the product after barrier systems | F12: Not using the taping tool | G12: revision of the taping tool so that it can be used on all products | H12: 5 | I12: Brad Pitt | J12: ✓ | K12: 44814 | M12: =IF(LEN(K12)=0,IF(AND(LEN(C12)>0,LEN(D12)>0,LEN(E12)>0,LEN(F12)>0,LEN(H12)>0,LEN(G12)>0),"Not Started",""),IF(L12="✓","Finished",IF(K12<TODAY(),"Overdue",IF(J12="✓","In Progress","Not Started")))) -> Overdue
B13: 8 | C13: Reading the product barcode | D13: Reading the wrong barcode | E13: Sending wrong product to the customer | F13: Collecting tags | G13: revision of the taping tool so that it can be used on all products | H13: 5 | I13: Mercedes Banks | J13: ✓ | K13: 44815 | L13: ✓ | M13: =IF(LEN(K13)=0,IF(AND(LEN(C13)>0,LEN(D13)>0,LEN(E13)>0,LEN(F13)>0,LEN(H13)>0,LEN(G13)>0),"Not Started",""),IF(L13="✓","Finished",IF(K13<TODAY(),"Overdue",IF(J13="✓","In Progress","Not Started")))) -> Finished
B14: 9 | C14: Reading the product barcode | D14: Software not working | E14: Sending wrong product to the customer | F14: Computer malfunction | G14: creating a work instruction in case the system does not work | H14: 2 | I14: Hannah Shaw | J14: ✓ | K14: 44802 | L14: ✓ | M14: =IF(LEN(K14)=0,IF(AND(LEN(C14)>0,LEN(D14)>0,LEN(E14)>0,LEN(F14)>0,LEN(H14)>0,LEN(G14)>0),"Not Started",""),IF(L14="✓","Finished",IF(K14<TODAY(),"Overdue",IF(J14="✓","In Progress","Not Started")))) -> Finished
B15: 10 | C15: Reading the product barcode | D15: Software not working | E15: Sending wrong product to the customer | F15: Computer malfunction | G15: Defining periodic maintenance to computers | H15: 3 | I15: Alyce Milner | J15: ✓ | K15: 44827 | L15: ✓ | M15: =IF(LEN(K15)=0,IF(AND(LEN(C15)>0,LEN(D15)>0,LEN(E15)>0,LEN(F15)>0,LEN(H15)>0,LEN(G15)>0),"Not Started",""),IF(L15="✓","Finished",IF(K15<TODAY(),"Overdue",IF(J15="✓","In Progress","Not Started")))) -> Finished
B16: 11 | C16: Preparation of the product for the next stage | D16: Incorrect preparation by the operator | E16: Failure of the process | F16: Operational error | G16: creating a work instruction for production preparation | H16: 2 | I16: Alyce Milner | J16: ✓ | K16: 44905 | M16: =IF(LEN(K16)=0,IF(AND(LEN(C16)>0,LEN(D16)>0,LEN(E16)>0,LEN(F16)>0,LEN(H16)>0,LEN(G16)>0),"Not Started",""),IF(L16="✓","Finished",IF(K16<TODAY(),"Overdue",IF(J16="✓","In Progress","Not Started")))) -> In Progress
B17: 12 | C17: Preparation of the product for the next stage | D17: Incorrect preparation by the operator | E17: Failure of the process | F17: Operational error | G17: planning periodic education | H17: 1 | I17: Sarah-Jayne Morrison | K17: 44895 | M17: =IF(LEN(K17)=0,IF(AND(LEN(C17)>0,LEN(D17)>0,LEN(E17)>0,LEN(F17)>0,LEN(H17)>0,LEN(G17)>0),"Not Started",""),IF(L17="✓","Finished",IF(K17<TODAY(),"Overdue",IF(J17="✓","In Progress","Not Started")))) -> Not Started
B18: 13 | C18: Preparation of the product for the next stage | D18: Sensors are dirty | E18: Failure of the process | F18: Dirtiness | G18: A system should be established to check that the cleaning tools are working correctly. | H18: 5 | I18: Aviana Kenny | J18: ✓ | K18: 44784 | L18: ✓ | M18: =IF(LEN(K18)=0,IF(AND(LEN(C18)>0,LEN(D18)>0,LEN(E18)>0,LEN(F18)>0,LEN(H18)>0,LEN(G18)>0),"Not Started",""),IF(L18="✓","Finished",IF(K18<TODAY(),"Overdue",IF(J18="✓","In Progress","Not Started")))) -> Finished
B19: 14 | C19: Preparation of the product for the next stage | D19: Sensors are dirty | E19: Failure of the process | F19: Dirtiness | G19: warning the machine when the sensors are dirty | H19: 5 | I19: Alyce Milner | J19: ✓ | K19: 44841 | M19: =IF(LEN(K19)=0,IF(AND(LEN(C19)>0,LEN(D19)>0,LEN(E19)>0,LEN(F19)>0,LEN(H19)>0,LEN(G19)>0),"Not Started",""),IF(L19="✓","Finished",IF(K19<TODAY(),"Overdue",IF(J19="✓","In Progress","Not Started")))) -> Overdue
B20: 15 | C20: Preparation of the product for the next stage | D20: Malfunction in process | E20: Failure of production | F20: Mechanical/electrical fault in the machine | G20: Defining periodic maintenance to machine | H20: 2 | I20: Julia Roberts | J20: ✓ | K20: 44813 | L20: ✓ | M20: =IF(LEN(K20)=0,IF(AND(LEN(C20)>0,LEN(D20)>0,LEN(E20)>0,LEN(F20)>0,LEN(H20)>0,LEN(G20)>0),"Not Started",""),IF(L20="✓","Finished",IF(K20<TODAY(),"Overdue",IF(J20="✓","In Progress","Not Started")))) -> Finished
B21: 16 | M21: =IF(LEN(K21)=0,IF(AND(LEN(C21)>0,LEN(D21)>0,LEN(E21)>0,LEN(F21)>0,LEN(H21)>0,LEN(G21)>0),"Not Started",""),IF(L21="✓","Finished",IF(K21<TODAY(),"Overdue",IF(J21="✓","In Progress","Not Started"))))
B22: 17 | M22: =IF(LEN(K22)=0,IF(AND(LEN(C22)>0,LEN(D22)>0,LEN(E22)>0,LEN(F22)>0,LEN(H22)>0,LEN(G22)>0),"Not Started",""),IF(L22="✓","Finished",IF(K22<TODAY(),"Overdue",IF(J22="✓","In Progress","Not Started"))))
B23: 18 | M23: =IF(LEN(K23)=0,IF(AND(LEN(C23)>0,LEN(D23)>0,LEN(E23)>0,LEN(F23)>0,LEN(H23)>0,LEN(G23)>0),"Not Started",""),IF(L23="✓","Finished",IF(K23<TODAY(),"Overdue",IF(J23="✓","In Progress","Not Started"))))
B24: 19 | M24: =IF(LEN(K24)=0,IF(AND(LEN(C24)>0,LEN(D24)>0,LEN(E24)>0,LEN(F24)>0,LEN(H24)>0,LEN(G24)>0),"Not Started",""),IF(L24="✓","Finished",IF(K24<TODAY(),"Overdue",IF(J24="✓","In Progress","Not Started"))))
B25: 20
B26: 21
B27: 22
B28: 23
B29: 24
B30: 25
B31: 26
B32: 27
B33: 28
B34: 29
B35: 30
B36: 31
... B1005: 1000

Sheet Cal
B2: Settings | P2: FMEA List | V2: RPN Status | X2: Calculations for dashboard | AK2: Dynamic Dropdown for Process | AN2: Dynamic Dropdown for Mode | AS2: Dynamic Dropdown for Effect | AX2: Dynamic Dropdown for Cause | BD2: Actionlist | BM2: Calculations | CI2: Charts
O3: Calculations for columns | T3: =SUMPRODUCT(T5:T15,$AJ$5:$AJ$15) -> 662 | U3: =SUMPRODUCT(U5:U15,$AJ$5:$AJ$15) -> 264 | Z3: {=SUMPRODUCT((Z5:Z15<>"")*1,$AJ$5:$AJ$15)} -> 4 | AC3: {=SUMPRODUCT((AC5:AC15<>"")*1,$AJ$5:$AJ$15)} -> 9 | AE3: {=SUMPRODUCT((AE5:AE15<>"")*1,$AJ$5:$AJ$15)} -> 9 | AG3: {=SUMPRODUCT((AG5:AG15<>"")*1,$AJ$5:$AJ$15)} -> 9 | AH3: {=SUMPRODUCT((AH5:AH15<>"")*1,$AJ$5:$AJ$15)} -> 9 | AI3: {=SUMPRODUCT((AI5:AI15<>"")*1,$AJ$5:$AJ$15)} -> 9 | AM3: =COUNTA(AM5:AM15)-COUNTBLANK(AM5:AM15) -> 4 | AR3: =COUNTA(AR5:AR15)-COUNTBLANK(AR5:AR15) -> 9 | AW3: =COUNTA(AW5:AW15)-COUNTBLANK(AW5:AW15) -> 9 | BB3: =COUNTA(BB5:BB15)-COUNTBLANK(BB5:BB15) -> 9 | BI3: =COUNTA(BI5:BI23)-COUNTBLANK(BI5:BI23) -> 15 | BT3: =IF(AND(OR(Responsible="All",Responsible=""),OR(Status="All",Status="")),Z3,SUM(BT5:BT23)) -> 4 | BU3: =IF(AND(OR(Responsible="All",Responsible=""),OR(Status="All",Status="")),AC3,SUM(BU5:BU23)) -> 9 | BV3: =IF(AND(OR(Responsible="All",Responsible=""),OR(Status="All",Status="")),AE3,SUM(BV5:BV23)) -> 9 | BW3: =IF(AND(OR(Responsible="All",Responsible=""),OR(Status="All",Status="")),AG3,SUM(BW5:BW23)) -> 9 | BY3: =SUM(BY5:BY23) -> 10 | BZ3: =IF(AND(OR(Responsible="All",Responsible=""),OR(Status="All",Status="")),T3,SUMPRODUCT(BZ5:BZ23,CF5:CF23,BW5:BW23)) -> 662 | CC3: =IF(AND(OR(Responsible="All",Responsible=""),OR(Status="All",Status="")),U3,SUMPRODUCT(CC5:CC23,CF5:CF23,BW5:BW23)) -> 264 | CF3: =SUM(CF5:CF23) -> 15
B4: Process | D4: Responsible | F4: RPN | H4: Min | I4: Max | K4: CML | M4: Action Status | P4: Process/Function | Q4: Potential Failure Modes | R4: Potential Effects | S4: Possible Cause | T4: RPNB | U4: RPNA | V4: RPNB Status | W4: RPNA Status | X4: PROCESS | AA4: Mode | AD4: Effect | AF4: Cause | AH4: RPN | AJ4: Active | AM4: All | AR4: All | BD4: Index | BE4: Process/Function | BF4: Potential Failure Modes | BG4: Potential Effects | BH4: Possible Cause | BI4: Action | BJ4: CML | BK4: Responsible | BL4: Status | BM4: Count for FMEA | BN4: Active Process | BO4: Active Mode | BP4: Active Effects | BQ4: Active Causes | BR4: Helper for Process | BS4: Helper for Mode | BT4: Process Defined2 | BU4: Mode Defined3 | BV4: Effects Defined4 | BW4: Causes Defined5 | BX4: Active Responsibles | BY4: Responsible defined | BZ4: RPN Before | CA4: Rpn Status B | CB4: RPN Status Before | CC4: RPN After | CD4: Rpn Status A | CE4: RPN Status After | CF4: Active | CG4: Status for dropdown | CI4: Actions | CJ4: Action Status | CL4: Responsible | CM4: Total | CN4: Rank | CO4: Rank-Adj | CQ4: Index | CR4: Responsible | CS4: Total
B5: All | D5: All | F5: All | G5: 1≤RPN≤1000 | H5: =H8 -> 1 | I5: =(RIGHT(G5,LEN(G5)-FIND("≤",G5,FIND("≤",G5)+1)))*1 -> 1000 | K5: All | M5: All | P5: =IFERROR(IF(LEN(INDEX(FMEA!C$7:C$506,Cal!$BD5))=0,"",INDEX(FMEA!C$7:C$506,Cal!$BD5)),"") -> Picking up the product with the handle | Q5: =IFERROR(IF(LEN(INDEX(FMEA!D$7:D$506,Cal!$BD5))=0,"",INDEX(FMEA!D$7:D$506,Cal!$BD5)),"") -> Damage to the product | R5: =IFERROR(IF(LEN(INDEX(FMEA!E$7:E$506,Cal!$BD5))=0,"",INDEX(FMEA!E$7:E$506,Cal!$BD5)),"") -> Joint failure | S5: =IFERROR(IF(LEN(INDEX(FMEA!F$7:F$506,Cal!$BD5))=0,"",INDEX(FMEA!F$7:F$506,Cal!$BD5)),"") -> Damage caused by transportation | T5: =IFERROR(IF(AND(LEN(P5)>0,LEN(Q5)>0,LEN(R5)>0,LEN(S5)>0),IF(LEN(INDEX(FMEA!J$7:J$506,Cal!$BD5))=0,"-",INDEX(FMEA!J$7:J$506,Cal!$BD5)),""),"") -> 105 | U5: =IFERROR(IF(AND(LEN(P5)>0,LEN(Q5)>0,LEN(R5)>0,LEN(S5)>0),IF(LEN(INDEX(FMEA!O$7:O$506,Cal!$BD5))=0,"-",INDEX(FMEA!O$7:O$506,Cal!$BD5)),""),"") -> 70 | V5: =IFERROR(IF(LEN(T5)=0,"",IF(AND(T5>=$H$6,T5<=$I$6),$F$6,IF(AND(T5>=$H$7,T5<=$I$7),$F$7,IF(AND(T5>=$H$8,T5<=$I$8),$F$8,IF(AND(T5>=$H$9,T5<=$I$9),$F$9,"-"))))),"") -> High | W5: =IFERROR(IF(LEN(U5)=0,"",IF(AND(U5>=$H$6,U5<=$I$6),$F$6,IF(AND(U5>=$H$7,U5<=$I$7),$F$7,IF(AND(U5>=$H$8,U5<=$I$8),$F$8,IF(AND(U5>=$H$9,U5<=$I$9),$F$9,"-"))))),"") -> Medium | X5: =IF(LEN(P5)="","",IF(OR(Process="All",Process="",Process=P5),P5,"")) -> Picking up the product with the handle | Y5: =IF(AJ5=1,X5,"") -> Picking up the product with the handle | Z5: =IF(COUNTIF($Y$5:Y5,Y5)=1,Y5,"") -> Picking up the product with the handle | AA5: =IF(LEN(Q5)="","",IF(OR(Mode="All",Mode="",Mode=Q5),Q5,"")) -> Damage to the product | AB5: =IF(AJ5=1,AA5,"") -> Damage to the product | AC5: =IF(COUNTIF($AB$5:AB5,AB5)=1,AB5,"") -> Damage to the product | AD5: =IF(AJ5=1,P5&Q5&R5,"") -> Picking up the product with the handleDamage to the productJoint failure | AE5: =IF(COUNTIF($AD$5:AD5,AD5)=1,AD5,"") -> Picking up the product with the handleDamage to the productJoint failure | AF5: =IF(AJ5=1,P5&Q5&R5&S5,"") -> Picking up the product with the handleDamage to the productJoint failureDamage caused by transportation | AG5: =IF(COUNTIF($AF$5:AF5,AF5)=1,AF5,"") -> Picking up the product with the handleDamage to the productJoint failureDamage caused by transportation | AH5: =IF(LEN(V5)="","",IF(OR(RPNB="All",RPNB="",RPNB=V5),V5,"")) -> High | AI5: =IF(LEN(W5)="","",IF(OR(RPNA="All",RPNA="",RPNA=W5),W5,"")) -> Medium | AJ5: =IF(AND(X5<>"",AA5<>"",AH5<>"",AI5<>""),1,0) -> 1 | AK5: =IF(AND(LEN(P5)>0,COUNTIF($P$5:P5,P5)=1),P5,"") -> Picking up the product with the handle | AL5: =IF(OR(LEN($AK5)=0,COUNTIF($AK$5:AK5,AK5)>1),"",COUNTIF($AK$5:$AK$15,"<"&$AK5)-COUNTBLANK($AK$5:$AK$15)+1) -> 1 | AM5: =IFERROR(INDEX($P$5:$P$504,MATCH(BD5,$AL$5:$AL$504,0)),"") -> Picking up the product with the handle | AN5: =P5&Q5 -> Picking up the product with the handleDamage to the product | AO5: =IF(AND(LEN(AN5)>0,COUNTIF($AN$5:AN5,AN5)=1),AN5,"") -> Picking up the product with the handleDamage to the product | AP5: =IF(OR(LEN($AO5)=0,COUNTIF($AO$5:AO5,AO5)>1),"",COUNTIF($AO$5:$AO$15,"<"&$AO5)-COUNTBLANK($AO$5:$AO$15)+1) -> 1 | AQ5: =IFERROR(INDEX($P$5:$P$504,MATCH(BD5,$AP$5:$AP$504,0)),"") -> Picking up the product with the handle | AR5: =IFERROR(INDEX($Q$5:$Q$504,MATCH(BD5,$AP$5:$AP$504,0)),"") -> Damage to the product | AS5: =P5&Q5&R5 -> Picking up the product with the handleDamage to the productJoint failure | AT5: =IF(AND(LEN(AS5)>0,COUNTIF($AS$5:AS5,AS5)=1),AS5,"") -> Picking up the product with the handleDamage to the productJoint failure | AU5: =IF(OR(LEN($AT5)=0,COUNTIF($AT$5:AT5,AT5)>1),"",COUNTIF($AT$5:$AT$15,"<"&$AT5)-COUNTBLANK($AT$5:$AT$15)+1) -> 1 | AV5: =IFERROR(INDEX($AN$5:$AN$504,MATCH(BD5,$AU$5:$AU$504,0)),"") -> Picking up the product with the handleDamage to the product | AW5: =IFERROR(INDEX($R$5:$R$504,MATCH(BD5,$AU$5:$AU$504,0)),"") -> Joint failure | AX5: =P5&Q5&R5&S5 -> Picking up the product with the handleDamage to the productJoint failureDamage caused by transportation | AY5: =IF(AND(LEN(AX5)>0,COUNTIF($AX$5:AX5,AX5)=1),AX5,"") -> Picking up the product with the handleDamage to the productJoint failureDamage caused by transportation | AZ5: =IF(OR(LEN($AY5)=0,COUNTIF($AY$5:AY5,AY5)>1),"",COUNTIF($AY$5:$AY$15,"<"&$AY5)-COUNTBLANK($AY$5:$AY$15)+1) -> 1 | BA5: =IFERROR(INDEX($AS$5:$AS$504,MATCH(BD5,$AZ$5:$AZ$504,0)),"") -> Picking up the product with the handleDamage to the productJoint failure | BB5: =IFERROR(INDEX($S$5:$S$504,MATCH(BD5,$AZ$5:$AZ$504,0)),"") -> Damage caused by transportation | BD5: 1 | BE5: =IF(LEN(INDEX(ActionList!C$6:C$1005,$BD5,1))=0,"",INDEX(ActionList!C$6:C$1005,$BD5,1)) -> Picking up the product with the handle | BF5: =IF(LEN(INDEX(ActionList!D$6:D$1005,$BD5,1))=0,"",INDEX(ActionList!D$6:D$1005,$BD5,1)) -> Incorrect output of the product from the previous station | BG5: =IF(LEN(INDEX(ActionList!E$6:E$1005,$BD5,1))=0,"",INDEX(ActionList!E$6:E$1005,$BD5,1)) -> Manufacturing defect | BH5: =IF(LEN(INDEX(ActionList!F$6:F$1005,$BD5,1))=0,"",INDEX(ActionList!F$6:F$1005,$BD5,1)) -> Machine-induced anomalies | BI5: =IF(LEN(INDEX(ActionList!G$6:G$1005,BD5,1))=0,"",INDEX(ActionList!G$6:G$1005,BD5,1)) -> Revise Planned Maintenances | BJ5: =IF(LEN(INDEX(ActionList!H$6:H$1005,BD5,1))=0,"",INDEX(ActionList!H$6:H$1005,BD5,1)) -> 3 | BK5: =IF(OR(Responsible=IF(LEN(INDEX(ActionList!I$6:I$1005,BD5,1))=0,"",INDEX(ActionList!I$6:I$1005,BD5,1)),Responsible="",Responsible="All"),IF(LEN(INDEX(ActionList!I$6:I$1005,BD5,1))=0,"",INDEX(ActionList!I$6:I$1005,BD5,1)),"-") -> Jemima Begum | BL5: =IF(LEN(INDEX(ActionList!M$6:M$1005,BD5,1))=0,"",INDEX(ActionList!M$6:M$1005,BD5,1)) -> Finished | BM5: =BE5&BF5&BG5&BH5 -> Picking up the product with the handleIncorrect output of the product from the previous stationManufacturing defectMachine-induced anomalies | BN5: =IF(AND(LEN(BE5)>0,OR(Process="All",Process="",Process=BE5)),BE5,"-") -> Picking up the product with the handle | BO5: =IF(AND(LEN(BF5)>0,OR(Mode="All",Mode="",Mode=BF5)),BF5,"-") -> Incorrect output of the product from the previous station | BP5: =IF(CF5=1,BE5&BF5&BG5,"") -> Picking up the product with the handleIncorrect output of the product from the previous stationManufacturing defect | BQ5: =IF(CF5=1,BE5&BF5&BG5&BH5,"") -> Picking up the product with the handleIncorrect output of the product from the previous stationManufacturing defectMachine-induced anomalies | BR5: =IF(CF5=1,BN5,"") -> Picking up the product with the handle | BS5: =IF(CF5=1,BO5,"") -> Incorrect output of the product from the previous station | BT5: =IF(AND(BR5<>"-",COUNTIF(BR$5:BR5,BR5)=1),1,0)*CF5 -> 1 | BU5: =IF(AND(LEN(BS5)>0,COUNTIF(BS$5:BS5,BS5)=1),1,0)*CF5 -> 1 | BV5: =IF(AND(LEN(BP5)>0,COUNTIF(BP$5:BP5,BP5)=1),1,0) -> 1 | BW5: =IF(AND(LEN(BQ5)>0,COUNTIF(BQ$5:BQ5,BQ5)=1),1,0) -> 1 | BX5: =IF(CF5=1,BK5,"") -> Jemima Begum | BY5: =IF(AND(LEN(BX5)>0,COUNTIF($BX$5:BX5,BX5)=1),1,0) -> 1 | BZ5: =IFERROR(INDEX($T$5:$T$504,MATCH(BM5,$AX$5:$AX$504,0)),"") -> 72 | CA5: =IF(LEN(BE5)=0,"",IF(AND(BZ5>=$H$6,BZ5<=$I$6),$F$6,IF(AND(BZ5>=$H$7,BZ5<=$I$7),$F$7,IF(AND(BZ5>=$H$8,BZ5<=$I$8),$F$8,IF(AND(BZ5>=$H$9,BZ5<=$I$9),$F$9,"-"))))) -> Medium | CB5: =IFERROR(IF(LEN(BZ5)=0,"-",IF(OR(RPNB="All",RPNB="",RPNB=CA5),CA5,"-")),"-") -> Medium | CC5: =IFERROR(INDEX($U$5:$U$504,MATCH(BM5,$AX$5:$AX$504,0)),"") -> 20 | CD5: =IF(LEN(BE5)=0,"",IF(AND(CC5>=$H$6,CC5<=$I$6),$F$6,IF(AND(CC5>=$H$7,CC5<=$I$7),$F$7,IF(AND(CC5>=$H$8,CC5<=$I$8),$F$8,IF(AND(CC5>=$H$9,CC5<=$I$9),$F$9,"-"))))) -> Low | CE5: =IFERROR(IF(LEN(CC5)=0,"",IF(OR(RPNA="All",RPNA="",RPNA=CD5),CD5,"-")),"-") -> Low | CF5: =IFERROR(IF(AND(LEN(BD5)>0,BN5<>"-",BO5<>"-",BK5<>"-",CG5<>"-",CB5<>"-",CE5<>"-",BI5<>""),1,0),0) -> 1 | CG5: =IF(OR(Status="All",Status="",Status=BL5),BL5,"-") -> Finished | CI5: Finished | CJ5: =COUNTIFS($BL$5:$BL$23,CI5,$CF$5:$CF$23,1) -> 8 | CL5: =D6 -> Jemima Begum | CM5: =IF(LEN($CL5)=0,"",COUNTIFS($BK$5:$BK$23,$CL5,$CF$5:$CF$23,1)) -> 2 | CN5: =IF(LEN(CL5)=0,"",RANK(CM5,$CM$5:$CM$17,0)) -> 2 | CO5: =IF(LEN(CL5)=0,"",CN5+COUNTIF($CN$5:CN5,CN5)-1) -> 2 | CQ5: 1 | CR5: =IFERROR(INDEX($CL$5:$CL$17,MATCH(CQ5,$CO$5:$CO$17,0),1),"") -> Alyce Milner | CS5: =IFERROR(INDEX($CM$5:$CM$17,MATCH(CQ5,$CO$5:$CO$17,0),1),"") -> 3
B6: =IF(Settings!C8="","",Settings!C8) -> Picking up the product with the handle | D6: =IF(Settings!E8="","",Settings!E8) -> Jemima Begum | F6: =IF(Settings!G8=""," ",Settings!G8) -> High | G6: =IF(Settings!I8="","",Settings!I8) -> 1000 | H6: =IF(ISNUMBER(G7),G7+1,0+1) -> 101 | I6: =G6 -> 1000 | K6: =IF(Settings!G13="","",Settings!G13) -> 6 | M6: Not Started | P6: =IFERROR(IF(LEN(INDEX(FMEA!C$7:C$506,Cal!$BD6))=0,"",INDEX(FMEA!C$7:C$506,Cal!$BD6)),"") -> Picking up the product with the handle | Q6: =IFERROR(IF(LEN(INDEX(FMEA!D$7:D$506,Cal!$BD6))=0,"",INDEX(FMEA!D$7:D$506,Cal!$BD6)),"") -> Incorrect output of the product from the previous station | R6: =IFERROR(IF(LEN(INDEX(FMEA!E$7:E$506,Cal!$BD6))=0,"",INDEX(FMEA!E$7:E$506,Cal!$BD6)),"") -> Manufacturing defect | S6: =IFERROR(IF(LEN(INDEX(FMEA!F$7:F$506,Cal!$BD6))=0,"",INDEX(FMEA!F$7:F$506,Cal!$BD6)),"") -> Machine-induced anomalies | T6: =IFERROR(IF(AND(LEN(P6)>0,LEN(Q6)>0,LEN(R6)>0,LEN(S6)>0),IF(LEN(INDEX(FMEA!J$7:J$506,Cal!$BD6))=0,"-",INDEX(FMEA!J$7:J$506,Cal!$BD6)),""),"") -> 72 | U6: =IFERROR(IF(AND(LEN(P6)>0,LEN(Q6)>0,LEN(R6)>0,LEN(S6)>0),IF(LEN(INDEX(FMEA!O$7:O$506,Cal!$BD6))=0,"-",INDEX(FMEA!O$7:O$506,Cal!$BD6)),""),"") -> 20 | V6: =IFERROR(IF(LEN(T6)=0,"",IF(AND(T6>=$H$6,T6<=$I$6),$F$6,IF(AND(T6>=$H$7,T6<=$I$7),$F$7,IF(AND(T6>=$H$8,T6<=$I$8),$F$8,IF(AND(T6>=$H$9,T6<=$I$9),$F$9,"-"))))),"") -> Medium | W6: =IFERROR(IF(LEN(U6)=0,"",IF(AND(U6>=$H$6,U6<=$I$6),$F$6,IF(AND(U6>=$H$7,U6<=$I$7),$F$7,IF(AND(U6>=$H$8,U6<=$I$8),$F$8,IF(AND(U6>=$H$9,U6<=$I$9),$F$9,"-"))))),"") -> Low | X6: =IF(LEN(P6)="","",IF(OR(Process="All",Process="",Process=P6),P6,"")) -> Picking up the product with the handle | Y6: =IF(AJ6=1,X6,"") -> Picking up the product with the handle | Z6: =IF(COUNTIF($Y$5:Y6,Y6)=1,Y6,"") | AA6: =IF(LEN(Q6)="","",IF(OR(Mode="All",Mode="",Mode=Q6),Q6,"")) -> Incorrect output of the product from the previous station | AB6: =IF(AJ6=1,AA6,"") -> Incorrect output of the product from the previous station | AC6: =IF(COUNTIF($AB$5:AB6,AB6)=1,AB6,"") -> Incorrect output of the product from the previous station | AD6: =IF(AJ6=1,P6&Q6&R6,"") -> Picking up the product with the handleIncorrect output of the product from the previous stationManufacturing defect | AE6: =IF(COUNTIF($AD$5:AD6,AD6)=1,AD6,"") -> Picking up the product with the handleIncorrect output of the product from the previous stationManufacturing defect | AF6: =IF(AJ6=1,P6&Q6&R6&S6,"") -> Picking up the product with the handleIncorrect output of the product from the previous stationManufacturing defectMachine-induced anomalies | AG6: =IF(COUNTIF($AF$5:AF6,AF6)=1,AF6,"") -> Picking up the product with the handleIncorrect output of the product from the previous stationManufacturing defectMachine-induced anomalies | AH6: =IF(LEN(V6)="","",IF(OR(RPNB="All",RPNB="",RPNB=V6),V6,"")) -> Medium | AI6: =IF(LEN(W6)="","",IF(OR(RPNA="All",RPNA="",RPNA=W6),W6,"")) -> Low | AJ6: =IF(AND(X6<>"",AA6<>"",AH6<>"",AI6<>""),1,0) -> 1 | AK6: =IF(AND(LEN(P6)>0,COUNTIF($P$5:P6,P6)=1),P6,"") | AL6: =IF(OR(LEN($AK6)=0,COUNTIF($AK$5:AK6,AK6)>1),"",COUNTIF($AK$5:$AK$15,"<"&$AK6)-COUNTBLANK($AK$5:$AK$15)+1) | AM6: =IFERROR(INDEX($P$5:$P$504,MATCH(BD6,$AL$5:$AL$504,0)),"") -> Preparation of the product for the next stage | AN6: =P6&Q6 -> Picking up the product with the handleIncorrect output of the product from the previous station | AO6: =IF(AND(LEN(AN6)>0,COUNTIF($AN$5:AN6,AN6)=1),AN6,"") -> Picking up the product with the handleIncorrect output of the product from the previous station | AP6: =IF(OR(LEN($AO6)=0,COUNTIF($AO$5:AO6,AO6)>1),"",COUNTIF($AO$5:$AO$15,"<"&$AO6)-COUNTBLANK($AO$5:$AO$15)+1) -> 3 | AQ6: =IFERROR(INDEX($P$5:$P$504,MATCH(BD6,$AP$5:$AP$504,0)),"") -> Picking up the product with the handle | AR6: =IFERROR(INDEX($Q$5:$Q$504,MATCH(BD6,$AP$5:$AP$504,0)),"") -> Failure of the machine conveyor | AS6: =P6&Q6&R6 -> Picking up the product with the handleIncorrect output of the product from the previous stationManufacturing defect | AT6: =IF(AND(LEN(AS6)>0,COUNTIF($AS$5:AS6,AS6)=1),AS6,"") -> Picking up the product with the handleIncorrect output of the product from the previous stationManufacturing defect | AU6: =IF(OR(LEN($AT6)=0,COUNTIF($AT$5:AT6,AT6)>1),"",COUNTIF($AT$5:$AT$15,"<"&$AT6)-COUNTBLANK($AT$5:$AT$15)+1) -> 3 | AV6: =IFERROR(INDEX($AN$5:$AN$504,MATCH(BD6,$AU$5:$AU$504,0)),"") -> Picking up the product with the handleFailure of the machine conveyor | AW6: =IFERROR(INDEX($R$5:$R$504,MATCH(BD6,$AU$5:$AU$504,0)),"") -> Manufacturing defect | AX6: =P6&Q6&R6&S6 -> Picking up the product with the handleIncorrect output of the product from the previous stationManufacturing defectMachine-induced anomalies | AY6: =IF(AND(LEN(AX6)>0,COUNTIF($AX$5:AX6,AX6)=1),AX6,"") -> Picking up the product with the handleIncorrect output of the product from the previous stationManufacturing defectMachine-induced anomalies | AZ6: =IF(OR(LEN($AY6)=0,COUNTIF($AY$5:AY6,AY6)>1),"",COUNTIF($AY$5:$AY$15,"<"&$AY6)-COUNTBLANK($AY$5:$AY$15)+1) -> 3 | BA6: =IFERROR(INDEX($AS$5:$AS$504,MATCH(BD6,$AZ$5:$AZ$504,0)),"") -> Picking up the product with the handleFailure of the machine conveyorManufacturing defect | BB6: =IFERROR(INDEX($S$5:$S$504,MATCH(BD6,$AZ$5:$AZ$504,0)),"") -> Faults | BD6: 2 | BE6: =IF(LEN(INDEX(ActionList!C$6:C$1005,$BD6,1))=0,"",INDEX(ActionList!C$6:C$1005,$BD6,1)) -> Picking up the product with the handle | BF6: =IF(LEN(INDEX(ActionList!D$6:D$1005,$BD6,1))=0,"",INDEX(ActionList!D$6:D$1005,$BD6,1)) -> Incorrect output of the product from the previous station | BG6: =IF(LEN(INDEX(ActionList!E$6:E$1005,$BD6,1))=0,"",INDEX(ActionList!E$6:E$1005,$BD6,1)) -> Manufacturing defect | BH6: =IF(LEN(INDEX(ActionList!F$6:F$1005,$BD6,1))=0,"",INDEX(ActionList!F$6:F$1005,$BD6,1)) -> Machine-induced anomalies | BI6: =IF(LEN(INDEX(ActionList!G$6:G$1005,BD6,1))=0,"",INDEX(ActionList!G$6:G$1005,BD6,1)) -> Place camera to track the machine condition | BJ6: =IF(LEN(INDEX(ActionList!H$6:H$1005,BD6,1))=0,"",INDEX(ActionList!H$6:H$1005,BD6,1)) -> 4 | BK6: =IF(OR(Responsible=IF(LEN(INDEX(ActionList!I$6:I$1005,BD6,1))=0,"",INDEX(ActionList!I$6:I$1005,BD6,1)),Responsible="",Responsible="All"),IF(LEN(INDEX(ActionList!I$6:I$1005,BD6,1))=0,"",INDEX(ActionList!I$6:I$1005,BD6,1)),"-") -> Jemima Begum | BL6: =IF(LEN(INDEX(ActionList!M$6:M$1005,BD6,1))=0,"",INDEX(ActionList!M$6:M$1005,BD6,1)) -> Overdue | BM6: =BE6&BF6&BG6&BH6 -> Picking up the product with the handleIncorrect output of the product from the previous stationManufacturing defectMachine-induced anomalies | BN6: =IF(AND(LEN(BE6)>0,OR(Process="All",Process="",Process=BE6)),BE6,"-") -> Picking up the product with the handle | BO6: =IF(AND(LEN(BF6)>0,OR(Mode="All",Mode="",Mode=BF6)),BF6,"-") -> Incorrect output of the product from the previous station | BP6: =IF(CF6=1,BE6&BF6&BG6,"") -> Picking up the product with the handleIncorrect output of the product from the previous stationManufacturing defect | BQ6: =IF(CF6=1,BE6&BF6&BG6&BH6,"") -> Picking up the product with the handleIncorrect output of the product from the previous stationManufacturing defectMachine-induced anomalies | BR6: =IF(CF6=1,BN6,"") -> Picking up the product with the handle | BS6: =IF(CF6=1,BO6,"") -> Incorrect output of the product from the previous station | BT6: =IF(AND(BR6<>"-",COUNTIF(BR$5:BR6,BR6)=1),1,0)*CF6 -> 0 | BU6: =IF(AND(LEN(BS6)>0,COUNTIF(BS$5:BS6,BS6)=1),1,0)*CF6 -> 0 | BV6: =IF(AND(LEN(BP6)>0,COUNTIF(BP$5:BP6,BP6)=1),1,0) -> 0 | BW6: =IF(AND(LEN(BQ6)>0,COUNTIF(BQ$5:BQ6,BQ6)=1),1,0) -> 0 | BX6: =IF(CF6=1,BK6,"") -> Jemima Begum | BY6: =IF(AND(LEN(BX6)>0,COUNTIF($BX$5:BX6,BX6)=1),1,0) -> 0 | BZ6: =IFERROR(INDEX($T$5:$T$504,MATCH(BM6,$AX$5:$AX$504,0)),"") -> 72 | CA6: =IF(LEN(BE6)=0,"",IF(AND(BZ6>=$H$6,BZ6<=$I$6),$F$6,IF(AND(BZ6>=$H$7,BZ6<=$I$7),$F$7,IF(AND(BZ6>=$H$8,BZ6<=$I$8),$F$8,IF(AND(BZ6>=$H$9,BZ6<=$I$9),$F$9,"-"))))) -> Medium | CB6: =IFERROR(IF(LEN(BZ6)=0,"-",IF(OR(RPNB="All",RPNB="",RPNB=CA6),CA6,"-")),"-") -> Medium | CC6: =IFERROR(INDEX($U$5:$U$504,MATCH(BM6,$AX$5:$AX$504,0)),"") -> 20 | CD6: =IF(LEN(BE6)=0,"",IF(AND(CC6>=$H$6,CC6<=$I$6),$F$6,IF(AND(CC6>=$H$7,CC6<=$I$7),$F$7,IF(AND(CC6>=$H$8,CC6<=$I$8),$F$8,IF(AND(CC6>=$H$9,CC6<=$I$9),$F$9,"-"))))) -> Low | CE6: =IFERROR(IF(LEN(CC6)=0,"",IF(OR(RPNA="All",RPNA="",RPNA=CD6),CD6,"-")),"-") -> Low | CF6: =IFERROR(IF(AND(LEN(BD6)>0,BN6<>"-",BO6<>"-",BK6<>"-",CG6<>"-",CB6<>"-",CE6<>"-",BI6<>""),1,0),0) -> 1 | CG6: =IF(OR(Status="All",Status="",Status=BL6),BL6,"-") -> Overdue | CI6: In Progress | CJ6: =COUNTIFS($BL$5:$BL$23,CI6,$CF$5:$CF$23,1) -> 2 | CL6: =D7 -> Mercedes Banks | CM6: =IF(LEN($CL6)=0,"",COUNTIFS($BK$5:$BK$23,$CL6,$CF$5:$CF$23,1)) -> 2 | CN6: =IF(LEN(CL6)=0,"",RANK(CM6,$CM$5:$CM$17,0)) -> 2 | CO6: =IF(LEN(CL6)=0,"",CN6+COUNTIF($CN$5:CN6,CN6)-1) -> 3 | CQ6: 2 | CR6: =IFERROR(INDEX($CL$5:$CL$17,MATCH(CQ6,$CO$5:$CO$17,0),1),"") -> Jemima Begum | CS6: =IFERROR(INDEX($CM$5:$CM$17,MATCH(CQ6,$CO$5:$CO$17,0),1),"") -> 2
B7: =IF(Settings!C9="","",Settings!C9) -> Reading the product barcode | D7: =IF(Settings!E9="","",Settings!E9) -> Mercedes Banks | F7: =IF(Settings!G9="","",Settings!G9) -> Medium | G7: =IF(ISNUMBER(Settings!I9),Settings!I9,"-") -> 100 | H7: =IF(ISNUMBER(G8),G8+1,"-") -> 21 | I7: =G7 -> 100 | K7: =IF(Settings!G14="","",Settings!G14) -> 5 | M7: In Progress | P7: =IFERROR(IF(LEN(INDEX(FMEA!C$7:C$506,Cal!$BD7))=0,"",INDEX(FMEA!C$7:C$506,Cal!$BD7)),"") -> Picking up the product with the handle | Q7: =IFERROR(IF(LEN(INDEX(FMEA!D$7:D$506,Cal!$BD7))=0,"",INDEX(FMEA!D$7:D$506,Cal!$BD7)),"") -> Failure of the machine conveyor | R7: =IFERROR(IF(LEN(INDEX(FMEA!E$7:E$506,Cal!$BD7))=0,"",INDEX(FMEA!E$7:E$506,Cal!$BD7)),"") -> Manufacturing defect | S7: =IFERROR(IF(LEN(INDEX(FMEA!F$7:F$506,Cal!$BD7))=0,"",INDEX(FMEA!F$7:F$506,Cal!$BD7)),"") -> Faults | T7: =IFERROR(IF(AND(LEN(P7)>0,LEN(Q7)>0,LEN(R7)>0,LEN(S7)>0),IF(LEN(INDEX(FMEA!J$7:J$506,Cal!$BD7))=0,"-",INDEX(FMEA!J$7:J$506,Cal!$BD7)),""),"") -> 126 | U7: =IFERROR(IF(AND(LEN(P7)>0,LEN(Q7)>0,LEN(R7)>0,LEN(S7)>0),IF(LEN(INDEX(FMEA!O$7:O$506,Cal!$BD7))=0,"-",INDEX(FMEA!O$7:O$506,Cal!$BD7)),""),"") -> 30 | V7: =IFERROR(IF(LEN(T7)=0,"",IF(AND(T7>=$H$6,T7<=$I$6),$F$6,IF(AND(T7>=$H$7,T7<=$I$7),$F$7,IF(AND(T7>=$H$8,T7<=$I$8),$F$8,IF(AND(T7>=$H$9,T7<=$I$9),$F$9,"-"))))),"") -> High | W7: =IFERROR(IF(LEN(U7)=0,"",IF(AND(U7>=$H$6,U7<=$I$6),$F$6,IF(AND(U7>=$H$7,U7<=$I$7),$F$7,IF(AND(U7>=$H$8,U7<=$I$8),$F$8,IF(AND(U7>=$H$9,U7<=$I$9),$F$9,"-"))))),"") -> Medium | X7: =IF(LEN(P7)="","",IF(OR(Process="All",Process="",Process=P7),P7,"")) -> Picking up the product with the handle | Y7: =IF(AJ7=1,X7,"") -> Picking up the product with the handle | Z7: =IF(COUNTIF($Y$5:Y7,Y7)=1,Y7,"") | AA7: =IF(LEN(Q7)="","",IF(OR(Mode="All",Mode="",Mode=Q7),Q7,"")) -> Failure of the machine conveyor | AB7: =IF(AJ7=1,AA7,"") -> Failure of the machine conveyor | AC7: =IF(COUNTIF($AB$5:AB7,AB7)=1,AB7,"") -> Failure of the machine conveyor | AD7: =IF(AJ7=1,P7&Q7&R7,"") -> Picking up the product with the handleFailure of the machine conveyorManufacturing defect | AE7: =IF(COUNTIF($AD$5:AD7,AD7)=1,AD7,"") -> Picking up the product with the handleFailure of the machine conveyorManufacturing defect | AF7: =IF(AJ7=1,P7&Q7&R7&S7,"") -> Picking up the product with the handleFailure of the machine conveyorManufacturing defectFaults | AG7: =IF(COUNTIF($AF$5:AF7,AF7)=1,AF7,"") -> Picking up the product with the handleFailure of the machine conveyorManufacturing defectFaults | AH7: =IF(LEN(V7)="","",IF(OR(RPNB="All",RPNB="",RPNB=V7),V7,"")) -> High | AI7: =IF(LEN(W7)="","",IF(OR(RPNA="All",RPNA="",RPNA=W7),W7,"")) -> Medium | AJ7: =IF(AND(X7<>"",AA7<>"",AH7<>"",AI7<>""),1,0) -> 1 | AK7: =IF(AND(LEN(P7)>0,COUNTIF($P$5:P7,P7)=1),P7,"") | AL7: =IF(OR(LEN($AK7)=0,COUNTIF($AK$5:AK7,AK7)>1),"",COUNTIF($AK$5:$AK$15,"<"&$AK7)-COUNTBLANK($AK$5:$AK$15)+1) | AM7: =IFERROR(INDEX($P$5:$P$504,MATCH(BD7,$AL$5:$AL$504,0)),"") -> Reading the product barcode | AN7: =P7&Q7 -> Picking up the product with the handleFailure of the machine conveyor | AO7: =IF(AND(LEN(AN7)>0,COUNTIF($AN$5:AN7,AN7)=1),AN7,"") -> Picking up the product with the handleFailure of the machine conveyor | AP7: =IF(OR(LEN($AO7)=0,COUNTIF($AO$5:AO7,AO7)>1),"",COUNTIF($AO$5:$AO$15,"<"&$AO7)-COUNTBLANK($AO$5:$AO$15)+1) -> 2 | AQ7: =IFERROR(INDEX($P$5:$P$504,MATCH(BD7,$AP$5:$AP$504,0)),"") -> Picking up the product with the handle | AR7: =IFERROR(INDEX($Q$5:$Q$504,MATCH(BD7,$AP$5:$AP$504,0)),"") -> Incorrect output of the product from the previous station | AS7: =P7&Q7&R7 -> Picking up the product with the handleFailure of the machine conveyorManufacturing defect | AT7: =IF(AND(LEN(AS7)>0,COUNTIF($AS$5:AS7,AS7)=1),AS7,"") -> Picking up the product with the handleFailure of the machine conveyorManufacturing defect | AU7: =IF(OR(LEN($AT7)=0,COUNTIF($AT$5:AT7,AT7)>1),"",COUNTIF($AT$5:$AT$15,"<"&$AT7)-COUNTBLANK($AT$5:$AT$15)+1) -> 2 | AV7: =IFERROR(INDEX($AN$5:$AN$504,MATCH(BD7,$AU$5:$AU$504,0)),"") -> Picking up the product with the handleIncorrect output of the product from the previous station | AW7: =IFERROR(INDEX($R$5:$R$504,MATCH(BD7,$AU$5:$AU$504,0)),"") -> Manufacturing defect | AX7: =P7&Q7&R7&S7 -> Picking up the product with the handleFailure of the machine conveyorManufacturing defectFaults | AY7: =IF(AND(LEN(AX7)>0,COUNTIF($AX$5:AX7,AX7)=1),AX7,"") -> Picking up the product with the handleFailure of the machine conveyorManufacturing defectFaults | AZ7: =IF(OR(LEN($AY7)=0,COUNTIF($AY$5:AY7,AY7)>1),"",COUNTIF($AY$5:$AY$15,"<"&$AY7)-COUNTBLANK($AY$5:$AY$15)+1) -> 2 | BA7: =IFERROR(INDEX($AS$5:$AS$504,MATCH(BD7,$AZ$5:$AZ$504,0)),"") -> Picking up the product with the handleIncorrect output of the product from the previous stationManufacturing defect | BB7: =IFERROR(INDEX($S$5:$S$504,MATCH(BD7,$AZ$5:$AZ$504,0)),"") -> Machine-induced anomalies | BD7: 3 | BE7: =IF(LEN(INDEX(ActionList!C$6:C$1005,$BD7,1))=0,"",INDEX(ActionList!C$6:C$1005,$BD7,1)) -> Picking up the product with the handle | BF7: =IF(LEN(INDEX(ActionList!D$6:D$1005,$BD7,1))=0,"",INDEX(ActionList!D$6:D$1005,$BD7,1)) -> Damage to the product | BG7: =IF(LEN(INDEX(ActionList!E$6:E$1005,$BD7,1))=0,"",INDEX(ActionList!E$6:E$1005,$BD7,1)) -> Joint failure | BH7: =IF(LEN(INDEX(ActionList!F$6:F$1005,$BD7,1))=0,"",INDEX(ActionList!F$6:F$1005,$BD7,1)) -> Damage caused by transportation | BI7: =IF(LEN(INDEX(ActionList!G$6:G$1005,BD7,1))=0,"",INDEX(ActionList!G$6:G$1005,BD7,1)) -> Make visual control on product before production | BJ7: =IF(LEN(INDEX(ActionList!H$6:H$1005,BD7,1))=0,"",INDEX(ActionList!H$6:H$1005,BD7,1)) -> 2 | BK7: =IF(OR(Responsible=IF(LEN(INDEX(ActionList!I$6:I$1005,BD7,1))=0,"",INDEX(ActionList!I$6:I$1005,BD7,1)),Responsible="",Responsible="All"),IF(LEN(INDEX(ActionList!I$6:I$1005,BD7,1))=0,"",INDEX(ActionList!I$6:I$1005,BD7,1)),"-") -> Macauley Peck | BL7: =IF(LEN(INDEX(ActionList!M$6:M$1005,BD7,1))=0,"",INDEX(ActionList!M$6:M$1005,BD7,1)) -> Finished | BM7: =BE7&BF7&BG7&BH7 -> Picking up the product with the handleDamage to the productJoint failureDamage caused by transportation | BN7: =IF(AND(LEN(BE7)>0,OR(Process="All",Process="",Process=BE7)),BE7,"-") -> Picking up the product with the handle | BO7: =IF(AND(LEN(BF7)>0,OR(Mode="All",Mode="",Mode=BF7)),BF7,"-") -> Damage to the product | BP7: =IF(CF7=1,BE7&BF7&BG7,"") -> Picking up the product with the handleDamage to the productJoint failure | BQ7: =IF(CF7=1,BE7&BF7&BG7&BH7,"") -> Picking up the product with the handleDamage to the productJoint failureDamage caused by transportation | BR7: =IF(CF7=1,BN7,"") -> Picking up the product with the handle | BS7: =IF(CF7=1,BO7,"") -> Damage to the product | BT7: =IF(AND(BR7<>"-",COUNTIF(BR$5:BR7,BR7)=1),1,0)*CF7 -> 0 | BU7: =IF(AND(LEN(BS7)>0,COUNTIF(BS$5:BS7,BS7)=1),1,0)*CF7 -> 1 | BV7: =IF(AND(LEN(BP7)>0,COUNTIF(BP$5:BP7,BP7)=1),1,0) -> 1 | BW7: =IF(AND(LEN(BQ7)>0,COUNTIF(BQ$5:BQ7,BQ7)=1),1,0) -> 1 | BX7: =IF(CF7=1,BK7,"") -> Macauley Peck | BY7: =IF(AND(LEN(BX7)>0,COUNTIF($BX$5:BX7,BX7)=1),1,0) -> 1 | BZ7: =IFERROR(INDEX($T$5:$T$504,MATCH(BM7,$AX$5:$AX$504,0)),"") -> 105 | CA7: =IF(LEN(BE7)=0,"",IF(AND(BZ7>=$H$6,BZ7<=$I$6),$F$6,IF(AND(BZ7>=$H$7,BZ7<=$I$7),$F$7,IF(AND(BZ7>=$H$8,BZ7<=$I$8),$F$8,IF(AND(BZ7>=$H$9,BZ7<=$I$9),$F$9,"-"))))) -> High | CB7: =IFERROR(IF(LEN(BZ7)=0,"-",IF(OR(RPNB="All",RPNB="",RPNB=CA7),CA7,"-")),"-") -> High | CC7: =IFERROR(INDEX($U$5:$U$504,MATCH(BM7,$AX$5:$AX$504,0)),"") -> 70 | CD7: =IF(LEN(BE7)=0,"",IF(AND(CC7>=$H$6,CC7<=$I$6),$F$6,IF(AND(CC7>=$H$7,CC7<=$I$7),$F$7,IF(AND(CC7>=$H$8,CC7<=$I$8),$F$8,IF(AND(CC7>=$H$9,CC7<=$I$9),$F$9,"-"))))) -> Medium | CE7: =IFERROR(IF(LEN(CC7)=0,"",IF(OR(RPNA="All",RPNA="",RPNA=CD7),CD7,"-")),"-") -> Medium | CF7: =IFERROR(IF(AND(LEN(BD7)>0,BN7<>"-",BO7<>"-",BK7<>"-",CG7<>"-",CB7<>"-",CE7<>"-",BI7<>""),1,0),0) -> 1 | CG7: =IF(OR(Status="All",Status="",Status=BL7),BL7,"-") -> Finished | CI7: Not Started | CJ7: =COUNTIFS($BL$5:$BL$23,CI7,$CF$5:$CF$23,1) -> 1 | CL7: =D8 -> Macauley Peck | CM7: =IF(LEN($CL7)=0,"",COUNTIFS($BK$5:$BK$23,$CL7,$CF$5:$CF$23,1)) -> 2 | CN7: =IF(LEN(CL7)=0,"",RANK(CM7,$CM$5:$CM$17,0)) -> 2 | CO7: =IF(LEN(CL7)=0,"",CN7+COUNTIF($CN$5:CN7,CN7)-1) -> 4 | CQ7: 3 | CR7: =IFERROR(INDEX($CL$5:$CL$17,MATCH(CQ7,$CO$5:$CO$17,0),1),"") -> Mercedes Banks | CS7: =IFERROR(INDEX($CM$5:$CM$17,MATCH(CQ7,$CO$5:$CO$17,0),1),"") -> 2
B8: =IF(Settings!C10="","",Settings!C10) -> Preparation of the product for the next stage | D8: =IF(Settings!E10="","",Settings!E10) -> Macauley Peck | F8: =IF(Settings!G10="","",Settings!G10) -> Low | G8: =IF(ISNUMBER(Settings!I10),Settings!I10,"-") -> 20 | H8: 1 | I8: =G8 -> 20 | K8: =IF(Settings!G15="","",Settings!G15) -> 4 | M8: Finished | P8: =IFERROR(IF(LEN(INDEX(FMEA!C$7:C$506,Cal!$BD8))=0,"",INDEX(FMEA!C$7:C$506,Cal!$BD8)),"") -> Reading the product barcode | Q8: =IFERROR(IF(LEN(INDEX(FMEA!D$7:D$506,Cal!$BD8))=0,"",INDEX(FMEA!D$7:D$506,Cal!$BD8)),"") -> Software not working | R8: =IFERROR(IF(LEN(INDEX(FMEA!E$7:E$506,Cal!$BD8))=0,"",INDEX(FMEA!E$7:E$506,Cal!$BD8)),"") -> Sending wrong product to the customer | S8: =IFERROR(IF(LEN(INDEX(FMEA!F$7:F$506,Cal!$BD8))=0,"",INDEX(FMEA!F$7:F$506,Cal!$BD8)),"") -> Computer malfunction | T8: =IFERROR(IF(AND(LEN(P8)>0,LEN(Q8)>0,LEN(R8)>0,LEN(S8)>0),IF(LEN(INDEX(FMEA!J$7:J$506,Cal!$BD8))=0,"-",INDEX(FMEA!J$7:J$506,Cal!$BD8)),""),"") -> 48 | U8: =IFERROR(IF(AND(LEN(P8)>0,LEN(Q8)>0,LEN(R8)>0,LEN(S8)>0),IF(LEN(INDEX(FMEA!O$7:O$506,Cal!$BD8))=0,"-",INDEX(FMEA!O$7:O$506,Cal!$BD8)),""),"") -> 24 | V8: =IFERROR(IF(LEN(T8)=0,"",IF(AND(T8>=$H$6,T8<=$I$6),$F$6,IF(AND(T8>=$H$7,T8<=$I$7),$F$7,IF(AND(T8>=$H$8,T8<=$I$8),$F$8,IF(AND(T8>=$H$9,T8<=$I$9),$F$9,"-"))))),"") -> Medium | W8: =IFERROR(IF(LEN(U8)=0,"",IF(AND(U8>=$H$6,U8<=$I$6),$F$6,IF(AND(U8>=$H$7,U8<=$I$7),$F$7,IF(AND(U8>=$H$8,U8<=$I$8),$F$8,IF(AND(U8>=$H$9,U8<=$I$9),$F$9,"-"))))),"") -> Medium | X8: =IF(LEN(P8)="","",IF(OR(Process="All",Process="",Process=P8),P8,"")) -> Reading the product barcode | Y8: =IF(AJ8=1,X8,"") -> Reading the product barcode | Z8: =IF(COUNTIF($Y$5:Y8,Y8)=1,Y8,"") -> Reading the product barcode | AA8: =IF(LEN(Q8)="","",IF(OR(Mode="All",Mode="",Mode=Q8),Q8,"")) -> Software not working | AB8: =IF(AJ8=1,AA8,"") -> Software not working | AC8: =IF(COUNTIF($AB$5:AB8,AB8)=1,AB8,"") -> Software not working | AD8: =IF(AJ8=1,P8&Q8&R8,"") -> Reading the product barcodeSoftware not workingSending wrong product to the customer | AE8: =IF(COUNTIF($AD$5:AD8,AD8)=1,AD8,"") -> Reading the product barcodeSoftware not workingSending wrong product to the customer | AF8: =IF(AJ8=1,P8&Q8&R8&S8,"") -> Reading the product barcodeSoftware not workingSending wrong product to the customerComputer malfunction | AG8: =IF(COUNTIF($AF$5:AF8,AF8)=1,AF8,"") -> Reading the product barcodeSoftware not workingSending wrong product to the customerComputer malfunction | AH8: =IF(LEN(V8)="","",IF(OR(RPNB="All",RPNB="",RPNB=V8),V8,"")) -> Medium | AI8: =IF(LEN(W8)="","",IF(OR(RPNA="All",RPNA="",RPNA=W8),W8,"")) -> Medium | AJ8: =IF(AND(X8<>"",AA8<>"",AH8<>"",AI8<>""),1,0) -> 1 | AK8: =IF(AND(LEN(P8)>0,COUNTIF($P$5:P8,P8)=1),P8,"") -> Reading the product barcode | AL8: =IF(OR(LEN($AK8)=0,COUNTIF($AK$5:AK8,AK8)>1),"",COUNTIF($AK$5:$AK$15,"<"&$AK8)-COUNTBLANK($AK$5:$AK$15)+1) -> 3 | AM8: =IFERROR(INDEX($P$5:$P$504,MATCH(BD8,$AL$5:$AL$504,0)),"") -> Removal of the product from the machine as a finished product | AN8: =P8&Q8 -> Reading the product barcodeSoftware not working | AO8: =IF(AND(LEN(AN8)>0,COUNTIF($AN$5:AN8,AN8)=1),AN8,"") -> Reading the product barcodeSoftware not working | AP8: =IF(OR(LEN($AO8)=0,COUNTIF($AO$5:AO8,AO8)>1),"",COUNTIF($AO$5:$AO$15,"<"&$AO8)-COUNTBLANK($AO$5:$AO$15)+1) -> 8 | AQ8: =IFERROR(INDEX($P$5:$P$504,MATCH(BD8,$AP$5:$AP$504,0)),"") -> Preparation of the product for the next stage | AR8: =IFERROR(INDEX($Q$5:$Q$504,MATCH(BD8,$AP$5:$AP$504,0)),"") -> Incorrect preparation by the operator | AS8: =P8&Q8&R8 -> Reading the product barcodeSoftware not workingSending wrong product to the customer | AT8: =IF(AND(LEN(AS8)>0,COUNTIF($AS$5:AS8,AS8)=1),AS8,"") -> Reading the product barcodeSoftware not workingSending wrong product to the customer | AU8: =IF(OR(LEN($AT8)=0,COUNTIF($AT$5:AT8,AT8)>1),"",COUNTIF($AT$5:$AT$15,"<"&$AT8)-COUNTBLANK($AT$5:$AT$15)+1) -> 8 | AV8: =IFERROR(INDEX($AN$5:$AN$504,MATCH(BD8,$AU$5:$AU$504,0)),"") -> Preparation of the product for the next stageIncorrect preparation by the operator | AW8: =IFERROR(INDEX($R$5:$R$504,MATCH(BD8,$AU$5:$AU$504,0)),"") -> Failure of the process | AX8: =P8&Q8&R8&S8 -> Reading the product barcodeSoftware not workingSending wrong product to the customerComputer malfunction | AY8: =IF(AND(LEN(AX8)>0,COUNTIF($AX$5:AX8,AX8)=1),AX8,"") -> Reading the product barcodeSoftware not workingSending wrong product to the customerComputer malfunction | AZ8: =IF(OR(LEN($AY8)=0,COUNTIF($AY$5:AY8,AY8)>1),"",COUNTIF($AY$5:$AY$15,"<"&$AY8)-COUNTBLANK($AY$5:$AY$15)+1) -> 8 | BA8: =IFERROR(INDEX($AS$5:$AS$504,MATCH(BD8,$AZ$5:$AZ$504,0)),"") -> Preparation of the product for the next stageIncorrect preparation by the operatorFailure of the process | BB8: =IFERROR(INDEX($S$5:$S$504,MATCH(BD8,$AZ$5:$AZ$504,0)),"") -> Operational error | BD8: 4 | BE8: =IF(LEN(INDEX(ActionList!C$6:C$1005,$BD8,1))=0,"",INDEX(ActionList!C$6:C$1005,$BD8,1)) -> Picking up the product with the handle | BF8: =IF(LEN(INDEX(ActionList!D$6:D$1005,$BD8,1))=0,"",INDEX(ActionList!D$6:D$1005,$BD8,1)) -> Incorrect output of the product from the previous station | BG8: =IF(LEN(INDEX(ActionList!E$6:E$1005,$BD8,1))=0,"",INDEX(ActionList!E$6:E$1005,$BD8,1)) -> Manufacturing defect | BH8: =IF(LEN(INDEX(ActionList!F$6:F$1005,$BD8,1))=0,"",INDEX(ActionList!F$6:F$1005,$BD8,1)) -> Machine-induced anomalies | BI8: =IF(LEN(INDEX(ActionList!G$6:G$1005,BD8,1))=0,"",INDEX(ActionList!G$6:G$1005,BD8,1)) -> Gathering real-time data to see production condition | BJ8: =IF(LEN(INDEX(ActionList!H$6:H$1005,BD8,1))=0,"",INDEX(ActionList!H$6:H$1005,BD8,1)) -> 2 | BK8: =IF(OR(Responsible=IF(LEN(INDEX(ActionList!I$6:I$1005,BD8,1))=0,"",INDEX(ActionList!I$6:I$1005,BD8,1)),Responsible="",Responsible="All"),IF(LEN(INDEX(ActionList!I$6:I$1005,BD8,1))=0,"",INDEX(ActionList!I$6:I$1005,BD8,1)),"-") -> Isobelle Hurley | BL8: =IF(LEN(INDEX(ActionList!M$6:M$1005,BD8,1))=0,"",INDEX(ActionList!M$6:M$1005,BD8,1)) -> Overdue | BM8: =BE8&BF8&BG8&BH8 -> Picking up the product with the handleIncorrect output of the product from the previous stationManufacturing defectMachine-induced anomalies | BN8: =IF(AND(LEN(BE8)>0,OR(Process="All",Process="",Process=BE8)),BE8,"-") -> Picking up the product with the handle | BO8: =IF(AND(LEN(BF8)>0,OR(Mode="All",Mode="",Mode=BF8)),BF8,"-") -> Incorrect output of the product from the previous station | BP8: =IF(CF8=1,BE8&BF8&BG8,"") -> Picking up the product with the handleIncorrect output of the product from the previous stationManufacturing defect | BQ8: =IF(CF8=1,BE8&BF8&BG8&BH8,"") -> Picking up the product with the handleIncorrect output of the product from the previous stationManufacturing defectMachine-induced anomalies | BR8: =IF(CF8=1,BN8,"") -> Picking up the product with the handle | BS8: =IF(CF8=1,BO8,"") -> Incorrect output of the product from the previous station | BT8: =IF(AND(BR8<>"-",COUNTIF(BR$5:BR8,BR8)=1),1,0)*CF8 -> 0 | BU8: =IF(AND(LEN(BS8)>0,COUNTIF(BS$5:BS8,BS8)=1),1,0)*CF8 -> 0 | BV8: =IF(AND(LEN(BP8)>0,COUNTIF(BP$5:BP8,BP8)=1),1,0) -> 0 | BW8: =IF(AND(LEN(BQ8)>0,COUNTIF(BQ$5:BQ8,BQ8)=1),1,0) -> 0 | BX8: =IF(CF8=1,BK8,"") -> Isobelle Hurley | BY8: =IF(AND(LEN(BX8)>0,COUNTIF($BX$5:BX8,BX8)=1),1,0) -> 1 | BZ8: =IFERROR(INDEX($T$5:$T$504,MATCH(BM8,$AX$5:$AX$504,0)),"") -> 72 | CA8: =IF(LEN(BE8)=0,"",IF(AND(BZ8>=$H$6,BZ8<=$I$6),$F$6,IF(AND(BZ8>=$H$7,BZ8<=$I$7),$F$7,IF(AND(BZ8>=$H$8,BZ8<=$I$8),$F$8,IF(AND(BZ8>=$H$9,BZ8<=$I$9),$F$9,"-"))))) -> Medium | CB8: =IFERROR(IF(LEN(BZ8)=0,"-",IF(OR(RPNB="All",RPNB="",RPNB=CA8),CA8,"-")),"-") -> Medium | CC8: =IFERROR(INDEX($U$5:$U$504,MATCH(BM8,$AX$5:$AX$504,0)),"") -> 20 | CD8: =IF(LEN(BE8)=0,"",IF(AND(CC8>=$H$6,CC8<=$I$6),$F$6,IF(AND(CC8>=$H$7,CC8<=$I$7),$F$7,IF(AND(CC8>=$H$8,CC8<=$I$8),$F$8,IF(AND(CC8>=$H$9,CC8<=$I$9),$F$9,"-"))))) -> Low | CE8: =IFERROR(IF(LEN(CC8)=0,"",IF(OR(RPNA="All",RPNA="",RPNA=CD8),CD8,"-")),"-") -> Low | CF8: =IFERROR(IF(AND(LEN(BD8)>0,BN8<>"-",BO8<>"-",BK8<>"-",CG8<>"-",CB8<>"-",CE8<>"-",BI8<>""),1,0),0) -> 1 | CG8: =IF(OR(Status="All",Status="",Status=BL8),BL8,"-") -> Overdue | CI8: Overdue | CJ8: =COUNTIFS($BL$5:$BL$23,CI8,$CF$5:$CF$23,1) -> 4 | CL8: =D9 -> Hannah Shaw | CM8: =IF(LEN($CL8)=0,"",COUNTIFS($BK$5:$BK$23,$CL8,$CF$5:$CF$23,1)) -> 1 | CN8: =IF(LEN(CL8)=0,"",RANK(CM8,$CM$5:$CM$17,0)) -> 5 | CO8: =IF(LEN(CL8)=0,"",CN8+COUNTIF($CN$5:CN8,CN8)-1) -> 5 | CQ8: 4 | CR8: =IFERROR(INDEX($CL$5:$CL$17,MATCH(CQ8,$CO$5:$CO$17,0),1),"") -> Macauley Peck | CS8: =IFERROR(INDEX($CM$5:$CM$17,MATCH(CQ8,$CO$5:$CO$17,0),1),"") -> 2
