Workbook
Name Mode: Dashboard!$E$8
Name Process: Dashboard!$C$8
Name Responsible: Dashboard!$I$8
Name RPNA: Dashboard!$Y$8
Name RPNB: Dashboard!$U$8
Name Status: Dashboard!$O$8

Sheet Dashboard
C2: FMEA EXCEL TEMPLATE
C3: DASHBOARD
C7: Process | E7: Mode | I7: Owner | O7: Action Status | U7: RPN Before | Y7: RPN After
C8: All | E8: All | I8: All | O8: All | U8: All | Y8: All
F12: FMEA SUMMARY
H14: Process | L14: Failure | P14: Effect | T14: Cause
H15: =Cal!BT3 -> 4 | L15: =Cal!BU3 -> 9 | P15: =Cal!BV3 -> 9 | T15: =Cal!BW3 -> 9
J18: Actions | N18: Overdue | R18: Owner
J19: =Cal!CF3 -> 15 | N19: =Cal!CJ8 -> 4 | R19: =Cal!BY3 -> 10
G22: RPN Reduction Ratio
H23: From | R23: To
H24: =Cal!CQ28 -> 662 | N24: =Cal!CQ24 -> 0.60120846 | R24: =Cal!CQ27 -> 264
G27: RPN Change
G28: RPN Before | J28: =Cal!$CR$18 -> 3 | N28: =Cal!$CR$19 -> 6 | R28: =Cal!$CR$20 -> 0
J29: =Cal!F6 -> High | N29: =Cal!F7 -> Medium | R29: =Cal!F8 -> Low
G30: RPN After | J30: =Cal!$CS$18 -> 0 | N30: =Cal!$CS$19 -> 5 | R30: =Cal!$CS$20 -> 4

Sheet Settings
C2: FMEA EXCEL TEMPLATE
C3: SETTINGS
C7: Process | E7: Action Owners | G7: RPN (Risk Prioirty Matrix) | K7: Risk Ranking Explanations
C8: Picking up the product with the handle | E8: Jemima Begum | G8: High | H8: ≤ | I8: 1000 | K8: Ranking | L8: Severity | M8: Occurrence | N8: Detection
C9: Reading the product barcode | E9: Mercedes Banks | G9: Medium | H9: ≤ | I9: 100 | K9: 10 | L9: Hazardous without warning | M9: >1 in 2 | N9: Absolute Uncertainty
C10: Preparation of the product for the next stage | E10: Macauley Peck | G10: Low | H10: ≤ | I10: 20 | K10: 9 | L10: Hazardous with warning | M10: 1 in 3 | N10: Very Remote
C11: Placing the next raw material in the station | E11: Hannah Shaw | K11: 8 | L11: Very High | M11: 1 in 8 | N11: Remote
C12: Removal of the product from the machine as a finished product | E12: Brad Pitt | G12: CML (Counter Measure Level) | K12: 7 | L12: High | M12: 1 in 20 | N12: Very Low
E13: Sarah-Jayne Morrison | G13: 6 | H13: Eliminate the operation | K13: 6 | L13: Moderate | M13: 1 in 80 | N13: Low
E14: Alyce Milner | G14: 5 | H14: Eliminate the Human Element | K14: 5 | L14: Low | M14: 1 in 400 | N14: Moderate
E15: Aviana Kenny | G15: 4 | H15: Make it difficult to do it the incorrect way | K15: 4 | L15: Very Low | M15: 1 in 2,000 | N15: Moderately High
E16: Julia Roberts | G16: 3 | H16: Constantly remind them ‘at a glance’ of the correct way | K16: 3 | L16: Minor | M16: 1 in 15,000 | N16: High
E17: Isobelle Hurley | G17: 2 | H17: Double check that the person has remembered to do it the correct way | K17: 2 | L17: Very Minor | M17: 1 in 150,000 | N17: Very High
G18: 1 | H18: Remind the person of the way to do the check correctly | K18: 1 | L18: None | M18: <1 in 1,500,000 | N18: Almost Certain

Sheet FMEA
C2: FMEA EXCEL TEMPLATE
C3: FMEA
G5: Before | L5: After
B6: ID | C6: Process/Function | D6: Potential Failure Modes | E6: Potential Effects | F6: Possible Cause | G6: Severity | H6: Occurrence | I6: Detection | J6: RPN | K6: Actions | L6: Severity | M6: Occurrence | N6: Detection | O6: RPN
B7: 1 | C7: Picking up the product with the handle | D7: Damage to the product | E7: Joint failure | F7: Damage caused by transportation | G7: 7 | H7: 5 | I7: 3 | J7: =IF(OR(LEN(G7)=0,LEN(H7)=0,LEN(I7)=0),"",G7*H7*I7) -> 105 | K7: =IFERROR(IF(OR(LEN(C7)=0,LEN(D7)=0,LEN(E7)=0,LEN(F7)=0),"",COUNTIFS(Cal!$BM$5:$BM$1004,FMEA!C7&FMEA!D7&FMEA!E7&FMEA!F7,ActionList!$G$6:$G$1005,"<>",ActionList!$H$6:$H$1005,"<>")),"") -> 1 | L7: 7 | M7: 5 | N7: 2 | O7: =IF(OR(LEN(N7)=0,LEN(M7)=0,LEN(L7)=0),"",L7*M7*N7) -> 70
B8: 2 | C8: Picking up the product with the handle | D8: Incorrect output of the product from the previous station | E8: Manufacturing defect | F8: Machine-induced anomalies | G8: 9 | H8: 4 | I8: 2 | J8: =IF(OR(LEN(G8)=0,LEN(H8)=0,LEN(I8)=0),"",G8*H8*I8) -> 72 | K8: =IFERROR(IF(OR(LEN(C8)=0,LEN(D8)=0,LEN(E8)=0,LEN(F8)=0),"",COUNTIFS(Cal!$BM$5:$BM$1004,FMEA!C8&FMEA!D8&FMEA!E8&FMEA!F8,ActionList!$G$6:$G$1005,"<>",ActionList!$H$6:$H$1005,"<>")),"") -> 3 | L8: 5 | M8: 4 | N8: 1 | O8: =IF(OR(LEN(N8)=0,LEN(M8)=0,LEN(L8)=0),"",L8*M8*N8) -> 20
B9: 3 | C9: Picking up the product with the handle | D9: Failure of the machine conveyor | E9: Manufacturing defect | F9: Faults | G9: 7 | H9: 3 | I9: 6 | J9: =IF(OR(LEN(G9)=0,LEN(H9)=0,LEN(I9)=0),"",G9*H9*I9) -> 126 | K9: =IFERROR(IF(OR(LEN(C9)=0,LEN(D9)=0,LEN(E9)=0,LEN(F9)=0),"",COUNTIFS(Cal!$BM$5:$BM$1004,FMEA!C9&FMEA!D9&FMEA!E9&FMEA!F9,ActionList!$G$6:$G$1005,"<>",ActionList!$H$6:$H$1005,"<>")),"") -> 2 | L9: 5 | M9: 3 | N9: 2 | O9: =IF(OR(LEN(N9)=0,LEN(M9)=0,LEN(L9)=0),"",L9*M9*N9) -> 30
B10: 4 | C10: Reading the product barcode | D10: Software not working | E10: Sending wrong product to the customer | F10: Computer malfunction | G10: 8 | H10: 1 | I10: 6 | J10: =IF(OR(LEN(G10)=0,LEN(H10)=0,LEN(I10)=0),"",G10*H10*I10) -> 48 | K10: =IFERROR(IF(OR(LEN(C10)=0,LEN(D10)=0,LEN(E10)=0,LEN(F10)=0),"",COUNTIFS(Cal!$BM$5:$BM$1004,FMEA!C10&FMEA!D10&FMEA!E10&FMEA!F10,ActionList!$G$6:$G$1005,"<>",ActionList!$H$6:$H$1005,"<>")),"") -> 2 | L10: 8 | M10: 1 | N10: 3 | O10: =IF(OR(LEN(N10)=0,LEN(M10)=0,LEN(L10)=0),"",L10*M10*N10) -> 24
B11: 5 | C11: Reading the product barcode | D11: Reading the wrong barcode | E11: Sending wrong product to the customer | F11: Collecting tags | G11: 7 | H11: 3 | I11: 3 | J11: =IF(OR(LEN(G11)=0,LEN(H11)=0,LEN(I11)=0),"",G11*H11*I11) -> 63 | K11: =IFERROR(IF(OR(LEN(C11)=0,LEN(D11)=0,LEN(E11)=0,LEN(F11)=0),"",COUNTIFS(Cal!$BM$5:$BM$1004,FMEA!C11&FMEA!D11&FMEA!E11&FMEA!F11,ActionList!$G$6:$G$1005,"<>",ActionList!$H$6:$H$1005,"<>")),"") -> 1 | L11: 7 | M11: 2 | N11: 2 | O11: =IF(OR(LEN(N11)=0,LEN(M11)=0,LEN(L11)=0),"",L11*M11*N11) -> 28
B12: 6 | C12: Preparation of the product for the next stage | D12: Incorrect preparation by the operator | E12: Failure of the process | F12: Operational error | G12: 4 | H12: 4 | I12: 2 | J12: =IF(OR(LEN(G12)=0,LEN(H12)=0,LEN(I12)=0),"",G12*H12*I12) -> 32 | K12: =IFERROR(IF(OR(LEN(C12)=0,LEN(D12)=0,LEN(E12)=0,LEN(F12)=0),"",COUNTIFS(Cal!$BM$5:$BM$1004,FMEA!C12&FMEA!D12&FMEA!E12&FMEA!F12,ActionList!$G$6:$G$1005,"<>",ActionList!$H$6:$H$1005,"<>")),"") -> 2 | L12: 4 | M12: 2 | N12: 2 | O12: =IF(OR(LEN(N12)=0,LEN(M12)=0,LEN(L12)=0),"",L12*M12*N12) -> 16
B13: 7 | C13: Preparation of the product for the next stage | D13: Sensors are dirty | E13: Failure of the process | F13: Dirtiness | G13: 4 | H13: 5 | I13: 6 | J13: =IF(OR(LEN(G13)=0,LEN(H13)=0,LEN(I13)=0),"",G13*H13*I13) -> 120 | K13: =IFERROR(IF(OR(LEN(C13)=0,LEN(D13)=0,LEN(E13)=0,LEN(F13)=0),"",COUNTIFS(Cal!$BM$5:$BM$1004,FMEA!C13&FMEA!D13&FMEA!E13&FMEA!F13,ActionList!$G$6:$G$1005,"<>",ActionList!$H$6:$H$1005,"<>")),"") -> 2 | L13: 4 | M13: 5 | N13: 2 | O13: =IF(OR(LEN(N13)=0,LEN(M13)=0,LEN(L13)=0),"",L13*M13*N13) -> 40
B14: 8 | C14: Preparation of the product for the next stage | D14: Malfunction in process | E14: Failure of production | F14: Mechanical/electrical fault in the machine | G14: 3 | H14: 2 | I14: 4 | J14: =IF(OR(LEN(G14)=0,LEN(H14)=0,LEN(I14)=0),"",G14*H14*I14) -> 24 | K14: =IFERROR(IF(OR(LEN(C14)=0,LEN(D14)=0,LEN(E14)=0,LEN(F14)=0),"",COUNTIFS(Cal!$BM$5:$BM$1004,FMEA!C14&FMEA!D14&FMEA!E14&FMEA!F14,ActionList!$G$6:$G$1005,"<>",ActionList!$H$6:$H$1005,"<>")),"") -> 1 | L14: 3 | M14: 2 | N14: 3 | O14: =IF(OR(LEN(N14)=0,LEN(M14)=0,LEN(L14)=0),"",L14*M14*N14) -> 18
B15: 9 | C15: Removal of the product from the machine as a finished product | D15: Banding the product without sufficient stretching | E15: Trace formation on the product after barrier systems | F15: Not using the taping tool | G15: 6 | H15: 4 | I15: 3 | J15: =IF(OR(LEN(G15)=0,LEN(H15)=0,LEN(I15)=0),"",G15*H15*I15) -> 72 | K15: =IFERROR(IF(OR(LEN(C15)=0,LEN(D15)=0,LEN(E15)=0,LEN(F15)=0),"",COUNTIFS(Cal!$BM$5:$BM$1004,FMEA!C15&FMEA!D15&FMEA!E15&FMEA!F15,ActionList!$G$6:$G$1005,"<>",ActionList!$H$6:$H$1005,"<>")),"") -> 1 | L15: 6 | M15: 1 | N15: 3 | O15: =IF(OR(LEN(N15)=0,LEN(M15)=0,LEN(L15)=0),"",L15*M15*N15) -> 18
B16: 10 | J16: =IF(OR(LEN(G16)=0,LEN(H16)=0,LEN(I16)=0),"",G16*H16*I16) | K16: =IFERROR(IF(OR(LEN(C16)=0,LEN(D16)=0,LEN(E16)=0,LEN(F16)=0),"",COUNTIFS(Cal!$BM$5:$BM$1004,FMEA!C16&FMEA!D16&FMEA!E16&FMEA!F16,ActionList!$G$6:$G$1005,"<>",ActionList!$H$6:$H$1005,"<>")),"") | O16: =IF(OR(LEN(N16)=0,LEN(M16)=0,LEN(L16)=0),"",L16*M16*N16)
B17: 11 | J17: =IF(OR(LEN(G17)=0,LEN(H17)=0,LEN(I17)=0),"",G17*H17*I17) | K17: =IFERROR(IF(OR(LEN(C17)=0,LEN(D17)=0,LEN(E17)=0,LEN(F17)=0),"",COUNTIFS(Cal!$BM$5:$BM$1004,FMEA!C17&FMEA!D17&FMEA!E17&FMEA!F17,ActionList!$G$6:$G$1005,"<>",ActionList!$H$6:$H$1005,"<>")),"") | O17: =IF(OR(LEN(N17)=0,LEN(M17)=0,LEN(L17)=0),"",L17*M17*N17)
B18: 12
B19: 13
B20: 14
B21: 15
B22: 16
B23: 17
B24: 18
B25: 19
B26: 20
B27: 21
B28: 22
B29: 23
... B506: 500

Sheet ActionList
C2: FMEA EXCEL TEMPLATE
C3: ACTION LIST
B5: ID | C5: Process/Function | D5: Potential Failure Modes | E5: Potential Effects | F5: Possible Cause | G5: Action | H5: CML | I5: Responsible | J5: Start | K5: Due Date | L5: Finish | M5: Status
B6: 1 | C6: Picking up the product with the handle | D6: Incorrect output of the product from the previous station | E6: Manufacturing defect | F6: Machine-induced anomalies | G6: Revise Planned Maintenances | H6: 3 | I6: Jemima Begum | J6: ✓ | K6: 44951 | L6: ✓ | M6: =IF(LEN(K6)=0,IF(AND(LEN(C6)>0,LEN(D6)>0,LEN(E6)>0,LEN(F6)>0,LEN(H6)>0,LEN(G6)>0),"Not Started",""),IF(L6="✓","Finished",IF(K6<TODAY(),"Overdue",IF(J6="✓","In Progress","Not Started")))) -> Finished
B7: 2 | C7: Picking up the product with the handle | D7: Incorrect output of the product from the previous station | E7: Manufacturing defect | F7: Machine-induced anomalies | G7: Place camera to track the machine condition | H7: 4 | I7: Jemima Begum | K7: 44859 | M7: =IF(LEN(K7)=0,IF(AND(LEN(C7)>0,LEN(D7)>0,LEN(E7)>0,LEN(F7)>0,LEN(H7)>0,LEN(G7)>0),"Not Started",""),IF(L7="✓","Finished",IF(K7<TODAY(),"Overdue",IF(J7="✓","In Progress","Not Started")))) -> Overdue
B8: 3 | C8: Picking up the product with the handle | D8: Damage to the product | E8: Joint failure | F8: Damage caused by transportation | G8: Make visual control on product before production | H8: 2 | I8: Macauley Peck | J8: ✓ | K8: 44725 | L8: ✓ | M8: =IF(LEN(K8)=0,IF(AND(LEN(C8)>0,LEN(D8)>0,LEN(E8)>0,LEN(F8)>0,LEN(H8)>0,LEN(G8)>0),"Not Started",""),IF(L8="✓","Finished",IF(K8<TODAY(),"Overdue",IF(J8="✓","In Progress","Not Started")))) -> Finished
B9: 4 | C9: Picking up the product with the handle | D9: Incorrect output of the product from the previous station | E9: Manufacturing defect | F9: Machine-induced anomalies | G9: Gathering real-time data to see production condition | H9: 2 | I9: Isobelle Hurley | J9: ✓ | K9: 44842 | M9: =IF(LEN(K9)=0,IF(AND(LEN(C9)>0,LEN(D9)>0,LEN(E9)>0,LEN(F9)>0,LEN(H9)>0,LEN(G9)>0),"Not Started",""),IF(L9="✓","Finished",IF(K9<TODAY(),"Overdue",IF(J9="✓","In Progress","Not Started")))) -> Overdue
B10: 5 | C10: Picking up the product with the handle | D10: Failure of the machine conveyor | E10: Manufacturing defect | F10: Faults | G10: make the machine emergency stop | H10: 4 | I10: Mercedes Banks | J10: ✓ | K10: 44987 | M10: =IF(LEN(K10)=0,IF(AND(LEN(C10)>0,LEN(D10)>0,LEN(E10)>0,LEN(F10)>0,LEN(H10)>0,LEN(G10)>0),"Not Started",""),IF(L10="✓","Finished",IF(K10<TODAY(),"Overdue",IF(J10="✓","In Progress","Not Started")))) -> In Progress
B11: 6 | C11: Picking up the product with the handle | D11: Failure of the machine conveyor | E11: Manufacturing defect | F11: Faults | G11: Standard checks on machine before running | H11: 3 | I11: Macauley Peck | J11: ✓ | K11: 44775 | L11: ✓ | M11: =IF(LEN(K11)=0,IF(AND(LEN(C11)>0,LEN(D11)>0,LEN(E11)>0,LEN(F11)>0,LEN(H11)>0,LEN(G11)>0),"Not Started",""),IF(L11="✓","Finished",IF(K11<TODAY(),"Overdue",IF(J11="✓","In Progress","Not Started")))) -> Finished
B12: 7 | C12: Removal of the product from the machine as a finished product | D12: Banding the product without sufficient stretching | E12: Trace formation on the product after barrier systems | F12: Not using the taping tool | G12: revision of the taping tool so that it can be used on all products | H12: 5 | I12: Brad Pitt | J12: ✓ | K12: 44814 | M12: =IF(LEN(K12)=0,IF(AND(LEN(C12)>0,LEN(D12)>0,LEN(E12)>0,LEN(F12)>0,LEN(H12)>0,LEN(G12)>0),"Not Started",""),IF(L12="✓","Finished",IF(K12<TODAY(),"Overdue",IF(J12="✓","In Progress","Not Started")))) -> Overdue
B13: 8 | C13: Reading the product barcode | D13: Reading the wrong barcode | E13: Sending wrong product to the customer | F13: Collecting tags | G13: revision of the taping tool so that it can be used on all products | H13: 5 | I13: Mercedes Banks | J13: ✓ | K13: 44815 | L13: ✓ | M13: =IF(LEN(K13)=0,IF(AND(LEN(C13)>0,LEN(D13)>0,LEN(E13)>0,LEN(F13)>0,LEN(H13)>0,LEN(G13)>0),"Not Started",""),IF(L13="✓","Finished",IF(K13<TODAY(),"Overdue",IF(J13="✓","In Progress","Not Started")))) -> Finished
B14: 9 | C14: Reading the product barcode | D14: Software not working | E14: Sending wrong product to the customer | F14: Computer malfunction | G14: creating a work instruction in case the system does not work | H14: 2 | I14: Hannah Shaw | J14: ✓ | K14: 44802 | L14: ✓ | M14: =IF(LEN(K14)=0,IF(AND(LEN(C14)>0,LEN(D14)>0,LEN(E14)>0,LEN(F14)>0,LEN(H14)>0,LEN(G14)>0),"Not Started",""),IF(L14="✓","Finished",IF(K14<TODAY(),"Overdue",IF(J14="✓","In Progress","Not Started")))) -> Finished
B15: 10 | C15: Reading the product barcode | D15: Software not working | E15: Sending wrong product to the customer | F15: Computer malfunction | G15: Defining periodic maintenance to computers | H15: 3 | I15: Alyce Milner | J15: ✓ | K15: 44827 | L15: ✓ | M15: =IF(LEN(K15)=0,IF(AND(LEN(C15)>0,LEN(D15)>0,LEN(E15)>0,LEN(F15)>0,LEN(H15)>0,LEN(G15)>0),"Not Started",""),IF(L15="✓","Finished",IF(K15<TODAY(),"Overdue",IF(J15="✓","In Progress","Not Started")))) -> Finished
B16: 11 | C16: Preparation of the product for the next stage | D16: Incorrect preparation by the operator | E16: Failure of the process | F16: Operational error | G16: creating a work instruction for production preparation | H16: 2 | I16: Alyce Milner | J16: ✓ | K16: 44905 | M16: =IF(LEN(K16)=0,IF(AND(LEN(C16)>0,LEN(D16)>0,LEN(E16)>0,LEN(F16)>0,LEN(H16)>0,LEN(G16)>0),"Not Started",""),IF(L16="✓","Finished",IF(K16<TODAY(),"Overdue",IF(J16="✓","In Progress","Not Started")))) -> In Progress
B17: 12 | C17: Preparation of the product for the next stage | D17: Incorrect preparation by the operator | E17: Failure of the process | F17: Operational error | G17: planning periodic education | H17: 1 | I17: Sarah-Jayne Morrison | K17: 44895 | M17: =IF(LEN(K17)=0,IF(AND(LEN(C17)>0,LEN(D17)>0,LEN(E17)>0,LEN(F17)>0,LEN(H17)>0,LEN(G17)>0),"Not Started",""),IF(L17="✓","Finished",IF(K17<TODAY(),"Overdue",IF(J17="✓","In Progress","Not Started")))) -> Not Started
B18: 13 | C18: Preparation of the product for the next stage | D18: Sensors are dirty | E18: Failure of the process | F18: Dirtiness | G18: A system should be established to check that the cleaning tools are working correctly. | H18: 5 | I18: Aviana Kenny | J18: ✓ | K18: 44784 | L18: ✓ | M18: =IF(LEN(K18)=0,IF(AND(LEN(C18)>0,LEN(D18)>0,LEN(E18)>0,LEN(F18)>0,LEN(H18)>0,LEN(G18)>0),"Not Started",""),IF(L18="✓","Finished",IF(K18<TODAY(),"Overdue",IF(J18="✓","In Progress","Not Started")))) -> Finished
B19: 14 | C19: Preparation of the product for the next stage | D19: Sensors are dirty | E19: Failure of the process | F19: Dirtiness | G19: warning the machine when the sensors are dirty | H19: 5 | I19: Alyce Milner | J19: ✓ | K19: 44841 | M19: =IF(LEN(K19)=0,IF(AND(LEN(C19)>0,LEN(D19)>0,LEN(E19)>0,LEN(F19)>0,LEN(H19)>0,LEN(G19)>0),"Not Started",""),IF(L19="✓","Finished",IF(K19<TODAY(),"Overdue",IF(J19="✓","In Progress","Not Started")))) -> Overdue
B20: 15 | C20: Preparation of the product for the next stage | D20: Malfunction in process | E20: Failure of production | F20: Mechanical/electrical fault in the machine | G20: Defining periodic maintenance to machine | H20: 2 | I20: Julia Roberts | J20: ✓ | K20: 44813 | L20: ✓ | M20: =IF(LEN(K20)=0,IF(AND(LEN(C20)>0,LEN(D20)>0,LEN(E20)>0,LEN(F20)>0,LEN(H20)>0,LEN(G20)>0),"Not Started",""),IF(L20="✓","Finished",IF(K20<TODAY(),"Overdue",IF(J20="✓","In Progress","Not Started")))) -> Finished
B21: 16 | M21: =IF(LEN(K21)=0,IF(AND(LEN(C21)>0,LEN(D21)>0,LEN(E21)>0,LEN(F21)>0,LEN(H21)>0,LEN(G21)>0),"Not Started",""),IF(L21="✓","Finished",IF(K21<TODAY(),"Overdue",IF(J21="✓","In Progress","Not Started"))))
B22: 17 | M22: =IF(LEN(K22)=0,IF(AND(LEN(C22)>0,LEN(D22)>0,LEN(E22)>0,LEN(F22)>0,LEN(H22)>0,LEN(G22)>0),"Not Started",""),IF(L22="✓","Finished",IF(K22<TODAY(),"Overdue",IF(J22="✓","In Progress","Not Started"))))
B23: 18 | M23: =IF(LEN(K23)=0,IF(AND(LEN(C23)>0,LEN(D23)>0,LEN(E23)>0,LEN(F23)>0,LEN(H23)>0,LEN(G23)>0),"Not Started",""),IF(L23="✓","Finished",IF(K23<TODAY(),"Overdue",IF(J23="✓","In Progress","Not Started"))))
B24: 19 | M24: =IF(LEN(K24)=0,IF(AND(LEN(C24)>0,LEN(D24)>0,LEN(E24)>0,LEN(F24)>0,LEN(H24)>0,LEN(G24)>0),"Not Started",""),IF(L24="✓","Finished",IF(K24<TODAY(),"Overdue",IF(J24="✓","In Progress","Not Started"))))
B25: 20
B26: 21
B27: 22
B28: 23
B29: 24
B30: 25
B31: 26
B32: 27
B33: 28
B34: 29
B35: 30
B36: 31
... B1005: 1000

Sheet Cal
B2: Settings | P2: FMEA List | V2: RPN Status | X2: Calculations for dashboard | AK2: Dynamic Dropdown for Process | AN2: Dynamic Dropdown for Mode | AS2: Dynamic Dropdown for Effect | AX2: Dynamic Dropdown for Cause | BD2: Actionlist | BM2: Calculations | CI2: Charts
O3: Calculations for columns | T3: =SUMPRODUCT(T5:T15,$AJ$5:$AJ$15) -> 662 | U3: =SUMPRODUCT(U5:U15,$AJ$5:$AJ$15) -> 264 | Z3: {=SUMPRODUCT((Z5:Z15<>"")*1,$AJ$5:$AJ$15)} -> 4 | AC3: {=SUMPRODUCT((AC5:AC15<>"")*1,$AJ$5:$AJ$15)} -> 9 | AE3: {=SUMPRODUCT((AE5:AE15<>"")*1,$AJ$5:$AJ$15)} -> 9 | AG3: {=SUMPRODUCT((AG5:AG15<>"")*1,$AJ$5:$AJ$15)} -> 9 | AH3: {=SUMPRODUCT((AH5:AH15<>"")*1,$AJ$5:$AJ$15)} -> 9 | AI3: {=SUMPRODUCT((AI5:AI15<>"")*1,$AJ$5:$AJ$15)} -> 9 | AM3: =COUNTA(AM5:AM15)-COUNTBLANK(AM5:AM15) -> 4 | AR3: =COUNTA(AR5:AR15)-COUNTBLANK(AR5:AR15) -> 9 | AW3: =COUNTA(AW5:AW15)-COUNTBLANK(AW5:AW15) -> 9 | BB3: =COUNTA(BB5:BB15)-COUNTBLANK(BB5:BB15) -> 9 | BI3: =COUNTA(BI5:BI23)-COUNTBLANK(BI5:BI23) -> 15 | BT3: =IF(AND(OR(Responsible="All",Responsible=""),OR(Status="All",Status="")),Z3,SUM(BT5:BT23)) -> 4 | BU3: =IF(AND(OR(Responsible="All",Responsible=""),OR(Status="All",Status="")),AC3,SUM(BU5:BU23)) -> 9 | BV3: =IF(AND(OR(Responsible="All",Responsible=""),OR(Status="All",Status="")),AE3,SUM(BV5:BV23)) -> 9 | BW3: =IF(AND(OR(Responsible="All",Responsible=""),OR(Status="All",Status="")),AG3,SUM(BW5:BW23)) -> 9 | BY3: =SUM(BY5:BY23) -> 10 | BZ3: =IF(AND(OR(Responsible="All",Responsible=""),OR(Status="All",Status="")),T3,SUMPRODUCT(BZ5:BZ23,CF5:CF23,BW5:BW23)) -> 662 | CC3: =IF(AND(OR(Responsible="All",Responsible=""),OR(Status="All",Status="")),U3,SUMPRODUCT(CC5:CC23,CF5:CF23,BW5:BW23)) -> 264 | CF3: =SUM(CF5:CF23) -> 15
B4: Process | D4: Responsible | F4: RPN | H4: Min | I4: Max | K4: CML | M4: Action Status | P4: Process/Function | Q4: Potential Failure Modes | R4: Potential Effects | S4: Possible Cause | T4: RPNB | U4: RPNA | V4: RPNB Status | W4: RPNA Status | X4: PROCESS | AA4: Mode | AD4: Effect | AF4: Cause | AH4: RPN | AJ4: Active | AM4: All | AR4: All | BD4: Index | BE4: Process/Function | BF4: Potential Failure Modes | BG4: Potential Effects | BH4: Possible Cause | BI4: Action | BJ4: CML | BK4: Responsible | BL4: Status | BM4: Count for FMEA | BN4: Active Process | BO4: Active Mode | BP4: Active Effects | BQ4: Active Causes | BR4: Helper for Process | BS4: Helper for Mode | BT4: Process Defined2 | BU4: Mode Defined3 | BV4: Effects Defined4 | BW4: Causes Defined5 | BX4: Active Responsibles | BY4: Responsible defined | BZ4: RPN Before | CA4: Rpn Status B | CB4: RPN Status Before | CC4: RPN After | CD4: Rpn Status A | CE4: RPN Status After | CF4: Active | CG4: Status for dropdown | CI4: Actions | CJ4: Action Status | CL4: Responsible | CM4: Total | CN4: Rank | CO4: Rank-Adj | CQ4: Index | CR4: Responsible | CS4: Total
B5: All | D5: All | F5: All | G5: 1≤RPN≤1000 | H5: =H8 -> 1 | I5: =(RIGHT(G5,LEN(G5)-FIND("≤",G5,FIND("≤",G5)+1)))*1 -> 1000 | K5: All | M5: All | P5: =IFERROR(IF(LEN(INDEX(FMEA!C$7:C$506,Cal!$BD5))=0,"",INDEX(FMEA!C$7:C$506,Cal!$BD5)),"") -> Picking up the product with the handle | Q5: =IFERROR(IF(LEN(INDEX(FMEA!D$7:D$506,Cal!$BD5))=0,"",INDEX(FMEA!D$7:D$506,Cal!$BD5)),"") -> Damage to the product | R5: =IFERROR(IF(LEN(INDEX(FMEA!E$7:E$506,Cal!$BD5))=0,"",INDEX(FMEA!E$7:E$506,Cal!$BD5)),"") -> Joint failure | S5: =IFERROR(IF(LEN(INDEX(FMEA!F$7:F$506,Cal!$BD5))=0,"",INDEX(FMEA!F$7:F$506,Cal!$BD5)),"") -> Damage caused by transportation | T5: =IFERROR(IF(AND(LEN(P5)>0,LEN(Q5)>0,LEN(R5)>0,LEN(S5)>0),IF(LEN(INDEX(FMEA!J$7:J$506,Cal!$BD5))=0,"-",INDEX(FMEA!J$7:J$506,Cal!$BD5)),""),"") -> 105 | U5: =IFERROR(IF(AND(LEN(P5)>0,LEN(Q5)>0,LEN(R5)>0,LEN(S5)>0),IF(LEN(INDEX(FMEA!O$7:O$506,Cal!$BD5))=0,"-",INDEX(FMEA!O$7:O$506,Cal!$BD5)),""),"") -> 70 | V5: =IFERROR(IF(LEN(T5)=0,"",IF(AND(T5>=$H$6,T5<=$I$6),$F$6,IF(AND(T5>=$H$7,T5<=$I$7),$F$7,IF(AND(T5>=$H$8,T5<=$I$8),$F$8,IF(AND(T5>=$H$9,T5<=$I$9),$F$9,"-"))))),"") -> High | W5: =IFERROR(IF(LEN(U5)=0,"",IF(AND(U5>=$H$6,U5<=$I$6),$F$6,IF(AND(U5>=$H$7,U5<=$I$7),$F$7,IF(AND(U5>=$H$8,U5<=$I$8),$F$8,IF(AND(U5>=$H$9,U5<=$I$9),$F$9,"-"))))),"") -> Medium | X5: =IF(LEN(P5)="","",IF(OR(Process="All",Process="",Process=P5),P5,"")) -> Picking up the product with the handle | Y5: =IF(AJ5=1,X5,"") -> Picking up the product with the handle | Z5: =IF(COUNTIF($Y$5:Y5,Y5)=1,Y5,"") -> Picking up the product with the handle | AA5: =IF(LEN(Q5)="","",IF(OR(Mode="All",Mode="",Mode=Q5),Q5,"")) -> Damage to the product | AB5: =IF(AJ5=1,AA5,"") -> Damage to the product | AC5: =IF(COUNTIF($AB$5:AB5,AB5)=1,AB5,"") -> Damage to the product | AD5: =IF(AJ5=1,P5&Q5&R5,"") -> Picking up the product with the handleDamage to the productJoint failure | AE5: =IF(COUNTIF($AD$5:AD5,AD5)=1,AD5,"") -> Picking up the product with the handleDamage to the productJoint failure | AF5: =IF(AJ5=1,P5&Q5&R5&S5,"") -> Picking up the product with the handleDamage to the productJoint failureDamage caused by transportation | AG5: =IF(COUNTIF($AF$5:AF5,AF5)=1,AF5,"") -> Picking up the product with the handleDamage to the productJoint failureDamage caused by transportation | AH5: =IF(LEN(V5)="","",IF(OR(RPNB="All",RPNB="",RPNB=V5),V5,"")) -> High | AI5: =IF(LEN(W5)="","",IF(OR(RPNA="All",RPNA="",RPNA=W5),W5,"")) -> Medium | AJ5: =IF(AND(X5<>"",AA5<>"",AH5<>"",AI5<>""),1,0) -> 1 | AK5: =IF(AND(LEN(P5)>0,COUNTIF($P$5:P5,P5)=1),P5,"") -> Picking up the product with the handle | AL5: =IF(OR(LEN($AK5)=0,COUNTIF($AK$5:AK5,AK5)>1),"",COUNTIF($AK$5:$AK$15,"<"&$AK5)-COUNTBLANK($AK$5:$AK$15)+1) -> 1 | AM5: =IFERROR(INDEX($P$5:$P$504,MATCH(BD5,$AL$5:$AL$504,0)),"") -> Picking up the product with the handle | AN5: =P5&Q5 -> Picking up the product with the handleDamage to the product | AO5: =IF(AND(LEN(AN5)>0,COUNTIF($AN$5:AN5,AN5)=1),AN5,"") -> Picking up the product with the handleDamage to the product | AP5: =IF(OR(LEN($AO5)=0,COUNTIF($AO$5:AO5,AO5)>1),"",COUNTIF($AO$5:$AO$15,"<"&$AO5)-COUNTBLANK($AO$5:$AO$15)+1) -> 1 | AQ5: =IFERROR(INDEX($P$5:$P$504,MATCH(BD5,$AP$5:$AP$504,0)),"") -> Picking up the product with the handle | AR5: =IFERROR(INDEX($Q$5:$Q$504,MATCH(BD5,$AP$5:$AP$504,0)),"") -> Damage to the product | AS5: =P5&Q5&R5 -> Picking up the product with the handleDamage to the productJoint failure | AT5: =IF(AND(LEN(AS5)>0,COUNTIF($AS$5:AS5,AS5)=1),AS5,"") -> Picking up the product with the handleDamage to the productJoint failure | AU5: =IF(OR(LEN($AT5)=0,COUNTIF($AT$5:AT5,AT5)>1),"",COUNTIF($AT$5:$AT$15,"<"&$AT5)-COUNTBLANK($AT$5:$AT$15)+1) -> 1 | AV5: =IFERROR(INDEX($AN$5:$AN$504,MATCH(BD5,$AU$5:$AU$504,0)),"") -> Picking up the product with the handleDamage to the product | AW5: =IFERROR(INDEX($R$5:$R$504,MATCH(BD5,$AU$5:$AU$504,0)),"") -> Joint failure | AX5: =P5&Q5&R5&S5 -> Picking up the product with the handleDamage to the productJoint failureDamage caused by transportation | AY5: =IF(AND(LEN(AX5)>0,COUNTIF($AX$5:AX5,AX5)=1),AX5,"") -> Picking up the product with the handleDamage to the productJoint failureDamage caused by transportation | AZ5: =IF(OR(LEN($AY5)=0,COUNTIF($AY$5:AY5,AY5)>1),"",COUNTIF($AY$5:$AY$15,"<"&$AY5)-COUNTBLANK($AY$5:$AY$15)+1) -> 1 | BA5: =IFERROR(INDEX($AS$5:$AS$504,MATCH(BD5,$AZ$5:$AZ$504,0)),"") -> Picking up the product with the handleDamage to the productJoint failure | BB5: =IFERROR(INDEX($S$5:$S$504,MATCH(BD5,$AZ$5:$AZ$504,0)),"") -> Damage caused by transportation | BD5: 1 | BE5: =IF(LEN(INDEX(ActionList!C$6:C$1005,$BD5,1))=0,"",INDEX(ActionList!C$6:C$1005,$BD5,1)) -> Picking up the product with the handle | BF5: =IF(LEN(INDEX(ActionList!D$6:D$1005,$BD5,1))=0,"",INDEX(ActionList!D$6:D$1005,$BD5,1)) -> Incorrect output of the product from the previous station | BG5: =IF(LEN(INDEX(ActionList!E$6:E$1005,$BD5,1))=0,"",INDEX(ActionList!E$6:E$1005,$BD5,1)) -> Manufacturing defect | BH5: =IF(LEN(INDEX(ActionList!F$6:F$1005,$BD5,1))=0,"",INDEX(ActionList!F$6:F$1005,$BD5,1)) -> Machine-induced anomalies | BI5: =IF(LEN(INDEX(ActionList!G$6:G$1005,BD5,1))=0,"",INDEX(ActionList!G$6:G$1005,BD5,1)) -> Revise Planned Maintenances | BJ5: =IF(LEN(INDEX(ActionList!H$6:H$1005,BD5,1))=0,"",INDEX(ActionList!H$6:H$1005,BD5,1)) -> 3 | BK5: =IF(OR(Responsible=IF(LEN(INDEX(ActionList!I$6:I$1005,BD5,1))=0,"",INDEX(ActionList!I$6:I$1005,BD5,1)),Responsible="",Responsible="All"),IF(LEN(INDEX(ActionList!I$6:I$1005,BD5,1))=0,"",INDEX(ActionList!I$6:I$1005,BD5,1)),"-") -> Jemima Begum | BL5: =IF(LEN(INDEX(ActionList!M$6:M$1005,BD5,1))=0,"",INDEX(ActionList!M$6:M$1005,BD5,1)) -> Finished | BM5: =BE5&BF5&BG5&BH5 -> Picking up the product with the handleIncorrect output of the product from the previous stationManufacturing defectMachine-induced anomalies | BN5: =IF(AND(LEN(BE5)>0,OR(Process="All",Process="",Process=BE5)),BE5,"-") -> Picking up the product with the handle | BO5: =IF(AND(LEN(BF5)>0,OR(Mode="All",Mode="",Mode=BF5)),BF5,"-") -> Incorrect output of the product from the previous station | BP5: =IF(CF5=1,BE5&BF5&BG5,"") -> Picking up the product with the handleIncorrect output of the product from the previous stationManufacturing defect | BQ5: =IF(CF5=1,BE5&BF5&BG5&BH5,"") -> Picking up the product with the handleIncorrect output of the product from the previous stationManufacturing defectMachine-induced anomalies | BR5: =IF(CF5=1,BN5,"") -> Picking up the product with the handle | BS5: =IF(CF5=1,BO5,"") -> Incorrect output of the product from the previous station | BT5: =IF(AND(BR5<>"-",COUNTIF(BR$5:BR5,BR5)=1),1,0)*CF5 -> 1 | BU5: =IF(AND(LEN(BS5)>0,COUNTIF(BS$5:BS5,BS5)=1),1,0)*CF5 -> 1 | BV5: =IF(AND(LEN(BP5)>0,COUNTIF(BP$5:BP5,BP5)=1),1,0) -> 1 | BW5: =IF(AND(LEN(BQ5)>0,COUNTIF(BQ$5:BQ5,BQ5)=1),1,0) -> 1 | BX5: =IF(CF5=1,BK5,"") -> Jemima Begum | BY5: =IF(AND(LEN(BX5)>0,COUNTIF($BX$5:BX5,BX5)=1),1,0) -> 1 | BZ5: =IFERROR(INDEX($T$5:$T$504,MATCH(BM5,$AX$5:$AX$504,0)),"") -> 72 | CA5: =IF(LEN(BE5)=0,"",IF(AND(BZ5>=$H$6,BZ5<=$I$6),$F$6,IF(AND(BZ5>=$H$7,BZ5<=$I$7),$F$7,IF(AND(BZ5>=$H$8,BZ5<=$I$8),$F$8,IF(AND(BZ5>=$H$9,BZ5<=$I$9),$F$9,"-"))))) -> Medium | CB5: =IFERROR(IF(LEN(BZ5)=0,"-",IF(OR(RPNB="All",RPNB="",RPNB=CA5),CA5,"-")),"-") -> Medium | CC5: =IFERROR(INDEX($U$5:$U$504,MATCH(BM5,$AX$5:$AX$504,0)),"") -> 20 | CD5: =IF(LEN(BE5)=0,"",IF(AND(CC5>=$H$6,CC5<=$I$6),$F$6,IF(AND(CC5>=$H$7,CC5<=$I$7),$F$7,IF(AND(CC5>=$H$8,CC5<=$I$8),$F$8,IF(AND(CC5>=$H$9,CC5<=$I$9),$F$9,"-"))))) -> Low | CE5: =IFERROR(IF(LEN(CC5)=0,"",IF(OR(RPNA="All",RPNA="",RPNA=CD5),CD5,"-")),"-") -> Low | CF5: =IFERROR(IF(AND(LEN(BD5)>0,BN5<>"-",BO5<>"-",BK5<>"-",CG5<>"-",CB5<>"-",CE5<>"-",BI5<>""),1,0),0) -> 1 | CG5: =IF(OR(Status="All",Status="",Status=BL5),BL5,"-") -> Finished | CI5: Finished | CJ5: =COUNTIFS($BL$5:$BL$23,CI5,$CF$5:$CF$23,1) -> 8 | CL5: =D6 -> Jemima Begum | CM5: =IF(LEN($CL5)=0,"",COUNTIFS($BK$5:$BK$23,$CL5,$CF$5:$CF$23,1)) -> 2 | CN5: =IF(LEN(CL5)=0,"",RANK(CM5,$CM$5:$CM$17,0)) -> 2 | CO5: =IF(LEN(CL5)=0,"",CN5+COUNTIF($CN$5:CN5,CN5)-1) -> 2 | CQ5: 1 | CR5: =IFERROR(INDEX($CL$5:$CL$17,MATCH(CQ5,$CO$5:$CO$17,0),1),"") -> Alyce Milner | CS5: =IFERROR(INDEX($CM$5:$CM$17,MATCH(CQ5,$CO$5:$CO$17,0),1),"") -> 3
B6: =IF(Settings!C8="","",Settings!C8) -> Picking up the product with the handle | D6: =IF(Settings!E8="","",Settings!E8) -> Jemima Begum | F6: =IF(Settings!G8=""," ",Settings!G8) -> High | G6: =IF(Settings!I8="","",Settings!I8) -> 1000 | H6: =IF(ISNUMBER(G7),G7+1,0+1) -> 101 | I6: =G6 -> 1000 | K6: =IF(Settings!G13="","",Settings!G13) -> 6 | M6: Not Started | P6: =IFERROR(IF(LEN(INDEX(FMEA!C$7:C$506,Cal!$BD6))=0,"",INDEX(FMEA!C$7:C$506,Cal!$BD6)),"") -> Picking up the product with the handle | Q6: =IFERROR(IF(LEN(INDEX(FMEA!D$7:D$506,Cal!$BD6))=0,"",INDEX(FMEA!D$7:D$506,Cal!$BD6)),"") -> Incorrect output of the product from the previous station | R6: =IFERROR(IF(LEN(INDEX(FMEA!E$7:E$506,Cal!$BD6))=0,"",INDEX(FMEA!E$7:E$506,Cal!$BD6)),"") -> Manufacturing defect | S6: =IFERROR(IF(LEN(INDEX(FMEA!F$7:F$506,Cal!$BD6))=0,"",INDEX(FMEA!F$7:F$506,Cal!$BD6)),"") -> Machine-induced anomalies | T6: =IFERROR(IF(AND(LEN(P6)>0,LEN(Q6)>0,LEN(R6)>0,LEN(S6)>0),IF(LEN(INDEX(FMEA!J$7:J$506,Cal!$BD6))=0,"-",INDEX(FMEA!J$7:J$506,Cal!$BD6)),""),"") -> 72 | U6: =IFERROR(IF(AND(LEN(P6)>0,LEN(Q6)>0,LEN(R6)>0,LEN(S6)>0),IF(LEN(INDEX(FMEA!O$7:O$506,Cal!$BD6))=0,"-",INDEX(FMEA!O$7:O$506,Cal!$BD6)),""),"") -> 20 | V6: =IFERROR(IF(LEN(T6)=0,"",IF(AND(T6>=$H$6,T6<=$I$6),$F$6,IF(AND(T6>=$H$7,T6<=$I$7),$F$7,IF(AND(T6>=$H$8,T6<=$I$8),$F$8,IF(AND(T6>=$H$9,T6<=$I$9),$F$9,"-"))))),"") -> Medium | W6: =IFERROR(IF(LEN(U6)=0,"",IF(AND(U6>=$H$6,U6<=$I$6),$F$6,IF(AND(U6>=$H$7,U6<=$I$7),$F$7,IF(AND(U6>=$H$8,U6<=$I$8),$F$8,IF(AND(U6>=$H$9,U6<=$I$9),$F$9,"-"))))),"") -> Low | X6: =IF(LEN(P6)="","",IF(OR(Process="All",Process="",Process=P6),P6,"")) -> Picking up the product with the handle | Y6: =IF(AJ6=1,X6,"") -> Picking up the product with the handle | Z6: =IF(COUNTIF($Y$5:Y6,Y6)=1,Y6,"") | AA6: =IF(LEN(Q6)="","",IF(OR(Mode="All",Mode="",Mode=Q6),Q6,"")) -> Incorrect output of the product from the previous station | AB6: =IF(AJ6=1,AA6,"") -> Incorrect output of the product from the previous station | AC6: =IF(COUNTIF($AB$5:AB6,AB6)=1,AB6,"") -> Incorrect output of the product from the previous station | AD6: =IF(AJ6=1,P6&Q6&R6,"") -> Picking up the product with the handleIncorrect output of the product from the previous stationManufacturing defect | AE6: =IF(COUNTIF($AD$5:AD6,AD6)=1,AD6,"") -> Picking up the product with the handleIncorrect output of the product from the previous stationManufacturing defect | AF6: =IF(AJ6=1,P6&Q6&R6&S6,"") -> Picking up the product with the handleIncorrect output of the product from the previous stationManufacturing defectMachine-induced anomalies | AG6: =IF(COUNTIF($AF$5:AF6,AF6)=1,AF6,"") -> Picking up the product with the handleIncorrect output of the product from the previous stationManufacturing defectMachine-induced anomalies | AH6: =IF(LEN(V6)="","",IF(OR(RPNB="All",RPNB="",RPNB=V6),V6,"")) -> Medium | AI6: =IF(LEN(W6)="","",IF(OR(RPNA="All",RPNA="",RPNA=W6),W6,"")) -> Low | AJ6: =IF(AND(X6<>"",AA6<>"",AH6<>"",AI6<>""),1,0) -> 1 | AK6: =IF(AND(LEN(P6)>0,COUNTIF($P$5:P6,P6)=1),P6,"") | AL6: =IF(OR(LEN($AK6)=0,COUNTIF($AK$5:AK6,AK6)>1),"",COUNTIF($AK$5:$AK$15,"<"&$AK6)-COUNTBLANK($AK$5:$AK$15)+1) | AM6: =IFERROR(INDEX($P$5:$P$504,MATCH(BD6,$AL$5:$AL$504,0)),"") -> Preparation of the product for the next stage | AN6: =P6&Q6 -> Picking up the product with the handleIncorrect output of the product from the previous station | AO6: =IF(AND(LEN(AN6)>0,COUNTIF($AN$5:AN6,AN6)=1),AN6,"") -> Picking up the product with the handleIncorrect output of the product from the previous station | AP6: =IF(OR(LEN($AO6)=0,COUNTIF($AO$5:AO6,AO6)>1),"",COUNTIF($AO$5:$AO$15,"<"&$AO6)-COUNTBLANK($AO$5:$AO$15)+1) -> 3 | AQ6: =IFERROR(INDEX($P$5:$P$504,MATCH(BD6,$AP$5:$AP$504,0)),"") -> Picking up the product with the handle | AR6: =IFERROR(INDEX($Q$5:$Q$504,MATCH(BD6,$AP$5:$AP$504,0)),"") -> Failure of the machine conveyor | AS6: =P6&Q6&R6 -> Picking up the product with the handleIncorrect output of the product from the previous stationManufacturing defect | AT6: =IF(AND(LEN(AS6)>0,COUNTIF($AS$5:AS6,AS6)=1),AS6,"") -> Picking up the product with the handleIncorrect output of the product from the previous stationManufacturing defect | AU6: =IF(OR(LEN($AT6)=0,COUNTIF($AT$5:AT6,AT6)>1),"",COUNTIF($AT$5:$AT$15,"<"&$AT6)-COUNTBLANK($AT$5:$AT$15)+1) -> 3 | AV6: =IFERROR(INDEX($AN$5:$AN$504,MATCH(BD6,$AU$5:$AU$504,0)),"") -> Picking up the product with the handleFailure of the machine conveyor | AW6: =IFERROR(INDEX($R$5:$R$504,MATCH(BD6,$AU$5:$AU$504,0)),"") -> Manufacturing defect | AX6: =P6&Q6&R6&S6 -> Picking up the product with the handleIncorrect output of the product from the previous stationManufacturing defectMachine-induced anomalies | AY6: =IF(AND(LEN(AX6)>0,COUNTIF($AX$5:AX6,AX6)=1),AX6,"") -> Picking up the product with the handleIncorrect output of the product from the previous stationManufacturing defectMachine-induced anomalies | AZ6: =IF(OR(LEN($AY6)=0,COUNTIF($AY$5:AY6,AY6)>1),"",COUNTIF($AY$5:$AY$15,"<"&$AY6)-COUNTBLANK($AY$5:$AY$15)+1) -> 3 | BA6: =IFERROR(INDEX($AS$5:$AS$504,MATCH(BD6,$AZ$5:$AZ$504,0)),"") -> Picking up the product with the handleFailure of the machine conveyorManufacturing defect | BB6: =IFERROR(INDEX($S$5:$S$504,MATCH(BD6,$AZ$5:$AZ$504,0)),"") -> Faults | BD6: 2 | BE6: =IF(LEN(INDEX(ActionList!C$6:C$1005,$BD6,1))=0,"",INDEX(ActionList!C$6:C$1005,$BD6,1)) -> Picking up the product with the handle | BF6: =IF(LEN(INDEX(ActionList!D$6:D$1005,$BD6,1))=0,"",INDEX(ActionList!D$6:D$1005,$BD6,1)) -> Incorrect output of the product from the previous station | BG6: =IF(LEN(INDEX(ActionList!E$6:E$1005,$BD6,1))=0,"",INDEX(ActionList!E$6:E$1005,$BD6,1)) -> Manufacturing defect | BH6: =IF(LEN(INDEX(ActionList!F$6:F$1005,$BD6,1))=0,"",INDEX(ActionList!F$6:F$1005,$BD6,1)) -> Machine-induced anomalies | BI6: =IF(LEN(INDEX(ActionList!G$6:G$1005,BD6,1))=0,"",INDEX(ActionList!G$6:G$1005,BD6,1)) -> Place camera to track the machine condition | BJ6: =IF(LEN(INDEX(ActionList!H$6:H$1005,BD6,1))=0,"",INDEX(ActionList!H$6:H$1005,BD6,1)) -> 4 | BK6: =IF(OR(Responsible=IF(LEN(INDEX(ActionList!I$6:I$1005,BD6,1))=0,"",INDEX(ActionList!I$6:I$1005,BD6,1)),Responsible="",Responsible="All"),IF(LEN(INDEX(ActionList!I$6:I$1005,BD6,1))=0,"",INDEX(ActionList!I$6:I$1005,BD6,1)),"-") -> Jemima Begum | BL6: =IF(LEN(INDEX(ActionList!M$6:M$1005,BD6,1))=0,"",INDEX(ActionList!M$6:M$1005,BD6,1)) -> Overdue | BM6: =BE6&BF6&BG6&BH6 -> Picking up the product with the handleIncorrect output of the product from the previous stationManufacturing defectMachine-induced anomalies | BN6: =IF(AND(LEN(BE6)>0,OR(Process="All",Process="",Process=BE6)),BE6,"-") -> Picking up the product with the handle | BO6: =IF(AND(LEN(BF6)>0,OR(Mode="All",Mode="",Mode=BF6)),BF6,"-") -> Incorrect output of the product from the previous station | BP6: =IF(CF6=1,BE6&BF6&BG6,"") -> Picking up the product with the handleIncorrect output of the product from the previous stationManufacturing defect | BQ6: =IF(CF6=1,BE6&BF6&BG6&BH6,"") -> Picking up the product with the handleIncorrect output of the product from the previous stationManufacturing defectMachine-induced anomalies | BR6: =IF(CF6=1,BN6,"") -> Picking up the product with the handle | BS6: =IF(CF6=1,BO6,"") -> Incorrect output of the product from the previous station | BT6: =IF(AND(BR6<>"-",COUNTIF(BR$5:BR6,BR6)=1),1,0)*CF6 -> 0 | BU6: =IF(AND(LEN(BS6)>0,COUNTIF(BS$5:BS6,BS6)=1),1,0)*CF6 -> 0 | BV6: =IF(AND(LEN(BP6)>0,COUNTIF(BP$5:BP6,BP6)=1),1,0) -> 0 | BW6: =IF(AND(LEN(BQ6)>0,COUNTIF(BQ$5:BQ6,BQ6)=1),1,0) -> 0 | BX6: =IF(CF6=1,BK6,"") -> Jemima Begum | BY6: =IF(AND(LEN(BX6)>0,COUNTIF($BX$5:BX6,BX6)=1),1,0) -> 0 | BZ6: =IFERROR(INDEX($T$5:$T$504,MATCH(BM6,$AX$5:$AX$504,0)),"") -> 72 | CA6: =IF(LEN(BE6)=0,"",IF(AND(BZ6>=$H$6,BZ6<=$I$6),$F$6,IF(AND(BZ6>=$H$7,BZ6<=$I$7),$F$7,IF(AND(BZ6>=$H$8,BZ6<=$I$8),$F$8,IF(AND(BZ6>=$H$9,BZ6<=$I$9),$F$9,"-"))))) -> Medium | CB6: =IFERROR(IF(LEN(BZ6)=0,"-",IF(OR(RPNB="All",RPNB="",RPNB=CA6),CA6,"-")),"-") -> Medium | CC6: =IFERROR(INDEX($U$5:$U$504,MATCH(BM6,$AX$5:$AX$504,0)),"") -> 20 | CD6: =IF(LEN(BE6)=0,"",IF(AND(CC6>=$H$6,CC6<=$I$6),$F$6,IF(AND(CC6>=$H$7,CC6<=$I$7),$F$7,IF(AND(CC6>=$H$8,CC6<=$I$8),$F$8,IF(AND(CC6>=$H$9,CC6<=$I$9),$F$9,"-"))))) -> Low | CE6: =IFERROR(IF(LEN(CC6)=0,"",IF(OR(RPNA="All",RPNA="",RPNA=CD6),CD6,"-")),"-") -> Low | CF6: =IFERROR(IF(AND(LEN(BD6)>0,BN6<>"-",BO6<>"-",BK6<>"-",CG6<>"-",CB6<>"-",CE6<>"-",BI6<>""),1,0),0) -> 1 | CG6: =IF(OR(Status="All",Status="",Status=BL6),BL6,"-") -> Overdue | CI6: In Progress | CJ6: =COUNTIFS($BL$5:$BL$23,CI6,$CF$5:$CF$23,1) -> 2 | CL6: =D7 -> Mercedes Banks | CM6: =IF(LEN($CL6)=0,"",COUNTIFS($BK$5:$BK$23,$CL6,$CF$5:$CF$23,1)) -> 2 | CN6: =IF(LEN(CL6)=0,"",RANK(CM6,$CM$5:$CM$17,0)) -> 2 | CO6: =IF(LEN(CL6)=0,"",CN6+COUNTIF($CN$5:CN6,CN6)-1) -> 3 | CQ6: 2 | CR6: =IFERROR(INDEX($CL$5:$CL$17,MATCH(CQ6,$CO$5:$CO$17,0),1),"") -> Jemima Begum | CS6: =IFERROR(INDEX($CM$5:$CM$17,MATCH(CQ6,$CO$5:$CO$17,0),1),"") -> 2
B7: =IF(Settings!C9="","",Settings!C9) -> Reading the product barcode | D7: =IF(Settings!E9="","",Settings!E9) -> Mercedes Banks | F7: =IF(Settings!G9="","",Settings!G9) -> Medium | G7: =IF(ISNUMBER(Settings!I9),Settings!I9,"-") -> 100 | H7: =IF(ISNUMBER(G8),G8+1,"-") -> 21 | I7: =G7 -> 100 | K7: =IF(Settings!G14="","",Settings!G14) -> 5 | M7: In Progress | P7: =IFERROR(IF(LEN(INDEX(FMEA!C$7:C$506,Cal!$BD7))=0,"",INDEX(FMEA!C$7:C$506,Cal!$BD7)),"") -> Picking up the product with the handle | Q7: =IFERROR(IF(LEN(INDEX(FMEA!D$7:D$506,Cal!$BD7))=0,"",INDEX(FMEA!D$7:D$506,Cal!$BD7)),"") -> Failure of the machine conveyor | R7: =IFERROR(IF(LEN(INDEX(FMEA!E$7:E$506,Cal!$BD7))=0,"",INDEX(FMEA!E$7:E$506,Cal!$BD7)),"") -> Manufacturing defect | S7: =IFERROR(IF(LEN(INDEX(FMEA!F$7:F$506,Cal!$BD7))=0,"",INDEX(FMEA!F$7:F$506,Cal!$BD7)),"") -> Faults | T7: =IFERROR(IF(AND(LEN(P7)>0,LEN(Q7)>0,LEN(R7)>0,LEN(S7)>0),IF(LEN(INDEX(FMEA!J$7:J$506,Cal!$BD7))=0,"-",INDEX(FMEA!J$7:J$506,Cal!$BD7)),""),"") -> 126 | U7: =IFERROR(IF(AND(LEN(P7)>0,LEN(Q7)>0,LEN(R7)>0,LEN(S7)>0),IF(LEN(INDEX(FMEA!O$7:O$506,Cal!$BD7))=0,"-",INDEX(FMEA!O$7:O$506,Cal!$BD7)),""),"") -> 30 | V7: =IFERROR(IF(LEN(T7)=0,"",IF(AND(T7>=$H$6,T7<=$I$6),$F$6,IF(AND(T7>=$H$7,T7<=$I$7),$F$7,IF(AND(T7>=$H$8,T7<=$I$8),$F$8,IF(AND(T7>=$H$9,T7<=$I$9),$F$9,"-"))))),"") -> High | W7: =IFERROR(IF(LEN(U7)=0,"",IF(AND(U7>=$H$6,U7<=$I$6),$F$6,IF(AND(U7>=$H$7,U7<=$I$7),$F$7,IF(AND(U7>=$H$8,U7<=$I$8),$F$8,IF(AND(U7>=$H$9,U7<=$I$9),$F$9,"-"))))),"") -> Medium | X7: =IF(LEN(P7)="","",IF(OR(Process="All",Process="",Process=P7),P7,"")) -> Picking up the product with the handle | Y7: =IF(AJ7=1,X7,"") -> Picking up the product with the handle | Z7: =IF(COUNTIF($Y$5:Y7,Y7)=1,Y7,"") | AA7: =IF(LEN(Q7)="","",IF(OR(Mode="All",Mode="",Mode=Q7),Q7,"")) -> Failure of the machine conveyor | AB7: =IF(AJ7=1,AA7,"") -> Failure of the machine conveyor | AC7: =IF(COUNTIF($AB$5:AB7,AB7)=1,AB7,"") -> Failure of the machine conveyor | AD7: =IF(AJ7=1,P7&Q7&R7,"") -> Picking up the product with the handleFailure of the machine conveyorManufacturing defect | AE7: =IF(COUNTIF($AD$5:AD7,AD7)=1,AD7,"") -> Picking up the product with the handleFailure of the machine conveyorManufacturing defect | AF7: =IF(AJ7=1,P7&Q7&R7&S7,"") -> Picking up the product with the handleFailure of the machine conveyorManufacturing defectFaults | AG7: =IF(COUNTIF($AF$5:AF7,AF7)=1,AF7,"") -> Picking up the product with the handleFailure of the machine conveyorManufacturing defectFaults | AH7: =IF(LEN(V7)="","",IF(OR(RPNB="All",RPNB="",RPNB=V7),V7,"")) -> High | AI7: =IF(LEN(W7)="","",IF(OR(RPNA="All",RPNA="",RPNA=W7),W7,"")) -> Medium | AJ7: =IF(AND(X7<>"",AA7<>"",AH7<>"",AI7<>""),1,0) -> 1 | AK7: =IF(AND(LEN(P7)>0,COUNTIF($P$5:P7,P7)=1),P7,"") | AL7: =IF(OR(LEN($AK7)=0,COUNTIF($AK$5:AK7,AK7)>1),"",COUNTIF($AK$5:$AK$15,"<"&$AK7)-COUNTBLANK($AK$5:$AK$15)+1) | AM7: =IFERROR(INDEX($P$5:$P$504,MATCH(BD7,$AL$5:$AL$504,0)),"") -> Reading the product barcode | AN7: =P7&Q7 -> Picking up the product with the handleFailure of the machine conveyor | AO7: =IF(AND(LEN(AN7)>0,COUNTIF($AN$5:AN7,AN7)=1),AN7,"") -> Picking up the product with the handleFailure of the machine conveyor | AP7: =IF(OR(LEN($AO7)=0,COUNTIF($AO$5:AO7,AO7)>1),"",COUNTIF($AO$5:$AO$15,"<"&$AO7)-COUNTBLANK($AO$5:$AO$15)+1) -> 2 | AQ7: =IFERROR(INDEX($P$5:$P$504,MATCH(BD7,$AP$5:$AP$504,0)),"") -> Picking up the product with the handle | AR7: =IFERROR(INDEX($Q$5:$Q$504,MATCH(BD7,$AP$5:$AP$504,0)),"") -> Incorrect output of the product from the previous station | AS7: =P7&Q7&R7 -> Picking up the product with the handleFailure of the machine conveyorManufacturing defect | AT7: =IF(AND(LEN(AS7)>0,COUNTIF($AS$5:AS7,AS7)=1),AS7,"") -> Picking up the product with the handleFailure of the machine conveyorManufacturing defect | AU7: =IF(OR(LEN($AT7)=0,COUNTIF($AT$5:AT7,AT7)>1),"",COUNTIF($AT$5:$AT$15,"<"&$AT7)-COUNTBLANK($AT$5:$AT$15)+1) -> 2 | AV7: =IFERROR(INDEX($AN$5:$AN$504,MATCH(BD7,$AU$5:$AU$504,0)),"") -> Picking up the product with the handleIncorrect output of the product from the previous station | AW7: =IFERROR(INDEX($R$5:$R$504,MATCH(BD7,$AU$5:$AU$504,0)),"") -> Manufacturing defect | AX7: =P7&Q7&R7&S7 -> Picking up the product with the handleFailure of the machine conveyorManufacturing defectFaults | AY7: =IF(AND(LEN(AX7)>0,COUNTIF($AX$5:AX7,AX7)=1),AX7,"") -> Picking up the product with the handleFailure of the machine conveyorManufacturing defectFaults | AZ7: =IF(OR(LEN($AY7)=0,COUNTIF($AY$5:AY7,AY7)>1),"",COUNTIF($AY$5:$AY$15,"<"&$AY7)-COUNTBLANK($AY$5:$AY$15)+1) -> 2 | BA7: =IFERROR(INDEX($AS$5:$AS$504,MATCH(BD7,$AZ$5:$AZ$504,0)),"") -> Picking up the product with the handleIncorrect output of the product from the previous stationManufacturing defect | BB7: =IFERROR(INDEX($S$5:$S$504,MATCH(BD7,$AZ$5:$AZ$504,0)),"") -> Machine-induced anomalies | BD7: 3 | BE7: =IF(LEN(INDEX(ActionList!C$6:C$1005,$BD7,1))=0,"",INDEX(ActionList!C$6:C$1005,$BD7,1)) -> Picking up the product with the handle | BF7: =IF(LEN(INDEX(ActionList!D$6:D$1005,$BD7,1))=0,"",INDEX(ActionList!D$6:D$1005,$BD7,1)) -> Damage to the product | BG7: =IF(LEN(INDEX(ActionList!E$6:E$1005,$BD7,1))=0,"",INDEX(ActionList!E$6:E$1005,$BD7,1)) -> Joint failure | BH7: =IF(LEN(INDEX(ActionList!F$6:F$1005,$BD7,1))=0,"",INDEX(ActionList!F$6:F$1005,$BD7,1)) -> Damage caused by transportation | BI7: =IF(LEN(INDEX(ActionList!G$6:G$1005,BD7,1))=0,"",INDEX(ActionList!G$6:G$1005,BD7,1)) -> Make visual control on product before production | BJ7: =IF(LEN(INDEX(ActionList!H$6:H$1005,BD7,1))=0,"",INDEX(ActionList!H$6:H$1005,BD7,1)) -> 2 | BK7: =IF(OR(Responsible=IF(LEN(INDEX(ActionList!I$6:I$1005,BD7,1))=0,"",INDEX(ActionList!I$6:I$1005,BD7,1)),Responsible="",Responsible="All"),IF(LEN(INDEX(ActionList!I$6:I$1005,BD7,1))=0,"",INDEX(ActionList!I$6:I$1005,BD7,1)),"-") -> Macauley Peck | BL7: =IF(LEN(INDEX(ActionList!M$6:M$1005,BD7,1))=0,"",INDEX(ActionList!M$6:M$1005,BD7,1)) -> Finished | BM7: =BE7&BF7&BG7&BH7 -> Picking up the product with the handleDamage to the productJoint failureDamage caused by transportation | BN7: =IF(AND(LEN(BE7)>0,OR(Process="All",Process="",Process=BE7)),BE7,"-") -> Picking up the product with the handle | BO7: =IF(AND(LEN(BF7)>0,OR(Mode="All",Mode="",Mode=BF7)),BF7,"-") -> Damage to the product | BP7: =IF(CF7=1,BE7&BF7&BG7,"") -> Picking up the product with the handleDamage to the productJoint failure | BQ7: =IF(CF7=1,BE7&BF7&BG7&BH7,"") -> Picking up the product with the handleDamage to the productJoint failureDamage caused by transportation | BR7: =IF(CF7=1,BN7,"") -> Picking up the product with the handle | BS7: =IF(CF7=1,BO7,"") -> Damage to the product | BT7: =IF(AND(BR7<>"-",COUNTIF(BR$5:BR7,BR7)=1),1,0)*CF7 -> 0 | BU7: =IF(AND(LEN(BS7)>0,COUNTIF(BS$5:BS7,BS7)=1),1,0)*CF7 -> 1 | BV7: =IF(AND(LEN(BP7)>0,COUNTIF(BP$5:BP7,BP7)=1),1,0) -> 1 | BW7: =IF(AND(LEN(BQ7)>0,COUNTIF(BQ$5:BQ7,BQ7)=1),1,0) -> 1 | BX7: =IF(CF7=1,BK7,"") -> Macauley Peck | BY7: =IF(AND(LEN(BX7)>0,COUNTIF($BX$5:BX7,BX7)=1),1,0) -> 1 | BZ7: =IFERROR(INDEX($T$5:$T$504,MATCH(BM7,$AX$5:$AX$504,0)),"") -> 105 | CA7: =IF(LEN(BE7)=0,"",IF(AND(BZ7>=$H$6,BZ7<=$I$6),$F$6,IF(AND(BZ7>=$H$7,BZ7<=$I$7),$F$7,IF(AND(BZ7>=$H$8,BZ7<=$I$8),$F$8,IF(AND(BZ7>=$H$9,BZ7<=$I$9),$F$9,"-"))))) -> High | CB7: =IFERROR(IF(LEN(BZ7)=0,"-",IF(OR(RPNB="All",RPNB="",RPNB=CA7),CA7,"-")),"-") -> High | CC7: =IFERROR(INDEX($U$5:$U$504,MATCH(BM7,$AX$5:$AX$504,0)),"") -> 70 | CD7: =IF(LEN(BE7)=0,"",IF(AND(CC7>=$H$6,CC7<=$I$6),$F$6,IF(AND(CC7>=$H$7,CC7<=$I$7),$F$7,IF(AND(CC7>=$H$8,CC7<=$I$8),$F$8,IF(AND(CC7>=$H$9,CC7<=$I$9),$F$9,"-"))))) -> Medium | CE7: =IFERROR(IF(LEN(CC7)=0,"",IF(OR(RPNA="All",RPNA="",RPNA=CD7),CD7,"-")),"-") -> Medium | CF7: =IFERROR(IF(AND(LEN(BD7)>0,BN7<>"-",BO7<>"-",BK7<>"-",CG7<>"-",CB7<>"-",CE7<>"-",BI7<>""),1,0),0) -> 1 | CG7: =IF(OR(Status="All",Status="",Status=BL7),BL7,"-") -> Finished | CI7: Not Started | CJ7: =COUNTIFS($BL$5:$BL$23,CI7,$CF$5:$CF$23,1) -> 1 | CL7: =D8 -> Macauley Peck | CM7: =IF(LEN($CL7)=0,"",COUNTIFS($BK$5:$BK$23,$CL7,$CF$5:$CF$23,1)) -> 2 | CN7: =IF(LEN(CL7)=0,"",RANK(CM7,$CM$5:$CM$17,0)) -> 2 | CO7: =IF(LEN(CL7)=0,"",CN7+COUNTIF($CN$5:CN7,CN7)-1) -> 4 | CQ7: 3 | CR7: =IFERROR(INDEX($CL$5:$CL$17,MATCH(CQ7,$CO$5:$CO$17,0),1),"") -> Mercedes Banks | CS7: =IFERROR(INDEX($CM$5:$CM$17,MATCH(CQ7,$CO$5:$CO$17,0),1),"") -> 2
B8: =IF(Settings!C10="","",Settings!C10) -> Preparation of the product for the next stage | D8: =IF(Settings!E10="","",Settings!E10) -> Macauley Peck | F8: =IF(Settings!G10="","",Settings!G10) -> Low | G8: =IF(ISNUMBER(Settings!I10),Settings!I10,"-") -> 20 | H8: 1 | I8: =G8 -> 20 | K8: =IF(Settings!G15="","",Settings!G15) -> 4 | M8: Finished | P8: =IFERROR(IF(LEN(INDEX(FMEA!C$7:C$506,Cal!$BD8))=0,"",INDEX(FMEA!C$7:C$506,Cal!$BD8)),"") -> Reading the product barcode | Q8: =IFERROR(IF(LEN(INDEX(FMEA!D$7:D$506,Cal!$BD8))=0,"",INDEX(FMEA!D$7:D$506,Cal!$BD8)),"") -> Software not working | R8: =IFERROR(IF(LEN(INDEX(FMEA!E$7:E$506,Cal!$BD8))=0,"",INDEX(FMEA!E$7:E$506,Cal!$BD8)),"") -> Sending wrong product to the customer | S8: =IFERROR(IF(LEN(INDEX(FMEA!F$7:F$506,Cal!$BD8))=0,"",INDEX(FMEA!F$7:F$506,Cal!$BD8)),"") -> Computer malfunction | T8: =IFERROR(IF(AND(LEN(P8)>0,LEN(Q8)>0,LEN(R8)>0,LEN(S8)>0),IF(LEN(INDEX(FMEA!J$7:J$506,Cal!$BD8))=0,"-",INDEX(FMEA!J$7:J$506,Cal!$BD8)),""),"") -> 48 | U8: =IFERROR(IF(AND(LEN(P8)>0,LEN(Q8)>0,LEN(R8)>0,LEN(S8)>0),IF(LEN(INDEX(FMEA!O$7:O$506,Cal!$BD8))=0,"-",INDEX(FMEA!O$7:O$506,Cal!$BD8)),""),"") -> 24 | V8: =IFERROR(IF(LEN(T8)=0,"",IF(AND(T8>=$H$6,T8<=$I$6),$F$6,IF(AND(T8>=$H$7,T8<=$I$7),$F$7,IF(AND(T8>=$H$8,T8<=$I$8),$F$8,IF(AND(T8>=$H$9,T8<=$I$9),$F$9,"-"))))),"") -> Medium | W8: =IFERROR(IF(LEN(U8)=0,"",IF(AND(U8>=$H$6,U8<=$I$6),$F$6,IF(AND(U8>=$H$7,U8<=$I$7),$F$7,IF(AND(U8>=$H$8,U8<=$I$8),$F$8,IF(AND(U8>=$H$9,U8<=$I$9),$F$9,"-"))))),"") -> Medium | X8: =IF(LEN(P8)="","",IF(OR(Process="All",Process="",Process=P8),P8,"")) -> Reading the product barcode | Y8: =IF(AJ8=1,X8,"") -> Reading the product barcode | Z8: =IF(COUNTIF($Y$5:Y8,Y8)=1,Y8,"") -> Reading the product barcode | AA8: =IF(LEN(Q8)="","",IF(OR(Mode="All",Mode="",Mode=Q8),Q8,"")) -> Software not working | AB8: =IF(AJ8=1,AA8,"") -> Software not working | AC8: =IF(COUNTIF($AB$5:AB8,AB8)=1,AB8,"") -> Software not working | AD8: =IF(AJ8=1,P8&Q8&R8,"") -> Reading the product barcodeSoftware not workingSending wrong product to the customer | AE8: =IF(COUNTIF($AD$5:AD8,AD8)=1,AD8,"") -> Reading the product barcodeSoftware not workingSending wrong product to the customer | AF8: =IF(AJ8=1,P8&Q8&R8&S8,"") -> Reading the product barcodeSoftware not workingSending wrong product to the customerComputer malfunction | AG8: =IF(COUNTIF($AF$5:AF8,AF8)=1,AF8,"") -> Reading the product barcodeSoftware not workingSending wrong product to the customerComputer malfunction | AH8: =IF(LEN(V8)="","",IF(OR(RPNB="All",RPNB="",RPNB=V8),V8,"")) -> Medium | AI8: =IF(LEN(W8)="","",IF(OR(RPNA="All",RPNA="",RPNA=W8),W8,"")) -> Medium | AJ8: =IF(AND(X8<>"",AA8<>"",AH8<>"",AI8<>""),1,0) -> 1 | AK8: =IF(AND(LEN(P8)>0,COUNTIF($P$5:P8,P8)=1),P8,"") -> Reading the product barcode | AL8: =IF(OR(LEN($AK8)=0,COUNTIF($AK$5:AK8,AK8)>1),"",COUNTIF($AK$5:$AK$15,"<"&$AK8)-COUNTBLANK($AK$5:$AK$15)+1) -> 3 | AM8: =IFERROR(INDEX($P$5:$P$504,MATCH(BD8,$AL$5:$AL$504,0)),"") -> Removal of the product from the machine as a finished product | AN8: =P8&Q8 -> Reading the product barcodeSoftware not working | AO8: =IF(AND(LEN(AN8)>0,COUNTIF($AN$5:AN8,AN8)=1),AN8,"") -> Reading the product barcodeSoftware not working | AP8: =IF(OR(LEN($AO8)=0,COUNTIF($AO$5:AO8,AO8)>1),"",COUNTIF($AO$5:$AO$15,"<"&$AO8)-COUNTBLANK($AO$5:$AO$15)+1) -> 8 | AQ8: =IFERROR(INDEX($P$5:$P$504,MATCH(BD8,$AP$5:$AP$504,0)),"") -> Preparation of the product for the next stage | AR8: =IFERROR(INDEX($Q$5:$Q$504,MATCH(BD8,$AP$5:$AP$504,0)),"") -> Incorrect preparation by the operator | AS8: =P8&Q8&R8 -> Reading the product barcodeSoftware not workingSending wrong product to the customer | AT8: =IF(AND(LEN(AS8)>0,COUNTIF($AS$5:AS8,AS8)=1),AS8,"") -> Reading the product barcodeSoftware not workingSending wrong product to the customer | AU8: =IF(OR(LEN($AT8)=0,COUNTIF($AT$5:AT8,AT8)>1),"",COUNTIF($AT$5:$AT$15,"<"&$AT8)-COUNTBLANK($AT$5:$AT$15)+1) -> 8 | AV8: =IFERROR(INDEX($AN$5:$AN$504,MATCH(BD8,$AU$5:$AU$504,0)),"") -> Preparation of the product for the next stageIncorrect preparation by the operator | AW8: =IFERROR(INDEX($R$5:$R$504,MATCH(BD8,$AU$5:$AU$504,0)),"") -> Failure of the process | AX8: =P8&Q8&R8&S8 -> Reading the product barcodeSoftware not workingSending wrong product to the customerComputer malfunction | AY8: =IF(AND(LEN(AX8)>0,COUNTIF($AX$5:AX8,AX8)=1),AX8,"") -> Reading the product barcodeSoftware not workingSending wrong product to the customerComputer malfunction | AZ8: =IF(OR(LEN($AY8)=0,COUNTIF($AY$5:AY8,AY8)>1),"",COUNTIF($AY$5:$AY$15,"<"&$AY8)-COUNTBLANK($AY$5:$AY$15)+1) -> 8 | BA8: =IFERROR(INDEX($AS$5:$AS$504,MATCH(BD8,$AZ$5:$AZ$504,0)),"") -> Preparation of the product for the next stageIncorrect preparation by the operatorFailure of the process | BB8: =IFERROR(INDEX($S$5:$S$504,MATCH(BD8,$AZ$5:$AZ$504,0)),"") -> Operational error | BD8: 4 | BE8: =IF(LEN(INDEX(ActionList!C$6:C$1005,$BD8,1))=0,"",INDEX(ActionList!C$6:C$1005,$BD8,1)) -> Picking up the product with the handle | BF8: =IF(LEN(INDEX(ActionList!D$6:D$1005,$BD8,1))=0,"",INDEX(ActionList!D$6:D$1005,$BD8,1)) -> Incorrect output of the product from the previous station | BG8: =IF(LEN(INDEX(ActionList!E$6:E$1005,$BD8,1))=0,"",INDEX(ActionList!E$6:E$1005,$BD8,1)) -> Manufacturing defect | BH8: =IF(LEN(INDEX(ActionList!F$6:F$1005,$BD8,1))=0,"",INDEX(ActionList!F$6:F$1005,$BD8,1)) -> Machine-induced anomalies | BI8: =IF(LEN(INDEX(ActionList!G$6:G$1005,BD8,1))=0,"",INDEX(ActionList!G$6:G$1005,BD8,1)) -> Gathering real-time data to see production condition | BJ8: =IF(LEN(INDEX(ActionList!H$6:H$1005,BD8,1))=0,"",INDEX(ActionList!H$6:H$1005,BD8,1)) -> 2 | BK8: =IF(OR(Responsible=IF(LEN(INDEX(ActionList!I$6:I$1005,BD8,1))=0,"",INDEX(ActionList!I$6:I$1005,BD8,1)),Responsible="",Responsible="All"),IF(LEN(INDEX(ActionList!I$6:I$1005,BD8,1))=0,"",INDEX(ActionList!I$6:I$1005,BD8,1)),"-") -> Isobelle Hurley | BL8: =IF(LEN(INDEX(ActionList!M$6:M$1005,BD8,1))=0,"",INDEX(ActionList!M$6:M$1005,BD8,1)) -> Overdue | BM8: =BE8&BF8&BG8&BH8 -> Picking up the product with the handleIncorrect output of the product from the previous stationManufacturing defectMachine-induced anomalies | BN8: =IF(AND(LEN(BE8)>0,OR(Process="All",Process="",Process=BE8)),BE8,"-") -> Picking up the product with the handle | BO8: =IF(AND(LEN(BF8)>0,OR(Mode="All",Mode="",Mode=BF8)),BF8,"-") -> Incorrect output of the product from the previous station | BP8: =IF(CF8=1,BE8&BF8&BG8,"") -> Picking up the product with the handleIncorrect output of the product from the previous stationManufacturing defect | BQ8: =IF(CF8=1,BE8&BF8&BG8&BH8,"") -> Picking up the product with the handleIncorrect output of the product from the previous stationManufacturing defectMachine-induced anomalies | BR8: =IF(CF8=1,BN8,"") -> Picking up the product with the handle | BS8: =IF(CF8=1,BO8,"") -> Incorrect output of the product from the previous station | BT8: =IF(AND(BR8<>"-",COUNTIF(BR$5:BR8,BR8)=1),1,0)*CF8 -> 0 | BU8: =IF(AND(LEN(BS8)>0,COUNTIF(BS$5:BS8,BS8)=1),1,0)*CF8 -> 0 | BV8: =IF(AND(LEN(BP8)>0,COUNTIF(BP$5:BP8,BP8)=1),1,0) -> 0 | BW8: =IF(AND(LEN(BQ8)>0,COUNTIF(BQ$5:BQ8,BQ8)=1),1,0) -> 0 | BX8: =IF(CF8=1,BK8,"") -> Isobelle Hurley | BY8: =IF(AND(LEN(BX8)>0,COUNTIF($BX$5:BX8,BX8)=1),1,0) -> 1 | BZ8: =IFERROR(INDEX($T$5:$T$504,MATCH(BM8,$AX$5:$AX$504,0)),"") -> 72 | CA8: =IF(LEN(BE8)=0,"",IF(AND(BZ8>=$H$6,BZ8<=$I$6),$F$6,IF(AND(BZ8>=$H$7,BZ8<=$I$7),$F$7,IF(AND(BZ8>=$H$8,BZ8<=$I$8),$F$8,IF(AND(BZ8>=$H$9,BZ8<=$I$9),$F$9,"-"))))) -> Medium | CB8: =IFERROR(IF(LEN(BZ8)=0,"-",IF(OR(RPNB="All",RPNB="",RPNB=CA8),CA8,"-")),"-") -> Medium | CC8: =IFERROR(INDEX($U$5:$U$504,MATCH(BM8,$AX$5:$AX$504,0)),"") -> 20 | CD8: =IF(LEN(BE8)=0,"",IF(AND(CC8>=$H$6,CC8<=$I$6),$F$6,IF(AND(CC8>=$H$7,CC8<=$I$7),$F$7,IF(AND(CC8>=$H$8,CC8<=$I$8),$F$8,IF(AND(CC8>=$H$9,CC8<=$I$9),$F$9,"-"))))) -> Low | CE8: =IFERROR(IF(LEN(CC8)=0,"",IF(OR(RPNA="All",RPNA="",RPNA=CD8),CD8,"-")),"-") -> Low | CF8: =IFERROR(IF(AND(LEN(BD8)>0,BN8<>"-",BO8<>"-",BK8<>"-",CG8<>"-",CB8<>"-",CE8<>"-",BI8<>""),1,0),0) -> 1 | CG8: =IF(OR(Status="All",Status="",Status=BL8),BL8,"-") -> Overdue | CI8: Overdue | CJ8: =COUNTIFS($BL$5:$BL$23,CI8,$CF$5:$CF$23,1) -> 4 | CL8: =D9 -> Hannah Shaw | CM8: =IF(LEN($CL8)=0,"",COUNTIFS($BK$5:$BK$23,$CL8,$CF$5:$CF$23,1)) -> 1 | CN8: =IF(LEN(CL8)=0,"",RANK(CM8,$CM$5:$CM$17,0)) -> 5 | CO8: =IF(LEN(CL8)=0,"",CN8+COUNTIF($CN$5:CN8,CN8)-1) -> 5 | CQ8: 4 | CR8: =IFERROR(INDEX($CL$5:$CL$17,MATCH(CQ8,$CO$5:$CO$17,0),1),"") -> Macauley Peck | CS8: =IFERROR(INDEX($CM$5:$CM$17,MATCH(CQ8,$CO$5:$CO$17,0),1),"") -> 2
B9: =IF(Settings!C11="","",Settings!C11) -> Placing the next raw material in the station | D9: =IF(Settings!E11="","",Settings!E11) -> Hannah Shaw | F9: Not Assigned | K9: =IF(Settings!G16="","",Settings!G16) -> 3 | M9: Overdue | P9: =IFERROR(IF(LEN(INDEX(FMEA!C$7:C$506,Cal!$BD9))=0,"",INDEX(FMEA!C$7:C$506,Cal!$BD9)),"") -> Reading the product barcode | Q9: =IFERROR(IF(LEN(INDEX(FMEA!D$7:D$506,Cal!$BD9))=0,"",INDEX(FMEA!D$7:D$506,Cal!$BD9)),"") -> Reading the wrong barcode | R9: =IFERROR(IF(LEN(INDEX(FMEA!E$7:E$506,Cal!$BD9))=0,"",INDEX(FMEA!E$7:E$506,Cal!$BD9)),"") -> Sending wrong product to the customer | S9: =IFERROR(IF(LEN(INDEX(FMEA!F$7:F$506,Cal!$BD9))=0,"",INDEX(FMEA!F$7:F$506,Cal!$BD9)),"") -> Collecting tags | T9: =IFERROR(IF(AND(LEN(P9)>0,LEN(Q9)>0,LEN(R9)>0,LEN(S9)>0),IF(LEN(INDEX(FMEA!J$7:J$506,Cal!$BD9))=0,"-",INDEX(FMEA!J$7:J$506,Cal!$BD9)),""),"") -> 63 | U9: =IFERROR(IF(AND(LEN(P9)>0,LEN(Q9)>0,LEN(R9)>0,LEN(S9)>0),IF(LEN(INDEX(FMEA!O$7:O$506,Cal!$BD9))=0,"-",INDEX(FMEA!O$7:O$506,Cal!$BD9)),""),"") -> 28 | V9: =IFERROR(IF(LEN(T9)=0,"",IF(AND(T9>=$H$6,T9<=$I$6),$F$6,IF(AND(T9>=$H$7,T9<=$I$7),$F$7,IF(AND(T9>=$H$8,T9<=$I$8),$F$8,IF(AND(T9>=$H$9,T9<=$I$9),$F$9,"-"))))),"") -> Medium | W9: =IFERROR(IF(LEN(U9)=0,"",IF(AND(U9>=$H$6,U9<=$I$6),$F$6,IF(AND(U9>=$H$7,U9<=$I$7),$F$7,IF(AND(U9>=$H$8,U9<=$I$8),$F$8,IF(AND(U9>=$H$9,U9<=$I$9),$F$9,"-"))))),"") -> Medium | X9: =IF(LEN(P9)="","",IF(OR(Process="All",Process="",Process=P9),P9,"")) -> Reading the product barcode | Y9: =IF(AJ9=1,X9,"") -> Reading the product barcode | Z9: =IF(COUNTIF($Y$5:Y9,Y9)=1,Y9,"") | AA9: =IF(LEN(Q9)="","",IF(OR(Mode="All",Mode="",Mode=Q9),Q9,"")) -> Reading the wrong barcode | AB9: =IF(AJ9=1,AA9,"") -> Reading the wrong barcode | AC9: =IF(COUNTIF($AB$5:AB9,AB9)=1,AB9,"") -> Reading the wrong barcode | AD9: =IF(AJ9=1,P9&Q9&R9,"") -> Reading the product barcodeReading the wrong barcodeSending wrong product to the customer | AE9: =IF(COUNTIF($AD$5:AD9,AD9)=1,AD9,"") -> Reading the product barcodeReading the wrong barcodeSending wrong product to the customer | AF9: =IF(AJ9=1,P9&Q9&R9&S9,"") -> Reading the product barcodeReading the wrong barcodeSending wrong product to the customerCollecting tags | AG9: =IF(COUNTIF($AF$5:AF9,AF9)=1,AF9,"") -> Reading the product barcodeReading the wrong barcodeSending wrong product to the customerCollecting tags | AH9: =IF(LEN(V9)="","",IF(OR(RPNB="All",RPNB="",RPNB=V9),V9,"")) -> Medium | AI9: =IF(LEN(W9)="","",IF(OR(RPNA="All",RPNA="",RPNA=W9),W9,"")) -> Medium | AJ9: =IF(AND(X9<>"",AA9<>"",AH9<>"",AI9<>""),1,0) -> 1 | AK9: =IF(AND(LEN(P9)>0,COUNTIF($P$5:P9,P9)=1),P9,"") | AL9: =IF(OR(LEN($AK9)=0,COUNTIF($AK$5:AK9,AK9)>1),"",COUNTIF($AK$5:$AK$15,"<"&$AK9)-COUNTBLANK($AK$5:$AK$15)+1) | AM9: =IFERROR(INDEX($P$5:$P$504,MATCH(BD9,$AL$5:$AL$504,0)),"") | AN9: =P9&Q9 -> Reading the product barcodeReading the wrong barcode | AO9: =IF(AND(LEN(AN9)>0,COUNTIF($AN$5:AN9,AN9)=1),AN9,"") -> Reading the product barcodeReading the wrong barcode | AP9: =IF(OR(LEN($AO9)=0,COUNTIF($AO$5:AO9,AO9)>1),"",COUNTIF($AO$5:$AO$15,"<"&$AO9)-COUNTBLANK($AO$5:$AO$15)+1) -> 7 | AQ9: =IFERROR(INDEX($P$5:$P$504,MATCH(BD9,$AP$5:$AP$504,0)),"") -> Preparation of the product for the next stage | AR9: =IFERROR(INDEX($Q$5:$Q$504,MATCH(BD9,$AP$5:$AP$504,0)),"") -> Malfunction in process | AS9: =P9&Q9&R9 -> Reading the product barcodeReading the wrong barcodeSending wrong product to the customer | AT9: =IF(AND(LEN(AS9)>0,COUNTIF($AS$5:AS9,AS9)=1),AS9,"") -> Reading the product barcodeReading the wrong barcodeSending wrong product to the customer | AU9: =IF(OR(LEN($AT9)=0,COUNTIF($AT$5:AT9,AT9)>1),"",COUNTIF($AT$5:$AT$15,"<"&$AT9)-COUNTBLANK($AT$5:$AT$15)+1) -> 7 | AV9: =IFERROR(INDEX($AN$5:$AN$504,MATCH(BD9,$AU$5:$AU$504,0)),"") -> Preparation of the product for the next stageMalfunction in process | AW9: =IFERROR(INDEX($R$5:$R$504,MATCH(BD9,$AU$5:$AU$504,0)),"") -> Failure of production | AX9: =P9&Q9&R9&S9 -> Reading the product barcodeReading the wrong barcodeSending wrong product to the customerCollecting tags | AY9: =IF(AND(LEN(AX9)>0,COUNTIF($AX$5:AX9,AX9)=1),AX9,"") -> Reading the product barcodeReading the wrong barcodeSending wrong product to the customerCollecting tags | AZ9: =IF(OR(LEN($AY9)=0,COUNTIF($AY$5:AY9,AY9)>1),"",COUNTIF($AY$5:$AY$15,"<"&$AY9)-COUNTBLANK($AY$5:$AY$15)+1) -> 7 | BA9: =IFERROR(INDEX($AS$5:$AS$504,MATCH(BD9,$AZ$5:$AZ$504,0)),"") -> Preparation of the product for the next stageMalfunction in processFailure of production | BB9: =IFERROR(INDEX($S$5:$S$504,MATCH(BD9,$AZ$5:$AZ$504,0)),"") -> Mechanical/electrical fault in the machine | BD9: 5 | BE9: =IF(LEN(INDEX(ActionList!C$6:C$1005,$BD9,1))=0,"",INDEX(ActionList!C$6:C$1005,$BD9,1)) -> Picking up the product with the handle | BF9: =IF(LEN(INDEX(ActionList!D$6:D$1005,$BD9,1))=0,"",INDEX(ActionList!D$6:D$1005,$BD9,1)) -> Failure of the machine conveyor | BG9: =IF(LEN(INDEX(ActionList!E$6:E$1005,$BD9,1))=0,"",INDEX(ActionList!E$6:E$1005,$BD9,1)) -> Manufacturing defect | BH9: =IF(LEN(INDEX(ActionList!F$6:F$1005,$BD9,1))=0,"",INDEX(ActionList!F$6:F$1005,$BD9,1)) -> Faults | BI9: =IF(LEN(INDEX(ActionList!G$6:G$1005,BD9,1))=0,"",INDEX(ActionList!G$6:G$1005,BD9,1)) -> make the machine emergency stop | BJ9: =IF(LEN(INDEX(ActionList!H$6:H$1005,BD9,1))=0,"",INDEX(ActionList!H$6:H$1005,BD9,1)) -> 4 | BK9: =IF(OR(Responsible=IF(LEN(INDEX(ActionList!I$6:I$1005,BD9,1))=0,"",INDEX(ActionList!I$6:I$1005,BD9,1)),Responsible="",Responsible="All"),IF(LEN(INDEX(ActionList!I$6:I$1005,BD9,1))=0,"",INDEX(ActionList!I$6:I$1005,BD9,1)),"-") -> Mercedes Banks | BL9: =IF(LEN(INDEX(ActionList!M$6:M$1005,BD9,1))=0,"",INDEX(ActionList!M$6:M$1005,BD9,1)) -> In Progress | BM9: =BE9&BF9&BG9&BH9 -> Picking up the product with the handleFailure of the machine conveyorManufacturing defectFaults | BN9: =IF(AND(LEN(BE9)>0,OR(Process="All",Process="",Process=BE9)),BE9,"-") -> Picking up the product with the handle | BO9: =IF(AND(LEN(BF9)>0,OR(Mode="All",Mode="",Mode=BF9)),BF9,"-") -> Failure of the machine conveyor | BP9: =IF(CF9=1,BE9&BF9&BG9,"") -> Picking up the product with the handleFailure of the machine conveyorManufacturing defect | BQ9: =IF(CF9=1,BE9&BF9&BG9&BH9,"") -> Picking up the product with the handleFailure of the machine conveyorManufacturing defectFaults | BR9: =IF(CF9=1,BN9,"") -> Picking up the product with the handle | BS9: =IF(CF9=1,BO9,"") -> Failure of the machine conveyor | BT9: =IF(AND(BR9<>"-",COUNTIF(BR$5:BR9,BR9)=1),1,0)*CF9 -> 0 | BU9: =IF(AND(LEN(BS9)>0,COUNTIF(BS$5:BS9,BS9)=1),1,0)*CF9 -> 1 | BV9: =IF(AND(LEN(BP9)>0,COUNTIF(BP$5:BP9,BP9)=1),1,0) -> 1 | BW9: =IF(AND(LEN(BQ9)>0,COUNTIF(BQ$5:BQ9,BQ9)=1),1,0) -> 1 | BX9: =IF(CF9=1,BK9,"") -> Mercedes Banks | BY9: =IF(AND(LEN(BX9)>0,COUNTIF($BX$5:BX9,BX9)=1),1,0) -> 1 | BZ9: =IFERROR(INDEX($T$5:$T$504,MATCH(BM9,$AX$5:$AX$504,0)),"") -> 126 | CA9: =IF(LEN(BE9)=0,"",IF(AND(BZ9>=$H$6,BZ9<=$I$6),$F$6,IF(AND(BZ9>=$H$7,BZ9<=$I$7),$F$7,IF(AND(BZ9>=$H$8,BZ9<=$I$8),$F$8,IF(AND(BZ9>=$H$9,BZ9<=$I$9),$F$9,"-"))))) -> High | CB9: =IFERROR(IF(LEN(BZ9)=0,"-",IF(OR(RPNB="All",RPNB="",RPNB=CA9),CA9,"-")),"-") -> High | CC9: =IFERROR(INDEX($U$5:$U$504,MATCH(BM9,$AX$5:$AX$504,0)),"") -> 30 | CD9: =IF(LEN(BE9)=0,"",IF(AND(CC9>=$H$6,CC9<=$I$6),$F$6,IF(AND(CC9>=$H$7,CC9<=$I$7),$F$7,IF(AND(CC9>=$H$8,CC9<=$I$8),$F$8,IF(AND(CC9>=$H$9,CC9<=$I$9),$F$9,"-"))))) -> Medium | CE9: =IFERROR(IF(LEN(CC9)=0,"",IF(OR(RPNA="All",RPNA="",RPNA=CD9),CD9,"-")),"-") -> Medium | CF9: =IFERROR(IF(AND(LEN(BD9)>0,BN9<>"-",BO9<>"-",BK9<>"-",CG9<>"-",CB9<>"-",CE9<>"-",BI9<>""),1,0),0) -> 1 | CG9: =IF(OR(Status="All",Status="",Status=BL9),BL9,"-") -> In Progress | CL9: =D10 -> Brad Pitt | CM9: =IF(LEN($CL9)=0,"",COUNTIFS($BK$5:$BK$23,$CL9,$CF$5:$CF$23,1)) -> 1 | CN9: =IF(LEN(CL9)=0,"",RANK(CM9,$CM$5:$CM$17,0)) -> 5 | CO9: =IF(LEN(CL9)=0,"",CN9+COUNTIF($CN$5:CN9,CN9)-1) -> 6 | CQ9: 5 | CR9: =IFERROR(INDEX($CL$5:$CL$17,MATCH(CQ9,$CO$5:$CO$17,0),1),"") -> Hannah Shaw | CS9: =IFERROR(INDEX($CM$5:$CM$17,MATCH(CQ9,$CO$5:$CO$17,0),1),"") -> 1
B10: =IF(Settings!C12="","",Settings!C12) -> Removal of the product from the machine as a finished product | D10: =IF(Settings!E12="","",Settings!E12) -> Brad Pitt | K10: =IF(Settings!G17="","",Settings!G17) -> 2 | P10: =IFERROR(IF(LEN(INDEX(FMEA!C$7:C$506,Cal!$BD10))=0,"",INDEX(FMEA!C$7:C$506,Cal!$BD10)),"") -> Preparation of the product for the next stage | Q10: =IFERROR(IF(LEN(INDEX(FMEA!D$7:D$506,Cal!$BD10))=0,"",INDEX(FMEA!D$7:D$506,Cal!$BD10)),"") -> Incorrect preparation by the operator | R10: =IFERROR(IF(LEN(INDEX(FMEA!E$7:E$506,Cal!$BD10))=0,"",INDEX(FMEA!E$7:E$506,Cal!$BD10)),"") -> Failure of the process | S10: =IFERROR(IF(LEN(INDEX(FMEA!F$7:F$506,Cal!$BD10))=0,"",INDEX(FMEA!F$7:F$506,Cal!$BD10)),"") -> Operational error | T10: =IFERROR(IF(AND(LEN(P10)>0,LEN(Q10)>0,LEN(R10)>0,LEN(S10)>0),IF(LEN(INDEX(FMEA!J$7:J$506,Cal!$BD10))=0,"-",INDEX(FMEA!J$7:J$506,Cal!$BD10)),""),"") -> 32 | U10: =IFERROR(IF(AND(LEN(P10)>0,LEN(Q10)>0,LEN(R10)>0,LEN(S10)>0),IF(LEN(INDEX(FMEA!O$7:O$506,Cal!$BD10))=0,"-",INDEX(FMEA!O$7:O$506,Cal!$BD10)),""),"") -> 16 | V10: =IFERROR(IF(LEN(T10)=0,"",IF(AND(T10>=$H$6,T10<=$I$6),$F$6,IF(AND(T10>=$H$7,T10<=$I$7),$F$7,IF(AND(T10>=$H$8,T10<=$I$8),$F$8,IF(AND(T10>=$H$9,T10<=$I$9),$F$9,"-"))))),"") -> Medium | W10: =IFERROR(IF(LEN(U10)=0,"",IF(AND(U10>=$H$6,U10<=$I$6),$F$6,IF(AND(U10>=$H$7,U10<=$I$7),$F$7,IF(AND(U10>=$H$8,U10<=$I$8),$F$8,IF(AND(U10>=$H$9,U10<=$I$9),$F$9,"-"))))),"") -> Low | X10: =IF(LEN(P10)="","",IF(OR(Process="All",Process="",Process=P10),P10,"")) -> Preparation of the product for the next stage | Y10: =IF(AJ10=1,X10,"") -> Preparation of the product for the next stage | Z10: =IF(COUNTIF($Y$5:Y10,Y10)=1,Y10,"") -> Preparation of the product for the next stage | AA10: =IF(LEN(Q10)="","",IF(OR(Mode="All",Mode="",Mode=Q10),Q10,"")) -> Incorrect preparation by the operator | AB10: =IF(AJ10=1,AA10,"") -> Incorrect preparation by the operator | AC10: =IF(COUNTIF($AB$5:AB10,AB10)=1,AB10,"") -> Incorrect preparation by the operator | AD10: =IF(AJ10=1,P10&Q10&R10,"") -> Preparation of the product for the next stageIncorrect preparation by the operatorFailure of the process | AE10: =IF(COUNTIF($AD$5:AD10,AD10)=1,AD10,"") -> Preparation of the product for the next stageIncorrect preparation by the operatorFailure of the process | AF10: =IF(AJ10=1,P10&Q10&R10&S10,"") -> Preparation of the product for the next stageIncorrect preparation by the operatorFailure of the processOperational error | AG10: =IF(COUNTIF($AF$5:AF10,AF10)=1,AF10,"") -> Preparation of the product for the next stageIncorrect preparation by the operatorFailure of the processOperational error | AH10: =IF(LEN(V10)="","",IF(OR(RPNB="All",RPNB="",RPNB=V10),V10,"")) -> Medium | AI10: =IF(LEN(W10)="","",IF(OR(RPNA="All",RPNA="",RPNA=W10),W10,"")) -> Low | AJ10: =IF(AND(X10<>"",AA10<>"",AH10<>"",AI10<>""),1,0) -> 1 | AK10: =IF(AND(LEN(P10)>0,COUNTIF($P$5:P10,P10)=1),P10,"") -> Preparation of the product for the next stage | AL10: =IF(OR(LEN($AK10)=0,COUNTIF($AK$5:AK10,AK10)>1),"",COUNTIF($AK$5:$AK$15,"<"&$AK10)-COUNTBLANK($AK$5:$AK$15)+1) -> 2 | AM10: =IFERROR(INDEX($P$5:$P$504,MATCH(BD10,$AL$5:$AL$504,0)),"") | AN10: =P10&Q10 -> Preparation of the product for the next stageIncorrect preparation by the operator | AO10: =IF(AND(LEN(AN10)>0,COUNTIF($AN$5:AN10,AN10)=1),AN10,"") -> Preparation of the product for the next stageIncorrect preparation by the operator | AP10: =IF(OR(LEN($AO10)=0,COUNTIF($AO$5:AO10,AO10)>1),"",COUNTIF($AO$5:$AO$15,"<"&$AO10)-COUNTBLANK($AO$5:$AO$15)+1) -> 4 | AQ10: =IFERROR(INDEX($P$5:$P$504,MATCH(BD10,$AP$5:$AP$504,0)),"") -> Preparation of the product for the next stage | AR10: =IFERROR(INDEX($Q$5:$Q$504,MATCH(BD10,$AP$5:$AP$504,0)),"") -> Sensors are dirty | AS10: =P10&Q10&R10 -> Preparation of the product for the next stageIncorrect preparation by the operatorFailure of the process | AT10: =IF(AND(LEN(AS10)>0,COUNTIF($AS$5:AS10,AS10)=1),AS10,"") -> Preparation of the product for the next stageIncorrect preparation by the operatorFailure of the process | AU10: =IF(OR(LEN($AT10)=0,COUNTIF($AT$5:AT10,AT10)>1),"",COUNTIF($AT$5:$AT$15,"<"&$AT10)-COUNTBLANK($AT$5:$AT$15)+1) -> 4 | AV10: =IFERROR(INDEX($AN$5:$AN$504,MATCH(BD10,$AU$5:$AU$504,0)),"") -> Preparation of the product for the next stageSensors are dirty | AW10: =IFERROR(INDEX($R$5:$R$504,MATCH(BD10,$AU$5:$AU$504,0)),"") -> Failure of the process | AX10: =P10&Q10&R10&S10 -> Preparation of the product for the next stageIncorrect preparation by the operatorFailure of the processOperational error | AY10: =IF(AND(LEN(AX10)>0,COUNTIF($AX$5:AX10,AX10)=1),AX10,"") -> Preparation of the product for the next stageIncorrect preparation by the operatorFailure of the processOperational error | AZ10: =IF(OR(LEN($AY10)=0,COUNTIF($AY$5:AY10,AY10)>1),"",COUNTIF($AY$5:$AY$15,"<"&$AY10)-COUNTBLANK($AY$5:$AY$15)+1) -> 4 | BA10: =IFERROR(INDEX($AS$5:$AS$504,MATCH(BD10,$AZ$5:$AZ$504,0)),"") -> Preparation of the product for the next stageSensors are dirtyFailure of the process | BB10: =IFERROR(INDEX($S$5:$S$504,MATCH(BD10,$AZ$5:$AZ$504,0)),"") -> Dirtiness | BD10: 6 | BE10: =IF(LEN(INDEX(ActionList!C$6:C$1005,$BD10,1))=0,"",INDEX(ActionList!C$6:C$1005,$BD10,1)) -> Picking up the product with the handle | BF10: =IF(LEN(INDEX(ActionList!D$6:D$1005,$BD10,1))=0,"",INDEX(ActionList!D$6:D$1005,$BD10,1)) -> Failure of the machine conveyor | BG10: =IF(LEN(INDEX(ActionList!E$6:E$1005,$BD10,1))=0,"",INDEX(ActionList!E$6:E$1005,$BD10,1)) -> Manufacturing defect | BH10: =IF(LEN(INDEX(ActionList!F$6:F$1005,$BD10,1))=0,"",INDEX(ActionList!F$6:F$1005,$BD10,1)) -> Faults | BI10: =IF(LEN(INDEX(ActionList!G$6:G$1005,BD10,1))=0,"",INDEX(ActionList!G$6:G$1005,BD10,1)) -> Standard checks on machine before running | BJ10: =IF(LEN(INDEX(ActionList!H$6:H$1005,BD10,1))=0,"",INDEX(ActionList!H$6:H$1005,BD10,1)) -> 3 | BK10: =IF(OR(Responsible=IF(LEN(INDEX(ActionList!I$6:I$1005,BD10,1))=0,"",INDEX(ActionList!I$6:I$1005,BD10,1)),Responsible="",Responsible="All"),IF(LEN(INDEX(ActionList!I$6:I$1005,BD10,1))=0,"",INDEX(ActionList!I$6:I$1005,BD10,1)),"-") -> Macauley Peck | BL10: =IF(LEN(INDEX(ActionList!M$6:M$1005,BD10,1))=0,"",INDEX(ActionList!M$6:M$1005,BD10,1)) -> Finished | BM10: =BE10&BF10&BG10&BH10 -> Picking up the product with the handleFailure of the machine conveyorManufacturing defectFaults | BN10: =IF(AND(LEN(BE10)>0,OR(Process="All",Process="",Process=BE10)),BE10,"-") -> Picking up the product with the handle | BO10: =IF(AND(LEN(BF10)>0,OR(Mode="All",Mode="",Mode=BF10)),BF10,"-") -> Failure of the machine conveyor | BP10: =IF(CF10=1,BE10&BF10&BG10,"") -> Picking up the product with the handleFailure of the machine conveyorManufacturing defect | BQ10: =IF(CF10=1,BE10&BF10&BG10&BH10,"") -> Picking up the product with the handleFailure of the machine conveyorManufacturing defectFaults | BR10: =IF(CF10=1,BN10,"") -> Picking up the product with the handle | BS10: =IF(CF10=1,BO10,"") -> Failure of the machine conveyor | BT10: =IF(AND(BR10<>"-",COUNTIF(BR$5:BR10,BR10)=1),1,0)*CF10 -> 0 | BU10: =IF(AND(LEN(BS10)>0,COUNTIF(BS$5:BS10,BS10)=1),1,0)*CF10 -> 0 | BV10: =IF(AND(LEN(BP10)>0,COUNTIF(BP$5:BP10,BP10)=1),1,0) -> 0 | BW10: =IF(AND(LEN(BQ10)>0,COUNTIF(BQ$5:BQ10,BQ10)=1),1,0) -> 0 | BX10: =IF(CF10=1,BK10,"") -> Macauley Peck | BY10: =IF(AND(LEN(BX10)>0,COUNTIF($BX$5:BX10,BX10)=1),1,0) -> 0 | BZ10: =IFERROR(INDEX($T$5:$T$504,MATCH(BM10,$AX$5:$AX$504,0)),"") -> 126 | CA10: =IF(LEN(BE10)=0,"",IF(AND(BZ10>=$H$6,BZ10<=$I$6),$F$6,IF(AND(BZ10>=$H$7,BZ10<=$I$7),$F$7,IF(AND(BZ10>=$H$8,BZ10<=$I$8),$F$8,IF(AND(BZ10>=$H$9,BZ10<=$I$9),$F$9,"-"))))) -> High | CB10: =IFERROR(IF(LEN(BZ10)=0,"-",IF(OR(RPNB="All",RPNB="",RPNB=CA10),CA10,"-")),"-") -> High | CC10: =IFERROR(INDEX($U$5:$U$504,MATCH(BM10,$AX$5:$AX$504,0)),"") -> 30 | CD10: =IF(LEN(BE10)=0,"",IF(AND(CC10>=$H$6,CC10<=$I$6),$F$6,IF(AND(CC10>=$H$7,CC10<=$I$7),$F$7,IF(AND(CC10>=$H$8,CC10<=$I$8),$F$8,IF(AND(CC10>=$H$9,CC10<=$I$9),$F$9,"-"))))) -> Medium | CE10: =IFERROR(IF(LEN(CC10)=0,"",IF(OR(RPNA="All",RPNA="",RPNA=CD10),CD10,"-")),"-") -> Medium | CF10: =IFERROR(IF(AND(LEN(BD10)>0,BN10<>"-",BO10<>"-",BK10<>"-",CG10<>"-",CB10<>"-",CE10<>"-",BI10<>""),1,0),0) -> 1 | CG10: =IF(OR(Status="All",Status="",Status=BL10),BL10,"-") -> Finished | CI10: CML | CJ10: Actions | CL10: =D11 -> Sarah-Jayne Morrison | CM10: =IF(LEN($CL10)=0,"",COUNTIFS($BK$5:$BK$23,$CL10,$CF$5:$CF$23,1)) -> 1 | CN10: =IF(LEN(CL10)=0,"",RANK(CM10,$CM$5:$CM$17,0)) -> 5 | CO10: =IF(LEN(CL10)=0,"",CN10+COUNTIF($CN$5:CN10,CN10)-1) -> 7 | CQ10: 6 | CR10: =IFERROR(INDEX($CL$5:$CL$17,MATCH(CQ10,$CO$5:$CO$17,0),1),"") -> Brad Pitt | CS10: =IFERROR(INDEX($CM$5:$CM$17,MATCH(CQ10,$CO$5:$CO$17,0),1),"") -> 1
B11: =IF(Settings!C13="","",Settings!C13) | D11: =IF(Settings!E13="","",Settings!E13) -> Sarah-Jayne Morrison | K11: =IF(Settings!G18="","",Settings!G18) -> 1 | M11: Dropdown for Start and Finish | P11: =IFERROR(IF(LEN(INDEX(FMEA!C$7:C$506,Cal!$BD11))=0,"",INDEX(FMEA!C$7:C$506,Cal!$BD11)),"") -> Preparation of the product for the next stage | Q11: =IFERROR(IF(LEN(INDEX(FMEA!D$7:D$506,Cal!$BD11))=0,"",INDEX(FMEA!D$7:D$506,Cal!$BD11)),"") -> Sensors are dirty | R11: =IFERROR(IF(LEN(INDEX(FMEA!E$7:E$506,Cal!$BD11))=0,"",INDEX(FMEA!E$7:E$506,Cal!$BD11)),"") -> Failure of the process | S11: =IFERROR(IF(LEN(INDEX(FMEA!F$7:F$506,Cal!$BD11))=0,"",INDEX(FMEA!F$7:F$506,Cal!$BD11)),"") -> Dirtiness | T11: =IFERROR(IF(AND(LEN(P11)>0,LEN(Q11)>0,LEN(R11)>0,LEN(S11)>0),IF(LEN(INDEX(FMEA!J$7:J$506,Cal!$BD11))=0,"-",INDEX(FMEA!J$7:J$506,Cal!$BD11)),""),"") -> 120 | U11: =IFERROR(IF(AND(LEN(P11)>0,LEN(Q11)>0,LEN(R11)>0,LEN(S11)>0),IF(LEN(INDEX(FMEA!O$7:O$506,Cal!$BD11))=0,"-",INDEX(FMEA!O$7:O$506,Cal!$BD11)),""),"") -> 40 | V11: =IFERROR(IF(LEN(T11)=0,"",IF(AND(T11>=$H$6,T11<=$I$6),$F$6,IF(AND(T11>=$H$7,T11<=$I$7),$F$7,IF(AND(T11>=$H$8,T11<=$I$8),$F$8,IF(AND(T11>=$H$9,T11<=$I$9),$F$9,"-"))))),"") -> High | W11: =IFERROR(IF(LEN(U11)=0,"",IF(AND(U11>=$H$6,U11<=$I$6),$F$6,IF(AND(U11>=$H$7,U11<=$I$7),$F$7,IF(AND(U11>=$H$8,U11<=$I$8),$F$8,IF(AND(U11>=$H$9,U11<=$I$9),$F$9,"-"))))),"") -> Medium | X11: =IF(LEN(P11)="","",IF(OR(Process="All",Process="",Process=P11),P11,"")) -> Preparation of the product for the next stage | Y11: =IF(AJ11=1,X11,"") -> Preparation of the product for the next stage | Z11: =IF(COUNTIF($Y$5:Y11,Y11)=1,Y11,"") | AA11: =IF(LEN(Q11)="","",IF(OR(Mode="All",Mode="",Mode=Q11),Q11,"")) -> Sensors are dirty | AB11: =IF(AJ11=1,AA11,"") -> Sensors are dirty | AC11: =IF(COUNTIF($AB$5:AB11,AB11)=1,AB11,"") -> Sensors are dirty | AD11: =IF(AJ11=1,P11&Q11&R11,"") -> Preparation of the product for the next stageSensors are dirtyFailure of the process | AE11: =IF(COUNTIF($AD$5:AD11,AD11)=1,AD11,"") -> Preparation of the product for the next stageSensors are dirtyFailure of the process | AF11: =IF(AJ11=1,P11&Q11&R11&S11,"") -> Preparation of the product for the next stageSensors are dirtyFailure of the processDirtiness | AG11: =IF(COUNTIF($AF$5:AF11,AF11)=1,AF11,"") -> Preparation of the product for the next stageSensors are dirtyFailure of the processDirtiness | AH11: =IF(LEN(V11)="","",IF(OR(RPNB="All",RPNB="",RPNB=V11),V11,"")) -> High | AI11: =IF(LEN(W11)="","",IF(OR(RPNA="All",RPNA="",RPNA=W11),W11,"")) -> Medium | AJ11: =IF(AND(X11<>"",AA11<>"",AH11<>"",AI11<>""),1,0) -> 1 | AK11: =IF(AND(LEN(P11)>0,COUNTIF($P$5:P11,P11)=1),P11,"") | AL11: =IF(OR(LEN($AK11)=0,COUNTIF($AK$5:AK11,AK11)>1),"",COUNTIF($AK$5:$AK$15,"<"&$AK11)-COUNTBLANK($AK$5:$AK$15)+1) | AM11: =IFERROR(INDEX($P$5:$P$504,MATCH(BD11,$AL$5:$AL$504,0)),"") | AN11: =P11&Q11 -> Preparation of the product for the next stageSensors are dirty | AO11: =IF(AND(LEN(AN11)>0,COUNTIF($AN$5:AN11,AN11)=1),AN11,"") -> Preparation of the product for the next stageSensors are dirty | AP11: =IF(OR(LEN($AO11)=0,COUNTIF($AO$5:AO11,AO11)>1),"",COUNTIF($AO$5:$AO$15,"<"&$AO11)-COUNTBLANK($AO$5:$AO$15)+1) -> 6 | AQ11: =IFERROR(INDEX($P$5:$P$504,MATCH(BD11,$AP$5:$AP$504,0)),"") -> Reading the product barcode | AR11: =IFERROR(INDEX($Q$5:$Q$504,MATCH(BD11,$AP$5:$AP$504,0)),"") -> Reading the wrong barcode | AS11: =P11&Q11&R11 -> Preparation of the product for the next stageSensors are dirtyFailure of the process | AT11: =IF(AND(LEN(AS11)>0,COUNTIF($AS$5:AS11,AS11)=1),AS11,"") -> Preparation of the product for the next stageSensors are dirtyFailure of the process | AU11: =IF(OR(LEN($AT11)=0,COUNTIF($AT$5:AT11,AT11)>1),"",COUNTIF($AT$5:$AT$15,"<"&$AT11)-COUNTBLANK($AT$5:$AT$15)+1) -> 6 | AV11: =IFERROR(INDEX($AN$5:$AN$504,MATCH(BD11,$AU$5:$AU$504,0)),"") -> Reading the product barcodeReading the wrong barcode | AW11: =IFERROR(INDEX($R$5:$R$504,MATCH(BD11,$AU$5:$AU$504,0)),"") -> Sending wrong product to the customer | AX11: =P11&Q11&R11&S11 -> Preparation of the product for the next stageSensors are dirtyFailure of the processDirtiness | AY11: =IF(AND(LEN(AX11)>0,COUNTIF($AX$5:AX11,AX11)=1),AX11,"") -> Preparation of the product for the next stageSensors are dirtyFailure of the processDirtiness | AZ11: =IF(OR(LEN($AY11)=0,COUNTIF($AY$5:AY11,AY11)>1),"",COUNTIF($AY$5:$AY$15,"<"&$AY11)-COUNTBLANK($AY$5:$AY$15)+1) -> 6 | BA11: =IFERROR(INDEX($AS$5:$AS$504,MATCH(BD11,$AZ$5:$AZ$504,0)),"") -> Reading the product barcodeReading the wrong barcodeSending wrong product to the customer | BB11: =IFERROR(INDEX($S$5:$S$504,MATCH(BD11,$AZ$5:$AZ$504,0)),"") -> Collecting tags | BD11: 7 | BE11: =IF(LEN(INDEX(ActionList!C$6:C$1005,$BD11,1))=0,"",INDEX(ActionList!C$6:C$1005,$BD11,1)) -> Removal of the product from the machine as a finished product | BF11: =IF(LEN(INDEX(ActionList!D$6:D$1005,$BD11,1))=0,"",INDEX(ActionList!D$6:D$1005,$BD11,1)) -> Banding the product without sufficient stretching | BG11: =IF(LEN(INDEX(ActionList!E$6:E$1005,$BD11,1))=0,"",INDEX(ActionList!E$6:E$1005,$BD11,1)) -> Trace formation on the product after barrier systems | BH11: =IF(LEN(INDEX(ActionList!F$6:F$1005,$BD11,1))=0,"",INDEX(ActionList!F$6:F$1005,$BD11,1)) -> Not using the taping tool | BI11: =IF(LEN(INDEX(ActionList!G$6:G$1005,BD11,1))=0,"",INDEX(ActionList!G$6:G$1005,BD11,1)) -> revision of the taping tool so that it can be used on all products | BJ11: =IF(LEN(INDEX(ActionList!H$6:H$1005,BD11,1))=0,"",INDEX(ActionList!H$6:H$1005,BD11,1)) -> 5 | BK11: =IF(OR(Responsible=IF(LEN(INDEX(ActionList!I$6:I$1005,BD11,1))=0,"",INDEX(ActionList!I$6:I$1005,BD11,1)),Responsible="",Responsible="All"),IF(LEN(INDEX(ActionList!I$6:I$1005,BD11,1))=0,"",INDEX(ActionList!I$6:I$1005,BD11,1)),"-") -> Brad Pitt | BL11: =IF(LEN(INDEX(ActionList!M$6:M$1005,BD11,1))=0,"",INDEX(ActionList!M$6:M$1005,BD11,1)) -> Overdue | BM11: =BE11&BF11&BG11&BH11 -> Removal of the product from the machine as a finished productBanding the product without sufficient stretchingTrace formation on the product after barrier systemsNot using the taping tool | BN11: =IF(AND(LEN(BE11)>0,OR(Process="All",Process="",Process=BE11)),BE11,"-") -> Removal of the product from the machine as a finished product | BO11: =IF(AND(LEN(BF11)>0,OR(Mode="All",Mode="",Mode=BF11)),BF11,"-") -> Banding the product without sufficient stretching | BP11: =IF(CF11=1,BE11&BF11&BG11,"") -> Removal of the product from the machine as a finished productBanding the product without sufficient stretchingTrace formation on the product after barrier systems | BQ11: =IF(CF11=1,BE11&BF11&BG11&BH11,"") -> Removal of the product from the machine as a finished productBanding the product without sufficient stretchingTrace formation on the product after barrier systemsNot using the taping tool | BR11: =IF(CF11=1,BN11,"") -> Removal of the product from the machine as a finished product | BS11: =IF(CF11=1,BO11,"") -> Banding the product without sufficient stretching | BT11: =IF(AND(BR11<>"-",COUNTIF(BR$5:BR11,BR11)=1),1,0)*CF11 -> 1 | BU11: =IF(AND(LEN(BS11)>0,COUNTIF(BS$5:BS11,BS11)=1),1,0)*CF11 -> 1 | BV11: =IF(AND(LEN(BP11)>0,COUNTIF(BP$5:BP11,BP11)=1),1,0) -> 1 | BW11: =IF(AND(LEN(BQ11)>0,COUNTIF(BQ$5:BQ11,BQ11)=1),1,0) -> 1 | BX11: =IF(CF11=1,BK11,"") -> Brad Pitt | BY11: =IF(AND(LEN(BX11)>0,COUNTIF($BX$5:BX11,BX11)=1),1,0) -> 1 | BZ11: =IFERROR(INDEX($T$5:$T$504,MATCH(BM11,$AX$5:$AX$504,0)),"") -> 72 | CA11: =IF(LEN(BE11)=0,"",IF(AND(BZ11>=$H$6,BZ11<=$I$6),$F$6,IF(AND(BZ11>=$H$7,BZ11<=$I$7),$F$7,IF(AND(BZ11>=$H$8,BZ11<=$I$8),$F$8,IF(AND(BZ11>=$H$9,BZ11<=$I$9),$F$9,"-"))))) -> Medium | CB11: =IFERROR(IF(LEN(BZ11)=0,"-",IF(OR(RPNB="All",RPNB="",RPNB=CA11),CA11,"-")),"-") -> Medium | CC11: =IFERROR(INDEX($U$5:$U$504,MATCH(BM11,$AX$5:$AX$504,0)),"") -> 18 | CD11: =IF(LEN(BE11)=0,"",IF(AND(CC11>=$H$6,CC11<=$I$6),$F$6,IF(AND(CC11>=$H$7,CC11<=$I$7),$F$7,IF(AND(CC11>=$H$8,CC11<=$I$8),$F$8,IF(AND(CC11>=$H$9,CC11<=$I$9),$F$9,"-"))))) -> Low | CE11: =IFERROR(IF(LEN(CC11)=0,"",IF(OR(RPNA="All",RPNA="",RPNA=CD11),CD11,"-")),"-") -> Low | CF11: =IFERROR(IF(AND(LEN(BD11)>0,BN11<>"-",BO11<>"-",BK11<>"-",CG11<>"-",CB11<>"-",CE11<>"-",BI11<>""),1,0),0) -> 1 | CG11: =IF(OR(Status="All",Status="",Status=BL11),BL11,"-") -> Overdue | CI11: =K6 -> 6 | CJ11: =COUNTIFS($BJ$5:$BJ$23,CI11,$CF$5:$CF$23,1) -> 0 | CL11: =D12 -> Alyce Milner | CM11: =IF(LEN($CL11)=0,"",COUNTIFS($BK$5:$BK$23,$CL11,$CF$5:$CF$23,1)) -> 3 | CN11: =IF(LEN(CL11)=0,"",RANK(CM11,$CM$5:$CM$17,0)) -> 1 | CO11: =IF(LEN(CL11)=0,"",CN11+COUNTIF($CN$5:CN11,CN11)-1) -> 1 | CQ11: 7 | CR11: =IFERROR(INDEX($CL$5:$CL$17,MATCH(CQ11,$CO$5:$CO$17,0),1),"") -> Sarah-Jayne Morrison | CS11: =IFERROR(INDEX($CM$5:$CM$17,MATCH(CQ11,$CO$5:$CO$17,0),1),"") -> 1
B12: =IF(Settings!C14="","",Settings!C14) | D12: =IF(Settings!E14="","",Settings!E14) -> Alyce Milner | P12: =IFERROR(IF(LEN(INDEX(FMEA!C$7:C$506,Cal!$BD12))=0,"",INDEX(FMEA!C$7:C$506,Cal!$BD12)),"") -> Preparation of the product for the next stage | Q12: =IFERROR(IF(LEN(INDEX(FMEA!D$7:D$506,Cal!$BD12))=0,"",INDEX(FMEA!D$7:D$506,Cal!$BD12)),"") -> Malfunction in process | R12: =IFERROR(IF(LEN(INDEX(FMEA!E$7:E$506,Cal!$BD12))=0,"",INDEX(FMEA!E$7:E$506,Cal!$BD12)),"") -> Failure of production | S12: =IFERROR(IF(LEN(INDEX(FMEA!F$7:F$506,Cal!$BD12))=0,"",INDEX(FMEA!F$7:F$506,Cal!$BD12)),"") -> Mechanical/electrical fault in the machine | T12: =IFERROR(IF(AND(LEN(P12)>0,LEN(Q12)>0,LEN(R12)>0,LEN(S12)>0),IF(LEN(INDEX(FMEA!J$7:J$506,Cal!$BD12))=0,"-",INDEX(FMEA!J$7:J$506,Cal!$BD12)),""),"") -> 24 | U12: =IFERROR(IF(AND(LEN(P12)>0,LEN(Q12)>0,LEN(R12)>0,LEN(S12)>0),IF(LEN(INDEX(FMEA!O$7:O$506,Cal!$BD12))=0,"-",INDEX(FMEA!O$7:O$506,Cal!$BD12)),""),"") -> 18 | V12: =IFERROR(IF(LEN(T12)=0,"",IF(AND(T12>=$H$6,T12<=$I$6),$F$6,IF(AND(T12>=$H$7,T12<=$I$7),$F$7,IF(AND(T12>=$H$8,T12<=$I$8),$F$8,IF(AND(T12>=$H$9,T12<=$I$9),$F$9,"-"))))),"") -> Medium | W12: =IFERROR(IF(LEN(U12)=0,"",IF(AND(U12>=$H$6,U12<=$I$6),$F$6,IF(AND(U12>=$H$7,U12<=$I$7),$F$7,IF(AND(U12>=$H$8,U12<=$I$8),$F$8,IF(AND(U12>=$H$9,U12<=$I$9),$F$9,"-"))))),"") -> Low | X12: =IF(LEN(P12)="","",IF(OR(Process="All",Process="",Process=P12),P12,"")) -> Preparation of the product for the next stage | Y12: =IF(AJ12=1,X12,"") -> Preparation of the product for the next stage | Z12: =IF(COUNTIF($Y$5:Y12,Y12)=1,Y12,"") | AA12: =IF(LEN(Q12)="","",IF(OR(Mode="All",Mode="",Mode=Q12),Q12,"")) -> Malfunction in process | AB12: =IF(AJ12=1,AA12,"") -> Malfunction in process | AC12: =IF(COUNTIF($AB$5:AB12,AB12)=1,AB12,"") -> Malfunction in process | AD12: =IF(AJ12=1,P12&Q12&R12,"") -> Preparation of the product for the next stageMalfunction in processFailure of production | AE12: =IF(COUNTIF($AD$5:AD12,AD12)=1,AD12,"") -> Preparation of the product for the next stageMalfunction in processFailure of production | AF12: =IF(AJ12=1,P12&Q12&R12&S12,"") -> Preparation of the product for the next stageMalfunction in processFailure of productionMechanical/electrical fault in the machine | AG12: =IF(COUNTIF($AF$5:AF12,AF12)=1,AF12,"") -> Preparation of the product for the next stageMalfunction in processFailure of productionMechanical/electrical fault in the machine | AH12: =IF(LEN(V12)="","",IF(OR(RPNB="All",RPNB="",RPNB=V12),V12,"")) -> Medium | AI12: =IF(LEN(W12)="","",IF(OR(RPNA="All",RPNA="",RPNA=W12),W12,"")) -> Low | AJ12: =IF(AND(X12<>"",AA12<>"",AH12<>"",AI12<>""),1,0) -> 1 | AK12: =IF(AND(LEN(P12)>0,COUNTIF($P$5:P12,P12)=1),P12,"") | AL12: =IF(OR(LEN($AK12)=0,COUNTIF($AK$5:AK12,AK12)>1),"",COUNTIF($AK$5:$AK$15,"<"&$AK12)-COUNTBLANK($AK$5:$AK$15)+1) | AM12: =IFERROR(INDEX($P$5:$P$504,MATCH(BD12,$AL$5:$AL$504,0)),"") | AN12: =P12&Q12 -> Preparation of the product for the next stageMalfunction in process | AO12: =IF(AND(LEN(AN12)>0,COUNTIF($AN$5:AN12,AN12)=1),AN12,"") -> Preparation of the product for the next stageMalfunction in process | AP12: =IF(OR(LEN($AO12)=0,COUNTIF($AO$5:AO12,AO12)>1),"",COUNTIF($AO$5:$AO$15,"<"&$AO12)-COUNTBLANK($AO$5:$AO$15)+1) -> 5 | AQ12: =IFERROR(INDEX($P$5:$P$504,MATCH(BD12,$AP$5:$AP$504,0)),"") -> Reading the product barcode | AR12: =IFERROR(INDEX($Q$5:$Q$504,MATCH(BD12,$AP$5:$AP$504,0)),"") -> Software not working | AS12: =P12&Q12&R12 -> Preparation of the product for the next stageMalfunction in processFailure of production | AT12: =IF(AND(LEN(AS12)>0,COUNTIF($AS$5:AS12,AS12)=1),AS12,"") -> Preparation of the product for the next stageMalfunction in processFailure of production | AU12: =IF(OR(LEN($AT12)=0,COUNTIF($AT$5:AT12,AT12)>1),"",COUNTIF($AT$5:$AT$15,"<"&$AT12)-COUNTBLANK($AT$5:$AT$15)+1) -> 5 | AV12: =IFERROR(INDEX($AN$5:$AN$504,MATCH(BD12,$AU$5:$AU$504,0)),"") -> Reading the product barcodeSoftware not working | AW12: =IFERROR(INDEX($R$5:$R$504,MATCH(BD12,$AU$5:$AU$504,0)),"") -> Sending wrong product to the customer | AX12: =P12&Q12&R12&S12 -> Preparation of the product for the next stageMalfunction in processFailure of productionMechanical/electrical fault in the machine | AY12: =IF(AND(LEN(AX12)>0,COUNTIF($AX$5:AX12,AX12)=1),AX12,"") -> Preparation of the product for the next stageMalfunction in processFailure of productionMechanical/electrical fault in the machine | AZ12: =IF(OR(LEN($AY12)=0,COUNTIF($AY$5:AY12,AY12)>1),"",COUNTIF($AY$5:$AY$15,"<"&$AY12)-COUNTBLANK($AY$5:$AY$15)+1) -> 5 | BA12: =IFERROR(INDEX($AS$5:$AS$504,MATCH(BD12,$AZ$5:$AZ$504,0)),"") -> Reading the product barcodeSoftware not workingSending wrong product to the customer | BB12: =IFERROR(INDEX($S$5:$S$504,MATCH(BD12,$AZ$5:$AZ$504,0)),"") -> Computer malfunction | BD12: 8 | BE12: =IF(LEN(INDEX(ActionList!C$6:C$1005,$BD12,1))=0,"",INDEX(ActionList!C$6:C$1005,$BD12,1)) -> Reading the product barcode | BF12: =IF(LEN(INDEX(ActionList!D$6:D$1005,$BD12,1))=0,"",INDEX(ActionList!D$6:D$1005,$BD12,1)) -> Reading the wrong barcode | BG12: =IF(LEN(INDEX(ActionList!E$6:E$1005,$BD12,1))=0,"",INDEX(ActionList!E$6:E$1005,$BD12,1)) -> Sending wrong product to the customer | BH12: =IF(LEN(INDEX(ActionList!F$6:F$1005,$BD12,1))=0,"",INDEX(ActionList!F$6:F$1005,$BD12,1)) -> Collecting tags | BI12: =IF(LEN(INDEX(ActionList!G$6:G$1005,BD12,1))=0,"",INDEX(ActionList!G$6:G$1005,BD12,1)) -> revision of the taping tool so that it can be used on all products | BJ12: =IF(LEN(INDEX(ActionList!H$6:H$1005,BD12,1))=0,"",INDEX(ActionList!H$6:H$1005,BD12,1)) -> 5 | BK12: =IF(OR(Responsible=IF(LEN(INDEX(ActionList!I$6:I$1005,BD12,1))=0,"",INDEX(ActionList!I$6:I$1005,BD12,1)),Responsible="",Responsible="All"),IF(LEN(INDEX(ActionList!I$6:I$1005,BD12,1))=0,"",INDEX(ActionList!I$6:I$1005,BD12,1)),"-") -> Mercedes Banks | BL12: =IF(LEN(INDEX(ActionList!M$6:M$1005,BD12,1))=0,"",INDEX(ActionList!M$6:M$1005,BD12,1)) -> Finished | BM12: =BE12&BF12&BG12&BH12 -> Reading the product barcodeReading the wrong barcodeSending wrong product to the customerCollecting tags | BN12: =IF(AND(LEN(BE12)>0,OR(Process="All",Process="",Process=BE12)),BE12,"-") -> Reading the product barcode | BO12: =IF(AND(LEN(BF12)>0,OR(Mode="All",Mode="",Mode=BF12)),BF12,"-") -> Reading the wrong barcode | BP12: =IF(CF12=1,BE12&BF12&BG12,"") -> Reading the product barcodeReading the wrong barcodeSending wrong product to the customer | BQ12: =IF(CF12=1,BE12&BF12&BG12&BH12,"") -> Reading the product barcodeReading the wrong barcodeSending wrong product to the customerCollecting tags | BR12: =IF(CF12=1,BN12,"") -> Reading the product barcode | BS12: =IF(CF12=1,BO12,"") -> Reading the wrong barcode | BT12: =IF(AND(BR12<>"-",COUNTIF(BR$5:BR12,BR12)=1),1,0)*CF12 -> 1 | BU12: =IF(AND(LEN(BS12)>0,COUNTIF(BS$5:BS12,BS12)=1),1,0)*CF12 -> 1 | BV12: =IF(AND(LEN(BP12)>0,COUNTIF(BP$5:BP12,BP12)=1),1,0) -> 1 | BW12: =IF(AND(LEN(BQ12)>0,COUNTIF(BQ$5:BQ12,BQ12)=1),1,0) -> 1 | BX12: =IF(CF12=1,BK12,"") -> Mercedes Banks | BY12: =IF(AND(LEN(BX12)>0,COUNTIF($BX$5:BX12,BX12)=1),1,0) -> 0 | BZ12: =IFERROR(INDEX($T$5:$T$504,MATCH(BM12,$AX$5:$AX$504,0)),"") -> 63 | CA12: =IF(LEN(BE12)=0,"",IF(AND(BZ12>=$H$6,BZ12<=$I$6),$F$6,IF(AND(BZ12>=$H$7,BZ12<=$I$7),$F$7,IF(AND(BZ12>=$H$8,BZ12<=$I$8),$F$8,IF(AND(BZ12>=$H$9,BZ12<=$I$9),$F$9,"-"))))) -> Medium | CB12: =IFERROR(IF(LEN(BZ12)=0,"-",IF(OR(RPNB="All",RPNB="",RPNB=CA12),CA12,"-")),"-") -> Medium | CC12: =IFERROR(INDEX($U$5:$U$504,MATCH(BM12,$AX$5:$AX$504,0)),"") -> 28 | CD12: =IF(LEN(BE12)=0,"",IF(AND(CC12>=$H$6,CC12<=$I$6),$F$6,IF(AND(CC12>=$H$7,CC12<=$I$7),$F$7,IF(AND(CC12>=$H$8,CC12<=$I$8),$F$8,IF(AND(CC12>=$H$9,CC12<=$I$9),$F$9,"-"))))) -> Medium | CE12: =IFERROR(IF(LEN(CC12)=0,"",IF(OR(RPNA="All",RPNA="",RPNA=CD12),CD12,"-")),"-") -> Medium | CF12: =IFERROR(IF(AND(LEN(BD12)>0,BN12<>"-",BO12<>"-",BK12<>"-",CG12<>"-",CB12<>"-",CE12<>"-",BI12<>""),1,0),0) -> 1 | CG12: =IF(OR(Status="All",Status="",Status=BL12),BL12,"-") -> Finished | CI12: =K7 -> 5 | CJ12: =COUNTIFS($BJ$5:$BJ$23,CI12,$CF$5:$CF$23,1) -> 4 | CL12: =D13 -> Aviana Kenny | CM12: =IF(LEN($CL12)=0,"",COUNTIFS($BK$5:$BK$23,$CL12,$CF$5:$CF$23,1)) -> 1 | CN12: =IF(LEN(CL12)=0,"",RANK(CM12,$CM$5:$CM$17,0)) -> 5 | CO12: =IF(LEN(CL12)=0,"",CN12+COUNTIF($CN$5:CN12,CN12)-1) -> 8 | CQ12: 8 | CR12: =IFERROR(INDEX($CL$5:$CL$17,MATCH(CQ12,$CO$5:$CO$17,0),1),"") -> Aviana Kenny | CS12: =IFERROR(INDEX($CM$5:$CM$17,MATCH(CQ12,$CO$5:$CO$17,0),1),"") -> 1
B13: =IF(Settings!C15="","",Settings!C15) | D13: =IF(Settings!E15="","",Settings!E15) -> Aviana Kenny | M13: ✓ | P13: =IFERROR(IF(LEN(INDEX(FMEA!C$7:C$506,Cal!$BD13))=0,"",INDEX(FMEA!C$7:C$506,Cal!$BD13)),"") -> Removal of the product from the machine as a finished product | Q13: =IFERROR(IF(LEN(INDEX(FMEA!D$7:D$506,Cal!$BD13))=0,"",INDEX(FMEA!D$7:D$506,Cal!$BD13)),"") -> Banding the product without sufficient stretching | R13: =IFERROR(IF(LEN(INDEX(FMEA!E$7:E$506,Cal!$BD13))=0,"",INDEX(FMEA!E$7:E$506,Cal!$BD13)),"") -> Trace formation on the product after barrier systems | S13: =IFERROR(IF(LEN(INDEX(FMEA!F$7:F$506,Cal!$BD13))=0,"",INDEX(FMEA!F$7:F$506,Cal!$BD13)),"") -> Not using the taping tool | T13: =IFERROR(IF(AND(LEN(P13)>0,LEN(Q13)>0,LEN(R13)>0,LEN(S13)>0),IF(LEN(INDEX(FMEA!J$7:J$506,Cal!$BD13))=0,"-",INDEX(FMEA!J$7:J$506,Cal!$BD13)),""),"") -> 72 | U13: =IFERROR(IF(AND(LEN(P13)>0,LEN(Q13)>0,LEN(R13)>0,LEN(S13)>0),IF(LEN(INDEX(FMEA!O$7:O$506,Cal!$BD13))=0,"-",INDEX(FMEA!O$7:O$506,Cal!$BD13)),""),"") -> 18 | V13: =IFERROR(IF(LEN(T13)=0,"",IF(AND(T13>=$H$6,T13<=$I$6),$F$6,IF(AND(T13>=$H$7,T13<=$I$7),$F$7,IF(AND(T13>=$H$8,T13<=$I$8),$F$8,IF(AND(T13>=$H$9,T13<=$I$9),$F$9,"-"))))),"") -> Medium | W13: =IFERROR(IF(LEN(U13)=0,"",IF(AND(U13>=$H$6,U13<=$I$6),$F$6,IF(AND(U13>=$H$7,U13<=$I$7),$F$7,IF(AND(U13>=$H$8,U13<=$I$8),$F$8,IF(AND(U13>=$H$9,U13<=$I$9),$F$9,"-"))))),"") -> Low | X13: =IF(LEN(P13)="","",IF(OR(Process="All",Process="",Process=P13),P13,"")) -> Removal of the product from the machine as a finished product | Y13: =IF(AJ13=1,X13,"") -> Removal of the product from the machine as a finished product | Z13: =IF(COUNTIF($Y$5:Y13,Y13)=1,Y13,"") -> Removal of the product from the machine as a finished product | AA13: =IF(LEN(Q13)="","",IF(OR(Mode="All",Mode="",Mode=Q13),Q13,"")) -> Banding the product without sufficient stretching | AB13: =IF(AJ13=1,AA13,"") -> Banding the product without sufficient stretching | AC13: =IF(COUNTIF($AB$5:AB13,AB13)=1,AB13,"") -> Banding the product without sufficient stretching | AD13: =IF(AJ13=1,P13&Q13&R13,"") -> Removal of the product from the machine as a finished productBanding the product without sufficient stretchingTrace formation on the product after barrier systems | AE13: =IF(COUNTIF($AD$5:AD13,AD13)=1,AD13,"") -> Removal of the product from the machine as a finished productBanding the product without sufficient stretchingTrace formation on the product after barrier systems | AF13: =IF(AJ13=1,P13&Q13&R13&S13,"") -> Removal of the product from the machine as a finished productBanding the product without sufficient stretchingTrace formation on the product after barrier systemsNot using the taping tool | AG13: =IF(COUNTIF($AF$5:AF13,AF13)=1,AF13,"") -> Removal of the product from the machine as a finished productBanding the product without sufficient stretchingTrace formation on the product after barrier systemsNot using the taping tool | AH13: =IF(LEN(V13)="","",IF(OR(RPNB="All",RPNB="",RPNB=V13),V13,"")) -> Medium | AI13: =IF(LEN(W13)="","",IF(OR(RPNA="All",RPNA="",RPNA=W13),W13,"")) -> Low | AJ13: =IF(AND(X13<>"",AA13<>"",AH13<>"",AI13<>""),1,0) -> 1 | AK13: =IF(AND(LEN(P13)>0,COUNTIF($P$5:P13,P13)=1),P13,"") -> Removal of the product from the machine as a finished product | AL13: =IF(OR(LEN($AK13)=0,COUNTIF($AK$5:AK13,AK13)>1),"",COUNTIF($AK$5:$AK$15,"<"&$AK13)-COUNTBLANK($AK$5:$AK$15)+1) -> 4 | AM13: =IFERROR(INDEX($P$5:$P$504,MATCH(BD13,$AL$5:$AL$504,0)),"") | AN13: =P13&Q13 -> Removal of the product from the machine as a finished productBanding the product without sufficient stretching | AO13: =IF(AND(LEN(AN13)>0,COUNTIF($AN$5:AN13,AN13)=1),AN13,"") -> Removal of the product from the machine as a finished productBanding the product without sufficient stretching | AP13: =IF(OR(LEN($AO13)=0,COUNTIF($AO$5:AO13,AO13)>1),"",COUNTIF($AO$5:$AO$15,"<"&$AO13)-COUNTBLANK($AO$5:$AO$15)+1) -> 9 | AQ13: =IFERROR(INDEX($P$5:$P$504,MATCH(BD13,$AP$5:$AP$504,0)),"") -> Removal of the product from the machine as a finished product | AR13: =IFERROR(INDEX($Q$5:$Q$504,MATCH(BD13,$AP$5:$AP$504,0)),"") -> Banding the product without sufficient stretching | AS13: =P13&Q13&R13 -> Removal of the product from the machine as a finished productBanding the product without sufficient stretchingTrace formation on the product after barrier systems | AT13: =IF(AND(LEN(AS13)>0,COUNTIF($AS$5:AS13,AS13)=1),AS13,"") -> Removal of the product from the machine as a finished productBanding the product without sufficient stretchingTrace formation on the product after barrier systems | AU13: =IF(OR(LEN($AT13)=0,COUNTIF($AT$5:AT13,AT13)>1),"",COUNTIF($AT$5:$AT$15,"<"&$AT13)-COUNTBLANK($AT$5:$AT$15)+1) -> 9 | AV13: =IFERROR(INDEX($AN$5:$AN$504,MATCH(BD13,$AU$5:$AU$504,0)),"") -> Removal of the product from the machine as a finished productBanding the product without sufficient stretching | AW13: =IFERROR(INDEX($R$5:$R$504,MATCH(BD13,$AU$5:$AU$504,0)),"") -> Trace formation on the product after barrier systems | AX13: =P13&Q13&R13&S13 -> Removal of the product from the machine as a finished productBanding the product without sufficient stretchingTrace formation on the product after barrier systemsNot using the taping tool | AY13: =IF(AND(LEN(AX13)>0,COUNTIF($AX$5:AX13,AX13)=1),AX13,"") -> Removal of the product from the machine as a finished productBanding the product without sufficient stretchingTrace formation on the product after barrier systemsNot using the taping tool | AZ13: =IF(OR(LEN($AY13)=0,COUNTIF($AY$5:AY13,AY13)>1),"",COUNTIF($AY$5:$AY$15,"<"&$AY13)-COUNTBLANK($AY$5:$AY$15)+1) -> 9 | BA13: =IFERROR(INDEX($AS$5:$AS$504,MATCH(BD13,$AZ$5:$AZ$504,0)),"") -> Removal of the product from the machine as a finished productBanding the product without sufficient stretchingTrace formation on the product after barrier systems | BB13: =IFERROR(INDEX($S$5:$S$504,MATCH(BD13,$AZ$5:$AZ$504,0)),"") -> Not using the taping tool | BD13: 9 | BE13: =IF(LEN(INDEX(ActionList!C$6:C$1005,$BD13,1))=0,"",INDEX(ActionList!C$6:C$1005,$BD13,1)) -> Reading the product barcode | BF13: =IF(LEN(INDEX(ActionList!D$6:D$1005,$BD13,1))=0,"",INDEX(ActionList!D$6:D$1005,$BD13,1)) -> Software not working | BG13: =IF(LEN(INDEX(ActionList!E$6:E$1005,$BD13,1))=0,"",INDEX(ActionList!E$6:E$1005,$BD13,1)) -> Sending wrong product to the customer | BH13: =IF(LEN(INDEX(ActionList!F$6:F$1005,$BD13,1))=0,"",INDEX(ActionList!F$6:F$1005,$BD13,1)) -> Computer malfunction | BI13: =IF(LEN(INDEX(ActionList!G$6:G$1005,BD13,1))=0,"",INDEX(ActionList!G$6:G$1005,BD13,1)) -> creating a work instruction in case the system does not work | BJ13: =IF(LEN(INDEX(ActionList!H$6:H$1005,BD13,1))=0,"",INDEX(ActionList!H$6:H$1005,BD13,1)) -> 2 | BK13: =IF(OR(Responsible=IF(LEN(INDEX(ActionList!I$6:I$1005,BD13,1))=0,"",INDEX(ActionList!I$6:I$1005,BD13,1)),Responsible="",Responsible="All"),IF(LEN(INDEX(ActionList!I$6:I$1005,BD13,1))=0,"",INDEX(ActionList!I$6:I$1005,BD13,1)),"-") -> Hannah Shaw | BL13: =IF(LEN(INDEX(ActionList!M$6:M$1005,BD13,1))=0,"",INDEX(ActionList!M$6:M$1005,BD13,1)) -> Finished | BM13: =BE13&BF13&BG13&BH13 -> Reading the product barcodeSoftware not workingSending wrong product to the customerComputer malfunction | BN13: =IF(AND(LEN(BE13)>0,OR(Process="All",Process="",Process=BE13)),BE13,"-") -> Reading the product barcode | BO13: =IF(AND(LEN(BF13)>0,OR(Mode="All",Mode="",Mode=BF13)),BF13,"-") -> Software not working | BP13: =IF(CF13=1,BE13&BF13&BG13,"") -> Reading the product barcodeSoftware not workingSending wrong product to the customer | BQ13: =IF(CF13=1,BE13&BF13&BG13&BH13,"") -> Reading the product barcodeSoftware not workingSending wrong product to the customerComputer malfunction | BR13: =IF(CF13=1,BN13,"") -> Reading the product barcode | BS13: =IF(CF13=1,BO13,"") -> Software not working | BT13: =IF(AND(BR13<>"-",COUNTIF(BR$5:BR13,BR13)=1),1,0)*CF13 -> 0 | BU13: =IF(AND(LEN(BS13)>0,COUNTIF(BS$5:BS13,BS13)=1),1,0)*CF13 -> 1 | BV13: =IF(AND(LEN(BP13)>0,COUNTIF(BP$5:BP13,BP13)=1),1,0) -> 1 | BW13: =IF(AND(LEN(BQ13)>0,COUNTIF(BQ$5:BQ13,BQ13)=1),1,0) -> 1 | BX13: =IF(CF13=1,BK13,"") -> Hannah Shaw | BY13: =IF(AND(LEN(BX13)>0,COUNTIF($BX$5:BX13,BX13)=1),1,0) -> 1 | BZ13: =IFERROR(INDEX($T$5:$T$504,MATCH(BM13,$AX$5:$AX$504,0)),"") -> 48 | CA13: =IF(LEN(BE13)=0,"",IF(AND(BZ13>=$H$6,BZ13<=$I$6),$F$6,IF(AND(BZ13>=$H$7,BZ13<=$I$7),$F$7,IF(AND(BZ13>=$H$8,BZ13<=$I$8),$F$8,IF(AND(BZ13>=$H$9,BZ13<=$I$9),$F$9,"-"))))) -> Medium | CB13: =IFERROR(IF(LEN(BZ13)=0,"-",IF(OR(RPNB="All",RPNB="",RPNB=CA13),CA13,"-")),"-") -> Medium | CC13: =IFERROR(INDEX($U$5:$U$504,MATCH(BM13,$AX$5:$AX$504,0)),"") -> 24 | CD13: =IF(LEN(BE13)=0,"",IF(AND(CC13>=$H$6,CC13<=$I$6),$F$6,IF(AND(CC13>=$H$7,CC13<=$I$7),$F$7,IF(AND(CC13>=$H$8,CC13<=$I$8),$F$8,IF(AND(CC13>=$H$9,CC13<=$I$9),$F$9,"-"))))) -> Medium | CE13: =IFERROR(IF(LEN(CC13)=0,"",IF(OR(RPNA="All",RPNA="",RPNA=CD13),CD13,"-")),"-") -> Medium | CF13: =IFERROR(IF(AND(LEN(BD13)>0,BN13<>"-",BO13<>"-",BK13<>"-",CG13<>"-",CB13<>"-",CE13<>"-",BI13<>""),1,0),0) -> 1 | CG13: =IF(OR(Status="All",Status="",Status=BL13),BL13,"-") -> Finished | CI13: =K8 -> 4 | CJ13: =COUNTIFS($BJ$5:$BJ$23,CI13,$CF$5:$CF$23,1) -> 2 | CL13: =D14 -> Julia Roberts | CM13: =IF(LEN($CL13)=0,"",COUNTIFS($BK$5:$BK$23,$CL13,$CF$5:$CF$23,1)) -> 1 | CN13: =IF(LEN(CL13)=0,"",RANK(CM13,$CM$5:$CM$17,0)) -> 5 | CO13: =IF(LEN(CL13)=0,"",CN13+COUNTIF($CN$5:CN13,CN13)-1) -> 9 | CQ13: 9 | CR13: =IFERROR(INDEX($CL$5:$CL$17,MATCH(CQ13,$CO$5:$CO$17,0),1),"") -> Julia Roberts | CS13: =IFERROR(INDEX($CM$5:$CM$17,MATCH(CQ13,$CO$5:$CO$17,0),1),"") -> 1
B14: =IF(Settings!C16="","",Settings!C16) | D14: =IF(Settings!E16="","",Settings!E16) -> Julia Roberts | P14: =IFERROR(IF(LEN(INDEX(FMEA!C$7:C$506,Cal!$BD14))=0,"",INDEX(FMEA!C$7:C$506,Cal!$BD14)),"") | Q14: =IFERROR(IF(LEN(INDEX(FMEA!D$7:D$506,Cal!$BD14))=0,"",INDEX(FMEA!D$7:D$506,Cal!$BD14)),"") | R14: =IFERROR(IF(LEN(INDEX(FMEA!E$7:E$506,Cal!$BD14))=0,"",INDEX(FMEA!E$7:E$506,Cal!$BD14)),"") | S14: =IFERROR(IF(LEN(INDEX(FMEA!F$7:F$506,Cal!$BD14))=0,"",INDEX(FMEA!F$7:F$506,Cal!$BD14)),"") | T14: =IFERROR(IF(AND(LEN(P14)>0,LEN(Q14)>0,LEN(R14)>0,LEN(S14)>0),IF(LEN(INDEX(FMEA!J$7:J$506,Cal!$BD14))=0,"-",INDEX(FMEA!J$7:J$506,Cal!$BD14)),""),"") | U14: =IFERROR(IF(AND(LEN(P14)>0,LEN(Q14)>0,LEN(R14)>0,LEN(S14)>0),IF(LEN(INDEX(FMEA!O$7:O$506,Cal!$BD14))=0,"-",INDEX(FMEA!O$7:O$506,Cal!$BD14)),""),"") | V14: =IFERROR(IF(LEN(T14)=0,"",IF(AND(T14>=$H$6,T14<=$I$6),$F$6,IF(AND(T14>=$H$7,T14<=$I$7),$F$7,IF(AND(T14>=$H$8,T14<=$I$8),$F$8,IF(AND(T14>=$H$9,T14<=$I$9),$F$9,"-"))))),"") | W14: =IFERROR(IF(LEN(U14)=0,"",IF(AND(U14>=$H$6,U14<=$I$6),$F$6,IF(AND(U14>=$H$7,U14<=$I$7),$F$7,IF(AND(U14>=$H$8,U14<=$I$8),$F$8,IF(AND(U14>=$H$9,U14<=$I$9),$F$9,"-"))))),"") | X14: =IF(LEN(P14)="","",IF(OR(Process="All",Process="",Process=P14),P14,"")) | Y14: =IF(AJ14=1,X14,"") | Z14: =IF(COUNTIF($Y$5:Y14,Y14)=1,Y14,"") | AA14: =IF(LEN(Q14)="","",IF(OR(Mode="All",Mode="",Mode=Q14),Q14,"")) | AB14: =IF(AJ14=1,AA14,"") | AC14: =IF(COUNTIF($AB$5:AB14,AB14)=1,AB14,"") | AD14: =IF(AJ14=1,P14&Q14&R14,"") | AE14: =IF(COUNTIF($AD$5:AD14,AD14)=1,AD14,"") | AF14: =IF(AJ14=1,P14&Q14&R14&S14,"") | AG14: =IF(COUNTIF($AF$5:AF14,AF14)=1,AF14,"") | AH14: =IF(LEN(V14)="","",IF(OR(RPNB="All",RPNB="",RPNB=V14),V14,"")) | AI14: =IF(LEN(W14)="","",IF(OR(RPNA="All",RPNA="",RPNA=W14),W14,"")) | AJ14: =IF(AND(X14<>"",AA14<>"",AH14<>"",AI14<>""),1,0) -> 0 | AK14: =IF(AND(LEN(P14)>0,COUNTIF($P$5:P14,P14)=1),P14,"") | AL14: =IF(OR(LEN($AK14)=0,COUNTIF($AK$5:AK14,AK14)>1),"",COUNTIF($AK$5:$AK$15,"<"&$AK14)-COUNTBLANK($AK$5:$AK$15)+1) | AM14: =IFERROR(INDEX($P$5:$P$504,MATCH(BD14,$AL$5:$AL$504,0)),"") | AN14: =P14&Q14 | AO14: =IF(AND(LEN(AN14)>0,COUNTIF($AN$5:AN14,AN14)=1),AN14,"") | AP14: =IF(OR(LEN($AO14)=0,COUNTIF($AO$5:AO14,AO14)>1),"",COUNTIF($AO$5:$AO$15,"<"&$AO14)-COUNTBLANK($AO$5:$AO$15)+1) | AQ14: =IFERROR(INDEX($P$5:$P$504,MATCH(BD14,$AP$5:$AP$504,0)),"") | AR14: =IFERROR(INDEX($Q$5:$Q$504,MATCH(BD14,$AP$5:$AP$504,0)),"") | AS14: =P14&Q14&R14 | AT14: =IF(AND(LEN(AS14)>0,COUNTIF($AS$5:AS14,AS14)=1),AS14,"") | AU14: =IF(OR(LEN($AT14)=0,COUNTIF($AT$5:AT14,AT14)>1),"",COUNTIF($AT$5:$AT$15,"<"&$AT14)-COUNTBLANK($AT$5:$AT$15)+1) | AV14: =IFERROR(INDEX($AN$5:$AN$504,MATCH(BD14,$AU$5:$AU$504,0)),"") | AW14: =IFERROR(INDEX($R$5:$R$504,MATCH(BD14,$AU$5:$AU$504,0)),"") | AX14: =P14&Q14&R14&S14 | AY14: =IF(AND(LEN(AX14)>0,COUNTIF($AX$5:AX14,AX14)=1),AX14,"") | AZ14: =IF(OR(LEN($AY14)=0,COUNTIF($AY$5:AY14,AY14)>1),"",COUNTIF($AY$5:$AY$15,"<"&$AY14)-COUNTBLANK($AY$5:$AY$15)+1) | BA14: =IFERROR(INDEX($AS$5:$AS$504,MATCH(BD14,$AZ$5:$AZ$504,0)),"") | BB14: =IFERROR(INDEX($S$5:$S$504,MATCH(BD14,$AZ$5:$AZ$504,0)),"") | BD14: 10 | BE14: =IF(LEN(INDEX(ActionList!C$6:C$1005,$BD14,1))=0,"",INDEX(ActionList!C$6:C$1005,$BD14,1)) -> Reading the product barcode | BF14: =IF(LEN(INDEX(ActionList!D$6:D$1005,$BD14,1))=0,"",INDEX(ActionList!D$6:D$1005,$BD14,1)) -> Software not working | BG14: =IF(LEN(INDEX(ActionList!E$6:E$1005,$BD14,1))=0,"",INDEX(ActionList!E$6:E$1005,$BD14,1)) -> Sending wrong product to the customer | BH14: =IF(LEN(INDEX(ActionList!F$6:F$1005,$BD14,1))=0,"",INDEX(ActionList!F$6:F$1005,$BD14,1)) -> Computer malfunction | BI14: =IF(LEN(INDEX(ActionList!G$6:G$1005,BD14,1))=0,"",INDEX(ActionList!G$6:G$1005,BD14,1)) -> Defining periodic maintenance to computers | BJ14: =IF(LEN(INDEX(ActionList!H$6:H$1005,BD14,1))=0,"",INDEX(ActionList!H$6:H$1005,BD14,1)) -> 3 | BK14: =IF(OR(Responsible=IF(LEN(INDEX(ActionList!I$6:I$1005,BD14,1))=0,"",INDEX(ActionList!I$6:I$1005,BD14,1)),Responsible="",Responsible="All"),IF(LEN(INDEX(ActionList!I$6:I$1005,BD14,1))=0,"",INDEX(ActionList!I$6:I$1005,BD14,1)),"-") -> Alyce Milner | BL14: =IF(LEN(INDEX(ActionList!M$6:M$1005,BD14,1))=0,"",INDEX(ActionList!M$6:M$1005,BD14,1)) -> Finished | BM14: =BE14&BF14&BG14&BH14 -> Reading the product barcodeSoftware not workingSending wrong product to the customerComputer malfunction | BN14: =IF(AND(LEN(BE14)>0,OR(Process="All",Process="",Process=BE14)),BE14,"-") -> Reading the product barcode | BO14: =IF(AND(LEN(BF14)>0,OR(Mode="All",Mode="",Mode=BF14)),BF14,"-") -> Software not working | BP14: =IF(CF14=1,BE14&BF14&BG14,"") -> Reading the product barcodeSoftware not workingSending wrong product to the customer | BQ14: =IF(CF14=1,BE14&BF14&BG14&BH14,"") -> Reading the product barcodeSoftware not workingSending wrong product to the customerComputer malfunction | BR14: =IF(CF14=1,BN14,"") -> Reading the product barcode | BS14: =IF(CF14=1,BO14,"") -> Software not working | BT14: =IF(AND(BR14<>"-",COUNTIF(BR$5:BR14,BR14)=1),1,0)*CF14 -> 0 | BU14: =IF(AND(LEN(BS14)>0,COUNTIF(BS$5:BS14,BS14)=1),1,0)*CF14 -> 0 | BV14: =IF(AND(LEN(BP14)>0,COUNTIF(BP$5:BP14,BP14)=1),1,0) -> 0 | BW14: =IF(AND(LEN(BQ14)>0,COUNTIF(BQ$5:BQ14,BQ14)=1),1,0) -> 0 | BX14: =IF(CF14=1,BK14,"") -> Alyce Milner | BY14: =IF(AND(LEN(BX14)>0,COUNTIF($BX$5:BX14,BX14)=1),1,0) -> 1 | BZ14: =IFERROR(INDEX($T$5:$T$504,MATCH(BM14,$AX$5:$AX$504,0)),"") -> 48 | CA14: =IF(LEN(BE14)=0,"",IF(AND(BZ14>=$H$6,BZ14<=$I$6),$F$6,IF(AND(BZ14>=$H$7,BZ14<=$I$7),$F$7,IF(AND(BZ14>=$H$8,BZ14<=$I$8),$F$8,IF(AND(BZ14>=$H$9,BZ14<=$I$9),$F$9,"-"))))) -> Medium | CB14: =IFERROR(IF(LEN(BZ14)=0,"-",IF(OR(RPNB="All",RPNB="",RPNB=CA14),CA14,"-")),"-") -> Medium | CC14: =IFERROR(INDEX($U$5:$U$504,MATCH(BM14,$AX$5:$AX$504,0)),"") -> 24 | CD14: =IF(LEN(BE14)=0,"",IF(AND(CC14>=$H$6,CC14<=$I$6),$F$6,IF(AND(CC14>=$H$7,CC14<=$I$7),$F$7,IF(AND(CC14>=$H$8,CC14<=$I$8),$F$8,IF(AND(CC14>=$H$9,CC14<=$I$9),$F$9,"-"))))) -> Medium | CE14: =IFERROR(IF(LEN(CC14)=0,"",IF(OR(RPNA="All",RPNA="",RPNA=CD14),CD14,"-")),"-") -> Medium | CF14: =IFERROR(IF(AND(LEN(BD14)>0,BN14<>"-",BO14<>"-",BK14<>"-",CG14<>"-",CB14<>"-",CE14<>"-",BI14<>""),1,0),0) -> 1 | CG14: =IF(OR(Status="All",Status="",Status=BL14),BL14,"-") -> Finished | CI14: =K9 -> 3 | CJ14: =COUNTIFS($BJ$5:$BJ$23,CI14,$CF$5:$CF$23,1) -> 3 | CL14: =D15 -> Isobelle Hurley | CM14: =IF(LEN($CL14)=0,"",COUNTIFS($BK$5:$BK$23,$CL14,$CF$5:$CF$23,1)) -> 1 | CN14: =IF(LEN(CL14)=0,"",RANK(CM14,$CM$5:$CM$17,0)) -> 5 | CO14: =IF(LEN(CL14)=0,"",CN14+COUNTIF($CN$5:CN14,CN14)-1) -> 10 | CQ14: 10 | CR14: =IFERROR(INDEX($CL$5:$CL$17,MATCH(CQ14,$CO$5:$CO$17,0),1),"") -> Isobelle Hurley | CS14: =IFERROR(INDEX($CM$5:$CM$17,MATCH(CQ14,$CO$5:$CO$17,0),1),"") -> 1
B15: =IF(Settings!C17="","",Settings!C17) | D15: =IF(Settings!E17="","",Settings!E17) -> Isobelle Hurley | P15: =IFERROR(IF(LEN(INDEX(FMEA!C$7:C$506,Cal!$BD15))=0,"",INDEX(FMEA!C$7:C$506,Cal!$BD15)),"") | Q15: =IFERROR(IF(LEN(INDEX(FMEA!D$7:D$506,Cal!$BD15))=0,"",INDEX(FMEA!D$7:D$506,Cal!$BD15)),"") | R15: =IFERROR(IF(LEN(INDEX(FMEA!E$7:E$506,Cal!$BD15))=0,"",INDEX(FMEA!E$7:E$506,Cal!$BD15)),"") | S15: =IFERROR(IF(LEN(INDEX(FMEA!F$7:F$506,Cal!$BD15))=0,"",INDEX(FMEA!F$7:F$506,Cal!$BD15)),"") | T15: =IFERROR(IF(AND(LEN(P15)>0,LEN(Q15)>0,LEN(R15)>0,LEN(S15)>0),IF(LEN(INDEX(FMEA!J$7:J$506,Cal!$BD15))=0,"-",INDEX(FMEA!J$7:J$506,Cal!$BD15)),""),"") | U15: =IFERROR(IF(AND(LEN(P15)>0,LEN(Q15)>0,LEN(R15)>0,LEN(S15)>0),IF(LEN(INDEX(FMEA!O$7:O$506,Cal!$BD15))=0,"-",INDEX(FMEA!O$7:O$506,Cal!$BD15)),""),"") | V15: =IFERROR(IF(LEN(T15)=0,"",IF(AND(T15>=$H$6,T15<=$I$6),$F$6,IF(AND(T15>=$H$7,T15<=$I$7),$F$7,IF(AND(T15>=$H$8,T15<=$I$8),$F$8,IF(AND(T15>=$H$9,T15<=$I$9),$F$9,"-"))))),"") | W15: =IFERROR(IF(LEN(U15)=0,"",IF(AND(U15>=$H$6,U15<=$I$6),$F$6,IF(AND(U15>=$H$7,U15<=$I$7),$F$7,IF(AND(U15>=$H$8,U15<=$I$8),$F$8,IF(AND(U15>=$H$9,U15<=$I$9),$F$9,"-"))))),"") | X15: =IF(LEN(P15)="","",IF(OR(Process="All",Process="",Process=P15),P15,"")) | Y15: =IF(AJ15=1,X15,"") | Z15: =IF(COUNTIF($Y$5:Y15,Y15)=1,Y15,"") | AA15: =IF(LEN(Q15)="","",IF(OR(Mode="All",Mode="",Mode=Q15),Q15,"")) | AB15: =IF(AJ15=1,AA15,"") | AC15: =IF(COUNTIF($AB$5:AB15,AB15)=1,AB15,"") | AD15: =IF(AJ15=1,P15&Q15&R15,"") | AE15: =IF(COUNTIF($AD$5:AD15,AD15)=1,AD15,"") | AF15: =IF(AJ15=1,P15&Q15&R15&S15,"") | AG15: =IF(COUNTIF($AF$5:AF15,AF15)=1,AF15,"") | AH15: =IF(LEN(V15)="","",IF(OR(RPNB="All",RPNB="",RPNB=V15),V15,"")) | AI15: =IF(LEN(W15)="","",IF(OR(RPNA="All",RPNA="",RPNA=W15),W15,"")) | AJ15: =IF(AND(X15<>"",AA15<>"",AH15<>"",AI15<>""),1,0) -> 0 | AK15: =IF(AND(LEN(P15)>0,COUNTIF($P$5:P15,P15)=1),P15,"") | AL15: =IF(OR(LEN($AK15)=0,COUNTIF($AK$5:AK15,AK15)>1),"",COUNTIF($AK$5:$AK$15,"<"&$AK15)-COUNTBLANK($AK$5:$AK$15)+1) | AM15: =IFERROR(INDEX($P$5:$P$504,MATCH(BD15,$AL$5:$AL$504,0)),"") | AN15: =P15&Q15 | AO15: =IF(AND(LEN(AN15)>0,COUNTIF($AN$5:AN15,AN15)=1),AN15,"") | AP15: =IF(OR(LEN($AO15)=0,COUNTIF($AO$5:AO15,AO15)>1),"",COUNTIF($AO$5:$AO$15,"<"&$AO15)-COUNTBLANK($AO$5:$AO$15)+1) | AQ15: =IFERROR(INDEX($P$5:$P$504,MATCH(BD15,$AP$5:$AP$504,0)),"") | AR15: =IFERROR(INDEX($Q$5:$Q$504,MATCH(BD15,$AP$5:$AP$504,0)),"") | AS15: =P15&Q15&R15 | AT15: =IF(AND(LEN(AS15)>0,COUNTIF($AS$5:AS15,AS15)=1),AS15,"") | AU15: =IF(OR(LEN($AT15)=0,COUNTIF($AT$5:AT15,AT15)>1),"",COUNTIF($AT$5:$AT$15,"<"&$AT15)-COUNTBLANK($AT$5:$AT$15)+1) | AV15: =IFERROR(INDEX($AN$5:$AN$504,MATCH(BD15,$AU$5:$AU$504,0)),"") | AW15: =IFERROR(INDEX($R$5:$R$504,MATCH(BD15,$AU$5:$AU$504,0)),"") | AX15: =P15&Q15&R15&S15 | AY15: =IF(AND(LEN(AX15)>0,COUNTIF($AX$5:AX15,AX15)=1),AX15,"") | AZ15: =IF(OR(LEN($AY15)=0,COUNTIF($AY$5:AY15,AY15)>1),"",COUNTIF($AY$5:$AY$15,"<"&$AY15)-COUNTBLANK($AY$5:$AY$15)+1) | BA15: =IFERROR(INDEX($AS$5:$AS$504,MATCH(BD15,$AZ$5:$AZ$504,0)),"") | BB15: =IFERROR(INDEX($S$5:$S$504,MATCH(BD15,$AZ$5:$AZ$504,0)),"") | BD15: 11 | BE15: =IF(LEN(INDEX(ActionList!C$6:C$1005,$BD15,1))=0,"",INDEX(ActionList!C$6:C$1005,$BD15,1)) -> Preparation of the product for the next stage | BF15: =IF(LEN(INDEX(ActionList!D$6:D$1005,$BD15,1))=0,"",INDEX(ActionList!D$6:D$1005,$BD15,1)) -> Incorrect preparation by the operator | BG15: =IF(LEN(INDEX(ActionList!E$6:E$1005,$BD15,1))=0,"",INDEX(ActionList!E$6:E$1005,$BD15,1)) -> Failure of the process | BH15: =IF(LEN(INDEX(ActionList!F$6:F$1005,$BD15,1))=0,"",INDEX(ActionList!F$6:F$1005,$BD15,1)) -> Operational error | BI15: =IF(LEN(INDEX(ActionList!G$6:G$1005,BD15,1))=0,"",INDEX(ActionList!G$6:G$1005,BD15,1)) -> creating a work instruction for production preparation | BJ15: =IF(LEN(INDEX(ActionList!H$6:H$1005,BD15,1))=0,"",INDEX(ActionList!H$6:H$1005,BD15,1)) -> 2 | BK15: =IF(OR(Responsible=IF(LEN(INDEX(ActionList!I$6:I$1005,BD15,1))=0,"",INDEX(ActionList!I$6:I$1005,BD15,1)),Responsible="",Responsible="All"),IF(LEN(INDEX(ActionList!I$6:I$1005,BD15,1))=0,"",INDEX(ActionList!I$6:I$1005,BD15,1)),"-") -> Alyce Milner | BL15: =IF(LEN(INDEX(ActionList!M$6:M$1005,BD15,1))=0,"",INDEX(ActionList!M$6:M$1005,BD15,1)) -> In Progress | BM15: =BE15&BF15&BG15&BH15 -> Preparation of the product for the next stageIncorrect preparation by the operatorFailure of the processOperational error | BN15: =IF(AND(LEN(BE15)>0,OR(Process="All",Process="",Process=BE15)),BE15,"-") -> Preparation of the product for the next stage | BO15: =IF(AND(LEN(BF15)>0,OR(Mode="All",Mode="",Mode=BF15)),BF15,"-") -> Incorrect preparation by the operator | BP15: =IF(CF15=1,BE15&BF15&BG15,"") -> Preparation of the product for the next stageIncorrect preparation by the operatorFailure of the process | BQ15: =IF(CF15=1,BE15&BF15&BG15&BH15,"") -> Preparation of the product for the next stageIncorrect preparation by the operatorFailure of the processOperational error | BR15: =IF(CF15=1,BN15,"") -> Preparation of the product for the next stage | BS15: =IF(CF15=1,BO15,"") -> Incorrect preparation by the operator | BT15: =IF(AND(BR15<>"-",COUNTIF(BR$5:BR15,BR15)=1),1,0)*CF15 -> 1 | BU15: =IF(AND(LEN(BS15)>0,COUNTIF(BS$5:BS15,BS15)=1),1,0)*CF15 -> 1 | BV15: =IF(AND(LEN(BP15)>0,COUNTIF(BP$5:BP15,BP15)=1),1,0) -> 1 | BW15: =IF(AND(LEN(BQ15)>0,COUNTIF(BQ$5:BQ15,BQ15)=1),1,0) -> 1 | BX15: =IF(CF15=1,BK15,"") -> Alyce Milner | BY15: =IF(AND(LEN(BX15)>0,COUNTIF($BX$5:BX15,BX15)=1),1,0) -> 0 | BZ15: =IFERROR(INDEX($T$5:$T$504,MATCH(BM15,$AX$5:$AX$504,0)),"") -> 32 | CA15: =IF(LEN(BE15)=0,"",IF(AND(BZ15>=$H$6,BZ15<=$I$6),$F$6,IF(AND(BZ15>=$H$7,BZ15<=$I$7),$F$7,IF(AND(BZ15>=$H$8,BZ15<=$I$8),$F$8,IF(AND(BZ15>=$H$9,BZ15<=$I$9),$F$9,"-"))))) -> Medium | CB15: =IFERROR(IF(LEN(BZ15)=0,"-",IF(OR(RPNB="All",RPNB="",RPNB=CA15),CA15,"-")),"-") -> Medium | CC15: =IFERROR(INDEX($U$5:$U$504,MATCH(BM15,$AX$5:$AX$504,0)),"") -> 16 | CD15: =IF(LEN(BE15)=0,"",IF(AND(CC15>=$H$6,CC15<=$I$6),$F$6,IF(AND(CC15>=$H$7,CC15<=$I$7),$F$7,IF(AND(CC15>=$H$8,CC15<=$I$8),$F$8,IF(AND(CC15>=$H$9,CC15<=$I$9),$F$9,"-"))))) -> Low | CE15: =IFERROR(IF(LEN(CC15)=0,"",IF(OR(RPNA="All",RPNA="",RPNA=CD15),CD15,"-")),"-") -> Low | CF15: =IFERROR(IF(AND(LEN(BD15)>0,BN15<>"-",BO15<>"-",BK15<>"-",CG15<>"-",CB15<>"-",CE15<>"-",BI15<>""),1,0),0) -> 1 | CG15: =IF(OR(Status="All",Status="",Status=BL15),BL15,"-") -> In Progress | CI15: =K10 -> 2 | CJ15: =COUNTIFS($BJ$5:$BJ$23,CI15,$CF$5:$CF$23,1) -> 5 | CL15: =D16 | CM15: =IF(LEN($CL15)=0,"",COUNTIFS($BK$5:$BK$23,$CL15,$CF$5:$CF$23,1)) | CN15: =IF(LEN(CL15)=0,"",RANK(CM15,$CM$5:$CM$17,0)) | CO15: =IF(LEN(CL15)=0,"",CN15+COUNTIF($CN$5:CN15,CN15)-1)
B16: =IF(Settings!C18="","",Settings!C18) | D16: =IF(Settings!E18="","",Settings!E18) | BD16: 12 | BE16: =IF(LEN(INDEX(ActionList!C$6:C$1005,$BD16,1))=0,"",INDEX(ActionList!C$6:C$1005,$BD16,1)) -> Preparation of the product for the next stage | BF16: =IF(LEN(INDEX(ActionList!D$6:D$1005,$BD16,1))=0,"",INDEX(ActionList!D$6:D$1005,$BD16,1)) -> Incorrect preparation by the operator | BG16: =IF(LEN(INDEX(ActionList!E$6:E$1005,$BD16,1))=0,"",INDEX(ActionList!E$6:E$1005,$BD16,1)) -> Failure of the process | BH16: =IF(LEN(INDEX(ActionList!F$6:F$1005,$BD16,1))=0,"",INDEX(ActionList!F$6:F$1005,$BD16,1)) -> Operational error | BI16: =IF(LEN(INDEX(ActionList!G$6:G$1005,BD16,1))=0,"",INDEX(ActionList!G$6:G$1005,BD16,1)) -> planning periodic education | BJ16: =IF(LEN(INDEX(ActionList!H$6:H$1005,BD16,1))=0,"",INDEX(ActionList!H$6:H$1005,BD16,1)) -> 1 | BK16: =IF(OR(Responsible=IF(LEN(INDEX(ActionList!I$6:I$1005,BD16,1))=0,"",INDEX(ActionList!I$6:I$1005,BD16,1)),Responsible="",Responsible="All"),IF(LEN(INDEX(ActionList!I$6:I$1005,BD16,1))=0,"",INDEX(ActionList!I$6:I$1005,BD16,1)),"-") -> Sarah-Jayne Morrison | BL16: =IF(LEN(INDEX(ActionList!M$6:M$1005,BD16,1))=0,"",INDEX(ActionList!M$6:M$1005,BD16,1)) -> Not Started | BM16: =BE16&BF16&BG16&BH16 -> Preparation of the product for the next stageIncorrect preparation by the operatorFailure of the processOperational error | BN16: =IF(AND(LEN(BE16)>0,OR(Process="All",Process="",Process=BE16)),BE16,"-") -> Preparation of the product for the next stage | BO16: =IF(AND(LEN(BF16)>0,OR(Mode="All",Mode="",Mode=BF16)),BF16,"-") -> Incorrect preparation by the operator | BP16: =IF(CF16=1,BE16&BF16&BG16,"") -> Preparation of the product for the next stageIncorrect preparation by the operatorFailure of the process | BQ16: =IF(CF16=1,BE16&BF16&BG16&BH16,"") -> Preparation of the product for the next stageIncorrect preparation by the operatorFailure of the processOperational error | BR16: =IF(CF16=1,BN16,"") -> Preparation of the product for the next stage | BS16: =IF(CF16=1,BO16,"") -> Incorrect preparation by the operator | BT16: =IF(AND(BR16<>"-",COUNTIF(BR$5:BR16,BR16)=1),1,0)*CF16 -> 0 | BU16: =IF(AND(LEN(BS16)>0,COUNTIF(BS$5:BS16,BS16)=1),1,0)*CF16 -> 0 | BV16: =IF(AND(LEN(BP16)>0,COUNTIF(BP$5:BP16,BP16)=1),1,0) -> 0 | BW16: =IF(AND(LEN(BQ16)>0,COUNTIF(BQ$5:BQ16,BQ16)=1),1,0) -> 0 | BX16: =IF(CF16=1,BK16,"") -> Sarah-Jayne Morrison | BY16: =IF(AND(LEN(BX16)>0,COUNTIF($BX$5:BX16,BX16)=1),1,0) -> 1 | BZ16: =IFERROR(INDEX($T$5:$T$504,MATCH(BM16,$AX$5:$AX$504,0)),"") -> 32 | CA16: =IF(LEN(BE16)=0,"",IF(AND(BZ16>=$H$6,BZ16<=$I$6),$F$6,IF(AND(BZ16>=$H$7,BZ16<=$I$7),$F$7,IF(AND(BZ16>=$H$8,BZ16<=$I$8),$F$8,IF(AND(BZ16>=$H$9,BZ16<=$I$9),$F$9,"-"))))) -> Medium | CB16: =IFERROR(IF(LEN(BZ16)=0,"-",IF(OR(RPNB="All",RPNB="",RPNB=CA16),CA16,"-")),"-") -> Medium | CC16: =IFERROR(INDEX($U$5:$U$504,MATCH(BM16,$AX$5:$AX$504,0)),"") -> 16 | CD16: =IF(LEN(BE16)=0,"",IF(AND(CC16>=$H$6,CC16<=$I$6),$F$6,IF(AND(CC16>=$H$7,CC16<=$I$7),$F$7,IF(AND(CC16>=$H$8,CC16<=$I$8),$F$8,IF(AND(CC16>=$H$9,CC16<=$I$9),$F$9,"-"))))) -> Low | CE16: =IFERROR(IF(LEN(CC16)=0,"",IF(OR(RPNA="All",RPNA="",RPNA=CD16),CD16,"-")),"-") -> Low | CF16: =IFERROR(IF(AND(LEN(BD16)>0,BN16<>"-",BO16<>"-",BK16<>"-",CG16<>"-",CB16<>"-",CE16<>"-",BI16<>""),1,0),0) -> 1 | CG16: =IF(OR(Status="All",Status="",Status=BL16),BL16,"-") -> Not Started | CI16: =K11 -> 1 | CJ16: =COUNTIFS($BJ$5:$BJ$23,CI16,$CF$5:$CF$23,1) -> 1 | CL16: =D17 | CM16: =IF(LEN($CL16)=0,"",COUNTIFS($BK$5:$BK$23,$CL16,$CF$5:$CF$23,1)) | CN16: =IF(LEN(CL16)=0,"",RANK(CM16,$CM$5:$CM$17,0)) | CO16: =IF(LEN(CL16)=0,"",CN16+COUNTIF($CN$5:CN16,CN16)-1)
B17: =IF(Settings!C19="","",Settings!C19) | D17: =IF(Settings!E19="","",Settings!E19) | BD17: 13 | BE17: =IF(LEN(INDEX(ActionList!C$6:C$1005,$BD17,1))=0,"",INDEX(ActionList!C$6:C$1005,$BD17,1)) -> Preparation of the product for the next stage | BF17: =IF(LEN(INDEX(ActionList!D$6:D$1005,$BD17,1))=0,"",INDEX(ActionList!D$6:D$1005,$BD17,1)) -> Sensors are dirty | BG17: =IF(LEN(INDEX(ActionList!E$6:E$1005,$BD17,1))=0,"",INDEX(ActionList!E$6:E$1005,$BD17,1)) -> Failure of the process | BH17: =IF(LEN(INDEX(ActionList!F$6:F$1005,$BD17,1))=0,"",INDEX(ActionList!F$6:F$1005,$BD17,1)) -> Dirtiness | BI17: =IF(LEN(INDEX(ActionList!G$6:G$1005,BD17,1))=0,"",INDEX(ActionList!G$6:G$1005,BD17,1)) -> A system should be established to check that the cleaning tools are working correctly. | BJ17: =IF(LEN(INDEX(ActionList!H$6:H$1005,BD17,1))=0,"",INDEX(ActionList!H$6:H$1005,BD17,1)) -> 5 | BK17: =IF(OR(Responsible=IF(LEN(INDEX(ActionList!I$6:I$1005,BD17,1))=0,"",INDEX(ActionList!I$6:I$1005,BD17,1)),Responsible="",Responsible="All"),IF(LEN(INDEX(ActionList!I$6:I$1005,BD17,1))=0,"",INDEX(ActionList!I$6:I$1005,BD17,1)),"-") -> Aviana Kenny | BL17: =IF(LEN(INDEX(ActionList!M$6:M$1005,BD17,1))=0,"",INDEX(ActionList!M$6:M$1005,BD17,1)) -> Finished | BM17: =BE17&BF17&BG17&BH17 -> Preparation of the product for the next stageSensors are dirtyFailure of the processDirtiness | BN17: =IF(AND(LEN(BE17)>0,OR(Process="All",Process="",Process=BE17)),BE17,"-") -> Preparation of the product for the next stage | BO17: =IF(AND(LEN(BF17)>0,OR(Mode="All",Mode="",Mode=BF17)),BF17,"-") -> Sensors are dirty | BP17: =IF(CF17=1,BE17&BF17&BG17,"") -> Preparation of the product for the next stageSensors are dirtyFailure of the process | BQ17: =IF(CF17=1,BE17&BF17&BG17&BH17,"") -> Preparation of the product for the next stageSensors are dirtyFailure of the processDirtiness | BR17: =IF(CF17=1,BN17,"") -> Preparation of the product for the next stage | BS17: =IF(CF17=1,BO17,"") -> Sensors are dirty | BT17: =IF(AND(BR17<>"-",COUNTIF(BR$5:BR17,BR17)=1),1,0)*CF17 -> 0 | BU17: =IF(AND(LEN(BS17)>0,COUNTIF(BS$5:BS17,BS17)=1),1,0)*CF17 -> 1 | BV17: =IF(AND(LEN(BP17)>0,COUNTIF(BP$5:BP17,BP17)=1),1,0) -> 1 | BW17: =IF(AND(LEN(BQ17)>0,COUNTIF(BQ$5:BQ17,BQ17)=1),1,0) -> 1 | BX17: =IF(CF17=1,BK17,"") -> Aviana Kenny | BY17: =IF(AND(LEN(BX17)>0,COUNTIF($BX$5:BX17,BX17)=1),1,0) -> 1 | BZ17: =IFERROR(INDEX($T$5:$T$504,MATCH(BM17,$AX$5:$AX$504,0)),"") -> 120 | CA17: =IF(LEN(BE17)=0,"",IF(AND(BZ17>=$H$6,BZ17<=$I$6),$F$6,IF(AND(BZ17>=$H$7,BZ17<=$I$7),$F$7,IF(AND(BZ17>=$H$8,BZ17<=$I$8),$F$8,IF(AND(BZ17>=$H$9,BZ17<=$I$9),$F$9,"-"))))) -> High | CB17: =IFERROR(IF(LEN(BZ17)=0,"-",IF(OR(RPNB="All",RPNB="",RPNB=CA17),CA17,"-")),"-") -> High | CC17: =IFERROR(INDEX($U$5:$U$504,MATCH(BM17,$AX$5:$AX$504,0)),"") -> 40 | CD17: =IF(LEN(BE17)=0,"",IF(AND(CC17>=$H$6,CC17<=$I$6),$F$6,IF(AND(CC17>=$H$7,CC17<=$I$7),$F$7,IF(AND(CC17>=$H$8,CC17<=$I$8),$F$8,IF(AND(CC17>=$H$9,CC17<=$I$9),$F$9,"-"))))) -> Medium | CE17: =IFERROR(IF(LEN(CC17)=0,"",IF(OR(RPNA="All",RPNA="",RPNA=CD17),CD17,"-")),"-") -> Medium | CF17: =IFERROR(IF(AND(LEN(BD17)>0,BN17<>"-",BO17<>"-",BK17<>"-",CG17<>"-",CB17<>"-",CE17<>"-",BI17<>""),1,0),0) -> 1 | CG17: =IF(OR(Status="All",Status="",Status=BL17),BL17,"-") -> Finished | CL17: =D18 | CM17: =IF(LEN($CL17)=0,"",COUNTIFS($BK$5:$BK$23,$CL17,$CF$5:$CF$23,1)) | CN17: =IF(LEN(CL17)=0,"",RANK(CM17,$CM$5:$CM$17,0)) | CO17: =IF(LEN(CL17)=0,"",CN17+COUNTIF($CN$5:CN17,CN17)-1) | CQ17: RPN | CR17: RPN Status Before | CS17: RPN Status After
B18: =IF(Settings!C20="","",Settings!C20) | D18: =IF(Settings!E20="","",Settings!E20) | BD18: 14 | BE18: =IF(LEN(INDEX(ActionList!C$6:C$1005,$BD18,1))=0,"",INDEX(ActionList!C$6:C$1005,$BD18,1)) -> Preparation of the product for the next stage | BF18: =IF(LEN(INDEX(ActionList!D$6:D$1005,$BD18,1))=0,"",INDEX(ActionList!D$6:D$1005,$BD18,1)) -> Sensors are dirty | BG18: =IF(LEN(INDEX(ActionList!E$6:E$1005,$BD18,1))=0,"",INDEX(ActionList!E$6:E$1005,$BD18,1)) -> Failure of the process | BH18: =IF(LEN(INDEX(ActionList!F$6:F$1005,$BD18,1))=0,"",INDEX(ActionList!F$6:F$1005,$BD18,1)) -> Dirtiness | BI18: =IF(LEN(INDEX(ActionList!G$6:G$1005,BD18,1))=0,"",INDEX(ActionList!G$6:G$1005,BD18,1)) -> warning the machine when the sensors are dirty | BJ18: =IF(LEN(INDEX(ActionList!H$6:H$1005,BD18,1))=0,"",INDEX(ActionList!H$6:H$1005,BD18,1)) -> 5 | BK18: =IF(OR(Responsible=IF(LEN(INDEX(ActionList!I$6:I$1005,BD18,1))=0,"",INDEX(ActionList!I$6:I$1005,BD18,1)),Responsible="",Responsible="All"),IF(LEN(INDEX(ActionList!I$6:I$1005,BD18,1))=0,"",INDEX(ActionList!I$6:I$1005,BD18,1)),"-") -> Alyce Milner | BL18: =IF(LEN(INDEX(ActionList!M$6:M$1005,BD18,1))=0,"",INDEX(ActionList!M$6:M$1005,BD18,1)) -> Overdue | BM18: =BE18&BF18&BG18&BH18 -> Preparation of the product for the next stageSensors are dirtyFailure of the processDirtiness | BN18: =IF(AND(LEN(BE18)>0,OR(Process="All",Process="",Process=BE18)),BE18,"-") -> Preparation of the product for the next stage | BO18: =IF(AND(LEN(BF18)>0,OR(Mode="All",Mode="",Mode=BF18)),BF18,"-") -> Sensors are dirty | BP18: =IF(CF18=1,BE18&BF18&BG18,"") -> Preparation of the product for the next stageSensors are dirtyFailure of the process | BQ18: =IF(CF18=1,BE18&BF18&BG18&BH18,"") -> Preparation of the product for the next stageSensors are dirtyFailure of the processDirtiness | BR18: =IF(CF18=1,BN18,"") -> Preparation of the product for the next stage | BS18: =IF(CF18=1,BO18,"") -> Sensors are dirty | BT18: =IF(AND(BR18<>"-",COUNTIF(BR$5:BR18,BR18)=1),1,0)*CF18 -> 0 | BU18: =IF(AND(LEN(BS18)>0,COUNTIF(BS$5:BS18,BS18)=1),1,0)*CF18 -> 0 | BV18: =IF(AND(LEN(BP18)>0,COUNTIF(BP$5:BP18,BP18)=1),1,0) -> 0 | BW18: =IF(AND(LEN(BQ18)>0,COUNTIF(BQ$5:BQ18,BQ18)=1),1,0) -> 0 | BX18: =IF(CF18=1,BK18,"") -> Alyce Milner | BY18: =IF(AND(LEN(BX18)>0,COUNTIF($BX$5:BX18,BX18)=1),1,0) -> 0 | BZ18: =IFERROR(INDEX($T$5:$T$504,MATCH(BM18,$AX$5:$AX$504,0)),"") -> 120 | CA18: =IF(LEN(BE18)=0,"",IF(AND(BZ18>=$H$6,BZ18<=$I$6),$F$6,IF(AND(BZ18>=$H$7,BZ18<=$I$7),$F$7,IF(AND(BZ18>=$H$8,BZ18<=$I$8),$F$8,IF(AND(BZ18>=$H$9,BZ18<=$I$9),$F$9,"-"))))) -> High | CB18: =IFERROR(IF(LEN(BZ18)=0,"-",IF(OR(RPNB="All",RPNB="",RPNB=CA18),CA18,"-")),"-") -> High | CC18: =IFERROR(INDEX($U$5:$U$504,MATCH(BM18,$AX$5:$AX$504,0)),"") -> 40 | CD18: =IF(LEN(BE18)=0,"",IF(AND(CC18>=$H$6,CC18<=$I$6),$F$6,IF(AND(CC18>=$H$7,CC18<=$I$7),$F$7,IF(AND(CC18>=$H$8,CC18<=$I$8),$F$8,IF(AND(CC18>=$H$9,CC18<=$I$9),$F$9,"-"))))) -> Medium | CE18: =IFERROR(IF(LEN(CC18)=0,"",IF(OR(RPNA="All",RPNA="",RPNA=CD18),CD18,"-")),"-") -> Medium | CF18: =IFERROR(IF(AND(LEN(BD18)>0,BN18<>"-",BO18<>"-",BK18<>"-",CG18<>"-",CB18<>"-",CE18<>"-",BI18<>""),1,0),0) -> 1 | CG18: =IF(OR(Status="All",Status="",Status=BL18),BL18,"-") -> Overdue | CQ18: =IF(LEN($F$6)=0," ",$F$6) -> High | CR18: =IF(AND(OR(Responsible="All",Responsible=""),OR(Status="All",Status="")),COUNTIFS($AH$5:$AH$15,$CQ18,$AJ$5:$AJ$15,1),COUNTIFS($CB$5:$CB$23,$CQ18,$CF$5:$CF$23,1)) -> 3 | CS18: =IF(AND(OR(Responsible="All",Responsible=""),OR(Status="All",Status="")),COUNTIFS($AI$5:$AI$15,$CQ18,$AJ$5:$AJ$15,1),COUNTIFS($CE$5:$CE$23,$CQ18,$CF$5:$CF$23,1)) -> 0
BD19: 15 | BE19: =IF(LEN(INDEX(ActionList!C$6:C$1005,$BD19,1))=0,"",INDEX(ActionList!C$6:C$1005,$BD19,1)) -> Preparation of the product for the next stage | BF19: =IF(LEN(INDEX(ActionList!D$6:D$1005,$BD19,1))=0,"",INDEX(ActionList!D$6:D$1005,$BD19,1)) -> Malfunction in process | BG19: =IF(LEN(INDEX(ActionList!E$6:E$1005,$BD19,1))=0,"",INDEX(ActionList!E$6:E$1005,$BD19,1)) -> Failure of production | BH19: =IF(LEN(INDEX(ActionList!F$6:F$1005,$BD19,1))=0,"",INDEX(ActionList!F$6:F$1005,$BD19,1)) -> Mechanical/electrical fault in the machine | BI19: =IF(LEN(INDEX(ActionList!G$6:G$1005,BD19,1))=0,"",INDEX(ActionList!G$6:G$1005,BD19,1)) -> Defining periodic maintenance to machine | BJ19: =IF(LEN(INDEX(ActionList!H$6:H$1005,BD19,1))=0,"",INDEX(ActionList!H$6:H$1005,BD19,1)) -> 2 | BK19: =IF(OR(Responsible=IF(LEN(INDEX(ActionList!I$6:I$1005,BD19,1))=0,"",INDEX(ActionList!I$6:I$1005,BD19,1)),Responsible="",Responsible="All"),IF(LEN(INDEX(ActionList!I$6:I$1005,BD19,1))=0,"",INDEX(ActionList!I$6:I$1005,BD19,1)),"-") -> Julia Roberts | BL19: =IF(LEN(INDEX(ActionList!M$6:M$1005,BD19,1))=0,"",INDEX(ActionList!M$6:M$1005,BD19,1)) -> Finished | BM19: =BE19&BF19&BG19&BH19 -> Preparation of the product for the next stageMalfunction in processFailure of productionMechanical/electrical fault in the machine | BN19: =IF(AND(LEN(BE19)>0,OR(Process="All",Process="",Process=BE19)),BE19,"-") -> Preparation of the product for the next stage | BO19: =IF(AND(LEN(BF19)>0,OR(Mode="All",Mode="",Mode=BF19)),BF19,"-") -> Malfunction in process | BP19: =IF(CF19=1,BE19&BF19&BG19,"") -> Preparation of the product for the next stageMalfunction in processFailure of production | BQ19: =IF(CF19=1,BE19&BF19&BG19&BH19,"") -> Preparation of the product for the next stageMalfunction in processFailure of productionMechanical/electrical fault in the machine | BR19: =IF(CF19=1,BN19,"") -> Preparation of the product for the next stage | BS19: =IF(CF19=1,BO19,"") -> Malfunction in process | BT19: =IF(AND(BR19<>"-",COUNTIF(BR$5:BR19,BR19)=1),1,0)*CF19 -> 0 | BU19: =IF(AND(LEN(BS19)>0,COUNTIF(BS$5:BS19,BS19)=1),1,0)*CF19 -> 1 | BV19: =IF(AND(LEN(BP19)>0,COUNTIF(BP$5:BP19,BP19)=1),1,0) -> 1 | BW19: =IF(AND(LEN(BQ19)>0,COUNTIF(BQ$5:BQ19,BQ19)=1),1,0) -> 1 | BX19: =IF(CF19=1,BK19,"") -> Julia Roberts | BY19: =IF(AND(LEN(BX19)>0,COUNTIF($BX$5:BX19,BX19)=1),1,0) -> 1 | BZ19: =IFERROR(INDEX($T$5:$T$504,MATCH(BM19,$AX$5:$AX$504,0)),"") -> 24 | CA19: =IF(LEN(BE19)=0,"",IF(AND(BZ19>=$H$6,BZ19<=$I$6),$F$6,IF(AND(BZ19>=$H$7,BZ19<=$I$7),$F$7,IF(AND(BZ19>=$H$8,BZ19<=$I$8),$F$8,IF(AND(BZ19>=$H$9,BZ19<=$I$9),$F$9,"-"))))) -> Medium | CB19: =IFERROR(IF(LEN(BZ19)=0,"-",IF(OR(RPNB="All",RPNB="",RPNB=CA19),CA19,"-")),"-") -> Medium | CC19: =IFERROR(INDEX($U$5:$U$504,MATCH(BM19,$AX$5:$AX$504,0)),"") -> 18 | CD19: =IF(LEN(BE19)=0,"",IF(AND(CC19>=$H$6,CC19<=$I$6),$F$6,IF(AND(CC19>=$H$7,CC19<=$I$7),$F$7,IF(AND(CC19>=$H$8,CC19<=$I$8),$F$8,IF(AND(CC19>=$H$9,CC19<=$I$9),$F$9,"-"))))) -> Low | CE19: =IFERROR(IF(LEN(CC19)=0,"",IF(OR(RPNA="All",RPNA="",RPNA=CD19),CD19,"-")),"-") -> Low | CF19: =IFERROR(IF(AND(LEN(BD19)>0,BN19<>"-",BO19<>"-",BK19<>"-",CG19<>"-",CB19<>"-",CE19<>"-",BI19<>""),1,0),0) -> 1 | CG19: =IF(OR(Status="All",Status="",Status=BL19),BL19,"-") -> Finished | CQ19: =IF(LEN($F$7)=0," ",$F$7) -> Medium | CR19: =IF(AND(OR(Responsible="All",Responsible=""),OR(Status="All",Status="")),COUNTIFS($AH$5:$AH$15,$CQ19,$AJ$5:$AJ$15,1),COUNTIFS($CB$5:$CB$23,$CQ19,$CF$5:$CF$23,1)) -> 6 | CS19: =IF(AND(OR(Responsible="All",Responsible=""),OR(Status="All",Status="")),COUNTIFS($AI$5:$AI$15,$CQ19,$AJ$5:$AJ$15,1),COUNTIFS($CE$5:$CE$23,$CQ19,$CF$5:$CF$23,1)) -> 5
BD20: 16 | BE20: =IF(LEN(INDEX(ActionList!C$6:C$1005,$BD20,1))=0,"",INDEX(ActionList!C$6:C$1005,$BD20,1)) | BF20: =IF(LEN(INDEX(ActionList!D$6:D$1005,$BD20,1))=0,"",INDEX(ActionList!D$6:D$1005,$BD20,1)) | BG20: =IF(LEN(INDEX(ActionList!E$6:E$1005,$BD20,1))=0,"",INDEX(ActionList!E$6:E$1005,$BD20,1)) | BH20: =IF(LEN(INDEX(ActionList!F$6:F$1005,$BD20,1))=0,"",INDEX(ActionList!F$6:F$1005,$BD20,1)) | BI20: =IF(LEN(INDEX(ActionList!G$6:G$1005,BD20,1))=0,"",INDEX(ActionList!G$6:G$1005,BD20,1)) | BJ20: =IF(LEN(INDEX(ActionList!H$6:H$1005,BD20,1))=0,"",INDEX(ActionList!H$6:H$1005,BD20,1)) | BK20: =IF(OR(Responsible=IF(LEN(INDEX(ActionList!I$6:I$1005,BD20,1))=0,"",INDEX(ActionList!I$6:I$1005,BD20,1)),Responsible="",Responsible="All"),IF(LEN(INDEX(ActionList!I$6:I$1005,BD20,1))=0,"",INDEX(ActionList!I$6:I$1005,BD20,1)),"-") | BL20: =IF(LEN(INDEX(ActionList!M$6:M$1005,BD20,1))=0,"",INDEX(ActionList!M$6:M$1005,BD20,1)) | BM20: =BE20&BF20&BG20&BH20 | BN20: =IF(AND(LEN(BE20)>0,OR(Process="All",Process="",Process=BE20)),BE20,"-") -> - | BO20: =IF(AND(LEN(BF20)>0,OR(Mode="All",Mode="",Mode=BF20)),BF20,"-") -> - | BP20: =IF(CF20=1,BE20&BF20&BG20,"") | BQ20: =IF(CF20=1,BE20&BF20&BG20&BH20,"") | BR20: =IF(CF20=1,BN20,"") | BS20: =IF(CF20=1,BO20,"") | BT20: =IF(AND(BR20<>"-",COUNTIF(BR$5:BR20,BR20)=1),1,0)*CF20 -> 0 | BU20: =IF(AND(LEN(BS20)>0,COUNTIF(BS$5:BS20,BS20)=1),1,0)*CF20 -> 0 | BV20: =IF(AND(LEN(BP20)>0,COUNTIF(BP$5:BP20,BP20)=1),1,0) -> 0 | BW20: =IF(AND(LEN(BQ20)>0,COUNTIF(BQ$5:BQ20,BQ20)=1),1,0) -> 0 | BX20: =IF(CF20=1,BK20,"") | BY20: =IF(AND(LEN(BX20)>0,COUNTIF($BX$5:BX20,BX20)=1),1,0) -> 0 | BZ20: =IFERROR(INDEX($T$5:$T$504,MATCH(BM20,$AX$5:$AX$504,0)),"") | CA20: =IF(LEN(BE20)=0,"",IF(AND(BZ20>=$H$6,BZ20<=$I$6),$F$6,IF(AND(BZ20>=$H$7,BZ20<=$I$7),$F$7,IF(AND(BZ20>=$H$8,BZ20<=$I$8),$F$8,IF(AND(BZ20>=$H$9,BZ20<=$I$9),$F$9,"-"))))) | CB20: =IFERROR(IF(LEN(BZ20)=0,"-",IF(OR(RPNB="All",RPNB="",RPNB=CA20),CA20,"-")),"-") -> - | CC20: =IFERROR(INDEX($U$5:$U$504,MATCH(BM20,$AX$5:$AX$504,0)),"") | CD20: =IF(LEN(BE20)=0,"",IF(AND(CC20>=$H$6,CC20<=$I$6),$F$6,IF(AND(CC20>=$H$7,CC20<=$I$7),$F$7,IF(AND(CC20>=$H$8,CC20<=$I$8),$F$8,IF(AND(CC20>=$H$9,CC20<=$I$9),$F$9,"-"))))) | CE20: =IFERROR(IF(LEN(CC20)=0,"",IF(OR(RPNA="All",RPNA="",RPNA=CD20),CD20,"-")),"-") | CF20: =IFERROR(IF(AND(LEN(BD20)>0,BN20<>"-",BO20<>"-",BK20<>"-",CG20<>"-",CB20<>"-",CE20<>"-",BI20<>""),1,0),0) -> 0 | CG20: =IF(OR(Status="All",Status="",Status=BL20),BL20,"-") | CQ20: =IF(LEN($F$8)=0," ",$F$8) -> Low | CR20: =IF(AND(OR(Responsible="All",Responsible=""),OR(Status="All",Status="")),COUNTIFS($AH$5:$AH$15,$CQ20,$AJ$5:$AJ$15,1),COUNTIFS($CB$5:$CB$23,$CQ20,$CF$5:$CF$23,1)) -> 0 | CS20: =IF(AND(OR(Responsible="All",Responsible=""),OR(Status="All",Status="")),COUNTIFS($AI$5:$AI$15,$CQ20,$AJ$5:$AJ$15,1),COUNTIFS($CE$5:$CE$23,$CQ20,$CF$5:$CF$23,1)) -> 4
BD21: 17 | BE21: =IF(LEN(INDEX(ActionList!C$6:C$1005,$BD21,1))=0,"",INDEX(ActionList!C$6:C$1005,$BD21,1)) | BF21: =IF(LEN(INDEX(ActionList!D$6:D$1005,$BD21,1))=0,"",INDEX(ActionList!D$6:D$1005,$BD21,1)) | BG21: =IF(LEN(INDEX(ActionList!E$6:E$1005,$BD21,1))=0,"",INDEX(ActionList!E$6:E$1005,$BD21,1)) | BH21: =IF(LEN(INDEX(ActionList!F$6:F$1005,$BD21,1))=0,"",INDEX(ActionList!F$6:F$1005,$BD21,1)) | BI21: =IF(LEN(INDEX(ActionList!G$6:G$1005,BD21,1))=0,"",INDEX(ActionList!G$6:G$1005,BD21,1)) | BJ21: =IF(LEN(INDEX(ActionList!H$6:H$1005,BD21,1))=0,"",INDEX(ActionList!H$6:H$1005,BD21,1)) | BK21: =IF(OR(Responsible=IF(LEN(INDEX(ActionList!I$6:I$1005,BD21,1))=0,"",INDEX(ActionList!I$6:I$1005,BD21,1)),Responsible="",Responsible="All"),IF(LEN(INDEX(ActionList!I$6:I$1005,BD21,1))=0,"",INDEX(ActionList!I$6:I$1005,BD21,1)),"-") | BL21: =IF(LEN(INDEX(ActionList!M$6:M$1005,BD21,1))=0,"",INDEX(ActionList!M$6:M$1005,BD21,1)) | BM21: =BE21&BF21&BG21&BH21 | BN21: =IF(AND(LEN(BE21)>0,OR(Process="All",Process="",Process=BE21)),BE21,"-") -> - | BO21: =IF(AND(LEN(BF21)>0,OR(Mode="All",Mode="",Mode=BF21)),BF21,"-") -> - | BP21: =IF(CF21=1,BE21&BF21&BG21,"") | BQ21: =IF(CF21=1,BE21&BF21&BG21&BH21,"") | BR21: =IF(CF21=1,BN21,"") | BS21: =IF(CF21=1,BO21,"") | BT21: =IF(AND(BR21<>"-",COUNTIF(BR$5:BR21,BR21)=1),1,0)*CF21 -> 0 | BU21: =IF(AND(LEN(BS21)>0,COUNTIF(BS$5:BS21,BS21)=1),1,0)*CF21 -> 0 | BV21: =IF(AND(LEN(BP21)>0,COUNTIF(BP$5:BP21,BP21)=1),1,0) -> 0 | BW21: =IF(AND(LEN(BQ21)>0,COUNTIF(BQ$5:BQ21,BQ21)=1),1,0) -> 0 | BX21: =IF(CF21=1,BK21,"") | BY21: =IF(AND(LEN(BX21)>0,COUNTIF($BX$5:BX21,BX21)=1),1,0) -> 0 | BZ21: =IFERROR(INDEX($T$5:$T$504,MATCH(BM21,$AX$5:$AX$504,0)),"") | CA21: =IF(LEN(BE21)=0,"",IF(AND(BZ21>=$H$6,BZ21<=$I$6),$F$6,IF(AND(BZ21>=$H$7,BZ21<=$I$7),$F$7,IF(AND(BZ21>=$H$8,BZ21<=$I$8),$F$8,IF(AND(BZ21>=$H$9,BZ21<=$I$9),$F$9,"-"))))) | CB21: =IFERROR(IF(LEN(BZ21)=0,"-",IF(OR(RPNB="All",RPNB="",RPNB=CA21),CA21,"-")),"-") -> - | CC21: =IFERROR(INDEX($U$5:$U$504,MATCH(BM21,$AX$5:$AX$504,0)),"") | CD21: =IF(LEN(BE21)=0,"",IF(AND(CC21>=$H$6,CC21<=$I$6),$F$6,IF(AND(CC21>=$H$7,CC21<=$I$7),$F$7,IF(AND(CC21>=$H$8,CC21<=$I$8),$F$8,IF(AND(CC21>=$H$9,CC21<=$I$9),$F$9,"-"))))) | CE21: =IFERROR(IF(LEN(CC21)=0,"",IF(OR(RPNA="All",RPNA="",RPNA=CD21),CD21,"-")),"-") | CF21: =IFERROR(IF(AND(LEN(BD21)>0,BN21<>"-",BO21<>"-",BK21<>"-",CG21<>"-",CB21<>"-",CE21<>"-",BI21<>""),1,0),0) -> 0 | CG21: =IF(OR(Status="All",Status="",Status=BL21),BL21,"-")
BD22: 18 | BE22: =IF(LEN(INDEX(ActionList!C$6:C$1005,$BD22,1))=0,"",INDEX(ActionList!C$6:C$1005,$BD22,1)) | BF22: =IF(LEN(INDEX(ActionList!D$6:D$1005,$BD22,1))=0,"",INDEX(ActionList!D$6:D$1005,$BD22,1)) | BG22: =IF(LEN(INDEX(ActionList!E$6:E$1005,$BD22,1))=0,"",INDEX(ActionList!E$6:E$1005,$BD22,1)) | BH22: =IF(LEN(INDEX(ActionList!F$6:F$1005,$BD22,1))=0,"",INDEX(ActionList!F$6:F$1005,$BD22,1)) | BI22: =IF(LEN(INDEX(ActionList!G$6:G$1005,BD22,1))=0,"",INDEX(ActionList!G$6:G$1005,BD22,1)) | BJ22: =IF(LEN(INDEX(ActionList!H$6:H$1005,BD22,1))=0,"",INDEX(ActionList!H$6:H$1005,BD22,1)) | BK22: =IF(OR(Responsible=IF(LEN(INDEX(ActionList!I$6:I$1005,BD22,1))=0,"",INDEX(ActionList!I$6:I$1005,BD22,1)),Responsible="",Responsible="All"),IF(LEN(INDEX(ActionList!I$6:I$1005,BD22,1))=0,"",INDEX(ActionList!I$6:I$1005,BD22,1)),"-") | BL22: =IF(LEN(INDEX(ActionList!M$6:M$1005,BD22,1))=0,"",INDEX(ActionList!M$6:M$1005,BD22,1)) | BM22: =BE22&BF22&BG22&BH22 | BN22: =IF(AND(LEN(BE22)>0,OR(Process="All",Process="",Process=BE22)),BE22,"-") -> - | BO22: =IF(AND(LEN(BF22)>0,OR(Mode="All",Mode="",Mode=BF22)),BF22,"-") -> - | BP22: =IF(CF22=1,BE22&BF22&BG22,"") | BQ22: =IF(CF22=1,BE22&BF22&BG22&BH22,"") | BR22: =IF(CF22=1,BN22,"") | BS22: =IF(CF22=1,BO22,"") | BT22: =IF(AND(BR22<>"-",COUNTIF(BR$5:BR22,BR22)=1),1,0)*CF22 -> 0 | BU22: =IF(AND(LEN(BS22)>0,COUNTIF(BS$5:BS22,BS22)=1),1,0)*CF22 -> 0 | BV22: =IF(AND(LEN(BP22)>0,COUNTIF(BP$5:BP22,BP22)=1),1,0) -> 0 | BW22: =IF(AND(LEN(BQ22)>0,COUNTIF(BQ$5:BQ22,BQ22)=1),1,0) -> 0 | BX22: =IF(CF22=1,BK22,"") | BY22: =IF(AND(LEN(BX22)>0,COUNTIF($BX$5:BX22,BX22)=1),1,0) -> 0 | BZ22: =IFERROR(INDEX($T$5:$T$504,MATCH(BM22,$AX$5:$AX$504,0)),"") | CA22: =IF(LEN(BE22)=0,"",IF(AND(BZ22>=$H$6,BZ22<=$I$6),$F$6,IF(AND(BZ22>=$H$7,BZ22<=$I$7),$F$7,IF(AND(BZ22>=$H$8,BZ22<=$I$8),$F$8,IF(AND(BZ22>=$H$9,BZ22<=$I$9),$F$9,"-"))))) | CB22: =IFERROR(IF(LEN(BZ22)=0,"-",IF(OR(RPNB="All",RPNB="",RPNB=CA22),CA22,"-")),"-") -> - | CC22: =IFERROR(INDEX($U$5:$U$504,MATCH(BM22,$AX$5:$AX$504,0)),"") | CD22: =IF(LEN(BE22)=0,"",IF(AND(CC22>=$H$6,CC22<=$I$6),$F$6,IF(AND(CC22>=$H$7,CC22<=$I$7),$F$7,IF(AND(CC22>=$H$8,CC22<=$I$8),$F$8,IF(AND(CC22>=$H$9,CC22<=$I$9),$F$9,"-"))))) | CE22: =IFERROR(IF(LEN(CC22)=0,"",IF(OR(RPNA="All",RPNA="",RPNA=CD22),CD22,"-")),"-") | CF22: =IFERROR(IF(AND(LEN(BD22)>0,BN22<>"-",BO22<>"-",BK22<>"-",CG22<>"-",CB22<>"-",CE22<>"-",BI22<>""),1,0),0) -> 0 | CG22: =IF(OR(Status="All",Status="",Status=BL22),BL22,"-")
BD23: 19 | BE23: =IF(LEN(INDEX(ActionList!C$6:C$1005,$BD23,1))=0,"",INDEX(ActionList!C$6:C$1005,$BD23,1)) | BF23: =IF(LEN(INDEX(ActionList!D$6:D$1005,$BD23,1))=0,"",INDEX(ActionList!D$6:D$1005,$BD23,1)) | BG23: =IF(LEN(INDEX(ActionList!E$6:E$1005,$BD23,1))=0,"",INDEX(ActionList!E$6:E$1005,$BD23,1)) | BH23: =IF(LEN(INDEX(ActionList!F$6:F$1005,$BD23,1))=0,"",INDEX(ActionList!F$6:F$1005,$BD23,1)) | BI23: =IF(LEN(INDEX(ActionList!G$6:G$1005,BD23,1))=0,"",INDEX(ActionList!G$6:G$1005,BD23,1)) | BJ23: =IF(LEN(INDEX(ActionList!H$6:H$1005,BD23,1))=0,"",INDEX(ActionList!H$6:H$1005,BD23,1)) | BK23: =IF(OR(Responsible=IF(LEN(INDEX(ActionList!I$6:I$1005,BD23,1))=0,"",INDEX(ActionList!I$6:I$1005,BD23,1)),Responsible="",Responsible="All"),IF(LEN(INDEX(ActionList!I$6:I$1005,BD23,1))=0,"",INDEX(ActionList!I$6:I$1005,BD23,1)),"-") | BL23: =IF(LEN(INDEX(ActionList!M$6:M$1005,BD23,1))=0,"",INDEX(ActionList!M$6:M$1005,BD23,1)) | BM23: =BE23&BF23&BG23&BH23 | BN23: =IF(AND(LEN(BE23)>0,OR(Process="All",Process="",Process=BE23)),BE23,"-") -> - | BO23: =IF(AND(LEN(BF23)>0,OR(Mode="All",Mode="",Mode=BF23)),BF23,"-") -> - | BP23: =IF(CF23=1,BE23&BF23&BG23,"") | BQ23: =IF(CF23=1,BE23&BF23&BG23&BH23,"") | BR23: =IF(CF23=1,BN23,"") | BS23: =IF(CF23=1,BO23,"") | BT23: =IF(AND(BR23<>"-",COUNTIF(BR$5:BR23,BR23)=1),1,0)*CF23 -> 0 | BU23: =IF(AND(LEN(BS23)>0,COUNTIF(BS$5:BS23,BS23)=1),1,0)*CF23 -> 0 | BV23: =IF(AND(LEN(BP23)>0,COUNTIF(BP$5:BP23,BP23)=1),1,0) -> 0 | BW23: =IF(AND(LEN(BQ23)>0,COUNTIF(BQ$5:BQ23,BQ23)=1),1,0) -> 0 | BX23: =IF(CF23=1,BK23,"") | BY23: =IF(AND(LEN(BX23)>0,COUNTIF($BX$5:BX23,BX23)=1),1,0) -> 0 | BZ23: =IFERROR(INDEX($T$5:$T$504,MATCH(BM23,$AX$5:$AX$504,0)),"") | CA23: =IF(LEN(BE23)=0,"",IF(AND(BZ23>=$H$6,BZ23<=$I$6),$F$6,IF(AND(BZ23>=$H$7,BZ23<=$I$7),$F$7,IF(AND(BZ23>=$H$8,BZ23<=$I$8),$F$8,IF(AND(BZ23>=$H$9,BZ23<=$I$9),$F$9,"-"))))) | CB23: =IFERROR(IF(LEN(BZ23)=0,"-",IF(OR(RPNB="All",RPNB="",RPNB=CA23),CA23,"-")),"-") -> - | CC23: =IFERROR(INDEX($U$5:$U$504,MATCH(BM23,$AX$5:$AX$504,0)),"") | CD23: =IF(LEN(BE23)=0,"",IF(AND(CC23>=$H$6,CC23<=$I$6),$F$6,IF(AND(CC23>=$H$7,CC23<=$I$7),$F$7,IF(AND(CC23>=$H$8,CC23<=$I$8),$F$8,IF(AND(CC23>=$H$9,CC23<=$I$9),$F$9,"-"))))) | CE23: =IFERROR(IF(LEN(CC23)=0,"",IF(OR(RPNA="All",RPNA="",RPNA=CD23),CD23,"-")),"-") | CF23: =IFERROR(IF(AND(LEN(BD23)>0,BN23<>"-",BO23<>"-",BK23<>"-",CG23<>"-",CB23<>"-",CE23<>"-",BI23<>""),1,0),0) -> 0 | CG23: =IF(OR(Status="All",Status="",Status=BL23),BL23,"-") | CQ23: FMEA Summary
BD24: 20 | CQ24: =IFERROR((1-CQ27/CQ28),0) -> 0.60120846
BD25: 21 | CQ25: =1-CQ24 -> 0.39879154
BD26: 22 | CQ26: =CQ28-CQ27 -> 398
BD27: 23 | CQ27: =IFERROR(IF(AND(OR(Responsible="All",Responsible=""),OR(Status="All",Status="")),U3,CC3),"") -> 264
BD28: 24 | CQ28: =IFERROR(IF(AND(OR(Responsible="All",Responsible=""),OR(Status="All",Status="")),T3,BZ3),"") -> 662
BD29: 25
BD30: 26
BD31: 27
BD32: 28
BD33: 29
BD34: 30
BD35: 31
BD36: 32
BD37: 33
BD38: 34
BD39: 35
BD40: 36
... BD105: 101
B106: =MAX(COUNTA(B6:B18)-COUNTBLANK(B5:B18),1) -> 5 | D106: =MAX(COUNTA(D6:D18)-COUNTBLANK(D5:D18),1) -> 10 | BD106: 102
BD107: 103
BD108: 104
BD109: 105
BD110: 106
BD111: 107
BD112: 108
BD113: 109
BD114: 110
BD115: 111
BD116: 112
BD117: 113
BD118: 114
... BD1004: 1000
