Workbook
Name chartprocessaveragelabels: OFFSET(Calc!$Y$37,,,Calc!$Y$36)
Name chartprocessaveragevalues: OFFSET(Calc!$Z$37,,,Calc!$Y$36)
Name chartprocesslabels: OFFSET(Calc!$Y$11,,,Calc!$Y$10)
Name chartprocessvalues: OFFSET(Calc!$Z$11,,,Calc!$Y$10)
Name chartresponsiblelabels: OFFSET(Calc!$Y$24,,,Calc!$Y$23)
Name chartresponsiblevalues: OFFSET(Calc!$Z$24,,,Calc!$Y$23)

Sheet Input
C2: FIT GAP ANALYSIS TEMPLATE
C3: INPUT
E7: 1 | F7: 2 | G7: 3 | H7: 4 | I7: 5
C8: Business Process | D8: Task/Objective | E8: Poor Fit | F8: Marginal Fit | G8: Acceptable Fit | H8: Good Fit | I8: Excellent Fit | J8: Responsible Person/Team
C9: Production Planning | D9: Stock level management | E9: ✔ | J9: Planning Chief
C10: Production Planning | D10: Production lead time | F10: ✔ | J10: Production Chief
C11: Recruitment | D11: Quick response time | I11: ✔ | J11: Recruitment Specialist
C12: Recruitment | D12: Candidate evaluation | G12: ✔ | J12: Recruitment Lead
C13: Procurement | D13: Supplier qualification | H13: ✔ | J13: Procurement Engineer

Sheet Dashboard
C2: FIT GAP ANALYSIS TEMPLATE
C3: DASHBOARD

Sheet Calc
B2: DATA INPUT - FIT GAP ANALYSIS | X2: Gap Distribution
L3: =MAX(COUNTA($L$5:$L$14)-COUNTBLANK($L$5:$L$14),1) -> 3 | S3: =MAX(COUNTA($S$5:$S$14)-COUNTBLANK($S$5:$S$14),1) -> 5 | X3: Poor Fit | Y3: =IFERROR(COUNTA($D$5:$D$14)-COUNTBLANK($D$5:$D$14),"") -> 1
B4: Rows | C4: Process | D4: Poor Fit | E4: Marginal Fit | F4: Acceptable Fit | G4: Good Fit | H4: Excellent Fit | J4: Responsible | L4: Unique Process | M4: Count | N4: Rank | O4: Rank Adj | P4: Average | Q4: Avg Rank | R4: Avg Rank Adj | S4: Unique Responsible | T4: Count | U4: Rank | V4: Rank Adj | X4: Marginal Fit | Y4: =IFERROR(COUNTA($E$5:$E$14)-COUNTBLANK($E$5:$E$14),"") -> 1
B5: 1 | C5: =IFERROR(IF(LEN(Input!$C9)>0,Input!$C9,""),"") -> Production Planning | D5: =IFERROR(IF(LEN(Input!$E9)>0,Input!$E9,""),"") -> ✔ | E5: =IFERROR(IF(LEN(Input!$F9)>0,Input!$F9,""),"") | F5: =IFERROR(IF(LEN(Input!$G9)>0,Input!$G9,""),"") | G5: =IFERROR(IF(LEN(Input!$H9)>0,Input!$H9,""),"") | H5: =IFERROR(IF(LEN(Input!$I9)>0,Input!$I9,""),"") | I5: =IFERROR(IF(LEN($D5)<>0,1,IF(LEN($E5)<>0,2,IF(LEN($F5)<>0,3,IF(LEN($G5)<>0,4,IF(LEN(H5)<>0,5,""))))),"") -> 1 | J5: =IFERROR(IF(LEN(Input!$J9)>0,Input!$J9,""),"") -> Planning Chief | L5: {=IFERROR(INDEX($C$5:$C$14, MATCH(0, COUNTIF($L$4:$L4, $C$5:$C$14&"") + IF($C$5:$C$14="",1,0), 0)), "")} -> Production Planning | M5: =IFERROR(IF(LEN($L5)>0,COUNTIF($C$5:$C$14,$L5),""),"") -> 2 | N5: =IFERROR(IF(LEN(M5)=0,"",+RANK(M5,$M$5:$M$14,0)),"") -> 1 | O5: =IFERROR(IF(LEN(N5)=0,"",+COUNTIF($N$5:$N5,$N5)+N5-1),"") -> 1 | P5: =IFERROR(SUMIF($C5:$C14,$L5,$I5:$I14)/$M5,"") -> 1.5 | Q5: =IFERROR(IF(LEN(P5)=0,"",+RANK(P5,$P$5:$P$14,0)),"") -> 3 | R5: =IFERROR(IF(LEN(Q5)=0,"",+COUNTIF($Q$5:$Q5,$Q5)+Q5-1),"") -> 3 | S5: {=IFERROR(INDEX($J$5:$J$14, MATCH(0, COUNTIF($S$4:$S4, $J$5:$J$14&"") + IF($J$5:$J$14="",1,0), 0)), "")} -> Planning Chief | T5: =IFERROR(IF(LEN($S5)>0,COUNTIF($J$5:$J$14,$S5),""),"") -> 1 | U5: =IFERROR(IF(LEN(T5)=0,"",+RANK(T5,$T$5:$T$14,0)),"") -> 1 | V5: =IFERROR(IF(LEN(U5)=0,"",+COUNTIF($U$5:$U5,$U5)+U5-1),"") -> 1 | X5: Acceptable Fit | Y5: =IFERROR(COUNTA($F$5:$F$14)-COUNTBLANK($F$5:$F$14),"") -> 1
B6: 2 | C6: =IFERROR(IF(LEN(Input!$C10)>0,Input!$C10,""),"") -> Production Planning | D6: =IFERROR(IF(LEN(Input!$E10)>0,Input!$E10,""),"") | E6: =IFERROR(IF(LEN(Input!$F10)>0,Input!$F10,""),"") -> ✔ | F6: =IFERROR(IF(LEN(Input!$G10)>0,Input!$G10,""),"") | G6: =IFERROR(IF(LEN(Input!$H10)>0,Input!$H10,""),"") | H6: =IFERROR(IF(LEN(Input!$I10)>0,Input!$I10,""),"") | I6: =IFERROR(IF(LEN($D6)<>0,1,IF(LEN($E6)<>0,2,IF(LEN($F6)<>0,3,IF(LEN($G6)<>0,4,IF(LEN(H6)<>0,5,""))))),"") -> 2 | J6: =IFERROR(IF(LEN(Input!$J10)>0,Input!$J10,""),"") -> Production Chief | L6: {=IFERROR(INDEX($C$5:$C$14, MATCH(0, COUNTIF($L$4:$L5, $C$5:$C$14&"") + IF($C$5:$C$14="",1,0), 0)), "")} -> Recruitment | M6: =IFERROR(IF(LEN($L6)>0,COUNTIF($C$5:$C$14,$L6),""),"") -> 2 | N6: =IFERROR(IF(LEN(M6)=0,"",+RANK(M6,$M$5:$M$14,0)),"") -> 1 | O6: =IFERROR(IF(LEN(N6)=0,"",+COUNTIF($N$5:$N6,$N6)+N6-1),"") -> 2 | P6: =IFERROR(SUMIF($C6:$C15,$L6,$I6:$I15)/$M6,"") -> 4 | Q6: =IFERROR(IF(LEN(P6)=0,"",+RANK(P6,$P$5:$P$14,0)),"") -> 1 | R6: =IFERROR(IF(LEN(Q6)=0,"",+COUNTIF($Q$5:$Q6,$Q6)+Q6-1),"") -> 1 | S6: {=IFERROR(INDEX($J$5:$J$14, MATCH(0, COUNTIF($S$4:$S5, $J$5:$J$14&"") + IF($J$5:$J$14="",1,0), 0)), "")} -> Production Chief | T6: =IFERROR(IF(LEN($S6)>0,COUNTIF($J$5:$J$14,$S6),""),"") -> 1 | U6: =IFERROR(IF(LEN(T6)=0,"",+RANK(T6,$T$5:$T$14,0)),"") -> 1 | V6: =IFERROR(IF(LEN(U6)=0,"",+COUNTIF($U$5:$U6,$U6)+U6-1),"") -> 2 | X6: Good Fit | Y6: =IFERROR(COUNTA($G$5:$G$14)-COUNTBLANK($G$5:$G$14),"") -> 1
B7: 3 | C7: =IFERROR(IF(LEN(Input!$C11)>0,Input!$C11,""),"") -> Recruitment | D7: =IFERROR(IF(LEN(Input!$E11)>0,Input!$E11,""),"") | E7: =IFERROR(IF(LEN(Input!$F11)>0,Input!$F11,""),"") | F7: =IFERROR(IF(LEN(Input!$G11)>0,Input!$G11,""),"") | G7: =IFERROR(IF(LEN(Input!$H11)>0,Input!$H11,""),"") | H7: =IFERROR(IF(LEN(Input!$I11)>0,Input!$I11,""),"") -> ✔ | I7: =IFERROR(IF(LEN($D7)<>0,1,IF(LEN($E7)<>0,2,IF(LEN($F7)<>0,3,IF(LEN($G7)<>0,4,IF(LEN(H7)<>0,5,""))))),"") -> 5 | J7: =IFERROR(IF(LEN(Input!$J11)>0,Input!$J11,""),"") -> Recruitment Specialist | L7: {=IFERROR(INDEX($C$5:$C$14, MATCH(0, COUNTIF($L$4:$L6, $C$5:$C$14&"") + IF($C$5:$C$14="",1,0), 0)), "")} -> Procurement | M7: =IFERROR(IF(LEN($L7)>0,COUNTIF($C$5:$C$14,$L7),""),"") -> 1 | N7: =IFERROR(IF(LEN(M7)=0,"",+RANK(M7,$M$5:$M$14,0)),"") -> 3 | O7: =IFERROR(IF(LEN(N7)=0,"",+COUNTIF($N$5:$N7,$N7)+N7-1),"") -> 3 | P7: =IFERROR(SUMIF($C7:$C16,$L7,$I7:$I16)/$M7,"") -> 4 | Q7: =IFERROR(IF(LEN(P7)=0,"",+RANK(P7,$P$5:$P$14,0)),"") -> 1 | R7: =IFERROR(IF(LEN(Q7)=0,"",+COUNTIF($Q$5:$Q7,$Q7)+Q7-1),"") -> 2 | S7: {=IFERROR(INDEX($J$5:$J$14, MATCH(0, COUNTIF($S$4:$S6, $J$5:$J$14&"") + IF($J$5:$J$14="",1,0), 0)), "")} -> Recruitment Specialist | T7: =IFERROR(IF(LEN($S7)>0,COUNTIF($J$5:$J$14,$S7),""),"") -> 1 | U7: =IFERROR(IF(LEN(T7)=0,"",+RANK(T7,$T$5:$T$14,0)),"") -> 1 | V7: =IFERROR(IF(LEN(U7)=0,"",+COUNTIF($U$5:$U7,$U7)+U7-1),"") -> 3 | X7: Excellent Fit | Y7: =IFERROR(COUNTA($H$5:$H$14)-COUNTBLANK($H$5:$H$14),"") -> 1
B8: 4 | C8: =IFERROR(IF(LEN(Input!$C12)>0,Input!$C12,""),"") -> Recruitment | D8: =IFERROR(IF(LEN(Input!$E12)>0,Input!$E12,""),"") | E8: =IFERROR(IF(LEN(Input!$F12)>0,Input!$F12,""),"") | F8: =IFERROR(IF(LEN(Input!$G12)>0,Input!$G12,""),"") -> ✔ | G8: =IFERROR(IF(LEN(Input!$H12)>0,Input!$H12,""),"") | H8: =IFERROR(IF(LEN(Input!$I12)>0,Input!$I12,""),"") | I8: =IFERROR(IF(LEN($D8)<>0,1,IF(LEN($E8)<>0,2,IF(LEN($F8)<>0,3,IF(LEN($G8)<>0,4,IF(LEN(H8)<>0,5,""))))),"") -> 3 | J8: =IFERROR(IF(LEN(Input!$J12)>0,Input!$J12,""),"") -> Recruitment Lead | L8: {=IFERROR(INDEX($C$5:$C$14, MATCH(0, COUNTIF($L$4:$L7, $C$5:$C$14&"") + IF($C$5:$C$14="",1,0), 0)), "")} | M8: =IFERROR(IF(LEN($L8)>0,COUNTIF($C$5:$C$14,$L8),""),"") | N8: =IFERROR(IF(LEN(M8)=0,"",+RANK(M8,$M$5:$M$14,0)),"") | O8: =IFERROR(IF(LEN(N8)=0,"",+COUNTIF($N$5:$N8,$N8)+N8-1),"") | P8: =IFERROR(SUMIF($C8:$C17,$L8,$I8:$I17)/$M8,"") | Q8: =IFERROR(IF(LEN(P8)=0,"",+RANK(P8,$P$5:$P$14,0)),"") | R8: =IFERROR(IF(LEN(Q8)=0,"",+COUNTIF($Q$5:$Q8,$Q8)+Q8-1),"") | S8: {=IFERROR(INDEX($J$5:$J$14, MATCH(0, COUNTIF($S$4:$S7, $J$5:$J$14&"") + IF($J$5:$J$14="",1,0), 0)), "")} -> Recruitment Lead | T8: =IFERROR(IF(LEN($S8)>0,COUNTIF($J$5:$J$14,$S8),""),"") -> 1 | U8: =IFERROR(IF(LEN(T8)=0,"",+RANK(T8,$T$5:$T$14,0)),"") -> 1 | V8: =IFERROR(IF(LEN(U8)=0,"",+COUNTIF($U$5:$U8,$U8)+U8-1),"") -> 4
B9: 5 | C9: =IFERROR(IF(LEN(Input!$C13)>0,Input!$C13,""),"") -> Procurement | D9: =IFERROR(IF(LEN(Input!$E13)>0,Input!$E13,""),"") | E9: =IFERROR(IF(LEN(Input!$F13)>0,Input!$F13,""),"") | F9: =IFERROR(IF(LEN(Input!$G13)>0,Input!$G13,""),"") | G9: =IFERROR(IF(LEN(Input!$H13)>0,Input!$H13,""),"") -> ✔ | H9: =IFERROR(IF(LEN(Input!$I13)>0,Input!$I13,""),"") | I9: =IFERROR(IF(LEN($D9)<>0,1,IF(LEN($E9)<>0,2,IF(LEN($F9)<>0,3,IF(LEN($G9)<>0,4,IF(LEN(H9)<>0,5,""))))),"") -> 4 | J9: =IFERROR(IF(LEN(Input!$J13)>0,Input!$J13,""),"") -> Procurement Engineer | L9: {=IFERROR(INDEX($C$5:$C$14, MATCH(0, COUNTIF($L$4:$L8, $C$5:$C$14&"") + IF($C$5:$C$14="",1,0), 0)), "")} | M9: =IFERROR(IF(LEN($L9)>0,COUNTIF($C$5:$C$14,$L9),""),"") | N9: =IFERROR(IF(LEN(M9)=0,"",+RANK(M9,$M$5:$M$14,0)),"") | O9: =IFERROR(IF(LEN(N9)=0,"",+COUNTIF($N$5:$N9,$N9)+N9-1),"") | P9: =IFERROR(SUMIF($C9:$C18,$L9,$I9:$I18)/$M9,"") | Q9: =IFERROR(IF(LEN(P9)=0,"",+RANK(P9,$P$5:$P$14,0)),"") | R9: =IFERROR(IF(LEN(Q9)=0,"",+COUNTIF($Q$5:$Q9,$Q9)+Q9-1),"") | S9: {=IFERROR(INDEX($J$5:$J$14, MATCH(0, COUNTIF($S$4:$S8, $J$5:$J$14&"") + IF($J$5:$J$14="",1,0), 0)), "")} -> Procurement Engineer | T9: =IFERROR(IF(LEN($S9)>0,COUNTIF($J$5:$J$14,$S9),""),"") -> 1 | U9: =IFERROR(IF(LEN(T9)=0,"",+RANK(T9,$T$5:$T$14,0)),"") -> 1 | V9: =IFERROR(IF(LEN(U9)=0,"",+COUNTIF($U$5:$U9,$U9)+U9-1),"") -> 5 | X9: # of Tasks per Process
B10: 6 | C10: =IFERROR(IF(LEN(Input!$C14)>0,Input!$C14,""),"") | D10: =IFERROR(IF(LEN(Input!$E14)>0,Input!$E14,""),"") | E10: =IFERROR(IF(LEN(Input!$F14)>0,Input!$F14,""),"") | F10: =IFERROR(IF(LEN(Input!$G14)>0,Input!$G14,""),"") | G10: =IFERROR(IF(LEN(Input!$H14)>0,Input!$H14,""),"") | H10: =IFERROR(IF(LEN(Input!$I14)>0,Input!$I14,""),"") | I10: =IFERROR(IF(LEN($D10)<>0,1,IF(LEN($E10)<>0,2,IF(LEN($F10)<>0,3,IF(LEN($G10)<>0,4,IF(LEN(H10)<>0,5,""))))),"") | J10: =IFERROR(IF(LEN(Input!$J14)>0,Input!$J14,""),"") | L10: {=IFERROR(INDEX($C$5:$C$14, MATCH(0, COUNTIF($L$4:$L9, $C$5:$C$14&"") + IF($C$5:$C$14="",1,0), 0)), "")} | M10: =IFERROR(IF(LEN($L10)>0,COUNTIF($C$5:$C$14,$L10),""),"") | N10: =IFERROR(IF(LEN(M10)=0,"",+RANK(M10,$M$5:$M$14,0)),"") | O10: =IFERROR(IF(LEN(N10)=0,"",+COUNTIF($N$5:$N10,$N10)+N10-1),"") | P10: =IFERROR(SUMIF($C10:$C19,$L10,$I10:$I19)/$M10,"") | Q10: =IFERROR(IF(LEN(P10)=0,"",+RANK(P10,$P$5:$P$14,0)),"") | R10: =IFERROR(IF(LEN(Q10)=0,"",+COUNTIF($Q$5:$Q10,$Q10)+Q10-1),"") | S10: {=IFERROR(INDEX($J$5:$J$14, MATCH(0, COUNTIF($S$4:$S9, $J$5:$J$14&"") + IF($J$5:$J$14="",1,0), 0)), "")} | T10: =IFERROR(IF(LEN($S10)>0,COUNTIF($J$5:$J$14,$S10),""),"") | U10: =IFERROR(IF(LEN(T10)=0,"",+RANK(T10,$T$5:$T$14,0)),"") | V10: =IFERROR(IF(LEN(U10)=0,"",+COUNTIF($U$5:$U10,$U10)+U10-1),"") | Y10: =MAX(COUNTA($Y$11:$Y$20)-COUNTBLANK($Y$11:$Y$20),1) -> 3
B11: 7 | C11: =IFERROR(IF(LEN(Input!$C15)>0,Input!$C15,""),"") | D11: =IFERROR(IF(LEN(Input!$E15)>0,Input!$E15,""),"") | E11: =IFERROR(IF(LEN(Input!$F15)>0,Input!$F15,""),"") | F11: =IFERROR(IF(LEN(Input!$G15)>0,Input!$G15,""),"") | G11: =IFERROR(IF(LEN(Input!$H15)>0,Input!$H15,""),"") | H11: =IFERROR(IF(LEN(Input!$I15)>0,Input!$I15,""),"") | I11: =IFERROR(IF(LEN($D11)<>0,1,IF(LEN($E11)<>0,2,IF(LEN($F11)<>0,3,IF(LEN($G11)<>0,4,IF(LEN(H11)<>0,5,""))))),"") | J11: =IFERROR(IF(LEN(Input!$J15)>0,Input!$J15,""),"") | L11: {=IFERROR(INDEX($C$5:$C$14, MATCH(0, COUNTIF($L$4:$L10, $C$5:$C$14&"") + IF($C$5:$C$14="",1,0), 0)), "")} | M11: =IFERROR(IF(LEN($L11)>0,COUNTIF($C$5:$C$14,$L11),""),"") | N11: =IFERROR(IF(LEN(M11)=0,"",+RANK(M11,$M$5:$M$14,0)),"") | O11: =IFERROR(IF(LEN(N11)=0,"",+COUNTIF($N$5:$N11,$N11)+N11-1),"") | P11: =IFERROR(SUMIF($C11:$C20,$L11,$I11:$I20)/$M11,"") | Q11: =IFERROR(IF(LEN(P11)=0,"",+RANK(P11,$P$5:$P$14,0)),"") | R11: =IFERROR(IF(LEN(Q11)=0,"",+COUNTIF($Q$5:$Q11,$Q11)+Q11-1),"") | S11: {=IFERROR(INDEX($J$5:$J$14, MATCH(0, COUNTIF($S$4:$S10, $J$5:$J$14&"") + IF($J$5:$J$14="",1,0), 0)), "")} | T11: =IFERROR(IF(LEN($S11)>0,COUNTIF($J$5:$J$14,$S11),""),"") | U11: =IFERROR(IF(LEN(T11)=0,"",+RANK(T11,$T$5:$T$14,0)),"") | V11: =IFERROR(IF(LEN(U11)=0,"",+COUNTIF($U$5:$U11,$U11)+U11-1),"") | X11: 1 | Y11: =IFERROR(INDEX($L$5:$L$14,MATCH($X11,$O$5:$O$14,0),1),"") -> Production Planning | Z11: =IFERROR(INDEX($M$5:$M$14,MATCH($X11,$O$5:$O$14,0),1),"") -> 2
B12: 8 | C12: =IFERROR(IF(LEN(Input!$C16)>0,Input!$C16,""),"") | D12: =IFERROR(IF(LEN(Input!$E16)>0,Input!$E16,""),"") | E12: =IFERROR(IF(LEN(Input!$F16)>0,Input!$F16,""),"") | F12: =IFERROR(IF(LEN(Input!$G16)>0,Input!$G16,""),"") | G12: =IFERROR(IF(LEN(Input!$H16)>0,Input!$H16,""),"") | H12: =IFERROR(IF(LEN(Input!$I16)>0,Input!$I16,""),"") | I12: =IFERROR(IF(LEN($D12)<>0,1,IF(LEN($E12)<>0,2,IF(LEN($F12)<>0,3,IF(LEN($G12)<>0,4,IF(LEN(H12)<>0,5,""))))),"") | J12: =IFERROR(IF(LEN(Input!$J16)>0,Input!$J16,""),"") | L12: {=IFERROR(INDEX($C$5:$C$14, MATCH(0, COUNTIF($L$4:$L11, $C$5:$C$14&"") + IF($C$5:$C$14="",1,0), 0)), "")} | M12: =IFERROR(IF(LEN($L12)>0,COUNTIF($C$5:$C$14,$L12),""),"") | N12: =IFERROR(IF(LEN(M12)=0,"",+RANK(M12,$M$5:$M$14,0)),"") | O12: =IFERROR(IF(LEN(N12)=0,"",+COUNTIF($N$5:$N12,$N12)+N12-1),"") | P12: =IFERROR(SUMIF($C12:$C21,$L12,$I12:$I21)/$M12,"") | Q12: =IFERROR(IF(LEN(P12)=0,"",+RANK(P12,$P$5:$P$14,0)),"") | R12: =IFERROR(IF(LEN(Q12)=0,"",+COUNTIF($Q$5:$Q12,$Q12)+Q12-1),"") | S12: {=IFERROR(INDEX($J$5:$J$14, MATCH(0, COUNTIF($S$4:$S11, $J$5:$J$14&"") + IF($J$5:$J$14="",1,0), 0)), "")} | T12: =IFERROR(IF(LEN($S12)>0,COUNTIF($J$5:$J$14,$S12),""),"") | U12: =IFERROR(IF(LEN(T12)=0,"",+RANK(T12,$T$5:$T$14,0)),"") | V12: =IFERROR(IF(LEN(U12)=0,"",+COUNTIF($U$5:$U12,$U12)+U12-1),"") | X12: 2 | Y12: =IFERROR(INDEX($L$5:$L$14,MATCH($X12,$O$5:$O$14,0),1),"") -> Recruitment | Z12: =IFERROR(INDEX($M$5:$M$14,MATCH($X12,$O$5:$O$14,0),1),"") -> 2
B13: 9 | C13: =IFERROR(IF(LEN(Input!$C17)>0,Input!$C17,""),"") | D13: =IFERROR(IF(LEN(Input!$E17)>0,Input!$E17,""),"") | E13: =IFERROR(IF(LEN(Input!$F17)>0,Input!$F17,""),"") | F13: =IFERROR(IF(LEN(Input!$G17)>0,Input!$G17,""),"") | G13: =IFERROR(IF(LEN(Input!$H17)>0,Input!$H17,""),"") | H13: =IFERROR(IF(LEN(Input!$I17)>0,Input!$I17,""),"") | I13: =IFERROR(IF(LEN($D13)<>0,1,IF(LEN($E13)<>0,2,IF(LEN($F13)<>0,3,IF(LEN($G13)<>0,4,IF(LEN(H13)<>0,5,""))))),"") | J13: =IFERROR(IF(LEN(Input!$J17)>0,Input!$J17,""),"") | L13: {=IFERROR(INDEX($C$5:$C$14, MATCH(0, COUNTIF($L$4:$L12, $C$5:$C$14&"") + IF($C$5:$C$14="",1,0), 0)), "")} | M13: =IFERROR(IF(LEN($L13)>0,COUNTIF($C$5:$C$14,$L13),""),"") | N13: =IFERROR(IF(LEN(M13)=0,"",+RANK(M13,$M$5:$M$14,0)),"") | O13: =IFERROR(IF(LEN(N13)=0,"",+COUNTIF($N$5:$N13,$N13)+N13-1),"") | P13: =IFERROR(SUMIF($C13:$C22,$L13,$I13:$I22)/$M13,"") | Q13: =IFERROR(IF(LEN(P13)=0,"",+RANK(P13,$P$5:$P$14,0)),"") | R13: =IFERROR(IF(LEN(Q13)=0,"",+COUNTIF($Q$5:$Q13,$Q13)+Q13-1),"") | S13: {=IFERROR(INDEX($J$5:$J$14, MATCH(0, COUNTIF($S$4:$S12, $J$5:$J$14&"") + IF($J$5:$J$14="",1,0), 0)), "")} | T13: =IFERROR(IF(LEN($S13)>0,COUNTIF($J$5:$J$14,$S13),""),"") | U13: =IFERROR(IF(LEN(T13)=0,"",+RANK(T13,$T$5:$T$14,0)),"") | V13: =IFERROR(IF(LEN(U13)=0,"",+COUNTIF($U$5:$U13,$U13)+U13-1),"") | X13: 3 | Y13: =IFERROR(INDEX($L$5:$L$14,MATCH($X13,$O$5:$O$14,0),1),"") -> Procurement | Z13: =IFERROR(INDEX($M$5:$M$14,MATCH($X13,$O$5:$O$14,0),1),"") -> 1
B14: 10 | C14: =IFERROR(IF(LEN(Input!$C18)>0,Input!$C18,""),"") | D14: =IFERROR(IF(LEN(Input!$E18)>0,Input!$E18,""),"") | E14: =IFERROR(IF(LEN(Input!$F18)>0,Input!$F18,""),"") | F14: =IFERROR(IF(LEN(Input!$G18)>0,Input!$G18,""),"") | G14: =IFERROR(IF(LEN(Input!$H18)>0,Input!$H18,""),"") | H14: =IFERROR(IF(LEN(Input!$I18)>0,Input!$I18,""),"") | I14: =IFERROR(IF(LEN($D14)<>0,1,IF(LEN($E14)<>0,2,IF(LEN($F14)<>0,3,IF(LEN($G14)<>0,4,IF(LEN(H14)<>0,5,""))))),"") | J14: =IFERROR(IF(LEN(Input!$J18)>0,Input!$J18,""),"") | L14: {=IFERROR(INDEX($C$5:$C$14, MATCH(0, COUNTIF($L$4:$L13, $C$5:$C$14&"") + IF($C$5:$C$14="",1,0), 0)), "")} | M14: =IFERROR(IF(LEN($L14)>0,COUNTIF($C$5:$C$14,$L14),""),"") | N14: =IFERROR(IF(LEN(M14)=0,"",+RANK(M14,$M$5:$M$14,0)),"") | O14: =IFERROR(IF(LEN(N14)=0,"",+COUNTIF($N$5:$N14,$N14)+N14-1),"") | P14: =IFERROR(SUMIF($C14:$C23,$L14,$I14:$I23)/$M14,"") | Q14: =IFERROR(IF(LEN(P14)=0,"",+RANK(P14,$P$5:$P$14,0)),"") | R14: =IFERROR(IF(LEN(Q14)=0,"",+COUNTIF($Q$5:$Q14,$Q14)+Q14-1),"") | S14: {=IFERROR(INDEX($J$5:$J$14, MATCH(0, COUNTIF($S$4:$S13, $J$5:$J$14&"") + IF($J$5:$J$14="",1,0), 0)), "")} | T14: =IFERROR(IF(LEN($S14)>0,COUNTIF($J$5:$J$14,$S14),""),"") | U14: =IFERROR(IF(LEN(T14)=0,"",+RANK(T14,$T$5:$T$14,0)),"") | V14: =IFERROR(IF(LEN(U14)=0,"",+COUNTIF($U$5:$U14,$U14)+U14-1),"") | X14: 4 | Y14: =IFERROR(INDEX($L$5:$L$14,MATCH($X14,$O$5:$O$14,0),1),"") | Z14: =IFERROR(INDEX($M$5:$M$14,MATCH($X14,$O$5:$O$14,0),1),"")
X15: 5 | Y15: =IFERROR(INDEX($L$5:$L$14,MATCH($X15,$O$5:$O$14,0),1),"") | Z15: =IFERROR(INDEX($M$5:$M$14,MATCH($X15,$O$5:$O$14,0),1),"")
X16: 6 | Y16: =IFERROR(INDEX($L$5:$L$14,MATCH($X16,$O$5:$O$14,0),1),"") | Z16: =IFERROR(INDEX($M$5:$M$14,MATCH($X16,$O$5:$O$14,0),1),"")
X17: 7 | Y17: =IFERROR(INDEX($L$5:$L$14,MATCH($X17,$O$5:$O$14,0),1),"") | Z17: =IFERROR(INDEX($M$5:$M$14,MATCH($X17,$O$5:$O$14,0),1),"")
X18: 8 | Y18: =IFERROR(INDEX($L$5:$L$14,MATCH($X18,$O$5:$O$14,0),1),"") | Z18: =IFERROR(INDEX($M$5:$M$14,MATCH($X18,$O$5:$O$14,0),1),"")
X19: 9 | Y19: =IFERROR(INDEX($L$5:$L$14,MATCH($X19,$O$5:$O$14,0),1),"") | Z19: =IFERROR(INDEX($M$5:$M$14,MATCH($X19,$O$5:$O$14,0),1),"")
X20: 10 | Y20: =IFERROR(INDEX($L$5:$L$14,MATCH($X20,$O$5:$O$14,0),1),"") | Z20: =IFERROR(INDEX($M$5:$M$14,MATCH($X20,$O$5:$O$14,0),1),"")
X22: # of Tasks per Responsible
Y23: =MAX(COUNTA($Y$24:$Y$33)-COUNTBLANK($Y$24:$Y$33),1) -> 5
X24: 1 | Y24: =IFERROR(INDEX($S$5:$S$14,MATCH($X24,$V$5:$V$14,0),1),"") -> Planning Chief | Z24: =IFERROR(INDEX($T$5:$T$14,MATCH($X24,$V$5:$V$14,0),1),"") -> 1
X25: 2 | Y25: =IFERROR(INDEX($S$5:$S$14,MATCH($X25,$V$5:$V$14,0),1),"") -> Production Chief | Z25: =IFERROR(INDEX($T$5:$T$14,MATCH($X25,$V$5:$V$14,0),1),"") -> 1
X26: 3 | Y26: =IFERROR(INDEX($S$5:$S$14,MATCH($X26,$V$5:$V$14,0),1),"") -> Recruitment Specialist | Z26: =IFERROR(INDEX($T$5:$T$14,MATCH($X26,$V$5:$V$14,0),1),"") -> 1
X27: 4 | Y27: =IFERROR(INDEX($S$5:$S$14,MATCH($X27,$V$5:$V$14,0),1),"") -> Recruitment Lead | Z27: =IFERROR(INDEX($T$5:$T$14,MATCH($X27,$V$5:$V$14,0),1),"") -> 1
X28: 5 | Y28: =IFERROR(INDEX($S$5:$S$14,MATCH($X28,$V$5:$V$14,0),1),"") -> Procurement Engineer | Z28: =IFERROR(INDEX($T$5:$T$14,MATCH($X28,$V$5:$V$14,0),1),"") -> 1
X29: 6 | Y29: =IFERROR(INDEX($S$5:$S$14,MATCH($X29,$V$5:$V$14,0),1),"") | Z29: =IFERROR(INDEX($T$5:$T$14,MATCH($X29,$V$5:$V$14,0),1),"")
X30: 7 | Y30: =IFERROR(INDEX($S$5:$S$14,MATCH($X30,$V$5:$V$14,0),1),"") | Z30: =IFERROR(INDEX($T$5:$T$14,MATCH($X30,$V$5:$V$14,0),1),"")
X31: 8 | Y31: =IFERROR(INDEX($S$5:$S$14,MATCH($X31,$V$5:$V$14,0),1),"") | Z31: =IFERROR(INDEX($T$5:$T$14,MATCH($X31,$V$5:$V$14,0),1),"")
X32: 9 | Y32: =IFERROR(INDEX($S$5:$S$14,MATCH($X32,$V$5:$V$14,0),1),"") | Z32: =IFERROR(INDEX($T$5:$T$14,MATCH($X32,$V$5:$V$14,0),1),"")
X33: 10 | Y33: =IFERROR(INDEX($S$5:$S$14,MATCH($X33,$V$5:$V$14,0),1),"") | Z33: =IFERROR(INDEX($T$5:$T$14,MATCH($X33,$V$5:$V$14,0),1),"")
X35: Least Average Gap Score per Process
Y36: =MAX(COUNTA($Y$37:$Y$46)-COUNTBLANK($Y$37:$Y$46),1) -> 3
X37: 1 | Y37: =IFERROR(INDEX($L$5:$L$14,MATCH($X37,$R$5:$R$14,0),1),"") -> Recruitment | Z37: =IFERROR(INDEX($P$5:$P$14,MATCH($X37,$R$5:$R$14,0),1),"") -> 4
X38: 2 | Y38: =IFERROR(INDEX($L$5:$L$14,MATCH($X38,$R$5:$R$14,0),1),"") -> Procurement | Z38: =IFERROR(INDEX($P$5:$P$14,MATCH($X38,$R$5:$R$14,0),1),"") -> 4
X39: 3 | Y39: =IFERROR(INDEX($L$5:$L$14,MATCH($X39,$R$5:$R$14,0),1),"") -> Production Planning | Z39: =IFERROR(INDEX($P$5:$P$14,MATCH($X39,$R$5:$R$14,0),1),"") -> 1.5
X40: 4 | Y40: =IFERROR(INDEX($L$5:$L$14,MATCH($X40,$R$5:$R$14,0),1),"") | Z40: =IFERROR(INDEX($P$5:$P$14,MATCH($X40,$R$5:$R$14,0),1),"")
X41: 5 | Y41: =IFERROR(INDEX($L$5:$L$14,MATCH($X41,$R$5:$R$14,0),1),"") | Z41: =IFERROR(INDEX($P$5:$P$14,MATCH($X41,$R$5:$R$14,0),1),"")
X42: 6 | Y42: =IFERROR(INDEX($L$5:$L$14,MATCH($X42,$R$5:$R$14,0),1),"") | Z42: =IFERROR(INDEX($P$5:$P$14,MATCH($X42,$R$5:$R$14,0),1),"")
X43: 7 | Y43: =IFERROR(INDEX($L$5:$L$14,MATCH($X43,$R$5:$R$14,0),1),"") | Z43: =IFERROR(INDEX($P$5:$P$14,MATCH($X43,$R$5:$R$14,0),1),"")
...
