Workbook
Name FIFTH: Dashboard!$B$34
Name FIRST: Dashboard!$B$8
Name FOURTH: Dashboard!$G$21
Name PROBLEM: Dashboard!$C$6
Name SECOND: Dashboard!$G$8
Name SIXTH: Dashboard!$G$34
Name THIRD: Dashboard!$B$21

Sheet Dashboard
B2: FISHBONE DIAGRAM TEMPLATE
B3: INPUT
B6: MAIN PROBLEM: | C6: Defect in production.
B8: PEOPLE | G8: METHOD
B9: MAIN CAUSE | C9: Cause A | D9: Cause B | E9: Cause C | G9: MAIN CAUSE | H9: Cause A | I9: Cause B | J9: Cause C
B10: Low qualification | C10: newly hired | G10: Errors in the documentation
B11: Insubordination | G11: Flow of information
B21: LEADERSHIP | G21: MACHINE
B22: MAIN CAUSE | C22: Cause A | D22: Cause B | E22: Cause C | G22: MAIN CAUSE | H22: Cause A | I22: Cause B | J22: Cause C
B23: Lack of work planning | G23: Computer | H23: error | I23: viruses | J23: malfunction
B24: Bad division of labor | C24: Not enough buyers | D24: Too many leaders | G24: Phone | H24: temporarily not working | I24: phone call not recorded
B34: ENVIROMENT | G34: MATERIALS
B35: MAIN CAUSE | C35: Cause A | D35: Cause B | E35: Cause C | G35: MAIN CAUSE | H35: Cause A | I35: Cause B | J35: Cause C
B36: Law changed | G36: No materials on stock
B37: Competition | G37: Wrong tech. documentation

Sheet BasicDiagram
C2: FISHBONE DIAGRAM TEMPLATE
C3: BASIC DIAGRAM

Sheet ExtendedDiagram
C2: FISHBONE DIAGRAM TEMPLATE
C3: EXTENDED DIAGRAM

Sheet Calc
B2: =FIRST -> PEOPLE | E2: =SECOND -> METHOD
B3: Main | C3: Expand | E3: Main | F3: Expand
B4: =IF(LEN(Dashboard!B10)>0,Dashboard!B10 & " →","") -> Low qualification → | C4: =IFERROR(LEFT(IF(LEN(Dashboard!C10)>0, "• " & Dashboard!C10 & CHAR(10),"") & IF(LEN(Dashboard!D10)>0, "• " & Dashboard!D10 & CHAR(10),"")& IF(LEN(Dashboard!E10)>0, "• " & Dashboard!E10 & CHAR(10),""),LEN(IF(LEN(Dashboard!C10)>0, "• " & Dashboard!C10 & CHAR(10),"") & IF(LEN(Dashboard!D10)>0, "• " & Dashboard!D10 & CHAR(10),"")& IF(LEN(Dashboard!E10)>0, "• " & Dashboard!E10 & CHAR(10),""))-1),"") -> • newly hired | E4: =IF(LEN(Dashboard!G10)>0,Dashboard!G10 & " →","") -> Errors in the documentation → | F4: =IFERROR(LEFT(IF(LEN(Dashboard!H10)>0, "• " & Dashboard!H10 & CHAR(10),"") & IF(LEN(Dashboard!I10)>0, "• " & Dashboard!I10 & CHAR(10),"")& IF(LEN(Dashboard!J10)>0, "• " & Dashboard!J10 & CHAR(10),""),LEN(IF(LEN(Dashboard!H10)>0, "• " & Dashboard!H10 & CHAR(10),"") & IF(LEN(Dashboard!I10)>0, "• " & Dashboard!I10 & CHAR(10),"")& IF(LEN(Dashboard!J10)>0, "• " & Dashboard!J10 & CHAR(10),""))-1),"")
B5: =IF(LEN(Dashboard!B11)>0,"← " & Dashboard!B11,"") -> ← Insubordination | C5: =IFERROR(LEFT(IF(LEN(Dashboard!C11)>0, "• " & Dashboard!C11 & CHAR(10),"") & IF(LEN(Dashboard!D11)>0, "• " & Dashboard!D11 & CHAR(10),"")& IF(LEN(Dashboard!E11)>0, "• " & Dashboard!E11 & CHAR(10),""),LEN(IF(LEN(Dashboard!C11)>0, "• " & Dashboard!C11 & CHAR(10),"") & IF(LEN(Dashboard!D11)>0, "• " & Dashboard!D11 & CHAR(10),"")& IF(LEN(Dashboard!E11)>0, "• " & Dashboard!E11 & CHAR(10),""))-1),"") | E5: =IF(LEN(Dashboard!G11)>0,"← " & Dashboard!G11,"") -> ← Flow of information | F5: =IFERROR(LEFT(IF(LEN(Dashboard!H11)>0, "• " & Dashboard!H11 & CHAR(10),"") & IF(LEN(Dashboard!I11)>0, "• " & Dashboard!I11 & CHAR(10),"")& IF(LEN(Dashboard!J11)>0, "• " & Dashboard!J11 & CHAR(10),""),LEN(IF(LEN(Dashboard!H11)>0, "• " & Dashboard!H11 & CHAR(10),"") & IF(LEN(Dashboard!I11)>0, "• " & Dashboard!I11 & CHAR(10),"")& IF(LEN(Dashboard!J11)>0, "• " & Dashboard!J11 & CHAR(10),""))-1),"")
B6: =IF(LEN(Dashboard!B12)>0,Dashboard!B12 & " →","") | C6: =IFERROR(LEFT(IF(LEN(Dashboard!C12)>0, "• " & Dashboard!C12 & CHAR(10),"") & IF(LEN(Dashboard!D12)>0, "• " & Dashboard!D12 & CHAR(10),"")& IF(LEN(Dashboard!E12)>0, "• " & Dashboard!E12 & CHAR(10),""),LEN(IF(LEN(Dashboard!C12)>0, "• " & Dashboard!C12 & CHAR(10),"") & IF(LEN(Dashboard!D12)>0, "• " & Dashboard!D12 & CHAR(10),"")& IF(LEN(Dashboard!E12)>0, "• " & Dashboard!E12 & CHAR(10),""))-1),"") | E6: =IF(LEN(Dashboard!G12)>0,Dashboard!G12 & " →","") | F6: =IFERROR(LEFT(IF(LEN(Dashboard!H12)>0, "• " & Dashboard!H12 & CHAR(10),"") & IF(LEN(Dashboard!I12)>0, "• " & Dashboard!I12 & CHAR(10),"")& IF(LEN(Dashboard!J12)>0, "• " & Dashboard!J12 & CHAR(10),""),LEN(IF(LEN(Dashboard!H12)>0, "• " & Dashboard!H12 & CHAR(10),"") & IF(LEN(Dashboard!I12)>0, "• " & Dashboard!I12 & CHAR(10),"")& IF(LEN(Dashboard!J12)>0, "• " & Dashboard!J12 & CHAR(10),""))-1),"")
B8: =THIRD -> LEADERSHIP | E8: =FOURTH -> MACHINE
B9: Main | C9: Expand | E9: Main | F9: Expand
B10: =IF(LEN(Dashboard!B23)>0,Dashboard!B23 & " →","") -> Lack of work planning → | C10: =IFERROR(LEFT(IF(LEN(Dashboard!C23)>0, "• " & Dashboard!C23 & CHAR(10),"") & IF(LEN(Dashboard!D23)>0, "• " & Dashboard!D23 & CHAR(10),"")& IF(LEN(Dashboard!E23)>0, "• " & Dashboard!E23 & CHAR(10),""),LEN(IF(LEN(Dashboard!C23)>0, "• " & Dashboard!C23 & CHAR(10),"") & IF(LEN(Dashboard!D23)>0, "• " & Dashboard!D23 & CHAR(10),"")& IF(LEN(Dashboard!E23)>0, "• " & Dashboard!E23 & CHAR(10),""))-1),"") | E10: =IF(LEN(Dashboard!G23)>0,Dashboard!G23 & " →","") -> Computer → | F10: =IFERROR(LEFT(IF(LEN(Dashboard!H23)>0, "• " & Dashboard!H23 & CHAR(10),"") & IF(LEN(Dashboard!I23)>0, "• " & Dashboard!I23 & CHAR(10),"")& IF(LEN(Dashboard!J23)>0, "• " & Dashboard!J23 & CHAR(10),""),LEN(IF(LEN(Dashboard!H23)>0, "• " & Dashboard!H23 & CHAR(10),"") & IF(LEN(Dashboard!I23)>0, "• " & Dashboard!I23 & CHAR(10),"")& IF(LEN(Dashboard!J23)>0, "• " & Dashboard!J23 & CHAR(10),""))-1),"") -> • error • viruses • malfunction
B11: =IF(LEN(Dashboard!B24)>0,"← " & Dashboard!B24,"") -> ← Bad division of labor | C11: =IFERROR(LEFT(IF(LEN(Dashboard!C24)>0, "• " & Dashboard!C24 & CHAR(10),"") & IF(LEN(Dashboard!D24)>0, "• " & Dashboard!D24 & CHAR(10),"")& IF(LEN(Dashboard!E24)>0, "• " & Dashboard!E24 & CHAR(10),""),LEN(IF(LEN(Dashboard!C24)>0, "• " & Dashboard!C24 & CHAR(10),"") & IF(LEN(Dashboard!D24)>0, "• " & Dashboard!D24 & CHAR(10),"")& IF(LEN(Dashboard!E24)>0, "• " & Dashboard!E24 & CHAR(10),""))-1),"") -> • Not enough buyers • Too many leaders | E11: =IF(LEN(Dashboard!G24)>0,"← " & Dashboard!G24,"") -> ← Phone | F11: =IFERROR(LEFT(IF(LEN(Dashboard!H24)>0, "• " & Dashboard!H24 & CHAR(10),"") & IF(LEN(Dashboard!I24)>0, "• " & Dashboard!I24 & CHAR(10),"")& IF(LEN(Dashboard!J24)>0, "• " & Dashboard!J24 & CHAR(10),""),LEN(IF(LEN(Dashboard!H24)>0, "• " & Dashboard!H24 & CHAR(10),"") & IF(LEN(Dashboard!I24)>0, "• " & Dashboard!I24 & CHAR(10),"")& IF(LEN(Dashboard!J24)>0, "• " & Dashboard!J24 & CHAR(10),""))-1),"") -> • temporarily not working • phone call not recorded
B12: =IF(LEN(Dashboard!B25)>0,Dashboard!B25 & " →","") | C12: =IFERROR(LEFT(IF(LEN(Dashboard!C25)>0, "• " & Dashboard!C25 & CHAR(10),"") & IF(LEN(Dashboard!D25)>0, "• " & Dashboard!D25 & CHAR(10),"")& IF(LEN(Dashboard!E25)>0, "• " & Dashboard!E25 & CHAR(10),""),LEN(IF(LEN(Dashboard!C25)>0, "• " & Dashboard!C25 & CHAR(10),"") & IF(LEN(Dashboard!D25)>0, "• " & Dashboard!D25 & CHAR(10),"")& IF(LEN(Dashboard!E25)>0, "• " & Dashboard!E25 & CHAR(10),""))-1),"") | E12: =IF(LEN(Dashboard!G25)>0,Dashboard!G25 & " →","") | F12: =IFERROR(LEFT(IF(LEN(Dashboard!H25)>0, "• " & Dashboard!H25 & CHAR(10),"") & IF(LEN(Dashboard!I25)>0, "• " & Dashboard!I25 & CHAR(10),"")& IF(LEN(Dashboard!J25)>0, "• " & Dashboard!J25 & CHAR(10),""),LEN(IF(LEN(Dashboard!H25)>0, "• " & Dashboard!H25 & CHAR(10),"") & IF(LEN(Dashboard!I25)>0, "• " & Dashboard!I25 & CHAR(10),"")& IF(LEN(Dashboard!J25)>0, "• " & Dashboard!J25 & CHAR(10),""))-1),"")
B13: =IF(LEN(Dashboard!B33)>0,"← " & Dashboard!B33,"") | C13: =IF(LEN(Dashboard!C33)>0, "• " & Dashboard!C33 & CHAR(10),"") & IF(LEN(Dashboard!D33)>0, "• " & Dashboard!D33 & CHAR(10),"")& IF(LEN(Dashboard!E33)>0, "• " & Dashboard!E33 & CHAR(10),"") | E13: =IF(LEN(Dashboard!G33)>0,"← " & Dashboard!G33,"") | F13: =IF(LEN(Dashboard!H33)>0, "• " & Dashboard!H33 & CHAR(10),"") & IF(LEN(Dashboard!I33)>0, "• " & Dashboard!I33 & CHAR(10),"")& IF(LEN(Dashboard!J33)>0, "• " & Dashboard!J33 & CHAR(10),"")
B14: =FIFTH -> ENVIROMENT | E14: =SIXTH -> MATERIALS
B15: Main | C15: Expand | E15: Main | F15: Expand
B16: =IF(LEN(Dashboard!B36)>0,Dashboard!B36 & " →","") -> Law changed → | C16: =IFERROR(LEFT(IF(LEN(Dashboard!C36)>0, "• " & Dashboard!C36 & CHAR(10),"") & IF(LEN(Dashboard!D36)>0, "• " & Dashboard!D36 & CHAR(10),"")& IF(LEN(Dashboard!E36)>0, "• " & Dashboard!E36 & CHAR(10),""),LEN(IF(LEN(Dashboard!C36)>0, "• " & Dashboard!C36 & CHAR(10),"") & IF(LEN(Dashboard!D36)>0, "• " & Dashboard!D36 & CHAR(10),"")& IF(LEN(Dashboard!E36)>0, "• " & Dashboard!E36 & CHAR(10),""))-1),"") | E16: =IF(LEN(Dashboard!G36)>0,Dashboard!G36 & " →","") -> No materials on stock → | F16: =IFERROR(LEFT(IF(LEN(Dashboard!H36)>0, "• " & Dashboard!H36 & CHAR(10),"") & IF(LEN(Dashboard!I36)>0, "• " & Dashboard!I36 & CHAR(10),"")& IF(LEN(Dashboard!J36)>0, "• " & Dashboard!J36 & CHAR(10),""),LEN(IF(LEN(Dashboard!H36)>0, "• " & Dashboard!H36 & CHAR(10),"") & IF(LEN(Dashboard!I36)>0, "• " & Dashboard!I36 & CHAR(10),"")& IF(LEN(Dashboard!J36)>0, "• " & Dashboard!J36 & CHAR(10),""))-1),"")
B17: =IF(LEN(Dashboard!B37)>0,"← " & Dashboard!B37,"") -> ← Competition | C17: =IFERROR(LEFT(IF(LEN(Dashboard!C37)>0, "• " & Dashboard!C37 & CHAR(10),"") & IF(LEN(Dashboard!D37)>0, "• " & Dashboard!D37 & CHAR(10),"")& IF(LEN(Dashboard!E37)>0, "• " & Dashboard!E37 & CHAR(10),""),LEN(IF(LEN(Dashboard!C37)>0, "• " & Dashboard!C37 & CHAR(10),"") & IF(LEN(Dashboard!D37)>0, "• " & Dashboard!D37 & CHAR(10),"")& IF(LEN(Dashboard!E37)>0, "• " & Dashboard!E37 & CHAR(10),""))-1),"") | E17: =IF(LEN(Dashboard!G37)>0,"← " & Dashboard!G37,"") -> ← Wrong tech. documentation | F17: =IFERROR(LEFT(IF(LEN(Dashboard!H37)>0, "• " & Dashboard!H37 & CHAR(10),"") & IF(LEN(Dashboard!I37)>0, "• " & Dashboard!I37 & CHAR(10),"")& IF(LEN(Dashboard!J37)>0, "• " & Dashboard!J37 & CHAR(10),""),LEN(IF(LEN(Dashboard!H37)>0, "• " & Dashboard!H37 & CHAR(10),"") & IF(LEN(Dashboard!I37)>0, "• " & Dashboard!I37 & CHAR(10),"")& IF(LEN(Dashboard!J37)>0, "• " & Dashboard!J37 & CHAR(10),""))-1),"")
B18: =IF(LEN(Dashboard!B38)>0,Dashboard!B38 & " →","") | C18: =IFERROR(LEFT(IF(LEN(Dashboard!C38)>0, "• " & Dashboard!C38 & CHAR(10),"") & IF(LEN(Dashboard!D38)>0, "• " & Dashboard!D38 & CHAR(10),"")& IF(LEN(Dashboard!E38)>0, "• " & Dashboard!E38 & CHAR(10),""),LEN(IF(LEN(Dashboard!C38)>0, "• " & Dashboard!C38 & CHAR(10),"") & IF(LEN(Dashboard!D38)>0, "• " & Dashboard!D38 & CHAR(10),"")& IF(LEN(Dashboard!E38)>0, "• " & Dashboard!E38 & CHAR(10),""))-1),"") | E18: =IF(LEN(Dashboard!G38)>0,Dashboard!G38 & " →","") | F18: =IFERROR(LEFT(IF(LEN(Dashboard!H38)>0, "• " & Dashboard!H38 & CHAR(10),"") & IF(LEN(Dashboard!I38)>0, "• " & Dashboard!I38 & CHAR(10),"")& IF(LEN(Dashboard!J38)>0, "• " & Dashboard!J38 & CHAR(10),""),LEN(IF(LEN(Dashboard!H38)>0, "• " & Dashboard!H38 & CHAR(10),"") & IF(LEN(Dashboard!I38)>0, "• " & Dashboard!I38 & CHAR(10),"")& IF(LEN(Dashboard!J38)>0, "• " & Dashboard!J38 & CHAR(10),""))-1),"")
