Workbook

Sheet Dashboard
B2: BCG MATRIX TEMPLATE
B3: DASHBOARD
B6: Brands | C6: Revenues | D6: Brand's Market Share | E6: Largest Competitor's Market Share | F6: Relative Market Share | G6: Market Growth Rate
B7: Ariel | C7: 500000 | D7: 0.25 | E7: 0.2 | F7: =IFERROR(IF(AND(LEN($E7)>0,LEN($D7)>0),$D7/$E7,""),"-") -> 1.25 | G7: 0.015
B8: Head & Shoulders | C8: 350000 | D8: 0.1 | E8: 0.3 | F8: =IFERROR(IF(AND(LEN($E8)>0,LEN($D8)>0),$D8/$E8,""),"-") -> 0.33333333 | G8: 0.025
B9: Pampers | C9: 50000 | D9: 0.35 | E9: 0.2 | F9: =IFERROR(IF(AND(LEN($E9)>0,LEN($D9)>0),$D9/$E9,""),"-") -> 1.75 | G9: 0.06
B10: Pantene Pro-V | C10: 20000 | D10: 0.1 | E10: 0.15 | F10: =IFERROR(IF(AND(LEN($E10)>0,LEN($D10)>0),$D10/$E10,""),"-") -> 0.66666667 | G10: 0.06
B11: Gillette | C11: 20000 | D11: 0.02 | E11: 0.1 | F11: =IFERROR(IF(AND(LEN($E11)>0,LEN($D11)>0),$D11/$E11,""),"-") -> 0.2 | G11: 0.08
F12: =IFERROR(IF(AND(LEN($E12)>0,LEN($D12)>0),$D12/$E12,""),"-")
F13: =IFERROR(IF(AND(LEN($E13)>0,LEN($D13)>0),$D13/$E13,""),"-")
F14: =IFERROR(IF(AND(LEN($E14)>0,LEN($D14)>0),$D14/$E14,""),"-")
F15: =IFERROR(IF(AND(LEN($E15)>0,LEN($D15)>0),$D15/$E15,""),"-")
F16: =IFERROR(IF(AND(LEN($E16)>0,LEN($D16)>0),$D16/$E16,""),"-")
F17: =IFERROR(IF(AND(LEN($E17)>0,LEN($D17)>0),$D17/$E17,""),"-")
F18: =IFERROR(IF(AND(LEN($E18)>0,LEN($D18)>0),$D18/$E18,""),"-")
F19: =IFERROR(IF(AND(LEN($E19)>0,LEN($D19)>0),$D19/$E19,""),"-")
F20: =IFERROR(IF(AND(LEN($E20)>0,LEN($D20)>0),$D20/$E20,""),"-")
F21: =IFERROR(IF(AND(LEN($E21)>0,LEN($D21)>0),$D21/$E21,""),"-")
F22: =IFERROR(IF(AND(LEN($E22)>0,LEN($D22)>0),$D22/$E22,""),"-")
F23: =IFERROR(IF(AND(LEN($E23)>0,LEN($D23)>0),$D23/$E23,""),"-")
... F26: =IFERROR(IF(AND(LEN($E26)>0,LEN($D26)>0),$D26/$E26,""),"-")

Sheet Cal
B2: Index | C2: Brands | D2: Revenues | E2: Brand's Market Share | F2: Largest Competitor's Market Share | G2: Relative Market Share | H2: Market Growth Rate | I2: Share Adj | J2: GrowthAdj
B3: 1 | C3: =IF(LEN(INDEX(Dashboard!B$7:B$26,Cal!$B3))=0,"",INDEX(Dashboard!B$7:B$26,Cal!$B3)) -> Ariel | D3: =IF(LEN(INDEX(Dashboard!C$7:C$26,Cal!$B3))=0,"",INDEX(Dashboard!C$7:C$26,Cal!$B3)) -> 500000 | E3: =IF(LEN(INDEX(Dashboard!D$7:D$26,Cal!$B3))=0,"",INDEX(Dashboard!D$7:D$26,Cal!$B3)) -> 0.25 | F3: =IF(LEN(INDEX(Dashboard!E$7:E$26,Cal!$B3))=0,"",INDEX(Dashboard!E$7:E$26,Cal!$B3)) -> 0.2 | G3: =IF(LEN(INDEX(Dashboard!F$7:F$26,Cal!$B3))=0,"",INDEX(Dashboard!F$7:F$26,Cal!$B3)) -> 1.25 | H3: =IF(LEN(INDEX(Dashboard!G$7:G$26,Cal!$B3))=0,"",INDEX(Dashboard!G$7:G$26,Cal!$B3)) -> 0.015 | I3: =IF(LEN(G3)=0,"",IF(G3>2,2,IF(G3<0,0,G3))) -> 1.25 | J3: =IF(LEN(H3)=0,"",IF(H3>0.1,0.1,IF(H3<0,0,H3))) -> 0.015
B4: 2 | C4: =IF(LEN(INDEX(Dashboard!B$7:B$26,Cal!$B4))=0,"",INDEX(Dashboard!B$7:B$26,Cal!$B4)) -> Head & Shoulders | D4: =IF(LEN(INDEX(Dashboard!C$7:C$26,Cal!$B4))=0,"",INDEX(Dashboard!C$7:C$26,Cal!$B4)) -> 350000 | E4: =IF(LEN(INDEX(Dashboard!D$7:D$26,Cal!$B4))=0,"",INDEX(Dashboard!D$7:D$26,Cal!$B4)) -> 0.1 | F4: =IF(LEN(INDEX(Dashboard!E$7:E$26,Cal!$B4))=0,"",INDEX(Dashboard!E$7:E$26,Cal!$B4)) -> 0.3 | G4: =IF(LEN(INDEX(Dashboard!F$7:F$26,Cal!$B4))=0,"",INDEX(Dashboard!F$7:F$26,Cal!$B4)) -> 0.33333333 | H4: =IF(LEN(INDEX(Dashboard!G$7:G$26,Cal!$B4))=0,"",INDEX(Dashboard!G$7:G$26,Cal!$B4)) -> 0.025 | I4: =IF(LEN(G4)=0,"",IF(G4>2,2,IF(G4<0,0,G4))) -> 0.33333333 | J4: =IF(LEN(H4)=0,"",IF(H4>0.1,0.1,IF(H4<0,0,H4))) -> 0.025
B5: 3 | C5: =IF(LEN(INDEX(Dashboard!B$7:B$26,Cal!$B5))=0,"",INDEX(Dashboard!B$7:B$26,Cal!$B5)) -> Pampers | D5: =IF(LEN(INDEX(Dashboard!C$7:C$26,Cal!$B5))=0,"",INDEX(Dashboard!C$7:C$26,Cal!$B5)) -> 50000 | E5: =IF(LEN(INDEX(Dashboard!D$7:D$26,Cal!$B5))=0,"",INDEX(Dashboard!D$7:D$26,Cal!$B5)) -> 0.35 | F5: =IF(LEN(INDEX(Dashboard!E$7:E$26,Cal!$B5))=0,"",INDEX(Dashboard!E$7:E$26,Cal!$B5)) -> 0.2 | G5: =IF(LEN(INDEX(Dashboard!F$7:F$26,Cal!$B5))=0,"",INDEX(Dashboard!F$7:F$26,Cal!$B5)) -> 1.75 | H5: =IF(LEN(INDEX(Dashboard!G$7:G$26,Cal!$B5))=0,"",INDEX(Dashboard!G$7:G$26,Cal!$B5)) -> 0.06 | I5: =IF(LEN(G5)=0,"",IF(G5>2,2,IF(G5<0,0,G5))) -> 1.75 | J5: =IF(LEN(H5)=0,"",IF(H5>0.1,0.1,IF(H5<0,0,H5))) -> 0.06
B6: 4 | C6: =IF(LEN(INDEX(Dashboard!B$7:B$26,Cal!$B6))=0,"",INDEX(Dashboard!B$7:B$26,Cal!$B6)) -> Pantene Pro-V | D6: =IF(LEN(INDEX(Dashboard!C$7:C$26,Cal!$B6))=0,"",INDEX(Dashboard!C$7:C$26,Cal!$B6)) -> 20000 | E6: =IF(LEN(INDEX(Dashboard!D$7:D$26,Cal!$B6))=0,"",INDEX(Dashboard!D$7:D$26,Cal!$B6)) -> 0.1 | F6: =IF(LEN(INDEX(Dashboard!E$7:E$26,Cal!$B6))=0,"",INDEX(Dashboard!E$7:E$26,Cal!$B6)) -> 0.15 | G6: =IF(LEN(INDEX(Dashboard!F$7:F$26,Cal!$B6))=0,"",INDEX(Dashboard!F$7:F$26,Cal!$B6)) -> 0.66666667 | H6: =IF(LEN(INDEX(Dashboard!G$7:G$26,Cal!$B6))=0,"",INDEX(Dashboard!G$7:G$26,Cal!$B6)) -> 0.06 | I6: =IF(LEN(G6)=0,"",IF(G6>2,2,IF(G6<0,0,G6))) -> 0.66666667 | J6: =IF(LEN(H6)=0,"",IF(H6>0.1,0.1,IF(H6<0,0,H6))) -> 0.06
B7: 5 | C7: =IF(LEN(INDEX(Dashboard!B$7:B$26,Cal!$B7))=0,"",INDEX(Dashboard!B$7:B$26,Cal!$B7)) -> Gillette | D7: =IF(LEN(INDEX(Dashboard!C$7:C$26,Cal!$B7))=0,"",INDEX(Dashboard!C$7:C$26,Cal!$B7)) -> 20000 | E7: =IF(LEN(INDEX(Dashboard!D$7:D$26,Cal!$B7))=0,"",INDEX(Dashboard!D$7:D$26,Cal!$B7)) -> 0.02 | F7: =IF(LEN(INDEX(Dashboard!E$7:E$26,Cal!$B7))=0,"",INDEX(Dashboard!E$7:E$26,Cal!$B7)) -> 0.1 | G7: =IF(LEN(INDEX(Dashboard!F$7:F$26,Cal!$B7))=0,"",INDEX(Dashboard!F$7:F$26,Cal!$B7)) -> 0.2 | H7: =IF(LEN(INDEX(Dashboard!G$7:G$26,Cal!$B7))=0,"",INDEX(Dashboard!G$7:G$26,Cal!$B7)) -> 0.08 | I7: =IF(LEN(G7)=0,"",IF(G7>2,2,IF(G7<0,0,G7))) -> 0.2 | J7: =IF(LEN(H7)=0,"",IF(H7>0.1,0.1,IF(H7<0,0,H7))) -> 0.08
B8: 6 | C8: =IF(LEN(INDEX(Dashboard!B$7:B$26,Cal!$B8))=0,"",INDEX(Dashboard!B$7:B$26,Cal!$B8)) | D8: =IF(LEN(INDEX(Dashboard!C$7:C$26,Cal!$B8))=0,"",INDEX(Dashboard!C$7:C$26,Cal!$B8)) | E8: =IF(LEN(INDEX(Dashboard!D$7:D$26,Cal!$B8))=0,"",INDEX(Dashboard!D$7:D$26,Cal!$B8)) | F8: =IF(LEN(INDEX(Dashboard!E$7:E$26,Cal!$B8))=0,"",INDEX(Dashboard!E$7:E$26,Cal!$B8)) | G8: =IF(LEN(INDEX(Dashboard!F$7:F$26,Cal!$B8))=0,"",INDEX(Dashboard!F$7:F$26,Cal!$B8)) | H8: =IF(LEN(INDEX(Dashboard!G$7:G$26,Cal!$B8))=0,"",INDEX(Dashboard!G$7:G$26,Cal!$B8)) | I8: =IF(LEN(G8)=0,"",IF(G8>2,2,IF(G8<0,0,G8))) | J8: =IF(LEN(H8)=0,"",IF(H8>0.1,0.1,IF(H8<0,0,H8)))
B9: 7 | C9: =IF(LEN(INDEX(Dashboard!B$7:B$26,Cal!$B9))=0,"",INDEX(Dashboard!B$7:B$26,Cal!$B9)) | D9: =IF(LEN(INDEX(Dashboard!C$7:C$26,Cal!$B9))=0,"",INDEX(Dashboard!C$7:C$26,Cal!$B9)) | E9: =IF(LEN(INDEX(Dashboard!D$7:D$26,Cal!$B9))=0,"",INDEX(Dashboard!D$7:D$26,Cal!$B9)) | F9: =IF(LEN(INDEX(Dashboard!E$7:E$26,Cal!$B9))=0,"",INDEX(Dashboard!E$7:E$26,Cal!$B9)) | G9: =IF(LEN(INDEX(Dashboard!F$7:F$26,Cal!$B9))=0,"",INDEX(Dashboard!F$7:F$26,Cal!$B9)) | H9: =IF(LEN(INDEX(Dashboard!G$7:G$26,Cal!$B9))=0,"",INDEX(Dashboard!G$7:G$26,Cal!$B9)) | I9: =IF(LEN(G9)=0,"",IF(G9>2,2,IF(G9<0,0,G9))) | J9: =IF(LEN(H9)=0,"",IF(H9>0.1,0.1,IF(H9<0,0,H9)))
B10: 8 | C10: =IF(LEN(INDEX(Dashboard!B$7:B$26,Cal!$B10))=0,"",INDEX(Dashboard!B$7:B$26,Cal!$B10)) | D10: =IF(LEN(INDEX(Dashboard!C$7:C$26,Cal!$B10))=0,"",INDEX(Dashboard!C$7:C$26,Cal!$B10)) | E10: =IF(LEN(INDEX(Dashboard!D$7:D$26,Cal!$B10))=0,"",INDEX(Dashboard!D$7:D$26,Cal!$B10)) | F10: =IF(LEN(INDEX(Dashboard!E$7:E$26,Cal!$B10))=0,"",INDEX(Dashboard!E$7:E$26,Cal!$B10)) | G10: =IF(LEN(INDEX(Dashboard!F$7:F$26,Cal!$B10))=0,"",INDEX(Dashboard!F$7:F$26,Cal!$B10)) | H10: =IF(LEN(INDEX(Dashboard!G$7:G$26,Cal!$B10))=0,"",INDEX(Dashboard!G$7:G$26,Cal!$B10)) | I10: =IF(LEN(G10)=0,"",IF(G10>2,2,IF(G10<0,0,G10))) | J10: =IF(LEN(H10)=0,"",IF(H10>0.1,0.1,IF(H10<0,0,H10)))
B11: 9 | C11: =IF(LEN(INDEX(Dashboard!B$7:B$26,Cal!$B11))=0,"",INDEX(Dashboard!B$7:B$26,Cal!$B11)) | D11: =IF(LEN(INDEX(Dashboard!C$7:C$26,Cal!$B11))=0,"",INDEX(Dashboard!C$7:C$26,Cal!$B11)) | E11: =IF(LEN(INDEX(Dashboard!D$7:D$26,Cal!$B11))=0,"",INDEX(Dashboard!D$7:D$26,Cal!$B11)) | F11: =IF(LEN(INDEX(Dashboard!E$7:E$26,Cal!$B11))=0,"",INDEX(Dashboard!E$7:E$26,Cal!$B11)) | G11: =IF(LEN(INDEX(Dashboard!F$7:F$26,Cal!$B11))=0,"",INDEX(Dashboard!F$7:F$26,Cal!$B11)) | H11: =IF(LEN(INDEX(Dashboard!G$7:G$26,Cal!$B11))=0,"",INDEX(Dashboard!G$7:G$26,Cal!$B11)) | I11: =IF(LEN(G11)=0,"",IF(G11>2,2,IF(G11<0,0,G11))) | J11: =IF(LEN(H11)=0,"",IF(H11>0.1,0.1,IF(H11<0,0,H11)))
B12: 10 | C12: =IF(LEN(INDEX(Dashboard!B$7:B$26,Cal!$B12))=0,"",INDEX(Dashboard!B$7:B$26,Cal!$B12)) | D12: =IF(LEN(INDEX(Dashboard!C$7:C$26,Cal!$B12))=0,"",INDEX(Dashboard!C$7:C$26,Cal!$B12)) | E12: =IF(LEN(INDEX(Dashboard!D$7:D$26,Cal!$B12))=0,"",INDEX(Dashboard!D$7:D$26,Cal!$B12)) | F12: =IF(LEN(INDEX(Dashboard!E$7:E$26,Cal!$B12))=0,"",INDEX(Dashboard!E$7:E$26,Cal!$B12)) | G12: =IF(LEN(INDEX(Dashboard!F$7:F$26,Cal!$B12))=0,"",INDEX(Dashboard!F$7:F$26,Cal!$B12)) | H12: =IF(LEN(INDEX(Dashboard!G$7:G$26,Cal!$B12))=0,"",INDEX(Dashboard!G$7:G$26,Cal!$B12)) | I12: =IF(LEN(G12)=0,"",IF(G12>2,2,IF(G12<0,0,G12))) | J12: =IF(LEN(H12)=0,"",IF(H12>0.1,0.1,IF(H12<0,0,H12)))
B13: 11 | C13: =IF(LEN(INDEX(Dashboard!B$7:B$26,Cal!$B13))=0,"",INDEX(Dashboard!B$7:B$26,Cal!$B13)) | D13: =IF(LEN(INDEX(Dashboard!C$7:C$26,Cal!$B13))=0,"",INDEX(Dashboard!C$7:C$26,Cal!$B13)) | E13: =IF(LEN(INDEX(Dashboard!D$7:D$26,Cal!$B13))=0,"",INDEX(Dashboard!D$7:D$26,Cal!$B13)) | F13: =IF(LEN(INDEX(Dashboard!E$7:E$26,Cal!$B13))=0,"",INDEX(Dashboard!E$7:E$26,Cal!$B13)) | G13: =IF(LEN(INDEX(Dashboard!F$7:F$26,Cal!$B13))=0,"",INDEX(Dashboard!F$7:F$26,Cal!$B13)) | H13: =IF(LEN(INDEX(Dashboard!G$7:G$26,Cal!$B13))=0,"",INDEX(Dashboard!G$7:G$26,Cal!$B13)) | I13: =IF(LEN(G13)=0,"",IF(G13>2,2,IF(G13<0,0,G13))) | J13: =IF(LEN(H13)=0,"",IF(H13>0.1,0.1,IF(H13<0,0,H13)))
B14: 12 | C14: =IF(LEN(INDEX(Dashboard!B$7:B$26,Cal!$B14))=0,"",INDEX(Dashboard!B$7:B$26,Cal!$B14)) | D14: =IF(LEN(INDEX(Dashboard!C$7:C$26,Cal!$B14))=0,"",INDEX(Dashboard!C$7:C$26,Cal!$B14)) | E14: =IF(LEN(INDEX(Dashboard!D$7:D$26,Cal!$B14))=0,"",INDEX(Dashboard!D$7:D$26,Cal!$B14)) | F14: =IF(LEN(INDEX(Dashboard!E$7:E$26,Cal!$B14))=0,"",INDEX(Dashboard!E$7:E$26,Cal!$B14)) | G14: =IF(LEN(INDEX(Dashboard!F$7:F$26,Cal!$B14))=0,"",INDEX(Dashboard!F$7:F$26,Cal!$B14)) | H14: =IF(LEN(INDEX(Dashboard!G$7:G$26,Cal!$B14))=0,"",INDEX(Dashboard!G$7:G$26,Cal!$B14)) | I14: =IF(LEN(G14)=0,"",IF(G14>2,2,IF(G14<0,0,G14))) | J14: =IF(LEN(H14)=0,"",IF(H14>0.1,0.1,IF(H14<0,0,H14)))
... B22: 20 | C22: =IF(LEN(INDEX(Dashboard!B$7:B$26,Cal!$B22))=0,"",INDEX(Dashboard!B$7:B$26,Cal!$B22)) | D22: =IF(LEN(INDEX(Dashboard!C$7:C$26,Cal!$B22))=0,"",INDEX(Dashboard!C$7:C$26,Cal!$B22)) | E22: =IF(LEN(INDEX(Dashboard!D$7:D$26,Cal!$B22))=0,"",INDEX(Dashboard!D$7:D$26,Cal!$B22)) | F22: =IF(LEN(INDEX(Dashboard!E$7:E$26,Cal!$B22))=0,"",INDEX(Dashboard!E$7:E$26,Cal!$B22)) | G22: =IF(LEN(INDEX(Dashboard!F$7:F$26,Cal!$B22))=0,"",INDEX(Dashboard!F$7:F$26,Cal!$B22)) | H22: =IF(LEN(INDEX(Dashboard!G$7:G$26,Cal!$B22))=0,"",INDEX(Dashboard!G$7:G$26,Cal!$B22)) | I22: =IF(LEN(G22)=0,"",IF(G22>2,2,IF(G22<0,0,G22))) | J22: =IF(LEN(H22)=0,"",IF(H22>0.1,0.1,IF(H22<0,0,H22)))
