Workbook
Name Dynamic_SuccessOptions: OFFSET(Calc!$H$3,,,Calc!$H$8,1)
Name SuccessOptions: OFFSET(Calc!$H$3,0,0,MAX(Calc!$H$8,1),1)
Name SuccessValues: OFFSET(Calc!$I$3,0,0,MAX(Calc!$I$8,1),1)

Sheet Dashboard
E2: ANSOFF MATRIX TEMPLATE
E3: DASHBOARD
J6: DATA
D7: EXISTING PRODUCTS | F7: NEW PRODUCTS | J7: Description | K7: Product Success | L7: Market | M7: Product
C8: EXISTING MARKETS | D8: =IFERROR(IF(LEN(INDEX($K$8:$K$19,MATCH(E8,$J$8:$J$19,0)))=0,"",INDEX($P$17:$P$21,MATCH(INDEX($K$8:$K$19,MATCH(E8,$J$8:$J$19,0)),$O$17:$O$21,0))),"") -> ✓ | E8: {=IFERROR(INDEX($J$8:$J$19,SMALL(IF((LEN($J$8:$J$19)<>0)*($L$8:$L$19="Existing")*($M$8:$M$19="Existing"),ROW($J$8:$J$19)-ROW($J$7),""),ROW(J8)-ROW($J$7))),"")} -> Product F | F8: =IFERROR(IF(LEN(INDEX($K$8:$K$19,MATCH(G8,$J$8:$J$19,0)))=0,"",INDEX($P$17:$P$21,MATCH(INDEX($K$8:$K$19,MATCH(G8,$J$8:$J$19,0)),$O$17:$O$21,0))),"") -> ✓ | G8: {=IFERROR(INDEX($J$8:$J$19,SMALL(IF((LEN($J$8:$J$19)<>0)*($L$8:$L$19="Existing")*($M$8:$M$19="New"),ROW($J$8:$J$19)-ROW($J$7),""),ROW(J8)-ROW($J$7))),"")} -> Product B | J8: Product A | K8: Undefined | L8: New | M8: Existing
D9: =IFERROR(IF(LEN(INDEX($K$8:$K$19,MATCH(E9,$J$8:$J$19,0)))=0,"",INDEX($P$17:$P$21,MATCH(INDEX($K$8:$K$19,MATCH(E9,$J$8:$J$19,0)),$O$17:$O$21,0))),"") | E9: {=IFERROR(INDEX($J$8:$J$19,SMALL(IF((LEN($J$8:$J$19)<>0)*($L$8:$L$19="Existing")*($M$8:$M$19="Existing"),ROW($J$8:$J$19)-ROW($J$7),""),ROW(J9)-ROW($J$7))),"")} | F9: =IFERROR(IF(LEN(INDEX($K$8:$K$19,MATCH(G9,$J$8:$J$19,0)))=0,"",INDEX($P$17:$P$21,MATCH(INDEX($K$8:$K$19,MATCH(G9,$J$8:$J$19,0)),$O$17:$O$21,0))),"") -> ✗ | G9: {=IFERROR(INDEX($J$8:$J$19,SMALL(IF((LEN($J$8:$J$19)<>0)*($L$8:$L$19="Existing")*($M$8:$M$19="New"),ROW($J$8:$J$19)-ROW($J$7),""),ROW(J9)-ROW($J$7))),"")} -> Product C | J9: Product B | K9: Strong | L9: Existing | M9: New
D10: =IFERROR(IF(LEN(INDEX($K$8:$K$19,MATCH(E10,$J$8:$J$19,0)))=0,"",INDEX($P$17:$P$21,MATCH(INDEX($K$8:$K$19,MATCH(E10,$J$8:$J$19,0)),$O$17:$O$21,0))),"") | E10: {=IFERROR(INDEX($J$8:$J$19,SMALL(IF((LEN($J$8:$J$19)<>0)*($L$8:$L$19="Existing")*($M$8:$M$19="Existing"),ROW($J$8:$J$19)-ROW($J$7),""),ROW(J10)-ROW($J$7))),"")} | F10: =IFERROR(IF(LEN(INDEX($K$8:$K$19,MATCH(G10,$J$8:$J$19,0)))=0,"",INDEX($P$17:$P$21,MATCH(INDEX($K$8:$K$19,MATCH(G10,$J$8:$J$19,0)),$O$17:$O$21,0))),"") -> ≈ | G10: {=IFERROR(INDEX($J$8:$J$19,SMALL(IF((LEN($J$8:$J$19)<>0)*($L$8:$L$19="Existing")*($M$8:$M$19="New"),ROW($J$8:$J$19)-ROW($J$7),""),ROW(J10)-ROW($J$7))),"")} -> Product D | J10: Product C | K10: Undefined | L10: Existing | M10: New
D11: =IFERROR(IF(LEN(INDEX($K$8:$K$19,MATCH(E11,$J$8:$J$19,0)))=0,"",INDEX($P$17:$P$21,MATCH(INDEX($K$8:$K$19,MATCH(E11,$J$8:$J$19,0)),$O$17:$O$21,0))),"") | E11: {=IFERROR(INDEX($J$8:$J$19,SMALL(IF((LEN($J$8:$J$19)<>0)*($L$8:$L$19="Existing")*($M$8:$M$19="Existing"),ROW($J$8:$J$19)-ROW($J$7),""),ROW(J11)-ROW($J$7))),"")} | F11: =IFERROR(IF(LEN(INDEX($K$8:$K$19,MATCH(G11,$J$8:$J$19,0)))=0,"",INDEX($P$17:$P$21,MATCH(INDEX($K$8:$K$19,MATCH(G11,$J$8:$J$19,0)),$O$17:$O$21,0))),"") | G11: {=IFERROR(INDEX($J$8:$J$19,SMALL(IF((LEN($J$8:$J$19)<>0)*($L$8:$L$19="Existing")*($M$8:$M$19="New"),ROW($J$8:$J$19)-ROW($J$7),""),ROW(J11)-ROW($J$7))),"")} | J11: Product D | K11: Little | L11: Existing | M11: New
D12: =IFERROR(IF(LEN(INDEX($K$8:$K$19,MATCH(E12,$J$8:$J$19,0)))=0,"",INDEX($P$17:$P$21,MATCH(INDEX($K$8:$K$19,MATCH(E12,$J$8:$J$19,0)),$O$17:$O$21,0))),"") | E12: {=IFERROR(INDEX($J$8:$J$19,SMALL(IF((LEN($J$8:$J$19)<>0)*($L$8:$L$19="Existing")*($M$8:$M$19="Existing"),ROW($J$8:$J$19)-ROW($J$7),""),ROW(J12)-ROW($J$7))),"")} | F12: =IFERROR(IF(LEN(INDEX($K$8:$K$19,MATCH(G12,$J$8:$J$19,0)))=0,"",INDEX($P$17:$P$21,MATCH(INDEX($K$8:$K$19,MATCH(G12,$J$8:$J$19,0)),$O$17:$O$21,0))),"") | G12: {=IFERROR(INDEX($J$8:$J$19,SMALL(IF((LEN($J$8:$J$19)<>0)*($L$8:$L$19="Existing")*($M$8:$M$19="New"),ROW($J$8:$J$19)-ROW($J$7),""),ROW(J12)-ROW($J$7))),"")} | J12: Product E | K12: Strong | L12: New | M12: New
D13: =IFERROR(IF(LEN(INDEX($K$8:$K$19,MATCH(E13,$J$8:$J$19,0)))=0,"",INDEX($P$17:$P$21,MATCH(INDEX($K$8:$K$19,MATCH(E13,$J$8:$J$19,0)),$O$17:$O$21,0))),"") | E13: {=IFERROR(INDEX($J$8:$J$19,SMALL(IF((LEN($J$8:$J$19)<>0)*($L$8:$L$19="Existing")*($M$8:$M$19="Existing"),ROW($J$8:$J$19)-ROW($J$7),""),ROW(J13)-ROW($J$7))),"")} | F13: =IFERROR(IF(LEN(INDEX($K$8:$K$19,MATCH(G13,$J$8:$J$19,0)))=0,"",INDEX($P$17:$P$21,MATCH(INDEX($K$8:$K$19,MATCH(G13,$J$8:$J$19,0)),$O$17:$O$21,0))),"") | G13: {=IFERROR(INDEX($J$8:$J$19,SMALL(IF((LEN($J$8:$J$19)<>0)*($L$8:$L$19="Existing")*($M$8:$M$19="New"),ROW($J$8:$J$19)-ROW($J$7),""),ROW(J13)-ROW($J$7))),"")} | J13: Product F | K13: Strong | L13: Existing | M13: Existing
D14: =IFERROR(IF(LEN(INDEX($K$8:$K$19,MATCH(E14,$J$8:$J$19,0)))=0,"",INDEX($P$17:$P$21,MATCH(INDEX($K$8:$K$19,MATCH(E14,$J$8:$J$19,0)),$O$17:$O$21,0))),"") | E14: {=IFERROR(INDEX($J$8:$J$19,SMALL(IF((LEN($J$8:$J$19)<>0)*($L$8:$L$19="Existing")*($M$8:$M$19="Existing"),ROW($J$8:$J$19)-ROW($J$7),""),ROW(J14)-ROW($J$7))),"")} | F14: =IFERROR(IF(LEN(INDEX($K$8:$K$19,MATCH(G14,$J$8:$J$19,0)))=0,"",INDEX($P$17:$P$21,MATCH(INDEX($K$8:$K$19,MATCH(G14,$J$8:$J$19,0)),$O$17:$O$21,0))),"") | G14: {=IFERROR(INDEX($J$8:$J$19,SMALL(IF((LEN($J$8:$J$19)<>0)*($L$8:$L$19="Existing")*($M$8:$M$19="New"),ROW($J$8:$J$19)-ROW($J$7),""),ROW(J14)-ROW($J$7))),"")}
D15: =IFERROR(IF(LEN(INDEX($K$8:$K$19,MATCH(E15,$J$8:$J$19,0)))=0,"",INDEX($P$17:$P$21,MATCH(INDEX($K$8:$K$19,MATCH(E15,$J$8:$J$19,0)),$O$17:$O$21,0))),"") | E15: {=IFERROR(INDEX($J$8:$J$19,SMALL(IF((LEN($J$8:$J$19)<>0)*($L$8:$L$19="Existing")*($M$8:$M$19="Existing"),ROW($J$8:$J$19)-ROW($J$7),""),ROW(J15)-ROW($J$7))),"")} | F15: =IFERROR(IF(LEN(INDEX($K$8:$K$19,MATCH(G15,$J$8:$J$19,0)))=0,"",INDEX($P$17:$P$21,MATCH(INDEX($K$8:$K$19,MATCH(G15,$J$8:$J$19,0)),$O$17:$O$21,0))),"") | G15: {=IFERROR(INDEX($J$8:$J$19,SMALL(IF((LEN($J$8:$J$19)<>0)*($L$8:$L$19="Existing")*($M$8:$M$19="New"),ROW($J$8:$J$19)-ROW($J$7),""),ROW(J15)-ROW($J$7))),"")}
D16: =IFERROR(IF(LEN(INDEX($K$8:$K$19,MATCH(E16,$J$8:$J$19,0)))=0,"",INDEX($P$17:$P$21,MATCH(INDEX($K$8:$K$19,MATCH(E16,$J$8:$J$19,0)),$O$17:$O$21,0))),"") | E16: {=IFERROR(INDEX($J$8:$J$19,SMALL(IF((LEN($J$8:$J$19)<>0)*($L$8:$L$19="Existing")*($M$8:$M$19="Existing"),ROW($J$8:$J$19)-ROW($J$7),""),ROW(J16)-ROW($J$7))),"")} | F16: =IFERROR(IF(LEN(INDEX($K$8:$K$19,MATCH(G16,$J$8:$J$19,0)))=0,"",INDEX($P$17:$P$21,MATCH(INDEX($K$8:$K$19,MATCH(G16,$J$8:$J$19,0)),$O$17:$O$21,0))),"") | G16: {=IFERROR(INDEX($J$8:$J$19,SMALL(IF((LEN($J$8:$J$19)<>0)*($L$8:$L$19="Existing")*($M$8:$M$19="New"),ROW($J$8:$J$19)-ROW($J$7),""),ROW(J16)-ROW($J$7))),"")} | O16: Success Options | P16: Signs
D17: =IFERROR(IF(LEN(INDEX($K$8:$K$19,MATCH(E17,$J$8:$J$19,0)))=0,"",INDEX($P$17:$P$21,MATCH(INDEX($K$8:$K$19,MATCH(E17,$J$8:$J$19,0)),$O$17:$O$21,0))),"") | E17: {=IFERROR(INDEX($J$8:$J$19,SMALL(IF((LEN($J$8:$J$19)<>0)*($L$8:$L$19="Existing")*($M$8:$M$19="Existing"),ROW($J$8:$J$19)-ROW($J$7),""),ROW(J17)-ROW($J$7))),"")} | F17: =IFERROR(IF(LEN(INDEX($K$8:$K$19,MATCH(G17,$J$8:$J$19,0)))=0,"",INDEX($P$17:$P$21,MATCH(INDEX($K$8:$K$19,MATCH(G17,$J$8:$J$19,0)),$O$17:$O$21,0))),"") | G17: {=IFERROR(INDEX($J$8:$J$19,SMALL(IF((LEN($J$8:$J$19)<>0)*($L$8:$L$19="Existing")*($M$8:$M$19="New"),ROW($J$8:$J$19)-ROW($J$7),""),ROW(J17)-ROW($J$7))),"")} | O17: Undefined | P17: ✗
D18: =IFERROR(IF(LEN(INDEX($K$8:$K$19,MATCH(E18,$J$8:$J$19,0)))=0,"",INDEX($P$17:$P$21,MATCH(INDEX($K$8:$K$19,MATCH(E18,$J$8:$J$19,0)),$O$17:$O$21,0))),"") | E18: {=IFERROR(INDEX($J$8:$J$19,SMALL(IF((LEN($J$8:$J$19)<>0)*($L$8:$L$19="Existing")*($M$8:$M$19="Existing"),ROW($J$8:$J$19)-ROW($J$7),""),ROW(J18)-ROW($J$7))),"")} | F18: =IFERROR(IF(LEN(INDEX($K$8:$K$19,MATCH(G18,$J$8:$J$19,0)))=0,"",INDEX($P$17:$P$21,MATCH(INDEX($K$8:$K$19,MATCH(G18,$J$8:$J$19,0)),$O$17:$O$21,0))),"") | G18: {=IFERROR(INDEX($J$8:$J$19,SMALL(IF((LEN($J$8:$J$19)<>0)*($L$8:$L$19="Existing")*($M$8:$M$19="New"),ROW($J$8:$J$19)-ROW($J$7),""),ROW(J18)-ROW($J$7))),"")} | O18: Little | P18: ≈
D19: =IFERROR(IF(LEN(INDEX($K$8:$K$19,MATCH(E19,$J$8:$J$19,0)))=0,"",INDEX($P$17:$P$21,MATCH(INDEX($K$8:$K$19,MATCH(E19,$J$8:$J$19,0)),$O$17:$O$21,0))),"") | E19: {=IFERROR(INDEX($J$8:$J$19,SMALL(IF((LEN($J$8:$J$19)<>0)*($L$8:$L$19="Existing")*($M$8:$M$19="Existing"),ROW($J$8:$J$19)-ROW($J$7),""),ROW(J19)-ROW($J$7))),"")} | F19: =IFERROR(IF(LEN(INDEX($K$8:$K$19,MATCH(G19,$J$8:$J$19,0)))=0,"",INDEX($P$17:$P$21,MATCH(INDEX($K$8:$K$19,MATCH(G19,$J$8:$J$19,0)),$O$17:$O$21,0))),"") | G19: {=IFERROR(INDEX($J$8:$J$19,SMALL(IF((LEN($J$8:$J$19)<>0)*($L$8:$L$19="Existing")*($M$8:$M$19="New"),ROW($J$8:$J$19)-ROW($J$7),""),ROW(J19)-ROW($J$7))),"")} | O19: Strong | P19: ✓
D20: =IFERROR(IF(LEN(INDEX($K$8:$K$19,MATCH(E20,$J$8:$J$19,0)))=0,"",INDEX($P$17:$P$21,MATCH(INDEX($K$8:$K$19,MATCH(E20,$J$8:$J$19,0)),$O$17:$O$21,0))),"") | E20: {=IFERROR(INDEX($J$8:$J$19,SMALL(IF((LEN($J$8:$J$19)<>0)*($L$8:$L$19="Existing")*($M$8:$M$19="Existing"),ROW($J$8:$J$19)-ROW($J$7),""),ROW(J20)-ROW($J$7))),"")} | F20: =IFERROR(IF(LEN(INDEX($K$8:$K$19,MATCH(G20,$J$8:$J$19,0)))=0,"",INDEX($P$17:$P$21,MATCH(INDEX($K$8:$K$19,MATCH(G20,$J$8:$J$19,0)),$O$17:$O$21,0))),"") | G20: {=IFERROR(INDEX($J$8:$J$19,SMALL(IF((LEN($J$8:$J$19)<>0)*($L$8:$L$19="Existing")*($M$8:$M$19="New"),ROW($J$8:$J$19)-ROW($J$7),""),ROW(J20)-ROW($J$7))),"")}
D21: =IFERROR(IF(LEN(INDEX($K$8:$K$19,MATCH(E21,$J$8:$J$19,0)))=0,"",INDEX($P$17:$P$21,MATCH(INDEX($K$8:$K$19,MATCH(E21,$J$8:$J$19,0)),$O$17:$O$21,0))),"") | E21: {=IFERROR(INDEX($J$8:$J$19,SMALL(IF((LEN($J$8:$J$19)<>0)*($L$8:$L$19="Existing")*($M$8:$M$19="Existing"),ROW($J$8:$J$19)-ROW($J$7),""),ROW(J21)-ROW($J$7))),"")} | F21: =IFERROR(IF(LEN(INDEX($K$8:$K$19,MATCH(G21,$J$8:$J$19,0)))=0,"",INDEX($P$17:$P$21,MATCH(INDEX($K$8:$K$19,MATCH(G21,$J$8:$J$19,0)),$O$17:$O$21,0))),"") | G21: {=IFERROR(INDEX($J$8:$J$19,SMALL(IF((LEN($J$8:$J$19)<>0)*($L$8:$L$19="Existing")*($M$8:$M$19="New"),ROW($J$8:$J$19)-ROW($J$7),""),ROW(J21)-ROW($J$7))),"")}
D22: =IFERROR(IF(LEN(INDEX($K$8:$K$19,MATCH(E22,$J$8:$J$19,0)))=0,"",INDEX($P$17:$P$21,MATCH(INDEX($K$8:$K$19,MATCH(E22,$J$8:$J$19,0)),$O$17:$O$21,0))),"") | E22: {=IFERROR(INDEX($J$8:$J$19,SMALL(IF((LEN($J$8:$J$19)<>0)*($L$8:$L$19="Existing")*($M$8:$M$19="Existing"),ROW($J$8:$J$19)-ROW($J$7),""),ROW(J22)-ROW($J$7))),"")} | F22: =IFERROR(IF(LEN(INDEX($K$8:$K$19,MATCH(G22,$J$8:$J$19,0)))=0,"",INDEX($P$17:$P$21,MATCH(INDEX($K$8:$K$19,MATCH(G22,$J$8:$J$19,0)),$O$17:$O$21,0))),"") | G22: {=IFERROR(INDEX($J$8:$J$19,SMALL(IF((LEN($J$8:$J$19)<>0)*($L$8:$L$19="Existing")*($M$8:$M$19="New"),ROW($J$8:$J$19)-ROW($J$7),""),ROW(J22)-ROW($J$7))),"")}
C23: NEW MARKETS | D23: =IFERROR(IF(LEN(INDEX($K$8:$K$19,MATCH(E23,$J$8:$J$19,0)))=0,"",INDEX($P$17:$P$21,MATCH(INDEX($K$8:$K$19,MATCH(E23,$J$8:$J$19,0)),$O$17:$O$21,0))),"") -> ✗ | E23: {=IFERROR(INDEX($J$8:$J$19,SMALL(IF((LEN($J$8:$J$19)<>0)*($L$8:$L$19="New")*($M$8:$M$19="Existing"),ROW($J$8:$J$19)-ROW($J$7),""),ROW(J8)-ROW($J$7))),"")} -> Product A | F23: =IFERROR(IF(LEN(INDEX($K$8:$K$19,MATCH(G23,$J$8:$J$19,0)))=0,"",INDEX($P$17:$P$21,MATCH(INDEX($K$8:$K$19,MATCH(G23,$J$8:$J$19,0)),$O$17:$O$21,0))),"") -> ✓ | G23: {=IFERROR(INDEX($J$8:$J$19,SMALL(IF((LEN($J$8:$J$19)<>0)*($L$8:$L$19="New")*($M$8:$M$19="New"),ROW($J$8:$J$19)-ROW($J$7),""),ROW(J8)-ROW($J$7))),"")} -> Product E
D24: =IFERROR(IF(LEN(INDEX($K$8:$K$19,MATCH(E24,$J$8:$J$19,0)))=0,"",INDEX($P$17:$P$21,MATCH(INDEX($K$8:$K$19,MATCH(E24,$J$8:$J$19,0)),$O$17:$O$21,0))),"") | E24: {=IFERROR(INDEX($J$8:$J$19,SMALL(IF((LEN($J$8:$J$19)<>0)*($L$8:$L$19="New")*($M$8:$M$19="Existing"),ROW($J$8:$J$19)-ROW($J$7),""),ROW(J9)-ROW($J$7))),"")} | F24: =IFERROR(IF(LEN(INDEX($K$8:$K$19,MATCH(G24,$J$8:$J$19,0)))=0,"",INDEX($P$17:$P$21,MATCH(INDEX($K$8:$K$19,MATCH(G24,$J$8:$J$19,0)),$O$17:$O$21,0))),"") | G24: {=IFERROR(INDEX($J$8:$J$19,SMALL(IF((LEN($J$8:$J$19)<>0)*($L$8:$L$19="New")*($M$8:$M$19="New"),ROW($J$8:$J$19)-ROW($J$7),""),ROW(J9)-ROW($J$7))),"")}
D25: =IFERROR(IF(LEN(INDEX($K$8:$K$19,MATCH(E25,$J$8:$J$19,0)))=0,"",INDEX($P$17:$P$21,MATCH(INDEX($K$8:$K$19,MATCH(E25,$J$8:$J$19,0)),$O$17:$O$21,0))),"") | E25: {=IFERROR(INDEX($J$8:$J$19,SMALL(IF((LEN($J$8:$J$19)<>0)*($L$8:$L$19="New")*($M$8:$M$19="Existing"),ROW($J$8:$J$19)-ROW($J$7),""),ROW(J10)-ROW($J$7))),"")} | F25: =IFERROR(IF(LEN(INDEX($K$8:$K$19,MATCH(G25,$J$8:$J$19,0)))=0,"",INDEX($P$17:$P$21,MATCH(INDEX($K$8:$K$19,MATCH(G25,$J$8:$J$19,0)),$O$17:$O$21,0))),"") | G25: {=IFERROR(INDEX($J$8:$J$19,SMALL(IF((LEN($J$8:$J$19)<>0)*($L$8:$L$19="New")*($M$8:$M$19="New"),ROW($J$8:$J$19)-ROW($J$7),""),ROW(J10)-ROW($J$7))),"")}
D26: =IFERROR(IF(LEN(INDEX($K$8:$K$19,MATCH(E26,$J$8:$J$19,0)))=0,"",INDEX($P$17:$P$21,MATCH(INDEX($K$8:$K$19,MATCH(E26,$J$8:$J$19,0)),$O$17:$O$21,0))),"") | E26: {=IFERROR(INDEX($J$8:$J$19,SMALL(IF((LEN($J$8:$J$19)<>0)*($L$8:$L$19="New")*($M$8:$M$19="Existing"),ROW($J$8:$J$19)-ROW($J$7),""),ROW(J11)-ROW($J$7))),"")} | F26: =IFERROR(IF(LEN(INDEX($K$8:$K$19,MATCH(G26,$J$8:$J$19,0)))=0,"",INDEX($P$17:$P$21,MATCH(INDEX($K$8:$K$19,MATCH(G26,$J$8:$J$19,0)),$O$17:$O$21,0))),"") | G26: {=IFERROR(INDEX($J$8:$J$19,SMALL(IF((LEN($J$8:$J$19)<>0)*($L$8:$L$19="New")*($M$8:$M$19="New"),ROW($J$8:$J$19)-ROW($J$7),""),ROW(J11)-ROW($J$7))),"")}
D27: =IFERROR(IF(LEN(INDEX($K$8:$K$19,MATCH(E27,$J$8:$J$19,0)))=0,"",INDEX($P$17:$P$21,MATCH(INDEX($K$8:$K$19,MATCH(E27,$J$8:$J$19,0)),$O$17:$O$21,0))),"") | E27: {=IFERROR(INDEX($J$8:$J$19,SMALL(IF((LEN($J$8:$J$19)<>0)*($L$8:$L$19="New")*($M$8:$M$19="Existing"),ROW($J$8:$J$19)-ROW($J$7),""),ROW(J12)-ROW($J$7))),"")} | F27: =IFERROR(IF(LEN(INDEX($K$8:$K$19,MATCH(G27,$J$8:$J$19,0)))=0,"",INDEX($P$17:$P$21,MATCH(INDEX($K$8:$K$19,MATCH(G27,$J$8:$J$19,0)),$O$17:$O$21,0))),"") | G27: {=IFERROR(INDEX($J$8:$J$19,SMALL(IF((LEN($J$8:$J$19)<>0)*($L$8:$L$19="New")*($M$8:$M$19="New"),ROW($J$8:$J$19)-ROW($J$7),""),ROW(J12)-ROW($J$7))),"")}
D28: =IFERROR(IF(LEN(INDEX($K$8:$K$19,MATCH(E28,$J$8:$J$19,0)))=0,"",INDEX($P$17:$P$21,MATCH(INDEX($K$8:$K$19,MATCH(E28,$J$8:$J$19,0)),$O$17:$O$21,0))),"") | E28: {=IFERROR(INDEX($J$8:$J$19,SMALL(IF((LEN($J$8:$J$19)<>0)*($L$8:$L$19="New")*($M$8:$M$19="Existing"),ROW($J$8:$J$19)-ROW($J$7),""),ROW(J13)-ROW($J$7))),"")} | F28: =IFERROR(IF(LEN(INDEX($K$8:$K$19,MATCH(G28,$J$8:$J$19,0)))=0,"",INDEX($P$17:$P$21,MATCH(INDEX($K$8:$K$19,MATCH(G28,$J$8:$J$19,0)),$O$17:$O$21,0))),"") | G28: {=IFERROR(INDEX($J$8:$J$19,SMALL(IF((LEN($J$8:$J$19)<>0)*($L$8:$L$19="New")*($M$8:$M$19="New"),ROW($J$8:$J$19)-ROW($J$7),""),ROW(J13)-ROW($J$7))),"")}
D29: =IFERROR(IF(LEN(INDEX($K$8:$K$19,MATCH(E29,$J$8:$J$19,0)))=0,"",INDEX($P$17:$P$21,MATCH(INDEX($K$8:$K$19,MATCH(E29,$J$8:$J$19,0)),$O$17:$O$21,0))),"") | E29: {=IFERROR(INDEX($J$8:$J$19,SMALL(IF((LEN($J$8:$J$19)<>0)*($L$8:$L$19="New")*($M$8:$M$19="Existing"),ROW($J$8:$J$19)-ROW($J$7),""),ROW(J14)-ROW($J$7))),"")} | F29: =IFERROR(IF(LEN(INDEX($K$8:$K$19,MATCH(G29,$J$8:$J$19,0)))=0,"",INDEX($P$17:$P$21,MATCH(INDEX($K$8:$K$19,MATCH(G29,$J$8:$J$19,0)),$O$17:$O$21,0))),"") | G29: {=IFERROR(INDEX($J$8:$J$19,SMALL(IF((LEN($J$8:$J$19)<>0)*($L$8:$L$19="New")*($M$8:$M$19="New"),ROW($J$8:$J$19)-ROW($J$7),""),ROW(J14)-ROW($J$7))),"")}
D30: =IFERROR(IF(LEN(INDEX($K$8:$K$19,MATCH(E30,$J$8:$J$19,0)))=0,"",INDEX($P$17:$P$21,MATCH(INDEX($K$8:$K$19,MATCH(E30,$J$8:$J$19,0)),$O$17:$O$21,0))),"") | E30: {=IFERROR(INDEX($J$8:$J$19,SMALL(IF((LEN($J$8:$J$19)<>0)*($L$8:$L$19="New")*($M$8:$M$19="Existing"),ROW($J$8:$J$19)-ROW($J$7),""),ROW(J15)-ROW($J$7))),"")} | F30: =IFERROR(IF(LEN(INDEX($K$8:$K$19,MATCH(G30,$J$8:$J$19,0)))=0,"",INDEX($P$17:$P$21,MATCH(INDEX($K$8:$K$19,MATCH(G30,$J$8:$J$19,0)),$O$17:$O$21,0))),"") | G30: {=IFERROR(INDEX($J$8:$J$19,SMALL(IF((LEN($J$8:$J$19)<>0)*($L$8:$L$19="New")*($M$8:$M$19="New"),ROW($J$8:$J$19)-ROW($J$7),""),ROW(J15)-ROW($J$7))),"")}
D31: =IFERROR(IF(LEN(INDEX($K$8:$K$19,MATCH(E31,$J$8:$J$19,0)))=0,"",INDEX($P$17:$P$21,MATCH(INDEX($K$8:$K$19,MATCH(E31,$J$8:$J$19,0)),$O$17:$O$21,0))),"") | E31: {=IFERROR(INDEX($J$8:$J$19,SMALL(IF((LEN($J$8:$J$19)<>0)*($L$8:$L$19="New")*($M$8:$M$19="Existing"),ROW($J$8:$J$19)-ROW($J$7),""),ROW(J16)-ROW($J$7))),"")} | F31: =IFERROR(IF(LEN(INDEX($K$8:$K$19,MATCH(G31,$J$8:$J$19,0)))=0,"",INDEX($P$17:$P$21,MATCH(INDEX($K$8:$K$19,MATCH(G31,$J$8:$J$19,0)),$O$17:$O$21,0))),"") | G31: {=IFERROR(INDEX($J$8:$J$19,SMALL(IF((LEN($J$8:$J$19)<>0)*($L$8:$L$19="New")*($M$8:$M$19="New"),ROW($J$8:$J$19)-ROW($J$7),""),ROW(J16)-ROW($J$7))),"")}
D32: =IFERROR(IF(LEN(INDEX($K$8:$K$19,MATCH(E32,$J$8:$J$19,0)))=0,"",INDEX($P$17:$P$21,MATCH(INDEX($K$8:$K$19,MATCH(E32,$J$8:$J$19,0)),$O$17:$O$21,0))),"") | E32: {=IFERROR(INDEX($J$8:$J$19,SMALL(IF((LEN($J$8:$J$19)<>0)*($L$8:$L$19="New")*($M$8:$M$19="Existing"),ROW($J$8:$J$19)-ROW($J$7),""),ROW(J17)-ROW($J$7))),"")} | F32: =IFERROR(IF(LEN(INDEX($K$8:$K$19,MATCH(G32,$J$8:$J$19,0)))=0,"",INDEX($P$17:$P$21,MATCH(INDEX($K$8:$K$19,MATCH(G32,$J$8:$J$19,0)),$O$17:$O$21,0))),"") | G32: {=IFERROR(INDEX($J$8:$J$19,SMALL(IF((LEN($J$8:$J$19)<>0)*($L$8:$L$19="New")*($M$8:$M$19="New"),ROW($J$8:$J$19)-ROW($J$7),""),ROW(J17)-ROW($J$7))),"")}
D33: =IFERROR(IF(LEN(INDEX($K$8:$K$19,MATCH(E33,$J$8:$J$19,0)))=0,"",INDEX($P$17:$P$21,MATCH(INDEX($K$8:$K$19,MATCH(E33,$J$8:$J$19,0)),$O$17:$O$21,0))),"") | E33: {=IFERROR(INDEX($J$8:$J$19,SMALL(IF((LEN($J$8:$J$19)<>0)*($L$8:$L$19="New")*($M$8:$M$19="Existing"),ROW($J$8:$J$19)-ROW($J$7),""),ROW(J18)-ROW($J$7))),"")} | F33: =IFERROR(IF(LEN(INDEX($K$8:$K$19,MATCH(G33,$J$8:$J$19,0)))=0,"",INDEX($P$17:$P$21,MATCH(INDEX($K$8:$K$19,MATCH(G33,$J$8:$J$19,0)),$O$17:$O$21,0))),"") | G33: {=IFERROR(INDEX($J$8:$J$19,SMALL(IF((LEN($J$8:$J$19)<>0)*($L$8:$L$19="New")*($M$8:$M$19="New"),ROW($J$8:$J$19)-ROW($J$7),""),ROW(J18)-ROW($J$7))),"")}
D34: =IFERROR(IF(LEN(INDEX($K$8:$K$19,MATCH(E34,$J$8:$J$19,0)))=0,"",INDEX($P$17:$P$21,MATCH(INDEX($K$8:$K$19,MATCH(E34,$J$8:$J$19,0)),$O$17:$O$21,0))),"") | E34: {=IFERROR(INDEX($J$8:$J$19,SMALL(IF((LEN($J$8:$J$19)<>0)*($L$8:$L$19="New")*($M$8:$M$19="Existing"),ROW($J$8:$J$19)-ROW($J$7),""),ROW(J19)-ROW($J$7))),"")} | F34: =IFERROR(IF(LEN(INDEX($K$8:$K$19,MATCH(G34,$J$8:$J$19,0)))=0,"",INDEX($P$17:$P$21,MATCH(INDEX($K$8:$K$19,MATCH(G34,$J$8:$J$19,0)),$O$17:$O$21,0))),"") | G34: {=IFERROR(INDEX($J$8:$J$19,SMALL(IF((LEN($J$8:$J$19)<>0)*($L$8:$L$19="New")*($M$8:$M$19="New"),ROW($J$8:$J$19)-ROW($J$7),""),ROW(J19)-ROW($J$7))),"")}
D35: =IFERROR(IF(LEN(INDEX($K$8:$K$19,MATCH(E35,$J$8:$J$19,0)))=0,"",INDEX($P$17:$P$21,MATCH(INDEX($K$8:$K$19,MATCH(E35,$J$8:$J$19,0)),$O$17:$O$21,0))),"") | E35: {=IFERROR(INDEX($J$8:$J$19,SMALL(IF((LEN($J$8:$J$19)<>0)*($L$8:$L$19="New")*($M$8:$M$19="Existing"),ROW($J$8:$J$19)-ROW($J$7),""),ROW(J20)-ROW($J$7))),"")} | F35: =IFERROR(IF(LEN(INDEX($K$8:$K$19,MATCH(G35,$J$8:$J$19,0)))=0,"",INDEX($P$17:$P$21,MATCH(INDEX($K$8:$K$19,MATCH(G35,$J$8:$J$19,0)),$O$17:$O$21,0))),"") | G35: {=IFERROR(INDEX($J$8:$J$19,SMALL(IF((LEN($J$8:$J$19)<>0)*($L$8:$L$19="New")*($M$8:$M$19="New"),ROW($J$8:$J$19)-ROW($J$7),""),ROW(J20)-ROW($J$7))),"")}
... D37: =IFERROR(IF(LEN(INDEX($K$8:$K$19,MATCH(E37,$J$8:$J$19,0)))=0,"",INDEX($P$17:$P$21,MATCH(INDEX($K$8:$K$19,MATCH(E37,$J$8:$J$19,0)),$O$17:$O$21,0))),"") | E37: {=IFERROR(INDEX($J$8:$J$19,SMALL(IF((LEN($J$8:$J$19)<>0)*($L$8:$L$19="New")*($M$8:$M$19="Existing"),ROW($J$8:$J$19)-ROW($J$7),""),ROW(J22)-ROW($J$7))),"")} | F37: =IFERROR(IF(LEN(INDEX($K$8:$K$19,MATCH(G37,$J$8:$J$19,0)))=0,"",INDEX($P$17:$P$21,MATCH(INDEX($K$8:$K$19,MATCH(G37,$J$8:$J$19,0)),$O$17:$O$21,0))),"") | G37: {=IFERROR(INDEX($J$8:$J$19,SMALL(IF((LEN($J$8:$J$19)<>0)*($L$8:$L$19="New")*($M$8:$M$19="New"),ROW($J$8:$J$19)-ROW($J$7),""),ROW(J22)-ROW($J$7))),"")}

Sheet Reports
C2: ANSOFF MATRIX TEMPLATE
C3: REPORTS
H7: MARKET PENETRATION | I7: PRODUCT DEVELOPMENT | J7: MARKET DEVELOPMENT | K7: DIVERSIFICATION
H8: =IFERROR(IF(LEN(INDEX(Dashboard!$E$8:$E$22,ROW(Calc!B3)-ROW(Calc!$B$2)))=0,"",INDEX(Dashboard!$E$8:$E$22,ROW(Calc!B3)-ROW(Calc!$B$2))),"") -> Product F | I8: =IFERROR(IF(LEN(INDEX(Dashboard!$G$8:$G$22,ROW(Calc!H3)-ROW(Calc!$B$2)))=0,"",INDEX(Dashboard!$G$8:$G$22,ROW(Calc!H3)-ROW(Calc!$B$2))),"") -> Product B | J8: =IFERROR(IF(LEN(INDEX(Dashboard!$E$23:$E$37,ROW(Calc!I3)-ROW(Calc!$B$2)))=0,"",INDEX(Dashboard!$E$23:$E$37,ROW(Calc!I3)-ROW(Calc!$B$2))),"") -> Product A | K8: =IFERROR(IF(LEN(INDEX(Dashboard!$G$23:$G$37,ROW(Calc!J3)-ROW(Calc!$B$2)))=0,"",INDEX(Dashboard!$G$23:$G$37,ROW(Calc!J3)-ROW(Calc!$B$2))),"") -> Product E
H9: =IFERROR(IF(LEN(INDEX(Dashboard!$E$8:$E$22,ROW(Calc!B4)-ROW(Calc!$B$2)))=0,"",INDEX(Dashboard!$E$8:$E$22,ROW(Calc!B4)-ROW(Calc!$B$2))),"") | I9: =IFERROR(IF(LEN(INDEX(Dashboard!$G$8:$G$22,ROW(Calc!H4)-ROW(Calc!$B$2)))=0,"",INDEX(Dashboard!$G$8:$G$22,ROW(Calc!H4)-ROW(Calc!$B$2))),"") -> Product C | J9: =IFERROR(IF(LEN(INDEX(Dashboard!$E$23:$E$37,ROW(Calc!I4)-ROW(Calc!$B$2)))=0,"",INDEX(Dashboard!$E$23:$E$37,ROW(Calc!I4)-ROW(Calc!$B$2))),"") | K9: =IFERROR(IF(LEN(INDEX(Dashboard!$G$23:$G$37,ROW(Calc!J4)-ROW(Calc!$B$2)))=0,"",INDEX(Dashboard!$G$23:$G$37,ROW(Calc!J4)-ROW(Calc!$B$2))),"")
H10: =IFERROR(IF(LEN(INDEX(Dashboard!$E$8:$E$22,ROW(Calc!B5)-ROW(Calc!$B$2)))=0,"",INDEX(Dashboard!$E$8:$E$22,ROW(Calc!B5)-ROW(Calc!$B$2))),"") | I10: =IFERROR(IF(LEN(INDEX(Dashboard!$G$8:$G$22,ROW(Calc!H5)-ROW(Calc!$B$2)))=0,"",INDEX(Dashboard!$G$8:$G$22,ROW(Calc!H5)-ROW(Calc!$B$2))),"") -> Product D | J10: =IFERROR(IF(LEN(INDEX(Dashboard!$E$23:$E$37,ROW(Calc!I5)-ROW(Calc!$B$2)))=0,"",INDEX(Dashboard!$E$23:$E$37,ROW(Calc!I5)-ROW(Calc!$B$2))),"") | K10: =IFERROR(IF(LEN(INDEX(Dashboard!$G$23:$G$37,ROW(Calc!J5)-ROW(Calc!$B$2)))=0,"",INDEX(Dashboard!$G$23:$G$37,ROW(Calc!J5)-ROW(Calc!$B$2))),"")
H11: =IFERROR(IF(LEN(INDEX(Dashboard!$E$8:$E$22,ROW(Calc!B6)-ROW(Calc!$B$2)))=0,"",INDEX(Dashboard!$E$8:$E$22,ROW(Calc!B6)-ROW(Calc!$B$2))),"") | I11: =IFERROR(IF(LEN(INDEX(Dashboard!$G$8:$G$22,ROW(Calc!H6)-ROW(Calc!$B$2)))=0,"",INDEX(Dashboard!$G$8:$G$22,ROW(Calc!H6)-ROW(Calc!$B$2))),"") | J11: =IFERROR(IF(LEN(INDEX(Dashboard!$E$23:$E$37,ROW(Calc!I6)-ROW(Calc!$B$2)))=0,"",INDEX(Dashboard!$E$23:$E$37,ROW(Calc!I6)-ROW(Calc!$B$2))),"") | K11: =IFERROR(IF(LEN(INDEX(Dashboard!$G$23:$G$37,ROW(Calc!J6)-ROW(Calc!$B$2)))=0,"",INDEX(Dashboard!$G$23:$G$37,ROW(Calc!J6)-ROW(Calc!$B$2))),"")
H12: =IFERROR(IF(LEN(INDEX(Dashboard!$E$8:$E$22,ROW(Calc!B7)-ROW(Calc!$B$2)))=0,"",INDEX(Dashboard!$E$8:$E$22,ROW(Calc!B7)-ROW(Calc!$B$2))),"") | I12: =IFERROR(IF(LEN(INDEX(Dashboard!$G$8:$G$22,ROW(Calc!H7)-ROW(Calc!$B$2)))=0,"",INDEX(Dashboard!$G$8:$G$22,ROW(Calc!H7)-ROW(Calc!$B$2))),"") | J12: =IFERROR(IF(LEN(INDEX(Dashboard!$E$23:$E$37,ROW(Calc!I7)-ROW(Calc!$B$2)))=0,"",INDEX(Dashboard!$E$23:$E$37,ROW(Calc!I7)-ROW(Calc!$B$2))),"") | K12: =IFERROR(IF(LEN(INDEX(Dashboard!$G$23:$G$37,ROW(Calc!J7)-ROW(Calc!$B$2)))=0,"",INDEX(Dashboard!$G$23:$G$37,ROW(Calc!J7)-ROW(Calc!$B$2))),"")
H13: =IFERROR(IF(LEN(INDEX(Dashboard!$E$8:$E$22,ROW(Calc!B8)-ROW(Calc!$B$2)))=0,"",INDEX(Dashboard!$E$8:$E$22,ROW(Calc!B8)-ROW(Calc!$B$2))),"") | I13: =IFERROR(IF(LEN(INDEX(Dashboard!$G$8:$G$22,ROW(Calc!H8)-ROW(Calc!$B$2)))=0,"",INDEX(Dashboard!$G$8:$G$22,ROW(Calc!H8)-ROW(Calc!$B$2))),"") | J13: =IFERROR(IF(LEN(INDEX(Dashboard!$E$23:$E$37,ROW(Calc!I8)-ROW(Calc!$B$2)))=0,"",INDEX(Dashboard!$E$23:$E$37,ROW(Calc!I8)-ROW(Calc!$B$2))),"") | K13: =IFERROR(IF(LEN(INDEX(Dashboard!$G$23:$G$37,ROW(Calc!J8)-ROW(Calc!$B$2)))=0,"",INDEX(Dashboard!$G$23:$G$37,ROW(Calc!J8)-ROW(Calc!$B$2))),"")
H14: =IFERROR(IF(LEN(INDEX(Dashboard!$E$8:$E$22,ROW(Calc!B9)-ROW(Calc!$B$2)))=0,"",INDEX(Dashboard!$E$8:$E$22,ROW(Calc!B9)-ROW(Calc!$B$2))),"") | I14: =IFERROR(IF(LEN(INDEX(Dashboard!$G$8:$G$22,ROW(Calc!H9)-ROW(Calc!$B$2)))=0,"",INDEX(Dashboard!$G$8:$G$22,ROW(Calc!H9)-ROW(Calc!$B$2))),"") | J14: =IFERROR(IF(LEN(INDEX(Dashboard!$E$23:$E$37,ROW(Calc!I9)-ROW(Calc!$B$2)))=0,"",INDEX(Dashboard!$E$23:$E$37,ROW(Calc!I9)-ROW(Calc!$B$2))),"") | K14: =IFERROR(IF(LEN(INDEX(Dashboard!$G$23:$G$37,ROW(Calc!J9)-ROW(Calc!$B$2)))=0,"",INDEX(Dashboard!$G$23:$G$37,ROW(Calc!J9)-ROW(Calc!$B$2))),"")
H15: =IFERROR(IF(LEN(INDEX(Dashboard!$E$8:$E$22,ROW(Calc!B10)-ROW(Calc!$B$2)))=0,"",INDEX(Dashboard!$E$8:$E$22,ROW(Calc!B10)-ROW(Calc!$B$2))),"") | I15: =IFERROR(IF(LEN(INDEX(Dashboard!$G$8:$G$22,ROW(Calc!H10)-ROW(Calc!$B$2)))=0,"",INDEX(Dashboard!$G$8:$G$22,ROW(Calc!H10)-ROW(Calc!$B$2))),"") | J15: =IFERROR(IF(LEN(INDEX(Dashboard!$E$23:$E$37,ROW(Calc!I10)-ROW(Calc!$B$2)))=0,"",INDEX(Dashboard!$E$23:$E$37,ROW(Calc!I10)-ROW(Calc!$B$2))),"") | K15: =IFERROR(IF(LEN(INDEX(Dashboard!$G$23:$G$37,ROW(Calc!J10)-ROW(Calc!$B$2)))=0,"",INDEX(Dashboard!$G$23:$G$37,ROW(Calc!J10)-ROW(Calc!$B$2))),"")
H16: =IFERROR(IF(LEN(INDEX(Dashboard!$E$8:$E$22,ROW(Calc!B11)-ROW(Calc!$B$2)))=0,"",INDEX(Dashboard!$E$8:$E$22,ROW(Calc!B11)-ROW(Calc!$B$2))),"") | I16: =IFERROR(IF(LEN(INDEX(Dashboard!$G$8:$G$22,ROW(Calc!H11)-ROW(Calc!$B$2)))=0,"",INDEX(Dashboard!$G$8:$G$22,ROW(Calc!H11)-ROW(Calc!$B$2))),"") | J16: =IFERROR(IF(LEN(INDEX(Dashboard!$E$23:$E$37,ROW(Calc!I11)-ROW(Calc!$B$2)))=0,"",INDEX(Dashboard!$E$23:$E$37,ROW(Calc!I11)-ROW(Calc!$B$2))),"") | K16: =IFERROR(IF(LEN(INDEX(Dashboard!$G$23:$G$37,ROW(Calc!J11)-ROW(Calc!$B$2)))=0,"",INDEX(Dashboard!$G$23:$G$37,ROW(Calc!J11)-ROW(Calc!$B$2))),"")
H17: =IFERROR(IF(LEN(INDEX(Dashboard!$E$8:$E$22,ROW(Calc!B12)-ROW(Calc!$B$2)))=0,"",INDEX(Dashboard!$E$8:$E$22,ROW(Calc!B12)-ROW(Calc!$B$2))),"") | I17: =IFERROR(IF(LEN(INDEX(Dashboard!$G$8:$G$22,ROW(Calc!H12)-ROW(Calc!$B$2)))=0,"",INDEX(Dashboard!$G$8:$G$22,ROW(Calc!H12)-ROW(Calc!$B$2))),"") | J17: =IFERROR(IF(LEN(INDEX(Dashboard!$E$23:$E$37,ROW(Calc!I12)-ROW(Calc!$B$2)))=0,"",INDEX(Dashboard!$E$23:$E$37,ROW(Calc!I12)-ROW(Calc!$B$2))),"") | K17: =IFERROR(IF(LEN(INDEX(Dashboard!$G$23:$G$37,ROW(Calc!J12)-ROW(Calc!$B$2)))=0,"",INDEX(Dashboard!$G$23:$G$37,ROW(Calc!J12)-ROW(Calc!$B$2))),"")
H18: =IFERROR(IF(LEN(INDEX(Dashboard!$E$8:$E$22,ROW(Calc!B13)-ROW(Calc!$B$2)))=0,"",INDEX(Dashboard!$E$8:$E$22,ROW(Calc!B13)-ROW(Calc!$B$2))),"") | I18: =IFERROR(IF(LEN(INDEX(Dashboard!$G$8:$G$22,ROW(Calc!H13)-ROW(Calc!$B$2)))=0,"",INDEX(Dashboard!$G$8:$G$22,ROW(Calc!H13)-ROW(Calc!$B$2))),"") | J18: =IFERROR(IF(LEN(INDEX(Dashboard!$E$23:$E$37,ROW(Calc!I13)-ROW(Calc!$B$2)))=0,"",INDEX(Dashboard!$E$23:$E$37,ROW(Calc!I13)-ROW(Calc!$B$2))),"") | K18: =IFERROR(IF(LEN(INDEX(Dashboard!$G$23:$G$37,ROW(Calc!J13)-ROW(Calc!$B$2)))=0,"",INDEX(Dashboard!$G$23:$G$37,ROW(Calc!J13)-ROW(Calc!$B$2))),"")
H19: =IFERROR(IF(LEN(INDEX(Dashboard!$E$8:$E$22,ROW(Calc!B14)-ROW(Calc!$B$2)))=0,"",INDEX(Dashboard!$E$8:$E$22,ROW(Calc!B14)-ROW(Calc!$B$2))),"") | I19: =IFERROR(IF(LEN(INDEX(Dashboard!$G$8:$G$22,ROW(Calc!H14)-ROW(Calc!$B$2)))=0,"",INDEX(Dashboard!$G$8:$G$22,ROW(Calc!H14)-ROW(Calc!$B$2))),"") | J19: =IFERROR(IF(LEN(INDEX(Dashboard!$E$23:$E$37,ROW(Calc!I14)-ROW(Calc!$B$2)))=0,"",INDEX(Dashboard!$E$23:$E$37,ROW(Calc!I14)-ROW(Calc!$B$2))),"") | K19: =IFERROR(IF(LEN(INDEX(Dashboard!$G$23:$G$37,ROW(Calc!J14)-ROW(Calc!$B$2)))=0,"",INDEX(Dashboard!$G$23:$G$37,ROW(Calc!J14)-ROW(Calc!$B$2))),"")
... H22: =IFERROR(IF(LEN(INDEX(Dashboard!$E$8:$E$22,ROW(Calc!B17)-ROW(Calc!$B$2)))=0,"",INDEX(Dashboard!$E$8:$E$22,ROW(Calc!B17)-ROW(Calc!$B$2))),"") | I22: =IFERROR(IF(LEN(INDEX(Dashboard!$G$8:$G$22,ROW(Calc!H17)-ROW(Calc!$B$2)))=0,"",INDEX(Dashboard!$G$8:$G$22,ROW(Calc!H17)-ROW(Calc!$B$2))),"") | J22: =IFERROR(IF(LEN(INDEX(Dashboard!$E$23:$E$37,ROW(Calc!I17)-ROW(Calc!$B$2)))=0,"",INDEX(Dashboard!$E$23:$E$37,ROW(Calc!I17)-ROW(Calc!$B$2))),"") | K22: =IFERROR(IF(LEN(INDEX(Dashboard!$G$23:$G$37,ROW(Calc!J17)-ROW(Calc!$B$2)))=0,"",INDEX(Dashboard!$G$23:$G$37,ROW(Calc!J17)-ROW(Calc!$B$2))),"")

Sheet Calc
B1: Row Reference Column
D2: CATEGORIES | E2: VALUES | F2: % | H2: Success Options | I2: Values
D3: MARKET PENETRATION | E3: =IFERROR(COUNTIF(Dashboard!E$8:E$22,"*?"),0) -> 1 | F3: =IFERROR(E3/SUM($E$3:$E$6),"") -> 0.16666667 | H3: =IF(LEN(INDEX(Dashboard!$O$17:$O$21,ROW(Calc!B3)-ROW(Calc!$B$2)))=0,"",INDEX(Dashboard!$O$17:$O$21,ROW(Calc!B3)-ROW(Calc!$B$2))) -> Undefined | I3: =IF(LEN(H3)=0,"",COUNTIF(Dashboard!$K$8:$K$19,Calc!H3)) -> 2
D4: PRODUCT DEVELOPMENT | E4: =IFERROR(COUNTIF(Dashboard!$G$8:$G$22,"*?"),0) -> 3 | F4: =IFERROR(E4/SUM($E$3:$E$6),"") -> 0.5 | H4: =IF(LEN(INDEX(Dashboard!$O$17:$O$21,ROW(Calc!B4)-ROW(Calc!$B$2)))=0,"",INDEX(Dashboard!$O$17:$O$21,ROW(Calc!B4)-ROW(Calc!$B$2))) -> Little | I4: =IF(LEN(H4)=0,"",COUNTIF(Dashboard!$K$8:$K$19,Calc!H4)) -> 1
D5: MARKET DEVELOPMENT | E5: =IFERROR(COUNTIF(Dashboard!$E$23:$E$37,"*?"),0) -> 1 | F5: =IFERROR(E5/SUM($E$3:$E$6),"") -> 0.16666667 | H5: =IF(LEN(INDEX(Dashboard!$O$17:$O$21,ROW(Calc!B5)-ROW(Calc!$B$2)))=0,"",INDEX(Dashboard!$O$17:$O$21,ROW(Calc!B5)-ROW(Calc!$B$2))) -> Strong | I5: =IF(LEN(H5)=0,"",COUNTIF(Dashboard!$K$8:$K$19,Calc!H5)) -> 3
D6: DIVERSIFICATION | E6: =IFERROR(COUNTIF(Dashboard!$G$23:$G$37,"*?"),0) -> 1 | F6: =IFERROR(E6/SUM($E$3:$E$6),"") -> 0.16666667 | H6: =IF(LEN(INDEX(Dashboard!$O$17:$O$21,ROW(Calc!B6)-ROW(Calc!$B$2)))=0,"",INDEX(Dashboard!$O$17:$O$21,ROW(Calc!B6)-ROW(Calc!$B$2))) | I6: =IF(LEN(H6)=0,"",COUNTIF(Dashboard!$K$8:$K$19,Calc!H6))
H7: =IF(LEN(INDEX(Dashboard!$O$17:$O$21,ROW(Calc!B7)-ROW(Calc!$B$2)))=0,"",INDEX(Dashboard!$O$17:$O$21,ROW(Calc!B7)-ROW(Calc!$B$2))) | I7: =IF(LEN(H7)=0,"",COUNTIF(Dashboard!$K$8:$K$19,Calc!H7))
H8: =IF(COUNTIF($H$3:$H$7,"*?")=0,1,COUNTIF($H$3:$H$7,"*?")) -> 3 | I8: =IF(COUNTIF($I$3:$I$7,">0")=0,1,COUNTIF($I$3:$I$7,">0")) -> 3
