Workbook
Name a10ch1: OFFSET(Calculations!$AP$77,0,0,scaleCount,1)
Name a11ch1: OFFSET(Calculations!$AP$85,0,0,scaleCount,1)
Name a12ch1: OFFSET(Calculations!$AP$93,0,0,scaleCount,1)
Name a1ch1: OFFSET(Calculations!$AP$5,0,0,scaleCount,1)
Name a2ch1: OFFSET(Calculations!$AP$13,0,0,scaleCount,1)
Name a3ch1: OFFSET(Calculations!$AP$21,0,0,scaleCount,1)
Name a4ch1: OFFSET(Calculations!$AP$29,0,0,scaleCount,1)
Name a5ch1: OFFSET(Calculations!$AP$37,0,0,scaleCount,1)
Name a6ch1: OFFSET(Calculations!$AP$45,0,0,scaleCount,1)
Name a7ch1: OFFSET(Calculations!$AP$53,0,0,scaleCount,1)
Name a8ch1: OFFSET(Calculations!$AP$61,0,0,scaleCount,1)
Name a9ch1: OFFSET(Calculations!$AP$69,0,0,scaleCount,1)
Name activeAudits: Calculations!$T$46:$T$57
Name allTrendLineY: OFFSET(Calculations!$AY$6,0,0,Calculations!$AZ$4,1)
Name areaFilter: Dashboard!$H$8
Name areaHeader: Dashboard!$D$7
Name areaX: OFFSET(Calculations!$Y$46,0,0,validOutputNo,1)
Name auditArea1: OFFSET(Calculations!$C$5,0,0,Calculations!$B$4,1)
Name auditArea2: OFFSET(Calculations!$C$6,0,0,Calculations!$B$4-1,1)
Name auditorFilter: Dashboard!$N$8
Name auditors1: OFFSET(Calculations!$Q$5,0,0,Calculations!$P$4,1)
Name auditors2: OFFSET(Calculations!$Q$6,0,0,Calculations!$P$4-1,1)
Name bestY: OFFSET(Calculations!$AY$6,0,1,Calculations!$AZ$4,1)
Name color1: Settings!$I$18/100
Name color2: Settings!$I$19/100
Name color3: Settings!$I$20/100
Name color4: Settings!$I$21/100
Name color5: Settings!$I$22/100
Name maxscore: MAX(pointsScale)
Name minScore: MIN(pointsScale)
Name monthsList: Calculations!$H$10:$H$21
Name pointsScale: Settings!$I$8:$I$15
Name scaleCount: Calculations!$M$4
Name scaleFilter: OFFSET(Calculations!$K$5,0,0,Calculations!$J$4,1)
Name scaleList: OFFSET(Calculations!$N$5,0,0,Calculations!$M$4,1)
Name scalename: Settings!$H$8:$H$15
Name stationFilter: Dashboard!$J$8
Name timelineX: OFFSET(Calculations!$V$46,0,0,validOutputNo,1)
Name totalPct: OFFSET(Calculations!$AD$61,0,0,validOutputNo,1)
Name trendLineY: OFFSET(Calculations!$AW$7,0,0,Calculations!$AW$4,1)
Name whenFilter: Dashboard!$L$8
Name whenList: Calculations!$H$5:$H$21
Name workstation: OFFSET(Calculations!$F$5,0,0,Calculations!$E$4,1)
Name worstY: OFFSET(Calculations!$AY$6,0,2,Calculations!$AZ$4,1)

Sheet Dashboard
C2: 5S AUDIT SCORECARD EXCEL TEMPLATE
C3: DASHBOARD
C7: NAVIGATION | D7: AUDIT AREA | E7: DATE | F7: SCORE | H7: Audit Area | J7: Work station | L7: Time Period | N7: Auditor
D8: =IF(LEN(Audit1!$E$9)=0,"Empty Form...","1. "& Audit1!$E$9) -> 1. Office | E8: =IF(LEN(Audit1!$C$10)=0,"",Audit1!$C$10) -> 44636 | F8: =Audit1!$J$13 -> 0.84 | H8: All | J8: All | L8: All | N8: All
D9: =IF(LEN(Audit2!$E$9)=0,"Empty Form...","2. "&Audit2!$E$9) -> 2. Manufacturing | E9: =IF(LEN(Audit2!$C$10)=0,"",Audit2!$C$10) -> 44576 | F9: =Audit2!$J$13 -> 0.75
D10: =IF(LEN(Audit3!$E$9)=0,"Empty Form...","3. "&Audit3!$E$9) -> 3. Manufacturing | E10: =IF(LEN(Audit3!$C$10)=0,"",Audit3!$C$10) -> 44666 | F10: =Audit3!$J$13 -> 0.9
D11: =IF(LEN(Audit4!$E$9)=0,"Empty Form...","4. " &Audit4!$E$9) -> 4. Manufacturing | E11: =IF(LEN(Audit4!$C$10)=0,"",Audit4!$C$10) -> 44819 | F11: =Audit4!$J$13 -> 0.49
D12: =IF(LEN(Audit5!$E$9)=0,"Empty Form...","5. "&Audit5!$E$9) -> 5. Manufacturing | E12: =IF(LEN(Audit5!$C$10)=0,"",Audit5!$C$10) -> 44910 | F12: =Audit5!$J$13
D13: =IF(LEN(Audit6!$E$9)=0,"Empty Form...","6. "& Audit6!$E$9) -> 6. Laboratory | E13: =IF(LEN(Audit6!$C$10)=0,"",Audit6!$C$10) -> 44896 | F13: =Audit6!$J$13
D14: =IF(LEN(Audit7!$E$9)=0,"Empty Form...","7. " & Audit7!$E$9) -> 7. Classroom | E14: =IF(LEN(Audit7!$C$10)=0,"",Audit7!$C$10) -> 44835 | F14: =Audit7!$J$13
D15: =IF(LEN(Audit8!$E$9)=0,"Empty Form...","8. " & Audit8!$E$9) -> 8. Office | E15: =IF(LEN(Audit8!$C$10)=0,"",Audit8!$C$10) -> 44805 | F15: =Audit8!$J$13
D16: =IF(LEN(Audit9!$E$9)=0,"Empty Form...","9. " & Audit9!$E$9) -> 9. IT Project | E16: =IF(LEN(Audit9!$C$10)=0,"",Audit9!$C$10) -> 44819 | F16: =Audit9!$J$13
D17: =IF(LEN(Audit10!$E$9)=0,"Empty Form...","10. " & Audit10!$E$9) -> Empty Form... | E17: =IF(LEN(Audit10!$C$10)=0,"",Audit10!$C$10) | F17: =Audit10!$J$13
D18: =IF(LEN(Audit11!$E$9)=0,"Empty Form...","11. " &Audit11!$E$9) -> Empty Form... | E18: =IF(LEN(Audit11!$C$10)=0,"",Audit11!$C$10) | F18: =Audit11!$J$13
D19: =IF(LEN(Audit12!$E$9)=0,"Empty Form...","12. " & Audit12!$E$9) -> Empty Form... | E19: =IF(LEN(Audit12!$C$10)=0,"",Audit12!$C$10) | F19: =Audit12!$J$13

Sheet Settings
C2: 5S AUDIT SCORECARD EXCEL TEMPLATE
C3: SETTINGS
C7: AUDITORS | E7: AREA / WORK SPACE | G7: DESCRIPTION | H7: Evaluation | I7: Score
C8: Jemima Begum | E8: Office | G8: Terrible | H8: L1 | I8: 1
C9: Mercedes Banks | E9: Manufacturing | G9: Very poorly | H9: L2 | I9: 2
C10: Macauley Peck | E10: IT Project | G10: Well | H10: L3 | I10: 3
C11: Hannah Shaw | E11: Laboratory | G11: Very well | H11: L4 | I11: 4
C12: Carmel Beltran | E12: Classroom | G12: Perfect | H12: L5 | I12: 5
C13: Sarah-Jayne Morrison | G13: OK | H13: Yes | I13: 5
C14: Alice Milner | G14: NOK | H14: No | I14: 1
G15: Not applicable | H15: NA
G17: Final result | I17: %
G18: Professional | H18: >= | I18: 90
G19: Some small problems | H19: >= | I19: 80
G20: Need an improvement | H20: >= | I20: 70
G21: We have a problem! | H21: >= | I21: 50
G22: Not acceptable! | H22: < | I22: =I21 -> 50

Sheet Attachments
C2: 5S AUDIT SCORECARD EXCEL TEMPLATE
C3: ATTACHMENTS
C7: S # | D7: Audit# Question # | E7: Comment | F7: Photo | G7: Photo
C8: S1 | D8: Audit 1 1.1 | E8: No unused cables, computer parts, etc.
C9: S2 | D9: Audit 3 2.1 | E9: Safety equipment and supplies are dirty and incomplete.
C10: S3
C11: S4

Sheet Audit1
C2: 5S AUDIT SCORECARD EXCEL TEMPLATE
C3: AUDIT #1 FORM
C7: ="5S " & E9 & " Area Audit" -> 5S Office Area Audit
C9: Date | D9: Audit Area | E9: Office | J9: Total score
C10: 44636 | D10: Work station | E10: Random desk in the open space | J10: =SUM(H16:H199) -> 92
C12: Month | D12: 5s Auditor | E12: Jemima Begum | J12: Final result
C13: =IFERROR(IF(ISNUMBER(C10),IF(C12="Month",INDEX(monthsList,MONTH(C10),1),IF(MONTH(C10)<4,"Q1",IF(MONTH(C10)<7,"Q2",IF(MONTH(C10)<10,"Q3","Q4")))),""),"") -> March | D13: 5s Leader | E13: Jane Best | J13: =IFERROR(ROUND(J10/(COUNT(H16:H199)*maxscore),2),"") -> 0.84
C15: 1S - SORT | D15: Subarea | E15: Questions | F15: Notes | G15: Result | H15: Score | I15: Total Score | J15: %
C16: =IF(LEN(E16)>0,"1." & COUNTA($E$16:E16),"") -> 1.1 | D16: Computer | E16: No unused cables, computer parts, etc. | F16: unorganized wires under desk | G16: No | H16: =IFERROR(IF(OR(LEN(E16)=0,LEN(INDEX( scale[], MATCH(G16,scalename,0),3))=0),"",INDEX( scale[], MATCH(G16,scalename,0),3)),"") -> 1 | I16: =SUM(H16:H21) -> 19 | J16: =IFERROR(SUM(H16:H21)/(maxscore*(COUNT(H16:H21))),"") -> 0.76
C17: =IF(LEN(E17)>0,"1." & COUNTA($E$16:E17),"") -> 1.2 | D17: Computer | E17: No private documents | G17: L5 | H17: =IFERROR(IF(OR(LEN(E17)=0,LEN(INDEX( scale[], MATCH(G17,scalename,0),3))=0),"",INDEX( scale[], MATCH(G17,scalename,0),3)),"") -> 5
C18: =IF(LEN(E18)>0,"1." & COUNTA($E$16:E18),"") -> 1.3 | D18: Desk | E18: No excess documents, etc. | G18: L4 | H18: =IFERROR(IF(OR(LEN(E18)=0,LEN(INDEX( scale[], MATCH(G18,scalename,0),3))=0),"",INDEX( scale[], MATCH(G18,scalename,0),3)),"") -> 4
C19: =IF(LEN(E19)>0,"1." & COUNTA($E$16:E19),"") -> 1.4 | D19: Desk | E19: No irrelevant reference materials, documents, etc. | G19: NA | H19: =IFERROR(IF(OR(LEN(E19)=0,LEN(INDEX( scale[], MATCH(G19,scalename,0),3))=0),"",INDEX( scale[], MATCH(G19,scalename,0),3)),"")
C20: =IF(LEN(E20)>0,"1." & COUNTA($E$16:E20),"") -> 1.5 | D20: Desk | E20: No confidential data visible | G20: L4 | H20: =IFERROR(IF(OR(LEN(E20)=0,LEN(INDEX( scale[], MATCH(G20,scalename,0),3))=0),"",INDEX( scale[], MATCH(G20,scalename,0),3)),"") -> 4
C21: =IF(LEN(E21)>0,"1." & COUNTA($E$16:E21),"") -> 1.6 | D21: Desk | E21: Standards for eliminating unnecessary items exist and are being followed. | G21: Yes | H21: =IFERROR(IF(OR(LEN(E21)=0,LEN(INDEX( scale[], MATCH(G21,scalename,0),3))=0),"",INDEX( scale[], MATCH(G21,scalename,0),3)),"") -> 5
C42: 2S - SET | D42: Subarea | E42: Questions | F42: Notes | G42: Result | H42: Score | I42: Total Score | J42: %
C43: =IF(LEN(E43)>0,"2." & COUNTA($E$43:E43),"") -> 2.1 | D43: Desk | E43: Free of accumulations of papers and other objects. | G43: Yes | H43: =IFERROR(IF(OR(LEN(E43)=0,LEN(INDEX( scale[], MATCH(G43,scalename,0),3))=0),"",INDEX( scale[], MATCH(G43,scalename,0),3)),"") -> 5 | I43: =SUM(H43:H48) -> 22 | J43: =IFERROR(SUM(H43:H48)/(maxscore*(COUNT(H43:H48))),"") -> 0.88
C44: =IF(LEN(E44)>0,"2." & COUNTA($E$43:E44),"") -> 2.2 | D44: Drawers | E44: Free of accumulations of papers and other objects. | F44: Old outdated documents found. | G44: L3 | H44: =IFERROR(IF(OR(LEN(E44)=0,LEN(INDEX( scale[], MATCH(G44,scalename,0),3))=0),"",INDEX( scale[], MATCH(G44,scalename,0),3)),"") -> 3
C45: =IF(LEN(E45)>0,"2." & COUNTA($E$43:E45),"") -> 2.3 | D45: Desk | E45: All tools and equipment are stored in a fixed place. | G45: Yes | H45: =IFERROR(IF(OR(LEN(E45)=0,LEN(INDEX( scale[], MATCH(G45,scalename,0),3))=0),"",INDEX( scale[], MATCH(G45,scalename,0),3)),"") -> 5
C46: =IF(LEN(E46)>0,"2." & COUNTA($E$43:E46),"") -> 2.4 | D46: Desk | E46: Equipment well organized for ease of take and return. | G46: NA | H46: =IFERROR(IF(OR(LEN(E46)=0,LEN(INDEX( scale[], MATCH(G46,scalename,0),3))=0),"",INDEX( scale[], MATCH(G46,scalename,0),3)),"")
C47: =IF(LEN(E47)>0,"2." & COUNTA($E$43:E47),"") -> 2.5 | D47: Computer | E47: Displays are tidy, free of old unnecessary data. | G47: Yes | H47: =IFERROR(IF(OR(LEN(E47)=0,LEN(INDEX( scale[], MATCH(G47,scalename,0),3))=0),"",INDEX( scale[], MATCH(G47,scalename,0),3)),"") -> 5
C48: =IF(LEN(E48)>0,"2." & COUNTA($E$43:E48),"") -> 2.6 | D48: Open space | E48: Safety equipment easily accessible, in good condition. | G48: L4 | H48: =IFERROR(IF(OR(LEN(E48)=0,LEN(INDEX( scale[], MATCH(G48,scalename,0),3))=0),"",INDEX( scale[], MATCH(G48,scalename,0),3)),"") -> 4
C69: 3S - SHINE | D69: Subarea | E69: Questions | F69: Notes | G69: Result | H69: Score | I69: Total Score | J69: %
C70: =IF(LEN(E70)>0,"3." & COUNTA($E$70:E70),"") -> 3.1 | D70: Desk | E70: Desk, chair are free from dirt and dust. | G70: L4 | H70: =IFERROR(IF(OR(LEN(E70)=0,LEN(INDEX( scale[], MATCH(G70,scalename,0),3))=0),"",INDEX( scale[], MATCH(G70,scalename,0),3)),"") -> 4 | I70: =SUM(H70:H75) -> 21 | J70: =IFERROR(SUM(H70:H75)/(maxscore*(COUNT(H70:H75))),"") -> 0.84
C71: =IF(LEN(E71)>0,"3." & COUNTA($E$70:E71),"") -> 3.2 | D71: Computer | E71: Equipment and tools are clean and in good condition. | G71: L3 | H71: =IFERROR(IF(OR(LEN(E71)=0,LEN(INDEX( scale[], MATCH(G71,scalename,0),3))=0),"",INDEX( scale[], MATCH(G71,scalename,0),3)),"") -> 3
C72: =IF(LEN(E72)>0,"3." & COUNTA($E$70:E72),"") -> 3.3 | D72: Open space | E72: The floor is kept clean and no signs of damage. | G72: L4 | H72: =IFERROR(IF(OR(LEN(E72)=0,LEN(INDEX( scale[], MATCH(G72,scalename,0),3))=0),"",INDEX( scale[], MATCH(G72,scalename,0),3)),"") -> 4
C73: =IF(LEN(E73)>0,"3." & COUNTA($E$70:E73),"") -> 3.4 | D73: Desk | E73: Cabinets are kept clean and in good condition. | G73: Yes | H73: =IFERROR(IF(OR(LEN(E73)=0,LEN(INDEX( scale[], MATCH(G73,scalename,0),3))=0),"",INDEX( scale[], MATCH(G73,scalename,0),3)),"") -> 5
C74: =IF(LEN(E74)>0,"3." & COUNTA($E$70:E74),"") -> 3.5 | D74: Open space | E74: Lighting is enough and the angle and intensity of illumination are appropriate. | G74: NA | H74: =IFERROR(IF(OR(LEN(E74)=0,LEN(INDEX( scale[], MATCH(G74,scalename,0),3))=0),"",INDEX( scale[], MATCH(G74,scalename,0),3)),"")
C75: =IF(LEN(E75)>0,"3." & COUNTA($E$70:E75),"") -> 3.6 | D75: Open space | E75: Good movement of air exists through the room. | F75: Air condition does not keep the set temperature. | G75: Yes | H75: =IFERROR(IF(OR(LEN(E75)=0,LEN(INDEX( scale[], MATCH(G75,scalename,0),3))=0),"",INDEX( scale[], MATCH(G75,scalename,0),3)),"") -> 5
C96: 4S - STANDARDIZE | D96: Subarea | E96: Questions | F96: Notes | G96: Result | H96: Score | I96: Total Score | J96: %
C97: =IF(LEN(E97)>0,"4." & COUNTA($E$97:E97),"") -> 4.1 | D97: Open space | E97: Visual controls and display boards are used and regularly updated. | G97: L2 | H97: =IFERROR(IF(OR(LEN(E97)=0,LEN(INDEX( scale[], MATCH(G97,scalename,0),3))=0),"",INDEX( scale[], MATCH(G97,scalename,0),3)),"") -> 2 | I97: =SUM(H97:H102) -> 16 | J97: =IFERROR(SUM(H97:H102)/(maxscore*(COUNT(H97:H102))),"") -> 0.8
C98: =IF(LEN(E98)>0,"4." & COUNTA($E$97:E98),"") -> 4.2 | D98: Open space | E98: Procedures for maintaining the first three S's are being displayed. | G98: L5 | H98: =IFERROR(IF(OR(LEN(E98)=0,LEN(INDEX( scale[], MATCH(G98,scalename,0),3))=0),"",INDEX( scale[], MATCH(G98,scalename,0),3)),"") -> 5
C99: =IF(LEN(E99)>0,"4." & COUNTA($E$97:E99),"") -> 4.3 | D99: Open space | E99: Everyone knows his responsibilities, when and how. | G99: L4 | H99: =IFERROR(IF(OR(LEN(E99)=0,LEN(INDEX( scale[], MATCH(G99,scalename,0),3))=0),"",INDEX( scale[], MATCH(G99,scalename,0),3)),"") -> 4
C100: =IF(LEN(E100)>0,"4." & COUNTA($E$97:E100),"") -> 4.4 | D100: Open space | E100: Regular audits are taking place using checklists and measures. | G100: Yes | H100: =IFERROR(IF(OR(LEN(E100)=0,LEN(INDEX( scale[], MATCH(G100,scalename,0),3))=0),"",INDEX( scale[], MATCH(G100,scalename,0),3)),"") -> 5
C101: =IF(LEN(E101)>0,"4." & COUNTA($E$97:E101),"") | H101: =IFERROR(IF(OR(LEN(E101)=0,LEN(INDEX( scale[], MATCH(G101,scalename,0),3))=0),"",INDEX( scale[], MATCH(G101,scalename,0),3)),"")
C102: =IF(LEN(E102)>0,"4." & COUNTA($E$97:E102),"") | H102: =IFERROR(IF(OR(LEN(E102)=0,LEN(INDEX( scale[], MATCH(G102,scalename,0),3))=0),"",INDEX( scale[], MATCH(G102,scalename,0),3)),"")
C123: 5S - SUSTAIN | D123: Subarea | E123: Questions | F123: Notes | G123: Result | H123: Score | I123: Total Score | J123: %
C124: =IF(LEN(E124)>0,"5." & COUNTA($E$124:E124),"") -> 5.1 | E124: 5S seems to be the way of life rather than just a routine. | G124: L4 | H124: =IFERROR(IF(OR(LEN(E124)=0,LEN(INDEX( scale[], MATCH(G124,scalename,0),3))=0),"",INDEX( scale[], MATCH(G124,scalename,0),3)),"") -> 4 | I124: =SUM(H124:H129) -> 14 | J124: =IFERROR(SUM(H124:H129)/(maxscore*(COUNT(H124:H129))),"") -> 0.93333333
C125: =IF(LEN(E125)>0,"5." & COUNTA($E$124:E125),"") -> 5.2 | E125: Success stories are being displayed (i.e. before and after pictures). | G125: L5 | H125: =IFERROR(IF(OR(LEN(E125)=0,LEN(INDEX( scale[], MATCH(G125,scalename,0),3))=0),"",INDEX( scale[], MATCH(G125,scalename,0),3)),"") -> 5
C126: =IF(LEN(E126)>0,"5." & COUNTA($E$124:E126),"") -> 5.3 | E126: Rewards and recognition is part of the 5S system. | G126: Yes | H126: =IFERROR(IF(OR(LEN(E126)=0,LEN(INDEX( scale[], MATCH(G126,scalename,0),3))=0),"",INDEX( scale[], MATCH(G126,scalename,0),3)),"") -> 5
C127: =IF(LEN(E127)>0,"5." & COUNTA($E$124:E127),"") | H127: =IFERROR(IF(OR(LEN(E127)=0,LEN(INDEX( scale[], MATCH(G127,scalename,0),3))=0),"",INDEX( scale[], MATCH(G127,scalename,0),3)),"")
...

Sheet Audit2
C2: 5S AUDIT SCORECARD EXCEL TEMPLATE
C3: AUDIT #2 FORM
C7: ="5S " & E9 & " Area Audit" -> 5S Manufacturing Area Audit
C9: Date | D9: Audit Area | E9: Manufacturing | J9: Total score
C10: 44576 | D10: Work station | E10: Sealing | J10: =SUM(H16:H199) -> 79
C12: Quarter | D12: 5s Auditor | E12: Mercedes Banks | J12: Final result
C13: =IFERROR(IF(ISNUMBER(C10),IF(C12="Month",INDEX(monthsList,MONTH(C10),1),IF(MONTH(C10)<4,"Q1",IF(MONTH(C10)<7,"Q2",IF(MONTH(C10)<10,"Q3","Q4")))),""),"") -> Q1 | D13: 5s Leader | E13: Jane Best | J13: =IFERROR(ROUND(J10/(COUNT(H16:H199)*maxscore),2),"") -> 0.75
C15: 1S - SORT | D15: Subarea | E15: Questions | F15: Notes | G15: Result | H15: Score | I15: Total Score | J15: %
C16: =IF(LEN(E16)>0,"1." & COUNTA($E$16:E16),"") -> 1.1 | E16: No unnecessary items are left or stored in the workplace. | G16: No | H16: =IFERROR(IF(OR(LEN(E16)=0,LEN(INDEX( scale[], MATCH(G16,scalename,0),3))=0),"",INDEX( scale[], MATCH(G16,scalename,0),3)),"") -> 1 | I16: =SUM(H16:H21) -> 13 | J16: =IFERROR(SUM(H16:H21)/(maxscore*(COUNT(H16:H21))),"") -> 0.65
C17: =IF(LEN(E17)>0,"1." & COUNTA($E$16:E17),"") -> 1.2 | E17: All machines and pieces of equipment are in regular use. | G17: L3 | H17: =IFERROR(IF(OR(LEN(E17)=0,LEN(INDEX( scale[], MATCH(G17,scalename,0),3))=0),"",INDEX( scale[], MATCH(G17,scalename,0),3)),"") -> 3
C18: =IF(LEN(E18)>0,"1." & COUNTA($E$16:E18),"") -> 1.3 | E18: All tools, fixtures and fittings are in regular use. | G18: L5 | H18: =IFERROR(IF(OR(LEN(E18)=0,LEN(INDEX( scale[], MATCH(G18,scalename,0),3))=0),"",INDEX( scale[], MATCH(G18,scalename,0),3)),"") -> 5
C19: =IF(LEN(E19)>0,"1." & COUNTA($E$16:E19),"") -> 1.4 | E19: Storage area is defined to store broken, unusable or occasionally used items. | G19: NA | H19: =IFERROR(IF(OR(LEN(E19)=0,LEN(INDEX( scale[], MATCH(G19,scalename,0),3))=0),"",INDEX( scale[], MATCH(G19,scalename,0),3)),"")
C20: =IF(LEN(E20)>0,"1." & COUNTA($E$16:E20),"") -> 1.5 | E20: Standards for eliminating unnecessary items exist and are being followed. | G20: L4 | H20: =IFERROR(IF(OR(LEN(E20)=0,LEN(INDEX( scale[], MATCH(G20,scalename,0),3))=0),"",INDEX( scale[], MATCH(G20,scalename,0),3)),"") -> 4
C21: =IF(LEN(E21)>0,"1." & COUNTA($E$16:E21),"") | G21: Yes | H21: =IFERROR(IF(OR(LEN(E21)=0,LEN(INDEX( scale[], MATCH(G21,scalename,0),3))=0),"",INDEX( scale[], MATCH(G21,scalename,0),3)),"")
C42: 2S - SET | D42: Subarea | E42: Questions | F42: Notes | G42: Result | H42: Score | I42: Total Score | J42: %
C43: =IF(LEN(E43)>0,"2." & COUNTA($E$43:E43),"") -> 2.1 | E43: Locations of tools and equipment are clear and well organized. | G43: Yes | H43: =IFERROR(IF(OR(LEN(E43)=0,LEN(INDEX( scale[], MATCH(G43,scalename,0),3))=0),"",INDEX( scale[], MATCH(G43,scalename,0),3)),"") -> 5 | I43: =SUM(H43:H48) -> 20 | J43: =IFERROR(SUM(H43:H48)/(maxscore*(COUNT(H43:H48))),"") -> 0.8
C44: =IF(LEN(E44)>0,"2." & COUNTA($E$43:E44),"") -> 2.2 | E44: Locations of materials and products are clear and well organized. | G44: L3 | H44: =IFERROR(IF(OR(LEN(E44)=0,LEN(INDEX( scale[], MATCH(G44,scalename,0),3))=0),"",INDEX( scale[], MATCH(G44,scalename,0),3)),"") -> 3
C45: =IF(LEN(E45)>0,"2." & COUNTA($E$43:E45),"") -> 2.3 | E45: Labels exist to indicate locations, containers, boxes, shelves and stored items. | G45: L4 | H45: =IFERROR(IF(OR(LEN(E45)=0,LEN(INDEX( scale[], MATCH(G45,scalename,0),3))=0),"",INDEX( scale[], MATCH(G45,scalename,0),3)),"") -> 4
C46: =IF(LEN(E46)>0,"2." & COUNTA($E$43:E46),"") -> 2.4 | E46: Evidence of inventory control exists (i.e. Kanban cards, FIFO, minimum/maximum, etc.). | G46: NA | H46: =IFERROR(IF(OR(LEN(E46)=0,LEN(INDEX( scale[], MATCH(G46,scalename,0),3))=0),"",INDEX( scale[], MATCH(G46,scalename,0),3)),"")
C47: =IF(LEN(E47)>0,"2." & COUNTA($E$43:E47),"") -> 2.5 | E47: Dividing lines are clearly identified and clean as per standard. | G47: L4 | H47: =IFERROR(IF(OR(LEN(E47)=0,LEN(INDEX( scale[], MATCH(G47,scalename,0),3))=0),"",INDEX( scale[], MATCH(G47,scalename,0),3)),"") -> 4
C48: =IF(LEN(E48)>0,"2." & COUNTA($E$43:E48),"") -> 2.6 | E48: Safety equipment and supplies are clear and in good condition. | G48: L4 | H48: =IFERROR(IF(OR(LEN(E48)=0,LEN(INDEX( scale[], MATCH(G48,scalename,0),3))=0),"",INDEX( scale[], MATCH(G48,scalename,0),3)),"") -> 4
C69: 3S - SHINE | D69: Subarea | E69: Questions | F69: Notes | G69: Result | H69: Score | I69: Total Score | J69: %
C70: =IF(LEN(E70)>0,"3." & COUNTA($E$70:E70),"") -> 3.1 | E70: Floors, walls, ceilings and pipework are in good condition and free from dirt and dust. | G70: L4 | H70: =IFERROR(IF(OR(LEN(E70)=0,LEN(INDEX( scale[], MATCH(G70,scalename,0),3))=0),"",INDEX( scale[], MATCH(G70,scalename,0),3)),"") -> 4 | I70: =SUM(H70:H75) -> 20 | J70: =IFERROR(SUM(H70:H75)/(maxscore*(COUNT(H70:H75))),"") -> 0.8
C71: =IF(LEN(E71)>0,"3." & COUNTA($E$70:E71),"") -> 3.2 | E71: Racks, cabinets and shelves are kept clean. | G71: L5 | H71: =IFERROR(IF(OR(LEN(E71)=0,LEN(INDEX( scale[], MATCH(G71,scalename,0),3))=0),"",INDEX( scale[], MATCH(G71,scalename,0),3)),"") -> 5
C72: =IF(LEN(E72)>0,"3." & COUNTA($E$70:E72),"") -> 3.3 | E72: Machines, equipment and tools are kept clean. | G72: L4 | H72: =IFERROR(IF(OR(LEN(E72)=0,LEN(INDEX( scale[], MATCH(G72,scalename,0),3))=0),"",INDEX( scale[], MATCH(G72,scalename,0),3)),"") -> 4
C73: =IF(LEN(E73)>0,"3." & COUNTA($E$70:E73),"") -> 3.4 | E73: Stored items, materials and products are kept clean. | G73: Yes | H73: =IFERROR(IF(OR(LEN(E73)=0,LEN(INDEX( scale[], MATCH(G73,scalename,0),3))=0),"",INDEX( scale[], MATCH(G73,scalename,0),3)),"") -> 5
C74: =IF(LEN(E74)>0,"3." & COUNTA($E$70:E74),"") -> 3.5 | E74: Lighting is enough and all lighting is free from dust. | G74: NA | H74: =IFERROR(IF(OR(LEN(E74)=0,LEN(INDEX( scale[], MATCH(G74,scalename,0),3))=0),"",INDEX( scale[], MATCH(G74,scalename,0),3)),"")
C75: =IF(LEN(E75)>0,"3." & COUNTA($E$70:E75),"") -> 3.6 | E75: Cleaning tools and materials are easily accessible. | G75: L2 | H75: =IFERROR(IF(OR(LEN(E75)=0,LEN(INDEX( scale[], MATCH(G75,scalename,0),3))=0),"",INDEX( scale[], MATCH(G75,scalename,0),3)),"") -> 2
C96: 4S - STANDARDIZE | D96: Subarea | E96: Questions | F96: Notes | G96: Result | H96: Score | I96: Total Score | J96: %
C97: =IF(LEN(E97)>0,"4." & COUNTA($E$97:E97),"") -> 4.1 | E97: Visual controls and display boards are used and regularly updated. | G97: L3 | H97: =IFERROR(IF(OR(LEN(E97)=0,LEN(INDEX( scale[], MATCH(G97,scalename,0),3))=0),"",INDEX( scale[], MATCH(G97,scalename,0),3)),"") -> 3 | I97: =SUM(H97:H102) -> 14 | J97: =IFERROR(SUM(H97:H102)/(maxscore*(COUNT(H97:H102))),"") -> 0.7
C98: =IF(LEN(E98)>0,"4." & COUNTA($E$97:E98),"") -> 4.2 | E98: Procedures for maintaining the first three S's are being displayed. | G98: L5 | H98: =IFERROR(IF(OR(LEN(E98)=0,LEN(INDEX( scale[], MATCH(G98,scalename,0),3))=0),"",INDEX( scale[], MATCH(G98,scalename,0),3)),"") -> 5
C99: =IF(LEN(E99)>0,"4." & COUNTA($E$97:E99),"") -> 4.3 | E99: 5S checklists, schedules and routines are defined and being used. | G99: No | H99: =IFERROR(IF(OR(LEN(E99)=0,LEN(INDEX( scale[], MATCH(G99,scalename,0),3))=0),"",INDEX( scale[], MATCH(G99,scalename,0),3)),"") -> 1
C100: =IF(LEN(E100)>0,"4." & COUNTA($E$97:E100),"") -> 4.4 | E100: Everyone knows his responsibilities, when and how. | G100: Yes | H100: =IFERROR(IF(OR(LEN(E100)=0,LEN(INDEX( scale[], MATCH(G100,scalename,0),3))=0),"",INDEX( scale[], MATCH(G100,scalename,0),3)),"") -> 5
C101: =IF(LEN(E101)>0,"4." & COUNTA($E$97:E101),"") -> 4.5 | E101: Regular audits are taking place using checklists and measures. | H101: =IFERROR(IF(OR(LEN(E101)=0,LEN(INDEX( scale[], MATCH(G101,scalename,0),3))=0),"",INDEX( scale[], MATCH(G101,scalename,0),3)),"")
C102: =IF(LEN(E102)>0,"4." & COUNTA($E$97:E102),"") | H102: =IFERROR(IF(OR(LEN(E102)=0,LEN(INDEX( scale[], MATCH(G102,scalename,0),3))=0),"",INDEX( scale[], MATCH(G102,scalename,0),3)),"")
C123: 5S - SUSTAIN | D123: Subarea | E123: Questions | F123: Notes | G123: Result | H123: Score | I123: Total Score | J123: %
C124: =IF(LEN(E124)>0,"5." & COUNTA($E$124:E124),"") -> 5.1 | E124: 5S seems to be the way of life rather than just a routine. | G124: L5 | H124: =IFERROR(IF(OR(LEN(E124)=0,LEN(INDEX( scale[], MATCH(G124,scalename,0),3))=0),"",INDEX( scale[], MATCH(G124,scalename,0),3)),"") -> 5 | I124: =SUM(H124:H129) -> 12 | J124: =IFERROR(SUM(H124:H129)/(maxscore*(COUNT(H124:H129))),"") -> 0.8
C125: =IF(LEN(E125)>0,"5." & COUNTA($E$124:E125),"") -> 5.2 | E125: Success stories are being displayed (i.e. before and after pictures). | G125: L3 | H125: =IFERROR(IF(OR(LEN(E125)=0,LEN(INDEX( scale[], MATCH(G125,scalename,0),3))=0),"",INDEX( scale[], MATCH(G125,scalename,0),3)),"") -> 3
C126: =IF(LEN(E126)>0,"5." & COUNTA($E$124:E126),"") -> 5.3 | E126: Rewards and recognition is part of the 5S system. | G126: L4 | H126: =IFERROR(IF(OR(LEN(E126)=0,LEN(INDEX( scale[], MATCH(G126,scalename,0),3))=0),"",INDEX( scale[], MATCH(G126,scalename,0),3)),"") -> 4
C127: =IF(LEN(E127)>0,"5." & COUNTA($E$124:E127),"") | H127: =IFERROR(IF(OR(LEN(E127)=0,LEN(INDEX( scale[], MATCH(G127,scalename,0),3))=0),"",INDEX( scale[], MATCH(G127,scalename,0),3)),"")
...

Sheet Audit3
C2: 5S AUDIT SCORECARD EXCEL TEMPLATE
C3: AUDIT #3 FORM
C7: ="5S " & E9 & " Area Audit" -> 5S Manufacturing Area Audit
C9: Date | D9: Audit Area | E9: Manufacturing | J9: Total score
C10: 44666 | D10: Work station | E10: Sealing | J10: =SUM(H16:H199) -> 103
C12: Quarter | D12: 5s Auditor | E12: Hannah Shaw | J12: Final result
C13: =IFERROR(IF(ISNUMBER(C10),IF(C12="Month",INDEX(monthsList,MONTH(C10),1),IF(MONTH(C10)<4,"Q1",IF(MONTH(C10)<7,"Q2",IF(MONTH(C10)<10,"Q3","Q4")))),""),"") -> Q2 | D13: 5s Leader | E13: Jane Best | J13: =IFERROR(ROUND(J10/(COUNT(H16:H199)*maxscore),2),"") -> 0.9
C15: 1S - SORT | D15: Subarea | E15: Questions | F15: Notes | G15: Result | H15: Score | I15: Total Score | J15: %
C16: =IF(LEN(E16)>0,"1." & COUNTA($E$16:E16),"") -> 1.1 | E16: No unnecessary items are left or stored in the workplace. | G16: Yes | H16: =IFERROR(IF(OR(LEN(E16)=0,LEN(INDEX( scale[], MATCH(G16,scalename,0),3))=0),"",INDEX( scale[], MATCH(G16,scalename,0),3)),"") -> 5 | I16: =SUM(H16:H21) -> 23 | J16: =IFERROR(SUM(H16:H21)/(maxscore*(COUNT(H16:H21))),"") -> 0.92
C17: =IF(LEN(E17)>0,"1." & COUNTA($E$16:E17),"") -> 1.2 | E17: All machines and pieces of equipment are in regular use. | G17: Yes | H17: =IFERROR(IF(OR(LEN(E17)=0,LEN(INDEX( scale[], MATCH(G17,scalename,0),3))=0),"",INDEX( scale[], MATCH(G17,scalename,0),3)),"") -> 5
C18: =IF(LEN(E18)>0,"1." & COUNTA($E$16:E18),"") -> 1.3 | E18: All tools, fixtures and fittings are in regular use. | G18: Yes | H18: =IFERROR(IF(OR(LEN(E18)=0,LEN(INDEX( scale[], MATCH(G18,scalename,0),3))=0),"",INDEX( scale[], MATCH(G18,scalename,0),3)),"") -> 5
C19: =IF(LEN(E19)>0,"1." & COUNTA($E$16:E19),"") -> 1.4 | E19: Storage area is defined to store broken, unusable or occasionally used items. | G19: L4 | H19: =IFERROR(IF(OR(LEN(E19)=0,LEN(INDEX( scale[], MATCH(G19,scalename,0),3))=0),"",INDEX( scale[], MATCH(G19,scalename,0),3)),"") -> 4
C20: =IF(LEN(E20)>0,"1." & COUNTA($E$16:E20),"") -> 1.5 | E20: Standards for eliminating unnecessary items exist and are being followed. | G20: L4 | H20: =IFERROR(IF(OR(LEN(E20)=0,LEN(INDEX( scale[], MATCH(G20,scalename,0),3))=0),"",INDEX( scale[], MATCH(G20,scalename,0),3)),"") -> 4
C21: =IF(LEN(E21)>0,"1." & COUNTA($E$16:E21),"") | G21: Yes | H21: =IFERROR(IF(OR(LEN(E21)=0,LEN(INDEX( scale[], MATCH(G21,scalename,0),3))=0),"",INDEX( scale[], MATCH(G21,scalename,0),3)),"")
C42: 2S - SET | D42: Subarea | E42: Questions | F42: Notes | G42: Result | H42: Score | I42: Total Score | J42: %
C43: =IF(LEN(E43)>0,"2." & COUNTA($E$43:E43),"") -> 2.1 | E43: Locations of tools and equipment are clear and well organized. | G43: Yes | H43: =IFERROR(IF(OR(LEN(E43)=0,LEN(INDEX( scale[], MATCH(G43,scalename,0),3))=0),"",INDEX( scale[], MATCH(G43,scalename,0),3)),"") -> 5 | I43: =SUM(H43:H48) -> 26 | J43: =IFERROR(SUM(H43:H48)/(maxscore*(COUNT(H43:H48))),"") -> 0.86666667
C44: =IF(LEN(E44)>0,"2." & COUNTA($E$43:E44),"") -> 2.2 | E44: Locations of materials and products are clear and well organized. | G44: L5 | H44: =IFERROR(IF(OR(LEN(E44)=0,LEN(INDEX( scale[], MATCH(G44,scalename,0),3))=0),"",INDEX( scale[], MATCH(G44,scalename,0),3)),"") -> 5
C45: =IF(LEN(E45)>0,"2." & COUNTA($E$43:E45),"") -> 2.3 | E45: Labels exist to indicate locations, containers, boxes, shelves and stored items. | G45: Yes | H45: =IFERROR(IF(OR(LEN(E45)=0,LEN(INDEX( scale[], MATCH(G45,scalename,0),3))=0),"",INDEX( scale[], MATCH(G45,scalename,0),3)),"") -> 5
C46: =IF(LEN(E46)>0,"2." & COUNTA($E$43:E46),"") -> 2.4 | E46: Evidence of inventory control exists (i.e. Kanban cards, FIFO, minimum/maximum, etc.). | G46: Yes | H46: =IFERROR(IF(OR(LEN(E46)=0,LEN(INDEX( scale[], MATCH(G46,scalename,0),3))=0),"",INDEX( scale[], MATCH(G46,scalename,0),3)),"") -> 5
C47: =IF(LEN(E47)>0,"2." & COUNTA($E$43:E47),"") -> 2.5 | E47: Dividing lines are clearly identified and clean as per standard. | G47: L4 | H47: =IFERROR(IF(OR(LEN(E47)=0,LEN(INDEX( scale[], MATCH(G47,scalename,0),3))=0),"",INDEX( scale[], MATCH(G47,scalename,0),3)),"") -> 4
C48: =IF(LEN(E48)>0,"2." & COUNTA($E$43:E48),"") -> 2.6 | E48: Safety equipment and supplies are clear and in good condition. | G48: L2 | H48: =IFERROR(IF(OR(LEN(E48)=0,LEN(INDEX( scale[], MATCH(G48,scalename,0),3))=0),"",INDEX( scale[], MATCH(G48,scalename,0),3)),"") -> 2
C69: 3S - SHINE | D69: Subarea | E69: Questions | F69: Notes | G69: Result | H69: Score | I69: Total Score | J69: %
C70: =IF(LEN(E70)>0,"3." & COUNTA($E$70:E70),"") -> 3.1 | E70: Floors, walls, ceilings and pipework are in good condition and free from dirt and dust. | G70: L4 | H70: =IFERROR(IF(OR(LEN(E70)=0,LEN(INDEX( scale[], MATCH(G70,scalename,0),3))=0),"",INDEX( scale[], MATCH(G70,scalename,0),3)),"") -> 4 | I70: =SUM(H70:H75) -> 22 | J70: =IFERROR(SUM(H70:H75)/(maxscore*(COUNT(H70:H75))),"") -> 0.88
C71: =IF(LEN(E71)>0,"3." & COUNTA($E$70:E71),"") -> 3.2 | E71: Racks, cabinets and shelves are kept clean. | G71: L5 | H71: =IFERROR(IF(OR(LEN(E71)=0,LEN(INDEX( scale[], MATCH(G71,scalename,0),3))=0),"",INDEX( scale[], MATCH(G71,scalename,0),3)),"") -> 5
C72: =IF(LEN(E72)>0,"3." & COUNTA($E$70:E72),"") -> 3.3 | E72: Machines, equipment and tools are kept clean. | G72: L4 | H72: =IFERROR(IF(OR(LEN(E72)=0,LEN(INDEX( scale[], MATCH(G72,scalename,0),3))=0),"",INDEX( scale[], MATCH(G72,scalename,0),3)),"") -> 4
C73: =IF(LEN(E73)>0,"3." & COUNTA($E$70:E73),"") -> 3.4 | E73: Stored items, materials and products are kept clean. | G73: Yes | H73: =IFERROR(IF(OR(LEN(E73)=0,LEN(INDEX( scale[], MATCH(G73,scalename,0),3))=0),"",INDEX( scale[], MATCH(G73,scalename,0),3)),"") -> 5
C74: =IF(LEN(E74)>0,"3." & COUNTA($E$70:E74),"") -> 3.5 | E74: Lighting is enough and all lighting is free from dust. | G74: NA | H74: =IFERROR(IF(OR(LEN(E74)=0,LEN(INDEX( scale[], MATCH(G74,scalename,0),3))=0),"",INDEX( scale[], MATCH(G74,scalename,0),3)),"")
C75: =IF(LEN(E75)>0,"3." & COUNTA($E$70:E75),"") -> 3.6 | E75: Cleaning tools and materials are easily accessible. | G75: L4 | H75: =IFERROR(IF(OR(LEN(E75)=0,LEN(INDEX( scale[], MATCH(G75,scalename,0),3))=0),"",INDEX( scale[], MATCH(G75,scalename,0),3)),"") -> 4
C96: 4S - STANDARDIZE | D96: Subarea | E96: Questions | F96: Notes | G96: Result | H96: Score | I96: Total Score | J96: %
C97: =IF(LEN(E97)>0,"4." & COUNTA($E$97:E97),"") -> 4.1 | E97: Visual controls and display boards are used and regularly updated. | G97: L4 | H97: =IFERROR(IF(OR(LEN(E97)=0,LEN(INDEX( scale[], MATCH(G97,scalename,0),3))=0),"",INDEX( scale[], MATCH(G97,scalename,0),3)),"") -> 4 | I97: =SUM(H97:H102) -> 18 | J97: =IFERROR(SUM(H97:H102)/(maxscore*(COUNT(H97:H102))),"") -> 0.9
C98: =IF(LEN(E98)>0,"4." & COUNTA($E$97:E98),"") -> 4.2 | E98: Procedures for maintaining the first three S's are being displayed. | G98: L5 | H98: =IFERROR(IF(OR(LEN(E98)=0,LEN(INDEX( scale[], MATCH(G98,scalename,0),3))=0),"",INDEX( scale[], MATCH(G98,scalename,0),3)),"") -> 5
C99: =IF(LEN(E99)>0,"4." & COUNTA($E$97:E99),"") -> 4.3 | E99: 5S checklists, schedules and routines are defined and being used. | G99: L4 | H99: =IFERROR(IF(OR(LEN(E99)=0,LEN(INDEX( scale[], MATCH(G99,scalename,0),3))=0),"",INDEX( scale[], MATCH(G99,scalename,0),3)),"") -> 4
C100: =IF(LEN(E100)>0,"4." & COUNTA($E$97:E100),"") -> 4.4 | E100: Everyone knows his responsibilities, when and how. | G100: Yes | H100: =IFERROR(IF(OR(LEN(E100)=0,LEN(INDEX( scale[], MATCH(G100,scalename,0),3))=0),"",INDEX( scale[], MATCH(G100,scalename,0),3)),"") -> 5
C101: =IF(LEN(E101)>0,"4." & COUNTA($E$97:E101),"") -> 4.5 | E101: Regular audits are taking place using checklists and measures. | H101: =IFERROR(IF(OR(LEN(E101)=0,LEN(INDEX( scale[], MATCH(G101,scalename,0),3))=0),"",INDEX( scale[], MATCH(G101,scalename,0),3)),"")
C102: =IF(LEN(E102)>0,"4." & COUNTA($E$97:E102),"") | H102: =IFERROR(IF(OR(LEN(E102)=0,LEN(INDEX( scale[], MATCH(G102,scalename,0),3))=0),"",INDEX( scale[], MATCH(G102,scalename,0),3)),"")
C123: 5S - SUSTAIN | D123: Subarea | E123: Questions | F123: Notes | G123: Result | H123: Score | I123: Total Score | J123: %
C124: =IF(LEN(E124)>0,"5." & COUNTA($E$124:E124),"") -> 5.1 | E124: 5S seems to be the way of life rather than just a routine. | G124: Yes | H124: =IFERROR(IF(OR(LEN(E124)=0,LEN(INDEX( scale[], MATCH(G124,scalename,0),3))=0),"",INDEX( scale[], MATCH(G124,scalename,0),3)),"") -> 5 | I124: =SUM(H124:H129) -> 14 | J124: =IFERROR(SUM(H124:H129)/(maxscore*(COUNT(H124:H129))),"") -> 0.93333333
C125: =IF(LEN(E125)>0,"5." & COUNTA($E$124:E125),"") -> 5.2 | E125: Success stories are being displayed (i.e. before and after pictures). | G125: L5 | H125: =IFERROR(IF(OR(LEN(E125)=0,LEN(INDEX( scale[], MATCH(G125,scalename,0),3))=0),"",INDEX( scale[], MATCH(G125,scalename,0),3)),"") -> 5
C126: =IF(LEN(E126)>0,"5." & COUNTA($E$124:E126),"") -> 5.3 | E126: Rewards and recognition is part of the 5S system. | G126: L4 | H126: =IFERROR(IF(OR(LEN(E126)=0,LEN(INDEX( scale[], MATCH(G126,scalename,0),3))=0),"",INDEX( scale[], MATCH(G126,scalename,0),3)),"") -> 4
C127: =IF(LEN(E127)>0,"5." & COUNTA($E$124:E127),"") | H127: =IFERROR(IF(OR(LEN(E127)=0,LEN(INDEX( scale[], MATCH(G127,scalename,0),3))=0),"",INDEX( scale[], MATCH(G127,scalename,0),3)),"")
...

Sheet Audit4
C2: 5S AUDIT SCORECARD EXCEL TEMPLATE
C3: AUDIT #4 FORM
C7: ="5S " & E9 & " Area Audit" -> 5S Manufacturing Area Audit
C9: Date | D9: Audit Area | E9: Manufacturing | J9: Total score
C10: 44819 | D10: Work station | E10: Sealing | J10: =SUM(H16:H199) -> 56
C12: Quarter | D12: 5s Auditor | E12: Hannah Shaw | J12: Final result
C13: =IFERROR(IF(ISNUMBER(C10),IF(C12="Month",INDEX(monthsList,MONTH(C10),1),IF(MONTH(C10)<4,"Q1",IF(MONTH(C10)<7,"Q2",IF(MONTH(C10)<10,"Q3","Q4")))),""),"") -> Q3 | D13: 5s Leader | E13: Jane Best | J13: =IFERROR(ROUND(J10/(COUNT(H16:H199)*maxscore),2),"") -> 0.49
C15: 1S - SORT | D15: Subarea | E15: Questions | F15: Notes | G15: Result | H15: Score | I15: Total Score | J15: %
C16: =IF(LEN(E16)>0,"1." & COUNTA($E$16:E16),"") -> 1.1 | E16: No unnecessary items are left or stored in the workplace. | G16: L3 | H16: =IFERROR(IF(OR(LEN(E16)=0,LEN(INDEX( scale[], MATCH(G16,scalename,0),3))=0),"",INDEX( scale[], MATCH(G16,scalename,0),3)),"") -> 3 | I16: =SUM(H16:H21) -> 10 | J16: =IFERROR(SUM(H16:H21)/(maxscore*(COUNT(H16:H21))),"") -> 0.4
C17: =IF(LEN(E17)>0,"1." & COUNTA($E$16:E17),"") -> 1.2 | E17: All machines and pieces of equipment are in regular use. | G17: L4 | H17: =IFERROR(IF(OR(LEN(E17)=0,LEN(INDEX( scale[], MATCH(G17,scalename,0),3))=0),"",INDEX( scale[], MATCH(G17,scalename,0),3)),"") -> 4
C18: =IF(LEN(E18)>0,"1." & COUNTA($E$16:E18),"") -> 1.3 | E18: All tools, fixtures and fittings are in regular use. | G18: L1 | H18: =IFERROR(IF(OR(LEN(E18)=0,LEN(INDEX( scale[], MATCH(G18,scalename,0),3))=0),"",INDEX( scale[], MATCH(G18,scalename,0),3)),"") -> 1
C19: =IF(LEN(E19)>0,"1." & COUNTA($E$16:E19),"") -> 1.4 | E19: Storage area is defined to store broken, unusable or occasionally used items. | G19: No | H19: =IFERROR(IF(OR(LEN(E19)=0,LEN(INDEX( scale[], MATCH(G19,scalename,0),3))=0),"",INDEX( scale[], MATCH(G19,scalename,0),3)),"") -> 1
C20: =IF(LEN(E20)>0,"1." & COUNTA($E$16:E20),"") -> 1.5 | E20: Standards for eliminating unnecessary items exist and are being followed. | G20: L1 | H20: =IFERROR(IF(OR(LEN(E20)=0,LEN(INDEX( scale[], MATCH(G20,scalename,0),3))=0),"",INDEX( scale[], MATCH(G20,scalename,0),3)),"") -> 1
C21: =IF(LEN(E21)>0,"1." & COUNTA($E$16:E21),"") | H21: =IFERROR(IF(OR(LEN(E21)=0,LEN(INDEX( scale[], MATCH(G21,scalename,0),3))=0),"",INDEX( scale[], MATCH(G21,scalename,0),3)),"")
C42: 2S - SET | D42: Subarea | E42: Questions | F42: Notes | G42: Result | H42: Score | I42: Total Score | J42: %
C43: =IF(LEN(E43)>0,"2." & COUNTA($E$43:E43),"") -> 2.1 | E43: Locations of tools and equipment are clear and well organized. | G43: No | H43: =IFERROR(IF(OR(LEN(E43)=0,LEN(INDEX( scale[], MATCH(G43,scalename,0),3))=0),"",INDEX( scale[], MATCH(G43,scalename,0),3)),"") -> 1 | I43: =SUM(H43:H48) -> 9 | J43: =IFERROR(SUM(H43:H48)/(maxscore*(COUNT(H43:H48))),"") -> 0.3
C44: =IF(LEN(E44)>0,"2." & COUNTA($E$43:E44),"") -> 2.2 | E44: Locations of materials and products are clear and well organized. | G44: L3 | H44: =IFERROR(IF(OR(LEN(E44)=0,LEN(INDEX( scale[], MATCH(G44,scalename,0),3))=0),"",INDEX( scale[], MATCH(G44,scalename,0),3)),"") -> 3
C45: =IF(LEN(E45)>0,"2." & COUNTA($E$43:E45),"") -> 2.3 | E45: Labels exist to indicate locations, containers, boxes, shelves and stored items. | G45: No | H45: =IFERROR(IF(OR(LEN(E45)=0,LEN(INDEX( scale[], MATCH(G45,scalename,0),3))=0),"",INDEX( scale[], MATCH(G45,scalename,0),3)),"") -> 1
C46: =IF(LEN(E46)>0,"2." & COUNTA($E$43:E46),"") -> 2.4 | E46: Evidence of inventory control exists (i.e. Kanban cards, FIFO, minimum/maximum, etc.). | G46: L2 | H46: =IFERROR(IF(OR(LEN(E46)=0,LEN(INDEX( scale[], MATCH(G46,scalename,0),3))=0),"",INDEX( scale[], MATCH(G46,scalename,0),3)),"") -> 2
C47: =IF(LEN(E47)>0,"2." & COUNTA($E$43:E47),"") -> 2.5 | E47: Dividing lines are clearly identified and clean as per standard. | G47: No | H47: =IFERROR(IF(OR(LEN(E47)=0,LEN(INDEX( scale[], MATCH(G47,scalename,0),3))=0),"",INDEX( scale[], MATCH(G47,scalename,0),3)),"") -> 1
C48: =IF(LEN(E48)>0,"2." & COUNTA($E$43:E48),"") -> 2.6 | E48: Safety equipment and supplies are clear and in good condition. | G48: No | H48: =IFERROR(IF(OR(LEN(E48)=0,LEN(INDEX( scale[], MATCH(G48,scalename,0),3))=0),"",INDEX( scale[], MATCH(G48,scalename,0),3)),"") -> 1
C69: 3S - SHINE | D69: Subarea | E69: Questions | F69: Notes | G69: Result | H69: Score | I69: Total Score | J69: %
C70: =IF(LEN(E70)>0,"3." & COUNTA($E$70:E70),"") -> 3.1 | E70: Floors, walls, ceilings and pipework are in good condition and free from dirt and dust. | G70: L2 | H70: =IFERROR(IF(OR(LEN(E70)=0,LEN(INDEX( scale[], MATCH(G70,scalename,0),3))=0),"",INDEX( scale[], MATCH(G70,scalename,0),3)),"") -> 2 | I70: =SUM(H70:H75) -> 17 | J70: =IFERROR(SUM(H70:H75)/(maxscore*(COUNT(H70:H75))),"") -> 0.68
C71: =IF(LEN(E71)>0,"3." & COUNTA($E$70:E71),"") -> 3.2 | E71: Racks, cabinets and shelves are kept clean. | G71: L4 | H71: =IFERROR(IF(OR(LEN(E71)=0,LEN(INDEX( scale[], MATCH(G71,scalename,0),3))=0),"",INDEX( scale[], MATCH(G71,scalename,0),3)),"") -> 4
C72: =IF(LEN(E72)>0,"3." & COUNTA($E$70:E72),"") -> 3.3 | E72: Machines, equipment and tools are kept clean. | G72: L4 | H72: =IFERROR(IF(OR(LEN(E72)=0,LEN(INDEX( scale[], MATCH(G72,scalename,0),3))=0),"",INDEX( scale[], MATCH(G72,scalename,0),3)),"") -> 4
C73: =IF(LEN(E73)>0,"3." & COUNTA($E$70:E73),"") -> 3.4 | E73: Stored items, materials and products are kept clean. | G73: Yes | H73: =IFERROR(IF(OR(LEN(E73)=0,LEN(INDEX( scale[], MATCH(G73,scalename,0),3))=0),"",INDEX( scale[], MATCH(G73,scalename,0),3)),"") -> 5
C74: =IF(LEN(E74)>0,"3." & COUNTA($E$70:E74),"") -> 3.5 | E74: Lighting is enough and all lighting is free from dust. | G74: NA | H74: =IFERROR(IF(OR(LEN(E74)=0,LEN(INDEX( scale[], MATCH(G74,scalename,0),3))=0),"",INDEX( scale[], MATCH(G74,scalename,0),3)),"")
C75: =IF(LEN(E75)>0,"3." & COUNTA($E$70:E75),"") -> 3.6 | E75: Cleaning tools and materials are easily accessible. | G75: L2 | H75: =IFERROR(IF(OR(LEN(E75)=0,LEN(INDEX( scale[], MATCH(G75,scalename,0),3))=0),"",INDEX( scale[], MATCH(G75,scalename,0),3)),"") -> 2
C96: 4S - STANDARDIZE | D96: Subarea | E96: Questions | F96: Notes | G96: Result | H96: Score | I96: Total Score | J96: %
C97: =IF(LEN(E97)>0,"4." & COUNTA($E$97:E97),"") -> 4.1 | E97: Visual controls and display boards are used and regularly updated. | G97: Yes | H97: =IFERROR(IF(OR(LEN(E97)=0,LEN(INDEX( scale[], MATCH(G97,scalename,0),3))=0),"",INDEX( scale[], MATCH(G97,scalename,0),3)),"") -> 5 | I97: =SUM(H97:H102) -> 13 | J97: =IFERROR(SUM(H97:H102)/(maxscore*(COUNT(H97:H102))),"") -> 0.65
C98: =IF(LEN(E98)>0,"4." & COUNTA($E$97:E98),"") -> 4.2 | E98: Procedures for maintaining the first three S's are being displayed. | G98: L3 | H98: =IFERROR(IF(OR(LEN(E98)=0,LEN(INDEX( scale[], MATCH(G98,scalename,0),3))=0),"",INDEX( scale[], MATCH(G98,scalename,0),3)),"") -> 3
C99: =IF(LEN(E99)>0,"4." & COUNTA($E$97:E99),"") -> 4.3 | E99: 5S checklists, schedules and routines are defined and being used. | G99: No | H99: =IFERROR(IF(OR(LEN(E99)=0,LEN(INDEX( scale[], MATCH(G99,scalename,0),3))=0),"",INDEX( scale[], MATCH(G99,scalename,0),3)),"") -> 1
C100: =IF(LEN(E100)>0,"4." & COUNTA($E$97:E100),"") -> 4.4 | E100: Everyone knows his responsibilities, when and how. | G100: L4 | H100: =IFERROR(IF(OR(LEN(E100)=0,LEN(INDEX( scale[], MATCH(G100,scalename,0),3))=0),"",INDEX( scale[], MATCH(G100,scalename,0),3)),"") -> 4
C101: =IF(LEN(E101)>0,"4." & COUNTA($E$97:E101),"") -> 4.5 | E101: Regular audits are taking place using checklists and measures. | H101: =IFERROR(IF(OR(LEN(E101)=0,LEN(INDEX( scale[], MATCH(G101,scalename,0),3))=0),"",INDEX( scale[], MATCH(G101,scalename,0),3)),"")
C102: =IF(LEN(E102)>0,"4." & COUNTA($E$97:E102),"") | H102: =IFERROR(IF(OR(LEN(E102)=0,LEN(INDEX( scale[], MATCH(G102,scalename,0),3))=0),"",INDEX( scale[], MATCH(G102,scalename,0),3)),"")
C123: 5S - SUSTAIN | D123: Subarea | E123: Questions | F123: Notes | G123: Result | H123: Score | I123: Total Score | J123: %
C124: =IF(LEN(E124)>0,"5." & COUNTA($E$124:E124),"") -> 5.1 | E124: 5S seems to be the way of life rather than just a routine. | G124: L3 | H124: =IFERROR(IF(OR(LEN(E124)=0,LEN(INDEX( scale[], MATCH(G124,scalename,0),3))=0),"",INDEX( scale[], MATCH(G124,scalename,0),3)),"") -> 3 | I124: =SUM(H124:H129) -> 7 | J124: =IFERROR(SUM(H124:H129)/(maxscore*(COUNT(H124:H129))),"") -> 0.46666667
C125: =IF(LEN(E125)>0,"5." & COUNTA($E$124:E125),"") -> 5.2 | E125: Success stories are being displayed (i.e. before and after pictures). | G125: L2 | H125: =IFERROR(IF(OR(LEN(E125)=0,LEN(INDEX( scale[], MATCH(G125,scalename,0),3))=0),"",INDEX( scale[], MATCH(G125,scalename,0),3)),"") -> 2
C126: =IF(LEN(E126)>0,"5." & COUNTA($E$124:E126),"") -> 5.3 | E126: Rewards and recognition is part of the 5S system. | G126: L2 | H126: =IFERROR(IF(OR(LEN(E126)=0,LEN(INDEX( scale[], MATCH(G126,scalename,0),3))=0),"",INDEX( scale[], MATCH(G126,scalename,0),3)),"") -> 2
C127: =IF(LEN(E127)>0,"5." & COUNTA($E$124:E127),"") | H127: =IFERROR(IF(OR(LEN(E127)=0,LEN(INDEX( scale[], MATCH(G127,scalename,0),3))=0),"",INDEX( scale[], MATCH(G127,scalename,0),3)),"")
...

Sheet Audit5
C2: 5S AUDIT SCORECARD EXCEL TEMPLATE
C3: AUDIT #5 FORM
C7: ="5S " & E9 & " Area Audit" -> 5S Manufacturing Area Audit
C9: Date | D9: Audit Area | E9: Manufacturing | J9: Total score
C10: 44910 | D10: Work station | E10: Sealing | J10: =SUM(H16:H199) -> 0
C12: Quarter | D12: 5s Auditor | E12: Hannah Shaw | J12: Final result
C13: =IFERROR(IF(ISNUMBER(C10),IF(C12="Month",INDEX(monthsList,MONTH(C10),1),IF(MONTH(C10)<4,"Q1",IF(MONTH(C10)<7,"Q2",IF(MONTH(C10)<10,"Q3","Q4")))),""),"") -> Q4 | D13: 5s Leader | E13: Jane Best | J13: =IFERROR(ROUND(J10/(COUNT(H16:H199)*maxscore),2),"")
C15: 1S - SORT | D15: Subarea | E15: Questions | F15: Notes | G15: Result | H15: Score | I15: Total Score | J15: %
C16: =IF(LEN(E16)>0,"1." & COUNTA($E$16:E16),"") -> 1.1 | E16: No unnecessary items are left or stored in the workplace. | H16: =IFERROR(IF(OR(LEN(E16)=0,LEN(INDEX( scale[], MATCH(G16,scalename,0),3))=0),"",INDEX( scale[], MATCH(G16,scalename,0),3)),"") | I16: =SUM(H16:H21) -> 0 | J16: =IFERROR(SUM(H16:H21)/(maxscore*(COUNT(H16:H21))),"")
C17: =IF(LEN(E17)>0,"1." & COUNTA($E$16:E17),"") -> 1.2 | E17: All machines and pieces of equipment are in regular use. | H17: =IFERROR(IF(OR(LEN(E17)=0,LEN(INDEX( scale[], MATCH(G17,scalename,0),3))=0),"",INDEX( scale[], MATCH(G17,scalename,0),3)),"")
C18: =IF(LEN(E18)>0,"1." & COUNTA($E$16:E18),"") -> 1.3 | E18: All tools, fixtures and fittings are in regular use. | H18: =IFERROR(IF(OR(LEN(E18)=0,LEN(INDEX( scale[], MATCH(G18,scalename,0),3))=0),"",INDEX( scale[], MATCH(G18,scalename,0),3)),"")
C19: =IF(LEN(E19)>0,"1." & COUNTA($E$16:E19),"") -> 1.4 | E19: Storage area is defined to store broken, unusable or occasionally used items. | H19: =IFERROR(IF(OR(LEN(E19)=0,LEN(INDEX( scale[], MATCH(G19,scalename,0),3))=0),"",INDEX( scale[], MATCH(G19,scalename,0),3)),"")
C20: =IF(LEN(E20)>0,"1." & COUNTA($E$16:E20),"") -> 1.5 | E20: Standards for eliminating unnecessary items exist and are being followed. | H20: =IFERROR(IF(OR(LEN(E20)=0,LEN(INDEX( scale[], MATCH(G20,scalename,0),3))=0),"",INDEX( scale[], MATCH(G20,scalename,0),3)),"")
C21: =IF(LEN(E21)>0,"1." & COUNTA($E$16:E21),"") | H21: =IFERROR(IF(OR(LEN(E21)=0,LEN(INDEX( scale[], MATCH(G21,scalename,0),3))=0),"",INDEX( scale[], MATCH(G21,scalename,0),3)),"")
C42: 2S - SET | D42: Subarea | E42: Questions | F42: Notes | G42: Result | H42: Score | I42: Total Score | J42: %
C43: =IF(LEN(E43)>0,"2." & COUNTA($E$43:E43),"") -> 2.1 | E43: Locations of tools and equipment are clear and well organized. | H43: =IFERROR(IF(OR(LEN(E43)=0,LEN(INDEX( scale[], MATCH(G43,scalename,0),3))=0),"",INDEX( scale[], MATCH(G43,scalename,0),3)),"") | I43: =SUM(H43:H48) -> 0 | J43: =IFERROR(SUM(H43:H48)/(maxscore*(COUNT(H43:H48))),"")
C44: =IF(LEN(E44)>0,"2." & COUNTA($E$43:E44),"") -> 2.2 | E44: Locations of materials and products are clear and well organized. | H44: =IFERROR(IF(OR(LEN(E44)=0,LEN(INDEX( scale[], MATCH(G44,scalename,0),3))=0),"",INDEX( scale[], MATCH(G44,scalename,0),3)),"")
C45: =IF(LEN(E45)>0,"2." & COUNTA($E$43:E45),"") -> 2.3 | E45: Labels exist to indicate locations, containers, boxes, shelves and stored items. | H45: =IFERROR(IF(OR(LEN(E45)=0,LEN(INDEX( scale[], MATCH(G45,scalename,0),3))=0),"",INDEX( scale[], MATCH(G45,scalename,0),3)),"")
C46: =IF(LEN(E46)>0,"2." & COUNTA($E$43:E46),"") -> 2.4 | E46: Evidence of inventory control exists (i.e. Kanban cards, FIFO, minimum/maximum, etc.). | H46: =IFERROR(IF(OR(LEN(E46)=0,LEN(INDEX( scale[], MATCH(G46,scalename,0),3))=0),"",INDEX( scale[], MATCH(G46,scalename,0),3)),"")
C47: =IF(LEN(E47)>0,"2." & COUNTA($E$43:E47),"") -> 2.5 | E47: Dividing lines are clearly identified and clean as per standard. | H47: =IFERROR(IF(OR(LEN(E47)=0,LEN(INDEX( scale[], MATCH(G47,scalename,0),3))=0),"",INDEX( scale[], MATCH(G47,scalename,0),3)),"")
C48: =IF(LEN(E48)>0,"2." & COUNTA($E$43:E48),"") -> 2.6 | E48: Safety equipment and supplies are clear and in good condition. | H48: =IFERROR(IF(OR(LEN(E48)=0,LEN(INDEX( scale[], MATCH(G48,scalename,0),3))=0),"",INDEX( scale[], MATCH(G48,scalename,0),3)),"")
C69: 3S - SHINE | D69: Subarea | E69: Questions | F69: Notes | G69: Result | H69: Score | I69: Total Score | J69: %
C70: =IF(LEN(E70)>0,"3." & COUNTA($E$70:E70),"") -> 3.1 | E70: Floors, walls, ceilings and pipework are in good condition and free from dirt and dust. | H70: =IFERROR(IF(OR(LEN(E70)=0,LEN(INDEX( scale[], MATCH(G70,scalename,0),3))=0),"",INDEX( scale[], MATCH(G70,scalename,0),3)),"") | I70: =SUM(H70:H75) -> 0 | J70: =IFERROR(SUM(H70:H75)/(maxscore*(COUNT(H70:H75))),"")
C71: =IF(LEN(E71)>0,"3." & COUNTA($E$70:E71),"") -> 3.2 | E71: Racks, cabinets and shelves are kept clean. | H71: =IFERROR(IF(OR(LEN(E71)=0,LEN(INDEX( scale[], MATCH(G71,scalename,0),3))=0),"",INDEX( scale[], MATCH(G71,scalename,0),3)),"")
C72: =IF(LEN(E72)>0,"3." & COUNTA($E$70:E72),"") -> 3.3 | E72: Machines, equipment and tools are kept clean. | H72: =IFERROR(IF(OR(LEN(E72)=0,LEN(INDEX( scale[], MATCH(G72,scalename,0),3))=0),"",INDEX( scale[], MATCH(G72,scalename,0),3)),"")
C73: =IF(LEN(E73)>0,"3." & COUNTA($E$70:E73),"") -> 3.4 | E73: Stored items, materials and products are kept clean. | H73: =IFERROR(IF(OR(LEN(E73)=0,LEN(INDEX( scale[], MATCH(G73,scalename,0),3))=0),"",INDEX( scale[], MATCH(G73,scalename,0),3)),"")
C74: =IF(LEN(E74)>0,"3." & COUNTA($E$70:E74),"") -> 3.5 | E74: Lighting is enough and all lighting is free from dust. | H74: =IFERROR(IF(OR(LEN(E74)=0,LEN(INDEX( scale[], MATCH(G74,scalename,0),3))=0),"",INDEX( scale[], MATCH(G74,scalename,0),3)),"")
C75: =IF(LEN(E75)>0,"3." & COUNTA($E$70:E75),"") -> 3.6 | E75: Cleaning tools and materials are easily accessible. | H75: =IFERROR(IF(OR(LEN(E75)=0,LEN(INDEX( scale[], MATCH(G75,scalename,0),3))=0),"",INDEX( scale[], MATCH(G75,scalename,0),3)),"")
C96: 4S - STANDARDIZE | D96: Subarea | E96: Questions | F96: Notes | G96: Result | H96: Score | I96: Total Score | J96: %
C97: =IF(LEN(E97)>0,"4." & COUNTA($E$97:E97),"") -> 4.1 | E97: Visual controls and display boards are used and regularly updated. | H97: =IFERROR(IF(OR(LEN(E97)=0,LEN(INDEX( scale[], MATCH(G97,scalename,0),3))=0),"",INDEX( scale[], MATCH(G97,scalename,0),3)),"") | I97: =SUM(H97:H102) -> 0 | J97: =IFERROR(SUM(H97:H102)/(maxscore*(COUNT(H97:H102))),"")
C98: =IF(LEN(E98)>0,"4." & COUNTA($E$97:E98),"") -> 4.2 | E98: Procedures for maintaining the first three S's are being displayed. | H98: =IFERROR(IF(OR(LEN(E98)=0,LEN(INDEX( scale[], MATCH(G98,scalename,0),3))=0),"",INDEX( scale[], MATCH(G98,scalename,0),3)),"")
C99: =IF(LEN(E99)>0,"4." & COUNTA($E$97:E99),"") -> 4.3 | E99: 5S checklists, schedules and routines are defined and being used. | H99: =IFERROR(IF(OR(LEN(E99)=0,LEN(INDEX( scale[], MATCH(G99,scalename,0),3))=0),"",INDEX( scale[], MATCH(G99,scalename,0),3)),"")
C100: =IF(LEN(E100)>0,"4." & COUNTA($E$97:E100),"") -> 4.4 | E100: Everyone knows his responsibilities, when and how. | H100: =IFERROR(IF(OR(LEN(E100)=0,LEN(INDEX( scale[], MATCH(G100,scalename,0),3))=0),"",INDEX( scale[], MATCH(G100,scalename,0),3)),"")
C101: =IF(LEN(E101)>0,"4." & COUNTA($E$97:E101),"") -> 4.5 | E101: Regular audits are taking place using checklists and measures. | H101: =IFERROR(IF(OR(LEN(E101)=0,LEN(INDEX( scale[], MATCH(G101,scalename,0),3))=0),"",INDEX( scale[], MATCH(G101,scalename,0),3)),"")
C102: =IF(LEN(E102)>0,"4." & COUNTA($E$97:E102),"") | H102: =IFERROR(IF(OR(LEN(E102)=0,LEN(INDEX( scale[], MATCH(G102,scalename,0),3))=0),"",INDEX( scale[], MATCH(G102,scalename,0),3)),"")
C123: 5S - SUSTAIN | D123: Subarea | E123: Questions | F123: Notes | G123: Result | H123: Score | I123: Total Score | J123: %
C124: =IF(LEN(E124)>0,"5." & COUNTA($E$124:E124),"") -> 5.1 | E124: 5S seems to be the way of life rather than just a routine. | H124: =IFERROR(IF(OR(LEN(E124)=0,LEN(INDEX( scale[], MATCH(G124,scalename,0),3))=0),"",INDEX( scale[], MATCH(G124,scalename,0),3)),"") | I124: =SUM(H124:H129) -> 0 | J124: =IFERROR(SUM(H124:H129)/(maxscore*(COUNT(H124:H129))),"")
C125: =IF(LEN(E125)>0,"5." & COUNTA($E$124:E125),"") -> 5.2 | E125: Success stories are being displayed (i.e. before and after pictures). | H125: =IFERROR(IF(OR(LEN(E125)=0,LEN(INDEX( scale[], MATCH(G125,scalename,0),3))=0),"",INDEX( scale[], MATCH(G125,scalename,0),3)),"")
C126: =IF(LEN(E126)>0,"5." & COUNTA($E$124:E126),"") -> 5.3 | E126: Rewards and recognition is part of the 5S system. | H126: =IFERROR(IF(OR(LEN(E126)=0,LEN(INDEX( scale[], MATCH(G126,scalename,0),3))=0),"",INDEX( scale[], MATCH(G126,scalename,0),3)),"")
C127: =IF(LEN(E127)>0,"5." & COUNTA($E$124:E127),"") | H127: =IFERROR(IF(OR(LEN(E127)=0,LEN(INDEX( scale[], MATCH(G127,scalename,0),3))=0),"",INDEX( scale[], MATCH(G127,scalename,0),3)),"")
...

Sheet Audit6
C2: 5S AUDIT SCORECARD EXCEL TEMPLATE
C3: AUDIT #6 FORM
C7: ="5S " & E9 & " Area Audit" -> 5S Laboratory Area Audit
C9: Date | D9: Audit Area | E9: Laboratory | J9: Total score
C10: 44896 | D10: Work station | E10: Electric capacity measuer station | J10: =SUM(H16:H199) -> 0
C12: Month | D12: 5s Auditor | E12: Hannah Shaw | J12: Final result
C13: =IFERROR(IF(ISNUMBER(C10),IF(C12="Month",INDEX(monthsList,MONTH(C10),1),IF(MONTH(C10)<4,"Q1",IF(MONTH(C10)<7,"Q2",IF(MONTH(C10)<10,"Q3","Q4")))),""),"") -> December | D13: 5s Leader | E13: Jane Best | J13: =IFERROR(ROUND(J10/(COUNT(H16:H199)*maxscore),2),"")
C15: 1S - SORT | D15: Subarea | E15: Questions | F15: Notes | G15: Result | H15: Score | I15: Total Score | J15: %
C16: =IF(LEN(E16)>0,"1." & COUNTA($E$16:E16),"") -> 1.1 | E16: Establish a white tag area (Holding Area non-required items) | H16: =IFERROR(IF(OR(LEN(E16)=0,LEN(INDEX( scale[], MATCH(G16,scalename,0),3))=0),"",INDEX( scale[], MATCH(G16,scalename,0),3)),"") | I16: =SUM(H16:H21) -> 0 | J16: =IFERROR(SUM(H16:H21)/(maxscore*(COUNT(H16:H21))),"")
C17: =IF(LEN(E17)>0,"1." & COUNTA($E$16:E17),"") -> 1.2 | E17: Identify the items that are not required at the current location. | H17: =IFERROR(IF(OR(LEN(E17)=0,LEN(INDEX( scale[], MATCH(G17,scalename,0),3))=0),"",INDEX( scale[], MATCH(G17,scalename,0),3)),"")
C18: =IF(LEN(E18)>0,"1." & COUNTA($E$16:E18),"") -> 1.3 | E18: Get team members on board to assist with the evaluation process. | H18: =IFERROR(IF(OR(LEN(E18)=0,LEN(INDEX( scale[], MATCH(G18,scalename,0),3))=0),"",INDEX( scale[], MATCH(G18,scalename,0),3)),"")
C19: =IF(LEN(E19)>0,"1." & COUNTA($E$16:E19),"") -> 1.4 | E19: Dispose of items not required after team approval. | H19: =IFERROR(IF(OR(LEN(E19)=0,LEN(INDEX( scale[], MATCH(G19,scalename,0),3))=0),"",INDEX( scale[], MATCH(G19,scalename,0),3)),"")
C20: =IF(LEN(E20)>0,"1." & COUNTA($E$16:E20),"") | H20: =IFERROR(IF(OR(LEN(E20)=0,LEN(INDEX( scale[], MATCH(G20,scalename,0),3))=0),"",INDEX( scale[], MATCH(G20,scalename,0),3)),"")
C21: =IF(LEN(E21)>0,"1." & COUNTA($E$16:E21),"") | H21: =IFERROR(IF(OR(LEN(E21)=0,LEN(INDEX( scale[], MATCH(G21,scalename,0),3))=0),"",INDEX( scale[], MATCH(G21,scalename,0),3)),"")
C42: 2S - SET | D42: Subarea | E42: Questions | F42: Notes | G42: Result | H42: Score | I42: Total Score | J42: %
C43: =IF(LEN(E43)>0,"2." & COUNTA($E$43:E43),"") -> 2.1 | E43: Make sure all items have a home using signs, labels and shadow boards. | H43: =IFERROR(IF(OR(LEN(E43)=0,LEN(INDEX( scale[], MATCH(G43,scalename,0),3))=0),"",INDEX( scale[], MATCH(G43,scalename,0),3)),"") | I43: =SUM(H43:H48) -> 0 | J43: =IFERROR(SUM(H43:H48)/(maxscore*(COUNT(H43:H48))),"")
C44: =IF(LEN(E44)>0,"2." & COUNTA($E$43:E44),"") -> 2.2 | E44: Clearly define work areas. Use floor marking, pedestrian isles, clear access and process flow. | H44: =IFERROR(IF(OR(LEN(E44)=0,LEN(INDEX( scale[], MATCH(G44,scalename,0),3))=0),"",INDEX( scale[], MATCH(G44,scalename,0),3)),"")
C45: =IF(LEN(E45)>0,"2." & COUNTA($E$43:E45),"") -> 2.3 | E45: Use indicators for high or low inventory levels. Read more about Kanban. | H45: =IFERROR(IF(OR(LEN(E45)=0,LEN(INDEX( scale[], MATCH(G45,scalename,0),3))=0),"",INDEX( scale[], MATCH(G45,scalename,0),3)),"")
C46: =IF(LEN(E46)>0,"2." & COUNTA($E$43:E46),"") -> 2.4 | E46: Consider colour coded inventory bins to improve visual management. | H46: =IFERROR(IF(OR(LEN(E46)=0,LEN(INDEX( scale[], MATCH(G46,scalename,0),3))=0),"",INDEX( scale[], MATCH(G46,scalename,0),3)),"")
C47: =IF(LEN(E47)>0,"2." & COUNTA($E$43:E47),"") -> 2.5 | E47: Identify equipment and consumables used Daily, Weekly and Monthly and locate according to usage. | H47: =IFERROR(IF(OR(LEN(E47)=0,LEN(INDEX( scale[], MATCH(G47,scalename,0),3))=0),"",INDEX( scale[], MATCH(G47,scalename,0),3)),"")
C48: =IF(LEN(E48)>0,"2." & COUNTA($E$43:E48),"") | H48: =IFERROR(IF(OR(LEN(E48)=0,LEN(INDEX( scale[], MATCH(G48,scalename,0),3))=0),"",INDEX( scale[], MATCH(G48,scalename,0),3)),"")
C69: 3S - SHINE | D69: Subarea | E69: Questions | F69: Notes | G69: Result | H69: Score | I69: Total Score | J69: %
C70: =IF(LEN(E70)>0,"3." & COUNTA($E$70:E70),"") -> 3.1 | E70: Clean thoroughly – Make it literally shine! | H70: =IFERROR(IF(OR(LEN(E70)=0,LEN(INDEX( scale[], MATCH(G70,scalename,0),3))=0),"",INDEX( scale[], MATCH(G70,scalename,0),3)),"") | I70: =SUM(H70:H75) -> 0 | J70: =IFERROR(SUM(H70:H75)/(maxscore*(COUNT(H70:H75))),"")
C71: =IF(LEN(E71)>0,"3." & COUNTA($E$70:E71),"") -> 3.2 | E71: Identify responsibilities. | H71: =IFERROR(IF(OR(LEN(E71)=0,LEN(INDEX( scale[], MATCH(G71,scalename,0),3))=0),"",INDEX( scale[], MATCH(G71,scalename,0),3)),"")
C72: =IF(LEN(E72)>0,"3." & COUNTA($E$70:E72),"") -> 3.3 | E72: Look at frequency of cleaning requirements in division of the laboratory. | H72: =IFERROR(IF(OR(LEN(E72)=0,LEN(INDEX( scale[], MATCH(G72,scalename,0),3))=0),"",INDEX( scale[], MATCH(G72,scalename,0),3)),"")
C73: =IF(LEN(E73)>0,"3." & COUNTA($E$70:E73),"") -> 3.4 | E73: Make a list of items that need routine cleaning to assist with the standardization step. | H73: =IFERROR(IF(OR(LEN(E73)=0,LEN(INDEX( scale[], MATCH(G73,scalename,0),3))=0),"",INDEX( scale[], MATCH(G73,scalename,0),3)),"")
C74: =IF(LEN(E74)>0,"3." & COUNTA($E$70:E74),"") | H74: =IFERROR(IF(OR(LEN(E74)=0,LEN(INDEX( scale[], MATCH(G74,scalename,0),3))=0),"",INDEX( scale[], MATCH(G74,scalename,0),3)),"")
C75: =IF(LEN(E75)>0,"3." & COUNTA($E$70:E75),"") | H75: =IFERROR(IF(OR(LEN(E75)=0,LEN(INDEX( scale[], MATCH(G75,scalename,0),3))=0),"",INDEX( scale[], MATCH(G75,scalename,0),3)),"")
C96: 4S - STANDARDIZE | D96: Subarea | E96: Questions | F96: Notes | G96: Result | H96: Score | I96: Total Score | J96: %
C97: =IF(LEN(E97)>0,"4." & COUNTA($E$97:E97),"") -> 4.1 | E97: Develop Standard Operating Procedure (SOP) | H97: =IFERROR(IF(OR(LEN(E97)=0,LEN(INDEX( scale[], MATCH(G97,scalename,0),3))=0),"",INDEX( scale[], MATCH(G97,scalename,0),3)),"") | I97: =SUM(H97:H102) -> 0 | J97: =IFERROR(SUM(H97:H102)/(maxscore*(COUNT(H97:H102))),"")
C98: =IF(LEN(E98)>0,"4." & COUNTA($E$97:E98),"") -> 4.2 | E98: Document equipment and processes. | H98: =IFERROR(IF(OR(LEN(E98)=0,LEN(INDEX( scale[], MATCH(G98,scalename,0),3))=0),"",INDEX( scale[], MATCH(G98,scalename,0),3)),"")
C99: =IF(LEN(E99)>0,"4." & COUNTA($E$97:E99),"") -> 4.3 | E99: Develop an audit schedule and assign tasks to individual | H99: =IFERROR(IF(OR(LEN(E99)=0,LEN(INDEX( scale[], MATCH(G99,scalename,0),3))=0),"",INDEX( scale[], MATCH(G99,scalename,0),3)),"")
C100: =IF(LEN(E100)>0,"4." & COUNTA($E$97:E100),"") | H100: =IFERROR(IF(OR(LEN(E100)=0,LEN(INDEX( scale[], MATCH(G100,scalename,0),3))=0),"",INDEX( scale[], MATCH(G100,scalename,0),3)),"")
C101: =IF(LEN(E101)>0,"4." & COUNTA($E$97:E101),"") | H101: =IFERROR(IF(OR(LEN(E101)=0,LEN(INDEX( scale[], MATCH(G101,scalename,0),3))=0),"",INDEX( scale[], MATCH(G101,scalename,0),3)),"")
C102: =IF(LEN(E102)>0,"4." & COUNTA($E$97:E102),"") | H102: =IFERROR(IF(OR(LEN(E102)=0,LEN(INDEX( scale[], MATCH(G102,scalename,0),3))=0),"",INDEX( scale[], MATCH(G102,scalename,0),3)),"")
C123: 5S - SUSTAIN | D123: Subarea | E123: Questions | F123: Notes | G123: Result | H123: Score | I123: Total Score | J123: %
C124: =IF(LEN(E124)>0,"5." & COUNTA($E$124:E124),"") -> 5.1 | E124: Sort, separate what is unnecessary | H124: =IFERROR(IF(OR(LEN(E124)=0,LEN(INDEX( scale[], MATCH(G124,scalename,0),3))=0),"",INDEX( scale[], MATCH(G124,scalename,0),3)),"") | I124: =SUM(H124:H129) -> 0 | J124: =IFERROR(SUM(H124:H129)/(maxscore*(COUNT(H124:H129))),"")
C125: =IF(LEN(E125)>0,"5." & COUNTA($E$124:E125),"") -> 5.2 | E125: Set in Order, organize | H125: =IFERROR(IF(OR(LEN(E125)=0,LEN(INDEX( scale[], MATCH(G125,scalename,0),3))=0),"",INDEX( scale[], MATCH(G125,scalename,0),3)),"")
C126: =IF(LEN(E126)>0,"5." & COUNTA($E$124:E126),"") -> 5.3 | E126: Shine, clean up and make it shine! | H126: =IFERROR(IF(OR(LEN(E126)=0,LEN(INDEX( scale[], MATCH(G126,scalename,0),3))=0),"",INDEX( scale[], MATCH(G126,scalename,0),3)),"")
C127: =IF(LEN(E127)>0,"5." & COUNTA($E$124:E127),"") -> 5.4 | E127: Standardize, establish standard operating procedures | H127: =IFERROR(IF(OR(LEN(E127)=0,LEN(INDEX( scale[], MATCH(G127,scalename,0),3))=0),"",INDEX( scale[], MATCH(G127,scalename,0),3)),"")
...

Sheet Audit7
C2: 5S AUDIT SCORECARD EXCEL TEMPLATE
C3: AUDIT #7 FORM
C7: ="5S " & E9 & " Area Audit" -> 5S Classroom Area Audit
C9: Date | D9: Audit Area | E9: Classroom | J9: Total score
C10: 44835 | D10: Work station | E10: R201a | J10: =SUM(H16:H199) -> 0
C12: Month | D12: 5s Auditor | E12: Hannah Shaw | J12: Final result
C13: =IFERROR(IF(ISNUMBER(C10),IF(C12="Month",INDEX(monthsList,MONTH(C10),1),IF(MONTH(C10)<4,"Q1",IF(MONTH(C10)<7,"Q2",IF(MONTH(C10)<10,"Q3","Q4")))),""),"") -> October | D13: 5s Leader | E13: Jane Best | J13: =IFERROR(ROUND(J10/(COUNT(H16:H199)*maxscore),2),"")
