Workbook
Name a10ch1: OFFSET(Calculations!$AP$77,0,0,scaleCount,1)
Name a11ch1: OFFSET(Calculations!$AP$85,0,0,scaleCount,1)
Name a12ch1: OFFSET(Calculations!$AP$93,0,0,scaleCount,1)
Name a1ch1: OFFSET(Calculations!$AP$5,0,0,scaleCount,1)
Name a2ch1: OFFSET(Calculations!$AP$13,0,0,scaleCount,1)
Name a3ch1: OFFSET(Calculations!$AP$21,0,0,scaleCount,1)
Name a4ch1: OFFSET(Calculations!$AP$29,0,0,scaleCount,1)
Name a5ch1: OFFSET(Calculations!$AP$37,0,0,scaleCount,1)
Name a6ch1: OFFSET(Calculations!$AP$45,0,0,scaleCount,1)
Name a7ch1: OFFSET(Calculations!$AP$53,0,0,scaleCount,1)
Name a8ch1: OFFSET(Calculations!$AP$61,0,0,scaleCount,1)
Name a9ch1: OFFSET(Calculations!$AP$69,0,0,scaleCount,1)
Name activeAudits: Calculations!$T$46:$T$57
Name allTrendLineY: OFFSET(Calculations!$AY$6,0,0,Calculations!$AZ$4,1)
Name areaFilter: Dashboard!$H$8
Name areaHeader: Dashboard!$D$7
Name areaX: OFFSET(Calculations!$Y$46,0,0,validOutputNo,1)
Name auditArea1: OFFSET(Calculations!$C$5,0,0,Calculations!$B$4,1)
Name auditArea2: OFFSET(Calculations!$C$6,0,0,Calculations!$B$4-1,1)
Name auditorFilter: Dashboard!$N$8
Name auditors1: OFFSET(Calculations!$Q$5,0,0,Calculations!$P$4,1)
Name auditors2: OFFSET(Calculations!$Q$6,0,0,Calculations!$P$4-1,1)
Name bestY: OFFSET(Calculations!$AY$6,0,1,Calculations!$AZ$4,1)
Name color1: Settings!$I$18/100
Name color2: Settings!$I$19/100
Name color3: Settings!$I$20/100
Name color4: Settings!$I$21/100
Name color5: Settings!$I$22/100
Name maxscore: MAX(pointsScale)
Name minScore: MIN(pointsScale)
Name monthsList: Calculations!$H$10:$H$21
Name pointsScale: Settings!$I$8:$I$15
Name scaleCount: Calculations!$M$4
Name scaleFilter: OFFSET(Calculations!$K$5,0,0,Calculations!$J$4,1)
Name scaleList: OFFSET(Calculations!$N$5,0,0,Calculations!$M$4,1)
Name scalename: Settings!$H$8:$H$15
Name stationFilter: Dashboard!$J$8
Name timelineX: OFFSET(Calculations!$V$46,0,0,validOutputNo,1)
Name totalPct: OFFSET(Calculations!$AD$61,0,0,validOutputNo,1)
Name trendLineY: OFFSET(Calculations!$AW$7,0,0,Calculations!$AW$4,1)
Name whenFilter: Dashboard!$L$8
Name whenList: Calculations!$H$5:$H$21
Name workstation: OFFSET(Calculations!$F$5,0,0,Calculations!$E$4,1)
Name worstY: OFFSET(Calculations!$AY$6,0,2,Calculations!$AZ$4,1)

Sheet Dashboard
C2: 5S AUDIT SCORECARD EXCEL TEMPLATE
C3: DASHBOARD
C7: NAVIGATION | D7: AUDIT AREA | E7: DATE | F7: SCORE | H7: Audit Area | J7: Work station | L7: Time Period | N7: Auditor
D8: =IF(LEN(Audit1!$E$9)=0,"Empty Form...","1. "& Audit1!$E$9) -> 1. Office | E8: =IF(LEN(Audit1!$C$10)=0,"",Audit1!$C$10) -> 44636 | F8: =Audit1!$J$13 -> 0.84 | H8: All | J8: All | L8: All | N8: All
D9: =IF(LEN(Audit2!$E$9)=0,"Empty Form...","2. "&Audit2!$E$9) -> 2. Manufacturing | E9: =IF(LEN(Audit2!$C$10)=0,"",Audit2!$C$10) -> 44576 | F9: =Audit2!$J$13 -> 0.75
D10: =IF(LEN(Audit3!$E$9)=0,"Empty Form...","3. "&Audit3!$E$9) -> 3. Manufacturing | E10: =IF(LEN(Audit3!$C$10)=0,"",Audit3!$C$10) -> 44666 | F10: =Audit3!$J$13 -> 0.9
D11: =IF(LEN(Audit4!$E$9)=0,"Empty Form...","4. " &Audit4!$E$9) -> 4. Manufacturing | E11: =IF(LEN(Audit4!$C$10)=0,"",Audit4!$C$10) -> 44819 | F11: =Audit4!$J$13 -> 0.49
D12: =IF(LEN(Audit5!$E$9)=0,"Empty Form...","5. "&Audit5!$E$9) -> 5. Manufacturing | E12: =IF(LEN(Audit5!$C$10)=0,"",Audit5!$C$10) -> 44910 | F12: =Audit5!$J$13
D13: =IF(LEN(Audit6!$E$9)=0,"Empty Form...","6. "& Audit6!$E$9) -> 6. Laboratory | E13: =IF(LEN(Audit6!$C$10)=0,"",Audit6!$C$10) -> 44896 | F13: =Audit6!$J$13
D14: =IF(LEN(Audit7!$E$9)=0,"Empty Form...","7. " & Audit7!$E$9) -> 7. Classroom | E14: =IF(LEN(Audit7!$C$10)=0,"",Audit7!$C$10) -> 44835 | F14: =Audit7!$J$13
D15: =IF(LEN(Audit8!$E$9)=0,"Empty Form...","8. " & Audit8!$E$9) -> 8. Office | E15: =IF(LEN(Audit8!$C$10)=0,"",Audit8!$C$10) -> 44805 | F15: =Audit8!$J$13
D16: =IF(LEN(Audit9!$E$9)=0,"Empty Form...","9. " & Audit9!$E$9) -> 9. IT Project | E16: =IF(LEN(Audit9!$C$10)=0,"",Audit9!$C$10) -> 44819 | F16: =Audit9!$J$13
D17: =IF(LEN(Audit10!$E$9)=0,"Empty Form...","10. " & Audit10!$E$9) -> Empty Form... | E17: =IF(LEN(Audit10!$C$10)=0,"",Audit10!$C$10) | F17: =Audit10!$J$13
D18: =IF(LEN(Audit11!$E$9)=0,"Empty Form...","11. " &Audit11!$E$9) -> Empty Form... | E18: =IF(LEN(Audit11!$C$10)=0,"",Audit11!$C$10) | F18: =Audit11!$J$13
D19: =IF(LEN(Audit12!$E$9)=0,"Empty Form...","12. " & Audit12!$E$9) -> Empty Form... | E19: =IF(LEN(Audit12!$C$10)=0,"",Audit12!$C$10) | F19: =Audit12!$J$13

Sheet Settings
C2: 5S AUDIT SCORECARD EXCEL TEMPLATE
C3: SETTINGS
C7: AUDITORS | E7: AREA / WORK SPACE | G7: DESCRIPTION | H7: Evaluation | I7: Score
C8: Jemima Begum | E8: Office | G8: Terrible | H8: L1 | I8: 1
C9: Mercedes Banks | E9: Manufacturing | G9: Very poorly | H9: L2 | I9: 2
C10: Macauley Peck | E10: IT Project | G10: Well | H10: L3 | I10: 3
C11: Hannah Shaw | E11: Laboratory | G11: Very well | H11: L4 | I11: 4
C12: Carmel Beltran | E12: Classroom | G12: Perfect | H12: L5 | I12: 5
C13: Sarah-Jayne Morrison | G13: OK | H13: Yes | I13: 5
C14: Alice Milner | G14: NOK | H14: No | I14: 1
G15: Not applicable | H15: NA
G17: Final result | I17: %
G18: Professional | H18: >= | I18: 90
G19: Some small problems | H19: >= | I19: 80
G20: Need an improvement | H20: >= | I20: 70
G21: We have a problem! | H21: >= | I21: 50
G22: Not acceptable! | H22: < | I22: =I21 -> 50

Sheet Attachments
C2: 5S AUDIT SCORECARD EXCEL TEMPLATE
C3: ATTACHMENTS
C7: S # | D7: Audit# Question # | E7: Comment | F7: Photo | G7: Photo
C8: S1 | D8: Audit 1 1.1 | E8: No unused cables, computer parts, etc.
C9: S2 | D9: Audit 3 2.1 | E9: Safety equipment and supplies are dirty and incomplete.
C10: S3
C11: S4

Sheet Audit1
C2: 5S AUDIT SCORECARD EXCEL TEMPLATE
C3: AUDIT #1 FORM
C7: ="5S " & E9 & " Area Audit" -> 5S Office Area Audit
C9: Date | D9: Audit Area | E9: Office | J9: Total score
C10: 44636 | D10: Work station | E10: Random desk in the open space | J10: =SUM(H16:H199) -> 92
C12: Month | D12: 5s Auditor | E12: Jemima Begum | J12: Final result
C13: =IFERROR(IF(ISNUMBER(C10),IF(C12="Month",INDEX(monthsList,MONTH(C10),1),IF(MONTH(C10)<4,"Q1",IF(MONTH(C10)<7,"Q2",IF(MONTH(C10)<10,"Q3","Q4")))),""),"") -> March | D13: 5s Leader | E13: Jane Best | J13: =IFERROR(ROUND(J10/(COUNT(H16:H199)*maxscore),2),"") -> 0.84
C15: 1S - SORT | D15: Subarea | E15: Questions | F15: Notes | G15: Result | H15: Score | I15: Total Score | J15: %
C16: =IF(LEN(E16)>0,"1." & COUNTA($E$16:E16),"") -> 1.1 | D16: Computer | E16: No unused cables, computer parts, etc. | F16: unorganized wires under desk | G16: No | H16: =IFERROR(IF(OR(LEN(E16)=0,LEN(INDEX( scale[], MATCH(G16,scalename,0),3))=0),"",INDEX( scale[], MATCH(G16,scalename,0),3)),"") -> 1 | I16: =SUM(H16:H21) -> 19 | J16: =IFERROR(SUM(H16:H21)/(maxscore*(COUNT(H16:H21))),"") -> 0.76
C17: =IF(LEN(E17)>0,"1." & COUNTA($E$16:E17),"") -> 1.2 | D17: Computer | E17: No private documents | G17: L5 | H17: =IFERROR(IF(OR(LEN(E17)=0,LEN(INDEX( scale[], MATCH(G17,scalename,0),3))=0),"",INDEX( scale[], MATCH(G17,scalename,0),3)),"") -> 5
C18: =IF(LEN(E18)>0,"1." & COUNTA($E$16:E18),"") -> 1.3 | D18: Desk | E18: No excess documents, etc. | G18: L4 | H18: =IFERROR(IF(OR(LEN(E18)=0,LEN(INDEX( scale[], MATCH(G18,scalename,0),3))=0),"",INDEX( scale[], MATCH(G18,scalename,0),3)),"") -> 4
C19: =IF(LEN(E19)>0,"1." & COUNTA($E$16:E19),"") -> 1.4 | D19: Desk | E19: No irrelevant reference materials, documents, etc. | G19: NA | H19: =IFERROR(IF(OR(LEN(E19)=0,LEN(INDEX( scale[], MATCH(G19,scalename,0),3))=0),"",INDEX( scale[], MATCH(G19,scalename,0),3)),"")
C20: =IF(LEN(E20)>0,"1." & COUNTA($E$16:E20),"") -> 1.5 | D20: Desk | E20: No confidential data visible | G20: L4 | H20: =IFERROR(IF(OR(LEN(E20)=0,LEN(INDEX( scale[], MATCH(G20,scalename,0),3))=0),"",INDEX( scale[], MATCH(G20,scalename,0),3)),"") -> 4
C21: =IF(LEN(E21)>0,"1." & COUNTA($E$16:E21),"") -> 1.6 | D21: Desk | E21: Standards for eliminating unnecessary items exist and are being followed. | G21: Yes | H21: =IFERROR(IF(OR(LEN(E21)=0,LEN(INDEX( scale[], MATCH(G21,scalename,0),3))=0),"",INDEX( scale[], MATCH(G21,scalename,0),3)),"") -> 5
C42: 2S - SET | D42: Subarea | E42: Questions | F42: Notes | G42: Result | H42: Score | I42: Total Score | J42: %
C43: =IF(LEN(E43)>0,"2." & COUNTA($E$43:E43),"") -> 2.1 | D43: Desk | E43: Free of accumulations of papers and other objects. | G43: Yes | H43: =IFERROR(IF(OR(LEN(E43)=0,LEN(INDEX( scale[], MATCH(G43,scalename,0),3))=0),"",INDEX( scale[], MATCH(G43,scalename,0),3)),"") -> 5 | I43: =SUM(H43:H48) -> 22 | J43: =IFERROR(SUM(H43:H48)/(maxscore*(COUNT(H43:H48))),"") -> 0.88
C44: =IF(LEN(E44)>0,"2." & COUNTA($E$43:E44),"") -> 2.2 | D44: Drawers | E44: Free of accumulations of papers and other objects. | F44: Old outdated documents found. | G44: L3 | H44: =IFERROR(IF(OR(LEN(E44)=0,LEN(INDEX( scale[], MATCH(G44,scalename,0),3))=0),"",INDEX( scale[], MATCH(G44,scalename,0),3)),"") -> 3
C45: =IF(LEN(E45)>0,"2." & COUNTA($E$43:E45),"") -> 2.3 | D45: Desk | E45: All tools and equipment are stored in a fixed place. | G45: Yes | H45: =IFERROR(IF(OR(LEN(E45)=0,LEN(INDEX( scale[], MATCH(G45,scalename,0),3))=0),"",INDEX( scale[], MATCH(G45,scalename,0),3)),"") -> 5
C46: =IF(LEN(E46)>0,"2." & COUNTA($E$43:E46),"") -> 2.4 | D46: Desk | E46: Equipment well organized for ease of take and return. | G46: NA | H46: =IFERROR(IF(OR(LEN(E46)=0,LEN(INDEX( scale[], MATCH(G46,scalename,0),3))=0),"",INDEX( scale[], MATCH(G46,scalename,0),3)),"")
C47: =IF(LEN(E47)>0,"2." & COUNTA($E$43:E47),"") -> 2.5 | D47: Computer | E47: Displays are tidy, free of old unnecessary data. | G47: Yes | H47: =IFERROR(IF(OR(LEN(E47)=0,LEN(INDEX( scale[], MATCH(G47,scalename,0),3))=0),"",INDEX( scale[], MATCH(G47,scalename,0),3)),"") -> 5
C48: =IF(LEN(E48)>0,"2." & COUNTA($E$43:E48),"") -> 2.6 | D48: Open space | E48: Safety equipment easily accessible, in good condition. | G48: L4 | H48: =IFERROR(IF(OR(LEN(E48)=0,LEN(INDEX( scale[], MATCH(G48,scalename,0),3))=0),"",INDEX( scale[], MATCH(G48,scalename,0),3)),"") -> 4
C69: 3S - SHINE | D69: Subarea | E69: Questions | F69: Notes | G69: Result | H69: Score | I69: Total Score | J69: %
C70: =IF(LEN(E70)>0,"3." & COUNTA($E$70:E70),"") -> 3.1 | D70: Desk | E70: Desk, chair are free from dirt and dust. | G70: L4 | H70: =IFERROR(IF(OR(LEN(E70)=0,LEN(INDEX( scale[], MATCH(G70,scalename,0),3))=0),"",INDEX( scale[], MATCH(G70,scalename,0),3)),"") -> 4 | I70: =SUM(H70:H75) -> 21 | J70: =IFERROR(SUM(H70:H75)/(maxscore*(COUNT(H70:H75))),"") -> 0.84
C71: =IF(LEN(E71)>0,"3." & COUNTA($E$70:E71),"") -> 3.2 | D71: Computer | E71: Equipment and tools are clean and in good condition. | G71: L3 | H71: =IFERROR(IF(OR(LEN(E71)=0,LEN(INDEX( scale[], MATCH(G71,scalename,0),3))=0),"",INDEX( scale[], MATCH(G71,scalename,0),3)),"") -> 3
C72: =IF(LEN(E72)>0,"3." & COUNTA($E$70:E72),"") -> 3.3 | D72: Open space | E72: The floor is kept clean and no signs of damage. | G72: L4 | H72: =IFERROR(IF(OR(LEN(E72)=0,LEN(INDEX( scale[], MATCH(G72,scalename,0),3))=0),"",INDEX( scale[], MATCH(G72,scalename,0),3)),"") -> 4
C73: =IF(LEN(E73)>0,"3." & COUNTA($E$70:E73),"") -> 3.4 | D73: Desk | E73: Cabinets are kept clean and in good condition. | G73: Yes | H73: =IFERROR(IF(OR(LEN(E73)=0,LEN(INDEX( scale[], MATCH(G73,scalename,0),3))=0),"",INDEX( scale[], MATCH(G73,scalename,0),3)),"") -> 5
C74: =IF(LEN(E74)>0,"3." & COUNTA($E$70:E74),"") -> 3.5 | D74: Open space | E74: Lighting is enough and the angle and intensity of illumination are appropriate. | G74: NA | H74: =IFERROR(IF(OR(LEN(E74)=0,LEN(INDEX( scale[], MATCH(G74,scalename,0),3))=0),"",INDEX( scale[], MATCH(G74,scalename,0),3)),"")
C75: =IF(LEN(E75)>0,"3." & COUNTA($E$70:E75),"") -> 3.6 | D75: Open space | E75: Good movement of air exists through the room. | F75: Air condition does not keep the set temperature. | G75: Yes | H75: =IFERROR(IF(OR(LEN(E75)=0,LEN(INDEX( scale[], MATCH(G75,scalename,0),3))=0),"",INDEX( scale[], MATCH(G75,scalename,0),3)),"") -> 5
C96: 4S - STANDARDIZE | D96: Subarea | E96: Questions | F96: Notes | G96: Result | H96: Score | I96: Total Score | J96: %
C97: =IF(LEN(E97)>0,"4." & COUNTA($E$97:E97),"") -> 4.1 | D97: Open space | E97: Visual controls and display boards are used and regularly updated. | G97: L2 | H97: =IFERROR(IF(OR(LEN(E97)=0,LEN(INDEX( scale[], MATCH(G97,scalename,0),3))=0),"",INDEX( scale[], MATCH(G97,scalename,0),3)),"") -> 2 | I97: =SUM(H97:H102) -> 16 | J97: =IFERROR(SUM(H97:H102)/(maxscore*(COUNT(H97:H102))),"") -> 0.8
C98: =IF(LEN(E98)>0,"4." & COUNTA($E$97:E98),"") -> 4.2 | D98: Open space | E98: Procedures for maintaining the first three S's are being displayed. | G98: L5 | H98: =IFERROR(IF(OR(LEN(E98)=0,LEN(INDEX( scale[], MATCH(G98,scalename,0),3))=0),"",INDEX( scale[], MATCH(G98,scalename,0),3)),"") -> 5
C99: =IF(LEN(E99)>0,"4." & COUNTA($E$97:E99),"") -> 4.3 | D99: Open space | E99: Everyone knows his responsibilities, when and how. | G99: L4 | H99: =IFERROR(IF(OR(LEN(E99)=0,LEN(INDEX( scale[], MATCH(G99,scalename,0),3))=0),"",INDEX( scale[], MATCH(G99,scalename,0),3)),"") -> 4
C100: =IF(LEN(E100)>0,"4." & COUNTA($E$97:E100),"") -> 4.4 | D100: Open space | E100: Regular audits are taking place using checklists and measures. | G100: Yes | H100: =IFERROR(IF(OR(LEN(E100)=0,LEN(INDEX( scale[], MATCH(G100,scalename,0),3))=0),"",INDEX( scale[], MATCH(G100,scalename,0),3)),"") -> 5
C101: =IF(LEN(E101)>0,"4." & COUNTA($E$97:E101),"") | H101: =IFERROR(IF(OR(LEN(E101)=0,LEN(INDEX( scale[], MATCH(G101,scalename,0),3))=0),"",INDEX( scale[], MATCH(G101,scalename,0),3)),"")
C102: =IF(LEN(E102)>0,"4." & COUNTA($E$97:E102),"") | H102: =IFERROR(IF(OR(LEN(E102)=0,LEN(INDEX( scale[], MATCH(G102,scalename,0),3))=0),"",INDEX( scale[], MATCH(G102,scalename,0),3)),"")
C123: 5S - SUSTAIN | D123: Subarea | E123: Questions | F123: Notes | G123: Result | H123: Score | I123: Total Score | J123: %
C124: =IF(LEN(E124)>0,"5." & COUNTA($E$124:E124),"") -> 5.1 | E124: 5S seems to be the way of life rather than just a routine. | G124: L4 | H124: =IFERROR(IF(OR(LEN(E124)=0,LEN(INDEX( scale[], MATCH(G124,scalename,0),3))=0),"",INDEX( scale[], MATCH(G124,scalename,0),3)),"") -> 4 | I124: =SUM(H124:H129) -> 14 | J124: =IFERROR(SUM(H124:H129)/(maxscore*(COUNT(H124:H129))),"") -> 0.93333333
C125: =IF(LEN(E125)>0,"5." & COUNTA($E$124:E125),"") -> 5.2 | E125: Success stories are being displayed (i.e. before and after pictures). | G125: L5 | H125: =IFERROR(IF(OR(LEN(E125)=0,LEN(INDEX( scale[], MATCH(G125,scalename,0),3))=0),"",INDEX( scale[], MATCH(G125,scalename,0),3)),"") -> 5
C126: =IF(LEN(E126)>0,"5." & COUNTA($E$124:E126),"") -> 5.3 | E126: Rewards and recognition is part of the 5S system. | G126: Yes | H126: =IFERROR(IF(OR(LEN(E126)=0,LEN(INDEX( scale[], MATCH(G126,scalename,0),3))=0),"",INDEX( scale[], MATCH(G126,scalename,0),3)),"") -> 5
C127: =IF(LEN(E127)>0,"5." & COUNTA($E$124:E127),"") | H127: =IFERROR(IF(OR(LEN(E127)=0,LEN(INDEX( scale[], MATCH(G127,scalename,0),3))=0),"",INDEX( scale[], MATCH(G127,scalename,0),3)),"")
C128: =IF(LEN(E128)>0,"5." & COUNTA($E$124:E128),"") | H128: =IFERROR(IF(OR(LEN(E128)=0,LEN(INDEX( scale[], MATCH(G128,scalename,0),3))=0),"",INDEX( scale[], MATCH(G128,scalename,0),3)),"")
C129: =IF(LEN(E129)>0,"5." & COUNTA($E$124:E129),"") | H129: =IFERROR(IF(OR(LEN(E129)=0,LEN(INDEX( scale[], MATCH(G129,scalename,0),3))=0),"",INDEX( scale[], MATCH(G129,scalename,0),3)),"")

Sheet Audit2
C2: 5S AUDIT SCORECARD EXCEL TEMPLATE
C3: AUDIT #2 FORM
C7: ="5S " & E9 & " Area Audit" -> 5S Manufacturing Area Audit
C9: Date | D9: Audit Area | E9: Manufacturing | J9: Total score
C10: 44576 | D10: Work station | E10: Sealing | J10: =SUM(H16:H199) -> 79
C12: Quarter | D12: 5s Auditor | E12: Mercedes Banks | J12: Final result
C13: =IFERROR(IF(ISNUMBER(C10),IF(C12="Month",INDEX(monthsList,MONTH(C10),1),IF(MONTH(C10)<4,"Q1",IF(MONTH(C10)<7,"Q2",IF(MONTH(C10)<10,"Q3","Q4")))),""),"") -> Q1 | D13: 5s Leader | E13: Jane Best | J13: =IFERROR(ROUND(J10/(COUNT(H16:H199)*maxscore),2),"") -> 0.75
C15: 1S - SORT | D15: Subarea | E15: Questions | F15: Notes | G15: Result | H15: Score | I15: Total Score | J15: %
C16: =IF(LEN(E16)>0,"1." & COUNTA($E$16:E16),"") -> 1.1 | E16: No unnecessary items are left or stored in the workplace. | G16: No | H16: =IFERROR(IF(OR(LEN(E16)=0,LEN(INDEX( scale[], MATCH(G16,scalename,0),3))=0),"",INDEX( scale[], MATCH(G16,scalename,0),3)),"") -> 1 | I16: =SUM(H16:H21) -> 13 | J16: =IFERROR(SUM(H16:H21)/(maxscore*(COUNT(H16:H21))),"") -> 0.65
C17: =IF(LEN(E17)>0,"1." & COUNTA($E$16:E17),"") -> 1.2 | E17: All machines and pieces of equipment are in regular use. | G17: L3 | H17: =IFERROR(IF(OR(LEN(E17)=0,LEN(INDEX( scale[], MATCH(G17,scalename,0),3))=0),"",INDEX( scale[], MATCH(G17,scalename,0),3)),"") -> 3
C18: =IF(LEN(E18)>0,"1." & COUNTA($E$16:E18),"") -> 1.3 | E18: All tools, fixtures and fittings are in regular use. | G18: L5 | H18: =IFERROR(IF(OR(LEN(E18)=0,LEN(INDEX( scale[], MATCH(G18,scalename,0),3))=0),"",INDEX( scale[], MATCH(G18,scalename,0),3)),"") -> 5
C19: =IF(LEN(E19)>0,"1." & COUNTA($E$16:E19),"") -> 1.4 | E19: Storage area is defined to store broken, unusable or occasionally used items. | G19: NA | H19: =IFERROR(IF(OR(LEN(E19)=0,LEN(INDEX( scale[], MATCH(G19,scalename,0),3))=0),"",INDEX( scale[], MATCH(G19,scalename,0),3)),"")
C20: =IF(LEN(E20)>0,"1." & COUNTA($E$16:E20),"") -> 1.5 | E20: Standards for eliminating unnecessary items exist and are being followed. | G20: L4 | H20: =IFERROR(IF(OR(LEN(E20)=0,LEN(INDEX( scale[], MATCH(G20,scalename,0),3))=0),"",INDEX( scale[], MATCH(G20,scalename,0),3)),"") -> 4
C21: =IF(LEN(E21)>0,"1." & COUNTA($E$16:E21),"") | G21: Yes | H21: =IFERROR(IF(OR(LEN(E21)=0,LEN(INDEX( scale[], MATCH(G21,scalename,0),3))=0),"",INDEX( scale[], MATCH(G21,scalename,0),3)),"")
C42: 2S - SET | D42: Subarea | E42: Questions | F42: Notes | G42: Result | H42: Score | I42: Total Score | J42: %
C43: =IF(LEN(E43)>0,"2." & COUNTA($E$43:E43),"") -> 2.1 | E43: Locations of tools and equipment are clear and well organized. | G43: Yes | H43: =IFERROR(IF(OR(LEN(E43)=0,LEN(INDEX( scale[], MATCH(G43,scalename,0),3))=0),"",INDEX( scale[], MATCH(G43,scalename,0),3)),"") -> 5 | I43: =SUM(H43:H48) -> 20 | J43: =IFERROR(SUM(H43:H48)/(maxscore*(COUNT(H43:H48))),"") -> 0.8
C44: =IF(LEN(E44)>0,"2." & COUNTA($E$43:E44),"") -> 2.2 | E44: Locations of materials and products are clear and well organized. | G44: L3 | H44: =IFERROR(IF(OR(LEN(E44)=0,LEN(INDEX( scale[], MATCH(G44,scalename,0),3))=0),"",INDEX( scale[], MATCH(G44,scalename,0),3)),"") -> 3
C45: =IF(LEN(E45)>0,"2." & COUNTA($E$43:E45),"") -> 2.3 | E45: Labels exist to indicate locations, containers, boxes, shelves and stored items. | G45: L4 | H45: =IFERROR(IF(OR(LEN(E45)=0,LEN(INDEX( scale[], MATCH(G45,scalename,0),3))=0),"",INDEX( scale[], MATCH(G45,scalename,0),3)),"") -> 4
C46: =IF(LEN(E46)>0,"2." & COUNTA($E$43:E46),"") -> 2.4 | E46: Evidence of inventory control exists (i.e. Kanban cards, FIFO, minimum/maximum, etc.). | G46: NA | H46: =IFERROR(IF(OR(LEN(E46)=0,LEN(INDEX( scale[], MATCH(G46,scalename,0),3))=0),"",INDEX( scale[], MATCH(G46,scalename,0),3)),"")
C47: =IF(LEN(E47)>0,"2." & COUNTA($E$43:E47),"") -> 2.5 | E47: Dividing lines are clearly identified and clean as per standard. | G47: L4 | H47: =IFERROR(IF(OR(LEN(E47)=0,LEN(INDEX( scale[], MATCH(G47,scalename,0),3))=0),"",INDEX( scale[], MATCH(G47,scalename,0),3)),"") -> 4
C48: =IF(LEN(E48)>0,"2." & COUNTA($E$43:E48),"") -> 2.6 | E48: Safety equipment and supplies are clear and in good condition. | G48: L4 | H48: =IFERROR(IF(OR(LEN(E48)=0,LEN(INDEX( scale[], MATCH(G48,scalename,0),3))=0),"",INDEX( scale[], MATCH(G48,scalename,0),3)),"") -> 4
C69: 3S - SHINE | D69: Subarea | E69: Questions | F69: Notes | G69: Result | H69: Score | I69: Total Score | J69: %
C70: =IF(LEN(E70)>0,"3." & COUNTA($E$70:E70),"") -> 3.1 | E70: Floors, walls, ceilings and pipework are in good condition and free from dirt and dust. | G70: L4 | H70: =IFERROR(IF(OR(LEN(E70)=0,LEN(INDEX( scale[], MATCH(G70,scalename,0),3))=0),"",INDEX( scale[], MATCH(G70,scalename,0),3)),"") -> 4 | I70: =SUM(H70:H75) -> 20 | J70: =IFERROR(SUM(H70:H75)/(maxscore*(COUNT(H70:H75))),"") -> 0.8
C71: =IF(LEN(E71)>0,"3." & COUNTA($E$70:E71),"") -> 3.2 | E71: Racks, cabinets and shelves are kept clean. | G71: L5 | H71: =IFERROR(IF(OR(LEN(E71)=0,LEN(INDEX( scale[], MATCH(G71,scalename,0),3))=0),"",INDEX( scale[], MATCH(G71,scalename,0),3)),"") -> 5
C72: =IF(LEN(E72)>0,"3." & COUNTA($E$70:E72),"") -> 3.3 | E72: Machines, equipment and tools are kept clean. | G72: L4 | H72: =IFERROR(IF(OR(LEN(E72)=0,LEN(INDEX( scale[], MATCH(G72,scalename,0),3))=0),"",INDEX( scale[], MATCH(G72,scalename,0),3)),"") -> 4
C73: =IF(LEN(E73)>0,"3." & COUNTA($E$70:E73),"") -> 3.4 | E73: Stored items, materials and products are kept clean. | G73: Yes | H73: =IFERROR(IF(OR(LEN(E73)=0,LEN(INDEX( scale[], MATCH(G73,scalename,0),3))=0),"",INDEX( scale[], MATCH(G73,scalename,0),3)),"") -> 5
C74: =IF(LEN(E74)>0,"3." & COUNTA($E$70:E74),"") -> 3.5 | E74: Lighting is enough and all lighting is free from dust. | G74: NA | H74: =IFERROR(IF(OR(LEN(E74)=0,LEN(INDEX( scale[], MATCH(G74,scalename,0),3))=0),"",INDEX( scale[], MATCH(G74,scalename,0),3)),"")
C75: =IF(LEN(E75)>0,"3." & COUNTA($E$70:E75),"") -> 3.6 | E75: Cleaning tools and materials are easily accessible. | G75: L2 | H75: =IFERROR(IF(OR(LEN(E75)=0,LEN(INDEX( scale[], MATCH(G75,scalename,0),3))=0),"",INDEX( scale[], MATCH(G75,scalename,0),3)),"") -> 2
C96: 4S - STANDARDIZE | D96: Subarea | E96: Questions | F96: Notes | G96: Result | H96: Score | I96: Total Score | J96: %
C97: =IF(LEN(E97)>0,"4." & COUNTA($E$97:E97),"") -> 4.1 | E97: Visual controls and display boards are used and regularly updated. | G97: L3 | H97: =IFERROR(IF(OR(LEN(E97)=0,LEN(INDEX( scale[], MATCH(G97,scalename,0),3))=0),"",INDEX( scale[], MATCH(G97,scalename,0),3)),"") -> 3 | I97: =SUM(H97:H102) -> 14 | J97: =IFERROR(SUM(H97:H102)/(maxscore*(COUNT(H97:H102))),"") -> 0.7
C98: =IF(LEN(E98)>0,"4." & COUNTA($E$97:E98),"") -> 4.2 | E98: Procedures for maintaining the first three S's are being displayed. | G98: L5 | H98: =IFERROR(IF(OR(LEN(E98)=0,LEN(INDEX( scale[], MATCH(G98,scalename,0),3))=0),"",INDEX( scale[], MATCH(G98,scalename,0),3)),"") -> 5
C99: =IF(LEN(E99)>0,"4." & COUNTA($E$97:E99),"") -> 4.3 | E99: 5S checklists, schedules and routines are defined and being used. | G99: No | H99: =IFERROR(IF(OR(LEN(E99)=0,LEN(INDEX( scale[], MATCH(G99,scalename,0),3))=0),"",INDEX( scale[], MATCH(G99,scalename,0),3)),"") -> 1
C100: =IF(LEN(E100)>0,"4." & COUNTA($E$97:E100),"") -> 4.4 | E100: Everyone knows his responsibilities, when and how. | G100: Yes | H100: =IFERROR(IF(OR(LEN(E100)=0,LEN(INDEX( scale[], MATCH(G100,scalename,0),3))=0),"",INDEX( scale[], MATCH(G100,scalename,0),3)),"") -> 5
C101: =IF(LEN(E101)>0,"4." & COUNTA($E$97:E101),"") -> 4.5 | E101: Regular audits are taking place using checklists and measures. | H101: =IFERROR(IF(OR(LEN(E101)=0,LEN(INDEX( scale[], MATCH(G101,scalename,0),3))=0),"",INDEX( scale[], MATCH(G101,scalename,0),3)),"")
C102: =IF(LEN(E102)>0,"4." & COUNTA($E$97:E102),"") | H102: =IFERROR(IF(OR(LEN(E102)=0,LEN(INDEX( scale[], MATCH(G102,scalename,0),3))=0),"",INDEX( scale[], MATCH(G102,scalename,0),3)),"")
C123: 5S - SUSTAIN | D123: Subarea | E123: Questions | F123: Notes | G123: Result | H123: Score | I123: Total Score | J123: %
C124: =IF(LEN(E124)>0,"5." & COUNTA($E$124:E124),"") -> 5.1 | E124: 5S seems to be the way of life rather than just a routine. | G124: L5 | H124: =IFERROR(IF(OR(LEN(E124)=0,LEN(INDEX( scale[], MATCH(G124,scalename,0),3))=0),"",INDEX( scale[], MATCH(G124,scalename,0),3)),"") -> 5 | I124: =SUM(H124:H129) -> 12 | J124: =IFERROR(SUM(H124:H129)/(maxscore*(COUNT(H124:H129))),"") -> 0.8
C125: =IF(LEN(E125)>0,"5." & COUNTA($E$124:E125),"") -> 5.2 | E125: Success stories are being displayed (i.e. before and after pictures). | G125: L3 | H125: =IFERROR(IF(OR(LEN(E125)=0,LEN(INDEX( scale[], MATCH(G125,scalename,0),3))=0),"",INDEX( scale[], MATCH(G125,scalename,0),3)),"") -> 3
C126: =IF(LEN(E126)>0,"5." & COUNTA($E$124:E126),"") -> 5.3 | E126: Rewards and recognition is part of the 5S system. | G126: L4 | H126: =IFERROR(IF(OR(LEN(E126)=0,LEN(INDEX( scale[], MATCH(G126,scalename,0),3))=0),"",INDEX( scale[], MATCH(G126,scalename,0),3)),"") -> 4
C127: =IF(LEN(E127)>0,"5." & COUNTA($E$124:E127),"") | H127: =IFERROR(IF(OR(LEN(E127)=0,LEN(INDEX( scale[], MATCH(G127,scalename,0),3))=0),"",INDEX( scale[], MATCH(G127,scalename,0),3)),"")
C128: =IF(LEN(E128)>0,"5." & COUNTA($E$124:E128),"") | H128: =IFERROR(IF(OR(LEN(E128)=0,LEN(INDEX( scale[], MATCH(G128,scalename,0),3))=0),"",INDEX( scale[], MATCH(G128,scalename,0),3)),"")
C129: =IF(LEN(E129)>0,"5." & COUNTA($E$124:E129),"") | H129: =IFERROR(IF(OR(LEN(E129)=0,LEN(INDEX( scale[], MATCH(G129,scalename,0),3))=0),"",INDEX( scale[], MATCH(G129,scalename,0),3)),"")

Sheet Audit3
C2: 5S AUDIT SCORECARD EXCEL TEMPLATE
C3: AUDIT #3 FORM
C7: ="5S " & E9 & " Area Audit" -> 5S Manufacturing Area Audit
C9: Date | D9: Audit Area | E9: Manufacturing | J9: Total score
C10: 44666 | D10: Work station | E10: Sealing | J10: =SUM(H16:H199) -> 103
C12: Quarter | D12: 5s Auditor | E12: Hannah Shaw | J12: Final result
C13: =IFERROR(IF(ISNUMBER(C10),IF(C12="Month",INDEX(monthsList,MONTH(C10),1),IF(MONTH(C10)<4,"Q1",IF(MONTH(C10)<7,"Q2",IF(MONTH(C10)<10,"Q3","Q4")))),""),"") -> Q2 | D13: 5s Leader | E13: Jane Best | J13: =IFERROR(ROUND(J10/(COUNT(H16:H199)*maxscore),2),"") -> 0.9
C15: 1S - SORT | D15: Subarea | E15: Questions | F15: Notes | G15: Result | H15: Score | I15: Total Score | J15: %
C16: =IF(LEN(E16)>0,"1." & COUNTA($E$16:E16),"") -> 1.1 | E16: No unnecessary items are left or stored in the workplace. | G16: Yes | H16: =IFERROR(IF(OR(LEN(E16)=0,LEN(INDEX( scale[], MATCH(G16,scalename,0),3))=0),"",INDEX( scale[], MATCH(G16,scalename,0),3)),"") -> 5 | I16: =SUM(H16:H21) -> 23 | J16: =IFERROR(SUM(H16:H21)/(maxscore*(COUNT(H16:H21))),"") -> 0.92
C17: =IF(LEN(E17)>0,"1." & COUNTA($E$16:E17),"") -> 1.2 | E17: All machines and pieces of equipment are in regular use. | G17: Yes | H17: =IFERROR(IF(OR(LEN(E17)=0,LEN(INDEX( scale[], MATCH(G17,scalename,0),3))=0),"",INDEX( scale[], MATCH(G17,scalename,0),3)),"") -> 5
C18: =IF(LEN(E18)>0,"1." & COUNTA($E$16:E18),"") -> 1.3 | E18: All tools, fixtures and fittings are in regular use. | G18: Yes | H18: =IFERROR(IF(OR(LEN(E18)=0,LEN(INDEX( scale[], MATCH(G18,scalename,0),3))=0),"",INDEX( scale[], MATCH(G18,scalename,0),3)),"") -> 5
C19: =IF(LEN(E19)>0,"1." & COUNTA($E$16:E19),"") -> 1.4 | E19: Storage area is defined to store broken, unusable or occasionally used items. | G19: L4 | H19: =IFERROR(IF(OR(LEN(E19)=0,LEN(INDEX( scale[], MATCH(G19,scalename,0),3))=0),"",INDEX( scale[], MATCH(G19,scalename,0),3)),"") -> 4
C20: =IF(LEN(E20)>0,"1." & COUNTA($E$16:E20),"") -> 1.5 | E20: Standards for eliminating unnecessary items exist and are being followed. | G20: L4 | H20: =IFERROR(IF(OR(LEN(E20)=0,LEN(INDEX( scale[], MATCH(G20,scalename,0),3))=0),"",INDEX( scale[], MATCH(G20,scalename,0),3)),"") -> 4
C21: =IF(LEN(E21)>0,"1." & COUNTA($E$16:E21),"") | G21: Yes | H21: =IFERROR(IF(OR(LEN(E21)=0,LEN(INDEX( scale[], MATCH(G21,scalename,0),3))=0),"",INDEX( scale[], MATCH(G21,scalename,0),3)),"")
C42: 2S - SET | D42: Subarea | E42: Questions | F42: Notes | G42: Result | H42: Score | I42: Total Score | J42: %
C43: =IF(LEN(E43)>0,"2." & COUNTA($E$43:E43),"") -> 2.1 | E43: Locations of tools and equipment are clear and well organized. | G43: Yes | H43: =IFERROR(IF(OR(LEN(E43)=0,LEN(INDEX( scale[], MATCH(G43,scalename,0),3))=0),"",INDEX( scale[], MATCH(G43,scalename,0),3)),"") -> 5 | I43: =SUM(H43:H48) -> 26 | J43: =IFERROR(SUM(H43:H48)/(maxscore*(COUNT(H43:H48))),"") -> 0.86666667
C44: =IF(LEN(E44)>0,"2." & COUNTA($E$43:E44),"") -> 2.2 | E44: Locations of materials and products are clear and well organized. | G44: L5 | H44: =IFERROR(IF(OR(LEN(E44)=0,LEN(INDEX( scale[], MATCH(G44,scalename,0),3))=0),"",INDEX( scale[], MATCH(G44,scalename,0),3)),"") -> 5
C45: =IF(LEN(E45)>0,"2." & COUNTA($E$43:E45),"") -> 2.3 | E45: Labels exist to indicate locations, containers, boxes, shelves and stored items. | G45: Yes | H45: =IFERROR(IF(OR(LEN(E45)=0,LEN(INDEX( scale[], MATCH(G45,scalename,0),3))=0),"",INDEX( scale[], MATCH(G45,scalename,0),3)),"") -> 5
C46: =IF(LEN(E46)>0,"2." & COUNTA($E$43:E46),"") -> 2.4 | E46: Evidence of inventory control exists (i.e. Kanban cards, FIFO, minimum/maximum, etc.). | G46: Yes | H46: =IFERROR(IF(OR(LEN(E46)=0,LEN(INDEX( scale[], MATCH(G46,scalename,0),3))=0),"",INDEX( scale[], MATCH(G46,scalename,0),3)),"") -> 5
C47: =IF(LEN(E47)>0,"2." & COUNTA($E$43:E47),"") -> 2.5 | E47: Dividing lines are clearly identified and clean as per standard. | G47: L4 | H47: =IFERROR(IF(OR(LEN(E47)=0,LEN(INDEX( scale[], MATCH(G47,scalename,0),3))=0),"",INDEX( scale[], MATCH(G47,scalename,0),3)),"") -> 4
C48: =IF(LEN(E48)>0,"2." & COUNTA($E$43:E48),"") -> 2.6 | E48: Safety equipment and supplies are clear and in good condition. | G48: L2 | H48: =IFERROR(IF(OR(LEN(E48)=0,LEN(INDEX( scale[], MATCH(G48,scalename,0),3))=0),"",INDEX( scale[], MATCH(G48,scalename,0),3)),"") -> 2
C69: 3S - SHINE | D69: Subarea | E69: Questions | F69: Notes | G69: Result | H69: Score | I69: Total Score | J69: %
C70: =IF(LEN(E70)>0,"3." & COUNTA($E$70:E70),"") -> 3.1 | E70: Floors, walls, ceilings and pipework are in good condition and free from dirt and dust. | G70: L4 | H70: =IFERROR(IF(OR(LEN(E70)=0,LEN(INDEX( scale[], MATCH(G70,scalename,0),3))=0),"",INDEX( scale[], MATCH(G70,scalename,0),3)),"") -> 4 | I70: =SUM(H70:H75) -> 22 | J70: =IFERROR(SUM(H70:H75)/(maxscore*(COUNT(H70:H75))),"") -> 0.88
C71: =IF(LEN(E71)>0,"3." & COUNTA($E$70:E71),"") -> 3.2 | E71: Racks, cabinets and shelves are kept clean. | G71: L5 | H71: =IFERROR(IF(OR(LEN(E71)=0,LEN(INDEX( scale[], MATCH(G71,scalename,0),3))=0),"",INDEX( scale[], MATCH(G71,scalename,0),3)),"") -> 5
C72: =IF(LEN(E72)>0,"3." & COUNTA($E$70:E72),"") -> 3.3 | E72: Machines, equipment and tools are kept clean. | G72: L4 | H72: =IFERROR(IF(OR(LEN(E72)=0,LEN(INDEX( scale[], MATCH(G72,scalename,0),3))=0),"",INDEX( scale[], MATCH(G72,scalename,0),3)),"") -> 4
C73: =IF(LEN(E73)>0,"3." & COUNTA($E$70:E73),"") -> 3.4 | E73: Stored items, materials and products are kept clean. | G73: Yes | H73: =IFERROR(IF(OR(LEN(E73)=0,LEN(INDEX( scale[], MATCH(G73,scalename,0),3))=0),"",INDEX( scale[], MATCH(G73,scalename,0),3)),"") -> 5
C74: =IF(LEN(E74)>0,"3." & COUNTA($E$70:E74),"") -> 3.5 | E74: Lighting is enough and all lighting is free from dust. | G74: NA | H74: =IFERROR(IF(OR(LEN(E74)=0,LEN(INDEX( scale[], MATCH(G74,scalename,0),3))=0),"",INDEX( scale[], MATCH(G74,scalename,0),3)),"")
C75: =IF(LEN(E75)>0,"3." & COUNTA($E$70:E75),"") -> 3.6 | E75: Cleaning tools and materials are easily accessible. | G75: L4 | H75: =IFERROR(IF(OR(LEN(E75)=0,LEN(INDEX( scale[], MATCH(G75,scalename,0),3))=0),"",INDEX( scale[], MATCH(G75,scalename,0),3)),"") -> 4
C96: 4S - STANDARDIZE | D96: Subarea | E96: Questions | F96: Notes | G96: Result | H96: Score | I96: Total Score | J96: %
C97: =IF(LEN(E97)>0,"4." & COUNTA($E$97:E97),"") -> 4.1 | E97: Visual controls and display boards are used and regularly updated. | G97: L4 | H97: =IFERROR(IF(OR(LEN(E97)=0,LEN(INDEX( scale[], MATCH(G97,scalename,0),3))=0),"",INDEX( scale[], MATCH(G97,scalename,0),3)),"") -> 4 | I97: =SUM(H97:H102) -> 18 | J97: =IFERROR(SUM(H97:H102)/(maxscore*(COUNT(H97:H102))),"") -> 0.9
C98: =IF(LEN(E98)>0,"4." & COUNTA($E$97:E98),"") -> 4.2 | E98: Procedures for maintaining the first three S's are being displayed. | G98: L5 | H98: =IFERROR(IF(OR(LEN(E98)=0,LEN(INDEX( scale[], MATCH(G98,scalename,0),3))=0),"",INDEX( scale[], MATCH(G98,scalename,0),3)),"") -> 5
C99: =IF(LEN(E99)>0,"4." & COUNTA($E$97:E99),"") -> 4.3 | E99: 5S checklists, schedules and routines are defined and being used. | G99: L4 | H99: =IFERROR(IF(OR(LEN(E99)=0,LEN(INDEX( scale[], MATCH(G99,scalename,0),3))=0),"",INDEX( scale[], MATCH(G99,scalename,0),3)),"") -> 4
C100: =IF(LEN(E100)>0,"4." & COUNTA($E$97:E100),"") -> 4.4 | E100: Everyone knows his responsibilities, when and how. | G100: Yes | H100: =IFERROR(IF(OR(LEN(E100)=0,LEN(INDEX( scale[], MATCH(G100,scalename,0),3))=0),"",INDEX( scale[], MATCH(G100,scalename,0),3)),"") -> 5
C101: =IF(LEN(E101)>0,"4." & COUNTA($E$97:E101),"") -> 4.5 | E101: Regular audits are taking place using checklists and measures. | H101: =IFERROR(IF(OR(LEN(E101)=0,LEN(INDEX( scale[], MATCH(G101,scalename,0),3))=0),"",INDEX( scale[], MATCH(G101,scalename,0),3)),"")
C102: =IF(LEN(E102)>0,"4." & COUNTA($E$97:E102),"") | H102: =IFERROR(IF(OR(LEN(E102)=0,LEN(INDEX( scale[], MATCH(G102,scalename,0),3))=0),"",INDEX( scale[], MATCH(G102,scalename,0),3)),"")
C123: 5S - SUSTAIN | D123: Subarea | E123: Questions | F123: Notes | G123: Result | H123: Score | I123: Total Score | J123: %
C124: =IF(LEN(E124)>0,"5." & COUNTA($E$124:E124),"") -> 5.1 | E124: 5S seems to be the way of life rather than just a routine. | G124: Yes | H124: =IFERROR(IF(OR(LEN(E124)=0,LEN(INDEX( scale[], MATCH(G124,scalename,0),3))=0),"",INDEX( scale[], MATCH(G124,scalename,0),3)),"") -> 5 | I124: =SUM(H124:H129) -> 14 | J124: =IFERROR(SUM(H124:H129)/(maxscore*(COUNT(H124:H129))),"") -> 0.93333333
C125: =IF(LEN(E125)>0,"5." & COUNTA($E$124:E125),"") -> 5.2 | E125: Success stories are being displayed (i.e. before and after pictures). | G125: L5 | H125: =IFERROR(IF(OR(LEN(E125)=0,LEN(INDEX( scale[], MATCH(G125,scalename,0),3))=0),"",INDEX( scale[], MATCH(G125,scalename,0),3)),"") -> 5
C126: =IF(LEN(E126)>0,"5." & COUNTA($E$124:E126),"") -> 5.3 | E126: Rewards and recognition is part of the 5S system. | G126: L4 | H126: =IFERROR(IF(OR(LEN(E126)=0,LEN(INDEX( scale[], MATCH(G126,scalename,0),3))=0),"",INDEX( scale[], MATCH(G126,scalename,0),3)),"") -> 4
C127: =IF(LEN(E127)>0,"5." & COUNTA($E$124:E127),"") | H127: =IFERROR(IF(OR(LEN(E127)=0,LEN(INDEX( scale[], MATCH(G127,scalename,0),3))=0),"",INDEX( scale[], MATCH(G127,scalename,0),3)),"")
C128: =IF(LEN(E128)>0,"5." & COUNTA($E$124:E128),"") | H128: =IFERROR(IF(OR(LEN(E128)=0,LEN(INDEX( scale[], MATCH(G128,scalename,0),3))=0),"",INDEX( scale[], MATCH(G128,scalename,0),3)),"")
C129: =IF(LEN(E129)>0,"5." & COUNTA($E$124:E129),"") | H129: =IFERROR(IF(OR(LEN(E129)=0,LEN(INDEX( scale[], MATCH(G129,scalename,0),3))=0),"",INDEX( scale[], MATCH(G129,scalename,0),3)),"")

Sheet Audit4
C2: 5S AUDIT SCORECARD EXCEL TEMPLATE
C3: AUDIT #4 FORM
C7: ="5S " & E9 & " Area Audit" -> 5S Manufacturing Area Audit
C9: Date | D9: Audit Area | E9: Manufacturing | J9: Total score
C10: 44819 | D10: Work station | E10: Sealing | J10: =SUM(H16:H199) -> 56
C12: Quarter | D12: 5s Auditor | E12: Hannah Shaw | J12: Final result
C13: =IFERROR(IF(ISNUMBER(C10),IF(C12="Month",INDEX(monthsList,MONTH(C10),1),IF(MONTH(C10)<4,"Q1",IF(MONTH(C10)<7,"Q2",IF(MONTH(C10)<10,"Q3","Q4")))),""),"") -> Q3 | D13: 5s Leader | E13: Jane Best | J13: =IFERROR(ROUND(J10/(COUNT(H16:H199)*maxscore),2),"") -> 0.49
C15: 1S - SORT | D15: Subarea | E15: Questions | F15: Notes | G15: Result | H15: Score | I15: Total Score | J15: %
C16: =IF(LEN(E16)>0,"1." & COUNTA($E$16:E16),"") -> 1.1 | E16: No unnecessary items are left or stored in the workplace. | G16: L3 | H16: =IFERROR(IF(OR(LEN(E16)=0,LEN(INDEX( scale[], MATCH(G16,scalename,0),3))=0),"",INDEX( scale[], MATCH(G16,scalename,0),3)),"") -> 3 | I16: =SUM(H16:H21) -> 10 | J16: =IFERROR(SUM(H16:H21)/(maxscore*(COUNT(H16:H21))),"") -> 0.4
C17: =IF(LEN(E17)>0,"1." & COUNTA($E$16:E17),"") -> 1.2 | E17: All machines and pieces of equipment are in regular use. | G17: L4 | H17: =IFERROR(IF(OR(LEN(E17)=0,LEN(INDEX( scale[], MATCH(G17,scalename,0),3))=0),"",INDEX( scale[], MATCH(G17,scalename,0),3)),"") -> 4
C18: =IF(LEN(E18)>0,"1." & COUNTA($E$16:E18),"") -> 1.3 | E18: All tools, fixtures and fittings are in regular use. | G18: L1 | H18: =IFERROR(IF(OR(LEN(E18)=0,LEN(INDEX( scale[], MATCH(G18,scalename,0),3))=0),"",INDEX( scale[], MATCH(G18,scalename,0),3)),"") -> 1
C19: =IF(LEN(E19)>0,"1." & COUNTA($E$16:E19),"") -> 1.4 | E19: Storage area is defined to store broken, unusable or occasionally used items. | G19: No | H19: =IFERROR(IF(OR(LEN(E19)=0,LEN(INDEX( scale[], MATCH(G19,scalename,0),3))=0),"",INDEX( scale[], MATCH(G19,scalename,0),3)),"") -> 1
C20: =IF(LEN(E20)>0,"1." & COUNTA($E$16:E20),"") -> 1.5 | E20: Standards for eliminating unnecessary items exist and are being followed. | G20: L1 | H20: =IFERROR(IF(OR(LEN(E20)=0,LEN(INDEX( scale[], MATCH(G20,scalename,0),3))=0),"",INDEX( scale[], MATCH(G20,scalename,0),3)),"") -> 1
C21: =IF(LEN(E21)>0,"1." & COUNTA($E$16:E21),"") | H21: =IFERROR(IF(OR(LEN(E21)=0,LEN(INDEX( scale[], MATCH(G21,scalename,0),3))=0),"",INDEX( scale[], MATCH(G21,scalename,0),3)),"")
C42: 2S - SET | D42: Subarea | E42: Questions | F42: Notes | G42: Result | H42: Score | I42: Total Score | J42: %
C43: =IF(LEN(E43)>0,"2." & COUNTA($E$43:E43),"") -> 2.1 | E43: Locations of tools and equipment are clear and well organized. | G43: No | H43: =IFERROR(IF(OR(LEN(E43)=0,LEN(INDEX( scale[], MATCH(G43,scalename,0),3))=0),"",INDEX( scale[], MATCH(G43,scalename,0),3)),"") -> 1 | I43: =SUM(H43:H48) -> 9 | J43: =IFERROR(SUM(H43:H48)/(maxscore*(COUNT(H43:H48))),"") -> 0.3
C44: =IF(LEN(E44)>0,"2." & COUNTA($E$43:E44),"") -> 2.2 | E44: Locations of materials and products are clear and well organized. | G44: L3 | H44: =IFERROR(IF(OR(LEN(E44)=0,LEN(INDEX( scale[], MATCH(G44,scalename,0),3))=0),"",INDEX( scale[], MATCH(G44,scalename,0),3)),"") -> 3
C45: =IF(LEN(E45)>0,"2." & COUNTA($E$43:E45),"") -> 2.3 | E45: Labels exist to indicate locations, containers, boxes, shelves and stored items. | G45: No | H45: =IFERROR(IF(OR(LEN(E45)=0,LEN(INDEX( scale[], MATCH(G45,scalename,0),3))=0),"",INDEX( scale[], MATCH(G45,scalename,0),3)),"") -> 1
C46: =IF(LEN(E46)>0,"2." & COUNTA($E$43:E46),"") -> 2.4 | E46: Evidence of inventory control exists (i.e. Kanban cards, FIFO, minimum/maximum, etc.). | G46: L2 | H46: =IFERROR(IF(OR(LEN(E46)=0,LEN(INDEX( scale[], MATCH(G46,scalename,0),3))=0),"",INDEX( scale[], MATCH(G46,scalename,0),3)),"") -> 2
C47: =IF(LEN(E47)>0,"2." & COUNTA($E$43:E47),"") -> 2.5 | E47: Dividing lines are clearly identified and clean as per standard. | G47: No | H47: =IFERROR(IF(OR(LEN(E47)=0,LEN(INDEX( scale[], MATCH(G47,scalename,0),3))=0),"",INDEX( scale[], MATCH(G47,scalename,0),3)),"") -> 1
C48: =IF(LEN(E48)>0,"2." & COUNTA($E$43:E48),"") -> 2.6 | E48: Safety equipment and supplies are clear and in good condition. | G48: No | H48: =IFERROR(IF(OR(LEN(E48)=0,LEN(INDEX( scale[], MATCH(G48,scalename,0),3))=0),"",INDEX( scale[], MATCH(G48,scalename,0),3)),"") -> 1
C69: 3S - SHINE | D69: Subarea | E69: Questions | F69: Notes | G69: Result | H69: Score | I69: Total Score | J69: %
C70: =IF(LEN(E70)>0,"3." & COUNTA($E$70:E70),"") -> 3.1 | E70: Floors, walls, ceilings and pipework are in good condition and free from dirt and dust. | G70: L2 | H70: =IFERROR(IF(OR(LEN(E70)=0,LEN(INDEX( scale[], MATCH(G70,scalename,0),3))=0),"",INDEX( scale[], MATCH(G70,scalename,0),3)),"") -> 2 | I70: =SUM(H70:H75) -> 17 | J70: =IFERROR(SUM(H70:H75)/(maxscore*(COUNT(H70:H75))),"") -> 0.68
C71: =IF(LEN(E71)>0,"3." & COUNTA($E$70:E71),"") -> 3.2 | E71: Racks, cabinets and shelves are kept clean. | G71: L4 | H71: =IFERROR(IF(OR(LEN(E71)=0,LEN(INDEX( scale[], MATCH(G71,scalename,0),3))=0),"",INDEX( scale[], MATCH(G71,scalename,0),3)),"") -> 4
C72: =IF(LEN(E72)>0,"3." & COUNTA($E$70:E72),"") -> 3.3 | E72: Machines, equipment and tools are kept clean. | G72: L4 | H72: =IFERROR(IF(OR(LEN(E72)=0,LEN(INDEX( scale[], MATCH(G72,scalename,0),3))=0),"",INDEX( scale[], MATCH(G72,scalename,0),3)),"") -> 4
C73: =IF(LEN(E73)>0,"3." & COUNTA($E$70:E73),"") -> 3.4 | E73: Stored items, materials and products are kept clean. | G73: Yes | H73: =IFERROR(IF(OR(LEN(E73)=0,LEN(INDEX( scale[], MATCH(G73,scalename,0),3))=0),"",INDEX( scale[], MATCH(G73,scalename,0),3)),"") -> 5
C74: =IF(LEN(E74)>0,"3." & COUNTA($E$70:E74),"") -> 3.5 | E74: Lighting is enough and all lighting is free from dust. | G74: NA | H74: =IFERROR(IF(OR(LEN(E74)=0,LEN(INDEX( scale[], MATCH(G74,scalename,0),3))=0),"",INDEX( scale[], MATCH(G74,scalename,0),3)),"")
C75: =IF(LEN(E75)>0,"3." & COUNTA($E$70:E75),"") -> 3.6 | E75: Cleaning tools and materials are easily accessible. | G75: L2 | H75: =IFERROR(IF(OR(LEN(E75)=0,LEN(INDEX( scale[], MATCH(G75,scalename,0),3))=0),"",INDEX( scale[], MATCH(G75,scalename,0),3)),"") -> 2
C96: 4S - STANDARDIZE | D96: Subarea | E96: Questions | F96: Notes | G96: Result | H96: Score | I96: Total Score | J96: %
C97: =IF(LEN(E97)>0,"4." & COUNTA($E$97:E97),"") -> 4.1 | E97: Visual controls and display boards are used and regularly updated. | G97: Yes | H97: =IFERROR(IF(OR(LEN(E97)=0,LEN(INDEX( scale[], MATCH(G97,scalename,0),3))=0),"",INDEX( scale[], MATCH(G97,scalename,0),3)),"") -> 5 | I97: =SUM(H97:H102) -> 13 | J97: =IFERROR(SUM(H97:H102)/(maxscore*(COUNT(H97:H102))),"") -> 0.65
C98: =IF(LEN(E98)>0,"4." & COUNTA($E$97:E98),"") -> 4.2 | E98: Procedures for maintaining the first three S's are being displayed. | G98: L3 | H98: =IFERROR(IF(OR(LEN(E98)=0,LEN(INDEX( scale[], MATCH(G98,scalename,0),3))=0),"",INDEX( scale[], MATCH(G98,scalename,0),3)),"") -> 3
C99: =IF(LEN(E99)>0,"4." & COUNTA($E$97:E99),"") -> 4.3 | E99: 5S checklists, schedules and routines are defined and being used. | G99: No | H99: =IFERROR(IF(OR(LEN(E99)=0,LEN(INDEX( scale[], MATCH(G99,scalename,0),3))=0),"",INDEX( scale[], MATCH(G99,scalename,0),3)),"") -> 1
C100: =IF(LEN(E100)>0,"4." & COUNTA($E$97:E100),"") -> 4.4 | E100: Everyone knows his responsibilities, when and how. | G100: L4 | H100: =IFERROR(IF(OR(LEN(E100)=0,LEN(INDEX( scale[], MATCH(G100,scalename,0),3))=0),"",INDEX( scale[], MATCH(G100,scalename,0),3)),"") -> 4
C101: =IF(LEN(E101)>0,"4." & COUNTA($E$97:E101),"") -> 4.5 | E101: Regular audits are taking place using checklists and measures. | H101: =IFERROR(IF(OR(LEN(E101)=0,LEN(INDEX( scale[], MATCH(G101,scalename,0),3))=0),"",INDEX( scale[], MATCH(G101,scalename,0),3)),"")
C102: =IF(LEN(E102)>0,"4." & COUNTA($E$97:E102),"") | H102: =IFERROR(IF(OR(LEN(E102)=0,LEN(INDEX( scale[], MATCH(G102,scalename,0),3))=0),"",INDEX( scale[], MATCH(G102,scalename,0),3)),"")
C123: 5S - SUSTAIN | D123: Subarea | E123: Questions | F123: Notes | G123: Result | H123: Score | I123: Total Score | J123: %
C124: =IF(LEN(E124)>0,"5." & COUNTA($E$124:E124),"") -> 5.1 | E124: 5S seems to be the way of life rather than just a routine. | G124: L3 | H124: =IFERROR(IF(OR(LEN(E124)=0,LEN(INDEX( scale[], MATCH(G124,scalename,0),3))=0),"",INDEX( scale[], MATCH(G124,scalename,0),3)),"") -> 3 | I124: =SUM(H124:H129) -> 7 | J124: =IFERROR(SUM(H124:H129)/(maxscore*(COUNT(H124:H129))),"") -> 0.46666667
C125: =IF(LEN(E125)>0,"5." & COUNTA($E$124:E125),"") -> 5.2 | E125: Success stories are being displayed (i.e. before and after pictures). | G125: L2 | H125: =IFERROR(IF(OR(LEN(E125)=0,LEN(INDEX( scale[], MATCH(G125,scalename,0),3))=0),"",INDEX( scale[], MATCH(G125,scalename,0),3)),"") -> 2
C126: =IF(LEN(E126)>0,"5." & COUNTA($E$124:E126),"") -> 5.3 | E126: Rewards and recognition is part of the 5S system. | G126: L2 | H126: =IFERROR(IF(OR(LEN(E126)=0,LEN(INDEX( scale[], MATCH(G126,scalename,0),3))=0),"",INDEX( scale[], MATCH(G126,scalename,0),3)),"") -> 2
C127: =IF(LEN(E127)>0,"5." & COUNTA($E$124:E127),"") | H127: =IFERROR(IF(OR(LEN(E127)=0,LEN(INDEX( scale[], MATCH(G127,scalename,0),3))=0),"",INDEX( scale[], MATCH(G127,scalename,0),3)),"")
C128: =IF(LEN(E128)>0,"5." & COUNTA($E$124:E128),"") | H128: =IFERROR(IF(OR(LEN(E128)=0,LEN(INDEX( scale[], MATCH(G128,scalename,0),3))=0),"",INDEX( scale[], MATCH(G128,scalename,0),3)),"")
C129: =IF(LEN(E129)>0,"5." & COUNTA($E$124:E129),"") | H129: =IFERROR(IF(OR(LEN(E129)=0,LEN(INDEX( scale[], MATCH(G129,scalename,0),3))=0),"",INDEX( scale[], MATCH(G129,scalename,0),3)),"")

Sheet Audit5
C2: 5S AUDIT SCORECARD EXCEL TEMPLATE
C3: AUDIT #5 FORM
C7: ="5S " & E9 & " Area Audit" -> 5S Manufacturing Area Audit
C9: Date | D9: Audit Area | E9: Manufacturing | J9: Total score
C10: 44910 | D10: Work station | E10: Sealing | J10: =SUM(H16:H199) -> 0
C12: Quarter | D12: 5s Auditor | E12: Hannah Shaw | J12: Final result
C13: =IFERROR(IF(ISNUMBER(C10),IF(C12="Month",INDEX(monthsList,MONTH(C10),1),IF(MONTH(C10)<4,"Q1",IF(MONTH(C10)<7,"Q2",IF(MONTH(C10)<10,"Q3","Q4")))),""),"") -> Q4 | D13: 5s Leader | E13: Jane Best | J13: =IFERROR(ROUND(J10/(COUNT(H16:H199)*maxscore),2),"")
C15: 1S - SORT | D15: Subarea | E15: Questions | F15: Notes | G15: Result | H15: Score | I15: Total Score | J15: %
C16: =IF(LEN(E16)>0,"1." & COUNTA($E$16:E16),"") -> 1.1 | E16: No unnecessary items are left or stored in the workplace. | H16: =IFERROR(IF(OR(LEN(E16)=0,LEN(INDEX( scale[], MATCH(G16,scalename,0),3))=0),"",INDEX( scale[], MATCH(G16,scalename,0),3)),"") | I16: =SUM(H16:H21) -> 0 | J16: =IFERROR(SUM(H16:H21)/(maxscore*(COUNT(H16:H21))),"")
C17: =IF(LEN(E17)>0,"1." & COUNTA($E$16:E17),"") -> 1.2 | E17: All machines and pieces of equipment are in regular use. | H17: =IFERROR(IF(OR(LEN(E17)=0,LEN(INDEX( scale[], MATCH(G17,scalename,0),3))=0),"",INDEX( scale[], MATCH(G17,scalename,0),3)),"")
C18: =IF(LEN(E18)>0,"1." & COUNTA($E$16:E18),"") -> 1.3 | E18: All tools, fixtures and fittings are in regular use. | H18: =IFERROR(IF(OR(LEN(E18)=0,LEN(INDEX( scale[], MATCH(G18,scalename,0),3))=0),"",INDEX( scale[], MATCH(G18,scalename,0),3)),"")
C19: =IF(LEN(E19)>0,"1." & COUNTA($E$16:E19),"") -> 1.4 | E19: Storage area is defined to store broken, unusable or occasionally used items. | H19: =IFERROR(IF(OR(LEN(E19)=0,LEN(INDEX( scale[], MATCH(G19,scalename,0),3))=0),"",INDEX( scale[], MATCH(G19,scalename,0),3)),"")
C20: =IF(LEN(E20)>0,"1." & COUNTA($E$16:E20),"") -> 1.5 | E20: Standards for eliminating unnecessary items exist and are being followed. | H20: =IFERROR(IF(OR(LEN(E20)=0,LEN(INDEX( scale[], MATCH(G20,scalename,0),3))=0),"",INDEX( scale[], MATCH(G20,scalename,0),3)),"")
C21: =IF(LEN(E21)>0,"1." & COUNTA($E$16:E21),"") | H21: =IFERROR(IF(OR(LEN(E21)=0,LEN(INDEX( scale[], MATCH(G21,scalename,0),3))=0),"",INDEX( scale[], MATCH(G21,scalename,0),3)),"")
C42: 2S - SET | D42: Subarea | E42: Questions | F42: Notes | G42: Result | H42: Score | I42: Total Score | J42: %
C43: =IF(LEN(E43)>0,"2." & COUNTA($E$43:E43),"") -> 2.1 | E43: Locations of tools and equipment are clear and well organized. | H43: =IFERROR(IF(OR(LEN(E43)=0,LEN(INDEX( scale[], MATCH(G43,scalename,0),3))=0),"",INDEX( scale[], MATCH(G43,scalename,0),3)),"") | I43: =SUM(H43:H48) -> 0 | J43: =IFERROR(SUM(H43:H48)/(maxscore*(COUNT(H43:H48))),"")
C44: =IF(LEN(E44)>0,"2." & COUNTA($E$43:E44),"") -> 2.2 | E44: Locations of materials and products are clear and well organized. | H44: =IFERROR(IF(OR(LEN(E44)=0,LEN(INDEX( scale[], MATCH(G44,scalename,0),3))=0),"",INDEX( scale[], MATCH(G44,scalename,0),3)),"")
C45: =IF(LEN(E45)>0,"2." & COUNTA($E$43:E45),"") -> 2.3 | E45: Labels exist to indicate locations, containers, boxes, shelves and stored items. | H45: =IFERROR(IF(OR(LEN(E45)=0,LEN(INDEX( scale[], MATCH(G45,scalename,0),3))=0),"",INDEX( scale[], MATCH(G45,scalename,0),3)),"")
C46: =IF(LEN(E46)>0,"2." & COUNTA($E$43:E46),"") -> 2.4 | E46: Evidence of inventory control exists (i.e. Kanban cards, FIFO, minimum/maximum, etc.). | H46: =IFERROR(IF(OR(LEN(E46)=0,LEN(INDEX( scale[], MATCH(G46,scalename,0),3))=0),"",INDEX( scale[], MATCH(G46,scalename,0),3)),"")
C47: =IF(LEN(E47)>0,"2." & COUNTA($E$43:E47),"") -> 2.5 | E47: Dividing lines are clearly identified and clean as per standard. | H47: =IFERROR(IF(OR(LEN(E47)=0,LEN(INDEX( scale[], MATCH(G47,scalename,0),3))=0),"",INDEX( scale[], MATCH(G47,scalename,0),3)),"")
C48: =IF(LEN(E48)>0,"2." & COUNTA($E$43:E48),"") -> 2.6 | E48: Safety equipment and supplies are clear and in good condition. | H48: =IFERROR(IF(OR(LEN(E48)=0,LEN(INDEX( scale[], MATCH(G48,scalename,0),3))=0),"",INDEX( scale[], MATCH(G48,scalename,0),3)),"")
C69: 3S - SHINE | D69: Subarea | E69: Questions | F69: Notes | G69: Result | H69: Score | I69: Total Score | J69: %
C70: =IF(LEN(E70)>0,"3." & COUNTA($E$70:E70),"") -> 3.1 | E70: Floors, walls, ceilings and pipework are in good condition and free from dirt and dust. | H70: =IFERROR(IF(OR(LEN(E70)=0,LEN(INDEX( scale[], MATCH(G70,scalename,0),3))=0),"",INDEX( scale[], MATCH(G70,scalename,0),3)),"") | I70: =SUM(H70:H75) -> 0 | J70: =IFERROR(SUM(H70:H75)/(maxscore*(COUNT(H70:H75))),"")
C71: =IF(LEN(E71)>0,"3." & COUNTA($E$70:E71),"") -> 3.2 | E71: Racks, cabinets and shelves are kept clean. | H71: =IFERROR(IF(OR(LEN(E71)=0,LEN(INDEX( scale[], MATCH(G71,scalename,0),3))=0),"",INDEX( scale[], MATCH(G71,scalename,0),3)),"")
C72: =IF(LEN(E72)>0,"3." & COUNTA($E$70:E72),"") -> 3.3 | E72: Machines, equipment and tools are kept clean. | H72: =IFERROR(IF(OR(LEN(E72)=0,LEN(INDEX( scale[], MATCH(G72,scalename,0),3))=0),"",INDEX( scale[], MATCH(G72,scalename,0),3)),"")
C73: =IF(LEN(E73)>0,"3." & COUNTA($E$70:E73),"") -> 3.4 | E73: Stored items, materials and products are kept clean. | H73: =IFERROR(IF(OR(LEN(E73)=0,LEN(INDEX( scale[], MATCH(G73,scalename,0),3))=0),"",INDEX( scale[], MATCH(G73,scalename,0),3)),"")
C74: =IF(LEN(E74)>0,"3." & COUNTA($E$70:E74),"") -> 3.5 | E74: Lighting is enough and all lighting is free from dust. | H74: =IFERROR(IF(OR(LEN(E74)=0,LEN(INDEX( scale[], MATCH(G74,scalename,0),3))=0),"",INDEX( scale[], MATCH(G74,scalename,0),3)),"")
C75: =IF(LEN(E75)>0,"3." & COUNTA($E$70:E75),"") -> 3.6 | E75: Cleaning tools and materials are easily accessible. | H75: =IFERROR(IF(OR(LEN(E75)=0,LEN(INDEX( scale[], MATCH(G75,scalename,0),3))=0),"",INDEX( scale[], MATCH(G75,scalename,0),3)),"")
C96: 4S - STANDARDIZE | D96: Subarea | E96: Questions | F96: Notes | G96: Result | H96: Score | I96: Total Score | J96: %
C97: =IF(LEN(E97)>0,"4." & COUNTA($E$97:E97),"") -> 4.1 | E97: Visual controls and display boards are used and regularly updated. | H97: =IFERROR(IF(OR(LEN(E97)=0,LEN(INDEX( scale[], MATCH(G97,scalename,0),3))=0),"",INDEX( scale[], MATCH(G97,scalename,0),3)),"") | I97: =SUM(H97:H102) -> 0 | J97: =IFERROR(SUM(H97:H102)/(maxscore*(COUNT(H97:H102))),"")
C98: =IF(LEN(E98)>0,"4." & COUNTA($E$97:E98),"") -> 4.2 | E98: Procedures for maintaining the first three S's are being displayed. | H98: =IFERROR(IF(OR(LEN(E98)=0,LEN(INDEX( scale[], MATCH(G98,scalename,0),3))=0),"",INDEX( scale[], MATCH(G98,scalename,0),3)),"")
C99: =IF(LEN(E99)>0,"4." & COUNTA($E$97:E99),"") -> 4.3 | E99: 5S checklists, schedules and routines are defined and being used. | H99: =IFERROR(IF(OR(LEN(E99)=0,LEN(INDEX( scale[], MATCH(G99,scalename,0),3))=0),"",INDEX( scale[], MATCH(G99,scalename,0),3)),"")
C100: =IF(LEN(E100)>0,"4." & COUNTA($E$97:E100),"") -> 4.4 | E100: Everyone knows his responsibilities, when and how. | H100: =IFERROR(IF(OR(LEN(E100)=0,LEN(INDEX( scale[], MATCH(G100,scalename,0),3))=0),"",INDEX( scale[], MATCH(G100,scalename,0),3)),"")
C101: =IF(LEN(E101)>0,"4." & COUNTA($E$97:E101),"") -> 4.5 | E101: Regular audits are taking place using checklists and measures. | H101: =IFERROR(IF(OR(LEN(E101)=0,LEN(INDEX( scale[], MATCH(G101,scalename,0),3))=0),"",INDEX( scale[], MATCH(G101,scalename,0),3)),"")
C102: =IF(LEN(E102)>0,"4." & COUNTA($E$97:E102),"") | H102: =IFERROR(IF(OR(LEN(E102)=0,LEN(INDEX( scale[], MATCH(G102,scalename,0),3))=0),"",INDEX( scale[], MATCH(G102,scalename,0),3)),"")
C123: 5S - SUSTAIN | D123: Subarea | E123: Questions | F123: Notes | G123: Result | H123: Score | I123: Total Score | J123: %
C124: =IF(LEN(E124)>0,"5." & COUNTA($E$124:E124),"") -> 5.1 | E124: 5S seems to be the way of life rather than just a routine. | H124: =IFERROR(IF(OR(LEN(E124)=0,LEN(INDEX( scale[], MATCH(G124,scalename,0),3))=0),"",INDEX( scale[], MATCH(G124,scalename,0),3)),"") | I124: =SUM(H124:H129) -> 0 | J124: =IFERROR(SUM(H124:H129)/(maxscore*(COUNT(H124:H129))),"")
C125: =IF(LEN(E125)>0,"5." & COUNTA($E$124:E125),"") -> 5.2 | E125: Success stories are being displayed (i.e. before and after pictures). | H125: =IFERROR(IF(OR(LEN(E125)=0,LEN(INDEX( scale[], MATCH(G125,scalename,0),3))=0),"",INDEX( scale[], MATCH(G125,scalename,0),3)),"")
C126: =IF(LEN(E126)>0,"5." & COUNTA($E$124:E126),"") -> 5.3 | E126: Rewards and recognition is part of the 5S system. | H126: =IFERROR(IF(OR(LEN(E126)=0,LEN(INDEX( scale[], MATCH(G126,scalename,0),3))=0),"",INDEX( scale[], MATCH(G126,scalename,0),3)),"")
C127: =IF(LEN(E127)>0,"5." & COUNTA($E$124:E127),"") | H127: =IFERROR(IF(OR(LEN(E127)=0,LEN(INDEX( scale[], MATCH(G127,scalename,0),3))=0),"",INDEX( scale[], MATCH(G127,scalename,0),3)),"")
C128: =IF(LEN(E128)>0,"5." & COUNTA($E$124:E128),"") | H128: =IFERROR(IF(OR(LEN(E128)=0,LEN(INDEX( scale[], MATCH(G128,scalename,0),3))=0),"",INDEX( scale[], MATCH(G128,scalename,0),3)),"")
C129: =IF(LEN(E129)>0,"5." & COUNTA($E$124:E129),"") | H129: =IFERROR(IF(OR(LEN(E129)=0,LEN(INDEX( scale[], MATCH(G129,scalename,0),3))=0),"",INDEX( scale[], MATCH(G129,scalename,0),3)),"")

Sheet Audit6
C2: 5S AUDIT SCORECARD EXCEL TEMPLATE
C3: AUDIT #6 FORM
C7: ="5S " & E9 & " Area Audit" -> 5S Laboratory Area Audit
C9: Date | D9: Audit Area | E9: Laboratory | J9: Total score
C10: 44896 | D10: Work station | E10: Electric capacity measuer station | J10: =SUM(H16:H199) -> 0
C12: Month | D12: 5s Auditor | E12: Hannah Shaw | J12: Final result
C13: =IFERROR(IF(ISNUMBER(C10),IF(C12="Month",INDEX(monthsList,MONTH(C10),1),IF(MONTH(C10)<4,"Q1",IF(MONTH(C10)<7,"Q2",IF(MONTH(C10)<10,"Q3","Q4")))),""),"") -> December | D13: 5s Leader | E13: Jane Best | J13: =IFERROR(ROUND(J10/(COUNT(H16:H199)*maxscore),2),"")
C15: 1S - SORT | D15: Subarea | E15: Questions | F15: Notes | G15: Result | H15: Score | I15: Total Score | J15: %
C16: =IF(LEN(E16)>0,"1." & COUNTA($E$16:E16),"") -> 1.1 | E16: Establish a white tag area (Holding Area non-required items) | H16: =IFERROR(IF(OR(LEN(E16)=0,LEN(INDEX( scale[], MATCH(G16,scalename,0),3))=0),"",INDEX( scale[], MATCH(G16,scalename,0),3)),"") | I16: =SUM(H16:H21) -> 0 | J16: =IFERROR(SUM(H16:H21)/(maxscore*(COUNT(H16:H21))),"")
C17: =IF(LEN(E17)>0,"1." & COUNTA($E$16:E17),"") -> 1.2 | E17: Identify the items that are not required at the current location. | H17: =IFERROR(IF(OR(LEN(E17)=0,LEN(INDEX( scale[], MATCH(G17,scalename,0),3))=0),"",INDEX( scale[], MATCH(G17,scalename,0),3)),"")
C18: =IF(LEN(E18)>0,"1." & COUNTA($E$16:E18),"") -> 1.3 | E18: Get team members on board to assist with the evaluation process. | H18: =IFERROR(IF(OR(LEN(E18)=0,LEN(INDEX( scale[], MATCH(G18,scalename,0),3))=0),"",INDEX( scale[], MATCH(G18,scalename,0),3)),"")
C19: =IF(LEN(E19)>0,"1." & COUNTA($E$16:E19),"") -> 1.4 | E19: Dispose of items not required after team approval. | H19: =IFERROR(IF(OR(LEN(E19)=0,LEN(INDEX( scale[], MATCH(G19,scalename,0),3))=0),"",INDEX( scale[], MATCH(G19,scalename,0),3)),"")
C20: =IF(LEN(E20)>0,"1." & COUNTA($E$16:E20),"") | H20: =IFERROR(IF(OR(LEN(E20)=0,LEN(INDEX( scale[], MATCH(G20,scalename,0),3))=0),"",INDEX( scale[], MATCH(G20,scalename,0),3)),"")
C21: =IF(LEN(E21)>0,"1." & COUNTA($E$16:E21),"") | H21: =IFERROR(IF(OR(LEN(E21)=0,LEN(INDEX( scale[], MATCH(G21,scalename,0),3))=0),"",INDEX( scale[], MATCH(G21,scalename,0),3)),"")
C42: 2S - SET | D42: Subarea | E42: Questions | F42: Notes | G42: Result | H42: Score | I42: Total Score | J42: %
C43: =IF(LEN(E43)>0,"2." & COUNTA($E$43:E43),"") -> 2.1 | E43: Make sure all items have a home using signs, labels and shadow boards. | H43: =IFERROR(IF(OR(LEN(E43)=0,LEN(INDEX( scale[], MATCH(G43,scalename,0),3))=0),"",INDEX( scale[], MATCH(G43,scalename,0),3)),"") | I43: =SUM(H43:H48) -> 0 | J43: =IFERROR(SUM(H43:H48)/(maxscore*(COUNT(H43:H48))),"")
C44: =IF(LEN(E44)>0,"2." & COUNTA($E$43:E44),"") -> 2.2 | E44: Clearly define work areas. Use floor marking, pedestrian isles, clear access and process flow. | H44: =IFERROR(IF(OR(LEN(E44)=0,LEN(INDEX( scale[], MATCH(G44,scalename,0),3))=0),"",INDEX( scale[], MATCH(G44,scalename,0),3)),"")
C45: =IF(LEN(E45)>0,"2." & COUNTA($E$43:E45),"") -> 2.3 | E45: Use indicators for high or low inventory levels. Read more about Kanban. | H45: =IFERROR(IF(OR(LEN(E45)=0,LEN(INDEX( scale[], MATCH(G45,scalename,0),3))=0),"",INDEX( scale[], MATCH(G45,scalename,0),3)),"")
C46: =IF(LEN(E46)>0,"2." & COUNTA($E$43:E46),"") -> 2.4 | E46: Consider colour coded inventory bins to improve visual management. | H46: =IFERROR(IF(OR(LEN(E46)=0,LEN(INDEX( scale[], MATCH(G46,scalename,0),3))=0),"",INDEX( scale[], MATCH(G46,scalename,0),3)),"")
C47: =IF(LEN(E47)>0,"2." & COUNTA($E$43:E47),"") -> 2.5 | E47: Identify equipment and consumables used Daily, Weekly and Monthly and locate according to usage. | H47: =IFERROR(IF(OR(LEN(E47)=0,LEN(INDEX( scale[], MATCH(G47,scalename,0),3))=0),"",INDEX( scale[], MATCH(G47,scalename,0),3)),"")
C48: =IF(LEN(E48)>0,"2." & COUNTA($E$43:E48),"") | H48: =IFERROR(IF(OR(LEN(E48)=0,LEN(INDEX( scale[], MATCH(G48,scalename,0),3))=0),"",INDEX( scale[], MATCH(G48,scalename,0),3)),"")
C69: 3S - SHINE | D69: Subarea | E69: Questions | F69: Notes | G69: Result | H69: Score | I69: Total Score | J69: %
C70: =IF(LEN(E70)>0,"3." & COUNTA($E$70:E70),"") -> 3.1 | E70: Clean thoroughly – Make it literally shine! | H70: =IFERROR(IF(OR(LEN(E70)=0,LEN(INDEX( scale[], MATCH(G70,scalename,0),3))=0),"",INDEX( scale[], MATCH(G70,scalename,0),3)),"") | I70: =SUM(H70:H75) -> 0 | J70: =IFERROR(SUM(H70:H75)/(maxscore*(COUNT(H70:H75))),"")
C71: =IF(LEN(E71)>0,"3." & COUNTA($E$70:E71),"") -> 3.2 | E71: Identify responsibilities. | H71: =IFERROR(IF(OR(LEN(E71)=0,LEN(INDEX( scale[], MATCH(G71,scalename,0),3))=0),"",INDEX( scale[], MATCH(G71,scalename,0),3)),"")
C72: =IF(LEN(E72)>0,"3." & COUNTA($E$70:E72),"") -> 3.3 | E72: Look at frequency of cleaning requirements in division of the laboratory. | H72: =IFERROR(IF(OR(LEN(E72)=0,LEN(INDEX( scale[], MATCH(G72,scalename,0),3))=0),"",INDEX( scale[], MATCH(G72,scalename,0),3)),"")
C73: =IF(LEN(E73)>0,"3." & COUNTA($E$70:E73),"") -> 3.4 | E73: Make a list of items that need routine cleaning to assist with the standardization step. | H73: =IFERROR(IF(OR(LEN(E73)=0,LEN(INDEX( scale[], MATCH(G73,scalename,0),3))=0),"",INDEX( scale[], MATCH(G73,scalename,0),3)),"")
C74: =IF(LEN(E74)>0,"3." & COUNTA($E$70:E74),"") | H74: =IFERROR(IF(OR(LEN(E74)=0,LEN(INDEX( scale[], MATCH(G74,scalename,0),3))=0),"",INDEX( scale[], MATCH(G74,scalename,0),3)),"")
C75: =IF(LEN(E75)>0,"3." & COUNTA($E$70:E75),"") | H75: =IFERROR(IF(OR(LEN(E75)=0,LEN(INDEX( scale[], MATCH(G75,scalename,0),3))=0),"",INDEX( scale[], MATCH(G75,scalename,0),3)),"")
C96: 4S - STANDARDIZE | D96: Subarea | E96: Questions | F96: Notes | G96: Result | H96: Score | I96: Total Score | J96: %
C97: =IF(LEN(E97)>0,"4." & COUNTA($E$97:E97),"") -> 4.1 | E97: Develop Standard Operating Procedure (SOP) | H97: =IFERROR(IF(OR(LEN(E97)=0,LEN(INDEX( scale[], MATCH(G97,scalename,0),3))=0),"",INDEX( scale[], MATCH(G97,scalename,0),3)),"") | I97: =SUM(H97:H102) -> 0 | J97: =IFERROR(SUM(H97:H102)/(maxscore*(COUNT(H97:H102))),"")
C98: =IF(LEN(E98)>0,"4." & COUNTA($E$97:E98),"") -> 4.2 | E98: Document equipment and processes. | H98: =IFERROR(IF(OR(LEN(E98)=0,LEN(INDEX( scale[], MATCH(G98,scalename,0),3))=0),"",INDEX( scale[], MATCH(G98,scalename,0),3)),"")
C99: =IF(LEN(E99)>0,"4." & COUNTA($E$97:E99),"") -> 4.3 | E99: Develop an audit schedule and assign tasks to individual | H99: =IFERROR(IF(OR(LEN(E99)=0,LEN(INDEX( scale[], MATCH(G99,scalename,0),3))=0),"",INDEX( scale[], MATCH(G99,scalename,0),3)),"")
C100: =IF(LEN(E100)>0,"4." & COUNTA($E$97:E100),"") | H100: =IFERROR(IF(OR(LEN(E100)=0,LEN(INDEX( scale[], MATCH(G100,scalename,0),3))=0),"",INDEX( scale[], MATCH(G100,scalename,0),3)),"")
C101: =IF(LEN(E101)>0,"4." & COUNTA($E$97:E101),"") | H101: =IFERROR(IF(OR(LEN(E101)=0,LEN(INDEX( scale[], MATCH(G101,scalename,0),3))=0),"",INDEX( scale[], MATCH(G101,scalename,0),3)),"")
C102: =IF(LEN(E102)>0,"4." & COUNTA($E$97:E102),"") | H102: =IFERROR(IF(OR(LEN(E102)=0,LEN(INDEX( scale[], MATCH(G102,scalename,0),3))=0),"",INDEX( scale[], MATCH(G102,scalename,0),3)),"")
C123: 5S - SUSTAIN | D123: Subarea | E123: Questions | F123: Notes | G123: Result | H123: Score | I123: Total Score | J123: %
C124: =IF(LEN(E124)>0,"5." & COUNTA($E$124:E124),"") -> 5.1 | E124: Sort, separate what is unnecessary | H124: =IFERROR(IF(OR(LEN(E124)=0,LEN(INDEX( scale[], MATCH(G124,scalename,0),3))=0),"",INDEX( scale[], MATCH(G124,scalename,0),3)),"") | I124: =SUM(H124:H129) -> 0 | J124: =IFERROR(SUM(H124:H129)/(maxscore*(COUNT(H124:H129))),"")
C125: =IF(LEN(E125)>0,"5." & COUNTA($E$124:E125),"") -> 5.2 | E125: Set in Order, organize | H125: =IFERROR(IF(OR(LEN(E125)=0,LEN(INDEX( scale[], MATCH(G125,scalename,0),3))=0),"",INDEX( scale[], MATCH(G125,scalename,0),3)),"")
C126: =IF(LEN(E126)>0,"5." & COUNTA($E$124:E126),"") -> 5.3 | E126: Shine, clean up and make it shine! | H126: =IFERROR(IF(OR(LEN(E126)=0,LEN(INDEX( scale[], MATCH(G126,scalename,0),3))=0),"",INDEX( scale[], MATCH(G126,scalename,0),3)),"")
C127: =IF(LEN(E127)>0,"5." & COUNTA($E$124:E127),"") -> 5.4 | E127: Standardize, establish standard operating procedures | H127: =IFERROR(IF(OR(LEN(E127)=0,LEN(INDEX( scale[], MATCH(G127,scalename,0),3))=0),"",INDEX( scale[], MATCH(G127,scalename,0),3)),"")
C128: =IF(LEN(E128)>0,"5." & COUNTA($E$124:E128),"") -> 5.5 | E128: Sustain, develop long-lasting habits | H128: =IFERROR(IF(OR(LEN(E128)=0,LEN(INDEX( scale[], MATCH(G128,scalename,0),3))=0),"",INDEX( scale[], MATCH(G128,scalename,0),3)),"")
C129: =IF(LEN(E129)>0,"5." & COUNTA($E$124:E129),"") | H129: =IFERROR(IF(OR(LEN(E129)=0,LEN(INDEX( scale[], MATCH(G129,scalename,0),3))=0),"",INDEX( scale[], MATCH(G129,scalename,0),3)),"")

Sheet Audit7
C2: 5S AUDIT SCORECARD EXCEL TEMPLATE
C3: AUDIT #7 FORM
C7: ="5S " & E9 & " Area Audit" -> 5S Classroom Area Audit
C9: Date | D9: Audit Area | E9: Classroom | J9: Total score
C10: 44835 | D10: Work station | E10: R201a | J10: =SUM(H16:H199) -> 0
C12: Month | D12: 5s Auditor | E12: Hannah Shaw | J12: Final result
C13: =IFERROR(IF(ISNUMBER(C10),IF(C12="Month",INDEX(monthsList,MONTH(C10),1),IF(MONTH(C10)<4,"Q1",IF(MONTH(C10)<7,"Q2",IF(MONTH(C10)<10,"Q3","Q4")))),""),"") -> October | D13: 5s Leader | E13: Jane Best | J13: =IFERROR(ROUND(J10/(COUNT(H16:H199)*maxscore),2),"")
C15: 1S - SORT | D15: Subarea | E15: Questions | F15: Notes | G15: Result | H15: Score | I15: Total Score | J15: %
C16: =IF(LEN(E16)>0,"1." & COUNTA($E$16:E16),"") -> 1.1 | E16: Are all unserviceable items removed from the immediate work environment? | H16: =IFERROR(IF(OR(LEN(E16)=0,LEN(INDEX( scale[], MATCH(G16,scalename,0),3))=0),"",INDEX( scale[], MATCH(G16,scalename,0),3)),"") | I16: =SUM(H16:H21) -> 0 | J16: =IFERROR(SUM(H16:H21)/(maxscore*(COUNT(H16:H21))),"")
C17: =IF(LEN(E17)>0,"1." & COUNTA($E$16:E17),"") -> 1.2 | E17: Are all inadequate raw materials, semi-finished products and/or waste properly disposed of and away from the immediate work environment? | H17: =IFERROR(IF(OR(LEN(E17)=0,LEN(INDEX( scale[], MATCH(G17,scalename,0),3))=0),"",INDEX( scale[], MATCH(G17,scalename,0),3)),"")
C18: =IF(LEN(E18)>0,"1." & COUNTA($E$16:E18),"") -> 1.3 | E18: Are all unused tools, spare parts and/or materials properly stored away from the immediate | H18: =IFERROR(IF(OR(LEN(E18)=0,LEN(INDEX( scale[], MATCH(G18,scalename,0),3))=0),"",INDEX( scale[], MATCH(G18,scalename,0),3)),"")
C19: =IF(LEN(E19)>0,"1." & COUNTA($E$16:E19),"") -> 1.4 | E19: work environment? | H19: =IFERROR(IF(OR(LEN(E19)=0,LEN(INDEX( scale[], MATCH(G19,scalename,0),3))=0),"",INDEX( scale[], MATCH(G19,scalename,0),3)),"")
C20: =IF(LEN(E20)>0,"1." & COUNTA($E$16:E20),"") -> 1.5 | E20: Are all frequently used objects sorted, arranged, stored and labeled? | H20: =IFERROR(IF(OR(LEN(E20)=0,LEN(INDEX( scale[], MATCH(G20,scalename,0),3))=0),"",INDEX( scale[], MATCH(G20,scalename,0),3)),"")
C21: =IF(LEN(E21)>0,"1." & COUNTA($E$16:E21),"") -> 1.6 | E21: Does the current inventory or in-process inventory reflect only required materials and/or parts? | H21: =IFERROR(IF(OR(LEN(E21)=0,LEN(INDEX( scale[], MATCH(G21,scalename,0),3))=0),"",INDEX( scale[], MATCH(G21,scalename,0),3)),"")
C42: 2S - SET | D42: Subarea | E42: Questions | F42: Notes | G42: Result | H42: Score | I42: Total Score | J42: %
C43: =IF(LEN(E43)>0,"2." & COUNTA($E$43:E43),"") -> 2.1 | E43: Are all access aisles, storage areas, working places and equipment clearly marked and defined? | H43: =IFERROR(IF(OR(LEN(E43)=0,LEN(INDEX( scale[], MATCH(G43,scalename,0),3))=0),"",INDEX( scale[], MATCH(G43,scalename,0),3)),"") | I43: =SUM(H43:H48) -> 0 | J43: =IFERROR(SUM(H43:H48)/(maxscore*(COUNT(H43:H48))),"")
C44: =IF(LEN(E44)>0,"2." & COUNTA($E$43:E44),"") -> 2.2 | E44: Are all electronic files organized in an efficient, easy to find data/file system? | H44: =IFERROR(IF(OR(LEN(E44)=0,LEN(INDEX( scale[], MATCH(G44,scalename,0),3))=0),"",INDEX( scale[], MATCH(G44,scalename,0),3)),"")
C45: =IF(LEN(E45)>0,"2." & COUNTA($E$43:E45),"") -> 2.3 | E45: Are all tools, devices and instruments properly organized in regular or special designated areas? | H45: =IFERROR(IF(OR(LEN(E45)=0,LEN(INDEX( scale[], MATCH(G45,scalename,0),3))=0),"",INDEX( scale[], MATCH(G45,scalename,0),3)),"")
C46: =IF(LEN(E46)>0,"2." & COUNTA($E$43:E46),"") -> 2.4 | E46: Are all fire extinguishers, walkways and exits clear of obstacles? | H46: =IFERROR(IF(OR(LEN(E46)=0,LEN(INDEX( scale[], MATCH(G46,scalename,0),3))=0),"",INDEX( scale[], MATCH(G46,scalename,0),3)),"")
C47: =IF(LEN(E47)>0,"2." & COUNTA($E$43:E47),"") -> 2.5 | E47: Are all shelves labeled for item location, quantities and weight (if applicable)? | H47: =IFERROR(IF(OR(LEN(E47)=0,LEN(INDEX( scale[], MATCH(G47,scalename,0),3))=0),"",INDEX( scale[], MATCH(G47,scalename,0),3)),"")
C48: =IF(LEN(E48)>0,"2." & COUNTA($E$43:E48),"") | H48: =IFERROR(IF(OR(LEN(E48)=0,LEN(INDEX( scale[], MATCH(G48,scalename,0),3))=0),"",INDEX( scale[], MATCH(G48,scalename,0),3)),"")
C69: 3S - SHINE | D69: Subarea | E69: Questions | F69: Notes | G69: Result | H69: Score | I69: Total Score | J69: %
C70: =IF(LEN(E70)>0,"3." & COUNTA($E$70:E70),"") -> 3.1 | E70: Are all tools/equipment clean and properly stored/shut down on a daily basis? | H70: =IFERROR(IF(OR(LEN(E70)=0,LEN(INDEX( scale[], MATCH(G70,scalename,0),3))=0),"",INDEX( scale[], MATCH(G70,scalename,0),3)),"") | I70: =SUM(H70:H75) -> 0 | J70: =IFERROR(SUM(H70:H75)/(maxscore*(COUNT(H70:H75))),"")
C71: =IF(LEN(E71)>0,"3." & COUNTA($E$70:E71),"") -> 3.2 | E71: Are all machines, work stations, floors, walls and surfaces clean, free from clutter and properly | H71: =IFERROR(IF(OR(LEN(E71)=0,LEN(INDEX( scale[], MATCH(G71,scalename,0),3))=0),"",INDEX( scale[], MATCH(G71,scalename,0),3)),"")
C72: =IF(LEN(E72)>0,"3." & COUNTA($E$70:E72),"") -> 3.3 | E72: maintained? | H72: =IFERROR(IF(OR(LEN(E72)=0,LEN(INDEX( scale[], MATCH(G72,scalename,0),3))=0),"",INDEX( scale[], MATCH(G72,scalename,0),3)),"")
C73: =IF(LEN(E73)>0,"3." & COUNTA($E$70:E73),"") -> 3.4 | E73: Is all lighting within the classroom/lab environment clean and in working order? | H73: =IFERROR(IF(OR(LEN(E73)=0,LEN(INDEX( scale[], MATCH(G73,scalename,0),3))=0),"",INDEX( scale[], MATCH(G73,scalename,0),3)),"")
C74: =IF(LEN(E74)>0,"3." & COUNTA($E$70:E74),"") -> 3.5 | E74: Are designated work areas properly marked within the classroom/lab areas? | H74: =IFERROR(IF(OR(LEN(E74)=0,LEN(INDEX( scale[], MATCH(G74,scalename,0),3))=0),"",INDEX( scale[], MATCH(G74,scalename,0),3)),"")
C75: =IF(LEN(E75)>0,"3." & COUNTA($E$70:E75),"") -> 3.6 | E75: Is cleaning completed daily and recorded on a cleaning check sheet? | H75: =IFERROR(IF(OR(LEN(E75)=0,LEN(INDEX( scale[], MATCH(G75,scalename,0),3))=0),"",INDEX( scale[], MATCH(G75,scalename,0),3)),"")
C96: 4S - STANDARDIZE | D96: Subarea | E96: Questions | F96: Notes | G96: Result | H96: Score | I96: Total Score | J96: %
C97: =IF(LEN(E97)>0,"4." & COUNTA($E$97:E97),"") -> 4.1 | E97: Do all workplace areas have adequate lighting and/or ventilation? | H97: =IFERROR(IF(OR(LEN(E97)=0,LEN(INDEX( scale[], MATCH(G97,scalename,0),3))=0),"",INDEX( scale[], MATCH(G97,scalename,0),3)),"") | I97: =SUM(H97:H102) -> 0 | J97: =IFERROR(SUM(H97:H102)/(maxscore*(COUNT(H97:H102))),"")
C98: =IF(LEN(E98)>0,"4." & COUNTA($E$97:E98),"") -> 4.2 | E98: Do all employees actively participate in continuous improvement efforts (5S team, idea boards, | H98: =IFERROR(IF(OR(LEN(E98)=0,LEN(INDEX( scale[], MATCH(G98,scalename,0),3))=0),"",INDEX( scale[], MATCH(G98,scalename,0),3)),"")
C99: =IF(LEN(E99)>0,"4." & COUNTA($E$97:E99),"") -> 4.3 | E99: root cause for variation, safety workshops, updated on SW, etc.)? | H99: =IFERROR(IF(OR(LEN(E99)=0,LEN(INDEX( scale[], MATCH(G99,scalename,0),3))=0),"",INDEX( scale[], MATCH(G99,scalename,0),3)),"")
C100: =IF(LEN(E100)>0,"4." & COUNTA($E$97:E100),"") -> 4.4 | E100: Are 5S standard procedures written, clear, and actively used? | H100: =IFERROR(IF(OR(LEN(E100)=0,LEN(INDEX( scale[], MATCH(G100,scalename,0),3))=0),"",INDEX( scale[], MATCH(G100,scalename,0),3)),"")
C101: =IF(LEN(E101)>0,"4." & COUNTA($E$97:E101),"") -> 4.5 | E101: Are all 5S standards reviewed to create clear improvement plans for work areas? | H101: =IFERROR(IF(OR(LEN(E101)=0,LEN(INDEX( scale[], MATCH(G101,scalename,0),3))=0),"",INDEX( scale[], MATCH(G101,scalename,0),3)),"")
C102: =IF(LEN(E102)>0,"4." & COUNTA($E$97:E102),"") -> 4.6 | E102: Is there a documented process in place to ensure unnecessary items do not "creep" back into | H102: =IFERROR(IF(OR(LEN(E102)=0,LEN(INDEX( scale[], MATCH(G102,scalename,0),3))=0),"",INDEX( scale[], MATCH(G102,scalename,0),3)),"")
C123: 5S - SUSTAIN | D123: Subarea | E123: Questions | F123: Notes | G123: Result | H123: Score | I123: Total Score | J123: %
C124: =IF(LEN(E124)>0,"5." & COUNTA($E$124:E124),"") -> 5.1 | E124: Is a daily cleaning check sheet in place and up-to-date? | H124: =IFERROR(IF(OR(LEN(E124)=0,LEN(INDEX( scale[], MATCH(G124,scalename,0),3))=0),"",INDEX( scale[], MATCH(G124,scalename,0),3)),"") | I124: =SUM(H124:H129) -> 0 | J124: =IFERROR(SUM(H124:H129)/(maxscore*(COUNT(H124:H129))),"")
C125: =IF(LEN(E125)>0,"5." & COUNTA($E$124:E125),"") -> 5.2 | E125: Are all daily cleaning/maintenance reports completed and on file? | H125: =IFERROR(IF(OR(LEN(E125)=0,LEN(INDEX( scale[], MATCH(G125,scalename,0),3))=0),"",INDEX( scale[], MATCH(G125,scalename,0),3)),"")
C126: =IF(LEN(E126)>0,"5." & COUNTA($E$124:E126),"") -> 5.3 | E126: Have Sort-Straighten-Shine-Standardize been fully implemented and functioning well? Are past | H126: =IFERROR(IF(OR(LEN(E126)=0,LEN(INDEX( scale[], MATCH(G126,scalename,0),3))=0),"",INDEX( scale[], MATCH(G126,scalename,0),3)),"")
C127: =IF(LEN(E127)>0,"5." & COUNTA($E$124:E127),"") -> 5.4 | E127: audits posted and used for improvement? | H127: =IFERROR(IF(OR(LEN(E127)=0,LEN(INDEX( scale[], MATCH(G127,scalename,0),3))=0),"",INDEX( scale[], MATCH(G127,scalename,0),3)),"")
C128: =IF(LEN(E128)>0,"5." & COUNTA($E$124:E128),"") -> 5.5 | E128: Have all employees been adequately trained in 5S standard procedures? | H128: =IFERROR(IF(OR(LEN(E128)=0,LEN(INDEX( scale[], MATCH(G128,scalename,0),3))=0),"",INDEX( scale[], MATCH(G128,scalename,0),3)),"")
C129: =IF(LEN(E129)>0,"5." & COUNTA($E$124:E129),"") -> 5.6 | E129: Are all 5S procedures up-to-date and regularly reviewed? | H129: =IFERROR(IF(OR(LEN(E129)=0,LEN(INDEX( scale[], MATCH(G129,scalename,0),3))=0),"",INDEX( scale[], MATCH(G129,scalename,0),3)),"")

Sheet Audit8
C2: 5S AUDIT SCORECARD EXCEL TEMPLATE
C3: AUDIT #8 FORM
C7: ="5S " & E9 & " Area Audit" -> 5S Office Area Audit
C9: Date | D9: Audit Area | E9: Office | J9: Total score
C10: 44805 | D10: Work station | E10: Electric capacity measuer station | J10: =SUM(H16:H199) -> 0
C12: Month | D12: 5s Auditor | E12: Hannah Shaw | J12: Final result
C13: =IFERROR(IF(ISNUMBER(C10),IF(C12="Month",INDEX(monthsList,MONTH(C10),1),IF(MONTH(C10)<4,"Q1",IF(MONTH(C10)<7,"Q2",IF(MONTH(C10)<10,"Q3","Q4")))),""),"") -> September | D13: 5s Leader | E13: Jane Best | J13: =IFERROR(ROUND(J10/(COUNT(H16:H199)*maxscore),2),"")
C15: 1S - SORT | D15: Subarea | E15: Questions | F15: Notes | G15: Result | H15: Score | I15: Total Score | J15: %
C16: =IF(LEN(E16)>0,"1." & COUNTA($E$16:E16),"") -> 1.1 | D16: Computer | E16: No unused cables, computer parts, etc. | H16: =IFERROR(IF(OR(LEN(E16)=0,LEN(INDEX( scale[], MATCH(G16,scalename,0),3))=0),"",INDEX( scale[], MATCH(G16,scalename,0),3)),"") | I16: =SUM(H16:H21) -> 0 | J16: =IFERROR(SUM(H16:H21)/(maxscore*(COUNT(H16:H21))),"")
C17: =IF(LEN(E17)>0,"1." & COUNTA($E$16:E17),"") -> 1.2 | D17: Computer | E17: No private documents | H17: =IFERROR(IF(OR(LEN(E17)=0,LEN(INDEX( scale[], MATCH(G17,scalename,0),3))=0),"",INDEX( scale[], MATCH(G17,scalename,0),3)),"")
C18: =IF(LEN(E18)>0,"1." & COUNTA($E$16:E18),"") -> 1.3 | D18: Desk | E18: No excess documents, etc. | H18: =IFERROR(IF(OR(LEN(E18)=0,LEN(INDEX( scale[], MATCH(G18,scalename,0),3))=0),"",INDEX( scale[], MATCH(G18,scalename,0),3)),"")
C19: =IF(LEN(E19)>0,"1." & COUNTA($E$16:E19),"") -> 1.4 | D19: Desk | E19: No irrelevant reference materials, documents, etc. | H19: =IFERROR(IF(OR(LEN(E19)=0,LEN(INDEX( scale[], MATCH(G19,scalename,0),3))=0),"",INDEX( scale[], MATCH(G19,scalename,0),3)),"")
C20: =IF(LEN(E20)>0,"1." & COUNTA($E$16:E20),"") -> 1.5 | D20: Desk | E20: No confidentail data visible | H20: =IFERROR(IF(OR(LEN(E20)=0,LEN(INDEX( scale[], MATCH(G20,scalename,0),3))=0),"",INDEX( scale[], MATCH(G20,scalename,0),3)),"")
C21: =IF(LEN(E21)>0,"1." & COUNTA($E$16:E21),"") -> 1.6 | D21: Desk | E21: Standards for eliminating unnecessary items exist and are being followed. | H21: =IFERROR(IF(OR(LEN(E21)=0,LEN(INDEX( scale[], MATCH(G21,scalename,0),3))=0),"",INDEX( scale[], MATCH(G21,scalename,0),3)),"")
C42: 2S - SET | D42: Subarea | E42: Questions | F42: Notes | G42: Result | H42: Score | I42: Total Score | J42: %
C43: =IF(LEN(E43)>0,"2." & COUNTA($E$43:E43),"") -> 2.1 | D43: Desk | E43: Free of accumulations of papers and other objects. | H43: =IFERROR(IF(OR(LEN(E43)=0,LEN(INDEX( scale[], MATCH(G43,scalename,0),3))=0),"",INDEX( scale[], MATCH(G43,scalename,0),3)),"") | I43: =SUM(H43:H48) -> 0 | J43: =IFERROR(SUM(H43:H48)/(maxscore*(COUNT(H43:H48))),"")
C44: =IF(LEN(E44)>0,"2." & COUNTA($E$43:E44),"") -> 2.2 | D44: Drawers | E44: Free of accumulations of papers and other objects. | H44: =IFERROR(IF(OR(LEN(E44)=0,LEN(INDEX( scale[], MATCH(G44,scalename,0),3))=0),"",INDEX( scale[], MATCH(G44,scalename,0),3)),"")
C45: =IF(LEN(E45)>0,"2." & COUNTA($E$43:E45),"") -> 2.3 | D45: Desk | E45: All tools and equipment are stored in a fixed place. | H45: =IFERROR(IF(OR(LEN(E45)=0,LEN(INDEX( scale[], MATCH(G45,scalename,0),3))=0),"",INDEX( scale[], MATCH(G45,scalename,0),3)),"")
C46: =IF(LEN(E46)>0,"2." & COUNTA($E$43:E46),"") -> 2.4 | D46: Desk | E46: Equipment well organized for ease of take and return. | H46: =IFERROR(IF(OR(LEN(E46)=0,LEN(INDEX( scale[], MATCH(G46,scalename,0),3))=0),"",INDEX( scale[], MATCH(G46,scalename,0),3)),"")
C47: =IF(LEN(E47)>0,"2." & COUNTA($E$43:E47),"") -> 2.5 | D47: Computer | E47: Displays are tidy, free of old unnecassary data. | H47: =IFERROR(IF(OR(LEN(E47)=0,LEN(INDEX( scale[], MATCH(G47,scalename,0),3))=0),"",INDEX( scale[], MATCH(G47,scalename,0),3)),"")
C48: =IF(LEN(E48)>0,"2." & COUNTA($E$43:E48),"") -> 2.6 | D48: Open space | E48: Safety equipment easily accessible, in good condition. | H48: =IFERROR(IF(OR(LEN(E48)=0,LEN(INDEX( scale[], MATCH(G48,scalename,0),3))=0),"",INDEX( scale[], MATCH(G48,scalename,0),3)),"")
C69: 3S - SHINE | D69: Subarea | E69: Questions | F69: Notes | G69: Result | H69: Score | I69: Total Score | J69: %
C70: =IF(LEN(E70)>0,"3." & COUNTA($E$70:E70),"") -> 3.1 | D70: Desk | E70: Desk, chair are free from dirt and dust. | H70: =IFERROR(IF(OR(LEN(E70)=0,LEN(INDEX( scale[], MATCH(G70,scalename,0),3))=0),"",INDEX( scale[], MATCH(G70,scalename,0),3)),"") | I70: =SUM(H70:H75) -> 0 | J70: =IFERROR(SUM(H70:H75)/(maxscore*(COUNT(H70:H75))),"")
C71: =IF(LEN(E71)>0,"3." & COUNTA($E$70:E71),"") -> 3.2 | D71: Computer | E71: Equipment and tools are clean and in good condition. | H71: =IFERROR(IF(OR(LEN(E71)=0,LEN(INDEX( scale[], MATCH(G71,scalename,0),3))=0),"",INDEX( scale[], MATCH(G71,scalename,0),3)),"")
C72: =IF(LEN(E72)>0,"3." & COUNTA($E$70:E72),"") -> 3.3 | D72: Open space | E72: The floor is kept clean and no signs of damage. | H72: =IFERROR(IF(OR(LEN(E72)=0,LEN(INDEX( scale[], MATCH(G72,scalename,0),3))=0),"",INDEX( scale[], MATCH(G72,scalename,0),3)),"")
C73: =IF(LEN(E73)>0,"3." & COUNTA($E$70:E73),"") -> 3.4 | D73: Desk | E73: Cabinets are kept clean and in good condition. | H73: =IFERROR(IF(OR(LEN(E73)=0,LEN(INDEX( scale[], MATCH(G73,scalename,0),3))=0),"",INDEX( scale[], MATCH(G73,scalename,0),3)),"")
C74: =IF(LEN(E74)>0,"3." & COUNTA($E$70:E74),"") -> 3.5 | D74: Open space | E74: Lighting is enough and the angle and intensity of illumination are appropriate. | H74: =IFERROR(IF(OR(LEN(E74)=0,LEN(INDEX( scale[], MATCH(G74,scalename,0),3))=0),"",INDEX( scale[], MATCH(G74,scalename,0),3)),"")
C75: =IF(LEN(E75)>0,"3." & COUNTA($E$70:E75),"") -> 3.6 | D75: Open space | E75: Good movement of air exists through the room. | H75: =IFERROR(IF(OR(LEN(E75)=0,LEN(INDEX( scale[], MATCH(G75,scalename,0),3))=0),"",INDEX( scale[], MATCH(G75,scalename,0),3)),"")
C96: 4S - STANDARDIZE | D96: Subarea | E96: Questions | F96: Notes | G96: Result | H96: Score | I96: Total Score | J96: %
C97: =IF(LEN(E97)>0,"4." & COUNTA($E$97:E97),"") -> 4.1 | D97: Open space | E97: Visual controls and display boards are used and regularly updated. | H97: =IFERROR(IF(OR(LEN(E97)=0,LEN(INDEX( scale[], MATCH(G97,scalename,0),3))=0),"",INDEX( scale[], MATCH(G97,scalename,0),3)),"") | I97: =SUM(H97:H102) -> 0 | J97: =IFERROR(SUM(H97:H102)/(maxscore*(COUNT(H97:H102))),"")
C98: =IF(LEN(E98)>0,"4." & COUNTA($E$97:E98),"") -> 4.2 | D98: Open space | E98: Procedures for maintaining the first three S's are being displayed. | H98: =IFERROR(IF(OR(LEN(E98)=0,LEN(INDEX( scale[], MATCH(G98,scalename,0),3))=0),"",INDEX( scale[], MATCH(G98,scalename,0),3)),"")
C99: =IF(LEN(E99)>0,"4." & COUNTA($E$97:E99),"") -> 4.3 | D99: Open space | E99: Everyone knows his responsibilities, when and how. | H99: =IFERROR(IF(OR(LEN(E99)=0,LEN(INDEX( scale[], MATCH(G99,scalename,0),3))=0),"",INDEX( scale[], MATCH(G99,scalename,0),3)),"")
C100: =IF(LEN(E100)>0,"4." & COUNTA($E$97:E100),"") -> 4.4 | D100: Open space | E100: Regular audits are taking place using checklists and measures. | H100: =IFERROR(IF(OR(LEN(E100)=0,LEN(INDEX( scale[], MATCH(G100,scalename,0),3))=0),"",INDEX( scale[], MATCH(G100,scalename,0),3)),"")
C101: =IF(LEN(E101)>0,"4." & COUNTA($E$97:E101),"") | H101: =IFERROR(IF(OR(LEN(E101)=0,LEN(INDEX( scale[], MATCH(G101,scalename,0),3))=0),"",INDEX( scale[], MATCH(G101,scalename,0),3)),"")
C102: =IF(LEN(E102)>0,"4." & COUNTA($E$97:E102),"") | H102: =IFERROR(IF(OR(LEN(E102)=0,LEN(INDEX( scale[], MATCH(G102,scalename,0),3))=0),"",INDEX( scale[], MATCH(G102,scalename,0),3)),"")
C123: 5S - SUSTAIN | D123: Subarea | E123: Questions | F123: Notes | G123: Result | H123: Score | I123: Total Score | J123: %
C124: =IF(LEN(E124)>0,"5." & COUNTA($E$124:E124),"") -> 5.1 | E124: 5S seems to be the way of life rather than just a routine. | H124: =IFERROR(IF(OR(LEN(E124)=0,LEN(INDEX( scale[], MATCH(G124,scalename,0),3))=0),"",INDEX( scale[], MATCH(G124,scalename,0),3)),"") | I124: =SUM(H124:H129) -> 0 | J124: =IFERROR(SUM(H124:H129)/(maxscore*(COUNT(H124:H129))),"")
C125: =IF(LEN(E125)>0,"5." & COUNTA($E$124:E125),"") -> 5.2 | E125: Success stories are being displayed (i.e. before and after pictures). | H125: =IFERROR(IF(OR(LEN(E125)=0,LEN(INDEX( scale[], MATCH(G125,scalename,0),3))=0),"",INDEX( scale[], MATCH(G125,scalename,0),3)),"")
C126: =IF(LEN(E126)>0,"5." & COUNTA($E$124:E126),"") -> 5.3 | E126: Rewards and recognition is part of the 5S system. | H126: =IFERROR(IF(OR(LEN(E126)=0,LEN(INDEX( scale[], MATCH(G126,scalename,0),3))=0),"",INDEX( scale[], MATCH(G126,scalename,0),3)),"")
C127: =IF(LEN(E127)>0,"5." & COUNTA($E$124:E127),"") | H127: =IFERROR(IF(OR(LEN(E127)=0,LEN(INDEX( scale[], MATCH(G127,scalename,0),3))=0),"",INDEX( scale[], MATCH(G127,scalename,0),3)),"")
C128: =IF(LEN(E128)>0,"5." & COUNTA($E$124:E128),"") | H128: =IFERROR(IF(OR(LEN(E128)=0,LEN(INDEX( scale[], MATCH(G128,scalename,0),3))=0),"",INDEX( scale[], MATCH(G128,scalename,0),3)),"")
C129: =IF(LEN(E129)>0,"5." & COUNTA($E$124:E129),"") | H129: =IFERROR(IF(OR(LEN(E129)=0,LEN(INDEX( scale[], MATCH(G129,scalename,0),3))=0),"",INDEX( scale[], MATCH(G129,scalename,0),3)),"")

Sheet Audit9
C2: 5S AUDIT SCORECARD EXCEL TEMPLATE
C3: AUDIT #9 FORM
C7: ="5S " & E9 & " Area Audit" -> 5S IT Project Area Audit
C9: Date | D9: Audit Area | E9: IT Project | J9: Total score
C10: 44819 | D10: Work station | E10: S01 | J10: =SUM(H16:H199) -> 0
C12: Quarter | D12: 5s Auditor | J12: Final result
C13: =IFERROR(IF(ISNUMBER(C10),IF(C12="Month",INDEX(monthsList,MONTH(C10),1),IF(MONTH(C10)<4,"Q1",IF(MONTH(C10)<7,"Q2",IF(MONTH(C10)<10,"Q3","Q4")))),""),"") -> Q3 | D13: 5s Leader | J13: =IFERROR(ROUND(J10/(COUNT(H16:H199)*maxscore),2),"")
C15: 1S - SORT | D15: Subarea | E15: Questions | F15: Notes | G15: Result | H15: Score | I15: Total Score | J15: %
C16: =IF(LEN(E16)>0,"1." & COUNTA($E$16:E16),"") -> 1.1 | E16: Program managers working with various stakeholders to understand priorities. | H16: =IFERROR(IF(OR(LEN(E16)=0,LEN(INDEX( scale[], MATCH(G16,scalename,0),3))=0),"",INDEX( scale[], MATCH(G16,scalename,0),3)),"") | I16: =SUM(H16:H21) -> 0 | J16: =IFERROR(SUM(H16:H21)/(maxscore*(COUNT(H16:H21))),"")
C17: =IF(LEN(E17)>0,"1." & COUNTA($E$16:E17),"") -> 1.2 | E17: Product owners working on task backlogs to prioritize what’s next! | H17: =IFERROR(IF(OR(LEN(E17)=0,LEN(INDEX( scale[], MATCH(G17,scalename,0),3))=0),"",INDEX( scale[], MATCH(G17,scalename,0),3)),"")
C18: =IF(LEN(E18)>0,"1." & COUNTA($E$16:E18),"") -> 1.3 | E18: Architects laying roadmaps for what to build next. | H18: =IFERROR(IF(OR(LEN(E18)=0,LEN(INDEX( scale[], MATCH(G18,scalename,0),3))=0),"",INDEX( scale[], MATCH(G18,scalename,0),3)),"")
C19: =IF(LEN(E19)>0,"1." & COUNTA($E$16:E19),"") -> 1.4 | E19: Engineers cleaning up old code and tests that don’t matter, removing stale build artifacts, recycling unused deployments, discover limitations. | H19: =IFERROR(IF(OR(LEN(E19)=0,LEN(INDEX( scale[], MATCH(G19,scalename,0),3))=0),"",INDEX( scale[], MATCH(G19,scalename,0),3)),"")
C20: =IF(LEN(E20)>0,"1." & COUNTA($E$16:E20),"") | H20: =IFERROR(IF(OR(LEN(E20)=0,LEN(INDEX( scale[], MATCH(G20,scalename,0),3))=0),"",INDEX( scale[], MATCH(G20,scalename,0),3)),"")
C21: =IF(LEN(E21)>0,"1." & COUNTA($E$16:E21),"") | H21: =IFERROR(IF(OR(LEN(E21)=0,LEN(INDEX( scale[], MATCH(G21,scalename,0),3))=0),"",INDEX( scale[], MATCH(G21,scalename,0),3)),"")
C42: 2S - SET | D42: Subarea | E42: Questions | F42: Notes | G42: Result | H42: Score | I42: Total Score | J42: %
C43: =IF(LEN(E43)>0,"2." & COUNTA($E$43:E43),"") -> 2.1 | E43: Program managers have aligned stakeholders and have set priorities. | H43: =IFERROR(IF(OR(LEN(E43)=0,LEN(INDEX( scale[], MATCH(G43,scalename,0),3))=0),"",INDEX( scale[], MATCH(G43,scalename,0),3)),"") | I43: =SUM(H43:H48) -> 0 | J43: =IFERROR(SUM(H43:H48)/(maxscore*(COUNT(H43:H48))),"")
C44: =IF(LEN(E44)>0,"2." & COUNTA($E$43:E44),"") -> 2.2 | E44: Product owners know what is coming next and can communicate about it. | H44: =IFERROR(IF(OR(LEN(E44)=0,LEN(INDEX( scale[], MATCH(G44,scalename,0),3))=0),"",INDEX( scale[], MATCH(G44,scalename,0),3)),"")
C45: =IF(LEN(E45)>0,"2." & COUNTA($E$43:E45),"") -> 2.3 | E45: Architects have a clear runway where they can collaborate. | H45: =IFERROR(IF(OR(LEN(E45)=0,LEN(INDEX( scale[], MATCH(G45,scalename,0),3))=0),"",INDEX( scale[], MATCH(G45,scalename,0),3)),"")
C46: =IF(LEN(E46)>0,"2." & COUNTA($E$43:E46),"") -> 2.4 | E46: Engineers can refactor design, implement, and set things to support upcoming business needs. | H46: =IFERROR(IF(OR(LEN(E46)=0,LEN(INDEX( scale[], MATCH(G46,scalename,0),3))=0),"",INDEX( scale[], MATCH(G46,scalename,0),3)),"")
C47: =IF(LEN(E47)>0,"2." & COUNTA($E$43:E47),"") | H47: =IFERROR(IF(OR(LEN(E47)=0,LEN(INDEX( scale[], MATCH(G47,scalename,0),3))=0),"",INDEX( scale[], MATCH(G47,scalename,0),3)),"")
C48: =IF(LEN(E48)>0,"2." & COUNTA($E$43:E48),"") | H48: =IFERROR(IF(OR(LEN(E48)=0,LEN(INDEX( scale[], MATCH(G48,scalename,0),3))=0),"",INDEX( scale[], MATCH(G48,scalename,0),3)),"")
C69: 3S - SHINE | D69: Subarea | E69: Questions | F69: Notes | G69: Result | H69: Score | I69: Total Score | J69: %
C70: =IF(LEN(E70)>0,"3." & COUNTA($E$70:E70),"") -> 3.1 | E70: Program managers can identify risk and de-risk. | H70: =IFERROR(IF(OR(LEN(E70)=0,LEN(INDEX( scale[], MATCH(G70,scalename,0),3))=0),"",INDEX( scale[], MATCH(G70,scalename,0),3)),"") | I70: =SUM(H70:H75) -> 0 | J70: =IFERROR(SUM(H70:H75)/(maxscore*(COUNT(H70:H75))),"")
C71: =IF(LEN(E71)>0,"3." & COUNTA($E$70:E71),"") -> 3.2 | E71: Product owners can evaluate what is built and reprioritize as necessary. | H71: =IFERROR(IF(OR(LEN(E71)=0,LEN(INDEX( scale[], MATCH(G71,scalename,0),3))=0),"",INDEX( scale[], MATCH(G71,scalename,0),3)),"")
C72: =IF(LEN(E72)>0,"3." & COUNTA($E$70:E72),"") -> 3.3 | E72: Architects can build prototypes and showcase alignment and directions towards business needs. | H72: =IFERROR(IF(OR(LEN(E72)=0,LEN(INDEX( scale[], MATCH(G72,scalename,0),3))=0),"",INDEX( scale[], MATCH(G72,scalename,0),3)),"")
C73: =IF(LEN(E73)>0,"3." & COUNTA($E$70:E73),"") -> 3.4 | E73: Engineers ramp up improving limitations, creates direction on where the implementation must be for best results. | H73: =IFERROR(IF(OR(LEN(E73)=0,LEN(INDEX( scale[], MATCH(G73,scalename,0),3))=0),"",INDEX( scale[], MATCH(G73,scalename,0),3)),"")
C74: =IF(LEN(E74)>0,"3." & COUNTA($E$70:E74),"") | H74: =IFERROR(IF(OR(LEN(E74)=0,LEN(INDEX( scale[], MATCH(G74,scalename,0),3))=0),"",INDEX( scale[], MATCH(G74,scalename,0),3)),"")
C75: =IF(LEN(E75)>0,"3." & COUNTA($E$70:E75),"") | H75: =IFERROR(IF(OR(LEN(E75)=0,LEN(INDEX( scale[], MATCH(G75,scalename,0),3))=0),"",INDEX( scale[], MATCH(G75,scalename,0),3)),"")
C96: 4S - STANDARDIZE | D96: Subarea | E96: Questions | F96: Notes | G96: Result | H96: Score | I96: Total Score | J96: %
C97: =IF(LEN(E97)>0,"4." & COUNTA($E$97:E97),"") -> 4.1 | E97: Program managers identify limitations in processes, create best practices. | H97: =IFERROR(IF(OR(LEN(E97)=0,LEN(INDEX( scale[], MATCH(G97,scalename,0),3))=0),"",INDEX( scale[], MATCH(G97,scalename,0),3)),"") | I97: =SUM(H97:H102) -> 0 | J97: =IFERROR(SUM(H97:H102)/(maxscore*(COUNT(H97:H102))),"")
C98: =IF(LEN(E98)>0,"4." & COUNTA($E$97:E98),"") -> 4.2 | E98: Product owners identify challenges and shape up best practices for high-quality deliverables. | H98: =IFERROR(IF(OR(LEN(E98)=0,LEN(INDEX( scale[], MATCH(G98,scalename,0),3))=0),"",INDEX( scale[], MATCH(G98,scalename,0),3)),"")
C99: =IF(LEN(E99)>0,"4." & COUNTA($E$97:E99),"") -> 4.3 | E99: Architects identify inefficiencies in code coverage, tests, reviews, and set up standard practices. | H99: =IFERROR(IF(OR(LEN(E99)=0,LEN(INDEX( scale[], MATCH(G99,scalename,0),3))=0),"",INDEX( scale[], MATCH(G99,scalename,0),3)),"")
C100: =IF(LEN(E100)>0,"4." & COUNTA($E$97:E100),"") -> 4.4 | E100: Engineers identify tools and technology gaps that hamper productivity and sets up standard practices. | H100: =IFERROR(IF(OR(LEN(E100)=0,LEN(INDEX( scale[], MATCH(G100,scalename,0),3))=0),"",INDEX( scale[], MATCH(G100,scalename,0),3)),"")
C101: =IF(LEN(E101)>0,"4." & COUNTA($E$97:E101),"") | H101: =IFERROR(IF(OR(LEN(E101)=0,LEN(INDEX( scale[], MATCH(G101,scalename,0),3))=0),"",INDEX( scale[], MATCH(G101,scalename,0),3)),"")
C102: =IF(LEN(E102)>0,"4." & COUNTA($E$97:E102),"") | H102: =IFERROR(IF(OR(LEN(E102)=0,LEN(INDEX( scale[], MATCH(G102,scalename,0),3))=0),"",INDEX( scale[], MATCH(G102,scalename,0),3)),"")
C123: 5S - SUSTAIN | D123: Subarea | E123: Questions | F123: Notes | G123: Result | H123: Score | I123: Total Score | J123: %
C124: =IF(LEN(E124)>0,"5." & COUNTA($E$124:E124),"") -> 5.1 | E124: Program managers monitor best practices, sorts and set things in order, and make improvements as necessary. | H124: =IFERROR(IF(OR(LEN(E124)=0,LEN(INDEX( scale[], MATCH(G124,scalename,0),3))=0),"",INDEX( scale[], MATCH(G124,scalename,0),3)),"") | I124: =SUM(H124:H129) -> 0 | J124: =IFERROR(SUM(H124:H129)/(maxscore*(COUNT(H124:H129))),"")
C125: =IF(LEN(E125)>0,"5." & COUNTA($E$124:E125),"") -> 5.2 | E125: The product owner monitors backlogs, throws away what is unnecessary, and keeps focus on what is required next. | H125: =IFERROR(IF(OR(LEN(E125)=0,LEN(INDEX( scale[], MATCH(G125,scalename,0),3))=0),"",INDEX( scale[], MATCH(G125,scalename,0),3)),"")
C126: =IF(LEN(E126)>0,"5." & COUNTA($E$124:E126),"") -> 5.3 | E126: Architects evaluate decisions made and improves the runway based on various business and people parameters. | H126: =IFERROR(IF(OR(LEN(E126)=0,LEN(INDEX( scale[], MATCH(G126,scalename,0),3))=0),"",INDEX( scale[], MATCH(G126,scalename,0),3)),"")
C127: =IF(LEN(E127)>0,"5." & COUNTA($E$124:E127),"") -> 5.4 | E127: Engineers evaluate practices, coding guidelines, tools, and technologies and continuously refactors them for optimal operations. | H127: =IFERROR(IF(OR(LEN(E127)=0,LEN(INDEX( scale[], MATCH(G127,scalename,0),3))=0),"",INDEX( scale[], MATCH(G127,scalename,0),3)),"")
C128: =IF(LEN(E128)>0,"5." & COUNTA($E$124:E128),"") | H128: =IFERROR(IF(OR(LEN(E128)=0,LEN(INDEX( scale[], MATCH(G128,scalename,0),3))=0),"",INDEX( scale[], MATCH(G128,scalename,0),3)),"")
C129: =IF(LEN(E129)>0,"5." & COUNTA($E$124:E129),"") | H129: =IFERROR(IF(OR(LEN(E129)=0,LEN(INDEX( scale[], MATCH(G129,scalename,0),3))=0),"",INDEX( scale[], MATCH(G129,scalename,0),3)),"")

Sheet Audit10
C2: 5S AUDIT SCORECARD EXCEL TEMPLATE
C3: AUDIT #10 FORM
C7: ="5S " & E9 & " Area Audit" -> 5S Area Audit
C9: Date | D9: Audit Area | J9: Total score
D10: Work station | J10: =SUM(H16:H199) -> 0
C12: Quarter | D12: 5s Auditor | J12: Final result
C13: =IFERROR(IF(ISNUMBER(C10),IF(C12="Month",INDEX(monthsList,MONTH(C10),1),IF(MONTH(C10)<4,"Q1",IF(MONTH(C10)<7,"Q2",IF(MONTH(C10)<10,"Q3","Q4")))),""),"") | D13: 5s Leader | J13: =IFERROR(ROUND(J10/(COUNT(H16:H199)*maxscore),2),"")
C15: 1S - SORT | D15: Subarea | E15: Questions | F15: Notes | G15: Result | H15: Score | I15: Total Score | J15: %
C16: =IF(LEN(E16)>0,"1." & COUNTA($E$16:E16),"") | H16: =IFERROR(IF(OR(LEN(E16)=0,LEN(INDEX( scale[], MATCH(G16,scalename,0),3))=0),"",INDEX( scale[], MATCH(G16,scalename,0),3)),"") | I16: =SUM(H16:H21) -> 0 | J16: =IFERROR(SUM(H16:H21)/(maxscore*(COUNT(H16:H21))),"")
C17: =IF(LEN(E17)>0,"1." & COUNTA($E$16:E17),"") | H17: =IFERROR(IF(OR(LEN(E17)=0,LEN(INDEX( scale[], MATCH(G17,scalename,0),3))=0),"",INDEX( scale[], MATCH(G17,scalename,0),3)),"")
C18: =IF(LEN(E18)>0,"1." & COUNTA($E$16:E18),"") | H18: =IFERROR(IF(OR(LEN(E18)=0,LEN(INDEX( scale[], MATCH(G18,scalename,0),3))=0),"",INDEX( scale[], MATCH(G18,scalename,0),3)),"")
C19: =IF(LEN(E19)>0,"1." & COUNTA($E$16:E19),"") | H19: =IFERROR(IF(OR(LEN(E19)=0,LEN(INDEX( scale[], MATCH(G19,scalename,0),3))=0),"",INDEX( scale[], MATCH(G19,scalename,0),3)),"")
C20: =IF(LEN(E20)>0,"1." & COUNTA($E$16:E20),"") | H20: =IFERROR(IF(OR(LEN(E20)=0,LEN(INDEX( scale[], MATCH(G20,scalename,0),3))=0),"",INDEX( scale[], MATCH(G20,scalename,0),3)),"")
C21: =IF(LEN(E21)>0,"1." & COUNTA($E$16:E21),"") | H21: =IFERROR(IF(OR(LEN(E21)=0,LEN(INDEX( scale[], MATCH(G21,scalename,0),3))=0),"",INDEX( scale[], MATCH(G21,scalename,0),3)),"")
C42: 2S - SET | D42: Subarea | E42: Questions | F42: Notes | G42: Result | H42: Score | I42: Total Score | J42: %
C43: =IF(LEN(E43)>0,"2." & COUNTA($E$43:E43),"") | H43: =IFERROR(IF(OR(LEN(E43)=0,LEN(INDEX( scale[], MATCH(G43,scalename,0),3))=0),"",INDEX( scale[], MATCH(G43,scalename,0),3)),"") | I43: =SUM(H43:H48) -> 0 | J43: =IFERROR(SUM(H43:H48)/(maxscore*(COUNT(H43:H48))),"")
C44: =IF(LEN(E44)>0,"2." & COUNTA($E$43:E44),"") | H44: =IFERROR(IF(OR(LEN(E44)=0,LEN(INDEX( scale[], MATCH(G44,scalename,0),3))=0),"",INDEX( scale[], MATCH(G44,scalename,0),3)),"")
C45: =IF(LEN(E45)>0,"2." & COUNTA($E$43:E45),"") | H45: =IFERROR(IF(OR(LEN(E45)=0,LEN(INDEX( scale[], MATCH(G45,scalename,0),3))=0),"",INDEX( scale[], MATCH(G45,scalename,0),3)),"")
C46: =IF(LEN(E46)>0,"2." & COUNTA($E$43:E46),"") | H46: =IFERROR(IF(OR(LEN(E46)=0,LEN(INDEX( scale[], MATCH(G46,scalename,0),3))=0),"",INDEX( scale[], MATCH(G46,scalename,0),3)),"")
C47: =IF(LEN(E47)>0,"2." & COUNTA($E$43:E47),"") | H47: =IFERROR(IF(OR(LEN(E47)=0,LEN(INDEX( scale[], MATCH(G47,scalename,0),3))=0),"",INDEX( scale[], MATCH(G47,scalename,0),3)),"")
C48: =IF(LEN(E48)>0,"2." & COUNTA($E$43:E48),"") | H48: =IFERROR(IF(OR(LEN(E48)=0,LEN(INDEX( scale[], MATCH(G48,scalename,0),3))=0),"",INDEX( scale[], MATCH(G48,scalename,0),3)),"")
C69: 3S - SHINE | D69: Subarea | E69: Questions | F69: Notes | G69: Result | H69: Score | I69: Total Score | J69: %
C70: =IF(LEN(E70)>0,"3." & COUNTA($E$70:E70),"") | H70: =IFERROR(IF(OR(LEN(E70)=0,LEN(INDEX( scale[], MATCH(G70,scalename,0),3))=0),"",INDEX( scale[], MATCH(G70,scalename,0),3)),"") | I70: =SUM(H70:H75) -> 0 | J70: =IFERROR(SUM(H70:H75)/(maxscore*(COUNT(H70:H75))),"")
C71: =IF(LEN(E71)>0,"3." & COUNTA($E$70:E71),"") | H71: =IFERROR(IF(OR(LEN(E71)=0,LEN(INDEX( scale[], MATCH(G71,scalename,0),3))=0),"",INDEX( scale[], MATCH(G71,scalename,0),3)),"")
C72: =IF(LEN(E72)>0,"3." & COUNTA($E$70:E72),"") | H72: =IFERROR(IF(OR(LEN(E72)=0,LEN(INDEX( scale[], MATCH(G72,scalename,0),3))=0),"",INDEX( scale[], MATCH(G72,scalename,0),3)),"")
C73: =IF(LEN(E73)>0,"3." & COUNTA($E$70:E73),"") | H73: =IFERROR(IF(OR(LEN(E73)=0,LEN(INDEX( scale[], MATCH(G73,scalename,0),3))=0),"",INDEX( scale[], MATCH(G73,scalename,0),3)),"")
C74: =IF(LEN(E74)>0,"3." & COUNTA($E$70:E74),"") | H74: =IFERROR(IF(OR(LEN(E74)=0,LEN(INDEX( scale[], MATCH(G74,scalename,0),3))=0),"",INDEX( scale[], MATCH(G74,scalename,0),3)),"")
C75: =IF(LEN(E75)>0,"3." & COUNTA($E$70:E75),"") | H75: =IFERROR(IF(OR(LEN(E75)=0,LEN(INDEX( scale[], MATCH(G75,scalename,0),3))=0),"",INDEX( scale[], MATCH(G75,scalename,0),3)),"")
C96: 4S - STANDARDIZE | D96: Subarea | E96: Questions | F96: Notes | G96: Result | H96: Score | I96: Total Score | J96: %
C97: =IF(LEN(E97)>0,"4." & COUNTA($E$97:E97),"") | H97: =IFERROR(IF(OR(LEN(E97)=0,LEN(INDEX( scale[], MATCH(G97,scalename,0),3))=0),"",INDEX( scale[], MATCH(G97,scalename,0),3)),"") | I97: =SUM(H97:H102) -> 0 | J97: =IFERROR(SUM(H97:H102)/(maxscore*(COUNT(H97:H102))),"")
C98: =IF(LEN(E98)>0,"4." & COUNTA($E$97:E98),"") | H98: =IFERROR(IF(OR(LEN(E98)=0,LEN(INDEX( scale[], MATCH(G98,scalename,0),3))=0),"",INDEX( scale[], MATCH(G98,scalename,0),3)),"")
C99: =IF(LEN(E99)>0,"4." & COUNTA($E$97:E99),"") | H99: =IFERROR(IF(OR(LEN(E99)=0,LEN(INDEX( scale[], MATCH(G99,scalename,0),3))=0),"",INDEX( scale[], MATCH(G99,scalename,0),3)),"")
C100: =IF(LEN(E100)>0,"4." & COUNTA($E$97:E100),"") | H100: =IFERROR(IF(OR(LEN(E100)=0,LEN(INDEX( scale[], MATCH(G100,scalename,0),3))=0),"",INDEX( scale[], MATCH(G100,scalename,0),3)),"")
C101: =IF(LEN(E101)>0,"4." & COUNTA($E$97:E101),"") | H101: =IFERROR(IF(OR(LEN(E101)=0,LEN(INDEX( scale[], MATCH(G101,scalename,0),3))=0),"",INDEX( scale[], MATCH(G101,scalename,0),3)),"")
C102: =IF(LEN(E102)>0,"4." & COUNTA($E$97:E102),"") | H102: =IFERROR(IF(OR(LEN(E102)=0,LEN(INDEX( scale[], MATCH(G102,scalename,0),3))=0),"",INDEX( scale[], MATCH(G102,scalename,0),3)),"")
C123: 5S - SUSTAIN | D123: Subarea | E123: Questions | F123: Notes | G123: Result | H123: Score | I123: Total Score | J123: %
C124: =IF(LEN(E124)>0,"5." & COUNTA($E$124:E124),"") | H124: =IFERROR(IF(OR(LEN(E124)=0,LEN(INDEX( scale[], MATCH(G124,scalename,0),3))=0),"",INDEX( scale[], MATCH(G124,scalename,0),3)),"") | I124: =SUM(H124:H129) -> 0 | J124: =IFERROR(SUM(H124:H129)/(maxscore*(COUNT(H124:H129))),"")
C125: =IF(LEN(E125)>0,"5." & COUNTA($E$124:E125),"") | H125: =IFERROR(IF(OR(LEN(E125)=0,LEN(INDEX( scale[], MATCH(G125,scalename,0),3))=0),"",INDEX( scale[], MATCH(G125,scalename,0),3)),"")
C126: =IF(LEN(E126)>0,"5." & COUNTA($E$124:E126),"") | H126: =IFERROR(IF(OR(LEN(E126)=0,LEN(INDEX( scale[], MATCH(G126,scalename,0),3))=0),"",INDEX( scale[], MATCH(G126,scalename,0),3)),"")
C127: =IF(LEN(E127)>0,"5." & COUNTA($E$124:E127),"") | H127: =IFERROR(IF(OR(LEN(E127)=0,LEN(INDEX( scale[], MATCH(G127,scalename,0),3))=0),"",INDEX( scale[], MATCH(G127,scalename,0),3)),"")
C128: =IF(LEN(E128)>0,"5." & COUNTA($E$124:E128),"") | H128: =IFERROR(IF(OR(LEN(E128)=0,LEN(INDEX( scale[], MATCH(G128,scalename,0),3))=0),"",INDEX( scale[], MATCH(G128,scalename,0),3)),"")
C129: =IF(LEN(E129)>0,"5." & COUNTA($E$124:E129),"") | H129: =IFERROR(IF(OR(LEN(E129)=0,LEN(INDEX( scale[], MATCH(G129,scalename,0),3))=0),"",INDEX( scale[], MATCH(G129,scalename,0),3)),"")

Sheet Audit11
C2: 5S AUDIT SCORECARD EXCEL TEMPLATE
C3: AUDIT #11 FORM
C7: ="5S " & E9 & " Area Audit" -> 5S Area Audit
C9: Date | D9: Audit Area | J9: Total score
D10: Work station | J10: =SUM(H16:H199) -> 0
C12: Quarter | D12: 5s Auditor | J12: Final result
C13: =IFERROR(IF(ISNUMBER(C10),IF(C12="Month",INDEX(monthsList,MONTH(C10),1),IF(MONTH(C10)<4,"Q1",IF(MONTH(C10)<7,"Q2",IF(MONTH(C10)<10,"Q3","Q4")))),""),"") | D13: 5s Leader | J13: =IFERROR(ROUND(J10/(COUNT(H16:H199)*maxscore),2),"")
C15: 1S - SORT | D15: Subarea | E15: Questions | F15: Notes | G15: Result | H15: Score | I15: Total Score | J15: %
C16: =IF(LEN(E16)>0,"1." & COUNTA($E$16:E16),"") | H16: =IFERROR(IF(OR(LEN(E16)=0,LEN(INDEX( scale[], MATCH(G16,scalename,0),3))=0),"",INDEX( scale[], MATCH(G16,scalename,0),3)),"") | I16: =SUM(H16:H21) -> 0 | J16: =IFERROR(SUM(H16:H21)/(maxscore*(COUNT(H16:H21))),"")
C17: =IF(LEN(E17)>0,"1." & COUNTA($E$16:E17),"") | H17: =IFERROR(IF(OR(LEN(E17)=0,LEN(INDEX( scale[], MATCH(G17,scalename,0),3))=0),"",INDEX( scale[], MATCH(G17,scalename,0),3)),"")
C18: =IF(LEN(E18)>0,"1." & COUNTA($E$16:E18),"") | H18: =IFERROR(IF(OR(LEN(E18)=0,LEN(INDEX( scale[], MATCH(G18,scalename,0),3))=0),"",INDEX( scale[], MATCH(G18,scalename,0),3)),"")
C19: =IF(LEN(E19)>0,"1." & COUNTA($E$16:E19),"") | H19: =IFERROR(IF(OR(LEN(E19)=0,LEN(INDEX( scale[], MATCH(G19,scalename,0),3))=0),"",INDEX( scale[], MATCH(G19,scalename,0),3)),"")
C20: =IF(LEN(E20)>0,"1." & COUNTA($E$16:E20),"") | H20: =IFERROR(IF(OR(LEN(E20)=0,LEN(INDEX( scale[], MATCH(G20,scalename,0),3))=0),"",INDEX( scale[], MATCH(G20,scalename,0),3)),"")
C21: =IF(LEN(E21)>0,"1." & COUNTA($E$16:E21),"") | H21: =IFERROR(IF(OR(LEN(E21)=0,LEN(INDEX( scale[], MATCH(G21,scalename,0),3))=0),"",INDEX( scale[], MATCH(G21,scalename,0),3)),"")
C42: 2S - SET | D42: Subarea | E42: Questions | F42: Notes | G42: Result | H42: Score | I42: Total Score | J42: %
C43: =IF(LEN(E43)>0,"2." & COUNTA($E$43:E43),"") | H43: =IFERROR(IF(OR(LEN(E43)=0,LEN(INDEX( scale[], MATCH(G43,scalename,0),3))=0),"",INDEX( scale[], MATCH(G43,scalename,0),3)),"") | I43: =SUM(H43:H48) -> 0 | J43: =IFERROR(SUM(H43:H48)/(maxscore*(COUNT(H43:H48))),"")
C44: =IF(LEN(E44)>0,"2." & COUNTA($E$43:E44),"") | H44: =IFERROR(IF(OR(LEN(E44)=0,LEN(INDEX( scale[], MATCH(G44,scalename,0),3))=0),"",INDEX( scale[], MATCH(G44,scalename,0),3)),"")
C45: =IF(LEN(E45)>0,"2." & COUNTA($E$43:E45),"") | H45: =IFERROR(IF(OR(LEN(E45)=0,LEN(INDEX( scale[], MATCH(G45,scalename,0),3))=0),"",INDEX( scale[], MATCH(G45,scalename,0),3)),"")
C46: =IF(LEN(E46)>0,"2." & COUNTA($E$43:E46),"") | H46: =IFERROR(IF(OR(LEN(E46)=0,LEN(INDEX( scale[], MATCH(G46,scalename,0),3))=0),"",INDEX( scale[], MATCH(G46,scalename,0),3)),"")
C47: =IF(LEN(E47)>0,"2." & COUNTA($E$43:E47),"") | H47: =IFERROR(IF(OR(LEN(E47)=0,LEN(INDEX( scale[], MATCH(G47,scalename,0),3))=0),"",INDEX( scale[], MATCH(G47,scalename,0),3)),"")
C48: =IF(LEN(E48)>0,"2." & COUNTA($E$43:E48),"") | H48: =IFERROR(IF(OR(LEN(E48)=0,LEN(INDEX( scale[], MATCH(G48,scalename,0),3))=0),"",INDEX( scale[], MATCH(G48,scalename,0),3)),"")
C69: 3S - SHINE | D69: Subarea | E69: Questions | F69: Notes | G69: Result | H69: Score | I69: Total Score | J69: %
C70: =IF(LEN(E70)>0,"3." & COUNTA($E$70:E70),"") | H70: =IFERROR(IF(OR(LEN(E70)=0,LEN(INDEX( scale[], MATCH(G70,scalename,0),3))=0),"",INDEX( scale[], MATCH(G70,scalename,0),3)),"") | I70: =SUM(H70:H75) -> 0 | J70: =IFERROR(SUM(H70:H75)/(maxscore*(COUNT(H70:H75))),"")
C71: =IF(LEN(E71)>0,"3." & COUNTA($E$70:E71),"") | H71: =IFERROR(IF(OR(LEN(E71)=0,LEN(INDEX( scale[], MATCH(G71,scalename,0),3))=0),"",INDEX( scale[], MATCH(G71,scalename,0),3)),"")
C72: =IF(LEN(E72)>0,"3." & COUNTA($E$70:E72),"") | H72: =IFERROR(IF(OR(LEN(E72)=0,LEN(INDEX( scale[], MATCH(G72,scalename,0),3))=0),"",INDEX( scale[], MATCH(G72,scalename,0),3)),"")
C73: =IF(LEN(E73)>0,"3." & COUNTA($E$70:E73),"") | H73: =IFERROR(IF(OR(LEN(E73)=0,LEN(INDEX( scale[], MATCH(G73,scalename,0),3))=0),"",INDEX( scale[], MATCH(G73,scalename,0),3)),"")
C74: =IF(LEN(E74)>0,"3." & COUNTA($E$70:E74),"") | H74: =IFERROR(IF(OR(LEN(E74)=0,LEN(INDEX( scale[], MATCH(G74,scalename,0),3))=0),"",INDEX( scale[], MATCH(G74,scalename,0),3)),"")
C75: =IF(LEN(E75)>0,"3." & COUNTA($E$70:E75),"") | H75: =IFERROR(IF(OR(LEN(E75)=0,LEN(INDEX( scale[], MATCH(G75,scalename,0),3))=0),"",INDEX( scale[], MATCH(G75,scalename,0),3)),"")
C96: 4S - STANDARDIZE | D96: Subarea | E96: Questions | F96: Notes | G96: Result | H96: Score | I96: Total Score | J96: %
C97: =IF(LEN(E97)>0,"4." & COUNTA($E$97:E97),"") | H97: =IFERROR(IF(OR(LEN(E97)=0,LEN(INDEX( scale[], MATCH(G97,scalename,0),3))=0),"",INDEX( scale[], MATCH(G97,scalename,0),3)),"") | I97: =SUM(H97:H102) -> 0 | J97: =IFERROR(SUM(H97:H102)/(maxscore*(COUNT(H97:H102))),"")
C98: =IF(LEN(E98)>0,"4." & COUNTA($E$97:E98),"") | H98: =IFERROR(IF(OR(LEN(E98)=0,LEN(INDEX( scale[], MATCH(G98,scalename,0),3))=0),"",INDEX( scale[], MATCH(G98,scalename,0),3)),"")
C99: =IF(LEN(E99)>0,"4." & COUNTA($E$97:E99),"") | H99: =IFERROR(IF(OR(LEN(E99)=0,LEN(INDEX( scale[], MATCH(G99,scalename,0),3))=0),"",INDEX( scale[], MATCH(G99,scalename,0),3)),"")
C100: =IF(LEN(E100)>0,"4." & COUNTA($E$97:E100),"") | H100: =IFERROR(IF(OR(LEN(E100)=0,LEN(INDEX( scale[], MATCH(G100,scalename,0),3))=0),"",INDEX( scale[], MATCH(G100,scalename,0),3)),"")
C101: =IF(LEN(E101)>0,"4." & COUNTA($E$97:E101),"") | H101: =IFERROR(IF(OR(LEN(E101)=0,LEN(INDEX( scale[], MATCH(G101,scalename,0),3))=0),"",INDEX( scale[], MATCH(G101,scalename,0),3)),"")
C102: =IF(LEN(E102)>0,"4." & COUNTA($E$97:E102),"") | H102: =IFERROR(IF(OR(LEN(E102)=0,LEN(INDEX( scale[], MATCH(G102,scalename,0),3))=0),"",INDEX( scale[], MATCH(G102,scalename,0),3)),"")
C123: 5S - SUSTAIN | D123: Subarea | E123: Questions | F123: Notes | G123: Result | H123: Score | I123: Total Score | J123: %
C124: =IF(LEN(E124)>0,"5." & COUNTA($E$124:E124),"") | H124: =IFERROR(IF(OR(LEN(E124)=0,LEN(INDEX( scale[], MATCH(G124,scalename,0),3))=0),"",INDEX( scale[], MATCH(G124,scalename,0),3)),"") | I124: =SUM(H124:H129) -> 0 | J124: =IFERROR(SUM(H124:H129)/(maxscore*(COUNT(H124:H129))),"")
C125: =IF(LEN(E125)>0,"5." & COUNTA($E$124:E125),"") | H125: =IFERROR(IF(OR(LEN(E125)=0,LEN(INDEX( scale[], MATCH(G125,scalename,0),3))=0),"",INDEX( scale[], MATCH(G125,scalename,0),3)),"")
C126: =IF(LEN(E126)>0,"5." & COUNTA($E$124:E126),"") | H126: =IFERROR(IF(OR(LEN(E126)=0,LEN(INDEX( scale[], MATCH(G126,scalename,0),3))=0),"",INDEX( scale[], MATCH(G126,scalename,0),3)),"")
C127: =IF(LEN(E127)>0,"5." & COUNTA($E$124:E127),"") | H127: =IFERROR(IF(OR(LEN(E127)=0,LEN(INDEX( scale[], MATCH(G127,scalename,0),3))=0),"",INDEX( scale[], MATCH(G127,scalename,0),3)),"")
C128: =IF(LEN(E128)>0,"5." & COUNTA($E$124:E128),"") | H128: =IFERROR(IF(OR(LEN(E128)=0,LEN(INDEX( scale[], MATCH(G128,scalename,0),3))=0),"",INDEX( scale[], MATCH(G128,scalename,0),3)),"")
C129: =IF(LEN(E129)>0,"5." & COUNTA($E$124:E129),"") | H129: =IFERROR(IF(OR(LEN(E129)=0,LEN(INDEX( scale[], MATCH(G129,scalename,0),3))=0),"",INDEX( scale[], MATCH(G129,scalename,0),3)),"")

Sheet Audit12
C2: 5S AUDIT SCORECARD EXCEL TEMPLATE
C3: AUDIT #12 FORM
C7: ="5S " & E9 & " Area Audit" -> 5S Area Audit
C9: Date | D9: Audit Area | J9: Total score
D10: Work station | J10: =SUM(H16:H199) -> 0
C12: Quarter | D12: 5s Auditor | J12: Final result
C13: =IFERROR(IF(ISNUMBER(C10),IF(C12="Month",INDEX(monthsList,MONTH(C10),1),IF(MONTH(C10)<4,"Q1",IF(MONTH(C10)<7,"Q2",IF(MONTH(C10)<10,"Q3","Q4")))),""),"") | D13: 5s Leader | J13: =IFERROR(ROUND(J10/(COUNT(H16:H199)*maxscore),2),"")
C15: 1S - SORT | D15: Subarea | E15: Questions | F15: Notes | G15: Result | H15: Score | I15: Total Score | J15: %
C16: =IF(LEN(E16)>0,"1." & COUNTA($E$16:E16),"") | H16: =IFERROR(IF(OR(LEN(E16)=0,LEN(INDEX( scale[], MATCH(G16,scalename,0),3))=0),"",INDEX( scale[], MATCH(G16,scalename,0),3)),"") | I16: =SUM(H16:H21) -> 0 | J16: =IFERROR(SUM(H16:H21)/(maxscore*(COUNT(H16:H21))),"")
C17: =IF(LEN(E17)>0,"1." & COUNTA($E$16:E17),"") | H17: =IFERROR(IF(OR(LEN(E17)=0,LEN(INDEX( scale[], MATCH(G17,scalename,0),3))=0),"",INDEX( scale[], MATCH(G17,scalename,0),3)),"")
C18: =IF(LEN(E18)>0,"1." & COUNTA($E$16:E18),"") | H18: =IFERROR(IF(OR(LEN(E18)=0,LEN(INDEX( scale[], MATCH(G18,scalename,0),3))=0),"",INDEX( scale[], MATCH(G18,scalename,0),3)),"")
C19: =IF(LEN(E19)>0,"1." & COUNTA($E$16:E19),"") | H19: =IFERROR(IF(OR(LEN(E19)=0,LEN(INDEX( scale[], MATCH(G19,scalename,0),3))=0),"",INDEX( scale[], MATCH(G19,scalename,0),3)),"")
C20: =IF(LEN(E20)>0,"1." & COUNTA($E$16:E20),"") | H20: =IFERROR(IF(OR(LEN(E20)=0,LEN(INDEX( scale[], MATCH(G20,scalename,0),3))=0),"",INDEX( scale[], MATCH(G20,scalename,0),3)),"")
C21: =IF(LEN(E21)>0,"1." & COUNTA($E$16:E21),"") | H21: =IFERROR(IF(OR(LEN(E21)=0,LEN(INDEX( scale[], MATCH(G21,scalename,0),3))=0),"",INDEX( scale[], MATCH(G21,scalename,0),3)),"")
C42: 2S - SET | D42: Subarea | E42: Questions | F42: Notes | G42: Result | H42: Score | I42: Total Score | J42: %
C43: =IF(LEN(E43)>0,"2." & COUNTA($E$43:E43),"") | H43: =IFERROR(IF(OR(LEN(E43)=0,LEN(INDEX( scale[], MATCH(G43,scalename,0),3))=0),"",INDEX( scale[], MATCH(G43,scalename,0),3)),"") | I43: =SUM(H43:H48) -> 0 | J43: =IFERROR(SUM(H43:H48)/(maxscore*(COUNT(H43:H48))),"")
C44: =IF(LEN(E44)>0,"2." & COUNTA($E$43:E44),"") | H44: =IFERROR(IF(OR(LEN(E44)=0,LEN(INDEX( scale[], MATCH(G44,scalename,0),3))=0),"",INDEX( scale[], MATCH(G44,scalename,0),3)),"")
C45: =IF(LEN(E45)>0,"2." & COUNTA($E$43:E45),"") | H45: =IFERROR(IF(OR(LEN(E45)=0,LEN(INDEX( scale[], MATCH(G45,scalename,0),3))=0),"",INDEX( scale[], MATCH(G45,scalename,0),3)),"")
C46: =IF(LEN(E46)>0,"2." & COUNTA($E$43:E46),"") | H46: =IFERROR(IF(OR(LEN(E46)=0,LEN(INDEX( scale[], MATCH(G46,scalename,0),3))=0),"",INDEX( scale[], MATCH(G46,scalename,0),3)),"")
C47: =IF(LEN(E47)>0,"2." & COUNTA($E$43:E47),"") | H47: =IFERROR(IF(OR(LEN(E47)=0,LEN(INDEX( scale[], MATCH(G47,scalename,0),3))=0),"",INDEX( scale[], MATCH(G47,scalename,0),3)),"")
C48: =IF(LEN(E48)>0,"2." & COUNTA($E$43:E48),"") | H48: =IFERROR(IF(OR(LEN(E48)=0,LEN(INDEX( scale[], MATCH(G48,scalename,0),3))=0),"",INDEX( scale[], MATCH(G48,scalename,0),3)),"")
C69: 3S - SHINE | D69: Subarea | E69: Questions | F69: Notes | G69: Result | H69: Score | I69: Total Score | J69: %
C70: =IF(LEN(E70)>0,"3." & COUNTA($E$70:E70),"") | H70: =IFERROR(IF(OR(LEN(E70)=0,LEN(INDEX( scale[], MATCH(G70,scalename,0),3))=0),"",INDEX( scale[], MATCH(G70,scalename,0),3)),"") | I70: =SUM(H70:H75) -> 0 | J70: =IFERROR(SUM(H70:H75)/(maxscore*(COUNT(H70:H75))),"")
C71: =IF(LEN(E71)>0,"3." & COUNTA($E$70:E71),"") | H71: =IFERROR(IF(OR(LEN(E71)=0,LEN(INDEX( scale[], MATCH(G71,scalename,0),3))=0),"",INDEX( scale[], MATCH(G71,scalename,0),3)),"")
C72: =IF(LEN(E72)>0,"3." & COUNTA($E$70:E72),"") | H72: =IFERROR(IF(OR(LEN(E72)=0,LEN(INDEX( scale[], MATCH(G72,scalename,0),3))=0),"",INDEX( scale[], MATCH(G72,scalename,0),3)),"")
C73: =IF(LEN(E73)>0,"3." & COUNTA($E$70:E73),"") | H73: =IFERROR(IF(OR(LEN(E73)=0,LEN(INDEX( scale[], MATCH(G73,scalename,0),3))=0),"",INDEX( scale[], MATCH(G73,scalename,0),3)),"")
C74: =IF(LEN(E74)>0,"3." & COUNTA($E$70:E74),"") | H74: =IFERROR(IF(OR(LEN(E74)=0,LEN(INDEX( scale[], MATCH(G74,scalename,0),3))=0),"",INDEX( scale[], MATCH(G74,scalename,0),3)),"")
C75: =IF(LEN(E75)>0,"3." & COUNTA($E$70:E75),"") | H75: =IFERROR(IF(OR(LEN(E75)=0,LEN(INDEX( scale[], MATCH(G75,scalename,0),3))=0),"",INDEX( scale[], MATCH(G75,scalename,0),3)),"")
C96: 4S - STANDARDIZE | D96: Subarea | E96: Questions | F96: Notes | G96: Result | H96: Score | I96: Total Score | J96: %
C97: =IF(LEN(E97)>0,"4." & COUNTA($E$97:E97),"") | H97: =IFERROR(IF(OR(LEN(E97)=0,LEN(INDEX( scale[], MATCH(G97,scalename,0),3))=0),"",INDEX( scale[], MATCH(G97,scalename,0),3)),"") | I97: =SUM(H97:H102) -> 0 | J97: =IFERROR(SUM(H97:H102)/(maxscore*(COUNT(H97:H102))),"")
C98: =IF(LEN(E98)>0,"4." & COUNTA($E$97:E98),"") | H98: =IFERROR(IF(OR(LEN(E98)=0,LEN(INDEX( scale[], MATCH(G98,scalename,0),3))=0),"",INDEX( scale[], MATCH(G98,scalename,0),3)),"")
C99: =IF(LEN(E99)>0,"4." & COUNTA($E$97:E99),"") | H99: =IFERROR(IF(OR(LEN(E99)=0,LEN(INDEX( scale[], MATCH(G99,scalename,0),3))=0),"",INDEX( scale[], MATCH(G99,scalename,0),3)),"")
C100: =IF(LEN(E100)>0,"4." & COUNTA($E$97:E100),"") | H100: =IFERROR(IF(OR(LEN(E100)=0,LEN(INDEX( scale[], MATCH(G100,scalename,0),3))=0),"",INDEX( scale[], MATCH(G100,scalename,0),3)),"")
C101: =IF(LEN(E101)>0,"4." & COUNTA($E$97:E101),"") | H101: =IFERROR(IF(OR(LEN(E101)=0,LEN(INDEX( scale[], MATCH(G101,scalename,0),3))=0),"",INDEX( scale[], MATCH(G101,scalename,0),3)),"")
C102: =IF(LEN(E102)>0,"4." & COUNTA($E$97:E102),"") | H102: =IFERROR(IF(OR(LEN(E102)=0,LEN(INDEX( scale[], MATCH(G102,scalename,0),3))=0),"",INDEX( scale[], MATCH(G102,scalename,0),3)),"")
C123: 5S - SUSTAIN | D123: Subarea | E123: Questions | F123: Notes | G123: Result | H123: Score | I123: Total Score | J123: %
C124: =IF(LEN(E124)>0,"5." & COUNTA($E$124:E124),"") | H124: =IFERROR(IF(OR(LEN(E124)=0,LEN(INDEX( scale[], MATCH(G124,scalename,0),3))=0),"",INDEX( scale[], MATCH(G124,scalename,0),3)),"") | I124: =SUM(H124:H129) -> 0 | J124: =IFERROR(SUM(H124:H129)/(maxscore*(COUNT(H124:H129))),"")
C125: =IF(LEN(E125)>0,"5." & COUNTA($E$124:E125),"") | H125: =IFERROR(IF(OR(LEN(E125)=0,LEN(INDEX( scale[], MATCH(G125,scalename,0),3))=0),"",INDEX( scale[], MATCH(G125,scalename,0),3)),"")
C126: =IF(LEN(E126)>0,"5." & COUNTA($E$124:E126),"") | H126: =IFERROR(IF(OR(LEN(E126)=0,LEN(INDEX( scale[], MATCH(G126,scalename,0),3))=0),"",INDEX( scale[], MATCH(G126,scalename,0),3)),"")
C127: =IF(LEN(E127)>0,"5." & COUNTA($E$124:E127),"") | H127: =IFERROR(IF(OR(LEN(E127)=0,LEN(INDEX( scale[], MATCH(G127,scalename,0),3))=0),"",INDEX( scale[], MATCH(G127,scalename,0),3)),"")
C128: =IF(LEN(E128)>0,"5." & COUNTA($E$124:E128),"") | H128: =IFERROR(IF(OR(LEN(E128)=0,LEN(INDEX( scale[], MATCH(G128,scalename,0),3))=0),"",INDEX( scale[], MATCH(G128,scalename,0),3)),"")
C129: =IF(LEN(E129)>0,"5." & COUNTA($E$124:E129),"") | H129: =IFERROR(IF(OR(LEN(E129)=0,LEN(INDEX( scale[], MATCH(G129,scalename,0),3))=0),"",INDEX( scale[], MATCH(G129,scalename,0),3)),"")

Sheet Calculations
B2: DROPDOWN LISTS | S2: TAKEN DATA FROM EACH FORM | AG2: TAKEN DATA FROM EACH FORM - SEPARATE RESULTS | AS2: SCORE SHARE CHART | AV2: TRENDLINE CHART | AY2: ALL RESULTS CHART
B4: =MAX(B5:B20,2) -> 6 | C4: Audit Area | E4: =13-COUNTBLANK(F5:F17) -> 6 | F4: Work station | H4: When | J4: =9-COUNTBLANK(K5:K12) -> 9 | K4: Scale | M4: =MAX(M5:M12,1) -> 7 | N4: Scale | P4: =MAX(P5:P55,2) -> 8 | Q4: Auditors | S4: Active | T4: Sheet | U4: Area | V4: WS | W4: Date | X4: Auditor | Y4: Category | Z4: S1 | AA4: S2 | AB4: S3 | AC4: S4 | AD4: S5 | AE4: Total | AG4: # | AH4: Sheet Name | AI4: Area | AJ4: Score | AK4: Sort | AL4: Set | AM4: Shine | AN4: Standardize | AO4: Sustain | AP4: Total | AQ4: Active | AS4: Results share | AT4: Total | AV4: Results count: | AW4: =MAX(COUNT(AW7:AW18),1) -> 3 | AY4: Results count: | AZ4: =MAX(COUNT(AY6:AY17),1) -> 4
B5: =IF(LEN(C5)>0,ROW(B1),"") -> 1 | C5: All | E5: 1 | F5: All | H5: All | J5: 1 | K5: {=IFERROR(INDEX(Settings!$H$8:$H$15,SMALL(IF(Settings!$H$8:$H$15<>"",$J$5:$J$12,""),J5),1),"")} -> L1 | M5: =IF(LEN(N5)>0,ROW(B1),"") -> 1 | N5: =IF(ISNUMBER(Settings!I8),Settings!H8&"","") -> L1 | P5: =IF(LEN(Q5)>0,ROW(P1),"") -> 1 | Q5: All | S5: =IFERROR(IF(OR(ISNUMBER(FIND(areaFilter,U5)),areaFilter="All",areaFilter=""),1,0)* IF(OR(stationFilter=V5,stationFilter="All",stationFilter=""),1,0)* IF(OR(AND(W5>0,whenFilter=INDEX(monthsList,MONTH(W5),0)), AND(W5>0,whenFilter= INDEX($H$6:$H$9,ROUNDUP(MONTH(W5)/3,0),1)),whenFilter="All",whenFilter=""),1,0)* IF(OR(auditorFilter=X5,auditorFilter="All",auditorFilter=""),1,0)* IF(LEN(U5)>4,1,0),0) -> 1 | T5: Audit1 | U5: ="1. " &Audit1!$E$9&"" -> 1. Office | V5: =Audit1!$E$10&"" -> Random desk in the open space | W5: =Audit1!$C$10 -> 44636 | X5: =Audit1!$E$12&"" -> Jemima Begum | Y5: Total score | Z5: =SUM(Audit1!$H$15:$H$21) -> 19 | AA5: =SUM(Audit1!$H$42:$H$48) -> 22 | AB5: =SUM(Audit1!$H$69:$H$75) -> 21 | AC5: =SUM(Audit1!$H$96:$H$102) -> 16 | AD5: =SUM(Audit1!$H$123:$H$129) -> 14 | AE5: =SUM(Z5:AD5) -> 92 | AG5: 1 | AH5: Audit1 | AI5: =Audit1!$E$9 -> Office | AJ5: =IFERROR(INDEX($N$5:$N$12,MATCH(AG5,$M$5:$M$12,0),1),"") -> L1 | AK5: =IF(LEN($AJ5)=0,"",COUNTIFS(Audit1!$G$15:$G$21,$AJ5,Audit1!$E$15:$E$21,"<>"&"")) -> 0 | AL5: =IF(LEN($AJ5)=0,"",COUNTIFS(Audit1!$G$42:$G$48,$AJ5,Audit1!$E$42:$E$48,"<>"&"")) -> 0 | AM5: =IF(LEN($AJ5)=0,"",COUNTIFS(Audit1!$G$69:$G$75,$AJ5,Audit1!$E$69:$E$75,"<>"&"")) -> 0 | AN5: =IF(LEN($AJ5)=0,"",COUNTIFS(Audit1!$G$96:$G$102,$AJ5,Audit1!$E$96:$E$102,"<>"&"")) -> 0 | AO5: =IF(LEN($AJ5)=0,"",COUNTIFS(Audit1!$G$123:$G$129,$AJ5,Audit1!$E$123:$E$129,"<>"&"")) -> 0 | AP5: =IF(LEN(AJ5)=0,"",SUM(AK5:AO5)) -> 0 | AQ5: {=MAX(IF(($T$5:$T$40)=AH5,$S$5:$S$40,0))} -> 1 | AS5: =AJ5 -> L1 | AT5: {=SUM(IF(($AJ$5:$AJ$100)=AS5,($AP$5:$AP$100)*($AQ$5:$AQ$100),0))} -> 2 | AV5: Chosen Series: | AW5: =INDEX(X46:X57,MATCH(MAX(AE46:AE57),AE46:AE57,0),1) -> Manufacturing | AY5: Total | AZ5: Best ones | BA5: Worst ones
B6: =IF(LEN(C6)>0,ROW(B2),"") -> 2 | C6: =INDEX(Settings!$E$8:$E$15,ROW()-5,1)&"" -> Office | E6: 2 | F6: {=IFERROR(INDEX($V$5:$V$40,MATCH(0,COUNTIF($F$5:F5,$V$5:$V$40),0)),"")} -> Random desk in the open space | H6: Q1 | J6: 2 | K6: {=IFERROR(INDEX(Settings!$H$8:$H$15,SMALL(IF(Settings!$H$8:$H$15<>"",$J$5:$J$12,""),J6),1),"")} -> L2 | M6: =IF(LEN(N6)>0,ROW(B2),"") -> 2 | N6: =IF(ISNUMBER(Settings!I9),Settings!H9&"","") -> L2 | P6: =IF(LEN(Q6)>0,ROW(P2),"") -> 2 | Q6: =INDEX(Settings!$C$8:$C$15,ROW()-5,1)&"" -> Jemima Begum | S6: =IFERROR(IF(OR(ISNUMBER(FIND(areaFilter,U6)),areaFilter="All",areaFilter=""),1,0)* IF(OR(stationFilter=V6,stationFilter="All",stationFilter=""),1,0)* IF(OR(AND(W6>0,whenFilter=INDEX(monthsList,MONTH(W6),0)), AND(W6>0,whenFilter= INDEX($H$6:$H$9,ROUNDUP(MONTH(W6)/3,0),1)),whenFilter="All",whenFilter=""),1,0)* IF(OR(auditorFilter=X6,auditorFilter="All",auditorFilter=""),1,0)* IF(LEN(U6)>4,1,0),0) -> 1 | T6: Audit1 | U6: ="1. " &Audit1!$E$9&"" -> 1. Office | V6: =Audit1!$E$10&"" -> Random desk in the open space | W6: =Audit1!$C$10 -> 44636 | X6: =Audit1!$E$12&"" -> Jemima Begum | Y6: Max Point | Z6: =COUNT(Audit1!$H$15:$H$21)*maxscore -> 25 | AA6: =COUNT(Audit1!$H$42:$H$48)*maxscore -> 25 | AB6: =COUNT(Audit1!$H$69:$H$75)*maxscore -> 25 | AC6: =COUNT(Audit1!$H$96:$H$102)*maxscore -> 20 | AD6: =COUNT(Audit1!$H$123:$H$129)*maxscore -> 15 | AE6: =SUM(Z6:AD6) -> 110 | AG6: 2 | AH6: Audit1 | AI6: =Audit1!$E$9 -> Office | AJ6: =IFERROR(INDEX($N$5:$N$12,MATCH(AG6,$M$5:$M$12,0),1),"") -> L2 | AK6: =IF(LEN($AJ6)=0,"",COUNTIFS(Audit1!$G$15:$G$21,$AJ6,Audit1!$E$15:$E$21,"<>"&"")) -> 0 | AL6: =IF(LEN($AJ6)=0,"",COUNTIFS(Audit1!$G$42:$G$48,$AJ6,Audit1!$E$42:$E$48,"<>"&"")) -> 0 | AM6: =IF(LEN($AJ6)=0,"",COUNTIFS(Audit1!$G$69:$G$75,$AJ6,Audit1!$E$69:$E$75,"<>"&"")) -> 0 | AN6: =IF(LEN($AJ6)=0,"",COUNTIFS(Audit1!$G$96:$G$102,$AJ6,Audit1!$E$96:$E$102,"<>"&"")) -> 1 | AO6: =IF(LEN($AJ6)=0,"",COUNTIFS(Audit1!$G$123:$G$129,$AJ6,Audit1!$E$123:$E$129,"<>"&"")) -> 0 | AP6: =IF(LEN(AJ6)=0,"",SUM(AK6:AO6)) -> 1 | AQ6: {=MAX(IF(($T$5:$T$40)=AH6,$S$5:$S$40,0))} -> 1 | AS6: =AJ6 -> L2 | AT6: {=SUM(IF(($AJ$5:$AJ$100)=AS6,($AP$5:$AP$100)*($AQ$5:$AQ$100),0))} -> 8 | AV6: =X46& " Area Trendline" -> Office Area Trendline | AW6: =AW5& " Trendline" -> Manufacturing Trendline | AY6: =IFERROR(IF(LEN(INDEX(AE$5:AE$40,$S46,1))=0,"",INDEX(AE$5:AE$40,$S46,1)),"") -> 0.84 | AZ6: =IF(AY6>=color1,AY6,"") | BA6: =IF(AY6<color4,AY6,"")
B7: =IF(LEN(C7)>0,ROW(B3),"") -> 3 | C7: =INDEX(Settings!$E$8:$E$15,ROW()-5,1)&"" -> Manufacturing | E7: 3 | F7: {=IFERROR(INDEX($V$5:$V$40,MATCH(0,COUNTIF($F$5:F6,$V$5:$V$40),0)),"")} -> Sealing | H7: Q2 | J7: 3 | K7: {=IFERROR(INDEX(Settings!$H$8:$H$15,SMALL(IF(Settings!$H$8:$H$15<>"",$J$5:$J$12,""),J7),1),"")} -> L3 | M7: =IF(LEN(N7)>0,ROW(B3),"") -> 3 | N7: =IF(ISNUMBER(Settings!I10),Settings!H10&"","") -> L3 | P7: =IF(LEN(Q7)>0,ROW(P3),"") -> 3 | Q7: =INDEX(Settings!$C$8:$C$15,ROW()-5,1)&"" -> Mercedes Banks | S7: =IFERROR(IF(OR(ISNUMBER(FIND(areaFilter,U7)),areaFilter="All",areaFilter=""),1,0)* IF(OR(stationFilter=V7,stationFilter="All",stationFilter=""),1,0)* IF(OR(AND(W7>0,whenFilter=INDEX(monthsList,MONTH(W7),0)), AND(W7>0,whenFilter= INDEX($H$6:$H$9,ROUNDUP(MONTH(W7)/3,0),1)),whenFilter="All",whenFilter=""),1,0)* IF(OR(auditorFilter=X7,auditorFilter="All",auditorFilter=""),1,0)* IF(LEN(U7)>4,1,0),0) -> 1 | T7: Audit1 | U7: ="1. " &Audit1!$E$9&"" -> 1. Office | V7: =Audit1!$E$10&"" -> Random desk in the open space | W7: =Audit1!$C$10 -> 44636 | X7: =Audit1!$E$12&"" -> Jemima Begum | Y7: % Result | Z7: =IFERROR(Z5/(Z6),0) -> 0.76 | AA7: =IFERROR(AA5/(AA6),0) -> 0.88 | AB7: =IFERROR(AB5/(AB6),0) -> 0.84 | AC7: =IFERROR(AC5/(AC6),0) -> 0.8 | AD7: =IFERROR(AD5/(AD6),0) -> 0.93333333 | AE7: =IFERROR(ROUND(AE5/(AE6),2),"") -> 0.84 | AG7: 3 | AH7: Audit1 | AI7: =Audit1!$E$9 -> Office | AJ7: =IFERROR(INDEX($N$5:$N$12,MATCH(AG7,$M$5:$M$12,0),1),"") -> L3 | AK7: =IF(LEN($AJ7)=0,"",COUNTIFS(Audit1!$G$15:$G$21,$AJ7,Audit1!$E$15:$E$21,"<>"&"")) -> 0 | AL7: =IF(LEN($AJ7)=0,"",COUNTIFS(Audit1!$G$42:$G$48,$AJ7,Audit1!$E$42:$E$48,"<>"&"")) -> 1 | AM7: =IF(LEN($AJ7)=0,"",COUNTIFS(Audit1!$G$69:$G$75,$AJ7,Audit1!$E$69:$E$75,"<>"&"")) -> 1 | AN7: =IF(LEN($AJ7)=0,"",COUNTIFS(Audit1!$G$96:$G$102,$AJ7,Audit1!$E$96:$E$102,"<>"&"")) -> 0 | AO7: =IF(LEN($AJ7)=0,"",COUNTIFS(Audit1!$G$123:$G$129,$AJ7,Audit1!$E$123:$E$129,"<>"&"")) -> 0 | AP7: =IF(LEN(AJ7)=0,"",SUM(AK7:AO7)) -> 2 | AQ7: {=MAX(IF(($T$5:$T$40)=AH7,$S$5:$S$40,0))} -> 1 | AS7: =AJ7 -> L3 | AT7: {=SUM(IF(($AJ$5:$AJ$100)=AS7,($AP$5:$AP$100)*($AQ$5:$AQ$100),0))} -> 10 | AV7: 1 | AW7: {=IFERROR(INDEX($AY$6:$AY$17,MATCH($AW$5&AV7,($X$46:$X$57)&($AE$46:$AE$57),0),1),"")} -> 0.75 | AY7: =IFERROR(IF(LEN(INDEX(AE$5:AE$40,$S47,1))=0,"",INDEX(AE$5:AE$40,$S47,1)),"") -> 0.75 | AZ7: =IF(AY7>=color1,AY7,"") | BA7: =IF(AY7<color4,AY7,"")
B8: =IF(LEN(C8)>0,ROW(B4),"") -> 4 | C8: =INDEX(Settings!$E$8:$E$15,ROW()-5,1)&"" -> IT Project | E8: 4 | F8: {=IFERROR(INDEX($V$5:$V$40,MATCH(0,COUNTIF($F$5:F7,$V$5:$V$40),0)),"")} -> Electric capacity measuer station | H8: Q3 | J8: 4 | K8: {=IFERROR(INDEX(Settings!$H$8:$H$15,SMALL(IF(Settings!$H$8:$H$15<>"",$J$5:$J$12,""),J8),1),"")} -> L4 | M8: =IF(LEN(N8)>0,ROW(B4),"") -> 4 | N8: =IF(ISNUMBER(Settings!I11),Settings!H11&"","") -> L4 | P8: =IF(LEN(Q8)>0,ROW(P4),"") -> 4 | Q8: =INDEX(Settings!$C$8:$C$15,ROW()-5,1)&"" -> Macauley Peck | S8: =IFERROR(IF(OR(ISNUMBER(FIND(areaFilter,U8)),areaFilter="All",areaFilter=""),1,0)* IF(OR(stationFilter=V8,stationFilter="All",stationFilter=""),1,0)* IF(OR(AND(W8>0,whenFilter=INDEX(monthsList,MONTH(W8),0)), AND(W8>0,whenFilter= INDEX($H$6:$H$9,ROUNDUP(MONTH(W8)/3,0),1)),whenFilter="All",whenFilter=""),1,0)* IF(OR(auditorFilter=X8,auditorFilter="All",auditorFilter=""),1,0)* IF(LEN(U8)>4,1,0),0) -> 1 | T8: Audit2 | U8: ="2. " & Audit2!$E$9&"" -> 2. Manufacturing | V8: =Audit2!$E$10&"" -> Sealing | W8: =Audit2!$C$10 -> 44576 | X8: =Audit2!$E$12&"" -> Mercedes Banks | Y8: Total score | Z8: =SUM(Audit2!$H$15:$H$21) -> 13 | AA8: =SUM(Audit2!$H$42:$H$48) -> 20 | AB8: =SUM(Audit2!$H$69:$H$75) -> 20 | AC8: =SUM(Audit2!$H$96:$H$102) -> 14 | AD8: =SUM(Audit2!$H$123:$H$129) -> 12 | AE8: =SUM(Z8:AD8) -> 79 | AG8: 4 | AH8: Audit1 | AI8: =Audit1!$E$9 -> Office | AJ8: =IFERROR(INDEX($N$5:$N$12,MATCH(AG8,$M$5:$M$12,0),1),"") -> L4 | AK8: =IF(LEN($AJ8)=0,"",COUNTIFS(Audit1!$G$15:$G$21,$AJ8,Audit1!$E$15:$E$21,"<>"&"")) -> 2 | AL8: =IF(LEN($AJ8)=0,"",COUNTIFS(Audit1!$G$42:$G$48,$AJ8,Audit1!$E$42:$E$48,"<>"&"")) -> 1 | AM8: =IF(LEN($AJ8)=0,"",COUNTIFS(Audit1!$G$69:$G$75,$AJ8,Audit1!$E$69:$E$75,"<>"&"")) -> 2 | AN8: =IF(LEN($AJ8)=0,"",COUNTIFS(Audit1!$G$96:$G$102,$AJ8,Audit1!$E$96:$E$102,"<>"&"")) -> 1 | AO8: =IF(LEN($AJ8)=0,"",COUNTIFS(Audit1!$G$123:$G$129,$AJ8,Audit1!$E$123:$E$129,"<>"&"")) -> 1 | AP8: =IF(LEN(AJ8)=0,"",SUM(AK8:AO8)) -> 7 | AQ8: {=MAX(IF(($T$5:$T$40)=AH8,$S$5:$S$40,0))} -> 1 | AS8: =AJ8 -> L4 | AT8: {=SUM(IF(($AJ$5:$AJ$100)=AS8,($AP$5:$AP$100)*($AQ$5:$AQ$100),0))} -> 27 | AV8: 2 | AW8: {=IFERROR(INDEX($AY$6:$AY$17,MATCH($AW$5&AV8,($X$46:$X$57)&($AE$46:$AE$57),0),1),"")} -> 0.9 | AY8: =IFERROR(IF(LEN(INDEX(AE$5:AE$40,$S48,1))=0,"",INDEX(AE$5:AE$40,$S48,1)),"") -> 0.9 | AZ8: =IF(AY8>=color1,AY8,"") -> 0.9 | BA8: =IF(AY8<color4,AY8,"")
B9: =IF(LEN(C9)>0,ROW(B5),"") -> 5 | C9: =INDEX(Settings!$E$8:$E$15,ROW()-5,1)&"" -> Laboratory | E9: 5 | F9: {=IFERROR(INDEX($V$5:$V$40,MATCH(0,COUNTIF($F$5:F8,$V$5:$V$40),0)),"")} -> R201a | H9: Q4 | J9: 5 | K9: {=IFERROR(INDEX(Settings!$H$8:$H$15,SMALL(IF(Settings!$H$8:$H$15<>"",$J$5:$J$12,""),J9),1),"")} -> L5 | M9: =IF(LEN(N9)>0,ROW(B5),"") -> 5 | N9: =IF(ISNUMBER(Settings!I12),Settings!H12&"","") -> L5 | P9: =IF(LEN(Q9)>0,ROW(P5),"") -> 5 | Q9: =INDEX(Settings!$C$8:$C$15,ROW()-5,1)&"" -> Hannah Shaw | S9: =IFERROR(IF(OR(ISNUMBER(FIND(areaFilter,U9)),areaFilter="All",areaFilter=""),1,0)* IF(OR(stationFilter=V9,stationFilter="All",stationFilter=""),1,0)* IF(OR(AND(W9>0,whenFilter=INDEX(monthsList,MONTH(W9),0)), AND(W9>0,whenFilter= INDEX($H$6:$H$9,ROUNDUP(MONTH(W9)/3,0),1)),whenFilter="All",whenFilter=""),1,0)* IF(OR(auditorFilter=X9,auditorFilter="All",auditorFilter=""),1,0)* IF(LEN(U9)>4,1,0),0) -> 1 | T9: Audit2 | U9: ="2. " & Audit2!$E$9&"" -> 2. Manufacturing | V9: =Audit2!$E$10&"" -> Sealing | W9: =Audit2!$C$10 -> 44576 | X9: =Audit2!$E$12&"" -> Mercedes Banks | Y9: Max Point | Z9: =COUNT(Audit2!$H$15:$H$21)*maxscore -> 20 | AA9: =COUNT(Audit2!$H$42:$H$48)*maxscore -> 25 | AB9: =COUNT(Audit2!$H$69:$H$75)*maxscore -> 25 | AC9: =COUNT(Audit2!$H$96:$H$102)*maxscore -> 20 | AD9: =COUNT(Audit2!$H$123:$H$129)*maxscore -> 15 | AE9: =SUM(Z9:AD9) -> 105 | AG9: 5 | AH9: Audit1 | AI9: =Audit1!$E$9 -> Office | AJ9: =IFERROR(INDEX($N$5:$N$12,MATCH(AG9,$M$5:$M$12,0),1),"") -> L5 | AK9: =IF(LEN($AJ9)=0,"",COUNTIFS(Audit1!$G$15:$G$21,$AJ9,Audit1!$E$15:$E$21,"<>"&"")) -> 1 | AL9: =IF(LEN($AJ9)=0,"",COUNTIFS(Audit1!$G$42:$G$48,$AJ9,Audit1!$E$42:$E$48,"<>"&"")) -> 0 | AM9: =IF(LEN($AJ9)=0,"",COUNTIFS(Audit1!$G$69:$G$75,$AJ9,Audit1!$E$69:$E$75,"<>"&"")) -> 0 | AN9: =IF(LEN($AJ9)=0,"",COUNTIFS(Audit1!$G$96:$G$102,$AJ9,Audit1!$E$96:$E$102,"<>"&"")) -> 1 | AO9: =IF(LEN($AJ9)=0,"",COUNTIFS(Audit1!$G$123:$G$129,$AJ9,Audit1!$E$123:$E$129,"<>"&"")) -> 1 | AP9: =IF(LEN(AJ9)=0,"",SUM(AK9:AO9)) -> 3 | AQ9: {=MAX(IF(($T$5:$T$40)=AH9,$S$5:$S$40,0))} -> 1 | AS9: =AJ9 -> L5 | AT9: {=SUM(IF(($AJ$5:$AJ$100)=AS9,($AP$5:$AP$100)*($AQ$5:$AQ$100),0))} -> 11 | AV9: 3 | AW9: {=IFERROR(INDEX($AY$6:$AY$17,MATCH($AW$5&AV9,($X$46:$X$57)&($AE$46:$AE$57),0),1),"")} -> 0.49 | AY9: =IFERROR(IF(LEN(INDEX(AE$5:AE$40,$S49,1))=0,"",INDEX(AE$5:AE$40,$S49,1)),"") -> 0.49 | AZ9: =IF(AY9>=color1,AY9,"") | BA9: =IF(AY9<color4,AY9,"") -> 0.49
B10: =IF(LEN(C10)>0,ROW(B6),"") -> 6 | C10: =INDEX(Settings!$E$8:$E$15,ROW()-5,1)&"" -> Classroom | E10: 6 | F10: {=IFERROR(INDEX($V$5:$V$40,MATCH(0,COUNTIF($F$5:F9,$V$5:$V$40),0)),"")} -> S01 | H10: January | J10: 6 | K10: {=IFERROR(INDEX(Settings!$H$8:$H$15,SMALL(IF(Settings!$H$8:$H$15<>"",$J$5:$J$12,""),J10),1),"")} -> Yes | M10: =IF(LEN(N10)>0,ROW(B6),"") -> 6 | N10: =IF(ISNUMBER(Settings!I13),Settings!H13&"","") -> Yes | P10: =IF(LEN(Q10)>0,ROW(P6),"") -> 6 | Q10: =INDEX(Settings!$C$8:$C$15,ROW()-5,1)&"" -> Carmel Beltran | S10: =IFERROR(IF(OR(ISNUMBER(FIND(areaFilter,U10)),areaFilter="All",areaFilter=""),1,0)* IF(OR(stationFilter=V10,stationFilter="All",stationFilter=""),1,0)* IF(OR(AND(W10>0,whenFilter=INDEX(monthsList,MONTH(W10),0)), AND(W10>0,whenFilter= INDEX($H$6:$H$9,ROUNDUP(MONTH(W10)/3,0),1)),whenFilter="All",whenFilter=""),1,0)* IF(OR(auditorFilter=X10,auditorFilter="All",auditorFilter=""),1,0)* IF(LEN(U10)>4,1,0),0) -> 1 | T10: Audit2 | U10: ="2. " & Audit2!$E$9&"" -> 2. Manufacturing | V10: =Audit2!$E$10&"" -> Sealing | W10: =Audit2!$C$10 -> 44576 | X10: =Audit2!$E$12&"" -> Mercedes Banks | Y10: % Result | Z10: =IFERROR(Z8/(Z9),0) -> 0.65 | AA10: =IFERROR(AA8/(AA9),0) -> 0.8 | AB10: =IFERROR(AB8/(AB9),0) -> 0.8 | AC10: =IFERROR(AC8/(AC9),0) -> 0.7 | AD10: =IFERROR(AD8/(AD9),0) -> 0.8 | AE10: =IFERROR(ROUND(AE8/(AE9),2),"") -> 0.75 | AG10: 6 | AH10: Audit1 | AI10: =Audit1!$E$9 -> Office | AJ10: =IFERROR(INDEX($N$5:$N$12,MATCH(AG10,$M$5:$M$12,0),1),"") -> Yes | AK10: =IF(LEN($AJ10)=0,"",COUNTIFS(Audit1!$G$15:$G$21,$AJ10,Audit1!$E$15:$E$21,"<>"&"")) -> 1 | AL10: =IF(LEN($AJ10)=0,"",COUNTIFS(Audit1!$G$42:$G$48,$AJ10,Audit1!$E$42:$E$48,"<>"&"")) -> 3 | AM10: =IF(LEN($AJ10)=0,"",COUNTIFS(Audit1!$G$69:$G$75,$AJ10,Audit1!$E$69:$E$75,"<>"&"")) -> 2 | AN10: =IF(LEN($AJ10)=0,"",COUNTIFS(Audit1!$G$96:$G$102,$AJ10,Audit1!$E$96:$E$102,"<>"&"")) -> 1 | AO10: =IF(LEN($AJ10)=0,"",COUNTIFS(Audit1!$G$123:$G$129,$AJ10,Audit1!$E$123:$E$129,"<>"&"")) -> 1 | AP10: =IF(LEN(AJ10)=0,"",SUM(AK10:AO10)) -> 8 | AQ10: {=MAX(IF(($T$5:$T$40)=AH10,$S$5:$S$40,0))} -> 1 | AS10: =AJ10 -> Yes | AT10: {=SUM(IF(($AJ$5:$AJ$100)=AS10,($AP$5:$AP$100)*($AQ$5:$AQ$100),0))} -> 22 | AV10: 4 | AW10: {=IFERROR(INDEX($AY$6:$AY$17,MATCH($AW$5&AV10,($X$46:$X$57)&($AE$46:$AE$57),0),1),"")} | AY10: =IFERROR(IF(LEN(INDEX(AE$5:AE$40,$S50,1))=0,"",INDEX(AE$5:AE$40,$S50,1)),"") | AZ10: =IF(AY10>=color1,AY10,"") | BA10: =IF(AY10<color4,AY10,"")
B11: =IF(LEN(C11)>0,ROW(B7),"") | C11: =INDEX(Settings!$E$8:$E$15,ROW()-5,1)&"" | E11: 7 | F11: {=IFERROR(INDEX($V$5:$V$40,MATCH(0,COUNTIF($F$5:F10,$V$5:$V$40),0)),"")} | H11: February | J11: 7 | K11: {=IFERROR(INDEX(Settings!$H$8:$H$15,SMALL(IF(Settings!$H$8:$H$15<>"",$J$5:$J$12,""),J11),1),"")} -> No | M11: =IF(LEN(N11)>0,ROW(B7),"") -> 7 | N11: =IF(ISNUMBER(Settings!I14),Settings!H14&"","") -> No | P11: =IF(LEN(Q11)>0,ROW(P7),"") -> 7 | Q11: =INDEX(Settings!$C$8:$C$15,ROW()-5,1)&"" -> Sarah-Jayne Morrison | S11: =IFERROR(IF(OR(ISNUMBER(FIND(areaFilter,U11)),areaFilter="All",areaFilter=""),1,0)* IF(OR(stationFilter=V11,stationFilter="All",stationFilter=""),1,0)* IF(OR(AND(W11>0,whenFilter=INDEX(monthsList,MONTH(W11),0)), AND(W11>0,whenFilter= INDEX($H$6:$H$9,ROUNDUP(MONTH(W11)/3,0),1)),whenFilter="All",whenFilter=""),1,0)* IF(OR(auditorFilter=X11,auditorFilter="All",auditorFilter=""),1,0)* IF(LEN(U11)>4,1,0),0) -> 1 | T11: Audit3 | U11: ="3. "&Audit3!$E$9&"" -> 3. Manufacturing | V11: =Audit3!$E$10&"" -> Sealing | W11: =Audit3!$C$10 -> 44666 | X11: =Audit3!$E$12&"" -> Hannah Shaw | Y11: Total score | Z11: =SUM(Audit3!$H$15:$H$21) -> 23 | AA11: =SUM(Audit3!$H$42:$H$48) -> 26 | AB11: =SUM(Audit3!$H$69:$H$75) -> 22 | AC11: =SUM(Audit3!$H$96:$H$102) -> 18 | AD11: =SUM(Audit3!$H$123:$H$129) -> 14 | AE11: =SUM(Z11:AD11) -> 103 | AG11: 7 | AH11: Audit1 | AI11: =Audit1!$E$9 -> Office | AJ11: =IFERROR(INDEX($N$5:$N$12,MATCH(AG11,$M$5:$M$12,0),1),"") -> No | AK11: =IF(LEN($AJ11)=0,"",COUNTIFS(Audit1!$G$15:$G$21,$AJ11,Audit1!$E$15:$E$21,"<>"&"")) -> 1 | AL11: =IF(LEN($AJ11)=0,"",COUNTIFS(Audit1!$G$42:$G$48,$AJ11,Audit1!$E$42:$E$48,"<>"&"")) -> 0 | AM11: =IF(LEN($AJ11)=0,"",COUNTIFS(Audit1!$G$69:$G$75,$AJ11,Audit1!$E$69:$E$75,"<>"&"")) -> 0 | AN11: =IF(LEN($AJ11)=0,"",COUNTIFS(Audit1!$G$96:$G$102,$AJ11,Audit1!$E$96:$E$102,"<>"&"")) -> 0 | AO11: =IF(LEN($AJ11)=0,"",COUNTIFS(Audit1!$G$123:$G$129,$AJ11,Audit1!$E$123:$E$129,"<>"&"")) -> 0 | AP11: =IF(LEN(AJ11)=0,"",SUM(AK11:AO11)) -> 1 | AQ11: {=MAX(IF(($T$5:$T$40)=AH11,$S$5:$S$40,0))} -> 1 | AS11: =AJ11 -> No | AT11: {=SUM(IF(($AJ$5:$AJ$100)=AS11,($AP$5:$AP$100)*($AQ$5:$AQ$100),0))} -> 9 | AV11: 5 | AW11: {=IFERROR(INDEX($AY$6:$AY$17,MATCH($AW$5&AV11,($X$46:$X$57)&($AE$46:$AE$57),0),1),"")} | AY11: =IFERROR(IF(LEN(INDEX(AE$5:AE$40,$S51,1))=0,"",INDEX(AE$5:AE$40,$S51,1)),"") | AZ11: =IF(AY11>=color1,AY11,"") | BA11: =IF(AY11<color4,AY11,"")
B12: =IF(LEN(C12)>0,ROW(B8),"") | C12: =INDEX(Settings!$E$8:$E$15,ROW()-5,1)&"" | E12: 8 | F12: {=IFERROR(INDEX($V$5:$V$40,MATCH(0,COUNTIF($F$5:F11,$V$5:$V$40),0)),"")} | H12: March | J12: 8 | K12: {=IFERROR(INDEX(Settings!$H$8:$H$15,SMALL(IF(Settings!$H$8:$H$15<>"",$J$5:$J$12,""),J12),1),"")} -> NA | M12: =IF(LEN(N12)>0,ROW(B8),"") | N12: =IF(ISNUMBER(Settings!I15),Settings!H15&"","") | P12: =IF(LEN(Q12)>0,ROW(P8),"") -> 8 | Q12: =INDEX(Settings!$C$8:$C$15,ROW()-5,1)&"" -> Alice Milner | S12: =IFERROR(IF(OR(ISNUMBER(FIND(areaFilter,U12)),areaFilter="All",areaFilter=""),1,0)* IF(OR(stationFilter=V12,stationFilter="All",stationFilter=""),1,0)* IF(OR(AND(W12>0,whenFilter=INDEX(monthsList,MONTH(W12),0)), AND(W12>0,whenFilter= INDEX($H$6:$H$9,ROUNDUP(MONTH(W12)/3,0),1)),whenFilter="All",whenFilter=""),1,0)* IF(OR(auditorFilter=X12,auditorFilter="All",auditorFilter=""),1,0)* IF(LEN(U12)>4,1,0),0) -> 1 | T12: Audit3 | U12: ="3. "&Audit3!$E$9&"" -> 3. Manufacturing | V12: =Audit3!$E$10&"" -> Sealing | W12: =Audit3!$C$10 -> 44666 | X12: =Audit3!$E$12&"" -> Hannah Shaw | Y12: Max Point | Z12: =COUNT(Audit3!$H$15:$H$21)*maxscore -> 25 | AA12: =COUNT(Audit3!$H$42:$H$48)*maxscore -> 30 | AB12: =COUNT(Audit3!$H$69:$H$75)*maxscore -> 25 | AC12: =COUNT(Audit3!$H$96:$H$102)*maxscore -> 20 | AD12: =COUNT(Audit3!$H$123:$H$129)*maxscore -> 15 | AE12: =SUM(Z12:AD12) -> 115 | AG12: 8 | AH12: Audit1 | AI12: =Audit1!$E$9 -> Office | AJ12: =IFERROR(INDEX($N$5:$N$12,MATCH(AG12,$M$5:$M$12,0),1),"") | AK12: =IF(LEN($AJ12)=0,"",COUNTIFS(Audit1!$G$15:$G$21,$AJ12,Audit1!$E$15:$E$21,"<>"&"")) | AL12: =IF(LEN($AJ12)=0,"",COUNTIFS(Audit1!$G$42:$G$48,$AJ12,Audit1!$E$42:$E$48,"<>"&"")) | AM12: =IF(LEN($AJ12)=0,"",COUNTIFS(Audit1!$G$69:$G$75,$AJ12,Audit1!$E$69:$E$75,"<>"&"")) | AN12: =IF(LEN($AJ12)=0,"",COUNTIFS(Audit1!$G$96:$G$102,$AJ12,Audit1!$E$96:$E$102,"<>"&"")) | AO12: =IF(LEN($AJ12)=0,"",COUNTIFS(Audit1!$G$123:$G$129,$AJ12,Audit1!$E$123:$E$129,"<>"&"")) | AP12: =IF(LEN(AJ12)=0,"",SUM(AK12:AO12)) | AQ12: {=MAX(IF(($T$5:$T$40)=AH12,$S$5:$S$40,0))} -> 1 | AS12: =AJ12 | AV12: 6 | AW12: {=IFERROR(INDEX($AY$6:$AY$17,MATCH($AW$5&AV12,($X$46:$X$57)&($AE$46:$AE$57),0),1),"")} | AY12: =IFERROR(IF(LEN(INDEX(AE$5:AE$40,$S52,1))=0,"",INDEX(AE$5:AE$40,$S52,1)),"") | AZ12: =IF(AY12>=color1,AY12,"") | BA12: =IF(AY12<color4,AY12,"")
B13: =IF(LEN(C13)>0,ROW(B9),"") | C13: =INDEX(Settings!$E$8:$E$15,ROW()-5,1)&"" | E13: 9 | F13: {=IFERROR(INDEX($V$5:$V$40,MATCH(0,COUNTIF($F$5:F12,$V$5:$V$40),0)),"")} | H13: April | P13: =IF(LEN(Q13)>0,ROW(P9),"") | Q13: =INDEX(Settings!$C$8:$C$15,ROW()-5,1)&"" | S13: =IFERROR(IF(OR(ISNUMBER(FIND(areaFilter,U13)),areaFilter="All",areaFilter=""),1,0)* IF(OR(stationFilter=V13,stationFilter="All",stationFilter=""),1,0)* IF(OR(AND(W13>0,whenFilter=INDEX(monthsList,MONTH(W13),0)), AND(W13>0,whenFilter= INDEX($H$6:$H$9,ROUNDUP(MONTH(W13)/3,0),1)),whenFilter="All",whenFilter=""),1,0)* IF(OR(auditorFilter=X13,auditorFilter="All",auditorFilter=""),1,0)* IF(LEN(U13)>4,1,0),0) -> 1 | T13: Audit3 | U13: ="3. "&Audit3!$E$9&"" -> 3. Manufacturing | V13: =Audit3!$E$10&"" -> Sealing | W13: =Audit3!$C$10 -> 44666 | X13: =Audit3!$E$12&"" -> Hannah Shaw | Y13: % Result | Z13: =IFERROR(Z11/(Z12),0) -> 0.92 | AA13: =IFERROR(AA11/(AA12),0) -> 0.86666667 | AB13: =IFERROR(AB11/(AB12),0) -> 0.88 | AC13: =IFERROR(AC11/(AC12),0) -> 0.9 | AD13: =IFERROR(AD11/(AD12),0) -> 0.93333333 | AE13: =IFERROR(ROUND(AE11/(AE12),2),"") -> 0.9 | AG13: 1 | AH13: Audit2 | AI13: =Audit2!$E$9 -> Manufacturing | AJ13: =AJ5 -> L1 | AK13: =IF(LEN($AJ13)=0,"",COUNTIFS(Audit2!$G$15:$G$21,$AJ13,Audit2!$E$15:$E$21,"<>"&"")) -> 0 | AL13: =IF(LEN($AJ13)=0,"",COUNTIFS(Audit2!$G$42:$G$48,$AJ13,Audit2!$E$42:$E$48,"<>"&"")) -> 0 | AM13: =IF(LEN($AJ13)=0,"",COUNTIFS(Audit2!$G$69:$G$75,$AJ13,Audit2!$E$69:$E$75,"<>"&"")) -> 0 | AN13: =IF(LEN($AJ13)=0,"",COUNTIFS(Audit2!$G$96:$G$102,$AJ13,Audit2!$E$96:$E$102,"<>"&"")) -> 0 | AO13: =IF(LEN($AJ13)=0,"",COUNTIFS(Audit2!$G$123:$G$129,$AJ13,Audit2!$E$123:$E$129,"<>"&"")) -> 0 | AP13: =IF(LEN(AJ13)=0,"",SUM(AK13:AO13)) -> 0 | AQ13: {=MAX(IF(($T$5:$T$40)=AH13,$S$5:$S$40,0))} -> 1 | AV13: 7 | AW13: {=IFERROR(INDEX($AY$6:$AY$17,MATCH($AW$5&AV13,($X$46:$X$57)&($AE$46:$AE$57),0),1),"")} | AY13: =IFERROR(IF(LEN(INDEX(AE$5:AE$40,$S53,1))=0,"",INDEX(AE$5:AE$40,$S53,1)),"") | AZ13: =IF(AY13>=color1,AY13,"") | BA13: =IF(AY13<color4,AY13,"")
B14: =IF(LEN(C14)>0,ROW(B10),"") | E14: 10 | F14: {=IFERROR(INDEX($V$5:$V$40,MATCH(0,COUNTIF($F$5:F13,$V$5:$V$40),0)),"")} | H14: May | S14: =IFERROR(IF(OR(ISNUMBER(FIND(areaFilter,U14)),areaFilter="All",areaFilter=""),1,0)* IF(OR(stationFilter=V14,stationFilter="All",stationFilter=""),1,0)* IF(OR(AND(W14>0,whenFilter=INDEX(monthsList,MONTH(W14),0)), AND(W14>0,whenFilter= INDEX($H$6:$H$9,ROUNDUP(MONTH(W14)/3,0),1)),whenFilter="All",whenFilter=""),1,0)* IF(OR(auditorFilter=X14,auditorFilter="All",auditorFilter=""),1,0)* IF(LEN(U14)>4,1,0),0) -> 1 | T14: Audit4 | U14: ="4. "&Audit4!$E$9&"" -> 4. Manufacturing | V14: =Audit4!$E$10&"" -> Sealing | W14: =Audit4!$C$10 -> 44819 | X14: =Audit4!$E$12&"" -> Hannah Shaw | Y14: Total score | Z14: =SUM(Audit4!$H$15:$H$21) -> 10 | AA14: =SUM(Audit4!$H$42:$H$48) -> 9 | AB14: =SUM(Audit4!$H$69:$H$75) -> 17 | AC14: =SUM(Audit4!$H$96:$H$102) -> 13 | AD14: =SUM(Audit4!$H$123:$H$129) -> 7 | AE14: =SUM(Z14:AD14) -> 56 | AG14: 2 | AH14: Audit2 | AI14: =Audit2!$E$9 -> Manufacturing | AJ14: =AJ6 -> L2 | AK14: =IF(LEN($AJ14)=0,"",COUNTIFS(Audit2!$G$15:$G$21,$AJ14,Audit2!$E$15:$E$21,"<>"&"")) -> 0 | AL14: =IF(LEN($AJ14)=0,"",COUNTIFS(Audit2!$G$42:$G$48,$AJ14,Audit2!$E$42:$E$48,"<>"&"")) -> 0 | AM14: =IF(LEN($AJ14)=0,"",COUNTIFS(Audit2!$G$69:$G$75,$AJ14,Audit2!$E$69:$E$75,"<>"&"")) -> 1 | AN14: =IF(LEN($AJ14)=0,"",COUNTIFS(Audit2!$G$96:$G$102,$AJ14,Audit2!$E$96:$E$102,"<>"&"")) -> 0 | AO14: =IF(LEN($AJ14)=0,"",COUNTIFS(Audit2!$G$123:$G$129,$AJ14,Audit2!$E$123:$E$129,"<>"&"")) -> 0 | AP14: =IF(LEN(AJ14)=0,"",SUM(AK14:AO14)) -> 1 | AQ14: {=MAX(IF(($T$5:$T$40)=AH14,$S$5:$S$40,0))} -> 1 | AV14: 8 | AW14: {=IFERROR(INDEX($AY$6:$AY$17,MATCH($AW$5&AV14,($X$46:$X$57)&($AE$46:$AE$57),0),1),"")} | AY14: =IFERROR(IF(LEN(INDEX(AE$5:AE$40,$S54,1))=0,"",INDEX(AE$5:AE$40,$S54,1)),"") | AZ14: =IF(AY14>=color1,AY14,"") | BA14: =IF(AY14<color4,AY14,"")
B15: =IF(LEN(C15)>0,ROW(B11),"") | E15: 11 | F15: {=IFERROR(INDEX($V$5:$V$40,MATCH(0,COUNTIF($F$5:F14,$V$5:$V$40),0)),"")} | H15: June | S15: =IFERROR(IF(OR(ISNUMBER(FIND(areaFilter,U15)),areaFilter="All",areaFilter=""),1,0)* IF(OR(stationFilter=V15,stationFilter="All",stationFilter=""),1,0)* IF(OR(AND(W15>0,whenFilter=INDEX(monthsList,MONTH(W15),0)), AND(W15>0,whenFilter= INDEX($H$6:$H$9,ROUNDUP(MONTH(W15)/3,0),1)),whenFilter="All",whenFilter=""),1,0)* IF(OR(auditorFilter=X15,auditorFilter="All",auditorFilter=""),1,0)* IF(LEN(U15)>4,1,0),0) -> 1 | T15: Audit4 | U15: ="4. "&Audit4!$E$9&"" -> 4. Manufacturing | V15: =Audit4!$E$10&"" -> Sealing | W15: =Audit4!$C$10 -> 44819 | X15: =Audit4!$E$12&"" -> Hannah Shaw | Y15: Max Point | Z15: =COUNT(Audit4!$H$15:$H$21)*maxscore -> 25 | AA15: =COUNT(Audit4!$H$42:$H$48)*maxscore -> 30 | AB15: =COUNT(Audit4!$H$69:$H$75)*maxscore -> 25 | AC15: =COUNT(Audit4!$H$96:$H$102)*maxscore -> 20 | AD15: =COUNT(Audit4!$H$123:$H$129)*maxscore -> 15 | AE15: =SUM(Z15:AD15) -> 115 | AG15: 3 | AH15: Audit2 | AI15: =Audit2!$E$9 -> Manufacturing | AJ15: =AJ7 -> L3 | AK15: =IF(LEN($AJ15)=0,"",COUNTIFS(Audit2!$G$15:$G$21,$AJ15,Audit2!$E$15:$E$21,"<>"&"")) -> 1 | AL15: =IF(LEN($AJ15)=0,"",COUNTIFS(Audit2!$G$42:$G$48,$AJ15,Audit2!$E$42:$E$48,"<>"&"")) -> 1 | AM15: =IF(LEN($AJ15)=0,"",COUNTIFS(Audit2!$G$69:$G$75,$AJ15,Audit2!$E$69:$E$75,"<>"&"")) -> 0 | AN15: =IF(LEN($AJ15)=0,"",COUNTIFS(Audit2!$G$96:$G$102,$AJ15,Audit2!$E$96:$E$102,"<>"&"")) -> 1 | AO15: =IF(LEN($AJ15)=0,"",COUNTIFS(Audit2!$G$123:$G$129,$AJ15,Audit2!$E$123:$E$129,"<>"&"")) -> 1 | AP15: =IF(LEN(AJ15)=0,"",SUM(AK15:AO15)) -> 4 | AQ15: {=MAX(IF(($T$5:$T$40)=AH15,$S$5:$S$40,0))} -> 1 | AV15: 9 | AW15: {=IFERROR(INDEX($AY$6:$AY$17,MATCH($AW$5&AV15,($X$46:$X$57)&($AE$46:$AE$57),0),1),"")} | AY15: =IFERROR(IF(LEN(INDEX(AE$5:AE$40,$S55,1))=0,"",INDEX(AE$5:AE$40,$S55,1)),"") | AZ15: =IF(AY15>=color1,AY15,"") | BA15: =IF(AY15<color4,AY15,"")
B16: =IF(LEN(C16)>0,ROW(B12),"") | E16: 12 | F16: {=IFERROR(INDEX($V$5:$V$40,MATCH(0,COUNTIF($F$5:F15,$V$5:$V$40),0)),"")} | H16: July | S16: =IFERROR(IF(OR(ISNUMBER(FIND(areaFilter,U16)),areaFilter="All",areaFilter=""),1,0)* IF(OR(stationFilter=V16,stationFilter="All",stationFilter=""),1,0)* IF(OR(AND(W16>0,whenFilter=INDEX(monthsList,MONTH(W16),0)), AND(W16>0,whenFilter= INDEX($H$6:$H$9,ROUNDUP(MONTH(W16)/3,0),1)),whenFilter="All",whenFilter=""),1,0)* IF(OR(auditorFilter=X16,auditorFilter="All",auditorFilter=""),1,0)* IF(LEN(U16)>4,1,0),0) -> 1 | T16: Audit4 | U16: ="4. "&Audit4!$E$9&"" -> 4. Manufacturing | V16: =Audit4!$E$10&"" -> Sealing | W16: =Audit4!$C$10 -> 44819 | X16: =Audit4!$E$12&"" -> Hannah Shaw | Y16: % Result | Z16: =IFERROR(Z14/(Z15),0) -> 0.4 | AA16: =IFERROR(AA14/(AA15),0) -> 0.3 | AB16: =IFERROR(AB14/(AB15),0) -> 0.68 | AC16: =IFERROR(AC14/(AC15),0) -> 0.65 | AD16: =IFERROR(AD14/(AD15),0) -> 0.46666667 | AE16: =IFERROR(ROUND(AE14/(AE15),2),"") -> 0.49 | AG16: 4 | AH16: Audit2 | AI16: =Audit2!$E$9 -> Manufacturing | AJ16: =AJ8 -> L4 | AK16: =IF(LEN($AJ16)=0,"",COUNTIFS(Audit2!$G$15:$G$21,$AJ16,Audit2!$E$15:$E$21,"<>"&"")) -> 1 | AL16: =IF(LEN($AJ16)=0,"",COUNTIFS(Audit2!$G$42:$G$48,$AJ16,Audit2!$E$42:$E$48,"<>"&"")) -> 3 | AM16: =IF(LEN($AJ16)=0,"",COUNTIFS(Audit2!$G$69:$G$75,$AJ16,Audit2!$E$69:$E$75,"<>"&"")) -> 2 | AN16: =IF(LEN($AJ16)=0,"",COUNTIFS(Audit2!$G$96:$G$102,$AJ16,Audit2!$E$96:$E$102,"<>"&"")) -> 0 | AO16: =IF(LEN($AJ16)=0,"",COUNTIFS(Audit2!$G$123:$G$129,$AJ16,Audit2!$E$123:$E$129,"<>"&"")) -> 1 | AP16: =IF(LEN(AJ16)=0,"",SUM(AK16:AO16)) -> 7 | AQ16: {=MAX(IF(($T$5:$T$40)=AH16,$S$5:$S$40,0))} -> 1 | AV16: 10 | AW16: {=IFERROR(INDEX($AY$6:$AY$17,MATCH($AW$5&AV16,($X$46:$X$57)&($AE$46:$AE$57),0),1),"")} | AY16: =IFERROR(IF(LEN(INDEX(AE$5:AE$40,$S56,1))=0,"",INDEX(AE$5:AE$40,$S56,1)),"") | AZ16: =IF(AY16>=color1,AY16,"") | BA16: =IF(AY16<color4,AY16,"")
B17: =IF(LEN(C17)>0,ROW(B13),"") | E17: 13 | F17: {=IFERROR(INDEX($V$5:$V$40,MATCH(0,COUNTIF($F$5:F16,$V$5:$V$40),0)),"")} | H17: August | S17: =IFERROR(IF(OR(ISNUMBER(FIND(areaFilter,U17)),areaFilter="All",areaFilter=""),1,0)* IF(OR(stationFilter=V17,stationFilter="All",stationFilter=""),1,0)* IF(OR(AND(W17>0,whenFilter=INDEX(monthsList,MONTH(W17),0)), AND(W17>0,whenFilter= INDEX($H$6:$H$9,ROUNDUP(MONTH(W17)/3,0),1)),whenFilter="All",whenFilter=""),1,0)* IF(OR(auditorFilter=X17,auditorFilter="All",auditorFilter=""),1,0)* IF(LEN(U17)>4,1,0),0) -> 1 | T17: Audit5 | U17: ="5. "&Audit5!$E$9&"" -> 5. Manufacturing | V17: =Audit5!$E$10&"" -> Sealing | W17: =Audit5!$C$10 -> 44910 | X17: =Audit5!$E$12&"" -> Hannah Shaw | Y17: Total score | Z17: =SUM(Audit5!$H$15:$H$21) -> 0 | AA17: =SUM(Audit5!$H$42:$H$48) -> 0 | AB17: =SUM(Audit5!$H$69:$H$75) -> 0 | AC17: =SUM(Audit5!$H$96:$H$102) -> 0 | AD17: =SUM(Audit5!$H$123:$H$129) -> 0 | AE17: =SUM(Z17:AD17) -> 0 | AG17: 5 | AH17: Audit2 | AI17: =Audit2!$E$9 -> Manufacturing | AJ17: =AJ9 -> L5 | AK17: =IF(LEN($AJ17)=0,"",COUNTIFS(Audit2!$G$15:$G$21,$AJ17,Audit2!$E$15:$E$21,"<>"&"")) -> 1 | AL17: =IF(LEN($AJ17)=0,"",COUNTIFS(Audit2!$G$42:$G$48,$AJ17,Audit2!$E$42:$E$48,"<>"&"")) -> 0 | AM17: =IF(LEN($AJ17)=0,"",COUNTIFS(Audit2!$G$69:$G$75,$AJ17,Audit2!$E$69:$E$75,"<>"&"")) -> 1 | AN17: =IF(LEN($AJ17)=0,"",COUNTIFS(Audit2!$G$96:$G$102,$AJ17,Audit2!$E$96:$E$102,"<>"&"")) -> 1 | AO17: =IF(LEN($AJ17)=0,"",COUNTIFS(Audit2!$G$123:$G$129,$AJ17,Audit2!$E$123:$E$129,"<>"&"")) -> 1 | AP17: =IF(LEN(AJ17)=0,"",SUM(AK17:AO17)) -> 4 | AQ17: {=MAX(IF(($T$5:$T$40)=AH17,$S$5:$S$40,0))} -> 1 | AV17: 11 | AW17: {=IFERROR(INDEX($AY$6:$AY$17,MATCH($AW$5&AV17,($X$46:$X$57)&($AE$46:$AE$57),0),1),"")} | AY17: =IFERROR(IF(LEN(INDEX(AE$5:AE$40,$S57,1))=0,"",INDEX(AE$5:AE$40,$S57,1)),"") | AZ17: =IF(AY17>=color1,AY17,"") | BA17: =IF(AY17<color4,AY17,"")
B18: =IF(LEN(C18)>0,ROW(B14),"") | H18: September | S18: =IFERROR(IF(OR(ISNUMBER(FIND(areaFilter,U18)),areaFilter="All",areaFilter=""),1,0)* IF(OR(stationFilter=V18,stationFilter="All",stationFilter=""),1,0)* IF(OR(AND(W18>0,whenFilter=INDEX(monthsList,MONTH(W18),0)), AND(W18>0,whenFilter= INDEX($H$6:$H$9,ROUNDUP(MONTH(W18)/3,0),1)),whenFilter="All",whenFilter=""),1,0)* IF(OR(auditorFilter=X18,auditorFilter="All",auditorFilter=""),1,0)* IF(LEN(U18)>4,1,0),0) -> 1 | T18: Audit5 | U18: ="5. "&Audit5!$E$9&"" -> 5. Manufacturing | V18: =Audit5!$E$10&"" -> Sealing | W18: =Audit5!$C$10 -> 44910 | X18: =Audit5!$E$12&"" -> Hannah Shaw | Y18: Max Point | Z18: =COUNT(Audit5!$H$15:$H$21)*maxscore -> 0 | AA18: =COUNT(Audit5!$H$42:$H$48)*maxscore -> 0 | AB18: =COUNT(Audit5!$H$69:$H$75)*maxscore -> 0 | AC18: =COUNT(Audit5!$H$96:$H$102)*maxscore -> 0 | AD18: =COUNT(Audit5!$H$123:$H$129)*maxscore -> 0 | AE18: =SUM(Z18:AD18) -> 0 | AG18: 6 | AH18: Audit2 | AI18: =Audit2!$E$9 -> Manufacturing | AJ18: =AJ10 -> Yes | AK18: =IF(LEN($AJ18)=0,"",COUNTIFS(Audit2!$G$15:$G$21,$AJ18,Audit2!$E$15:$E$21,"<>"&"")) -> 0 | AL18: =IF(LEN($AJ18)=0,"",COUNTIFS(Audit2!$G$42:$G$48,$AJ18,Audit2!$E$42:$E$48,"<>"&"")) -> 1 | AM18: =IF(LEN($AJ18)=0,"",COUNTIFS(Audit2!$G$69:$G$75,$AJ18,Audit2!$E$69:$E$75,"<>"&"")) -> 1 | AN18: =IF(LEN($AJ18)=0,"",COUNTIFS(Audit2!$G$96:$G$102,$AJ18,Audit2!$E$96:$E$102,"<>"&"")) -> 1 | AO18: =IF(LEN($AJ18)=0,"",COUNTIFS(Audit2!$G$123:$G$129,$AJ18,Audit2!$E$123:$E$129,"<>"&"")) -> 0 | AP18: =IF(LEN(AJ18)=0,"",SUM(AK18:AO18)) -> 3 | AQ18: {=MAX(IF(($T$5:$T$40)=AH18,$S$5:$S$40,0))} -> 1 | AV18: 12 | AW18: {=IFERROR(INDEX($AY$6:$AY$17,MATCH($AW$5&AV18,($X$46:$X$57)&($AE$46:$AE$57),0),1),"")}
B19: =IF(LEN(C19)>0,ROW(B15),"") | H19: October | S19: =IFERROR(IF(OR(ISNUMBER(FIND(areaFilter,U19)),areaFilter="All",areaFilter=""),1,0)* IF(OR(stationFilter=V19,stationFilter="All",stationFilter=""),1,0)* IF(OR(AND(W19>0,whenFilter=INDEX(monthsList,MONTH(W19),0)), AND(W19>0,whenFilter= INDEX($H$6:$H$9,ROUNDUP(MONTH(W19)/3,0),1)),whenFilter="All",whenFilter=""),1,0)* IF(OR(auditorFilter=X19,auditorFilter="All",auditorFilter=""),1,0)* IF(LEN(U19)>4,1,0),0) -> 1 | T19: Audit5 | U19: ="5. "&Audit5!$E$9&"" -> 5. Manufacturing | V19: =Audit5!$E$10&"" -> Sealing | W19: =Audit5!$C$10 -> 44910 | X19: =Audit5!$E$12&"" -> Hannah Shaw | Y19: % Result | Z19: =IFERROR(Z17/(Z18),0) -> 0 | AA19: =IFERROR(AA17/(AA18),0) -> 0 | AB19: =IFERROR(AB17/(AB18),0) -> 0 | AC19: =IFERROR(AC17/(AC18),0) -> 0 | AD19: =IFERROR(AD17/(AD18),0) -> 0 | AE19: =IFERROR(ROUND(AE17/(AE18),2),"") | AG19: 7 | AH19: Audit2 | AI19: =Audit2!$E$9 -> Manufacturing | AJ19: =AJ11 -> No | AK19: =IF(LEN($AJ19)=0,"",COUNTIFS(Audit2!$G$15:$G$21,$AJ19,Audit2!$E$15:$E$21,"<>"&"")) -> 1 | AL19: =IF(LEN($AJ19)=0,"",COUNTIFS(Audit2!$G$42:$G$48,$AJ19,Audit2!$E$42:$E$48,"<>"&"")) -> 0 | AM19: =IF(LEN($AJ19)=0,"",COUNTIFS(Audit2!$G$69:$G$75,$AJ19,Audit2!$E$69:$E$75,"<>"&"")) -> 0 | AN19: =IF(LEN($AJ19)=0,"",COUNTIFS(Audit2!$G$96:$G$102,$AJ19,Audit2!$E$96:$E$102,"<>"&"")) -> 1 | AO19: =IF(LEN($AJ19)=0,"",COUNTIFS(Audit2!$G$123:$G$129,$AJ19,Audit2!$E$123:$E$129,"<>"&"")) -> 0 | AP19: =IF(LEN(AJ19)=0,"",SUM(AK19:AO19)) -> 2 | AQ19: {=MAX(IF(($T$5:$T$40)=AH19,$S$5:$S$40,0))} -> 1
B20: =IF(LEN(C20)>0,ROW(B16),"") | H20: November | S20: =IFERROR(IF(OR(ISNUMBER(FIND(areaFilter,U20)),areaFilter="All",areaFilter=""),1,0)* IF(OR(stationFilter=V20,stationFilter="All",stationFilter=""),1,0)* IF(OR(AND(W20>0,whenFilter=INDEX(monthsList,MONTH(W20),0)), AND(W20>0,whenFilter= INDEX($H$6:$H$9,ROUNDUP(MONTH(W20)/3,0),1)),whenFilter="All",whenFilter=""),1,0)* IF(OR(auditorFilter=X20,auditorFilter="All",auditorFilter=""),1,0)* IF(LEN(U20)>4,1,0),0) -> 1 | T20: Audit6 | U20: ="6. "&Audit6!$E$9&"" -> 6. Laboratory | V20: =Audit6!$E$10&"" -> Electric capacity measuer station | W20: =Audit6!$C$10 -> 44896 | X20: =Audit6!$E$12&"" -> Hannah Shaw | Y20: Total score | Z20: =SUM(Audit6!$H$15:$H$21) -> 0 | AA20: =SUM(Audit6!$H$42:$H$48) -> 0 | AB20: =SUM(Audit6!$H$69:$H$75) -> 0 | AC20: =SUM(Audit6!$H$96:$H$102) -> 0 | AD20: =SUM(Audit6!$H$123:$H$129) -> 0 | AE20: =SUM(Z20:AD20) -> 0 | AG20: 8 | AH20: Audit2 | AI20: =Audit2!$E$9 -> Manufacturing | AJ20: =AJ12 | AK20: =IF(LEN($AJ20)=0,"",COUNTIFS(Audit2!$G$15:$G$21,$AJ20,Audit2!$E$15:$E$21,"<>"&"")) | AL20: =IF(LEN($AJ20)=0,"",COUNTIFS(Audit2!$G$42:$G$48,$AJ20,Audit2!$E$42:$E$48,"<>"&"")) | AM20: =IF(LEN($AJ20)=0,"",COUNTIFS(Audit2!$G$69:$G$75,$AJ20,Audit2!$E$69:$E$75,"<>"&"")) | AN20: =IF(LEN($AJ20)=0,"",COUNTIFS(Audit2!$G$96:$G$102,$AJ20,Audit2!$E$96:$E$102,"<>"&"")) | AO20: =IF(LEN($AJ20)=0,"",COUNTIFS(Audit2!$G$123:$G$129,$AJ20,Audit2!$E$123:$E$129,"<>"&"")) | AP20: =IF(LEN(AJ20)=0,"",SUM(AK20:AO20)) | AQ20: {=MAX(IF(($T$5:$T$40)=AH20,$S$5:$S$40,0))} -> 1
H21: December | S21: =IFERROR(IF(OR(ISNUMBER(FIND(areaFilter,U21)),areaFilter="All",areaFilter=""),1,0)* IF(OR(stationFilter=V21,stationFilter="All",stationFilter=""),1,0)* IF(OR(AND(W21>0,whenFilter=INDEX(monthsList,MONTH(W21),0)), AND(W21>0,whenFilter= INDEX($H$6:$H$9,ROUNDUP(MONTH(W21)/3,0),1)),whenFilter="All",whenFilter=""),1,0)* IF(OR(auditorFilter=X21,auditorFilter="All",auditorFilter=""),1,0)* IF(LEN(U21)>4,1,0),0) -> 1 | T21: Audit6 | U21: ="6. "&Audit6!$E$9&"" -> 6. Laboratory | V21: =Audit6!$E$10&"" -> Electric capacity measuer station | W21: =Audit6!$C$10 -> 44896 | X21: =Audit6!$E$12&"" -> Hannah Shaw | Y21: Max Point | Z21: =COUNT(Audit6!$H$15:$H$21)*maxscore -> 0 | AA21: =COUNT(Audit6!$H$42:$H$48)*maxscore -> 0 | AB21: =COUNT(Audit6!$H$69:$H$75)*maxscore -> 0 | AC21: =COUNT(Audit6!$H$96:$H$102)*maxscore -> 0 | AD21: =COUNT(Audit6!$H$123:$H$129)*maxscore -> 0 | AE21: =SUM(Z21:AD21) -> 0 | AG21: 1 | AH21: Audit3 | AI21: =Audit3!$E$9 -> Manufacturing | AJ21: =AJ13 -> L1 | AK21: =IF(LEN($AJ21)=0,"",COUNTIFS(Audit3!$G$15:$G$21,$AJ21,Audit3!$E$15:$E$21,"<>"&"")) -> 0 | AL21: =IF(LEN($AJ21)=0,"",COUNTIFS(Audit3!$G$42:$G$48,$AJ21,Audit3!$E$42:$E$48,"<>"&"")) -> 0 | AM21: =IF(LEN($AJ21)=0,"",COUNTIFS(Audit3!$G$69:$G$75,$AJ21,Audit3!$E$69:$E$75,"<>"&"")) -> 0 | AN21: =IF(LEN($AJ21)=0,"",COUNTIFS(Audit3!$G$96:$G$102,$AJ21,Audit3!$E$96:$E$102,"<>"&"")) -> 0 | AO21: =IF(LEN($AJ21)=0,"",COUNTIFS(Audit3!$G$123:$G$129,$AJ21,Audit3!$E$123:$E$129,"<>"&"")) -> 0 | AP21: =IF(LEN(AJ21)=0,"",SUM(AK21:AO21)) -> 0 | AQ21: {=MAX(IF(($T$5:$T$40)=AH21,$S$5:$S$40,0))} -> 1
S22: =IFERROR(IF(OR(ISNUMBER(FIND(areaFilter,U22)),areaFilter="All",areaFilter=""),1,0)* IF(OR(stationFilter=V22,stationFilter="All",stationFilter=""),1,0)* IF(OR(AND(W22>0,whenFilter=INDEX(monthsList,MONTH(W22),0)), AND(W22>0,whenFilter= INDEX($H$6:$H$9,ROUNDUP(MONTH(W22)/3,0),1)),whenFilter="All",whenFilter=""),1,0)* IF(OR(auditorFilter=X22,auditorFilter="All",auditorFilter=""),1,0)* IF(LEN(U22)>4,1,0),0) -> 1 | T22: Audit6 | U22: ="6. "&Audit6!$E$9&"" -> 6. Laboratory | V22: =Audit6!$E$10&"" -> Electric capacity measuer station | W22: =Audit6!$C$10 -> 44896 | X22: =Audit6!$E$12&"" -> Hannah Shaw | Y22: % Result | Z22: =IFERROR(Z20/(Z21),0) -> 0 | AA22: =IFERROR(AA20/(AA21),0) -> 0 | AB22: =IFERROR(AB20/(AB21),0) -> 0 | AC22: =IFERROR(AC20/(AC21),0) -> 0 | AD22: =IFERROR(AD20/(AD21),0) -> 0 | AE22: =IFERROR(ROUND(AE20/(AE21),2),"") | AG22: 2 | AH22: Audit3 | AI22: =Audit3!$E$9 -> Manufacturing | AJ22: =AJ14 -> L2 | AK22: =IF(LEN($AJ22)=0,"",COUNTIFS(Audit3!$G$15:$G$21,$AJ22,Audit3!$E$15:$E$21,"<>"&"")) -> 0 | AL22: =IF(LEN($AJ22)=0,"",COUNTIFS(Audit3!$G$42:$G$48,$AJ22,Audit3!$E$42:$E$48,"<>"&"")) -> 1 | AM22: =IF(LEN($AJ22)=0,"",COUNTIFS(Audit3!$G$69:$G$75,$AJ22,Audit3!$E$69:$E$75,"<>"&"")) -> 0 | AN22: =IF(LEN($AJ22)=0,"",COUNTIFS(Audit3!$G$96:$G$102,$AJ22,Audit3!$E$96:$E$102,"<>"&"")) -> 0 | AO22: =IF(LEN($AJ22)=0,"",COUNTIFS(Audit3!$G$123:$G$129,$AJ22,Audit3!$E$123:$E$129,"<>"&"")) -> 0 | AP22: =IF(LEN(AJ22)=0,"",SUM(AK22:AO22)) -> 1 | AQ22: {=MAX(IF(($T$5:$T$40)=AH22,$S$5:$S$40,0))} -> 1
S23: =IFERROR(IF(OR(ISNUMBER(FIND(areaFilter,U23)),areaFilter="All",areaFilter=""),1,0)* IF(OR(stationFilter=V23,stationFilter="All",stationFilter=""),1,0)* IF(OR(AND(W23>0,whenFilter=INDEX(monthsList,MONTH(W23),0)), AND(W23>0,whenFilter= INDEX($H$6:$H$9,ROUNDUP(MONTH(W23)/3,0),1)),whenFilter="All",whenFilter=""),1,0)* IF(OR(auditorFilter=X23,auditorFilter="All",auditorFilter=""),1,0)* IF(LEN(U23)>4,1,0),0) -> 1 | T23: Audit7 | U23: ="7. "&Audit7!$E$9&"" -> 7. Classroom | V23: =Audit7!$E$10&"" -> R201a | W23: =Audit7!$C$10 -> 44835 | X23: =Audit7!$E$12&"" -> Hannah Shaw | Y23: Total score | Z23: =SUM(Audit7!$H$15:$H$21) -> 0 | AA23: =SUM(Audit7!$H$42:$H$48) -> 0 | AB23: =SUM(Audit7!$H$69:$H$75) -> 0 | AC23: =SUM(Audit7!$H$96:$H$102) -> 0 | AD23: =SUM(Audit7!$H$123:$H$129) -> 0 | AE23: =SUM(Z23:AD23) -> 0 | AG23: 3 | AH23: Audit3 | AI23: =Audit3!$E$9 -> Manufacturing | AJ23: =AJ15 -> L3 | AK23: =IF(LEN($AJ23)=0,"",COUNTIFS(Audit3!$G$15:$G$21,$AJ23,Audit3!$E$15:$E$21,"<>"&"")) -> 0 | AL23: =IF(LEN($AJ23)=0,"",COUNTIFS(Audit3!$G$42:$G$48,$AJ23,Audit3!$E$42:$E$48,"<>"&"")) -> 0 | AM23: =IF(LEN($AJ23)=0,"",COUNTIFS(Audit3!$G$69:$G$75,$AJ23,Audit3!$E$69:$E$75,"<>"&"")) -> 0 | AN23: =IF(LEN($AJ23)=0,"",COUNTIFS(Audit3!$G$96:$G$102,$AJ23,Audit3!$E$96:$E$102,"<>"&"")) -> 0 | AO23: =IF(LEN($AJ23)=0,"",COUNTIFS(Audit3!$G$123:$G$129,$AJ23,Audit3!$E$123:$E$129,"<>"&"")) -> 0 | AP23: =IF(LEN(AJ23)=0,"",SUM(AK23:AO23)) -> 0 | AQ23: {=MAX(IF(($T$5:$T$40)=AH23,$S$5:$S$40,0))} -> 1
S24: =IFERROR(IF(OR(ISNUMBER(FIND(areaFilter,U24)),areaFilter="All",areaFilter=""),1,0)* IF(OR(stationFilter=V24,stationFilter="All",stationFilter=""),1,0)* IF(OR(AND(W24>0,whenFilter=INDEX(monthsList,MONTH(W24),0)), AND(W24>0,whenFilter= INDEX($H$6:$H$9,ROUNDUP(MONTH(W24)/3,0),1)),whenFilter="All",whenFilter=""),1,0)* IF(OR(auditorFilter=X24,auditorFilter="All",auditorFilter=""),1,0)* IF(LEN(U24)>4,1,0),0) -> 1 | T24: Audit7 | U24: ="7. "&Audit7!$E$9&"" -> 7. Classroom | V24: =Audit7!$E$10&"" -> R201a | W24: =Audit7!$C$10 -> 44835 | X24: =Audit7!$E$12&"" -> Hannah Shaw | Y24: Max Point | Z24: =COUNT(Audit7!$H$15:$H$21)*maxscore -> 0 | AA24: =COUNT(Audit7!$H$42:$H$48)*maxscore -> 0 | AB24: =COUNT(Audit7!$H$69:$H$75)*maxscore -> 0 | AC24: =COUNT(Audit7!$H$96:$H$102)*maxscore -> 0 | AD24: =COUNT(Audit7!$H$123:$H$129)*maxscore -> 0 | AE24: =SUM(Z24:AD24) -> 0 | AG24: 4 | AH24: Audit3 | AI24: =Audit3!$E$9 -> Manufacturing | AJ24: =AJ16 -> L4 | AK24: =IF(LEN($AJ24)=0,"",COUNTIFS(Audit3!$G$15:$G$21,$AJ24,Audit3!$E$15:$E$21,"<>"&"")) -> 2 | AL24: =IF(LEN($AJ24)=0,"",COUNTIFS(Audit3!$G$42:$G$48,$AJ24,Audit3!$E$42:$E$48,"<>"&"")) -> 1 | AM24: =IF(LEN($AJ24)=0,"",COUNTIFS(Audit3!$G$69:$G$75,$AJ24,Audit3!$E$69:$E$75,"<>"&"")) -> 3 | AN24: =IF(LEN($AJ24)=0,"",COUNTIFS(Audit3!$G$96:$G$102,$AJ24,Audit3!$E$96:$E$102,"<>"&"")) -> 2 | AO24: =IF(LEN($AJ24)=0,"",COUNTIFS(Audit3!$G$123:$G$129,$AJ24,Audit3!$E$123:$E$129,"<>"&"")) -> 1 | AP24: =IF(LEN(AJ24)=0,"",SUM(AK24:AO24)) -> 9 | AQ24: {=MAX(IF(($T$5:$T$40)=AH24,$S$5:$S$40,0))} -> 1
S25: =IFERROR(IF(OR(ISNUMBER(FIND(areaFilter,U25)),areaFilter="All",areaFilter=""),1,0)* IF(OR(stationFilter=V25,stationFilter="All",stationFilter=""),1,0)* IF(OR(AND(W25>0,whenFilter=INDEX(monthsList,MONTH(W25),0)), AND(W25>0,whenFilter= INDEX($H$6:$H$9,ROUNDUP(MONTH(W25)/3,0),1)),whenFilter="All",whenFilter=""),1,0)* IF(OR(auditorFilter=X25,auditorFilter="All",auditorFilter=""),1,0)* IF(LEN(U25)>4,1,0),0) -> 1 | T25: Audit7 | U25: ="7. "&Audit7!$E$9&"" -> 7. Classroom | V25: =Audit7!$E$10&"" -> R201a | W25: =Audit7!$C$10 -> 44835 | X25: =Audit7!$E$12&"" -> Hannah Shaw | Y25: % Result | Z25: =IFERROR(Z23/(Z24),0) -> 0 | AA25: =IFERROR(AA23/(AA24),0) -> 0 | AB25: =IFERROR(AB23/(AB24),0) -> 0 | AC25: =IFERROR(AC23/(AC24),0) -> 0 | AD25: =IFERROR(AD23/(AD24),0) -> 0 | AE25: =IFERROR(ROUND(AE23/(AE24),2),"") | AG25: 5 | AH25: Audit3 | AI25: =Audit3!$E$9 -> Manufacturing | AJ25: =AJ17 -> L5 | AK25: =IF(LEN($AJ25)=0,"",COUNTIFS(Audit3!$G$15:$G$21,$AJ25,Audit3!$E$15:$E$21,"<>"&"")) -> 0 | AL25: =IF(LEN($AJ25)=0,"",COUNTIFS(Audit3!$G$42:$G$48,$AJ25,Audit3!$E$42:$E$48,"<>"&"")) -> 1 | AM25: =IF(LEN($AJ25)=0,"",COUNTIFS(Audit3!$G$69:$G$75,$AJ25,Audit3!$E$69:$E$75,"<>"&"")) -> 1 | AN25: =IF(LEN($AJ25)=0,"",COUNTIFS(Audit3!$G$96:$G$102,$AJ25,Audit3!$E$96:$E$102,"<>"&"")) -> 1 | AO25: =IF(LEN($AJ25)=0,"",COUNTIFS(Audit3!$G$123:$G$129,$AJ25,Audit3!$E$123:$E$129,"<>"&"")) -> 1 | AP25: =IF(LEN(AJ25)=0,"",SUM(AK25:AO25)) -> 4 | AQ25: {=MAX(IF(($T$5:$T$40)=AH25,$S$5:$S$40,0))} -> 1
S26: =IFERROR(IF(OR(ISNUMBER(FIND(areaFilter,U26)),areaFilter="All",areaFilter=""),1,0)* IF(OR(stationFilter=V26,stationFilter="All",stationFilter=""),1,0)* IF(OR(AND(W26>0,whenFilter=INDEX(monthsList,MONTH(W26),0)), AND(W26>0,whenFilter= INDEX($H$6:$H$9,ROUNDUP(MONTH(W26)/3,0),1)),whenFilter="All",whenFilter=""),1,0)* IF(OR(auditorFilter=X26,auditorFilter="All",auditorFilter=""),1,0)* IF(LEN(U26)>4,1,0),0) -> 1 | T26: Audit8 | U26: ="8. " &Audit8!$E$9&"" -> 8. Office | V26: =Audit8!$E$10&"" -> Electric capacity measuer station | W26: =Audit8!$C$10 -> 44805 | X26: =Audit8!$E$12&"" -> Hannah Shaw | Y26: Total score | Z26: =SUM(Audit8!$H$15:$H$21) -> 0 | AA26: =SUM(Audit8!$H$42:$H$48) -> 0 | AB26: =SUM(Audit8!$H$69:$H$75) -> 0 | AC26: =SUM(Audit8!$H$96:$H$102) -> 0 | AD26: =SUM(Audit8!$H$123:$H$129) -> 0 | AE26: =SUM(Z26:AD26) -> 0 | AG26: 6 | AH26: Audit3 | AI26: =Audit3!$E$9 -> Manufacturing | AJ26: =AJ18 -> Yes | AK26: =IF(LEN($AJ26)=0,"",COUNTIFS(Audit3!$G$15:$G$21,$AJ26,Audit3!$E$15:$E$21,"<>"&"")) -> 3 | AL26: =IF(LEN($AJ26)=0,"",COUNTIFS(Audit3!$G$42:$G$48,$AJ26,Audit3!$E$42:$E$48,"<>"&"")) -> 3 | AM26: =IF(LEN($AJ26)=0,"",COUNTIFS(Audit3!$G$69:$G$75,$AJ26,Audit3!$E$69:$E$75,"<>"&"")) -> 1 | AN26: =IF(LEN($AJ26)=0,"",COUNTIFS(Audit3!$G$96:$G$102,$AJ26,Audit3!$E$96:$E$102,"<>"&"")) -> 1 | AO26: =IF(LEN($AJ26)=0,"",COUNTIFS(Audit3!$G$123:$G$129,$AJ26,Audit3!$E$123:$E$129,"<>"&"")) -> 1 | AP26: =IF(LEN(AJ26)=0,"",SUM(AK26:AO26)) -> 9 | AQ26: {=MAX(IF(($T$5:$T$40)=AH26,$S$5:$S$40,0))} -> 1
S27: =IFERROR(IF(OR(ISNUMBER(FIND(areaFilter,U27)),areaFilter="All",areaFilter=""),1,0)* IF(OR(stationFilter=V27,stationFilter="All",stationFilter=""),1,0)* IF(OR(AND(W27>0,whenFilter=INDEX(monthsList,MONTH(W27),0)), AND(W27>0,whenFilter= INDEX($H$6:$H$9,ROUNDUP(MONTH(W27)/3,0),1)),whenFilter="All",whenFilter=""),1,0)* IF(OR(auditorFilter=X27,auditorFilter="All",auditorFilter=""),1,0)* IF(LEN(U27)>4,1,0),0) -> 1 | T27: Audit8 | U27: ="8. " &Audit8!$E$9&"" -> 8. Office | V27: =Audit8!$E$10&"" -> Electric capacity measuer station | W27: =Audit8!$C$10 -> 44805 | X27: =Audit8!$E$12&"" -> Hannah Shaw | Y27: Max Point | Z27: =COUNT(Audit8!$H$15:$H$21)*maxscore -> 0 | AA27: =COUNT(Audit8!$H$42:$H$48)*maxscore -> 0 | AB27: =COUNT(Audit8!$H$69:$H$75)*maxscore -> 0 | AC27: =COUNT(Audit8!$H$96:$H$102)*maxscore -> 0 | AD27: =COUNT(Audit8!$H$123:$H$129)*maxscore -> 0 | AE27: =SUM(Z27:AD27) -> 0 | AG27: 7 | AH27: Audit3 | AI27: =Audit3!$E$9 -> Manufacturing | AJ27: =AJ19 -> No | AK27: =IF(LEN($AJ27)=0,"",COUNTIFS(Audit3!$G$15:$G$21,$AJ27,Audit3!$E$15:$E$21,"<>"&"")) -> 0 | AL27: =IF(LEN($AJ27)=0,"",COUNTIFS(Audit3!$G$42:$G$48,$AJ27,Audit3!$E$42:$E$48,"<>"&"")) -> 0 | AM27: =IF(LEN($AJ27)=0,"",COUNTIFS(Audit3!$G$69:$G$75,$AJ27,Audit3!$E$69:$E$75,"<>"&"")) -> 0 | AN27: =IF(LEN($AJ27)=0,"",COUNTIFS(Audit3!$G$96:$G$102,$AJ27,Audit3!$E$96:$E$102,"<>"&"")) -> 0 | AO27: =IF(LEN($AJ27)=0,"",COUNTIFS(Audit3!$G$123:$G$129,$AJ27,Audit3!$E$123:$E$129,"<>"&"")) -> 0 | AP27: =IF(LEN(AJ27)=0,"",SUM(AK27:AO27)) -> 0 | AQ27: {=MAX(IF(($T$5:$T$40)=AH27,$S$5:$S$40,0))} -> 1
S28: =IFERROR(IF(OR(ISNUMBER(FIND(areaFilter,U28)),areaFilter="All",areaFilter=""),1,0)* IF(OR(stationFilter=V28,stationFilter="All",stationFilter=""),1,0)* IF(OR(AND(W28>0,whenFilter=INDEX(monthsList,MONTH(W28),0)), AND(W28>0,whenFilter= INDEX($H$6:$H$9,ROUNDUP(MONTH(W28)/3,0),1)),whenFilter="All",whenFilter=""),1,0)* IF(OR(auditorFilter=X28,auditorFilter="All",auditorFilter=""),1,0)* IF(LEN(U28)>4,1,0),0) -> 1 | T28: Audit8 | U28: ="8. " &Audit8!$E$9&"" -> 8. Office | V28: =Audit8!$E$10&"" -> Electric capacity measuer station | W28: =Audit8!$C$10 -> 44805 | X28: =Audit8!$E$12&"" -> Hannah Shaw | Y28: % Result | Z28: =IFERROR(Z26/(Z27),0) -> 0 | AA28: =IFERROR(AA26/(AA27),0) -> 0 | AB28: =IFERROR(AB26/(AB27),0) -> 0 | AC28: =IFERROR(AC26/(AC27),0) -> 0 | AD28: =IFERROR(AD26/(AD27),0) -> 0 | AE28: =IFERROR(ROUND(AE26/(AE27),2),"") | AG28: 8 | AH28: Audit3 | AI28: =Audit3!$E$9 -> Manufacturing | AJ28: =AJ20 | AK28: =IF(LEN($AJ28)=0,"",COUNTIFS(Audit3!$G$15:$G$21,$AJ28,Audit3!$E$15:$E$21,"<>"&"")) | AL28: =IF(LEN($AJ28)=0,"",COUNTIFS(Audit3!$G$42:$G$48,$AJ28,Audit3!$E$42:$E$48,"<>"&"")) | AM28: =IF(LEN($AJ28)=0,"",COUNTIFS(Audit3!$G$69:$G$75,$AJ28,Audit3!$E$69:$E$75,"<>"&"")) | AN28: =IF(LEN($AJ28)=0,"",COUNTIFS(Audit3!$G$96:$G$102,$AJ28,Audit3!$E$96:$E$102,"<>"&"")) | AO28: =IF(LEN($AJ28)=0,"",COUNTIFS(Audit3!$G$123:$G$129,$AJ28,Audit3!$E$123:$E$129,"<>"&"")) | AP28: =IF(LEN(AJ28)=0,"",SUM(AK28:AO28)) | AQ28: {=MAX(IF(($T$5:$T$40)=AH28,$S$5:$S$40,0))} -> 1
S29: =IFERROR(IF(OR(ISNUMBER(FIND(areaFilter,U29)),areaFilter="All",areaFilter=""),1,0)* IF(OR(stationFilter=V29,stationFilter="All",stationFilter=""),1,0)* IF(OR(AND(W29>0,whenFilter=INDEX(monthsList,MONTH(W29),0)), AND(W29>0,whenFilter= INDEX($H$6:$H$9,ROUNDUP(MONTH(W29)/3,0),1)),whenFilter="All",whenFilter=""),1,0)* IF(OR(auditorFilter=X29,auditorFilter="All",auditorFilter=""),1,0)* IF(LEN(U29)>4,1,0),0) -> 1 | T29: Audit9 | U29: ="9. " &Audit9!$E$9&"" -> 9. IT Project | V29: =Audit9!$E$10&"" -> S01 | W29: =Audit9!$C$10 -> 44819 | X29: =Audit9!$E$12&"" | Y29: Total score | Z29: =SUM(Audit9!$H$15:$H$21) -> 0 | AA29: =SUM(Audit9!$H$42:$H$48) -> 0 | AB29: =SUM(Audit9!$H$69:$H$75) -> 0 | AC29: =SUM(Audit9!$H$96:$H$102) -> 0 | AD29: =SUM(Audit9!$H$123:$H$129) -> 0 | AE29: =SUM(Z29:AD29) -> 0 | AG29: 1 | AH29: Audit4 | AI29: =Audit4!$E$9 -> Manufacturing | AJ29: =AJ21 -> L1 | AK29: =IF(LEN($AJ29)=0,"",COUNTIFS(Audit4!$G$15:$G$21,$AJ29,Audit4!$E$15:$E$21,"<>"&"")) -> 2 | AL29: =IF(LEN($AJ29)=0,"",COUNTIFS(Audit4!$G$42:$G$48,$AJ29,Audit4!$E$42:$E$48,"<>"&"")) -> 0 | AM29: =IF(LEN($AJ29)=0,"",COUNTIFS(Audit4!$G$69:$G$75,$AJ29,Audit4!$E$69:$E$75,"<>"&"")) -> 0 | AN29: =IF(LEN($AJ29)=0,"",COUNTIFS(Audit4!$G$96:$G$102,$AJ29,Audit4!$E$96:$E$102,"<>"&"")) -> 0 | AO29: =IF(LEN($AJ29)=0,"",COUNTIFS(Audit4!$G$123:$G$129,$AJ29,Audit4!$E$123:$E$129,"<>"&"")) -> 0 | AP29: =IF(LEN(AJ29)=0,"",SUM(AK29:AO29)) -> 2 | AQ29: {=MAX(IF(($T$5:$T$40)=AH29,$S$5:$S$40,0))} -> 1
S30: =IFERROR(IF(OR(ISNUMBER(FIND(areaFilter,U30)),areaFilter="All",areaFilter=""),1,0)* IF(OR(stationFilter=V30,stationFilter="All",stationFilter=""),1,0)* IF(OR(AND(W30>0,whenFilter=INDEX(monthsList,MONTH(W30),0)), AND(W30>0,whenFilter= INDEX($H$6:$H$9,ROUNDUP(MONTH(W30)/3,0),1)),whenFilter="All",whenFilter=""),1,0)* IF(OR(auditorFilter=X30,auditorFilter="All",auditorFilter=""),1,0)* IF(LEN(U30)>4,1,0),0) -> 1 | T30: Audit9 | U30: ="9. " &Audit9!$E$9&"" -> 9. IT Project | V30: =Audit9!$E$10&"" -> S01 | W30: =Audit9!$C$10 -> 44819 | X30: =Audit9!$E$12&"" | Y30: Max Point | Z30: =COUNT(Audit9!$H$15:$H$21)*maxscore -> 0 | AA30: =COUNT(Audit9!$H$42:$H$48)*maxscore -> 0 | AB30: =COUNT(Audit9!$H$69:$H$75)*maxscore -> 0 | AC30: =COUNT(Audit9!$H$96:$H$102)*maxscore -> 0 | AD30: =COUNT(Audit9!$H$123:$H$129)*maxscore -> 0 | AE30: =SUM(Z30:AD30) -> 0 | AG30: 2 | AH30: Audit4 | AI30: =Audit4!$E$9 -> Manufacturing | AJ30: =AJ22 -> L2 | AK30: =IF(LEN($AJ30)=0,"",COUNTIFS(Audit4!$G$15:$G$21,$AJ30,Audit4!$E$15:$E$21,"<>"&"")) -> 0 | AL30: =IF(LEN($AJ30)=0,"",COUNTIFS(Audit4!$G$42:$G$48,$AJ30,Audit4!$E$42:$E$48,"<>"&"")) -> 1 | AM30: =IF(LEN($AJ30)=0,"",COUNTIFS(Audit4!$G$69:$G$75,$AJ30,Audit4!$E$69:$E$75,"<>"&"")) -> 2 | AN30: =IF(LEN($AJ30)=0,"",COUNTIFS(Audit4!$G$96:$G$102,$AJ30,Audit4!$E$96:$E$102,"<>"&"")) -> 0 | AO30: =IF(LEN($AJ30)=0,"",COUNTIFS(Audit4!$G$123:$G$129,$AJ30,Audit4!$E$123:$E$129,"<>"&"")) -> 2 | AP30: =IF(LEN(AJ30)=0,"",SUM(AK30:AO30)) -> 5 | AQ30: {=MAX(IF(($T$5:$T$40)=AH30,$S$5:$S$40,0))} -> 1
S31: =IFERROR(IF(OR(ISNUMBER(FIND(areaFilter,U31)),areaFilter="All",areaFilter=""),1,0)* IF(OR(stationFilter=V31,stationFilter="All",stationFilter=""),1,0)* IF(OR(AND(W31>0,whenFilter=INDEX(monthsList,MONTH(W31),0)), AND(W31>0,whenFilter= INDEX($H$6:$H$9,ROUNDUP(MONTH(W31)/3,0),1)),whenFilter="All",whenFilter=""),1,0)* IF(OR(auditorFilter=X31,auditorFilter="All",auditorFilter=""),1,0)* IF(LEN(U31)>4,1,0),0) -> 1 | T31: Audit9 | U31: ="9. " &Audit9!$E$9&"" -> 9. IT Project | V31: =Audit9!$E$10&"" -> S01 | W31: =Audit9!$C$10 -> 44819 | X31: =Audit9!$E$12&"" | Y31: % Result | Z31: =IFERROR(Z29/(Z30),0) -> 0 | AA31: =IFERROR(AA29/(AA30),0) -> 0 | AB31: =IFERROR(AB29/(AB30),0) -> 0 | AC31: =IFERROR(AC29/(AC30),0) -> 0 | AD31: =IFERROR(AD29/(AD30),0) -> 0 | AE31: =IFERROR(ROUND(AE29/(AE30),2),"") | AG31: 3 | AH31: Audit4 | AI31: =Audit4!$E$9 -> Manufacturing | AJ31: =AJ23 -> L3 | AK31: =IF(LEN($AJ31)=0,"",COUNTIFS(Audit4!$G$15:$G$21,$AJ31,Audit4!$E$15:$E$21,"<>"&"")) -> 1 | AL31: =IF(LEN($AJ31)=0,"",COUNTIFS(Audit4!$G$42:$G$48,$AJ31,Audit4!$E$42:$E$48,"<>"&"")) -> 1 | AM31: =IF(LEN($AJ31)=0,"",COUNTIFS(Audit4!$G$69:$G$75,$AJ31,Audit4!$E$69:$E$75,"<>"&"")) -> 0 | AN31: =IF(LEN($AJ31)=0,"",COUNTIFS(Audit4!$G$96:$G$102,$AJ31,Audit4!$E$96:$E$102,"<>"&"")) -> 1 | AO31: =IF(LEN($AJ31)=0,"",COUNTIFS(Audit4!$G$123:$G$129,$AJ31,Audit4!$E$123:$E$129,"<>"&"")) -> 1 | AP31: =IF(LEN(AJ31)=0,"",SUM(AK31:AO31)) -> 4 | AQ31: {=MAX(IF(($T$5:$T$40)=AH31,$S$5:$S$40,0))} -> 1
S32: =IFERROR(IF(OR(ISNUMBER(FIND(areaFilter,U32)),areaFilter="All",areaFilter=""),1,0)* IF(OR(stationFilter=V32,stationFilter="All",stationFilter=""),1,0)* IF(OR(AND(W32>0,whenFilter=INDEX(monthsList,MONTH(W32),0)), AND(W32>0,whenFilter= INDEX($H$6:$H$9,ROUNDUP(MONTH(W32)/3,0),1)),whenFilter="All",whenFilter=""),1,0)* IF(OR(auditorFilter=X32,auditorFilter="All",auditorFilter=""),1,0)* IF(LEN(U32)>4,1,0),0) -> 0 | T32: Audit10 | U32: ="10. "&Audit10!$E$9&"" -> 10. | V32: =Audit10!$E$10&"" | W32: =Audit10!$C$10 -> 0 | X32: =Audit10!$E$12&"" | Y32: Total score | Z32: =SUM(Audit10!$H$15:$H$21) -> 0 | AA32: =SUM(Audit10!$H$42:$H$48) -> 0 | AB32: =SUM(Audit10!$H$69:$H$75) -> 0 | AC32: =SUM(Audit10!$H$96:$H$102) -> 0 | AD32: =SUM(Audit10!$H$123:$H$129) -> 0 | AE32: =SUM(Z32:AD32) -> 0 | AG32: 4 | AH32: Audit4 | AI32: =Audit4!$E$9 -> Manufacturing | AJ32: =AJ24 -> L4 | AK32: =IF(LEN($AJ32)=0,"",COUNTIFS(Audit4!$G$15:$G$21,$AJ32,Audit4!$E$15:$E$21,"<>"&"")) -> 1 | AL32: =IF(LEN($AJ32)=0,"",COUNTIFS(Audit4!$G$42:$G$48,$AJ32,Audit4!$E$42:$E$48,"<>"&"")) -> 0 | AM32: =IF(LEN($AJ32)=0,"",COUNTIFS(Audit4!$G$69:$G$75,$AJ32,Audit4!$E$69:$E$75,"<>"&"")) -> 2 | AN32: =IF(LEN($AJ32)=0,"",COUNTIFS(Audit4!$G$96:$G$102,$AJ32,Audit4!$E$96:$E$102,"<>"&"")) -> 1 | AO32: =IF(LEN($AJ32)=0,"",COUNTIFS(Audit4!$G$123:$G$129,$AJ32,Audit4!$E$123:$E$129,"<>"&"")) -> 0 | AP32: =IF(LEN(AJ32)=0,"",SUM(AK32:AO32)) -> 4 | AQ32: {=MAX(IF(($T$5:$T$40)=AH32,$S$5:$S$40,0))} -> 1
S33: =IFERROR(IF(OR(ISNUMBER(FIND(areaFilter,U33)),areaFilter="All",areaFilter=""),1,0)* IF(OR(stationFilter=V33,stationFilter="All",stationFilter=""),1,0)* IF(OR(AND(W33>0,whenFilter=INDEX(monthsList,MONTH(W33),0)), AND(W33>0,whenFilter= INDEX($H$6:$H$9,ROUNDUP(MONTH(W33)/3,0),1)),whenFilter="All",whenFilter=""),1,0)* IF(OR(auditorFilter=X33,auditorFilter="All",auditorFilter=""),1,0)* IF(LEN(U33)>4,1,0),0) -> 0 | T33: Audit10 | U33: ="10. "&Audit10!$E$9&"" -> 10. | V33: =Audit10!$E$10&"" | W33: =Audit10!$C$10 -> 0 | X33: =Audit10!$E$12&"" | Y33: Max Point | Z33: =COUNT(Audit10!$H$15:$H$21)*maxscore -> 0 | AA33: =COUNT(Audit10!$H$42:$H$48)*maxscore -> 0 | AB33: =COUNT(Audit10!$H$69:$H$75)*maxscore -> 0 | AC33: =COUNT(Audit10!$H$96:$H$102)*maxscore -> 0 | AD33: =COUNT(Audit10!$H$123:$H$129)*maxscore -> 0 | AE33: =SUM(Z33:AD33) -> 0 | AG33: 5 | AH33: Audit4 | AI33: =Audit4!$E$9 -> Manufacturing | AJ33: =AJ25 -> L5 | AK33: =IF(LEN($AJ33)=0,"",COUNTIFS(Audit4!$G$15:$G$21,$AJ33,Audit4!$E$15:$E$21,"<>"&"")) -> 0 | AL33: =IF(LEN($AJ33)=0,"",COUNTIFS(Audit4!$G$42:$G$48,$AJ33,Audit4!$E$42:$E$48,"<>"&"")) -> 0 | AM33: =IF(LEN($AJ33)=0,"",COUNTIFS(Audit4!$G$69:$G$75,$AJ33,Audit4!$E$69:$E$75,"<>"&"")) -> 0 | AN33: =IF(LEN($AJ33)=0,"",COUNTIFS(Audit4!$G$96:$G$102,$AJ33,Audit4!$E$96:$E$102,"<>"&"")) -> 0 | AO33: =IF(LEN($AJ33)=0,"",COUNTIFS(Audit4!$G$123:$G$129,$AJ33,Audit4!$E$123:$E$129,"<>"&"")) -> 0 | AP33: =IF(LEN(AJ33)=0,"",SUM(AK33:AO33)) -> 0 | AQ33: {=MAX(IF(($T$5:$T$40)=AH33,$S$5:$S$40,0))} -> 1
S34: =IFERROR(IF(OR(ISNUMBER(FIND(areaFilter,U34)),areaFilter="All",areaFilter=""),1,0)* IF(OR(stationFilter=V34,stationFilter="All",stationFilter=""),1,0)* IF(OR(AND(W34>0,whenFilter=INDEX(monthsList,MONTH(W34),0)), AND(W34>0,whenFilter= INDEX($H$6:$H$9,ROUNDUP(MONTH(W34)/3,0),1)),whenFilter="All",whenFilter=""),1,0)* IF(OR(auditorFilter=X34,auditorFilter="All",auditorFilter=""),1,0)* IF(LEN(U34)>4,1,0),0) -> 0 | T34: Audit10 | U34: ="10. "&Audit10!$E$9&"" -> 10. | V34: =Audit10!$E$10&"" | W34: =Audit10!$C$10 -> 0 | X34: =Audit10!$E$12&"" | Y34: % Result | Z34: =IFERROR(Z32/(Z33),0) -> 0 | AA34: =IFERROR(AA32/(AA33),0) -> 0 | AB34: =IFERROR(AB32/(AB33),0) -> 0 | AC34: =IFERROR(AC32/(AC33),0) -> 0 | AD34: =IFERROR(AD32/(AD33),0) -> 0 | AE34: =IFERROR(ROUND(AE32/(AE33),2),"") | AG34: 6 | AH34: Audit4 | AI34: =Audit4!$E$9 -> Manufacturing | AJ34: =AJ26 -> Yes | AK34: =IF(LEN($AJ34)=0,"",COUNTIFS(Audit4!$G$15:$G$21,$AJ34,Audit4!$E$15:$E$21,"<>"&"")) -> 0 | AL34: =IF(LEN($AJ34)=0,"",COUNTIFS(Audit4!$G$42:$G$48,$AJ34,Audit4!$E$42:$E$48,"<>"&"")) -> 0 | AM34: =IF(LEN($AJ34)=0,"",COUNTIFS(Audit4!$G$69:$G$75,$AJ34,Audit4!$E$69:$E$75,"<>"&"")) -> 1 | AN34: =IF(LEN($AJ34)=0,"",COUNTIFS(Audit4!$G$96:$G$102,$AJ34,Audit4!$E$96:$E$102,"<>"&"")) -> 1 | AO34: =IF(LEN($AJ34)=0,"",COUNTIFS(Audit4!$G$123:$G$129,$AJ34,Audit4!$E$123:$E$129,"<>"&"")) -> 0 | AP34: =IF(LEN(AJ34)=0,"",SUM(AK34:AO34)) -> 2 | AQ34: {=MAX(IF(($T$5:$T$40)=AH34,$S$5:$S$40,0))} -> 1
S35: =IFERROR(IF(OR(ISNUMBER(FIND(areaFilter,U35)),areaFilter="All",areaFilter=""),1,0)* IF(OR(stationFilter=V35,stationFilter="All",stationFilter=""),1,0)* IF(OR(AND(W35>0,whenFilter=INDEX(monthsList,MONTH(W35),0)), AND(W35>0,whenFilter= INDEX($H$6:$H$9,ROUNDUP(MONTH(W35)/3,0),1)),whenFilter="All",whenFilter=""),1,0)* IF(OR(auditorFilter=X35,auditorFilter="All",auditorFilter=""),1,0)* IF(LEN(U35)>4,1,0),0) -> 0 | T35: Audit11 | U35: ="11. "&Audit11!$E$9&"" -> 11. | V35: =Audit11!$E$10&"" | W35: =Audit11!$C$10 -> 0 | X35: =Audit11!$E$12&"" | Y35: Total score | Z35: =SUM(Audit11!$H$15:$H$21) -> 0 | AA35: =SUM(Audit11!$H$42:$H$48) -> 0 | AB35: =SUM(Audit11!$H$69:$H$75) -> 0 | AC35: =SUM(Audit11!$H$96:$H$102) -> 0 | AD35: =SUM(Audit11!$H$123:$H$129) -> 0 | AE35: =SUM(Z35:AD35) -> 0 | AG35: 7 | AH35: Audit4 | AI35: =Audit4!$E$9 -> Manufacturing | AJ35: =AJ27 -> No | AK35: =IF(LEN($AJ35)=0,"",COUNTIFS(Audit4!$G$15:$G$21,$AJ35,Audit4!$E$15:$E$21,"<>"&"")) -> 1 | AL35: =IF(LEN($AJ35)=0,"",COUNTIFS(Audit4!$G$42:$G$48,$AJ35,Audit4!$E$42:$E$48,"<>"&"")) -> 4 | AM35: =IF(LEN($AJ35)=0,"",COUNTIFS(Audit4!$G$69:$G$75,$AJ35,Audit4!$E$69:$E$75,"<>"&"")) -> 0 | AN35: =IF(LEN($AJ35)=0,"",COUNTIFS(Audit4!$G$96:$G$102,$AJ35,Audit4!$E$96:$E$102,"<>"&"")) -> 1 | AO35: =IF(LEN($AJ35)=0,"",COUNTIFS(Audit4!$G$123:$G$129,$AJ35,Audit4!$E$123:$E$129,"<>"&"")) -> 0 | AP35: =IF(LEN(AJ35)=0,"",SUM(AK35:AO35)) -> 6 | AQ35: {=MAX(IF(($T$5:$T$40)=AH35,$S$5:$S$40,0))} -> 1
S36: =IFERROR(IF(OR(ISNUMBER(FIND(areaFilter,U36)),areaFilter="All",areaFilter=""),1,0)* IF(OR(stationFilter=V36,stationFilter="All",stationFilter=""),1,0)* IF(OR(AND(W36>0,whenFilter=INDEX(monthsList,MONTH(W36),0)), AND(W36>0,whenFilter= INDEX($H$6:$H$9,ROUNDUP(MONTH(W36)/3,0),1)),whenFilter="All",whenFilter=""),1,0)* IF(OR(auditorFilter=X36,auditorFilter="All",auditorFilter=""),1,0)* IF(LEN(U36)>4,1,0),0) -> 0 | T36: Audit11 | U36: ="11. "&Audit11!$E$9&"" -> 11. | V36: =Audit11!$E$10&"" | W36: =Audit11!$C$10 -> 0 | X36: =Audit11!$E$12&"" | Y36: Max Point | Z36: =COUNT(Audit11!$H$15:$H$21)*maxscore -> 0 | AA36: =COUNT(Audit11!$H$42:$H$48)*maxscore -> 0 | AB36: =COUNT(Audit11!$H$69:$H$75)*maxscore -> 0 | AC36: =COUNT(Audit11!$H$96:$H$102)*maxscore -> 0 | AD36: =COUNT(Audit11!$H$123:$H$129)*maxscore -> 0 | AE36: =SUM(Z36:AD36) -> 0 | AG36: 8 | AH36: Audit4 | AI36: =Audit4!$E$9 -> Manufacturing | AJ36: =AJ28 | AK36: =IF(LEN($AJ36)=0,"",COUNTIFS(Audit4!$G$15:$G$21,$AJ36,Audit4!$E$15:$E$21,"<>"&"")) | AL36: =IF(LEN($AJ36)=0,"",COUNTIFS(Audit4!$G$42:$G$48,$AJ36,Audit4!$E$42:$E$48,"<>"&"")) | AM36: =IF(LEN($AJ36)=0,"",COUNTIFS(Audit4!$G$69:$G$75,$AJ36,Audit4!$E$69:$E$75,"<>"&"")) | AN36: =IF(LEN($AJ36)=0,"",COUNTIFS(Audit4!$G$96:$G$102,$AJ36,Audit4!$E$96:$E$102,"<>"&"")) | AO36: =IF(LEN($AJ36)=0,"",COUNTIFS(Audit4!$G$123:$G$129,$AJ36,Audit4!$E$123:$E$129,"<>"&"")) | AP36: =IF(LEN(AJ36)=0,"",SUM(AK36:AO36)) | AQ36: {=MAX(IF(($T$5:$T$40)=AH36,$S$5:$S$40,0))} -> 1
S37: =IFERROR(IF(OR(ISNUMBER(FIND(areaFilter,U37)),areaFilter="All",areaFilter=""),1,0)* IF(OR(stationFilter=V37,stationFilter="All",stationFilter=""),1,0)* IF(OR(AND(W37>0,whenFilter=INDEX(monthsList,MONTH(W37),0)), AND(W37>0,whenFilter= INDEX($H$6:$H$9,ROUNDUP(MONTH(W37)/3,0),1)),whenFilter="All",whenFilter=""),1,0)* IF(OR(auditorFilter=X37,auditorFilter="All",auditorFilter=""),1,0)* IF(LEN(U37)>4,1,0),0) -> 0 | T37: Audit11 | U37: ="11. "&Audit11!$E$9&"" -> 11. | V37: =Audit11!$E$10&"" | W37: =Audit11!$C$10 -> 0 | X37: =Audit11!$E$12&"" | Y37: % Result | Z37: =IFERROR(Z35/(Z36),0) -> 0 | AA37: =IFERROR(AA35/(AA36),0) -> 0 | AB37: =IFERROR(AB35/(AB36),0) -> 0 | AC37: =IFERROR(AC35/(AC36),0) -> 0 | AD37: =IFERROR(AD35/(AD36),0) -> 0 | AE37: =IFERROR(ROUND(AE35/(AE36),2),"") | AG37: 1 | AH37: Audit5 | AI37: =Audit5!$E$9 -> Manufacturing | AJ37: =AJ29 -> L1 | AK37: =IF(LEN($AJ37)=0,"",COUNTIFS(Audit5!$G$15:$G$21,$AJ37,Audit5!$E$15:$E$21,"<>"&"")) -> 0 | AL37: =IF(LEN($AJ37)=0,"",COUNTIFS(Audit5!$G$42:$G$48,$AJ37,Audit5!$E$42:$E$48,"<>"&"")) -> 0 | AM37: =IF(LEN($AJ37)=0,"",COUNTIFS(Audit5!$G$69:$G$75,$AJ37,Audit5!$E$69:$E$75,"<>"&"")) -> 0 | AN37: =IF(LEN($AJ37)=0,"",COUNTIFS(Audit5!$G$96:$G$102,$AJ37,Audit5!$E$96:$E$102,"<>"&"")) -> 0 | AO37: =IF(LEN($AJ37)=0,"",COUNTIFS(Audit5!$G$123:$G$129,$AJ37,Audit5!$E$123:$E$129,"<>"&"")) -> 0 | AP37: =IF(LEN(AJ37)=0,"",SUM(AK37:AO37)) -> 0 | AQ37: {=MAX(IF(($T$5:$T$40)=AH37,$S$5:$S$40,0))} -> 1
S38: =IFERROR(IF(OR(ISNUMBER(FIND(areaFilter,U38)),areaFilter="All",areaFilter=""),1,0)* IF(OR(stationFilter=V38,stationFilter="All",stationFilter=""),1,0)* IF(OR(AND(W38>0,whenFilter=INDEX(monthsList,MONTH(W38),0)), AND(W38>0,whenFilter= INDEX($H$6:$H$9,ROUNDUP(MONTH(W38)/3,0),1)),whenFilter="All",whenFilter=""),1,0)* IF(OR(auditorFilter=X38,auditorFilter="All",auditorFilter=""),1,0)* IF(LEN(U38)>4,1,0),0) -> 0 | T38: Audit12 | U38: ="12. " & Audit12!$E$9&"" -> 12. | V38: =Audit12!$E$10&"" | W38: =Audit12!$C$10 -> 0 | X38: =Audit12!$E$12&"" | Y38: Total score | Z38: =SUM(Audit12!$H$15:$H$21) -> 0 | AA38: =SUM(Audit12!$H$42:$H$48) -> 0 | AB38: =SUM(Audit12!$H$69:$H$75) -> 0 | AC38: =SUM(Audit12!$H$96:$H$102) -> 0 | AD38: =SUM(Audit12!$H$123:$H$129) -> 0 | AE38: =SUM(Z38:AD38) -> 0 | AG38: 2 | AH38: Audit5 | AI38: =Audit5!$E$9 -> Manufacturing | AJ38: =AJ30 -> L2 | AK38: =IF(LEN($AJ38)=0,"",COUNTIFS(Audit5!$G$15:$G$21,$AJ38,Audit5!$E$15:$E$21,"<>"&"")) -> 0 | AL38: =IF(LEN($AJ38)=0,"",COUNTIFS(Audit5!$G$42:$G$48,$AJ38,Audit5!$E$42:$E$48,"<>"&"")) -> 0 | AM38: =IF(LEN($AJ38)=0,"",COUNTIFS(Audit5!$G$69:$G$75,$AJ38,Audit5!$E$69:$E$75,"<>"&"")) -> 0 | AN38: =IF(LEN($AJ38)=0,"",COUNTIFS(Audit5!$G$96:$G$102,$AJ38,Audit5!$E$96:$E$102,"<>"&"")) -> 0 | AO38: =IF(LEN($AJ38)=0,"",COUNTIFS(Audit5!$G$123:$G$129,$AJ38,Audit5!$E$123:$E$129,"<>"&"")) -> 0 | AP38: =IF(LEN(AJ38)=0,"",SUM(AK38:AO38)) -> 0 | AQ38: {=MAX(IF(($T$5:$T$40)=AH38,$S$5:$S$40,0))} -> 1
S39: =IFERROR(IF(OR(ISNUMBER(FIND(areaFilter,U39)),areaFilter="All",areaFilter=""),1,0)* IF(OR(stationFilter=V39,stationFilter="All",stationFilter=""),1,0)* IF(OR(AND(W39>0,whenFilter=INDEX(monthsList,MONTH(W39),0)), AND(W39>0,whenFilter= INDEX($H$6:$H$9,ROUNDUP(MONTH(W39)/3,0),1)),whenFilter="All",whenFilter=""),1,0)* IF(OR(auditorFilter=X39,auditorFilter="All",auditorFilter=""),1,0)* IF(LEN(U39)>4,1,0),0) -> 0 | T39: Audit12 | U39: ="12. " & Audit12!$E$9&"" -> 12. | V39: =Audit12!$E$10&"" | W39: =Audit12!$C$10 -> 0 | X39: =Audit12!$E$12&"" | Y39: Max Point | Z39: =COUNT(Audit12!$H$15:$H$21)*maxscore -> 0 | AA39: =COUNT(Audit12!$H$42:$H$48)*maxscore -> 0 | AB39: =COUNT(Audit12!$H$69:$H$75)*maxscore -> 0 | AC39: =COUNT(Audit12!$H$96:$H$102)*maxscore -> 0 | AD39: =COUNT(Audit12!$H$123:$H$129)*maxscore -> 0 | AE39: =SUM(Z39:AD39) -> 0 | AG39: 3 | AH39: Audit5 | AI39: =Audit5!$E$9 -> Manufacturing | AJ39: =AJ31 -> L3 | AK39: =IF(LEN($AJ39)=0,"",COUNTIFS(Audit5!$G$15:$G$21,$AJ39,Audit5!$E$15:$E$21,"<>"&"")) -> 0 | AL39: =IF(LEN($AJ39)=0,"",COUNTIFS(Audit5!$G$42:$G$48,$AJ39,Audit5!$E$42:$E$48,"<>"&"")) -> 0 | AM39: =IF(LEN($AJ39)=0,"",COUNTIFS(Audit5!$G$69:$G$75,$AJ39,Audit5!$E$69:$E$75,"<>"&"")) -> 0 | AN39: =IF(LEN($AJ39)=0,"",COUNTIFS(Audit5!$G$96:$G$102,$AJ39,Audit5!$E$96:$E$102,"<>"&"")) -> 0 | AO39: =IF(LEN($AJ39)=0,"",COUNTIFS(Audit5!$G$123:$G$129,$AJ39,Audit5!$E$123:$E$129,"<>"&"")) -> 0 | AP39: =IF(LEN(AJ39)=0,"",SUM(AK39:AO39)) -> 0 | AQ39: {=MAX(IF(($T$5:$T$40)=AH39,$S$5:$S$40,0))} -> 1
S40: =IFERROR(IF(OR(ISNUMBER(FIND(areaFilter,U40)),areaFilter="All",areaFilter=""),1,0)* IF(OR(stationFilter=V40,stationFilter="All",stationFilter=""),1,0)* IF(OR(AND(W40>0,whenFilter=INDEX(monthsList,MONTH(W40),0)), AND(W40>0,whenFilter= INDEX($H$6:$H$9,ROUNDUP(MONTH(W40)/3,0),1)),whenFilter="All",whenFilter=""),1,0)* IF(OR(auditorFilter=X40,auditorFilter="All",auditorFilter=""),1,0)* IF(LEN(U40)>4,1,0),0) -> 0 | T40: Audit12 | U40: ="12. " & Audit12!$E$9&"" -> 12. | V40: =Audit12!$E$10&"" | W40: =Audit12!$C$10 -> 0 | X40: =Audit12!$E$12&"" | Y40: % Result | Z40: =IFERROR(Z38/(Z39),0) -> 0 | AA40: =IFERROR(AA38/(AA39),0) -> 0 | AB40: =IFERROR(AB38/(AB39),0) -> 0 | AC40: =IFERROR(AC38/(AC39),0) -> 0 | AD40: =IFERROR(AD38/(AD39),0) -> 0 | AE40: =IFERROR(ROUND(AE38/(AE39),2),"") | AG40: 4 | AH40: Audit5 | AI40: =Audit5!$E$9 -> Manufacturing | AJ40: =AJ32 -> L4 | AK40: =IF(LEN($AJ40)=0,"",COUNTIFS(Audit5!$G$15:$G$21,$AJ40,Audit5!$E$15:$E$21,"<>"&"")) -> 0 | AL40: =IF(LEN($AJ40)=0,"",COUNTIFS(Audit5!$G$42:$G$48,$AJ40,Audit5!$E$42:$E$48,"<>"&"")) -> 0 | AM40: =IF(LEN($AJ40)=0,"",COUNTIFS(Audit5!$G$69:$G$75,$AJ40,Audit5!$E$69:$E$75,"<>"&"")) -> 0 | AN40: =IF(LEN($AJ40)=0,"",COUNTIFS(Audit5!$G$96:$G$102,$AJ40,Audit5!$E$96:$E$102,"<>"&"")) -> 0 | AO40: =IF(LEN($AJ40)=0,"",COUNTIFS(Audit5!$G$123:$G$129,$AJ40,Audit5!$E$123:$E$129,"<>"&"")) -> 0 | AP40: =IF(LEN(AJ40)=0,"",SUM(AK40:AO40)) -> 0 | AQ40: {=MAX(IF(($T$5:$T$40)=AH40,$S$5:$S$40,0))} -> 1
AG41: 5 | AH41: Audit5 | AI41: =Audit5!$E$9 -> Manufacturing | AJ41: =AJ33 -> L5 | AK41: =IF(LEN($AJ41)=0,"",COUNTIFS(Audit5!$G$15:$G$21,$AJ41,Audit5!$E$15:$E$21,"<>"&"")) -> 0 | AL41: =IF(LEN($AJ41)=0,"",COUNTIFS(Audit5!$G$42:$G$48,$AJ41,Audit5!$E$42:$E$48,"<>"&"")) -> 0 | AM41: =IF(LEN($AJ41)=0,"",COUNTIFS(Audit5!$G$69:$G$75,$AJ41,Audit5!$E$69:$E$75,"<>"&"")) -> 0 | AN41: =IF(LEN($AJ41)=0,"",COUNTIFS(Audit5!$G$96:$G$102,$AJ41,Audit5!$E$96:$E$102,"<>"&"")) -> 0 | AO41: =IF(LEN($AJ41)=0,"",COUNTIFS(Audit5!$G$123:$G$129,$AJ41,Audit5!$E$123:$E$129,"<>"&"")) -> 0 | AP41: =IF(LEN(AJ41)=0,"",SUM(AK41:AO41)) -> 0 | AQ41: {=MAX(IF(($T$5:$T$40)=AH41,$S$5:$S$40,0))} -> 1
AG42: 6 | AH42: Audit5 | AI42: =Audit5!$E$9 -> Manufacturing | AJ42: =AJ34 -> Yes | AK42: =IF(LEN($AJ42)=0,"",COUNTIFS(Audit5!$G$15:$G$21,$AJ42,Audit5!$E$15:$E$21,"<>"&"")) -> 0 | AL42: =IF(LEN($AJ42)=0,"",COUNTIFS(Audit5!$G$42:$G$48,$AJ42,Audit5!$E$42:$E$48,"<>"&"")) -> 0 | AM42: =IF(LEN($AJ42)=0,"",COUNTIFS(Audit5!$G$69:$G$75,$AJ42,Audit5!$E$69:$E$75,"<>"&"")) -> 0 | AN42: =IF(LEN($AJ42)=0,"",COUNTIFS(Audit5!$G$96:$G$102,$AJ42,Audit5!$E$96:$E$102,"<>"&"")) -> 0 | AO42: =IF(LEN($AJ42)=0,"",COUNTIFS(Audit5!$G$123:$G$129,$AJ42,Audit5!$E$123:$E$129,"<>"&"")) -> 0 | AP42: =IF(LEN(AJ42)=0,"",SUM(AK42:AO42)) -> 0 | AQ42: {=MAX(IF(($T$5:$T$40)=AH42,$S$5:$S$40,0))} -> 1
S43: FILTERED TABLE ONLY ACTIVE | AG43: 7 | AH43: Audit5 | AI43: =Audit5!$E$9 -> Manufacturing | AJ43: =AJ35 -> No | AK43: =IF(LEN($AJ43)=0,"",COUNTIFS(Audit5!$G$15:$G$21,$AJ43,Audit5!$E$15:$E$21,"<>"&"")) -> 0 | AL43: =IF(LEN($AJ43)=0,"",COUNTIFS(Audit5!$G$42:$G$48,$AJ43,Audit5!$E$42:$E$48,"<>"&"")) -> 0 | AM43: =IF(LEN($AJ43)=0,"",COUNTIFS(Audit5!$G$69:$G$75,$AJ43,Audit5!$E$69:$E$75,"<>"&"")) -> 0 | AN43: =IF(LEN($AJ43)=0,"",COUNTIFS(Audit5!$G$96:$G$102,$AJ43,Audit5!$E$96:$E$102,"<>"&"")) -> 0 | AO43: =IF(LEN($AJ43)=0,"",COUNTIFS(Audit5!$G$123:$G$129,$AJ43,Audit5!$E$123:$E$129,"<>"&"")) -> 0 | AP43: =IF(LEN(AJ43)=0,"",SUM(AK43:AO43)) -> 0 | AQ43: {=MAX(IF(($T$5:$T$40)=AH43,$S$5:$S$40,0))} -> 1
AG44: 8 | AH44: Audit5 | AI44: =Audit5!$E$9 -> Manufacturing | AJ44: =AJ36 | AK44: =IF(LEN($AJ44)=0,"",COUNTIFS(Audit5!$G$15:$G$21,$AJ44,Audit5!$E$15:$E$21,"<>"&"")) | AL44: =IF(LEN($AJ44)=0,"",COUNTIFS(Audit5!$G$42:$G$48,$AJ44,Audit5!$E$42:$E$48,"<>"&"")) | AM44: =IF(LEN($AJ44)=0,"",COUNTIFS(Audit5!$G$69:$G$75,$AJ44,Audit5!$E$69:$E$75,"<>"&"")) | AN44: =IF(LEN($AJ44)=0,"",COUNTIFS(Audit5!$G$96:$G$102,$AJ44,Audit5!$E$96:$E$102,"<>"&"")) | AO44: =IF(LEN($AJ44)=0,"",COUNTIFS(Audit5!$G$123:$G$129,$AJ44,Audit5!$E$123:$E$129,"<>"&"")) | AP44: =IF(LEN(AJ44)=0,"",SUM(AK44:AO44)) | AQ44: {=MAX(IF(($T$5:$T$40)=AH44,$S$5:$S$40,0))} -> 1
S45: Row # | T45: AREA | U45: Work station | V45: Date | W45: Auditor | X45: Series | Y45: Form # | Z45: S1 | AA45: S2 | AB45: S3 | AC45: S4 | AD45: S5 | AE45: Count Series | AG45: 1 | AH45: Audit6 | AI45: =Audit6!$E$9 -> Laboratory | AJ45: =AJ37 -> L1 | AK45: =IF(LEN($AJ45)=0,"",COUNTIFS(Audit6!$G$15:$G$21,$AJ45,Audit6!$E$15:$E$21,"<>"&"")) -> 0 | AL45: =IF(LEN($AJ45)=0,"",COUNTIFS(Audit6!$G$42:$G$48,$AJ45,Audit6!$E$42:$E$48,"<>"&"")) -> 0 | AM45: =IF(LEN($AJ45)=0,"",COUNTIFS(Audit6!$G$69:$G$75,$AJ45,Audit6!$E$69:$E$75,"<>"&"")) -> 0 | AN45: =IF(LEN($AJ45)=0,"",COUNTIFS(Audit6!$G$96:$G$102,$AJ45,Audit6!$E$96:$E$102,"<>"&"")) -> 0 | AO45: =IF(LEN($AJ45)=0,"",COUNTIFS(Audit6!$G$123:$G$129,$AJ45,Audit6!$E$123:$E$129,"<>"&"")) -> 0 | AP45: =IF(LEN(AJ45)=0,"",SUM(AK45:AO45)) -> 0 | AQ45: {=MAX(IF(($T$5:$T$40)=AH45,$S$5:$S$40,0))} -> 1
S46: {=IFERROR(SMALL(IF($S$5:$S$40=1,ROW($S$5:$S$40)-4,""),3*(ROW(A1))),"")} -> 3 | T46: =IFERROR(INDEX(U$5:U$40,$S46,1),"") -> 1. Office | U46: =IFERROR(INDEX(V$5:V$40,$S46,1),"") -> Random desk in the open space | V46: =IFERROR(IF(INDEX(W$5:W$40,$S46,1)=0,"",INDEX(W$5:W$40,$S46,1)),"") -> 44636 | W46: =IFERROR(INDEX(X$5:X$40,$S46,1),"") -> Jemima Begum | X46: =IFERROR(TRIM(RIGHT(T46,LEN(T46)-3)),"") -> Office | Y46: =IFERROR("Audit #"&LEFT(T46,FIND(".",T46)-1),"") -> Audit #1 | Z46: =IFERROR(INDEX(Z$5:Z$40,$S46,1),"") -> 0.76 | AA46: =IFERROR(INDEX(AA$5:AA$40,$S46,1),"") -> 0.88 | AB46: =IFERROR(INDEX(AB$5:AB$40,$S46,1),"") -> 0.84 | AC46: =IFERROR(INDEX(AC$5:AC$40,$S46,1),"") -> 0.8 | AD46: =IFERROR(INDEX(AD$5:AD$40,$S46,1),"") -> 0.93333333 | AE46: =IF(LEN(X46)=0,0,COUNTIF($X$46:X46,X46)) -> 1 | AG46: 2 | AH46: Audit6 | AI46: =Audit6!$E$9 -> Laboratory | AJ46: =AJ38 -> L2 | AK46: =IF(LEN($AJ46)=0,"",COUNTIFS(Audit6!$G$15:$G$21,$AJ46,Audit6!$E$15:$E$21,"<>"&"")) -> 0 | AL46: =IF(LEN($AJ46)=0,"",COUNTIFS(Audit6!$G$42:$G$48,$AJ46,Audit6!$E$42:$E$48,"<>"&"")) -> 0 | AM46: =IF(LEN($AJ46)=0,"",COUNTIFS(Audit6!$G$69:$G$75,$AJ46,Audit6!$E$69:$E$75,"<>"&"")) -> 0 | AN46: =IF(LEN($AJ46)=0,"",COUNTIFS(Audit6!$G$96:$G$102,$AJ46,Audit6!$E$96:$E$102,"<>"&"")) -> 0 | AO46: =IF(LEN($AJ46)=0,"",COUNTIFS(Audit6!$G$123:$G$129,$AJ46,Audit6!$E$123:$E$129,"<>"&"")) -> 0 | AP46: =IF(LEN(AJ46)=0,"",SUM(AK46:AO46)) -> 0 | AQ46: {=MAX(IF(($T$5:$T$40)=AH46,$S$5:$S$40,0))} -> 1
S47: {=IFERROR(SMALL(IF($S$5:$S$40=1,ROW($S$5:$S$40)-4,""),3*(ROW(A2))),"")} -> 6 | T47: =IFERROR(INDEX(U$5:U$40,$S47,1),"") -> 2. Manufacturing | U47: =IFERROR(INDEX(V$5:V$40,$S47,1),"") -> Sealing | V47: =IFERROR(IF(INDEX(W$5:W$40,$S47,1)=0,"",INDEX(W$5:W$40,$S47,1)),"") -> 44576 | W47: =IFERROR(INDEX(X$5:X$40,$S47,1),"") -> Mercedes Banks | X47: =IFERROR(TRIM(RIGHT(T47,LEN(T47)-3)),"") -> Manufacturing | Y47: =IFERROR("Audit #"&LEFT(T47,FIND(".",T47)-1),"") -> Audit #2 | Z47: =IFERROR(INDEX(Z$5:Z$40,$S47,1),"") -> 0.65 | AA47: =IFERROR(INDEX(AA$5:AA$40,$S47,1),"") -> 0.8 | AB47: =IFERROR(INDEX(AB$5:AB$40,$S47,1),"") -> 0.8 | AC47: =IFERROR(INDEX(AC$5:AC$40,$S47,1),"") -> 0.7 | AD47: =IFERROR(INDEX(AD$5:AD$40,$S47,1),"") -> 0.8 | AE47: =IF(LEN(X47)=0,0,COUNTIF($X$46:X47,X47)) -> 1 | AG47: 3 | AH47: Audit6 | AI47: =Audit6!$E$9 -> Laboratory | AJ47: =AJ39 -> L3 | AK47: =IF(LEN($AJ47)=0,"",COUNTIFS(Audit6!$G$15:$G$21,$AJ47,Audit6!$E$15:$E$21,"<>"&"")) -> 0 | AL47: =IF(LEN($AJ47)=0,"",COUNTIFS(Audit6!$G$42:$G$48,$AJ47,Audit6!$E$42:$E$48,"<>"&"")) -> 0 | AM47: =IF(LEN($AJ47)=0,"",COUNTIFS(Audit6!$G$69:$G$75,$AJ47,Audit6!$E$69:$E$75,"<>"&"")) -> 0 | AN47: =IF(LEN($AJ47)=0,"",COUNTIFS(Audit6!$G$96:$G$102,$AJ47,Audit6!$E$96:$E$102,"<>"&"")) -> 0 | AO47: =IF(LEN($AJ47)=0,"",COUNTIFS(Audit6!$G$123:$G$129,$AJ47,Audit6!$E$123:$E$129,"<>"&"")) -> 0 | AP47: =IF(LEN(AJ47)=0,"",SUM(AK47:AO47)) -> 0 | AQ47: {=MAX(IF(($T$5:$T$40)=AH47,$S$5:$S$40,0))} -> 1
S48: {=IFERROR(SMALL(IF($S$5:$S$40=1,ROW($S$5:$S$40)-4,""),3*(ROW(A3))),"")} -> 9 | T48: =IFERROR(INDEX(U$5:U$40,$S48,1),"") -> 3. Manufacturing | U48: =IFERROR(INDEX(V$5:V$40,$S48,1),"") -> Sealing | V48: =IFERROR(IF(INDEX(W$5:W$40,$S48,1)=0,"",INDEX(W$5:W$40,$S48,1)),"") -> 44666 | W48: =IFERROR(INDEX(X$5:X$40,$S48,1),"") -> Hannah Shaw | X48: =IFERROR(TRIM(RIGHT(T48,LEN(T48)-3)),"") -> Manufacturing | Y48: =IFERROR("Audit #"&LEFT(T48,FIND(".",T48)-1),"") -> Audit #3 | Z48: =IFERROR(INDEX(Z$5:Z$40,$S48,1),"") -> 0.92 | AA48: =IFERROR(INDEX(AA$5:AA$40,$S48,1),"") -> 0.86666667 | AB48: =IFERROR(INDEX(AB$5:AB$40,$S48,1),"") -> 0.88 | AC48: =IFERROR(INDEX(AC$5:AC$40,$S48,1),"") -> 0.9 | AD48: =IFERROR(INDEX(AD$5:AD$40,$S48,1),"") -> 0.93333333 | AE48: =IF(LEN(X48)=0,0,COUNTIF($X$46:X48,X48)) -> 2 | AG48: 4 | AH48: Audit6 | AI48: =Audit6!$E$9 -> Laboratory | AJ48: =AJ40 -> L4 | AK48: =IF(LEN($AJ48)=0,"",COUNTIFS(Audit6!$G$15:$G$21,$AJ48,Audit6!$E$15:$E$21,"<>"&"")) -> 0 | AL48: =IF(LEN($AJ48)=0,"",COUNTIFS(Audit6!$G$42:$G$48,$AJ48,Audit6!$E$42:$E$48,"<>"&"")) -> 0 | AM48: =IF(LEN($AJ48)=0,"",COUNTIFS(Audit6!$G$69:$G$75,$AJ48,Audit6!$E$69:$E$75,"<>"&"")) -> 0 | AN48: =IF(LEN($AJ48)=0,"",COUNTIFS(Audit6!$G$96:$G$102,$AJ48,Audit6!$E$96:$E$102,"<>"&"")) -> 0 | AO48: =IF(LEN($AJ48)=0,"",COUNTIFS(Audit6!$G$123:$G$129,$AJ48,Audit6!$E$123:$E$129,"<>"&"")) -> 0 | AP48: =IF(LEN(AJ48)=0,"",SUM(AK48:AO48)) -> 0 | AQ48: {=MAX(IF(($T$5:$T$40)=AH48,$S$5:$S$40,0))} -> 1
S49: {=IFERROR(SMALL(IF($S$5:$S$40=1,ROW($S$5:$S$40)-4,""),3*(ROW(A4))),"")} -> 12 | T49: =IFERROR(INDEX(U$5:U$40,$S49,1),"") -> 4. Manufacturing | U49: =IFERROR(INDEX(V$5:V$40,$S49,1),"") -> Sealing | V49: =IFERROR(IF(INDEX(W$5:W$40,$S49,1)=0,"",INDEX(W$5:W$40,$S49,1)),"") -> 44819 | W49: =IFERROR(INDEX(X$5:X$40,$S49,1),"") -> Hannah Shaw | X49: =IFERROR(TRIM(RIGHT(T49,LEN(T49)-3)),"") -> Manufacturing | Y49: =IFERROR("Audit #"&LEFT(T49,FIND(".",T49)-1),"") -> Audit #4 | Z49: =IFERROR(INDEX(Z$5:Z$40,$S49,1),"") -> 0.4 | AA49: =IFERROR(INDEX(AA$5:AA$40,$S49,1),"") -> 0.3 | AB49: =IFERROR(INDEX(AB$5:AB$40,$S49,1),"") -> 0.68 | AC49: =IFERROR(INDEX(AC$5:AC$40,$S49,1),"") -> 0.65 | AD49: =IFERROR(INDEX(AD$5:AD$40,$S49,1),"") -> 0.46666667 | AE49: =IF(LEN(X49)=0,0,COUNTIF($X$46:X49,X49)) -> 3 | AG49: 5 | AH49: Audit6 | AI49: =Audit6!$E$9 -> Laboratory | AJ49: =AJ41 -> L5 | AK49: =IF(LEN($AJ49)=0,"",COUNTIFS(Audit6!$G$15:$G$21,$AJ49,Audit6!$E$15:$E$21,"<>"&"")) -> 0 | AL49: =IF(LEN($AJ49)=0,"",COUNTIFS(Audit6!$G$42:$G$48,$AJ49,Audit6!$E$42:$E$48,"<>"&"")) -> 0 | AM49: =IF(LEN($AJ49)=0,"",COUNTIFS(Audit6!$G$69:$G$75,$AJ49,Audit6!$E$69:$E$75,"<>"&"")) -> 0 | AN49: =IF(LEN($AJ49)=0,"",COUNTIFS(Audit6!$G$96:$G$102,$AJ49,Audit6!$E$96:$E$102,"<>"&"")) -> 0 | AO49: =IF(LEN($AJ49)=0,"",COUNTIFS(Audit6!$G$123:$G$129,$AJ49,Audit6!$E$123:$E$129,"<>"&"")) -> 0 | AP49: =IF(LEN(AJ49)=0,"",SUM(AK49:AO49)) -> 0 | AQ49: {=MAX(IF(($T$5:$T$40)=AH49,$S$5:$S$40,0))} -> 1
S50: {=IFERROR(SMALL(IF($S$5:$S$40=1,ROW($S$5:$S$40)-4,""),3*(ROW(A5))),"")} -> 15 | T50: =IFERROR(INDEX(U$5:U$40,$S50,1),"") -> 5. Manufacturing | U50: =IFERROR(INDEX(V$5:V$40,$S50,1),"") -> Sealing | V50: =IFERROR(IF(INDEX(W$5:W$40,$S50,1)=0,"",INDEX(W$5:W$40,$S50,1)),"") -> 44910 | W50: =IFERROR(INDEX(X$5:X$40,$S50,1),"") -> Hannah Shaw | X50: =IFERROR(TRIM(RIGHT(T50,LEN(T50)-3)),"") -> Manufacturing | Y50: =IFERROR("Audit #"&LEFT(T50,FIND(".",T50)-1),"") -> Audit #5 | Z50: =IFERROR(INDEX(Z$5:Z$40,$S50,1),"") -> 0 | AA50: =IFERROR(INDEX(AA$5:AA$40,$S50,1),"") -> 0 | AB50: =IFERROR(INDEX(AB$5:AB$40,$S50,1),"") -> 0 | AC50: =IFERROR(INDEX(AC$5:AC$40,$S50,1),"") -> 0 | AD50: =IFERROR(INDEX(AD$5:AD$40,$S50,1),"") -> 0 | AE50: =IF(LEN(X50)=0,0,COUNTIF($X$46:X50,X50)) -> 4 | AG50: 6 | AH50: Audit6 | AI50: =Audit6!$E$9 -> Laboratory | AJ50: =AJ42 -> Yes | AK50: =IF(LEN($AJ50)=0,"",COUNTIFS(Audit6!$G$15:$G$21,$AJ50,Audit6!$E$15:$E$21,"<>"&"")) -> 0 | AL50: =IF(LEN($AJ50)=0,"",COUNTIFS(Audit6!$G$42:$G$48,$AJ50,Audit6!$E$42:$E$48,"<>"&"")) -> 0 | AM50: =IF(LEN($AJ50)=0,"",COUNTIFS(Audit6!$G$69:$G$75,$AJ50,Audit6!$E$69:$E$75,"<>"&"")) -> 0 | AN50: =IF(LEN($AJ50)=0,"",COUNTIFS(Audit6!$G$96:$G$102,$AJ50,Audit6!$E$96:$E$102,"<>"&"")) -> 0 | AO50: =IF(LEN($AJ50)=0,"",COUNTIFS(Audit6!$G$123:$G$129,$AJ50,Audit6!$E$123:$E$129,"<>"&"")) -> 0 | AP50: =IF(LEN(AJ50)=0,"",SUM(AK50:AO50)) -> 0 | AQ50: {=MAX(IF(($T$5:$T$40)=AH50,$S$5:$S$40,0))} -> 1
S51: {=IFERROR(SMALL(IF($S$5:$S$40=1,ROW($S$5:$S$40)-4,""),3*(ROW(A6))),"")} -> 18 | T51: =IFERROR(INDEX(U$5:U$40,$S51,1),"") -> 6. Laboratory | U51: =IFERROR(INDEX(V$5:V$40,$S51,1),"") -> Electric capacity measuer station | V51: =IFERROR(IF(INDEX(W$5:W$40,$S51,1)=0,"",INDEX(W$5:W$40,$S51,1)),"") -> 44896 | W51: =IFERROR(INDEX(X$5:X$40,$S51,1),"") -> Hannah Shaw | X51: =IFERROR(TRIM(RIGHT(T51,LEN(T51)-3)),"") -> Laboratory | Y51: =IFERROR("Audit #"&LEFT(T51,FIND(".",T51)-1),"") -> Audit #6 | Z51: =IFERROR(INDEX(Z$5:Z$40,$S51,1),"") -> 0 | AA51: =IFERROR(INDEX(AA$5:AA$40,$S51,1),"") -> 0 | AB51: =IFERROR(INDEX(AB$5:AB$40,$S51,1),"") -> 0 | AC51: =IFERROR(INDEX(AC$5:AC$40,$S51,1),"") -> 0 | AD51: =IFERROR(INDEX(AD$5:AD$40,$S51,1),"") -> 0 | AE51: =IF(LEN(X51)=0,0,COUNTIF($X$46:X51,X51)) -> 1 | AG51: 7 | AH51: Audit6 | AI51: =Audit6!$E$9 -> Laboratory | AJ51: =AJ43 -> No | AK51: =IF(LEN($AJ51)=0,"",COUNTIFS(Audit6!$G$15:$G$21,$AJ51,Audit6!$E$15:$E$21,"<>"&"")) -> 0 | AL51: =IF(LEN($AJ51)=0,"",COUNTIFS(Audit6!$G$42:$G$48,$AJ51,Audit6!$E$42:$E$48,"<>"&"")) -> 0 | AM51: =IF(LEN($AJ51)=0,"",COUNTIFS(Audit6!$G$69:$G$75,$AJ51,Audit6!$E$69:$E$75,"<>"&"")) -> 0 | AN51: =IF(LEN($AJ51)=0,"",COUNTIFS(Audit6!$G$96:$G$102,$AJ51,Audit6!$E$96:$E$102,"<>"&"")) -> 0 | AO51: =IF(LEN($AJ51)=0,"",COUNTIFS(Audit6!$G$123:$G$129,$AJ51,Audit6!$E$123:$E$129,"<>"&"")) -> 0 | AP51: =IF(LEN(AJ51)=0,"",SUM(AK51:AO51)) -> 0 | AQ51: {=MAX(IF(($T$5:$T$40)=AH51,$S$5:$S$40,0))} -> 1
S52: {=IFERROR(SMALL(IF($S$5:$S$40=1,ROW($S$5:$S$40)-4,""),3*(ROW(A7))),"")} -> 21 | T52: =IFERROR(INDEX(U$5:U$40,$S52,1),"") -> 7. Classroom | U52: =IFERROR(INDEX(V$5:V$40,$S52,1),"") -> R201a | V52: =IFERROR(IF(INDEX(W$5:W$40,$S52,1)=0,"",INDEX(W$5:W$40,$S52,1)),"") -> 44835 | W52: =IFERROR(INDEX(X$5:X$40,$S52,1),"") -> Hannah Shaw | X52: =IFERROR(TRIM(RIGHT(T52,LEN(T52)-3)),"") -> Classroom | Y52: =IFERROR("Audit #"&LEFT(T52,FIND(".",T52)-1),"") -> Audit #7 | Z52: =IFERROR(INDEX(Z$5:Z$40,$S52,1),"") -> 0 | AA52: =IFERROR(INDEX(AA$5:AA$40,$S52,1),"") -> 0 | AB52: =IFERROR(INDEX(AB$5:AB$40,$S52,1),"") -> 0 | AC52: =IFERROR(INDEX(AC$5:AC$40,$S52,1),"") -> 0 | AD52: =IFERROR(INDEX(AD$5:AD$40,$S52,1),"") -> 0 | AE52: =IF(LEN(X52)=0,0,COUNTIF($X$46:X52,X52)) -> 1 | AG52: 8 | AH52: Audit6 | AI52: =Audit6!$E$9 -> Laboratory | AJ52: =AJ44 | AK52: =IF(LEN($AJ52)=0,"",COUNTIFS(Audit6!$G$15:$G$21,$AJ52,Audit6!$E$15:$E$21,"<>"&"")) | AL52: =IF(LEN($AJ52)=0,"",COUNTIFS(Audit6!$G$42:$G$48,$AJ52,Audit6!$E$42:$E$48,"<>"&"")) | AM52: =IF(LEN($AJ52)=0,"",COUNTIFS(Audit6!$G$69:$G$75,$AJ52,Audit6!$E$69:$E$75,"<>"&"")) | AN52: =IF(LEN($AJ52)=0,"",COUNTIFS(Audit6!$G$96:$G$102,$AJ52,Audit6!$E$96:$E$102,"<>"&"")) | AO52: =IF(LEN($AJ52)=0,"",COUNTIFS(Audit6!$G$123:$G$129,$AJ52,Audit6!$E$123:$E$129,"<>"&"")) | AP52: =IF(LEN(AJ52)=0,"",SUM(AK52:AO52)) | AQ52: {=MAX(IF(($T$5:$T$40)=AH52,$S$5:$S$40,0))} -> 1
S53: {=IFERROR(SMALL(IF($S$5:$S$40=1,ROW($S$5:$S$40)-4,""),3*(ROW(A8))),"")} -> 24 | T53: =IFERROR(INDEX(U$5:U$40,$S53,1),"") -> 8. Office | U53: =IFERROR(INDEX(V$5:V$40,$S53,1),"") -> Electric capacity measuer station | V53: =IFERROR(IF(INDEX(W$5:W$40,$S53,1)=0,"",INDEX(W$5:W$40,$S53,1)),"") -> 44805 | W53: =IFERROR(INDEX(X$5:X$40,$S53,1),"") -> Hannah Shaw | X53: =IFERROR(TRIM(RIGHT(T53,LEN(T53)-3)),"") -> Office | Y53: =IFERROR("Audit #"&LEFT(T53,FIND(".",T53)-1),"") -> Audit #8 | Z53: =IFERROR(INDEX(Z$5:Z$40,$S53,1),"") -> 0 | AA53: =IFERROR(INDEX(AA$5:AA$40,$S53,1),"") -> 0 | AB53: =IFERROR(INDEX(AB$5:AB$40,$S53,1),"") -> 0 | AC53: =IFERROR(INDEX(AC$5:AC$40,$S53,1),"") -> 0 | AD53: =IFERROR(INDEX(AD$5:AD$40,$S53,1),"") -> 0 | AE53: =IF(LEN(X53)=0,0,COUNTIF($X$46:X53,X53)) -> 2 | AG53: 1 | AH53: Audit7 | AI53: =Audit7!$E$9 -> Classroom | AJ53: =AJ45 -> L1 | AK53: =IF(LEN($AJ53)=0,"",COUNTIFS(Audit7!$G$15:$G$21,$AJ53,Audit7!$E$15:$E$21,"<>"&"")) -> 0 | AL53: =IF(LEN($AJ53)=0,"",COUNTIFS(Audit7!$G$42:$G$48,$AJ53,Audit7!$E$42:$E$48,"<>"&"")) -> 0 | AM53: =IF(LEN($AJ53)=0,"",COUNTIFS(Audit7!$G$69:$G$75,$AJ53,Audit7!$E$69:$E$75,"<>"&"")) -> 0 | AN53: =IF(LEN($AJ53)=0,"",COUNTIFS(Audit7!$G$96:$G$102,$AJ53,Audit7!$E$96:$E$102,"<>"&"")) -> 0 | AO53: =IF(LEN($AJ53)=0,"",COUNTIFS(Audit7!$G$123:$G$129,$AJ53,Audit7!$E$123:$E$129,"<>"&"")) -> 0 | AP53: =IF(LEN(AJ53)=0,"",SUM(AK53:AO53)) -> 0 | AQ53: {=MAX(IF(($T$5:$T$40)=AH53,$S$5:$S$40,0))} -> 1
S54: {=IFERROR(SMALL(IF($S$5:$S$40=1,ROW($S$5:$S$40)-4,""),3*(ROW(A9))),"")} -> 27 | T54: =IFERROR(INDEX(U$5:U$40,$S54,1),"") -> 9. IT Project | U54: =IFERROR(INDEX(V$5:V$40,$S54,1),"") -> S01 | V54: =IFERROR(IF(INDEX(W$5:W$40,$S54,1)=0,"",INDEX(W$5:W$40,$S54,1)),"") -> 44819 | W54: =IFERROR(INDEX(X$5:X$40,$S54,1),"") | X54: =IFERROR(TRIM(RIGHT(T54,LEN(T54)-3)),"") -> IT Project | Y54: =IFERROR("Audit #"&LEFT(T54,FIND(".",T54)-1),"") -> Audit #9 | Z54: =IFERROR(INDEX(Z$5:Z$40,$S54,1),"") -> 0 | AA54: =IFERROR(INDEX(AA$5:AA$40,$S54,1),"") -> 0 | AB54: =IFERROR(INDEX(AB$5:AB$40,$S54,1),"") -> 0 | AC54: =IFERROR(INDEX(AC$5:AC$40,$S54,1),"") -> 0 | AD54: =IFERROR(INDEX(AD$5:AD$40,$S54,1),"") -> 0 | AE54: =IF(LEN(X54)=0,0,COUNTIF($X$46:X54,X54)) -> 1 | AG54: 2 | AH54: Audit7 | AI54: =Audit7!$E$9 -> Classroom | AJ54: =AJ46 -> L2 | AK54: =IF(LEN($AJ54)=0,"",COUNTIFS(Audit7!$G$15:$G$21,$AJ54,Audit7!$E$15:$E$21,"<>"&"")) -> 0 | AL54: =IF(LEN($AJ54)=0,"",COUNTIFS(Audit7!$G$42:$G$48,$AJ54,Audit7!$E$42:$E$48,"<>"&"")) -> 0 | AM54: =IF(LEN($AJ54)=0,"",COUNTIFS(Audit7!$G$69:$G$75,$AJ54,Audit7!$E$69:$E$75,"<>"&"")) -> 0 | AN54: =IF(LEN($AJ54)=0,"",COUNTIFS(Audit7!$G$96:$G$102,$AJ54,Audit7!$E$96:$E$102,"<>"&"")) -> 0 | AO54: =IF(LEN($AJ54)=0,"",COUNTIFS(Audit7!$G$123:$G$129,$AJ54,Audit7!$E$123:$E$129,"<>"&"")) -> 0 | AP54: =IF(LEN(AJ54)=0,"",SUM(AK54:AO54)) -> 0 | AQ54: {=MAX(IF(($T$5:$T$40)=AH54,$S$5:$S$40,0))} -> 1
S55: {=IFERROR(SMALL(IF($S$5:$S$40=1,ROW($S$5:$S$40)-4,""),3*(ROW(A10))),"")} | T55: =IFERROR(INDEX(U$5:U$40,$S55,1),"") | U55: =IFERROR(INDEX(V$5:V$40,$S55,1),"") | V55: =IFERROR(IF(INDEX(W$5:W$40,$S55,1)=0,"",INDEX(W$5:W$40,$S55,1)),"") | W55: =IFERROR(INDEX(X$5:X$40,$S55,1),"") | X55: =IFERROR(TRIM(RIGHT(T55,LEN(T55)-3)),"") | Y55: =IFERROR("Audit #"&LEFT(T55,FIND(".",T55)-1),"") | Z55: =IFERROR(INDEX(Z$5:Z$40,$S55,1),"") | AA55: =IFERROR(INDEX(AA$5:AA$40,$S55,1),"") | AB55: =IFERROR(INDEX(AB$5:AB$40,$S55,1),"") | AC55: =IFERROR(INDEX(AC$5:AC$40,$S55,1),"") | AD55: =IFERROR(INDEX(AD$5:AD$40,$S55,1),"") | AE55: =IF(LEN(X55)=0,0,COUNTIF($X$46:X55,X55)) -> 0 | AG55: 3 | AH55: Audit7 | AI55: =Audit7!$E$9 -> Classroom | AJ55: =AJ47 -> L3 | AK55: =IF(LEN($AJ55)=0,"",COUNTIFS(Audit7!$G$15:$G$21,$AJ55,Audit7!$E$15:$E$21,"<>"&"")) -> 0 | AL55: =IF(LEN($AJ55)=0,"",COUNTIFS(Audit7!$G$42:$G$48,$AJ55,Audit7!$E$42:$E$48,"<>"&"")) -> 0 | AM55: =IF(LEN($AJ55)=0,"",COUNTIFS(Audit7!$G$69:$G$75,$AJ55,Audit7!$E$69:$E$75,"<>"&"")) -> 0 | AN55: =IF(LEN($AJ55)=0,"",COUNTIFS(Audit7!$G$96:$G$102,$AJ55,Audit7!$E$96:$E$102,"<>"&"")) -> 0 | AO55: =IF(LEN($AJ55)=0,"",COUNTIFS(Audit7!$G$123:$G$129,$AJ55,Audit7!$E$123:$E$129,"<>"&"")) -> 0 | AP55: =IF(LEN(AJ55)=0,"",SUM(AK55:AO55)) -> 0 | AQ55: {=MAX(IF(($T$5:$T$40)=AH55,$S$5:$S$40,0))} -> 1
S56: {=IFERROR(SMALL(IF($S$5:$S$40=1,ROW($S$5:$S$40)-4,""),3*(ROW(A11))),"")} | T56: =IFERROR(INDEX(U$5:U$40,$S56,1),"") | U56: =IFERROR(INDEX(V$5:V$40,$S56,1),"") | V56: =IFERROR(IF(INDEX(W$5:W$40,$S56,1)=0,"",INDEX(W$5:W$40,$S56,1)),"") | W56: =IFERROR(INDEX(X$5:X$40,$S56,1),"") | X56: =IFERROR(TRIM(RIGHT(T56,LEN(T56)-3)),"") | Y56: =IFERROR("Audit #"&LEFT(T56,FIND(".",T56)-1),"") | Z56: =IFERROR(INDEX(Z$5:Z$40,$S56,1),"") | AA56: =IFERROR(INDEX(AA$5:AA$40,$S56,1),"") | AB56: =IFERROR(INDEX(AB$5:AB$40,$S56,1),"") | AC56: =IFERROR(INDEX(AC$5:AC$40,$S56,1),"") | AD56: =IFERROR(INDEX(AD$5:AD$40,$S56,1),"") | AE56: =IF(LEN(X56)=0,0,COUNTIF($X$46:X56,X56)) -> 0 | AG56: 4 | AH56: Audit7 | AI56: =Audit7!$E$9 -> Classroom | AJ56: =AJ48 -> L4 | AK56: =IF(LEN($AJ56)=0,"",COUNTIFS(Audit7!$G$15:$G$21,$AJ56,Audit7!$E$15:$E$21,"<>"&"")) -> 0 | AL56: =IF(LEN($AJ56)=0,"",COUNTIFS(Audit7!$G$42:$G$48,$AJ56,Audit7!$E$42:$E$48,"<>"&"")) -> 0 | AM56: =IF(LEN($AJ56)=0,"",COUNTIFS(Audit7!$G$69:$G$75,$AJ56,Audit7!$E$69:$E$75,"<>"&"")) -> 0 | AN56: =IF(LEN($AJ56)=0,"",COUNTIFS(Audit7!$G$96:$G$102,$AJ56,Audit7!$E$96:$E$102,"<>"&"")) -> 0 | AO56: =IF(LEN($AJ56)=0,"",COUNTIFS(Audit7!$G$123:$G$129,$AJ56,Audit7!$E$123:$E$129,"<>"&"")) -> 0 | AP56: =IF(LEN(AJ56)=0,"",SUM(AK56:AO56)) -> 0 | AQ56: {=MAX(IF(($T$5:$T$40)=AH56,$S$5:$S$40,0))} -> 1
S57: {=IFERROR(SMALL(IF($S$5:$S$40=1,ROW($S$5:$S$40)-4,""),3*(ROW(A12))),"")} | T57: =IFERROR(INDEX(U$5:U$40,$S57,1),"") | U57: =IFERROR(INDEX(V$5:V$40,$S57,1),"") | V57: =IFERROR(IF(INDEX(W$5:W$40,$S57,1)=0,"",INDEX(W$5:W$40,$S57,1)),"") | W57: =IFERROR(INDEX(X$5:X$40,$S57,1),"") | X57: =IFERROR(TRIM(RIGHT(T57,LEN(T57)-3)),"") | Y57: =IFERROR("Audit #"&LEFT(T57,FIND(".",T57)-1),"") | Z57: =IFERROR(INDEX(Z$5:Z$40,$S57,1),"") | AA57: =IFERROR(INDEX(AA$5:AA$40,$S57,1),"") | AB57: =IFERROR(INDEX(AB$5:AB$40,$S57,1),"") | AC57: =IFERROR(INDEX(AC$5:AC$40,$S57,1),"") | AD57: =IFERROR(INDEX(AD$5:AD$40,$S57,1),"") | AE57: =IF(LEN(X57)=0,0,COUNTIF($X$46:X57,X57)) -> 0 | AG57: 5 | AH57: Audit7 | AI57: =Audit7!$E$9 -> Classroom | AJ57: =AJ49 -> L5 | AK57: =IF(LEN($AJ57)=0,"",COUNTIFS(Audit7!$G$15:$G$21,$AJ57,Audit7!$E$15:$E$21,"<>"&"")) -> 0 | AL57: =IF(LEN($AJ57)=0,"",COUNTIFS(Audit7!$G$42:$G$48,$AJ57,Audit7!$E$42:$E$48,"<>"&"")) -> 0 | AM57: =IF(LEN($AJ57)=0,"",COUNTIFS(Audit7!$G$69:$G$75,$AJ57,Audit7!$E$69:$E$75,"<>"&"")) -> 0 | AN57: =IF(LEN($AJ57)=0,"",COUNTIFS(Audit7!$G$96:$G$102,$AJ57,Audit7!$E$96:$E$102,"<>"&"")) -> 0 | AO57: =IF(LEN($AJ57)=0,"",COUNTIFS(Audit7!$G$123:$G$129,$AJ57,Audit7!$E$123:$E$129,"<>"&"")) -> 0 | AP57: =IF(LEN(AJ57)=0,"",SUM(AK57:AO57)) -> 0 | AQ57: {=MAX(IF(($T$5:$T$40)=AH57,$S$5:$S$40,0))} -> 1
AG58: 6 | AH58: Audit7 | AI58: =Audit7!$E$9 -> Classroom | AJ58: =AJ50 -> Yes | AK58: =IF(LEN($AJ58)=0,"",COUNTIFS(Audit7!$G$15:$G$21,$AJ58,Audit7!$E$15:$E$21,"<>"&"")) -> 0 | AL58: =IF(LEN($AJ58)=0,"",COUNTIFS(Audit7!$G$42:$G$48,$AJ58,Audit7!$E$42:$E$48,"<>"&"")) -> 0 | AM58: =IF(LEN($AJ58)=0,"",COUNTIFS(Audit7!$G$69:$G$75,$AJ58,Audit7!$E$69:$E$75,"<>"&"")) -> 0 | AN58: =IF(LEN($AJ58)=0,"",COUNTIFS(Audit7!$G$96:$G$102,$AJ58,Audit7!$E$96:$E$102,"<>"&"")) -> 0 | AO58: =IF(LEN($AJ58)=0,"",COUNTIFS(Audit7!$G$123:$G$129,$AJ58,Audit7!$E$123:$E$129,"<>"&"")) -> 0 | AP58: =IF(LEN(AJ58)=0,"",SUM(AK58:AO58)) -> 0 | AQ58: {=MAX(IF(($T$5:$T$40)=AH58,$S$5:$S$40,0))} -> 1
AG59: 7 | AH59: Audit7 | AI59: =Audit7!$E$9 -> Classroom | AJ59: =AJ51 -> No | AK59: =IF(LEN($AJ59)=0,"",COUNTIFS(Audit7!$G$15:$G$21,$AJ59,Audit7!$E$15:$E$21,"<>"&"")) -> 0 | AL59: =IF(LEN($AJ59)=0,"",COUNTIFS(Audit7!$G$42:$G$48,$AJ59,Audit7!$E$42:$E$48,"<>"&"")) -> 0 | AM59: =IF(LEN($AJ59)=0,"",COUNTIFS(Audit7!$G$69:$G$75,$AJ59,Audit7!$E$69:$E$75,"<>"&"")) -> 0 | AN59: =IF(LEN($AJ59)=0,"",COUNTIFS(Audit7!$G$96:$G$102,$AJ59,Audit7!$E$96:$E$102,"<>"&"")) -> 0 | AO59: =IF(LEN($AJ59)=0,"",COUNTIFS(Audit7!$G$123:$G$129,$AJ59,Audit7!$E$123:$E$129,"<>"&"")) -> 0 | AP59: =IF(LEN(AJ59)=0,"",SUM(AK59:AO59)) -> 0 | AQ59: {=MAX(IF(($T$5:$T$40)=AH59,$S$5:$S$40,0))} -> 1
AG60: 8 | AH60: Audit7 | AI60: =Audit7!$E$9 -> Classroom | AJ60: =AJ52 | AK60: =IF(LEN($AJ60)=0,"",COUNTIFS(Audit7!$G$15:$G$21,$AJ60,Audit7!$E$15:$E$21,"<>"&"")) | AL60: =IF(LEN($AJ60)=0,"",COUNTIFS(Audit7!$G$42:$G$48,$AJ60,Audit7!$E$42:$E$48,"<>"&"")) | AM60: =IF(LEN($AJ60)=0,"",COUNTIFS(Audit7!$G$69:$G$75,$AJ60,Audit7!$E$69:$E$75,"<>"&"")) | AN60: =IF(LEN($AJ60)=0,"",COUNTIFS(Audit7!$G$96:$G$102,$AJ60,Audit7!$E$96:$E$102,"<>"&"")) | AO60: =IF(LEN($AJ60)=0,"",COUNTIFS(Audit7!$G$123:$G$129,$AJ60,Audit7!$E$123:$E$129,"<>"&"")) | AP60: =IF(LEN(AJ60)=0,"",SUM(AK60:AO60)) | AQ60: {=MAX(IF(($T$5:$T$40)=AH60,$S$5:$S$40,0))} -> 1
AG61: 1 | AH61: Audit8 | AI61: =Audit8!$E$9 -> Office | AJ61: =AJ53 -> L1 | AK61: =IF(LEN($AJ61)=0,"",COUNTIFS(Audit8!$G$15:$G$21,$AJ61,Audit8!$E$15:$E$21,"<>"&"")) -> 0 | AL61: =IF(LEN($AJ61)=0,"",COUNTIFS(Audit8!$G$42:$G$48,$AJ61,Audit8!$E$42:$E$48,"<>"&"")) -> 0 | AM61: =IF(LEN($AJ61)=0,"",COUNTIFS(Audit8!$G$69:$G$75,$AJ61,Audit8!$E$69:$E$75,"<>"&"")) -> 0 | AN61: =IF(LEN($AJ61)=0,"",COUNTIFS(Audit8!$G$96:$G$102,$AJ61,Audit8!$E$96:$E$102,"<>"&"")) -> 0 | AO61: =IF(LEN($AJ61)=0,"",COUNTIFS(Audit8!$G$123:$G$129,$AJ61,Audit8!$E$123:$E$129,"<>"&"")) -> 0 | AP61: =IF(LEN(AJ61)=0,"",SUM(AK61:AO61)) -> 0 | AQ61: {=MAX(IF(($T$5:$T$40)=AH61,$S$5:$S$40,0))} -> 1
AG62: 2 | AH62: Audit8 | AI62: =Audit8!$E$9 -> Office | AJ62: =AJ54 -> L2 | AK62: =IF(LEN($AJ62)=0,"",COUNTIFS(Audit8!$G$15:$G$21,$AJ62,Audit8!$E$15:$E$21,"<>"&"")) -> 0 | AL62: =IF(LEN($AJ62)=0,"",COUNTIFS(Audit8!$G$42:$G$48,$AJ62,Audit8!$E$42:$E$48,"<>"&"")) -> 0 | AM62: =IF(LEN($AJ62)=0,"",COUNTIFS(Audit8!$G$69:$G$75,$AJ62,Audit8!$E$69:$E$75,"<>"&"")) -> 0 | AN62: =IF(LEN($AJ62)=0,"",COUNTIFS(Audit8!$G$96:$G$102,$AJ62,Audit8!$E$96:$E$102,"<>"&"")) -> 0 | AO62: =IF(LEN($AJ62)=0,"",COUNTIFS(Audit8!$G$123:$G$129,$AJ62,Audit8!$E$123:$E$129,"<>"&"")) -> 0 | AP62: =IF(LEN(AJ62)=0,"",SUM(AK62:AO62)) -> 0 | AQ62: {=MAX(IF(($T$5:$T$40)=AH62,$S$5:$S$40,0))} -> 1
AG63: 3 | AH63: Audit8 | AI63: =Audit8!$E$9 -> Office | AJ63: =AJ55 -> L3 | AK63: =IF(LEN($AJ63)=0,"",COUNTIFS(Audit8!$G$15:$G$21,$AJ63,Audit8!$E$15:$E$21,"<>"&"")) -> 0 | AL63: =IF(LEN($AJ63)=0,"",COUNTIFS(Audit8!$G$42:$G$48,$AJ63,Audit8!$E$42:$E$48,"<>"&"")) -> 0 | AM63: =IF(LEN($AJ63)=0,"",COUNTIFS(Audit8!$G$69:$G$75,$AJ63,Audit8!$E$69:$E$75,"<>"&"")) -> 0 | AN63: =IF(LEN($AJ63)=0,"",COUNTIFS(Audit8!$G$96:$G$102,$AJ63,Audit8!$E$96:$E$102,"<>"&"")) -> 0 | AO63: =IF(LEN($AJ63)=0,"",COUNTIFS(Audit8!$G$123:$G$129,$AJ63,Audit8!$E$123:$E$129,"<>"&"")) -> 0 | AP63: =IF(LEN(AJ63)=0,"",SUM(AK63:AO63)) -> 0 | AQ63: {=MAX(IF(($T$5:$T$40)=AH63,$S$5:$S$40,0))} -> 1
