Workbook

Sheet Dashboard
C2: 5 WHYS TEMPLATE
C3: DASHBOARD
C7: NAVIGATION | E7: PROBLEMS | F7: ROOT CAUSES | G7: SOLUTIONS | H7: # ACTIONS | I7: STATUS | K7: Problem 1
C8: =IF(LEN($E8)>0,"Go to Problem 1","Define new problem") -> Go to Problem 1 | E8: =IF(INDEX(Calc!$H$4:$H$18,Calc!$B4,1)=0,"",INDEX(Calc!$H$4:$H$18,Calc!$B4,1)) -> Our sales have dropped lately. | F8: =IF(INDEX(Calc!$I$4:$I$18,Calc!$B4,1)=0,"-",INDEX(Calc!$I$4:$I$18,Calc!$B4,1)) -> The company did not recruit for the marketing area. | G8: =IF(INDEX(Calc!$J$4:$J$18,Calc!$B4,1)=0,"-",INDEX(Calc!$J$4:$J$18,Calc!$B4,1)) -> We need to look for and hire new people for the marketing field. | H8: =IF(INDEX(Calc!$K$4:$K$18,Calc!$B4,1)=0,"-",INDEX(Calc!$K$4:$K$18,Calc!$B4,1)) -> 3 | I8: =IF(INDEX(Calc!$Q$4:$Q$18,Calc!$B4,1)=0,"-",INDEX(Calc!$Q$4:$Q$18,Calc!$B4,1)) -> CONTINUES
C9: =IF(LEN($E9)>0,"Go to Problem 2","Define new problem") -> Go to Problem 2 | E9: =IF(INDEX(Calc!$H$4:$H$18,Calc!$B5,1)=0,"",INDEX(Calc!$H$4:$H$18,Calc!$B5,1)) -> Our customer satisfaction score is low. | F9: =IF(INDEX(Calc!$I$4:$I$18,Calc!$B5,1)=0,"-",INDEX(Calc!$I$4:$I$18,Calc!$B5,1)) -> The workload of our developers is huge. | G9: =IF(INDEX(Calc!$J$4:$J$18,Calc!$B5,1)=0,"-",INDEX(Calc!$J$4:$J$18,Calc!$B5,1)) -> The developers' business plan should be reviewed. | H9: =IF(INDEX(Calc!$K$4:$K$18,Calc!$B5,1)=0,"-",INDEX(Calc!$K$4:$K$18,Calc!$B5,1)) -> 2 | I9: =IF(INDEX(Calc!$Q$4:$Q$18,Calc!$B5,1)=0,"-",INDEX(Calc!$Q$4:$Q$18,Calc!$B5,1)) -> ON HOLD
C10: =IF(LEN($E10)>0,"Go to Problem 3","Define new problem") -> Define new problem | E10: =IF(INDEX(Calc!$H$4:$H$18,Calc!$B6,1)=0,"",INDEX(Calc!$H$4:$H$18,Calc!$B6,1)) | F10: =IF(INDEX(Calc!$I$4:$I$18,Calc!$B6,1)=0,"-",INDEX(Calc!$I$4:$I$18,Calc!$B6,1)) | G10: =IF(INDEX(Calc!$J$4:$J$18,Calc!$B6,1)=0,"-",INDEX(Calc!$J$4:$J$18,Calc!$B6,1)) | H10: =IF(INDEX(Calc!$K$4:$K$18,Calc!$B6,1)=0,"-",INDEX(Calc!$K$4:$K$18,Calc!$B6,1)) | I10: =IF(INDEX(Calc!$Q$4:$Q$18,Calc!$B6,1)=0,"-",INDEX(Calc!$Q$4:$Q$18,Calc!$B6,1))

Sheet Problem1
C2: 5 WHYS TEMPLATE
C3: PROBLEM 1
C6: PROBLEM | E6: Our sales have dropped lately. | O6: CONTINUES
C8: Root Cause | D8: 1st Why | F8: Our products cannot reach enough customers. | P8: =IF(LEN(F8)>0,1,0) -> 1
D10: Root Cause | E10: 2nd Why | G10: We fell behind our competitors. | P10: =IF(LEN(G10)>0,2,0) -> 2
E12: Root Cause | F12: 3rd Why | H12: We don't have enough keyword information for competing with our competitors. | P12: =IF(LEN(H12)>0,3,0) -> 3
F14: Root Cause | G14: 4th Why | I14: There are very few qualified people working on the marketing side of the company. | P14: =IF(LEN(I14)>0,4,0) -> 4
G16: Root Cause | H16: 5th Why | J16: The company did not recruit for the marketing area. | P16: =IF(LEN(J16)>0,5,0) -> 5
C18: SOLUTION | E18: We need to look for and hire new people for the marketing field.
C20: Actions for Solution | H20: Responsible | K20: Priority | L20: Start Date | M20: Due Date | N20: Progress (%) | O20: Status
C21: Job posting will be posted on Linkedin. | H21: Carmel Beltran | K21: High | L21: 44706 | M21: 44707 | N21: 100 | O21: =IFERROR(IF(LEN(C21)=0,"",IF(AND(LEN(M21)>0,TODAY()>M21,N21<>100),"Overdue",IF(N21=0,"Not Started",IF(AND(N21>0,N21<100),"In Progress",IF(N21=100,"Done",""))))),"") -> Done | P21: =IFERROR(IF($O21="Overdue","!",""),"")
C22: Applications will be reviewed. | H22: Harris Montes | K22: Medium | L22: 44707 | M22: 44727 | N22: 20 | O22: =IFERROR(IF(LEN(C22)=0,"",IF(AND(LEN(M22)>0,TODAY()>M22,N22<>100),"Overdue",IF(N22=0,"Not Started",IF(AND(N22>0,N22<100),"In Progress",IF(N22=100,"Done",""))))),"") -> Overdue | P22: =IFERROR(IF($O22="Overdue","!",""),"") -> !
C23: An interview will be arranged with approved applications. | H23: Jane Best | K23: Medium | L23: 44742 | M23: 44772 | O23: =IFERROR(IF(LEN(C23)=0,"",IF(AND(LEN(M23)>0,TODAY()>M23,N23<>100),"Overdue",IF(N23=0,"Not Started",IF(AND(N23>0,N23<100),"In Progress",IF(N23=100,"Done",""))))),"") -> Overdue | P23: =IFERROR(IF($O23="Overdue","!",""),"") -> !
O24: =IFERROR(IF(LEN(C24)=0,"",IF(AND(LEN(M24)>0,TODAY()>M24,N24<>100),"Overdue",IF(N24=0,"Not Started",IF(AND(N24>0,N24<100),"In Progress",IF(N24=100,"Done",""))))),"") | P24: =IFERROR(IF($O24="Overdue","!",""),"")
O25: =IFERROR(IF(LEN(C25)=0,"",IF(AND(LEN(M25)>0,TODAY()>M25,N25<>100),"Overdue",IF(N25=0,"Not Started",IF(AND(N25>0,N25<100),"In Progress",IF(N25=100,"Done",""))))),"") | P25: =IFERROR(IF($O25="Overdue","!",""),"")
O26: =IFERROR(IF(LEN(C26)=0,"",IF(AND(LEN(M26)>0,TODAY()>M26,N26<>100),"Overdue",IF(N26=0,"Not Started",IF(AND(N26>0,N26<100),"In Progress",IF(N26=100,"Done",""))))),"") | P26: =IFERROR(IF($O26="Overdue","!",""),"")
O27: =IFERROR(IF(LEN(C27)=0,"",IF(AND(LEN(M27)>0,TODAY()>M27,N27<>100),"Overdue",IF(N27=0,"Not Started",IF(AND(N27>0,N27<100),"In Progress",IF(N27=100,"Done",""))))),"") | P27: =IFERROR(IF($O27="Overdue","!",""),"")
O28: =IFERROR(IF(LEN(C28)=0,"",IF(AND(LEN(M28)>0,TODAY()>M28,N28<>100),"Overdue",IF(N28=0,"Not Started",IF(AND(N28>0,N28<100),"In Progress",IF(N28=100,"Done",""))))),"") | P28: =IFERROR(IF($O28="Overdue","!",""),"")
O29: =IFERROR(IF(LEN(C29)=0,"",IF(AND(LEN(M29)>0,TODAY()>M29,N29<>100),"Overdue",IF(N29=0,"Not Started",IF(AND(N29>0,N29<100),"In Progress",IF(N29=100,"Done",""))))),"") | P29: =IFERROR(IF($O29="Overdue","!",""),"")
O30: =IFERROR(IF(LEN(C30)=0,"",IF(AND(LEN(M30)>0,TODAY()>M30,N30<>100),"Overdue",IF(N30=0,"Not Started",IF(AND(N30>0,N30<100),"In Progress",IF(N30=100,"Done",""))))),"") | P30: =IFERROR(IF($O30="Overdue","!",""),"")
O31: =IFERROR(IF(LEN(C31)=0,"",IF(AND(LEN(M31)>0,TODAY()>M31,N31<>100),"Overdue",IF(N31=0,"Not Started",IF(AND(N31>0,N31<100),"In Progress",IF(N31=100,"Done",""))))),"") | P31: =IFERROR(IF($O31="Overdue","!",""),"")
O32: =IFERROR(IF(LEN(C32)=0,"",IF(AND(LEN(M32)>0,TODAY()>M32,N32<>100),"Overdue",IF(N32=0,"Not Started",IF(AND(N32>0,N32<100),"In Progress",IF(N32=100,"Done",""))))),"") | P32: =IFERROR(IF($O32="Overdue","!",""),"")
O33: =IFERROR(IF(LEN(C33)=0,"",IF(AND(LEN(M33)>0,TODAY()>M33,N33<>100),"Overdue",IF(N33=0,"Not Started",IF(AND(N33>0,N33<100),"In Progress",IF(N33=100,"Done",""))))),"") | P33: =IFERROR(IF($O33="Overdue","!",""),"")
O34: =IFERROR(IF(LEN(C34)=0,"",IF(AND(LEN(M34)>0,TODAY()>M34,N34<>100),"Overdue",IF(N34=0,"Not Started",IF(AND(N34>0,N34<100),"In Progress",IF(N34=100,"Done",""))))),"") | P34: =IFERROR(IF($O34="Overdue","!",""),"")
O35: =IFERROR(IF(LEN(C35)=0,"",IF(AND(LEN(M35)>0,TODAY()>M35,N35<>100),"Overdue",IF(N35=0,"Not Started",IF(AND(N35>0,N35<100),"In Progress",IF(N35=100,"Done",""))))),"") | P35: =IFERROR(IF($O35="Overdue","!",""),"")

Sheet Problem2
C2: 5 WHYS TEMPLATE
C3: PROBLEM 2
C6: PROBLEM | E6: Our customer satisfaction score is low. | O6: ON HOLD
C8: Root Cause | D8: 1st Why | F8: Our customers are not satisfied with the service they receive. | P8: =IF(LEN(F8)>0,1,0) -> 1
D10: Root Cause | E10: 2nd Why | G10: We can not provide customer support to satisfy customers. | P10: =IF(LEN(G10)>0,2,0) -> 2
E12: Root Cause | F12: 3rd Why | H12: Our developers do not have enough time to provide support to customers. | P12: =IF(LEN(H12)>0,3,0) -> 3
F14: Root Cause | G14: 4th Why | I14: The workload of our developers is huge. | P14: =IF(LEN(I14)>0,4,0) -> 4
G16: Root Cause | H16: 5th Why | P16: =IF(LEN(J16)>0,5,0) -> 0
C18: SOLUTION | E18: The developers' business plan should be reviewed.
C20: Actions for Solution | H20: Responsible | K20: Priority | L20: Start Date | M20: Due Date | N20: Progress (%) | O20: Status
C21: A meeting will be set with the developers. | H21: Doris Power | K21: High | L21: 44707 | M21: 44707 | N21: 100 | O21: =IFERROR(IF(LEN(C21)=0,"",IF(AND(LEN(M21)>0,TODAY()>M21,N21<>100),"Overdue",IF(N21=0,"Not Started",IF(AND(N21>0,N21<100),"In Progress",IF(N21=100,"Done",""))))),"") -> Done | P21: =IFERROR(IF($O21="Overdue","!",""),"")
C22: A instruction will be created for customer support. | H22: Kristofer Dyer | K22: Medium | L22: 44709 | M22: 44711 | N22: 30 | O22: =IFERROR(IF(LEN(C22)=0,"",IF(AND(LEN(M22)>0,TODAY()>M22,N22<>100),"Overdue",IF(N22=0,"Not Started",IF(AND(N22>0,N22<100),"In Progress",IF(N22=100,"Done",""))))),"") -> Overdue | P22: =IFERROR(IF($O22="Overdue","!",""),"") -> !
O23: =IFERROR(IF(LEN(C23)=0,"",IF(AND(LEN(M23)>0,TODAY()>M23,N23<>100),"Overdue",IF(N23=0,"Not Started",IF(AND(N23>0,N23<100),"In Progress",IF(N23=100,"Done",""))))),"") | P23: =IFERROR(IF($O23="Overdue","!",""),"")
O24: =IFERROR(IF(LEN(C24)=0,"",IF(AND(LEN(M24)>0,TODAY()>M24,N24<>100),"Overdue",IF(N24=0,"Not Started",IF(AND(N24>0,N24<100),"In Progress",IF(N24=100,"Done",""))))),"") | P24: =IFERROR(IF($O24="Overdue","!",""),"")
O25: =IFERROR(IF(LEN(C25)=0,"",IF(AND(LEN(M25)>0,TODAY()>M25,N25<>100),"Overdue",IF(N25=0,"Not Started",IF(AND(N25>0,N25<100),"In Progress",IF(N25=100,"Done",""))))),"") | P25: =IFERROR(IF($O25="Overdue","!",""),"")
O26: =IFERROR(IF(LEN(C26)=0,"",IF(AND(LEN(M26)>0,TODAY()>M26,N26<>100),"Overdue",IF(N26=0,"Not Started",IF(AND(N26>0,N26<100),"In Progress",IF(N26=100,"Done",""))))),"") | P26: =IFERROR(IF($O26="Overdue","!",""),"")
O27: =IFERROR(IF(LEN(C27)=0,"",IF(AND(LEN(M27)>0,TODAY()>M27,N27<>100),"Overdue",IF(N27=0,"Not Started",IF(AND(N27>0,N27<100),"In Progress",IF(N27=100,"Done",""))))),"") | P27: =IFERROR(IF($O27="Overdue","!",""),"")
O28: =IFERROR(IF(LEN(C28)=0,"",IF(AND(LEN(M28)>0,TODAY()>M28,N28<>100),"Overdue",IF(N28=0,"Not Started",IF(AND(N28>0,N28<100),"In Progress",IF(N28=100,"Done",""))))),"") | P28: =IFERROR(IF($O28="Overdue","!",""),"")
O29: =IFERROR(IF(LEN(C29)=0,"",IF(AND(LEN(M29)>0,TODAY()>M29,N29<>100),"Overdue",IF(N29=0,"Not Started",IF(AND(N29>0,N29<100),"In Progress",IF(N29=100,"Done",""))))),"") | P29: =IFERROR(IF($O29="Overdue","!",""),"")
O30: =IFERROR(IF(LEN(C30)=0,"",IF(AND(LEN(M30)>0,TODAY()>M30,N30<>100),"Overdue",IF(N30=0,"Not Started",IF(AND(N30>0,N30<100),"In Progress",IF(N30=100,"Done",""))))),"") | P30: =IFERROR(IF($O30="Overdue","!",""),"")
O31: =IFERROR(IF(LEN(C31)=0,"",IF(AND(LEN(M31)>0,TODAY()>M31,N31<>100),"Overdue",IF(N31=0,"Not Started",IF(AND(N31>0,N31<100),"In Progress",IF(N31=100,"Done",""))))),"") | P31: =IFERROR(IF($O31="Overdue","!",""),"")
O32: =IFERROR(IF(LEN(C32)=0,"",IF(AND(LEN(M32)>0,TODAY()>M32,N32<>100),"Overdue",IF(N32=0,"Not Started",IF(AND(N32>0,N32<100),"In Progress",IF(N32=100,"Done",""))))),"") | P32: =IFERROR(IF($O32="Overdue","!",""),"")
O33: =IFERROR(IF(LEN(C33)=0,"",IF(AND(LEN(M33)>0,TODAY()>M33,N33<>100),"Overdue",IF(N33=0,"Not Started",IF(AND(N33>0,N33<100),"In Progress",IF(N33=100,"Done",""))))),"") | P33: =IFERROR(IF($O33="Overdue","!",""),"")
O34: =IFERROR(IF(LEN(C34)=0,"",IF(AND(LEN(M34)>0,TODAY()>M34,N34<>100),"Overdue",IF(N34=0,"Not Started",IF(AND(N34>0,N34<100),"In Progress",IF(N34=100,"Done",""))))),"") | P34: =IFERROR(IF($O34="Overdue","!",""),"")
O35: =IFERROR(IF(LEN(C35)=0,"",IF(AND(LEN(M35)>0,TODAY()>M35,N35<>100),"Overdue",IF(N35=0,"Not Started",IF(AND(N35>0,N35<100),"In Progress",IF(N35=100,"Done",""))))),"") | P35: =IFERROR(IF($O35="Overdue","!",""),"")

Sheet Problem3
C2: 5 WHYS TEMPLATE
C3: PROBLEM 3
C6: PROBLEM
C8: Root Cause | D8: 1st Why | P8: =IF(LEN(F8)>0,1,0) -> 0
D10: Root Cause | E10: 2nd Why | P10: =IF(LEN(G10)>0,2,0) -> 0
E12: Root Cause | F12: 3rd Why | P12: =IF(LEN(H12)>0,3,0) -> 0
F14: Root Cause | G14: 4th Why | P14: =IF(LEN(I14)>0,4,0) -> 0
G16: Root Cause | H16: 5th Why | P16: =IF(LEN(J16)>0,5,0) -> 0
C18: SOLUTION
C20: Actions for Solution | H20: Responsible | K20: Priority | L20: Start Date | M20: Due Date | N20: Progress (%) | O20: Status
O21: =IFERROR(IF(LEN(C21)=0,"",IF(AND(LEN(M21)>0,TODAY()>M21,N21<>100),"Overdue",IF(N21=0,"Not Started",IF(AND(N21>0,N21<100),"In Progress",IF(N21=100,"Done",""))))),"") | P21: =IFERROR(IF($O21="Overdue","!",""),"")
O22: =IFERROR(IF(LEN(C22)=0,"",IF(AND(LEN(M22)>0,TODAY()>M22,N22<>100),"Overdue",IF(N22=0,"Not Started",IF(AND(N22>0,N22<100),"In Progress",IF(N22=100,"Done",""))))),"") | P22: =IFERROR(IF($O22="Overdue","!",""),"")
O23: =IFERROR(IF(LEN(C23)=0,"",IF(AND(LEN(M23)>0,TODAY()>M23,N23<>100),"Overdue",IF(N23=0,"Not Started",IF(AND(N23>0,N23<100),"In Progress",IF(N23=100,"Done",""))))),"") | P23: =IFERROR(IF($O23="Overdue","!",""),"")
O24: =IFERROR(IF(LEN(C24)=0,"",IF(AND(LEN(M24)>0,TODAY()>M24,N24<>100),"Overdue",IF(N24=0,"Not Started",IF(AND(N24>0,N24<100),"In Progress",IF(N24=100,"Done",""))))),"") | P24: =IFERROR(IF($O24="Overdue","!",""),"")
O25: =IFERROR(IF(LEN(C25)=0,"",IF(AND(LEN(M25)>0,TODAY()>M25,N25<>100),"Overdue",IF(N25=0,"Not Started",IF(AND(N25>0,N25<100),"In Progress",IF(N25=100,"Done",""))))),"") | P25: =IFERROR(IF($O25="Overdue","!",""),"")
O26: =IFERROR(IF(LEN(C26)=0,"",IF(AND(LEN(M26)>0,TODAY()>M26,N26<>100),"Overdue",IF(N26=0,"Not Started",IF(AND(N26>0,N26<100),"In Progress",IF(N26=100,"Done",""))))),"") | P26: =IFERROR(IF($O26="Overdue","!",""),"")
O27: =IFERROR(IF(LEN(C27)=0,"",IF(AND(LEN(M27)>0,TODAY()>M27,N27<>100),"Overdue",IF(N27=0,"Not Started",IF(AND(N27>0,N27<100),"In Progress",IF(N27=100,"Done",""))))),"") | P27: =IFERROR(IF($O27="Overdue","!",""),"")
O28: =IFERROR(IF(LEN(C28)=0,"",IF(AND(LEN(M28)>0,TODAY()>M28,N28<>100),"Overdue",IF(N28=0,"Not Started",IF(AND(N28>0,N28<100),"In Progress",IF(N28=100,"Done",""))))),"") | P28: =IFERROR(IF($O28="Overdue","!",""),"")
O29: =IFERROR(IF(LEN(C29)=0,"",IF(AND(LEN(M29)>0,TODAY()>M29,N29<>100),"Overdue",IF(N29=0,"Not Started",IF(AND(N29>0,N29<100),"In Progress",IF(N29=100,"Done",""))))),"") | P29: =IFERROR(IF($O29="Overdue","!",""),"")
O30: =IFERROR(IF(LEN(C30)=0,"",IF(AND(LEN(M30)>0,TODAY()>M30,N30<>100),"Overdue",IF(N30=0,"Not Started",IF(AND(N30>0,N30<100),"In Progress",IF(N30=100,"Done",""))))),"") | P30: =IFERROR(IF($O30="Overdue","!",""),"")
O31: =IFERROR(IF(LEN(C31)=0,"",IF(AND(LEN(M31)>0,TODAY()>M31,N31<>100),"Overdue",IF(N31=0,"Not Started",IF(AND(N31>0,N31<100),"In Progress",IF(N31=100,"Done",""))))),"") | P31: =IFERROR(IF($O31="Overdue","!",""),"")
O32: =IFERROR(IF(LEN(C32)=0,"",IF(AND(LEN(M32)>0,TODAY()>M32,N32<>100),"Overdue",IF(N32=0,"Not Started",IF(AND(N32>0,N32<100),"In Progress",IF(N32=100,"Done",""))))),"") | P32: =IFERROR(IF($O32="Overdue","!",""),"")
... O35: =IFERROR(IF(LEN(C35)=0,"",IF(AND(LEN(M35)>0,TODAY()>M35,N35<>100),"Overdue",IF(N35=0,"Not Started",IF(AND(N35>0,N35<100),"In Progress",IF(N35=100,"Done",""))))),"") | P35: =IFERROR(IF($O35="Overdue","!",""),"")

Sheet Calc
W2: Filter Index | X2: Index Without Blanks | Y2: Chart Dropdown
B3: INDEX | C3: SHEET NAME | D3: Active/Passive | E3: Number of Why | F3: Row Number of Why | G3: Column Number of Why | H3: Problem | I3: Root Cause | J3: Solution | K3: Number of Actions | L3: Progress Total %) | M3: Not Started | N3: In Progress | O3: Overdue | P3: Done | Q3: Status | S3: Progress Dropdown | U3: Problem List | W3: - | X3: - | Y3: All
B4: 1 | C4: Problem1 | D4: =IF($H4<>0,"Active","Passive") -> Active | E4: =IFERROR(IF($D4="Passive","",COUNTIF(INDIRECT($C4&"!$P$8:$P$16"),">0")),"") -> 5 | F4: =IFERROR(INDEX($E$9:$G$13,MATCH($E4,$E$9:$E$13,0),2),"") -> 9 | G4: =IFERROR(INDEX($E$9:$G$13,MATCH($E4,$E$9:$E$13,0),3),"") -> 6 | H4: =IFERROR(INDIRECT($C4&"!$E$6"),"") -> Our sales have dropped lately. | I4: =IFERROR(IF($D4="Passive","",INDEX(INDIRECT($C4&"!$E$8:$J$16"),$F4,$G4)),0) -> The company did not recruit for the marketing area. | J4: =IF($D4="Passive","",IFERROR(INDIRECT($C4&"!$E$18"),"")) -> We need to look for and hire new people for the marketing field. | K4: =IF($D4="Passive","",COUNTA(INDIRECT($C4&"!$C$21:$C$35"))) -> 3 | L4: =IF($D4="Passive","",IFERROR(SUM(OFFSET(INDIRECT($C4&"!$N$21"),0,0,$K4,1)),"")) -> 120 | M4: =IFERROR(IF($D4="Active",COUNTIF(OFFSET(INDIRECT($C4&"!$O$21"),0,0,$K4,1),M$3),""),"") -> 0 | N4: =IFERROR(IF($D4="Active",COUNTIF(OFFSET(INDIRECT($C4&"!$O$21"),0,0,$K4,1),N$3),""),"") -> 0 | O4: =IFERROR(IF($D4="Active",COUNTIF(OFFSET(INDIRECT($C4&"!$O$21"),0,0,$K4,1),O$3),""),"") -> 2 | P4: =IFERROR(IF($D4="Active",COUNTIF(OFFSET(INDIRECT($C4&"!$O$21"),0,0,$K4,1),P$3),""),"") -> 1 | Q4: =IF($D4="Passive","",IFERROR(INDIRECT($C4&"!$O$6"),"")) -> CONTINUES | S4: 0 | U4: Problem 1 | W4: =IF($D4="Active",$B4,"") -> 1 | X4: =IFERROR(SMALL($W$4:$W$6,ROW($X4)-ROW($X$3)),"") -> 1 | Y4: =IFERROR(INDEX($U$4:$U$6,$X4,1),"") -> Problem 1
B5: 2 | C5: Problem2 | D5: =IF($H5<>0,"Active","Passive") -> Active | E5: =IFERROR(IF($D5="Passive","",COUNTIF(INDIRECT($C5&"!$P$8:$P$16"),">0")),"") -> 4 | F5: =IFERROR(INDEX($E$9:$G$13,MATCH($E5,$E$9:$E$13,0),2),"") -> 7 | G5: =IFERROR(INDEX($E$9:$G$13,MATCH($E5,$E$9:$E$13,0),3),"") -> 5 | H5: =IFERROR(INDIRECT($C5&"!$E$6"),"") -> Our customer satisfaction score is low. | I5: =IFERROR(IF($D5="Passive","",INDEX(INDIRECT($C5&"!$E$8:$J$16"),$F5,$G5)),0) -> The workload of our developers is huge. | J5: =IF($D5="Passive","",IFERROR(INDIRECT($C5&"!$E$18"),"")) -> The developers' business plan should be reviewed. | K5: =IF($D5="Passive","",COUNTA(INDIRECT($C5&"!$C$21:$C$35"))) -> 2 | L5: =IF($D5="Passive","",IFERROR(SUM(OFFSET(INDIRECT($C5&"!$N$21"),0,0,$K5,1)),"")) -> 130 | M5: =IFERROR(IF($D5="Active",COUNTIF(OFFSET(INDIRECT($C5&"!$O$21"),0,0,$K5,1),M$3),""),"") -> 0 | N5: =IFERROR(IF($D5="Active",COUNTIF(OFFSET(INDIRECT($C5&"!$O$21"),0,0,$K5,1),N$3),""),"") -> 0 | O5: =IFERROR(IF($D5="Active",COUNTIF(OFFSET(INDIRECT($C5&"!$O$21"),0,0,$K5,1),O$3),""),"") -> 1 | P5: =IFERROR(IF($D5="Active",COUNTIF(OFFSET(INDIRECT($C5&"!$O$21"),0,0,$K5,1),P$3),""),"") -> 1 | Q5: =IF($D5="Passive","",IFERROR(INDIRECT($C5&"!$O$6"),"")) -> ON HOLD | S5: 10 | U5: Problem 2 | W5: =IF($D5="Active",$B5,"") -> 2 | X5: =IFERROR(SMALL($W$4:$W$6,ROW($X5)-ROW($X$3)),"") -> 2 | Y5: =IFERROR(INDEX($U$4:$U$6,$X5,1),"") -> Problem 2 | AA5: Chart Filter | AB5: =IFERROR(MATCH(Dashboard!$K$7,$U$4:$U$6,0),"All") -> 1
B6: 3 | C6: Problem3 | D6: =IF($H6<>0,"Active","Passive") -> Passive | E6: =IFERROR(IF($D6="Passive","",COUNTIF(INDIRECT($C6&"!$P$8:$P$16"),">0")),"") | F6: =IFERROR(INDEX($E$9:$G$13,MATCH($E6,$E$9:$E$13,0),2),"") | G6: =IFERROR(INDEX($E$9:$G$13,MATCH($E6,$E$9:$E$13,0),3),"") | H6: =IFERROR(INDIRECT($C6&"!$E$6"),"") -> 0 | I6: =IFERROR(IF($D6="Passive","",INDEX(INDIRECT($C6&"!$E$8:$J$16"),$F6,$G6)),0) | J6: =IF($D6="Passive","",IFERROR(INDIRECT($C6&"!$E$18"),"")) | K6: =IF($D6="Passive","",COUNTA(INDIRECT($C6&"!$C$21:$C$35"))) | L6: =IF($D6="Passive","",IFERROR(SUM(OFFSET(INDIRECT($C6&"!$N$21"),0,0,$K6,1)),"")) | M6: =IFERROR(IF($D6="Active",COUNTIF(OFFSET(INDIRECT($C6&"!$O$21"),0,0,$K6,1),M$3),""),"") | N6: =IFERROR(IF($D6="Active",COUNTIF(OFFSET(INDIRECT($C6&"!$O$21"),0,0,$K6,1),N$3),""),"") | O6: =IFERROR(IF($D6="Active",COUNTIF(OFFSET(INDIRECT($C6&"!$O$21"),0,0,$K6,1),O$3),""),"") | P6: =IFERROR(IF($D6="Active",COUNTIF(OFFSET(INDIRECT($C6&"!$O$21"),0,0,$K6,1),P$3),""),"") | Q6: =IF($D6="Passive","",IFERROR(INDIRECT($C6&"!$O$6"),"")) | S6: 20 | U6: Problem 3 | W6: =IF($D6="Active",$B6,"") | X6: =IFERROR(SMALL($W$4:$W$6,ROW($X6)-ROW($X$3)),"") | Y6: =IFERROR(INDEX($U$4:$U$6,$X6,1),"")
S7: 30 | AA7: Average Progress (%) | AB7: =IFERROR(IF($AB$5="All",SUM($L$4:$L$6)/(SUM($K$4:$K$6)*100),IF($AB$5<>"All",INDEX($L$4:$L$6,$AB$5,1)/(INDEX($K$4:$K$6,$AB$5,1)*100),0)),0) -> 0.4 | AC7: =IFERROR(1-$AB$7,1) -> 0.6
E8: Number of Why | F8: Row Number of Why | G8: Column Number of Why | S8: 40
E9: 1 | F9: 1 | G9: 2 | S9: 50 | AA9: Not Started | AB9: In Progress | AC9: Overdue | AD9: Done
E10: 2 | F10: 3 | G10: 3 | S10: 60 | AA10: =IFERROR(IF($AB$5="All",SUM($M$4:$M$6),INDEX($M$4:$P$6,$AB$5,1)),0) -> 0 | AB10: =IFERROR(IF($AB$5="All",SUM($N$4:$N$6),INDEX($M$4:$P$6,$AB$5,2)),0) -> 0 | AC10: =IFERROR(IF($AB$5="All",SUM($O$4:$O$6),INDEX($M$4:$P$6,$AB$5,3)),0) -> 2 | AD10: =IFERROR(IF($AB$5="All",SUM($P$4:$P$6),INDEX($M$4:$P$6,$AB$5,4)),0) -> 1
E11: 3 | F11: 5 | G11: 4 | S11: 70
E12: 4 | F12: 7 | G12: 5 | S12: 80
E13: 5 | F13: 9 | G13: 6 | S13: 90
S14: 100
