Workbook
Name cat_dd: OFFSET(Calc!$C$6,,,Calc!$C$4)
Name ChartLabel: OFFSET(Calc!$G$6,,,Calc!$G$3)
Name ChartValues: OFFSET(Calc!$H$6,,,Calc!$H$3)
Name PieLabel: OFFSET(Calc!$J$30,,,Calc!$J$27)
Name PieValue: OFFSET(Calc!$K$30,,,Calc!$K$27)
Name week_dd: OFFSET(Calc!$C$13,,,Calc!$B$13)

Sheet Dashboard
D2: WEEKLY BUDGET TEMPLATE
D3: DASHBOARD
D8: Expense Categories | H8: Income Summary | M8: Select Week: | O8: W1
D10: Categories | H10: Income | M10: How much can I save?
D11: Children
D12: Food | H12: Income 1 | I12: 1500 | N12: Total Income
D13: House | H13: Income 2 | I13: 500 | N13: =IF(Calc!H17=0,"-",Calc!H17) -> 2625
D14: Pets | H14: Extra Income | I14: 625
N15: Total Expenses
N16: =IFERROR(IF(LEN(INDEX(Calc!E13:F27,MATCH(Dashboard!O8,Calc!E13:E27,0),2))=0,"-",INDEX(Calc!E13:F27,MATCH(Dashboard!O8,Calc!E13:E27,0),2)),"-") -> 784
N18: Total Savings
N19: =IFERROR(IF(O8=0,"-",N13-N16),"-") -> 1841
C23: Actual Expenses | L23: Children

Sheet Expenses
D2: WEEKLY BUDGET TEMPLATE
D3: DATA INPUT
D7: Expense Summary
D8: =IF(Calc!C6=0,"",Calc!C6) -> Children | E8: W1 | F8: W2 | G8: W3 | H8: W4 | I8: W5 | J8: W6 | K8: W7 | L8: W8 | M8: W9 | N8: W10 | O8: W11 | P8: W12 | Q8: W13 | R8: W14 | S8: W15 | T8: W16 | U8: W17 | V8: W18 | W8: W19 | X8: W20 | Y8: W21 | Z8: W22 | AA8: W23 | AB8: W24 | AC8: W25 | AD8: W26 | AE8: W27 | AF8: W28 | AG8: W29 | AH8: W30 | AI8: W31 | AJ8: W32 | AK8: W33 | AL8: W34 | AM8: W35 | AN8: W36 | AO8: W37 | AP8: W38 | AQ8: W39 | AR8: W40 | AS8: W41 | AT8: W42 | AU8: W43 | AV8: W44 | AW8: W45 | AX8: W46 | AY8: W47 | AZ8: W48 | BA8: W49 | BB8: W50 | BC8: W51 | BD8: W52
D9: Extracurricular activities | E9: 40 | F9: 51
D10: Medical 1 | F10: 35
D11: School supplies | E11: 14
D12: School tuition | E12: 100
D19: =IF(Calc!C7=0,"",Calc!C7) -> Food | E19: W1 | F19: W2 | G19: W3 | H19: W4 | I19: W5 | J19: W6 | K19: W7 | L19: W8 | M19: W9 | N19: W10 | O19: W11 | P19: W12 | Q19: W13 | R19: W14 | S19: W15 | T19: W16 | U19: W17 | V19: W18 | W19: W19 | X19: W20 | Y19: W21 | Z19: W22 | AA19: W23 | AB19: W24 | AC19: W25 | AD19: W26 | AE19: W27 | AF19: W28 | AG19: W29 | AH19: W30 | AI19: W31 | AJ19: W32 | AK19: W33 | AL19: W34 | AM19: W35 | AN19: W36 | AO19: W37 | AP19: W38 | AQ19: W39 | AR19: W40 | AS19: W41 | AT19: W42 | AU19: W43 | AV19: W44 | AW19: W45 | AX19: W46 | AY19: W47 | AZ19: W48 | BA19: W49 | BB19: W50 | BC19: W51 | BD19: W52
D20: Dining out | E20: 200
D21: Groceries | E21: 100 | F21: 237
D30: =IF(Calc!C8=0,"",Calc!C8) -> House | E30: W1 | F30: W2 | G30: W3 | H30: W4 | I30: W5 | J30: W6 | K30: W7 | L30: W8 | M30: W9 | N30: W10 | O30: W11 | P30: W12 | Q30: W13 | R30: W14 | S30: W15 | T30: W16 | U30: W17 | V30: W18 | W30: W19 | X30: W20 | Y30: W21 | Z30: W22 | AA30: W23 | AB30: W24 | AC30: W25 | AD30: W26 | AE30: W27 | AF30: W28 | AG30: W29 | AH30: W30 | AI30: W31 | AJ30: W32 | AK30: W33 | AL30: W34 | AM30: W35 | AN30: W36 | AO30: W37 | AP30: W38 | AQ30: W39 | AR30: W40 | AS30: W41 | AT30: W42 | AU30: W43 | AV30: W44 | AW30: W45 | AX30: W46 | AY30: W47 | AZ30: W48 | BA30: W49 | BB30: W50 | BC30: W51 | BD30: W52
D31: House cleaning service | E31: 100 | F31: 100
D32: Maintenance | E32: 100
D33: Water and sewer | E33: 60 | F33: 60
D34: Waste removal and recycle | E34: 35 | F34: 23
D41: =IF(Calc!C9=0,"",Calc!C9) -> Pets | E41: W1 | F41: W2 | G41: W3 | H41: W4 | I41: W5 | J41: W6 | K41: W7 | L41: W8 | M41: W9 | N41: W10 | O41: W11 | P41: W12 | Q41: W13 | R41: W14 | S41: W15 | T41: W16 | U41: W17 | V41: W18 | W41: W19 | X41: W20 | Y41: W21 | Z41: W22 | AA41: W23 | AB41: W24 | AC41: W25 | AD41: W26 | AE41: W27 | AF41: W28 | AG41: W29 | AH41: W30 | AI41: W31 | AJ41: W32 | AK41: W33 | AL41: W34 | AM41: W35 | AN41: W36 | AO41: W37 | AP41: W38 | AQ41: W39 | AR41: W40 | AS41: W41 | AT41: W42 | AU41: W43 | AV41: W44 | AW41: W45 | AX41: W46 | AY41: W47 | AZ41: W48 | BA41: W49 | BB41: W50 | BC41: W51 | BD41: W52
D42: Pet food | E42: 15 | F42: 15
D43: Grooming | E43: 20
D44: Medical | F44: 76
D45: Toys | F45: 11
D52: =IF(Calc!C10=0,"",Calc!C10) | E52: W1 | F52: W2 | G52: W3 | H52: W4 | I52: W5 | J52: W6 | K52: W7 | L52: W8 | M52: W9 | N52: W10 | O52: W11 | P52: W12 | Q52: W13 | R52: W14 | S52: W15 | T52: W16 | U52: W17 | V52: W18 | W52: W19 | X52: W20 | Y52: W21 | Z52: W22 | AA52: W23 | AB52: W24 | AC52: W25 | AD52: W26 | AE52: W27 | AF52: W28 | AG52: W29 | AH52: W30 | AI52: W31 | AJ52: W32 | AK52: W33 | AL52: W34 | AM52: W35 | AN52: W36 | AO52: W37 | AP52: W38 | AQ52: W39 | AR52: W40 | AS52: W41 | AT52: W42 | AU52: W43 | AV52: W44 | AW52: W45 | AX52: W46 | AY52: W47 | AZ52: W48 | BA52: W49 | BB52: W50 | BC52: W51 | BD52: W52
E63: W1 | F63: W2 | G63: W3 | H63: W4 | I63: W5 | J63: W6 | K63: W7 | L63: W8 | M63: W9 | N63: W10 | O63: W11 | P63: W12 | Q63: W13 | R63: W14 | S63: W15 | T63: W16 | U63: W17 | V63: W18 | W63: W19 | X63: W20 | Y63: W21 | Z63: W22 | AA63: W23 | AB63: W24 | AC63: W25 | AD63: W26 | AE63: W27 | AF63: W28 | AG63: W29 | AH63: W30 | AI63: W31 | AJ63: W32 | AK63: W33 | AL63: W34 | AM63: W35 | AN63: W36 | AO63: W37 | AP63: W38 | AQ63: W39 | AR63: W40 | AS63: W41 | AT63: W42 | AU63: W43 | AV63: W44 | AW63: W45 | AX63: W46 | AY63: W47 | AZ63: W48 | BA63: W49 | BB63: W50 | BC63: W51 | BD63: W52
E74: W1 | F74: W2 | G74: W3 | H74: W4 | I74: W5 | J74: W6 | K74: W7 | L74: W8 | M74: W9 | N74: W10 | O74: W11 | P74: W12 | Q74: W13 | R74: W14 | S74: W15 | T74: W16 | U74: W17 | V74: W18 | W74: W19 | X74: W20 | Y74: W21 | Z74: W22 | AA74: W23 | AB74: W24 | AC74: W25 | AD74: W26 | AE74: W27 | AF74: W28 | AG74: W29 | AH74: W30 | AI74: W31 | AJ74: W32 | AK74: W33 | AL74: W34 | AM74: W35 | AN74: W36 | AO74: W37 | AP74: W38 | AQ74: W39 | AR74: W40 | AS74: W41 | AT74: W42 | AU74: W43 | AV74: W44 | AW74: W45 | AX74: W46 | AY74: W47 | AZ74: W48 | BA74: W49 | BB74: W50 | BC74: W51 | BD74: W52
E85: W1 | F85: W2 | G85: W3 | H85: W4 | I85: W5 | J85: W6 | K85: W7 | L85: W8 | M85: W9 | N85: W10 | O85: W11 | P85: W12 | Q85: W13 | R85: W14 | S85: W15 | T85: W16 | U85: W17 | V85: W18 | W85: W19 | X85: W20 | Y85: W21 | Z85: W22 | AA85: W23 | AB85: W24 | AC85: W25 | AD85: W26 | AE85: W27 | AF85: W28 | AG85: W29 | AH85: W30 | AI85: W31 | AJ85: W32 | AK85: W33 | AL85: W34 | AM85: W35 | AN85: W36 | AO85: W37 | AP85: W38 | AQ85: W39 | AR85: W40 | AS85: W41 | AT85: W42 | AU85: W43 | AV85: W44 | AW85: W45 | AX85: W46 | AY85: W47 | AZ85: W48 | BA85: W49 | BB85: W50 | BC85: W51 | BD85: W52
E96: W1 | F96: W2 | G96: W3 | H96: W4 | I96: W5 | J96: W6 | K96: W7 | L96: W8 | M96: W9 | N96: W10 | O96: W11 | P96: W12 | Q96: W13 | R96: W14 | S96: W15 | T96: W16 | U96: W17 | V96: W18 | W96: W19 | X96: W20 | Y96: W21 | Z96: W22 | AA96: W23 | AB96: W24 | AC96: W25 | AD96: W26 | AE96: W27 | AF96: W28 | AG96: W29 | AH96: W30 | AI96: W31 | AJ96: W32 | AK96: W33 | AL96: W34 | AM96: W35 | AN96: W36 | AO96: W37 | AP96: W38 | AQ96: W39 | AR96: W40 | AS96: W41 | AT96: W42 | AU96: W43 | AV96: W44 | AW96: W45 | AX96: W46 | AY96: W47 | AZ96: W48 | BA96: W49 | BB96: W50 | BC96: W51 | BD96: W52
E107: W1 | F107: W2 | G107: W3 | H107: W4 | I107: W5 | J107: W6 | K107: W7 | L107: W8 | M107: W9 | N107: W10 | O107: W11 | P107: W12 | Q107: W13 | R107: W14 | S107: W15 | T107: W16 | U107: W17 | V107: W18 | W107: W19 | X107: W20 | Y107: W21 | Z107: W22 | AA107: W23 | AB107: W24 | AC107: W25 | AD107: W26 | AE107: W27 | AF107: W28 | AG107: W29 | AH107: W30 | AI107: W31 | AJ107: W32 | AK107: W33 | AL107: W34 | AM107: W35 | AN107: W36 | AO107: W37 | AP107: W38 | AQ107: W39 | AR107: W40 | AS107: W41 | AT107: W42 | AU107: W43 | AV107: W44 | AW107: W45 | AX107: W46 | AY107: W47 | AZ107: W48 | BA107: W49 | BB107: W50 | BC107: W51 | BD107: W52

Sheet Calc
G3: =MAX(COUNTA(G6:G10)-COUNTBLANK(G6:G10),1) -> 4 | H3: =MAX(COUNTA(H6:H10)-COUNTBLANK(H6:H10),1) -> 4
C4: =MAX(COUNTA(C6:C10)-COUNTBLANK(C6:C10),1) -> 4 | D4: =IF(Dashboard!$O$8=0,"",Dashboard!$O$8) -> W1 | G4: CHART | K4: =MAX(COUNTA(K6:K10)-COUNTBLANK(K6:K10),1) -> 4 | L4: =MAX(COUNTA(L6:L10)-COUNTBLANK(L6:L10),1) -> 4 | M4: =MAX(COUNTA(M6:M10)-COUNTBLANK(M6:M10),1) -> 1 | N4: =MAX(COUNTA(N6:N10)-COUNTBLANK(N6:N10),1) -> 1 | O4: =MAX(COUNTA(O6:O10)-COUNTBLANK(O6:O10),1) -> 1 | P4: =MAX(COUNTA(P6:P10)-COUNTBLANK(P6:P10),1) -> 1 | Q4: =MAX(COUNTA(Q6:Q10)-COUNTBLANK(Q6:Q10),1) -> 1 | R4: =MAX(COUNTA(R6:R10)-COUNTBLANK(R6:R10),1) -> 1 | ... Y4: =MAX(COUNTA(Y6:Y10)-COUNTBLANK(Y6:Y10),1) -> 1
B5: S | C5: No Dub | D5: $ | E5: Rank | F5: Rank Adj | G5: Sorted Cat. | H5: $ | J5: Cat. | K5: W1 | L5: W2 | M5: W3 | N5: W4 | O5: W5 | P5: W6 | Q5: W7 | R5: W8 | S5: W9 | T5: W10 | U5: W11 | V5: W12 | W5: W13 | X5: W14 | Y5: W15
A6: 1 | B6: =IF(Dashboard!D11=0,"",Dashboard!D11) -> Children | C6: {=IFERROR(INDEX($B$6:$B$10,MATCH(0,INDEX((LEN($B$6:$B$10)=0)+COUNTIF($C$5:$C5,$B$6:$B$10),0),0)),"")} -> Children | D6: =IFERROR(INDEX($K$6:$AC$10,MATCH(C6,$J$6:$J$10,0),MATCH($D$4,$K$5:$AC$5,0)),"") -> 154 | E6: =IFERROR(IF(LEN(D6)=0,"",+RANK(D6,$D$6:$D$10,0)),"") -> 3 | F6: =IFERROR(IF(LEN(E6)=0,"",+COUNTIF($E$6:$E6,$E6)+E6-1),"") -> 3 | G6: =IFERROR(INDEX($C$6:$C$10,MATCH(A6,$F$6:$F$10,0)),"") -> Food | H6: =IFERROR(INDEX($C$6:$D$10,MATCH(G6,$C$6:$C$10,0),2),"") -> 300 | J6: =IF(Expenses!D8=0,"",Expenses!D8) -> Children | K6: =IF(SUM(Expenses!E9:E18)=0,"",SUM(Expenses!E9:E18)) -> 154 | L6: =IF(SUM(Expenses!F9:F18)=0,"",SUM(Expenses!F9:F18)) -> 86 | M6: =IF(SUM(Expenses!G9:G18)=0,"",SUM(Expenses!G9:G18)) | N6: =IF(SUM(Expenses!H9:H18)=0,"",SUM(Expenses!H9:H18)) | O6: =IF(SUM(Expenses!I9:I18)=0,"",SUM(Expenses!I9:I18)) | P6: =IF(SUM(Expenses!J9:J18)=0,"",SUM(Expenses!J9:J18)) | Q6: =IF(SUM(Expenses!K9:K18)=0,"",SUM(Expenses!K9:K18)) | R6: =IF(SUM(Expenses!L9:L18)=0,"",SUM(Expenses!L9:L18)) | ... Y6: =IF(SUM(Expenses!S9:S18)=0,"",SUM(Expenses!S9:S18))
A7: 2 | B7: =IF(Dashboard!D12=0,"",Dashboard!D12) -> Food | C7: {=IFERROR(INDEX($B$6:$B$10,MATCH(0,INDEX((LEN($B$6:$B$10)=0)+COUNTIF($C$5:$C6,$B$6:$B$10),0),0)),"")} -> Food | D7: =IFERROR(INDEX($K$6:$AC$10,MATCH(C7,$J$6:$J$10,0),MATCH($D$4,$K$5:$AC$5,0)),"") -> 300 | E7: =IFERROR(IF(LEN(D7)=0,"",+RANK(D7,$D$6:$D$10,0)),"") -> 1 | F7: =IFERROR(IF(LEN(E7)=0,"",+COUNTIF($E$6:$E7,$E7)+E7-1),"") -> 1 | G7: =IFERROR(INDEX($C$6:$C$10,MATCH(A7,$F$6:$F$10,0)),"") -> House | H7: =IFERROR(INDEX($C$6:$D$10,MATCH(G7,$C$6:$C$10,0),2),"") -> 295 | J7: =IF(Expenses!D19=0,"",Expenses!D19) -> Food | K7: =IF(SUM(Expenses!E20:E29)=0,"",SUM(Expenses!E20:E29)) -> 300 | L7: =IF(SUM(Expenses!F20:F29)=0,"",SUM(Expenses!F20:F29)) -> 237 | M7: =IF(SUM(Expenses!G20:G29)=0,"",SUM(Expenses!G20:G29)) | N7: =IF(SUM(Expenses!H20:H29)=0,"",SUM(Expenses!H20:H29)) | O7: =IF(SUM(Expenses!I20:I29)=0,"",SUM(Expenses!I20:I29)) | P7: =IF(SUM(Expenses!J20:J29)=0,"",SUM(Expenses!J20:J29)) | Q7: =IF(SUM(Expenses!K20:K29)=0,"",SUM(Expenses!K20:K29)) | R7: =IF(SUM(Expenses!L20:L29)=0,"",SUM(Expenses!L20:L29)) | ... Y7: =IF(SUM(Expenses!S20:S29)=0,"",SUM(Expenses!S20:S29))
A8: 3 | B8: =IF(Dashboard!D13=0,"",Dashboard!D13) -> House | C8: {=IFERROR(INDEX($B$6:$B$10,MATCH(0,INDEX((LEN($B$6:$B$10)=0)+COUNTIF($C$5:$C7,$B$6:$B$10),0),0)),"")} -> House | D8: =IFERROR(INDEX($K$6:$AC$10,MATCH(C8,$J$6:$J$10,0),MATCH($D$4,$K$5:$AC$5,0)),"") -> 295 | E8: =IFERROR(IF(LEN(D8)=0,"",+RANK(D8,$D$6:$D$10,0)),"") -> 2 | F8: =IFERROR(IF(LEN(E8)=0,"",+COUNTIF($E$6:$E8,$E8)+E8-1),"") -> 2 | G8: =IFERROR(INDEX($C$6:$C$10,MATCH(A8,$F$6:$F$10,0)),"") -> Children | H8: =IFERROR(INDEX($C$6:$D$10,MATCH(G8,$C$6:$C$10,0),2),"") -> 154 | J8: =IF(Expenses!D30=0,"",Expenses!D30) -> House | K8: =IF(SUM(Expenses!E31:E40)=0,"",SUM(Expenses!E31:E40)) -> 295 | L8: =IF(SUM(Expenses!F31:F40)=0,"",SUM(Expenses!F31:F40)) -> 183 | M8: =IF(SUM(Expenses!G31:G40)=0,"",SUM(Expenses!G31:G40)) | N8: =IF(SUM(Expenses!H31:H40)=0,"",SUM(Expenses!H31:H40)) | O8: =IF(SUM(Expenses!I31:I40)=0,"",SUM(Expenses!I31:I40)) | P8: =IF(SUM(Expenses!J31:J40)=0,"",SUM(Expenses!J31:J40)) | Q8: =IF(SUM(Expenses!K31:K40)=0,"",SUM(Expenses!K31:K40)) | R8: =IF(SUM(Expenses!L31:L40)=0,"",SUM(Expenses!L31:L40)) | ... Y8: =IF(SUM(Expenses!S31:S40)=0,"",SUM(Expenses!S31:S40))
A9: 4 | B9: =IF(Dashboard!D14=0,"",Dashboard!D14) -> Pets | C9: {=IFERROR(INDEX($B$6:$B$10,MATCH(0,INDEX((LEN($B$6:$B$10)=0)+COUNTIF($C$5:$C8,$B$6:$B$10),0),0)),"")} -> Pets | D9: =IFERROR(INDEX($K$6:$AC$10,MATCH(C9,$J$6:$J$10,0),MATCH($D$4,$K$5:$AC$5,0)),"") -> 35 | E9: =IFERROR(IF(LEN(D9)=0,"",+RANK(D9,$D$6:$D$10,0)),"") -> 4 | F9: =IFERROR(IF(LEN(E9)=0,"",+COUNTIF($E$6:$E9,$E9)+E9-1),"") -> 4 | G9: =IFERROR(INDEX($C$6:$C$10,MATCH(A9,$F$6:$F$10,0)),"") -> Pets | H9: =IFERROR(INDEX($C$6:$D$10,MATCH(G9,$C$6:$C$10,0),2),"") -> 35 | J9: =IF(Expenses!D41=0,"",Expenses!D41) -> Pets | K9: =IF(SUM(Expenses!E42:E51)=0,"",SUM(Expenses!E42:E51)) -> 35 | L9: =IF(SUM(Expenses!F42:F51)=0,"",SUM(Expenses!F42:F51)) -> 102 | M9: =IF(SUM(Expenses!G42:G51)=0,"",SUM(Expenses!G42:G51)) | N9: =IF(SUM(Expenses!H42:H51)=0,"",SUM(Expenses!H42:H51)) | O9: =IF(SUM(Expenses!I42:I51)=0,"",SUM(Expenses!I42:I51)) | P9: =IF(SUM(Expenses!J42:J51)=0,"",SUM(Expenses!J42:J51)) | Q9: =IF(SUM(Expenses!K42:K51)=0,"",SUM(Expenses!K42:K51)) | R9: =IF(SUM(Expenses!L42:L51)=0,"",SUM(Expenses!L42:L51)) | ... Y9: =IF(SUM(Expenses!S42:S51)=0,"",SUM(Expenses!S42:S51))
A10: 5 | B10: =IF(Dashboard!D15=0,"",Dashboard!D15) | C10: {=IFERROR(INDEX($B$6:$B$10,MATCH(0,INDEX((LEN($B$6:$B$10)=0)+COUNTIF($C$5:$C9,$B$6:$B$10),0),0)),"")} | D10: =IFERROR(INDEX($K$6:$AC$10,MATCH(C10,$J$6:$J$10,0),MATCH($D$4,$K$5:$AC$5,0)),"") | E10: =IFERROR(IF(LEN(D10)=0,"",+RANK(D10,$D$6:$D$10,0)),"") | F10: =IFERROR(IF(LEN(E10)=0,"",+COUNTIF($E$6:$E10,$E10)+E10-1),"") | G10: =IFERROR(INDEX($C$6:$C$10,MATCH(A10,$F$6:$F$10,0)),"") | H10: =IFERROR(INDEX($C$6:$D$10,MATCH(G10,$C$6:$C$10,0),2),"") | J10: =IF(Expenses!D52=0,"",Expenses!D52) | K10: =IF(SUM(Expenses!E53:E62)=0,"",SUM(Expenses!E53:E62)) | L10: =IF(SUM(Expenses!F53:F62)=0,"",SUM(Expenses!F53:F62)) | M10: =IF(SUM(Expenses!G53:G62)=0,"",SUM(Expenses!G53:G62)) | N10: =IF(SUM(Expenses!H53:H62)=0,"",SUM(Expenses!H53:H62)) | O10: =IF(SUM(Expenses!I53:I62)=0,"",SUM(Expenses!I53:I62)) | P10: =IF(SUM(Expenses!J53:J62)=0,"",SUM(Expenses!J53:J62)) | Q10: =IF(SUM(Expenses!K53:K62)=0,"",SUM(Expenses!K53:K62)) | R10: =IF(SUM(Expenses!L53:L62)=0,"",SUM(Expenses!L53:L62)) | ... Y10: =IF(SUM(Expenses!S53:S62)=0,"",SUM(Expenses!S53:S62))
C12: weeks_dd | E12: Weeks | F12: Total | H12: Income Summary | N12: =IF(Expenses!D8=0,"",Expenses!D8) -> Children | O12: W1 | P12: W2 | Q12: W3 | R12: W4 | S12: W5 | T12: W6 | U12: W7 | V12: W8 | W12: W9 | X12: W10 | Y12: W11 | Z12: W12 | AA12: W13 | AB12: W14 | AC12: W15
B13: =MAX(COUNTA(C13:C27)-COUNTBLANK(C13:C27),1) -> 2 | C13: =IF(LEN(F13)=0,"",E13) -> W1 | E13: W1 | F13: =IF(SUM(K$6:K$10)=0,"",SUM(K$6:K$10)) -> 784 | H13: =IFERROR(Dashboard!I12,"") -> 1500 | I13: 1 | J13: {=IFERROR(IF(LEN($L$28)=0,"",INDEX($N$12:$N$66,MATCH($L$28,$N$12:$N$66,0)+I13,1)),"")} -> Extracurricular activities | K13: =IFERROR(L13/$L$23,"") -> 0.25974026 | L13: =IFERROR(INDEX($N$13:$AC$66,MATCH(J13,$N$13:$N$66,0),MATCH($L$29,$N$12:$AC$12,0)),"") -> 40 | N13: =IF(Expenses!D9=0,"",Expenses!D9) -> Extracurricular activities | O13: =IF(Expenses!E9=0,"",Expenses!E9) -> 40 | P13: =IF(Expenses!F9=0,"",Expenses!F9) -> 51 | Q13: =IF(Expenses!G9=0,"",Expenses!G9) | R13: =IF(Expenses!H9=0,"",Expenses!H9) | S13: =IF(Expenses!I9=0,"",Expenses!I9) | T13: =IF(Expenses!J9=0,"",Expenses!J9) | U13: =IF(Expenses!K9=0,"",Expenses!K9) | ... AC13: =IF(Expenses!S9=0,"",Expenses!S9)
C14: =IF(LEN(F14)=0,"",E14) -> W2 | E14: W2 | F14: =IF(SUM(L$6:L$10)=0,"",SUM(L$6:L$10)) -> 608 | H14: =IFERROR(Dashboard!I13,"") -> 500 | I14: 2 | J14: {=IFERROR(IF(LEN($L$28)=0,"",INDEX($N$12:$N$66,MATCH($L$28,$N$12:$N$66,0)+I14,1)),"")} -> Medical 1 | K14: =IFERROR(L14/$L$23,"") | L14: =IFERROR(INDEX($N$13:$AC$66,MATCH(J14,$N$13:$N$66,0),MATCH($L$29,$N$12:$AC$12,0)),"") | N14: =IF(Expenses!D10=0,"",Expenses!D10) -> Medical 1 | O14: =IF(Expenses!E10=0,"",Expenses!E10) | P14: =IF(Expenses!F10=0,"",Expenses!F10) -> 35 | Q14: =IF(Expenses!G10=0,"",Expenses!G10) | R14: =IF(Expenses!H10=0,"",Expenses!H10) | S14: =IF(Expenses!I10=0,"",Expenses!I10) | T14: =IF(Expenses!J10=0,"",Expenses!J10) | U14: =IF(Expenses!K10=0,"",Expenses!K10) | ... AC14: =IF(Expenses!S10=0,"",Expenses!S10)
C15: =IF(LEN(F15)=0,"",E15) | E15: W3 | F15: =IF(SUM(M$6:M$10)=0,"",SUM(M$6:M$10)) | H15: =IFERROR(Dashboard!I14,"") -> 625 | I15: 3 | J15: {=IFERROR(IF(LEN($L$28)=0,"",INDEX($N$12:$N$66,MATCH($L$28,$N$12:$N$66,0)+I15,1)),"")} -> School supplies | K15: =IFERROR(L15/$L$23,"") -> 0.090909091 | L15: =IFERROR(INDEX($N$13:$AC$66,MATCH(J15,$N$13:$N$66,0),MATCH($L$29,$N$12:$AC$12,0)),"") -> 14 | N15: =IF(Expenses!D11=0,"",Expenses!D11) -> School supplies | O15: =IF(Expenses!E11=0,"",Expenses!E11) -> 14 | P15: =IF(Expenses!F11=0,"",Expenses!F11) | Q15: =IF(Expenses!G11=0,"",Expenses!G11) | R15: =IF(Expenses!H11=0,"",Expenses!H11) | S15: =IF(Expenses!I11=0,"",Expenses!I11) | T15: =IF(Expenses!J11=0,"",Expenses!J11) | U15: =IF(Expenses!K11=0,"",Expenses!K11) | ... AC15: =IF(Expenses!S11=0,"",Expenses!S11)
C16: =IF(LEN(F16)=0,"",E16) | E16: W4 | F16: =IF(SUM(N$6:N$10)=0,"",SUM(N$6:N$10)) | H16: =IFERROR(Dashboard!I15,"") -> 0 | I16: 4 | J16: {=IFERROR(IF(LEN($L$28)=0,"",INDEX($N$12:$N$66,MATCH($L$28,$N$12:$N$66,0)+I16,1)),"")} -> School tuition | K16: =IFERROR(L16/$L$23,"") -> 0.64935065 | L16: =IFERROR(INDEX($N$13:$AC$66,MATCH(J16,$N$13:$N$66,0),MATCH($L$29,$N$12:$AC$12,0)),"") -> 100 | N16: =IF(Expenses!D12=0,"",Expenses!D12) -> School tuition | O16: =IF(Expenses!E12=0,"",Expenses!E12) -> 100 | P16: =IF(Expenses!F12=0,"",Expenses!F12) | Q16: =IF(Expenses!G12=0,"",Expenses!G12) | R16: =IF(Expenses!H12=0,"",Expenses!H12) | S16: =IF(Expenses!I12=0,"",Expenses!I12) | T16: =IF(Expenses!J12=0,"",Expenses!J12) | U16: =IF(Expenses!K12=0,"",Expenses!K12) | ... AC16: =IF(Expenses!S12=0,"",Expenses!S12)
C17: =IF(LEN(F17)=0,"",E17) | E17: W5 | F17: =IF(SUM(O$6:O$10)=0,"",SUM(O$6:O$10)) | H17: =SUM(H13:H16) -> 2625 | I17: 5 | J17: {=IFERROR(IF(LEN($L$28)=0,"",INDEX($N$12:$N$66,MATCH($L$28,$N$12:$N$66,0)+I17,1)),"")} | K17: =IFERROR(L17/$L$23,"") | L17: =IFERROR(INDEX($N$13:$AC$66,MATCH(J17,$N$13:$N$66,0),MATCH($L$29,$N$12:$AC$12,0)),"") | N17: =IF(Expenses!D13=0,"",Expenses!D13) | O17: =IF(Expenses!E13=0,"",Expenses!E13) | P17: =IF(Expenses!F13=0,"",Expenses!F13) | Q17: =IF(Expenses!G13=0,"",Expenses!G13) | R17: =IF(Expenses!H13=0,"",Expenses!H13) | S17: =IF(Expenses!I13=0,"",Expenses!I13) | T17: =IF(Expenses!J13=0,"",Expenses!J13) | U17: =IF(Expenses!K13=0,"",Expenses!K13) | ... AC17: =IF(Expenses!S13=0,"",Expenses!S13)
C18: =IF(LEN(F18)=0,"",E18) | E18: W6 | F18: =IF(SUM(P$6:P$10)=0,"",SUM(P$6:P$10)) | I18: 6 | J18: {=IFERROR(IF(LEN($L$28)=0,"",INDEX($N$12:$N$66,MATCH($L$28,$N$12:$N$66,0)+I18,1)),"")} | K18: =IFERROR(L18/$L$23,"") | L18: =IFERROR(INDEX($N$13:$AC$66,MATCH(J18,$N$13:$N$66,0),MATCH($L$29,$N$12:$AC$12,0)),"") | N18: =IF(Expenses!D14=0,"",Expenses!D14) | O18: =IF(Expenses!E14=0,"",Expenses!E14) | P18: =IF(Expenses!F14=0,"",Expenses!F14) | Q18: =IF(Expenses!G14=0,"",Expenses!G14) | R18: =IF(Expenses!H14=0,"",Expenses!H14) | S18: =IF(Expenses!I14=0,"",Expenses!I14) | T18: =IF(Expenses!J14=0,"",Expenses!J14) | U18: =IF(Expenses!K14=0,"",Expenses!K14) | ... AC18: =IF(Expenses!S14=0,"",Expenses!S14)
C19: =IF(LEN(F19)=0,"",E19) | E19: W7 | F19: =IF(SUM(Q$6:Q$10)=0,"",SUM(Q$6:Q$10)) | I19: 7 | J19: {=IFERROR(IF(LEN($L$28)=0,"",INDEX($N$12:$N$66,MATCH($L$28,$N$12:$N$66,0)+I19,1)),"")} | K19: =IFERROR(L19/$L$23,"") | L19: =IFERROR(INDEX($N$13:$AC$66,MATCH(J19,$N$13:$N$66,0),MATCH($L$29,$N$12:$AC$12,0)),"") | N19: =IF(Expenses!D15=0,"",Expenses!D15) | O19: =IF(Expenses!E15=0,"",Expenses!E15) | P19: =IF(Expenses!F15=0,"",Expenses!F15) | Q19: =IF(Expenses!G15=0,"",Expenses!G15) | R19: =IF(Expenses!H15=0,"",Expenses!H15) | S19: =IF(Expenses!I15=0,"",Expenses!I15) | T19: =IF(Expenses!J15=0,"",Expenses!J15) | U19: =IF(Expenses!K15=0,"",Expenses!K15) | ... AC19: =IF(Expenses!S15=0,"",Expenses!S15)
C20: =IF(LEN(F20)=0,"",E20) | E20: W8 | F20: =IF(SUM(R$6:R$10)=0,"",SUM(R$6:R$10)) | I20: 8 | J20: {=IFERROR(IF(LEN($L$28)=0,"",INDEX($N$12:$N$66,MATCH($L$28,$N$12:$N$66,0)+I20,1)),"")} | K20: =IFERROR(L20/$L$23,"") | L20: =IFERROR(INDEX($N$13:$AC$66,MATCH(J20,$N$13:$N$66,0),MATCH($L$29,$N$12:$AC$12,0)),"") | N20: =IF(Expenses!D16=0,"",Expenses!D16) | O20: =IF(Expenses!E16=0,"",Expenses!E16) | P20: =IF(Expenses!F16=0,"",Expenses!F16) | Q20: =IF(Expenses!G16=0,"",Expenses!G16) | R20: =IF(Expenses!H16=0,"",Expenses!H16) | S20: =IF(Expenses!I16=0,"",Expenses!I16) | T20: =IF(Expenses!J16=0,"",Expenses!J16) | U20: =IF(Expenses!K16=0,"",Expenses!K16) | ... AC20: =IF(Expenses!S16=0,"",Expenses!S16)
C21: =IF(LEN(F21)=0,"",E21) | E21: W9 | F21: =IF(SUM(S$6:S$10)=0,"",SUM(S$6:S$10)) | I21: 9 | J21: {=IFERROR(IF(LEN($L$28)=0,"",INDEX($N$12:$N$66,MATCH($L$28,$N$12:$N$66,0)+I21,1)),"")} | K21: =IFERROR(L21/$L$23,"") | L21: =IFERROR(INDEX($N$13:$AC$66,MATCH(J21,$N$13:$N$66,0),MATCH($L$29,$N$12:$AC$12,0)),"") | N21: =IF(Expenses!D17=0,"",Expenses!D17) | O21: =IF(Expenses!E17=0,"",Expenses!E17) | P21: =IF(Expenses!F17=0,"",Expenses!F17) | Q21: =IF(Expenses!G17=0,"",Expenses!G17) | R21: =IF(Expenses!H17=0,"",Expenses!H17) | S21: =IF(Expenses!I17=0,"",Expenses!I17) | T21: =IF(Expenses!J17=0,"",Expenses!J17) | U21: =IF(Expenses!K17=0,"",Expenses!K17) | ... AC21: =IF(Expenses!S17=0,"",Expenses!S17)
C22: =IF(LEN(F22)=0,"",E22) | E22: W10 | F22: =IF(SUM(T$6:T$10)=0,"",SUM(T$6:T$10)) | I22: 10 | J22: {=IFERROR(IF(LEN($L$28)=0,"",INDEX($N$12:$N$66,MATCH($L$28,$N$12:$N$66,0)+I22,1)),"")} | K22: =IFERROR(L22/$L$23,"") | L22: =IFERROR(INDEX($N$13:$AC$66,MATCH(J22,$N$13:$N$66,0),MATCH($L$29,$N$12:$AC$12,0)),"") | N22: =IF(Expenses!D18=0,"",Expenses!D18) | O22: =IF(Expenses!E18=0,"",Expenses!E18) | P22: =IF(Expenses!F18=0,"",Expenses!F18) | Q22: =IF(Expenses!G18=0,"",Expenses!G18) | R22: =IF(Expenses!H18=0,"",Expenses!H18) | S22: =IF(Expenses!I18=0,"",Expenses!I18) | T22: =IF(Expenses!J18=0,"",Expenses!J18) | U22: =IF(Expenses!K18=0,"",Expenses!K18) | ... AC22: =IF(Expenses!S18=0,"",Expenses!S18)
C23: =IF(LEN(F23)=0,"",E23) | E23: W11 | F23: =IF(SUM(U$6:U$10)=0,"",SUM(U$6:U$10)) | L23: =IF(SUM($L$13:$L$22)=0,"",SUM($L$13:$L$22)) -> 154 | N23: =IF(Expenses!D19=0,"",Expenses!D19) -> Food | O23: W1 | P23: W2 | Q23: W3 | R23: W4 | S23: W5 | T23: W6 | U23: W7 | V23: W8 | W23: W9 | X23: W10 | Y23: W11 | Z23: W12 | AA23: W13 | AB23: W14 | AC23: W15
C24: =IF(LEN(F24)=0,"",E24) | E24: W12 | F24: =IF(SUM(V$6:V$10)=0,"",SUM(V$6:V$10)) | N24: =IF(Expenses!D20=0,"",Expenses!D20) -> Dining out | O24: =IF(Expenses!E20=0,"",Expenses!E20) -> 200 | P24: =IF(Expenses!F20=0,"",Expenses!F20) | Q24: =IF(Expenses!G20=0,"",Expenses!G20) | R24: =IF(Expenses!H20=0,"",Expenses!H20) | S24: =IF(Expenses!I20=0,"",Expenses!I20) | T24: =IF(Expenses!J20=0,"",Expenses!J20) | U24: =IF(Expenses!K20=0,"",Expenses!K20) | ... AC24: =IF(Expenses!S20=0,"",Expenses!S20)
C25: =IF(LEN(F25)=0,"",E25) | E25: W13 | F25: =IF(SUM(W$6:W$10)=0,"",SUM(W$6:W$10)) | N25: =IF(Expenses!D21=0,"",Expenses!D21) -> Groceries | O25: =IF(Expenses!E21=0,"",Expenses!E21) -> 100 | P25: =IF(Expenses!F21=0,"",Expenses!F21) -> 237 | Q25: =IF(Expenses!G21=0,"",Expenses!G21) | R25: =IF(Expenses!H21=0,"",Expenses!H21) | S25: =IF(Expenses!I21=0,"",Expenses!I21) | T25: =IF(Expenses!J21=0,"",Expenses!J21) | U25: =IF(Expenses!K21=0,"",Expenses!K21) | ... AC25: =IF(Expenses!S21=0,"",Expenses!S21)
C26: =IF(LEN(F26)=0,"",E26) | E26: W14 | F26: =IF(SUM(X$6:X$10)=0,"",SUM(X$6:X$10)) | N26: =IF(Expenses!D22=0,"",Expenses!D22) | O26: =IF(Expenses!E22=0,"",Expenses!E22) | P26: =IF(Expenses!F22=0,"",Expenses!F22) | Q26: =IF(Expenses!G22=0,"",Expenses!G22) | R26: =IF(Expenses!H22=0,"",Expenses!H22) | S26: =IF(Expenses!I22=0,"",Expenses!I22) | T26: =IF(Expenses!J22=0,"",Expenses!J22) | U26: =IF(Expenses!K22=0,"",Expenses!K22) | ... AC26: =IF(Expenses!S22=0,"",Expenses!S22)
C27: =IF(LEN(F27)=0,"",E27) | E27: W15 | F27: =IF(SUM(Y$6:Y$10)=0,"",SUM(Y$6:Y$10)) | J27: =MAX(COUNTA(J30:J39)-COUNTBLANK(J30:J39),1) -> 3 | K27: =MAX(COUNTA(K30:K39)-COUNTBLANK(K30:K39),1) -> 3 | N27: =IF(Expenses!D23=0,"",Expenses!D23) | O27: =IF(Expenses!E23=0,"",Expenses!E23) | P27: =IF(Expenses!F23=0,"",Expenses!F23) | Q27: =IF(Expenses!G23=0,"",Expenses!G23) | R27: =IF(Expenses!H23=0,"",Expenses!H23) | S27: =IF(Expenses!I23=0,"",Expenses!I23) | T27: =IF(Expenses!J23=0,"",Expenses!J23) | U27: =IF(Expenses!K23=0,"",Expenses!K23) | ... AC27: =IF(Expenses!S23=0,"",Expenses!S23)
J28: PIE CHART | L28: =IF(Dashboard!$L$23=0,"",Dashboard!$L$23) -> Children | N28: =IF(Expenses!D24=0,"",Expenses!D24) | O28: =IF(Expenses!E24=0,"",Expenses!E24) | P28: =IF(Expenses!F24=0,"",Expenses!F24) | Q28: =IF(Expenses!G24=0,"",Expenses!G24) | R28: =IF(Expenses!H24=0,"",Expenses!H24) | S28: =IF(Expenses!I24=0,"",Expenses!I24) | T28: =IF(Expenses!J24=0,"",Expenses!J24) | U28: =IF(Expenses!K24=0,"",Expenses!K24) | ... AC28: =IF(Expenses!S24=0,"",Expenses!S24)
J29: Cat | K29: $ | L29: =IF(Dashboard!$O$8=0,"",Dashboard!$O$8) -> W1 | N29: =IF(Expenses!D25=0,"",Expenses!D25) | O29: =IF(Expenses!E25=0,"",Expenses!E25) | P29: =IF(Expenses!F25=0,"",Expenses!F25) | Q29: =IF(Expenses!G25=0,"",Expenses!G25) | R29: =IF(Expenses!H25=0,"",Expenses!H25) | S29: =IF(Expenses!I25=0,"",Expenses!I25) | T29: =IF(Expenses!J25=0,"",Expenses!J25) | U29: =IF(Expenses!K25=0,"",Expenses!K25) | ... AC29: =IF(Expenses!S25=0,"",Expenses!S25)
I30: =IF(LEN(K13)=0,"",J13) -> Extracurricular activities | J30: {=IFERROR(INDEX($I$30:$I$39,MATCH(0,INDEX((LEN($I$30:$I$39)=0)+COUNTIF($J$29:$J29,$I$30:$I$39),0),0)),"")} -> Extracurricular activities | K30: =INDEX($J$13:$K$22,MATCH(J30,$J$13:$J$22,0),2) -> 0.25974026 | N30: =IF(Expenses!D26=0,"",Expenses!D26) | O30: =IF(Expenses!E26=0,"",Expenses!E26) | P30: =IF(Expenses!F26=0,"",Expenses!F26) | Q30: =IF(Expenses!G26=0,"",Expenses!G26) | R30: =IF(Expenses!H26=0,"",Expenses!H26) | S30: =IF(Expenses!I26=0,"",Expenses!I26) | T30: =IF(Expenses!J26=0,"",Expenses!J26) | U30: =IF(Expenses!K26=0,"",Expenses!K26) | ... AC30: =IF(Expenses!S26=0,"",Expenses!S26)
I31: =IF(LEN(K14)=0,"",J14) | J31: {=IFERROR(INDEX($I$30:$I$39,MATCH(0,INDEX((LEN($I$30:$I$39)=0)+COUNTIF($J$29:$J30,$I$30:$I$39),0),0)),"")} -> School supplies | K31: =INDEX($J$13:$K$22,MATCH(J31,$J$13:$J$22,0),2) -> 0.090909091 | N31: =IF(Expenses!D27=0,"",Expenses!D27) | O31: =IF(Expenses!E27=0,"",Expenses!E27) | P31: =IF(Expenses!F27=0,"",Expenses!F27) | Q31: =IF(Expenses!G27=0,"",Expenses!G27) | R31: =IF(Expenses!H27=0,"",Expenses!H27) | S31: =IF(Expenses!I27=0,"",Expenses!I27) | T31: =IF(Expenses!J27=0,"",Expenses!J27) | U31: =IF(Expenses!K27=0,"",Expenses!K27) | ... AC31: =IF(Expenses!S27=0,"",Expenses!S27)
I32: =IF(LEN(K15)=0,"",J15) -> School supplies | J32: {=IFERROR(INDEX($I$30:$I$39,MATCH(0,INDEX((LEN($I$30:$I$39)=0)+COUNTIF($J$29:$J31,$I$30:$I$39),0),0)),"")} -> School tuition | K32: =INDEX($J$13:$K$22,MATCH(J32,$J$13:$J$22,0),2) -> 0.64935065 | N32: =IF(Expenses!D28=0,"",Expenses!D28) | O32: =IF(Expenses!E28=0,"",Expenses!E28) | P32: =IF(Expenses!F28=0,"",Expenses!F28) | Q32: =IF(Expenses!G28=0,"",Expenses!G28) | R32: =IF(Expenses!H28=0,"",Expenses!H28) | S32: =IF(Expenses!I28=0,"",Expenses!I28) | T32: =IF(Expenses!J28=0,"",Expenses!J28) | U32: =IF(Expenses!K28=0,"",Expenses!K28) | ... AC32: =IF(Expenses!S28=0,"",Expenses!S28)
I33: =IF(LEN(K16)=0,"",J16) -> School tuition | J33: {=IFERROR(INDEX($I$30:$I$39,MATCH(0,INDEX((LEN($I$30:$I$39)=0)+COUNTIF($J$29:$J32,$I$30:$I$39),0),0)),"")} | K33: =INDEX($J$13:$K$22,MATCH(J33,$J$13:$J$22,0),2) | N33: =IF(Expenses!D29=0,"",Expenses!D29) | O33: =IF(Expenses!E29=0,"",Expenses!E29) | P33: =IF(Expenses!F29=0,"",Expenses!F29) | Q33: =IF(Expenses!G29=0,"",Expenses!G29) | R33: =IF(Expenses!H29=0,"",Expenses!H29) | S33: =IF(Expenses!I29=0,"",Expenses!I29) | T33: =IF(Expenses!J29=0,"",Expenses!J29) | U33: =IF(Expenses!K29=0,"",Expenses!K29) | ... AC33: =IF(Expenses!S29=0,"",Expenses!S29)
I34: =IF(LEN(K17)=0,"",J17) | J34: {=IFERROR(INDEX($I$30:$I$39,MATCH(0,INDEX((LEN($I$30:$I$39)=0)+COUNTIF($J$29:$J33,$I$30:$I$39),0),0)),"")} | K34: =INDEX($J$13:$K$22,MATCH(J34,$J$13:$J$22,0),2) | N34: =IF(Expenses!D30=0,"",Expenses!D30) -> House | O34: W1 | P34: W2 | Q34: W3 | R34: W4 | S34: W5 | T34: W6 | U34: W7 | V34: W8 | W34: W9 | X34: W10 | Y34: W11 | Z34: W12 | AA34: W13 | AB34: W14 | AC34: W15
I35: =IF(LEN(K18)=0,"",J18) | J35: {=IFERROR(INDEX($I$30:$I$39,MATCH(0,INDEX((LEN($I$30:$I$39)=0)+COUNTIF($J$29:$J34,$I$30:$I$39),0),0)),"")} | K35: =INDEX($J$13:$K$22,MATCH(J35,$J$13:$J$22,0),2) | N35: =IF(Expenses!D31=0,"",Expenses!D31) -> House cleaning service | O35: =IF(Expenses!E31=0,"",Expenses!E31) -> 100 | P35: =IF(Expenses!F31=0,"",Expenses!F31) -> 100 | Q35: =IF(Expenses!G31=0,"",Expenses!G31) | R35: =IF(Expenses!H31=0,"",Expenses!H31) | S35: =IF(Expenses!I31=0,"",Expenses!I31) | T35: =IF(Expenses!J31=0,"",Expenses!J31) | U35: =IF(Expenses!K31=0,"",Expenses!K31) | ... AC35: =IF(Expenses!S31=0,"",Expenses!S31)
I36: =IF(LEN(K19)=0,"",J19) | J36: {=IFERROR(INDEX($I$30:$I$39,MATCH(0,INDEX((LEN($I$30:$I$39)=0)+COUNTIF($J$29:$J35,$I$30:$I$39),0),0)),"")} | K36: =INDEX($J$13:$K$22,MATCH(J36,$J$13:$J$22,0),2) | N36: =IF(Expenses!D32=0,"",Expenses!D32) -> Maintenance | O36: =IF(Expenses!E32=0,"",Expenses!E32) -> 100 | P36: =IF(Expenses!F32=0,"",Expenses!F32) | Q36: =IF(Expenses!G32=0,"",Expenses!G32) | R36: =IF(Expenses!H32=0,"",Expenses!H32) | S36: =IF(Expenses!I32=0,"",Expenses!I32) | T36: =IF(Expenses!J32=0,"",Expenses!J32) | U36: =IF(Expenses!K32=0,"",Expenses!K32) | ... AC36: =IF(Expenses!S32=0,"",Expenses!S32)
I37: =IF(LEN(K20)=0,"",J20) | J37: {=IFERROR(INDEX($I$30:$I$39,MATCH(0,INDEX((LEN($I$30:$I$39)=0)+COUNTIF($J$29:$J36,$I$30:$I$39),0),0)),"")} | K37: =INDEX($J$13:$K$22,MATCH(J37,$J$13:$J$22,0),2) | N37: =IF(Expenses!D33=0,"",Expenses!D33) -> Water and sewer | O37: =IF(Expenses!E33=0,"",Expenses!E33) -> 60 | P37: =IF(Expenses!F33=0,"",Expenses!F33) -> 60 | Q37: =IF(Expenses!G33=0,"",Expenses!G33) | R37: =IF(Expenses!H33=0,"",Expenses!H33) | S37: =IF(Expenses!I33=0,"",Expenses!I33) | T37: =IF(Expenses!J33=0,"",Expenses!J33) | U37: =IF(Expenses!K33=0,"",Expenses!K33) | ... AC37: =IF(Expenses!S33=0,"",Expenses!S33)
I38: =IF(LEN(K21)=0,"",J21) | J38: {=IFERROR(INDEX($I$30:$I$39,MATCH(0,INDEX((LEN($I$30:$I$39)=0)+COUNTIF($J$29:$J37,$I$30:$I$39),0),0)),"")} | K38: =INDEX($J$13:$K$22,MATCH(J38,$J$13:$J$22,0),2) | N38: =IF(Expenses!D34=0,"",Expenses!D34) -> Waste removal and recycle | O38: =IF(Expenses!E34=0,"",Expenses!E34) -> 35 | P38: =IF(Expenses!F34=0,"",Expenses!F34) -> 23 | Q38: =IF(Expenses!G34=0,"",Expenses!G34) | R38: =IF(Expenses!H34=0,"",Expenses!H34) | S38: =IF(Expenses!I34=0,"",Expenses!I34) | T38: =IF(Expenses!J34=0,"",Expenses!J34) | U38: =IF(Expenses!K34=0,"",Expenses!K34) | ... AC38: =IF(Expenses!S34=0,"",Expenses!S34)
I39: =IF(LEN(K22)=0,"",J22) | J39: {=IFERROR(INDEX($I$30:$I$39,MATCH(0,INDEX((LEN($I$30:$I$39)=0)+COUNTIF($J$29:$J38,$I$30:$I$39),0),0)),"")} | K39: =INDEX($J$13:$K$22,MATCH(J39,$J$13:$J$22,0),2) | N39: =IF(Expenses!D35=0,"",Expenses!D35) | O39: =IF(Expenses!E35=0,"",Expenses!E35) | P39: =IF(Expenses!F35=0,"",Expenses!F35) | Q39: =IF(Expenses!G35=0,"",Expenses!G35) | R39: =IF(Expenses!H35=0,"",Expenses!H35) | S39: =IF(Expenses!I35=0,"",Expenses!I35) | T39: =IF(Expenses!J35=0,"",Expenses!J35) | U39: =IF(Expenses!K35=0,"",Expenses!K35) | ... AC39: =IF(Expenses!S35=0,"",Expenses!S35)
N40: =IF(Expenses!D36=0,"",Expenses!D36) | O40: =IF(Expenses!E36=0,"",Expenses!E36) | P40: =IF(Expenses!F36=0,"",Expenses!F36) | Q40: =IF(Expenses!G36=0,"",Expenses!G36) | R40: =IF(Expenses!H36=0,"",Expenses!H36) | S40: =IF(Expenses!I36=0,"",Expenses!I36) | T40: =IF(Expenses!J36=0,"",Expenses!J36) | U40: =IF(Expenses!K36=0,"",Expenses!K36) | ... AC40: =IF(Expenses!S36=0,"",Expenses!S36)
N41: =IF(Expenses!D37=0,"",Expenses!D37) | O41: =IF(Expenses!E37=0,"",Expenses!E37) | P41: =IF(Expenses!F37=0,"",Expenses!F37) | Q41: =IF(Expenses!G37=0,"",Expenses!G37) | R41: =IF(Expenses!H37=0,"",Expenses!H37) | S41: =IF(Expenses!I37=0,"",Expenses!I37) | T41: =IF(Expenses!J37=0,"",Expenses!J37) | U41: =IF(Expenses!K37=0,"",Expenses!K37) | ... AC41: =IF(Expenses!S37=0,"",Expenses!S37)
N42: =IF(Expenses!D38=0,"",Expenses!D38) | O42: =IF(Expenses!E38=0,"",Expenses!E38) | P42: =IF(Expenses!F38=0,"",Expenses!F38) | Q42: =IF(Expenses!G38=0,"",Expenses!G38) | R42: =IF(Expenses!H38=0,"",Expenses!H38) | S42: =IF(Expenses!I38=0,"",Expenses!I38) | T42: =IF(Expenses!J38=0,"",Expenses!J38) | U42: =IF(Expenses!K38=0,"",Expenses!K38) | ... AC42: =IF(Expenses!S38=0,"",Expenses!S38)
N43: =IF(Expenses!D39=0,"",Expenses!D39) | O43: =IF(Expenses!E39=0,"",Expenses!E39) | P43: =IF(Expenses!F39=0,"",Expenses!F39) | Q43: =IF(Expenses!G39=0,"",Expenses!G39) | R43: =IF(Expenses!H39=0,"",Expenses!H39) | S43: =IF(Expenses!I39=0,"",Expenses!I39) | T43: =IF(Expenses!J39=0,"",Expenses!J39) | U43: =IF(Expenses!K39=0,"",Expenses!K39) | ... AC43: =IF(Expenses!S39=0,"",Expenses!S39)
N44: =IF(Expenses!D40=0,"",Expenses!D40) | O44: =IF(Expenses!E40=0,"",Expenses!E40) | P44: =IF(Expenses!F40=0,"",Expenses!F40) | Q44: =IF(Expenses!G40=0,"",Expenses!G40) | R44: =IF(Expenses!H40=0,"",Expenses!H40) | S44: =IF(Expenses!I40=0,"",Expenses!I40) | T44: =IF(Expenses!J40=0,"",Expenses!J40) | U44: =IF(Expenses!K40=0,"",Expenses!K40) | ... AC44: =IF(Expenses!S40=0,"",Expenses!S40)
N45: =IF(Expenses!D41=0,"",Expenses!D41) -> Pets | O45: W1 | P45: W2 | Q45: W3 | R45: W4 | S45: W5 | T45: W6 | U45: W7 | V45: W8 | W45: W9 | X45: W10 | Y45: W11 | Z45: W12 | AA45: W13 | AB45: W14 | AC45: W15
N46: =IF(Expenses!D42=0,"",Expenses!D42) -> Pet food | O46: =IF(Expenses!E42=0,"",Expenses!E42) -> 15 | P46: =IF(Expenses!F42=0,"",Expenses!F42) -> 15 | Q46: =IF(Expenses!G42=0,"",Expenses!G42) | R46: =IF(Expenses!H42=0,"",Expenses!H42) | S46: =IF(Expenses!I42=0,"",Expenses!I42) | T46: =IF(Expenses!J42=0,"",Expenses!J42) | U46: =IF(Expenses!K42=0,"",Expenses!K42) | ... AC46: =IF(Expenses!S42=0,"",Expenses!S42)
N47: =IF(Expenses!D43=0,"",Expenses!D43) -> Grooming | O47: =IF(Expenses!E43=0,"",Expenses!E43) -> 20 | P47: =IF(Expenses!F43=0,"",Expenses!F43) | Q47: =IF(Expenses!G43=0,"",Expenses!G43) | R47: =IF(Expenses!H43=0,"",Expenses!H43) | S47: =IF(Expenses!I43=0,"",Expenses!I43) | T47: =IF(Expenses!J43=0,"",Expenses!J43) | U47: =IF(Expenses!K43=0,"",Expenses!K43) | ... AC47: =IF(Expenses!S43=0,"",Expenses!S43)
N48: =IF(Expenses!D44=0,"",Expenses!D44) -> Medical | O48: =IF(Expenses!E44=0,"",Expenses!E44) | P48: =IF(Expenses!F44=0,"",Expenses!F44) -> 76 | Q48: =IF(Expenses!G44=0,"",Expenses!G44) | R48: =IF(Expenses!H44=0,"",Expenses!H44) | S48: =IF(Expenses!I44=0,"",Expenses!I44) | T48: =IF(Expenses!J44=0,"",Expenses!J44) | U48: =IF(Expenses!K44=0,"",Expenses!K44) | ... AC48: =IF(Expenses!S44=0,"",Expenses!S44)
N49: =IF(Expenses!D45=0,"",Expenses!D45) -> Toys | O49: =IF(Expenses!E45=0,"",Expenses!E45) | P49: =IF(Expenses!F45=0,"",Expenses!F45) -> 11 | Q49: =IF(Expenses!G45=0,"",Expenses!G45) | R49: =IF(Expenses!H45=0,"",Expenses!H45) | S49: =IF(Expenses!I45=0,"",Expenses!I45) | T49: =IF(Expenses!J45=0,"",Expenses!J45) | U49: =IF(Expenses!K45=0,"",Expenses!K45) | ... AC49: =IF(Expenses!S45=0,"",Expenses!S45)
N50: =IF(Expenses!D46=0,"",Expenses!D46) | O50: =IF(Expenses!E46=0,"",Expenses!E46) | P50: =IF(Expenses!F46=0,"",Expenses!F46) | Q50: =IF(Expenses!G46=0,"",Expenses!G46) | R50: =IF(Expenses!H46=0,"",Expenses!H46) | S50: =IF(Expenses!I46=0,"",Expenses!I46) | T50: =IF(Expenses!J46=0,"",Expenses!J46) | U50: =IF(Expenses!K46=0,"",Expenses!K46) | ... AC50: =IF(Expenses!S46=0,"",Expenses!S46)
N51: =IF(Expenses!D47=0,"",Expenses!D47) | O51: =IF(Expenses!E47=0,"",Expenses!E47) | P51: =IF(Expenses!F47=0,"",Expenses!F47) | Q51: =IF(Expenses!G47=0,"",Expenses!G47) | R51: =IF(Expenses!H47=0,"",Expenses!H47) | S51: =IF(Expenses!I47=0,"",Expenses!I47) | T51: =IF(Expenses!J47=0,"",Expenses!J47) | U51: =IF(Expenses!K47=0,"",Expenses!K47) | ... AC51: =IF(Expenses!S47=0,"",Expenses!S47)
N52: =IF(Expenses!D48=0,"",Expenses!D48) | O52: =IF(Expenses!E48=0,"",Expenses!E48) | P52: =IF(Expenses!F48=0,"",Expenses!F48) | Q52: =IF(Expenses!G48=0,"",Expenses!G48) | R52: =IF(Expenses!H48=0,"",Expenses!H48) | S52: =IF(Expenses!I48=0,"",Expenses!I48) | T52: =IF(Expenses!J48=0,"",Expenses!J48) | U52: =IF(Expenses!K48=0,"",Expenses!K48) | ... AC52: =IF(Expenses!S48=0,"",Expenses!S48)
N53: =IF(Expenses!D49=0,"",Expenses!D49) | O53: =IF(Expenses!E49=0,"",Expenses!E49) | P53: =IF(Expenses!F49=0,"",Expenses!F49) | Q53: =IF(Expenses!G49=0,"",Expenses!G49) | R53: =IF(Expenses!H49=0,"",Expenses!H49) | S53: =IF(Expenses!I49=0,"",Expenses!I49) | T53: =IF(Expenses!J49=0,"",Expenses!J49) | U53: =IF(Expenses!K49=0,"",Expenses!K49) | ... AC53: =IF(Expenses!S49=0,"",Expenses!S49)
N54: =IF(Expenses!D50=0,"",Expenses!D50) | O54: =IF(Expenses!E50=0,"",Expenses!E50) | P54: =IF(Expenses!F50=0,"",Expenses!F50) | Q54: =IF(Expenses!G50=0,"",Expenses!G50) | R54: =IF(Expenses!H50=0,"",Expenses!H50) | S54: =IF(Expenses!I50=0,"",Expenses!I50) | T54: =IF(Expenses!J50=0,"",Expenses!J50) | U54: =IF(Expenses!K50=0,"",Expenses!K50) | ... AC54: =IF(Expenses!S50=0,"",Expenses!S50)
N55: =IF(Expenses!D51=0,"",Expenses!D51) | O55: =IF(Expenses!E51=0,"",Expenses!E51) | P55: =IF(Expenses!F51=0,"",Expenses!F51) | Q55: =IF(Expenses!G51=0,"",Expenses!G51) | R55: =IF(Expenses!H51=0,"",Expenses!H51) | S55: =IF(Expenses!I51=0,"",Expenses!I51) | T55: =IF(Expenses!J51=0,"",Expenses!J51) | U55: =IF(Expenses!K51=0,"",Expenses!K51) | ... AC55: =IF(Expenses!S51=0,"",Expenses!S51)
N56: =IF(Expenses!D52=0,"",Expenses!D52) | O56: W1 | P56: W2 | Q56: W3 | R56: W4 | S56: W5 | T56: W6 | U56: W7 | V56: W8 | W56: W9 | X56: W10 | Y56: W11 | Z56: W12 | AA56: W13 | AB56: W14 | AC56: W15
N57: =IF(Expenses!D53=0,"",Expenses!D53) | O57: =IF(Expenses!E53=0,"",Expenses!E53) | P57: =IF(Expenses!F53=0,"",Expenses!F53) | Q57: =IF(Expenses!G53=0,"",Expenses!G53) | R57: =IF(Expenses!H53=0,"",Expenses!H53) | S57: =IF(Expenses!I53=0,"",Expenses!I53) | T57: =IF(Expenses!J53=0,"",Expenses!J53) | U57: =IF(Expenses!K53=0,"",Expenses!K53) | ... AC57: =IF(Expenses!S53=0,"",Expenses!S53)
N58: =IF(Expenses!D54=0,"",Expenses!D54) | O58: =IF(Expenses!E54=0,"",Expenses!E54) | P58: =IF(Expenses!F54=0,"",Expenses!F54) | Q58: =IF(Expenses!G54=0,"",Expenses!G54) | R58: =IF(Expenses!H54=0,"",Expenses!H54) | S58: =IF(Expenses!I54=0,"",Expenses!I54) | T58: =IF(Expenses!J54=0,"",Expenses!J54) | U58: =IF(Expenses!K54=0,"",Expenses!K54) | ... AC58: =IF(Expenses!S54=0,"",Expenses!S54)
N59: =IF(Expenses!D55=0,"",Expenses!D55) | O59: =IF(Expenses!E55=0,"",Expenses!E55) | P59: =IF(Expenses!F55=0,"",Expenses!F55) | Q59: =IF(Expenses!G55=0,"",Expenses!G55) | R59: =IF(Expenses!H55=0,"",Expenses!H55) | S59: =IF(Expenses!I55=0,"",Expenses!I55) | T59: =IF(Expenses!J55=0,"",Expenses!J55) | U59: =IF(Expenses!K55=0,"",Expenses!K55) | ... AC59: =IF(Expenses!S55=0,"",Expenses!S55)
N60: =IF(Expenses!D56=0,"",Expenses!D56) | O60: =IF(Expenses!E56=0,"",Expenses!E56) | P60: =IF(Expenses!F56=0,"",Expenses!F56) | Q60: =IF(Expenses!G56=0,"",Expenses!G56) | R60: =IF(Expenses!H56=0,"",Expenses!H56) | S60: =IF(Expenses!I56=0,"",Expenses!I56) | T60: =IF(Expenses!J56=0,"",Expenses!J56) | U60: =IF(Expenses!K56=0,"",Expenses!K56) | ... AC60: =IF(Expenses!S56=0,"",Expenses!S56)
N61: =IF(Expenses!D57=0,"",Expenses!D57) | O61: =IF(Expenses!E57=0,"",Expenses!E57) | P61: =IF(Expenses!F57=0,"",Expenses!F57) | Q61: =IF(Expenses!G57=0,"",Expenses!G57) | R61: =IF(Expenses!H57=0,"",Expenses!H57) | S61: =IF(Expenses!I57=0,"",Expenses!I57) | T61: =IF(Expenses!J57=0,"",Expenses!J57) | U61: =IF(Expenses!K57=0,"",Expenses!K57) | ... AC61: =IF(Expenses!S57=0,"",Expenses!S57)
N62: =IF(Expenses!D58=0,"",Expenses!D58) | O62: =IF(Expenses!E58=0,"",Expenses!E58) | P62: =IF(Expenses!F58=0,"",Expenses!F58) | Q62: =IF(Expenses!G58=0,"",Expenses!G58) | R62: =IF(Expenses!H58=0,"",Expenses!H58) | S62: =IF(Expenses!I58=0,"",Expenses!I58) | T62: =IF(Expenses!J58=0,"",Expenses!J58) | U62: =IF(Expenses!K58=0,"",Expenses!K58) | ... AC62: =IF(Expenses!S58=0,"",Expenses!S58)
N63: =IF(Expenses!D59=0,"",Expenses!D59) | O63: =IF(Expenses!E59=0,"",Expenses!E59) | P63: =IF(Expenses!F59=0,"",Expenses!F59) | Q63: =IF(Expenses!G59=0,"",Expenses!G59) | R63: =IF(Expenses!H59=0,"",Expenses!H59) | S63: =IF(Expenses!I59=0,"",Expenses!I59) | T63: =IF(Expenses!J59=0,"",Expenses!J59) | U63: =IF(Expenses!K59=0,"",Expenses!K59) | ... AC63: =IF(Expenses!S59=0,"",Expenses!S59)
N64: =IF(Expenses!D60=0,"",Expenses!D60) | O64: =IF(Expenses!E60=0,"",Expenses!E60) | P64: =IF(Expenses!F60=0,"",Expenses!F60) | Q64: =IF(Expenses!G60=0,"",Expenses!G60) | R64: =IF(Expenses!H60=0,"",Expenses!H60) | S64: =IF(Expenses!I60=0,"",Expenses!I60) | T64: =IF(Expenses!J60=0,"",Expenses!J60) | U64: =IF(Expenses!K60=0,"",Expenses!K60) | ... AC64: =IF(Expenses!S60=0,"",Expenses!S60)
N65: =IF(Expenses!D61=0,"",Expenses!D61) | O65: =IF(Expenses!E61=0,"",Expenses!E61) | P65: =IF(Expenses!F61=0,"",Expenses!F61) | Q65: =IF(Expenses!G61=0,"",Expenses!G61) | R65: =IF(Expenses!H61=0,"",Expenses!H61) | S65: =IF(Expenses!I61=0,"",Expenses!I61) | T65: =IF(Expenses!J61=0,"",Expenses!J61) | U65: =IF(Expenses!K61=0,"",Expenses!K61) | ... AC65: =IF(Expenses!S61=0,"",Expenses!S61)
N66: =IF(Expenses!D62=0,"",Expenses!D62) | O66: =IF(Expenses!E62=0,"",Expenses!E62) | P66: =IF(Expenses!F62=0,"",Expenses!F62) | Q66: =IF(Expenses!G62=0,"",Expenses!G62) | R66: =IF(Expenses!H62=0,"",Expenses!H62) | S66: =IF(Expenses!I62=0,"",Expenses!I62) | T66: =IF(Expenses!J62=0,"",Expenses!J62) | U66: =IF(Expenses!K62=0,"",Expenses!K62) | ... AC66: =IF(Expenses!S62=0,"",Expenses!S62)
