Workbook

Sheet Dashboard
C2: SAVINGS INTEREST CALCULATOR
C3: DASHBOARD
C6: Assumptions | F6: Outputs
C8: Deposit amount | D8: 200000 | F8: Total interest received | G8: =IFERROR(IF(LEN($D$8)=0,"",SUM($E$16:$E$103)),"") -> 10232.38
C9: Interest rate (annual interest %) | D9: 0.05 | F9: Annual Yield | G9: =IFERROR(POWER(1+$G$8/$D$8,1/($D$12/12))-1,"") -> 0.051161898
C10: Deposit date (dd-mm-yyyy) | D10: 43635 | F10: Total principal + interest received | G10: =IFERROR(IF(LEN($D$8)=0,"",$G$8+$D$8),"") -> 210232.38
C11: Interest frequency | D11: Monthly | F11: Total number of interest dates | G11: =IFERROR($D$12/(INDEX(Lists!$B$5:$D$8,MATCH(Dashboard!$D$11,Lists!$B$5:$B$8,0),3)),"") -> 12
C12: Deposit term (duration in months) | D12: 12
C13: Interest type | D13: Compounded
C15: Payment Period | D15: Interest Due Date | E15: Interest Receivable | F15: Accumulated Interest | G15: Accumulated Deposit + Interest
C16: =IFERROR(IF(LEN(D8)=0,"","1"),"") -> 1 | D16: =IFERROR(IF(LEN(D8)=0,"",D10),"") -> 43635 | E16: =IFERROR(IF(D16="","",IF($D$13="Simple",$D$8*$D$9/12*(INDEX(Lists!$D$5:$D$8,MATCH(Dashboard!$D$11,Lists!$B$5:$B$8,0),1)),D8*$D$9/12*(INDEX(Lists!$D$5:$D$8,MATCH(Dashboard!$D$11,Lists!$B$5:$B$8,0))))),"") -> 833.33333 | F16: =IFERROR(IF(D16="","",E16),"") -> 833.33333 | G16: =IFERROR(IF(D16="","",$D$8+F16),"") -> 200833.33
C17: =IFERROR(IF(C16="","",IF(C16+1>$G$11,"",C16+1)),"") -> 2 | D17: =IFERROR(IF(C17="","",EDATE(D16,INDEX(Lists!$D$5:$D$8,MATCH(Dashboard!$D$11,Lists!$B$5:$B$8,0),1))),"") -> 43665 | E17: =IFERROR(IF(D17="","",IF($D$13="Simple",$D$8*$D$9/12*(INDEX(Lists!$D$5:$D$8,MATCH(Dashboard!$D$11,Lists!$B$5:$B$8,0),1)),G16*$D$9/12*(INDEX(Lists!$D$5:$D$8,MATCH(Dashboard!$D$11,Lists!$B$5:$B$8,0),1)))),"") -> 836.80556 | F17: =IFERROR(IF(D17="","",E17+F16),"") -> 1670.1389 | G17: =IFERROR(IF(D17="","",$D$8+F17),"") -> 201670.14
C18: =IFERROR(IF(C17="","",IF(C17+1>$G$11,"",C17+1)),"") -> 3 | D18: =IFERROR(IF(C18="","",EDATE(D17,INDEX(Lists!$D$5:$D$8,MATCH(Dashboard!$D$11,Lists!$B$5:$B$8,0),1))),"") -> 43696 | E18: =IFERROR(IF(D18="","",IF($D$13="Simple",$D$8*$D$9/12*(INDEX(Lists!$D$5:$D$8,MATCH(Dashboard!$D$11,Lists!$B$5:$B$8,0),1)),G17*$D$9/12*(INDEX(Lists!$D$5:$D$8,MATCH(Dashboard!$D$11,Lists!$B$5:$B$8,0),1)))),"") -> 840.29225 | F18: =IFERROR(IF(D18="","",E18+F17),"") -> 2510.4311 | G18: =IFERROR(IF(D18="","",$D$8+F18),"") -> 202510.43
C19: =IFERROR(IF(C18="","",IF(C18+1>$G$11,"",C18+1)),"") -> 4 | D19: =IFERROR(IF(C19="","",EDATE(D18,INDEX(Lists!$D$5:$D$8,MATCH(Dashboard!$D$11,Lists!$B$5:$B$8,0),1))),"") -> 43727 | E19: =IFERROR(IF(D19="","",IF($D$13="Simple",$D$8*$D$9/12*(INDEX(Lists!$D$5:$D$8,MATCH(Dashboard!$D$11,Lists!$B$5:$B$8,0),1)),G18*$D$9/12*(INDEX(Lists!$D$5:$D$8,MATCH(Dashboard!$D$11,Lists!$B$5:$B$8,0),1)))),"") -> 843.79346 | F19: =IFERROR(IF(D19="","",E19+F18),"") -> 3354.2246 | G19: =IFERROR(IF(D19="","",$D$8+F19),"") -> 203354.22
C20: =IFERROR(IF(C19="","",IF(C19+1>$G$11,"",C19+1)),"") -> 5 | D20: =IFERROR(IF(C20="","",EDATE(D19,INDEX(Lists!$D$5:$D$8,MATCH(Dashboard!$D$11,Lists!$B$5:$B$8,0),1))),"") -> 43757 | E20: =IFERROR(IF(D20="","",IF($D$13="Simple",$D$8*$D$9/12*(INDEX(Lists!$D$5:$D$8,MATCH(Dashboard!$D$11,Lists!$B$5:$B$8,0),1)),G19*$D$9/12*(INDEX(Lists!$D$5:$D$8,MATCH(Dashboard!$D$11,Lists!$B$5:$B$8,0),1)))),"") -> 847.30927 | F20: =IFERROR(IF(D20="","",E20+F19),"") -> 4201.5339 | G20: =IFERROR(IF(D20="","",$D$8+F20),"") -> 204201.53
C21: =IFERROR(IF(C20="","",IF(C20+1>$G$11,"",C20+1)),"") -> 6 | D21: =IFERROR(IF(C21="","",EDATE(D20,INDEX(Lists!$D$5:$D$8,MATCH(Dashboard!$D$11,Lists!$B$5:$B$8,0),1))),"") -> 43788 | E21: =IFERROR(IF(D21="","",IF($D$13="Simple",$D$8*$D$9/12*(INDEX(Lists!$D$5:$D$8,MATCH(Dashboard!$D$11,Lists!$B$5:$B$8,0),1)),G20*$D$9/12*(INDEX(Lists!$D$5:$D$8,MATCH(Dashboard!$D$11,Lists!$B$5:$B$8,0),1)))),"") -> 850.83972 | F21: =IFERROR(IF(D21="","",E21+F20),"") -> 5052.3736 | G21: =IFERROR(IF(D21="","",$D$8+F21),"") -> 205052.37
C22: =IFERROR(IF(C21="","",IF(C21+1>$G$11,"",C21+1)),"") -> 7 | D22: =IFERROR(IF(C22="","",EDATE(D21,INDEX(Lists!$D$5:$D$8,MATCH(Dashboard!$D$11,Lists!$B$5:$B$8,0),1))),"") -> 43818 | E22: =IFERROR(IF(D22="","",IF($D$13="Simple",$D$8*$D$9/12*(INDEX(Lists!$D$5:$D$8,MATCH(Dashboard!$D$11,Lists!$B$5:$B$8,0),1)),G21*$D$9/12*(INDEX(Lists!$D$5:$D$8,MATCH(Dashboard!$D$11,Lists!$B$5:$B$8,0),1)))),"") -> 854.38489 | F22: =IFERROR(IF(D22="","",E22+F21),"") -> 5906.7585 | G22: =IFERROR(IF(D22="","",$D$8+F22),"") -> 205906.76
C23: =IFERROR(IF(C22="","",IF(C22+1>$G$11,"",C22+1)),"") -> 8 | D23: =IFERROR(IF(C23="","",EDATE(D22,INDEX(Lists!$D$5:$D$8,MATCH(Dashboard!$D$11,Lists!$B$5:$B$8,0),1))),"") -> 43849 | E23: =IFERROR(IF(D23="","",IF($D$13="Simple",$D$8*$D$9/12*(INDEX(Lists!$D$5:$D$8,MATCH(Dashboard!$D$11,Lists!$B$5:$B$8,0),1)),G22*$D$9/12*(INDEX(Lists!$D$5:$D$8,MATCH(Dashboard!$D$11,Lists!$B$5:$B$8,0),1)))),"") -> 857.94483 | F23: =IFERROR(IF(D23="","",E23+F22),"") -> 6764.7033 | G23: =IFERROR(IF(D23="","",$D$8+F23),"") -> 206764.7
C24: =IFERROR(IF(C23="","",IF(C23+1>$G$11,"",C23+1)),"") -> 9 | D24: =IFERROR(IF(C24="","",EDATE(D23,INDEX(Lists!$D$5:$D$8,MATCH(Dashboard!$D$11,Lists!$B$5:$B$8,0),1))),"") -> 43880 | E24: =IFERROR(IF(D24="","",IF($D$13="Simple",$D$8*$D$9/12*(INDEX(Lists!$D$5:$D$8,MATCH(Dashboard!$D$11,Lists!$B$5:$B$8,0),1)),G23*$D$9/12*(INDEX(Lists!$D$5:$D$8,MATCH(Dashboard!$D$11,Lists!$B$5:$B$8,0),1)))),"") -> 861.5196 | F24: =IFERROR(IF(D24="","",E24+F23),"") -> 7626.2229 | G24: =IFERROR(IF(D24="","",$D$8+F24),"") -> 207626.22
C25: =IFERROR(IF(C24="","",IF(C24+1>$G$11,"",C24+1)),"") -> 10 | D25: =IFERROR(IF(C25="","",EDATE(D24,INDEX(Lists!$D$5:$D$8,MATCH(Dashboard!$D$11,Lists!$B$5:$B$8,0),1))),"") -> 43909 | E25: =IFERROR(IF(D25="","",IF($D$13="Simple",$D$8*$D$9/12*(INDEX(Lists!$D$5:$D$8,MATCH(Dashboard!$D$11,Lists!$B$5:$B$8,0),1)),G24*$D$9/12*(INDEX(Lists!$D$5:$D$8,MATCH(Dashboard!$D$11,Lists!$B$5:$B$8,0),1)))),"") -> 865.10926 | F25: =IFERROR(IF(D25="","",E25+F24),"") -> 8491.3322 | G25: =IFERROR(IF(D25="","",$D$8+F25),"") -> 208491.33
C26: =IFERROR(IF(C25="","",IF(C25+1>$G$11,"",C25+1)),"") -> 11 | D26: =IFERROR(IF(C26="","",EDATE(D25,INDEX(Lists!$D$5:$D$8,MATCH(Dashboard!$D$11,Lists!$B$5:$B$8,0),1))),"") -> 43940 | E26: =IFERROR(IF(D26="","",IF($D$13="Simple",$D$8*$D$9/12*(INDEX(Lists!$D$5:$D$8,MATCH(Dashboard!$D$11,Lists!$B$5:$B$8,0),1)),G25*$D$9/12*(INDEX(Lists!$D$5:$D$8,MATCH(Dashboard!$D$11,Lists!$B$5:$B$8,0),1)))),"") -> 868.71388 | F26: =IFERROR(IF(D26="","",E26+F25),"") -> 9360.0461 | G26: =IFERROR(IF(D26="","",$D$8+F26),"") -> 209360.05
C27: =IFERROR(IF(C26="","",IF(C26+1>$G$11,"",C26+1)),"") -> 12 | D27: =IFERROR(IF(C27="","",EDATE(D26,INDEX(Lists!$D$5:$D$8,MATCH(Dashboard!$D$11,Lists!$B$5:$B$8,0),1))),"") -> 43970 | E27: =IFERROR(IF(D27="","",IF($D$13="Simple",$D$8*$D$9/12*(INDEX(Lists!$D$5:$D$8,MATCH(Dashboard!$D$11,Lists!$B$5:$B$8,0),1)),G26*$D$9/12*(INDEX(Lists!$D$5:$D$8,MATCH(Dashboard!$D$11,Lists!$B$5:$B$8,0),1)))),"") -> 872.33353 | F27: =IFERROR(IF(D27="","",E27+F26),"") -> 10232.38 | G27: =IFERROR(IF(D27="","",$D$8+F27),"") -> 210232.38
C28: =IFERROR(IF(C27="","",IF(C27+1>$G$11,"",C27+1)),"") | D28: =IFERROR(IF(C28="","",EDATE(D27,INDEX(Lists!$D$5:$D$8,MATCH(Dashboard!$D$11,Lists!$B$5:$B$8,0),1))),"") | E28: =IFERROR(IF(D28="","",IF($D$13="Simple",$D$8*$D$9/12*(INDEX(Lists!$D$5:$D$8,MATCH(Dashboard!$D$11,Lists!$B$5:$B$8,0),1)),G27*$D$9/12*(INDEX(Lists!$D$5:$D$8,MATCH(Dashboard!$D$11,Lists!$B$5:$B$8,0),1)))),"") | F28: =IFERROR(IF(D28="","",E28+F27),"") | G28: =IFERROR(IF(D28="","",$D$8+F28),"")
... C100: =IFERROR(IF(C99="","",IF(C99+1>$G$11,"",C99+1)),"") | D100: =IFERROR(IF(C100="","",EDATE(D99,INDEX(Lists!$D$5:$D$8,MATCH(Dashboard!$D$11,Lists!$B$5:$B$8,0),1))),"") | E100: =IFERROR(IF(D100="","",IF($D$13="Simple",$D$8*$D$9/12*(INDEX(Lists!$D$5:$D$8,MATCH(Dashboard!$D$11,Lists!$B$5:$B$8,0),1)),G99*$D$9/12*(INDEX(Lists!$D$5:$D$8,MATCH(Dashboard!$D$11,Lists!$B$5:$B$8,0),1)))),"") | F100: =IFERROR(IF(D100="","",E100+F99),"") | G100: =IFERROR(IF(D100="","",$D$8+F100),"")

Sheet Lists
B4: Payment frequency | C4: No of periods in 1 year | D4: No of months between payments | F4: Interest type
B5: Monthly | C5: 12 | D5: 1 | F5: Simple
B6: Quarterly | C6: 4 | D6: 3 | F6: Compounded
B7: Semi Annually | C7: 2 | D7: 6
B8: Annually | C8: 1 | D8: 12
B9: Baloon
