Workbook

Sheet Dashboard
C2: MONTHLY BUDGET WORKSHEET
C3: DASHBOARD
C7: TOTAL STATEMENT | G7: EXPENSE ITEMS | H7: TOTAL | I7: % | L7: May 2022
C8: INCOME | D8: EXPENSE | E8: BALANCE | G8: BUSINESS EXPENSES | H8: =IFERROR(INDEX(Expense!$E$8:$E$95,MATCH(G8,Expense!$C$8:$C$95,0),1),"") -> 0 | I8: =IFERROR(H8/SUM($H$8:$H$22),"") -> 0
C9: =Income!F6 -> 7470 | D9: =Expense!E6 -> 2250 | E9: =C9-D9 -> 5220 | G9: CHILDREN | H9: =IFERROR(INDEX(Expense!$E$8:$E$95,MATCH(G9,Expense!$C$8:$C$95,0),1),"") -> 0 | I9: =IFERROR(H9/SUM($H$8:$H$22),"") -> 0
G10: DAILY LIVING | H10: =IFERROR(INDEX(Expense!$E$8:$E$95,MATCH(G10,Expense!$C$8:$C$95,0),1),"") -> 0 | I10: =IFERROR(H10/SUM($H$8:$H$22),"") -> 0
G11: =Expense!C47 -> EDUCATION | H11: =IFERROR(INDEX(Expense!$E$8:$E$95,MATCH(G11,Expense!$C$8:$C$95,0),1),"") -> 150 | I11: =IFERROR(H11/SUM($H$8:$H$22),"") -> 0.069444444
G12: =Expense!C71 -> ENTERTAINMENT | H12: =IFERROR(INDEX(Expense!$E$8:$E$95,MATCH(G12,Expense!$C$8:$C$95,0),1),"") -> 440 | I12: =IFERROR(H12/SUM($H$8:$H$22),"") -> 0.2037037
G13: =Expense!C38 -> HEALTH | H13: =IFERROR(INDEX(Expense!$E$8:$E$95,MATCH(G13,Expense!$C$8:$C$95,0),1),"") -> 305 | I13: =IFERROR(H13/SUM($H$8:$H$22),"") -> 0.1412037
G14: =Expense!C8 -> HOME EXPENSES | H14: =IFERROR(INDEX(Expense!$E$8:$E$95,MATCH(G14,Expense!$C$8:$C$95,0),1),"") -> 800 | I14: =IFERROR(H14/SUM($H$8:$H$22),"") -> 0.37037037
G15: =Expense!C43 -> INSURANCE | H15: =IFERROR(INDEX(Expense!$E$8:$E$95,MATCH(G15,Expense!$C$8:$C$95,0),1),"") -> 330 | I15: =IFERROR(H15/SUM($H$8:$H$22),"") -> 0.15277778
G16: =Expense!C92 -> MISCELLANEOUS | H16: =IFERROR(INDEX(Expense!$E$8:$E$95,MATCH(G16,Expense!$C$8:$C$95,0),1),"") -> 135 | I16: =IFERROR(H16/SUM($H$8:$H$22),"") -> 0.0625
G17: OBLIGATIONS | H17: =IFERROR(INDEX(Expense!$E$8:$E$95,MATCH(G17,Expense!$C$8:$C$95,0),1),"") -> 0 | I17: =IFERROR(H17/SUM($H$8:$H$22),"") -> 0
G18: PETS | H18: =IFERROR(INDEX(Expense!$E$8:$E$95,MATCH(G18,Expense!$C$8:$C$95,0),1),"") -> 0 | I18: =IFERROR(H18/SUM($H$8:$H$22),"") -> 0
G19: SAVINGS | H19: =IFERROR(INDEX(Expense!$E$8:$E$95,MATCH(G19,Expense!$C$8:$C$95,0),1),"") -> 0 | I19: =IFERROR(H19/SUM($H$8:$H$22),"") -> 0
G20: SUBSCRIPTIONS | H20: =IFERROR(INDEX(Expense!$E$8:$E$95,MATCH(G20,Expense!$C$8:$C$95,0),1),"") -> 0 | I20: =IFERROR(H20/SUM($H$8:$H$22),"") -> 0
G21: TRANSPORTATION | H21: =IFERROR(INDEX(Expense!$E$8:$E$95,MATCH(G21,Expense!$C$8:$C$95,0),1),"") -> 0 | I21: =IFERROR(H21/SUM($H$8:$H$22),"") -> 0
G22: VACATION | H22: =IFERROR(INDEX(Expense!$E$8:$E$95,MATCH(G22,Expense!$C$8:$C$95,0),1),"") -> 0 | I22: =IFERROR(H22/SUM($H$8:$H$22),"") -> 0

Sheet Income
C2: MONTHLY BUDGET WORKSHEET
C3: INCOME
C6: =Dashboard!L7&" - INCOME TABLE" -> May 2022 - INCOME TABLE | E6: Total: | F6: =SUM(F8:F17) -> 7470
C7: DATE | D7: DESCRIPTION | E7: INCOME ITEM | F7: ACTUAL
C8: 42491 | D8: My Wage | E8: WAGE - 1 | F8: 2600
C9: 42492 | D9: Wife's Wage | E9: WAGE - 2 | F9: 2250
C10: 42495 | D10: Home Rental (Baltimore) | E10: RENTAL INCOME | F10: 850
C11: 42498 | D11: ABC Bank | E11: INTEREST Etc. | F11: 100
C12: 42506 | D12: Sales Bonus | E12: BONUS | F12: 750
C13: 42507 | D13: Sales Bonus (Wife) | E13: BONUS | F13: 600
C14: 42507 | D14: For Baby | E14: GIFT | F14: 100
C15: 42510 | D15: Bet365 Betting | E15: CHANCE GAMES | F15: 100
C16: 42512 | D16: Bet365 Betting | E16: CHANCE GAMES | F16: 120

Sheet Expense
C2: MONTHLY BUDGET WORKSHEET
C3: EXPENSE
C6: =Dashboard!L7&" - EXPENSE TABLE" -> May 2022 - EXPENSE TABLE | D6: TOTAL: | E6: =SUMIF(C8:C95,"",E8:E95) -> 2250
C7: EXPENSE ITEM | D7: DESCRIPTION | E7: ACTUAL
C8: HOME EXPENSES | E8: =SUM(E9:E19) -> 800
D9: Mortgage / Rent | E9: 300
D10: Electricity | E10: 50
D11: Gas / Oil | E11: 50
D12: Water/Sewer/Trash | E12: 50
D13: Improvements | E13: 50
D14: Mobile Telephone | E14: 50
D15: Internet | E15: 50
D16: Furnishings / Appliances | E16: 50
D17: Home Security | E17: 50
D18: Cable / Satellite | E18: 50
D19: Lawn / Garden | E19: 50
C20: DAILY LIVING | E20: 0
D21: Water/Sewer
D22: XYZ
D23: Daily spend
D24: ABC
D25: Trash
C26: TRANSPORTATION | E26: 0
D27: Fuel
D28: Fuel
D29: Bus/Taxi/Train Fare
D30: Bus/Taxi/Train Fare
D31: Parking
D32: Car Wash
C33: CHILDREN | E33: 0
D34: Clothing
D35: School Lunch
D36: Toys/Games
D37: Babysitting
C38: HEALTH | E38: =SUM(E39:E42) -> 305
D39: Doctor | E39: 110
D40: Dentist | E40: 90
D41: Health Club Dues | E41: 75
D42: Prescriptions | E42: 30
C43: INSURANCE | E43: =SUM(E44:E46) -> 330
...

Sheet Calc
E2: Maximum
B3: =Dashboard!G8 -> BUSINESS EXPENSES | C3: =IF(D3=MAX($D$3:$D$17),B3,"") | D3: =IFERROR(INDEX(Expense!$E$8:$E$95,MATCH(B3,Expense!$C$8:$C$95,0),1),"") -> 0 | E3: =IF(D3=MAX($D$3:$D$17),D3,"")
B4: =Dashboard!G9 -> CHILDREN | C4: =IF(D4=MAX($D$3:$D$17),B4,"") | D4: =IFERROR(INDEX(Expense!$E$8:$E$95,MATCH(B4,Expense!$C$8:$C$95,0),1),"") -> 0 | E4: =IF(D4=MAX($D$3:$D$17),D4,"")
B5: =Dashboard!G10 -> DAILY LIVING | C5: =IF(D5=MAX($D$3:$D$17),B5,"") | D5: =IFERROR(INDEX(Expense!$E$8:$E$95,MATCH(B5,Expense!$C$8:$C$95,0),1),"") -> 0 | E5: =IF(D5=MAX($D$3:$D$17),D5,"")
B6: =Dashboard!G11 -> EDUCATION | C6: =IF(D6=MAX($D$3:$D$17),B6,"") | D6: =IFERROR(INDEX(Expense!$E$8:$E$95,MATCH(B6,Expense!$C$8:$C$95,0),1),"") -> 150 | E6: =IF(D6=MAX($D$3:$D$17),D6,"")
B7: =Dashboard!G12 -> ENTERTAINMENT | C7: =IF(D7=MAX($D$3:$D$17),B7,"") | D7: =IFERROR(INDEX(Expense!$E$8:$E$95,MATCH(B7,Expense!$C$8:$C$95,0),1),"") -> 440 | E7: =IF(D7=MAX($D$3:$D$17),D7,"")
B8: =Dashboard!G13 -> HEALTH | C8: =IF(D8=MAX($D$3:$D$17),B8,"") | D8: =IFERROR(INDEX(Expense!$E$8:$E$95,MATCH(B8,Expense!$C$8:$C$95,0),1),"") -> 305 | E8: =IF(D8=MAX($D$3:$D$17),D8,"")
B9: =Dashboard!G14 -> HOME EXPENSES | C9: =IF(D9=MAX($D$3:$D$17),B9,"") -> HOME EXPENSES | D9: =IFERROR(INDEX(Expense!$E$8:$E$95,MATCH(B9,Expense!$C$8:$C$95,0),1),"") -> 800 | E9: =IF(D9=MAX($D$3:$D$17),D9,"") -> 800
B10: =Dashboard!G15 -> INSURANCE | C10: =IF(D10=MAX($D$3:$D$17),B10,"") | D10: =IFERROR(INDEX(Expense!$E$8:$E$95,MATCH(B10,Expense!$C$8:$C$95,0),1),"") -> 330 | E10: =IF(D10=MAX($D$3:$D$17),D10,"")
B11: =Dashboard!G16 -> MISCELLANEOUS | C11: =IF(D11=MAX($D$3:$D$17),B11,"") | D11: =IFERROR(INDEX(Expense!$E$8:$E$95,MATCH(B11,Expense!$C$8:$C$95,0),1),"") -> 135 | E11: =IF(D11=MAX($D$3:$D$17),D11,"")
B12: =Dashboard!G17 -> OBLIGATIONS | C12: =IF(D12=MAX($D$3:$D$17),B12,"") | D12: =IFERROR(INDEX(Expense!$E$8:$E$95,MATCH(B12,Expense!$C$8:$C$95,0),1),"") -> 0 | E12: =IF(D12=MAX($D$3:$D$17),D12,"")
B13: =Dashboard!G18 -> PETS | C13: =IF(D13=MAX($D$3:$D$17),B13,"") | D13: =IFERROR(INDEX(Expense!$E$8:$E$95,MATCH(B13,Expense!$C$8:$C$95,0),1),"") -> 0 | E13: =IF(D13=MAX($D$3:$D$17),D13,"")
B14: =Dashboard!G19 -> SAVINGS | C14: =IF(D14=MAX($D$3:$D$17),B14,"") | D14: =IFERROR(INDEX(Expense!$E$8:$E$95,MATCH(B14,Expense!$C$8:$C$95,0),1),"") -> 0 | E14: =IF(D14=MAX($D$3:$D$17),D14,"")
... B17: =Dashboard!G22 -> VACATION | C17: =IF(D17=MAX($D$3:$D$17),B17,"") | D17: =IFERROR(INDEX(Expense!$E$8:$E$95,MATCH(B17,Expense!$C$8:$C$95,0),1),"") -> 0 | E17: =IF(D17=MAX($D$3:$D$17),D17,"")
