Workbook
Name chartlabel: OFFSET(Calc!$M$4,0,0,Calc!$M$2,1)
Name chartsource: OFFSET(Calc!$N$4,0,0,Calc!$M$2,1)
Name currentbalance: Dashboard!$D$5
Name currentmonthlypayment: Dashboard!$D$8
Name interestrate: Dashboard!$D$6
Name ratechange: Dashboard!$D$7

Sheet Dashboard
C2: HELOC PAYMENT CALCULATOR TEMPLATE
C3: PAYMENT PLAN
B5: Current Balance | D5: 80000
B6: Interest Rate (Annually) | D6: 0.0785
B7: Rate Change (Annuallyl) | D7: 0.0045
B8: Current Monthly Payment | D8: 1750
B9: Total Interest Paid | D9: =IFERROR(SUMIF(Calc!$F$5:$F$364,">0",Calc!$F$5:$F$364),"-") -> 17347.429
B10: Total Term (Month) | D10: =IFERROR(Calc!$K$4,"-") -> 58
B12: Term | C12: Payment | D12: Additional Charges | E12: Monthly Interest Rate (%) | F12: Interest | G12: Balance
B13: - | C13: - | D13: - | E13: - | F13: - | G13: =IFERROR(currentbalance,"") -> 80000
B14: =IFERROR(IF(Calc!$B5<=Calc!$K$4,Calc!$B5,""),"") -> 1 | C14: =IFERROR(IF(LEN($B14)=0,"",IF($B14>=MAX(Calc!$H$5:$H$364),Calc!$K$10,Calc!$C5)),"") -> 1750 | E14: =IFERROR(IF(LEN($B14)=0,"",Calc!$E5),"") -> 0.0065416667 | F14: =IFERROR(IF(LEN($B14)=0,"",Calc!$F5),"") -> 523.33333 | G14: =IFERROR(IF(LEN($B14)=0,"",IF($C14<>currentmonthlypayment,0,Calc!$G5)),"") -> 78773.333
B15: =IF(Calc!$B6<=Calc!$K$4,Calc!$B6,"") -> 2 | C15: =IFERROR(IF(LEN($B15)=0,"",IF($B15>=MAX(Calc!$H$5:$H$364),Calc!$K$10,Calc!$C6)),"") -> 1750 | E15: =IFERROR(IF(LEN($B15)=0,"",Calc!$E6),"") -> 0.0065416667 | F15: =IFERROR(IF(LEN($B15)=0,"",Calc!$F6),"") -> 515.30889 | G15: =IFERROR(IF(LEN($B15)=0,"",IF($C15<>currentmonthlypayment,0,Calc!$G6)),"") -> 77538.642
B16: =IF(Calc!$B7<=Calc!$K$4,Calc!$B7,"") -> 3 | C16: =IFERROR(IF(LEN($B16)=0,"",IF($B16>=MAX(Calc!$H$5:$H$364),Calc!$K$10,Calc!$C7)),"") -> 1750 | E16: =IFERROR(IF(LEN($B16)=0,"",Calc!$E7),"") -> 0.0065416667 | F16: =IFERROR(IF(LEN($B16)=0,"",Calc!$F7),"") -> 507.23195 | G16: =IFERROR(IF(LEN($B16)=0,"",IF($C16<>currentmonthlypayment,0,Calc!$G7)),"") -> 76295.874
B17: =IF(Calc!$B8<=Calc!$K$4,Calc!$B8,"") -> 4 | C17: =IFERROR(IF(LEN($B17)=0,"",IF($B17>=MAX(Calc!$H$5:$H$364),Calc!$K$10,Calc!$C8)),"") -> 1750 | E17: =IFERROR(IF(LEN($B17)=0,"",Calc!$E8),"") -> 0.0065416667 | F17: =IFERROR(IF(LEN($B17)=0,"",Calc!$F8),"") -> 499.10218 | G17: =IFERROR(IF(LEN($B17)=0,"",IF($C17<>currentmonthlypayment,0,Calc!$G8)),"") -> 75044.976
B18: =IF(Calc!$B9<=Calc!$K$4,Calc!$B9,"") -> 5 | C18: =IFERROR(IF(LEN($B18)=0,"",IF($B18>=MAX(Calc!$H$5:$H$364),Calc!$K$10,Calc!$C9)),"") -> 1750 | E18: =IFERROR(IF(LEN($B18)=0,"",Calc!$E9),"") -> 0.0065416667 | F18: =IFERROR(IF(LEN($B18)=0,"",Calc!$F9),"") -> 490.91922 | G18: =IFERROR(IF(LEN($B18)=0,"",IF($C18<>currentmonthlypayment,0,Calc!$G9)),"") -> 73785.896
B19: =IF(Calc!$B10<=Calc!$K$4,Calc!$B10,"") -> 6 | C19: =IFERROR(IF(LEN($B19)=0,"",IF($B19>=MAX(Calc!$H$5:$H$364),Calc!$K$10,Calc!$C10)),"") -> 1750 | D19: 350 | E19: =IFERROR(IF(LEN($B19)=0,"",Calc!$E10),"") -> 0.0065416667 | F19: =IFERROR(IF(LEN($B19)=0,"",Calc!$F10),"") -> 484.97232 | G19: =IFERROR(IF(LEN($B19)=0,"",IF($C19<>currentmonthlypayment,0,Calc!$G10)),"") -> 72870.868
B20: =IF(Calc!$B11<=Calc!$K$4,Calc!$B11,"") -> 7 | C20: =IFERROR(IF(LEN($B20)=0,"",IF($B20>=MAX(Calc!$H$5:$H$364),Calc!$K$10,Calc!$C11)),"") -> 1750 | E20: =IFERROR(IF(LEN($B20)=0,"",Calc!$E11),"") -> 0.0065416667 | F20: =IFERROR(IF(LEN($B20)=0,"",Calc!$F11),"") -> 476.69693 | G20: =IFERROR(IF(LEN($B20)=0,"",IF($C20<>currentmonthlypayment,0,Calc!$G11)),"") -> 71597.565
B21: =IF(Calc!$B12<=Calc!$K$4,Calc!$B12,"") -> 8 | C21: =IFERROR(IF(LEN($B21)=0,"",IF($B21>=MAX(Calc!$H$5:$H$364),Calc!$K$10,Calc!$C12)),"") -> 1750 | E21: =IFERROR(IF(LEN($B21)=0,"",Calc!$E12),"") -> 0.0065416667 | F21: =IFERROR(IF(LEN($B21)=0,"",Calc!$F12),"") -> 468.3674 | G21: =IFERROR(IF(LEN($B21)=0,"",IF($C21<>currentmonthlypayment,0,Calc!$G12)),"") -> 70315.932
B22: =IF(Calc!$B13<=Calc!$K$4,Calc!$B13,"") -> 9 | C22: =IFERROR(IF(LEN($B22)=0,"",IF($B22>=MAX(Calc!$H$5:$H$364),Calc!$K$10,Calc!$C13)),"") -> 1750 | E22: =IFERROR(IF(LEN($B22)=0,"",Calc!$E13),"") -> 0.0065416667 | F22: =IFERROR(IF(LEN($B22)=0,"",Calc!$F13),"") -> 459.98339 | G22: =IFERROR(IF(LEN($B22)=0,"",IF($C22<>currentmonthlypayment,0,Calc!$G13)),"") -> 69025.916
B23: =IF(Calc!$B14<=Calc!$K$4,Calc!$B14,"") -> 10 | C23: =IFERROR(IF(LEN($B23)=0,"",IF($B23>=MAX(Calc!$H$5:$H$364),Calc!$K$10,Calc!$C14)),"") -> 1750 | E23: =IFERROR(IF(LEN($B23)=0,"",Calc!$E14),"") -> 0.0065416667 | F23: =IFERROR(IF(LEN($B23)=0,"",Calc!$F14),"") -> 451.54453 | G23: =IFERROR(IF(LEN($B23)=0,"",IF($C23<>currentmonthlypayment,0,Calc!$G14)),"") -> 67727.46
B24: =IF(Calc!$B15<=Calc!$K$4,Calc!$B15,"") -> 11 | C24: =IFERROR(IF(LEN($B24)=0,"",IF($B24>=MAX(Calc!$H$5:$H$364),Calc!$K$10,Calc!$C15)),"") -> 1750 | E24: =IFERROR(IF(LEN($B24)=0,"",Calc!$E15),"") -> 0.0065416667 | F24: =IFERROR(IF(LEN($B24)=0,"",Calc!$F15),"") -> 443.05047 | G24: =IFERROR(IF(LEN($B24)=0,"",IF($C24<>currentmonthlypayment,0,Calc!$G15)),"") -> 66420.511
B25: =IF(Calc!$B16<=Calc!$K$4,Calc!$B16,"") -> 12 | C25: =IFERROR(IF(LEN($B25)=0,"",IF($B25>=MAX(Calc!$H$5:$H$364),Calc!$K$10,Calc!$C16)),"") -> 1750 | D25: 750 | E25: =IFERROR(IF(LEN($B25)=0,"",Calc!$E16),"") -> 0.0065416667 | F25: =IFERROR(IF(LEN($B25)=0,"",Calc!$F16),"") -> 439.40709 | G25: =IFERROR(IF(LEN($B25)=0,"",IF($C25<>currentmonthlypayment,0,Calc!$G16)),"") -> 65859.918
B26: =IF(Calc!$B17<=Calc!$K$4,Calc!$B17,"") -> 13 | C26: =IFERROR(IF(LEN($B26)=0,"",IF($B26>=MAX(Calc!$H$5:$H$364),Calc!$K$10,Calc!$C17)),"") -> 1750 | E26: =IFERROR(IF(LEN($B26)=0,"",Calc!$E17),"") -> 0.0069166667 | F26: =IFERROR(IF(LEN($B26)=0,"",Calc!$F17),"") -> 455.5311 | G26: =IFERROR(IF(LEN($B26)=0,"",IF($C26<>currentmonthlypayment,0,Calc!$G17)),"") -> 64565.449
B27: =IF(Calc!$B18<=Calc!$K$4,Calc!$B18,"") -> 14 | C27: =IFERROR(IF(LEN($B27)=0,"",IF($B27>=MAX(Calc!$H$5:$H$364),Calc!$K$10,Calc!$C18)),"") -> 1750 | E27: =IFERROR(IF(LEN($B27)=0,"",Calc!$E18),"") -> 0.0069166667 | F27: =IFERROR(IF(LEN($B27)=0,"",Calc!$F18),"") -> 446.57769 | G27: =IFERROR(IF(LEN($B27)=0,"",IF($C27<>currentmonthlypayment,0,Calc!$G18)),"") -> 63262.026
B28: =IF(Calc!$B19<=Calc!$K$4,Calc!$B19,"") -> 15 | C28: =IFERROR(IF(LEN($B28)=0,"",IF($B28>=MAX(Calc!$H$5:$H$364),Calc!$K$10,Calc!$C19)),"") -> 1750 | E28: =IFERROR(IF(LEN($B28)=0,"",Calc!$E19),"") -> 0.0069166667 | F28: =IFERROR(IF(LEN($B28)=0,"",Calc!$F19),"") -> 437.56235 | G28: =IFERROR(IF(LEN($B28)=0,"",IF($C28<>currentmonthlypayment,0,Calc!$G19)),"") -> 61949.589
B29: =IF(Calc!$B20<=Calc!$K$4,Calc!$B20,"") -> 16 | C29: =IFERROR(IF(LEN($B29)=0,"",IF($B29>=MAX(Calc!$H$5:$H$364),Calc!$K$10,Calc!$C20)),"") -> 1750 | E29: =IFERROR(IF(LEN($B29)=0,"",Calc!$E20),"") -> 0.0069166667 | F29: =IFERROR(IF(LEN($B29)=0,"",Calc!$F20),"") -> 428.48466 | G29: =IFERROR(IF(LEN($B29)=0,"",IF($C29<>currentmonthlypayment,0,Calc!$G20)),"") -> 60628.073
B30: =IF(Calc!$B21<=Calc!$K$4,Calc!$B21,"") -> 17 | C30: =IFERROR(IF(LEN($B30)=0,"",IF($B30>=MAX(Calc!$H$5:$H$364),Calc!$K$10,Calc!$C21)),"") -> 1750 | E30: =IFERROR(IF(LEN($B30)=0,"",Calc!$E21),"") -> 0.0069166667 | F30: =IFERROR(IF(LEN($B30)=0,"",Calc!$F21),"") -> 419.34417 | G30: =IFERROR(IF(LEN($B30)=0,"",IF($C30<>currentmonthlypayment,0,Calc!$G21)),"") -> 59297.418
B31: =IF(Calc!$B22<=Calc!$K$4,Calc!$B22,"") -> 18 | C31: =IFERROR(IF(LEN($B31)=0,"",IF($B31>=MAX(Calc!$H$5:$H$364),Calc!$K$10,Calc!$C22)),"") -> 1750 | D31: 500 | E31: =IFERROR(IF(LEN($B31)=0,"",Calc!$E22),"") -> 0.0069166667 | F31: =IFERROR(IF(LEN($B31)=0,"",Calc!$F22),"") -> 413.59881 | G31: =IFERROR(IF(LEN($B31)=0,"",IF($C31<>currentmonthlypayment,0,Calc!$G22)),"") -> 58461.016
B32: =IF(Calc!$B23<=Calc!$K$4,Calc!$B23,"") -> 19 | C32: =IFERROR(IF(LEN($B32)=0,"",IF($B32>=MAX(Calc!$H$5:$H$364),Calc!$K$10,Calc!$C23)),"") -> 1750 | E32: =IFERROR(IF(LEN($B32)=0,"",Calc!$E23),"") -> 0.0069166667 | F32: =IFERROR(IF(LEN($B32)=0,"",Calc!$F23),"") -> 404.35536 | G32: =IFERROR(IF(LEN($B32)=0,"",IF($C32<>currentmonthlypayment,0,Calc!$G23)),"") -> 57115.372
B33: =IF(Calc!$B24<=Calc!$K$4,Calc!$B24,"") -> 20 | C33: =IFERROR(IF(LEN($B33)=0,"",IF($B33>=MAX(Calc!$H$5:$H$364),Calc!$K$10,Calc!$C24)),"") -> 1750 | E33: =IFERROR(IF(LEN($B33)=0,"",Calc!$E24),"") -> 0.0069166667 | F33: =IFERROR(IF(LEN($B33)=0,"",Calc!$F24),"") -> 395.04799 | G33: =IFERROR(IF(LEN($B33)=0,"",IF($C33<>currentmonthlypayment,0,Calc!$G24)),"") -> 55760.42
B34: =IF(Calc!$B25<=Calc!$K$4,Calc!$B25,"") -> 21 | C34: =IFERROR(IF(LEN($B34)=0,"",IF($B34>=MAX(Calc!$H$5:$H$364),Calc!$K$10,Calc!$C25)),"") -> 1750 | E34: =IFERROR(IF(LEN($B34)=0,"",Calc!$E25),"") -> 0.0069166667 | F34: =IFERROR(IF(LEN($B34)=0,"",Calc!$F25),"") -> 385.67624 | G34: =IFERROR(IF(LEN($B34)=0,"",IF($C34<>currentmonthlypayment,0,Calc!$G25)),"") -> 54396.096
B35: =IF(Calc!$B26<=Calc!$K$4,Calc!$B26,"") -> 22 | C35: =IFERROR(IF(LEN($B35)=0,"",IF($B35>=MAX(Calc!$H$5:$H$364),Calc!$K$10,Calc!$C26)),"") -> 1750 | E35: =IFERROR(IF(LEN($B35)=0,"",Calc!$E26),"") -> 0.0069166667 | F35: =IFERROR(IF(LEN($B35)=0,"",Calc!$F26),"") -> 376.23966 | G35: =IFERROR(IF(LEN($B35)=0,"",IF($C35<>currentmonthlypayment,0,Calc!$G26)),"") -> 53022.336
B36: =IF(Calc!$B27<=Calc!$K$4,Calc!$B27,"") -> 23 | C36: =IFERROR(IF(LEN($B36)=0,"",IF($B36>=MAX(Calc!$H$5:$H$364),Calc!$K$10,Calc!$C27)),"") -> 1750 | E36: =IFERROR(IF(LEN($B36)=0,"",Calc!$E27),"") -> 0.0069166667 | F36: =IFERROR(IF(LEN($B36)=0,"",Calc!$F27),"") -> 366.73782 | G36: =IFERROR(IF(LEN($B36)=0,"",IF($C36<>currentmonthlypayment,0,Calc!$G27)),"") -> 51639.074
B37: =IF(Calc!$B28<=Calc!$K$4,Calc!$B28,"") -> 24 | C37: =IFERROR(IF(LEN($B37)=0,"",IF($B37>=MAX(Calc!$H$5:$H$364),Calc!$K$10,Calc!$C28)),"") -> 1750 | D37: 150 | E37: =IFERROR(IF(LEN($B37)=0,"",Calc!$E28),"") -> 0.0069166667 | F37: =IFERROR(IF(LEN($B37)=0,"",Calc!$F28),"") -> 358.20776 | G37: =IFERROR(IF(LEN($B37)=0,"",IF($C37<>currentmonthlypayment,0,Calc!$G28)),"") -> 50397.281
B38: =IF(Calc!$B29<=Calc!$K$4,Calc!$B29,"") -> 25 | C38: =IFERROR(IF(LEN($B38)=0,"",IF($B38>=MAX(Calc!$H$5:$H$364),Calc!$K$10,Calc!$C29)),"") -> 1750 | E38: =IFERROR(IF(LEN($B38)=0,"",Calc!$E29),"") -> 0.0072916667 | F38: =IFERROR(IF(LEN($B38)=0,"",Calc!$F29),"") -> 367.48018 | G38: =IFERROR(IF(LEN($B38)=0,"",IF($C38<>currentmonthlypayment,0,Calc!$G29)),"") -> 49014.761
B39: =IF(Calc!$B30<=Calc!$K$4,Calc!$B30,"") -> 26 | C39: =IFERROR(IF(LEN($B39)=0,"",IF($B39>=MAX(Calc!$H$5:$H$364),Calc!$K$10,Calc!$C30)),"") -> 1750 | E39: =IFERROR(IF(LEN($B39)=0,"",Calc!$E30),"") -> 0.0072916667 | F39: =IFERROR(IF(LEN($B39)=0,"",Calc!$F30),"") -> 357.3993 | G39: =IFERROR(IF(LEN($B39)=0,"",IF($C39<>currentmonthlypayment,0,Calc!$G30)),"") -> 47622.161
B40: =IF(Calc!$B31<=Calc!$K$4,Calc!$B31,"") -> 27 | C40: =IFERROR(IF(LEN($B40)=0,"",IF($B40>=MAX(Calc!$H$5:$H$364),Calc!$K$10,Calc!$C31)),"") -> 1750 | E40: =IFERROR(IF(LEN($B40)=0,"",Calc!$E31),"") -> 0.0072916667 | F40: =IFERROR(IF(LEN($B40)=0,"",Calc!$F31),"") -> 347.24492 | G40: =IFERROR(IF(LEN($B40)=0,"",IF($C40<>currentmonthlypayment,0,Calc!$G31)),"") -> 46219.406
B41: =IF(Calc!$B32<=Calc!$K$4,Calc!$B32,"") -> 28 | C41: =IFERROR(IF(LEN($B41)=0,"",IF($B41>=MAX(Calc!$H$5:$H$364),Calc!$K$10,Calc!$C32)),"") -> 1750 | E41: =IFERROR(IF(LEN($B41)=0,"",Calc!$E32),"") -> 0.0072916667 | F41: =IFERROR(IF(LEN($B41)=0,"",Calc!$F32),"") -> 337.0165 | G41: =IFERROR(IF(LEN($B41)=0,"",IF($C41<>currentmonthlypayment,0,Calc!$G32)),"") -> 44806.422
B42: =IF(Calc!$B33<=Calc!$K$4,Calc!$B33,"") -> 29 | C42: =IFERROR(IF(LEN($B42)=0,"",IF($B42>=MAX(Calc!$H$5:$H$364),Calc!$K$10,Calc!$C33)),"") -> 1750 | E42: =IFERROR(IF(LEN($B42)=0,"",Calc!$E33),"") -> 0.0072916667 | F42: =IFERROR(IF(LEN($B42)=0,"",Calc!$F33),"") -> 326.7135 | G42: =IFERROR(IF(LEN($B42)=0,"",IF($C42<>currentmonthlypayment,0,Calc!$G33)),"") -> 43383.136
B43: =IF(Calc!$B34<=Calc!$K$4,Calc!$B34,"") -> 30 | C43: =IFERROR(IF(LEN($B43)=0,"",IF($B43>=MAX(Calc!$H$5:$H$364),Calc!$K$10,Calc!$C34)),"") -> 1750 | D43: 200 | E43: =IFERROR(IF(LEN($B43)=0,"",Calc!$E34),"") -> 0.0072916667 | F43: =IFERROR(IF(LEN($B43)=0,"",Calc!$F34),"") -> 317.7937 | G43: =IFERROR(IF(LEN($B43)=0,"",IF($C43<>currentmonthlypayment,0,Calc!$G34)),"") -> 42150.929
...

Sheet Calc
M2: =K4+1 -> 59
B3: Term | C3: Payment | D3: Additional Charges | E3: Monthly Interest Rate (%) | F3: Interest | G3: Balance | H3: Last Row Interest | I3: Last Row Balance | K3: LAST TERM INTEREST | M3: Chart x Axis | N3: Chart y Axis
B4: 0 | C4: - | D4: - | E4: =IFERROR(interestrate/12,0) -> 0.0065416667 | F4: - | G4: =IFERROR(currentbalance,"") -> 80000 | H4: - | I4: - | K4: =IFERROR(MAX($H$5:$H$364),1) -> 58 | M4: =IF($B4<=$K$4,$B4,"") -> 0 | N4: =IF($B4<=$K$4,IF($G4<0,0,$G4),"") -> 80000
B5: 1 | C5: =IFERROR(currentmonthlypayment,"") -> 1750 | D5: =IFERROR(IF(LEN($B5)=0,"",IF(LEN(Dashboard!$D14)=0,0,Dashboard!$D14)),"") -> 0 | E5: =$E$4 -> 0.0065416667 | F5: =IFERROR(IF(LEN($B5)=0,"",($G4+$D5)*$E5),"") -> 523.33333 | G5: =IFERROR(IF(LEN($B5)=0,"",$G4+$F5+$D5-$C5),"") -> 78773.333 | H5: =IFERROR(IF(OR($E5<0,$F5<0),"",$B5),"") -> 1 | I5: =IFERROR(IF(OR($E5<0,$G5<0),"",$B5),"") -> 1 | M5: =IF($B5<=$K$4,$B5,"") -> 1 | N5: =IF($B5<=$K$4,IF($G5<0,0,$G5),"") -> 78773.333
B6: =IFERROR($B5+1,"") -> 2 | C6: =IFERROR(currentmonthlypayment,"") -> 1750 | D6: =IFERROR(IF(LEN($B6)=0,"",IF(LEN(Dashboard!$D15)=0,0,Dashboard!$D15)),"") -> 0 | E6: =IFERROR(IF(LEN($B6)=0,"",IF(MOD($B6,12)=1,$E5+(ratechange)/12,$E5)),"") -> 0.0065416667 | F6: =IFERROR(IF(LEN($B6)=0,"",($G5+$D6)*$E6),"") -> 515.30889 | G6: =IFERROR(IF(LEN($B6)=0,"",$G5+$F6+$D6-$C6),"") -> 77538.642 | H6: =IFERROR(IF(OR($E6<0,$F6<0),"",$B6),"") -> 2 | I6: =IFERROR(IF(OR($E6<0,$G6<0),"",$B6),"") -> 2 | K6: LAST TERM BALANCE | M6: =IF($B6<=$K$4,$B6,"") -> 2 | N6: =IF($B6<=$K$4,IF($G6<0,0,$G6),"") -> 77538.642
B7: =IFERROR($B6+1,"") -> 3 | C7: =IFERROR(currentmonthlypayment,"") -> 1750 | D7: =IFERROR(IF(LEN($B7)=0,"",IF(LEN(Dashboard!$D16)=0,0,Dashboard!$D16)),"") -> 0 | E7: =IFERROR(IF(LEN($B7)=0,"",IF(MOD($B7,12)=1,$E6+(ratechange)/12,$E6)),"") -> 0.0065416667 | F7: =IFERROR(IF(LEN($B7)=0,"",($G6+$D7)*$E7),"") -> 507.23195 | G7: =IFERROR(IF(LEN($B7)=0,"",$G6+$F7+$D7-$C7),"") -> 76295.874 | H7: =IFERROR(IF(OR($E7<0,$F7<0),"",$B7),"") -> 3 | I7: =IFERROR(IF(OR($E7<0,$G7<0),"",$B7),"") -> 3 | K7: =IFERROR(MAX($I$5:$I$364),1) -> 57 | M7: =IF($B7<=$K$4,$B7,"") -> 3 | N7: =IF($B7<=$K$4,IF($G7<0,0,$G7),"") -> 76295.874
B8: =IFERROR($B7+1,"") -> 4 | C8: =IFERROR(currentmonthlypayment,"") -> 1750 | D8: =IFERROR(IF(LEN($B8)=0,"",IF(LEN(Dashboard!$D17)=0,0,Dashboard!$D17)),"") -> 0 | E8: =IFERROR(IF(LEN($B8)=0,"",IF(MOD($B8,12)=1,$E7+(ratechange)/12,$E7)),"") -> 0.0065416667 | F8: =IFERROR(IF(LEN($B8)=0,"",($G7+$D8)*$E8),"") -> 499.10218 | G8: =IFERROR(IF(LEN($B8)=0,"",$G7+$F8+$D8-$C8),"") -> 75044.976 | H8: =IFERROR(IF(OR($E8<0,$F8<0),"",$B8),"") -> 4 | I8: =IFERROR(IF(OR($E8<0,$G8<0),"",$B8),"") -> 4 | M8: =IF($B8<=$K$4,$B8,"") -> 4 | N8: =IF($B8<=$K$4,IF($G8<0,0,$G8),"") -> 75044.976
B9: =IFERROR($B8+1,"") -> 5 | C9: =IFERROR(currentmonthlypayment,"") -> 1750 | D9: =IFERROR(IF(LEN($B9)=0,"",IF(LEN(Dashboard!$D18)=0,0,Dashboard!$D18)),"") -> 0 | E9: =IFERROR(IF(LEN($B9)=0,"",IF(MOD($B9,12)=1,$E8+(ratechange)/12,$E8)),"") -> 0.0065416667 | F9: =IFERROR(IF(LEN($B9)=0,"",($G8+$D9)*$E9),"") -> 490.91922 | G9: =IFERROR(IF(LEN($B9)=0,"",$G8+$F9+$D9-$C9),"") -> 73785.896 | H9: =IFERROR(IF(OR($E9<0,$F9<0),"",$B9),"") -> 5 | I9: =IFERROR(IF(OR($E9<0,$G9<0),"",$B9),"") -> 5 | K9: LAST PAYMENT | M9: =IF($B9<=$K$4,$B9,"") -> 5 | N9: =IF($B9<=$K$4,IF($G9<0,0,$G9),"") -> 73785.896
B10: =IFERROR($B9+1,"") -> 6 | C10: =IFERROR(currentmonthlypayment,"") -> 1750 | D10: =IFERROR(IF(LEN($B10)=0,"",IF(LEN(Dashboard!$D19)=0,0,Dashboard!$D19)),"") -> 350 | E10: =IFERROR(IF(LEN($B10)=0,"",IF(MOD($B10,12)=1,$E9+(ratechange)/12,$E9)),"") -> 0.0065416667 | F10: =IFERROR(IF(LEN($B10)=0,"",($G9+$D10)*$E10),"") -> 484.97232 | G10: =IFERROR(IF(LEN($B10)=0,"",$G9+$F10+$D10-$C10),"") -> 72870.868 | H10: =IFERROR(IF(OR($E10<0,$F10<0),"",$B10),"") -> 6 | I10: =IFERROR(IF(OR($E10<0,$G10<0),"",$B10),"") -> 6 | K10: =IFERROR(INDEX($D$5:$D$364,$K$4,1)+INDEX($F$5:$F$364,$K$4,1)+INDEX($G$5:$G$364,$K$7,1),"") -> 47.42897 | M10: =IF($B10<=$K$4,$B10,"") -> 6 | N10: =IF($B10<=$K$4,IF($G10<0,0,$G10),"") -> 72870.868
B11: =IFERROR($B10+1,"") -> 7 | C11: =IFERROR(currentmonthlypayment,"") -> 1750 | D11: =IFERROR(IF(LEN($B11)=0,"",IF(LEN(Dashboard!$D20)=0,0,Dashboard!$D20)),"") -> 0 | E11: =IFERROR(IF(LEN($B11)=0,"",IF(MOD($B11,12)=1,$E10+(ratechange)/12,$E10)),"") -> 0.0065416667 | F11: =IFERROR(IF(LEN($B11)=0,"",($G10+$D11)*$E11),"") -> 476.69693 | G11: =IFERROR(IF(LEN($B11)=0,"",$G10+$F11+$D11-$C11),"") -> 71597.565 | H11: =IFERROR(IF(OR($E11<0,$F11<0),"",$B11),"") -> 7 | I11: =IFERROR(IF(OR($E11<0,$G11<0),"",$B11),"") -> 7 | M11: =IF($B11<=$K$4,$B11,"") -> 7 | N11: =IF($B11<=$K$4,IF($G11<0,0,$G11),"") -> 71597.565
B12: =IFERROR($B11+1,"") -> 8 | C12: =IFERROR(currentmonthlypayment,"") -> 1750 | D12: =IFERROR(IF(LEN($B12)=0,"",IF(LEN(Dashboard!$D21)=0,0,Dashboard!$D21)),"") -> 0 | E12: =IFERROR(IF(LEN($B12)=0,"",IF(MOD($B12,12)=1,$E11+(ratechange)/12,$E11)),"") -> 0.0065416667 | F12: =IFERROR(IF(LEN($B12)=0,"",($G11+$D12)*$E12),"") -> 468.3674 | G12: =IFERROR(IF(LEN($B12)=0,"",$G11+$F12+$D12-$C12),"") -> 70315.932 | H12: =IFERROR(IF(OR($E12<0,$F12<0),"",$B12),"") -> 8 | I12: =IFERROR(IF(OR($E12<0,$G12<0),"",$B12),"") -> 8 | M12: =IF($B12<=$K$4,$B12,"") -> 8 | N12: =IF($B12<=$K$4,IF($G12<0,0,$G12),"") -> 70315.932
B13: =IFERROR($B12+1,"") -> 9 | C13: =IFERROR(currentmonthlypayment,"") -> 1750 | D13: =IFERROR(IF(LEN($B13)=0,"",IF(LEN(Dashboard!$D22)=0,0,Dashboard!$D22)),"") -> 0 | E13: =IFERROR(IF(LEN($B13)=0,"",IF(MOD($B13,12)=1,$E12+(ratechange)/12,$E12)),"") -> 0.0065416667 | F13: =IFERROR(IF(LEN($B13)=0,"",($G12+$D13)*$E13),"") -> 459.98339 | G13: =IFERROR(IF(LEN($B13)=0,"",$G12+$F13+$D13-$C13),"") -> 69025.916 | H13: =IFERROR(IF(OR($E13<0,$F13<0),"",$B13),"") -> 9 | I13: =IFERROR(IF(OR($E13<0,$G13<0),"",$B13),"") -> 9 | M13: =IF($B13<=$K$4,$B13,"") -> 9 | N13: =IF($B13<=$K$4,IF($G13<0,0,$G13),"") -> 69025.916
B14: =IFERROR($B13+1,"") -> 10 | C14: =IFERROR(currentmonthlypayment,"") -> 1750 | D14: =IFERROR(IF(LEN($B14)=0,"",IF(LEN(Dashboard!$D23)=0,0,Dashboard!$D23)),"") -> 0 | E14: =IFERROR(IF(LEN($B14)=0,"",IF(MOD($B14,12)=1,$E13+(ratechange)/12,$E13)),"") -> 0.0065416667 | F14: =IFERROR(IF(LEN($B14)=0,"",($G13+$D14)*$E14),"") -> 451.54453 | G14: =IFERROR(IF(LEN($B14)=0,"",$G13+$F14+$D14-$C14),"") -> 67727.46 | H14: =IFERROR(IF(OR($E14<0,$F14<0),"",$B14),"") -> 10 | I14: =IFERROR(IF(OR($E14<0,$G14<0),"",$B14),"") -> 10 | M14: =IF($B14<=$K$4,$B14,"") -> 10 | N14: =IF($B14<=$K$4,IF($G14<0,0,$G14),"") -> 67727.46
B15: =IFERROR($B14+1,"") -> 11 | C15: =IFERROR(currentmonthlypayment,"") -> 1750 | D15: =IFERROR(IF(LEN($B15)=0,"",IF(LEN(Dashboard!$D24)=0,0,Dashboard!$D24)),"") -> 0 | E15: =IFERROR(IF(LEN($B15)=0,"",IF(MOD($B15,12)=1,$E14+(ratechange)/12,$E14)),"") -> 0.0065416667 | F15: =IFERROR(IF(LEN($B15)=0,"",($G14+$D15)*$E15),"") -> 443.05047 | G15: =IFERROR(IF(LEN($B15)=0,"",$G14+$F15+$D15-$C15),"") -> 66420.511 | H15: =IFERROR(IF(OR($E15<0,$F15<0),"",$B15),"") -> 11 | I15: =IFERROR(IF(OR($E15<0,$G15<0),"",$B15),"") -> 11 | M15: =IF($B15<=$K$4,$B15,"") -> 11 | N15: =IF($B15<=$K$4,IF($G15<0,0,$G15),"") -> 66420.511
B16: =IFERROR($B15+1,"") -> 12 | C16: =IFERROR(currentmonthlypayment,"") -> 1750 | D16: =IFERROR(IF(LEN($B16)=0,"",IF(LEN(Dashboard!$D25)=0,0,Dashboard!$D25)),"") -> 750 | E16: =IFERROR(IF(LEN($B16)=0,"",IF(MOD($B16,12)=1,$E15+(ratechange)/12,$E15)),"") -> 0.0065416667 | F16: =IFERROR(IF(LEN($B16)=0,"",($G15+$D16)*$E16),"") -> 439.40709 | G16: =IFERROR(IF(LEN($B16)=0,"",$G15+$F16+$D16-$C16),"") -> 65859.918 | H16: =IFERROR(IF(OR($E16<0,$F16<0),"",$B16),"") -> 12 | I16: =IFERROR(IF(OR($E16<0,$G16<0),"",$B16),"") -> 12 | M16: =IF($B16<=$K$4,$B16,"") -> 12 | N16: =IF($B16<=$K$4,IF($G16<0,0,$G16),"") -> 65859.918
B17: =IFERROR($B16+1,"") -> 13 | C17: =IFERROR(currentmonthlypayment,"") -> 1750 | D17: =IFERROR(IF(LEN($B17)=0,"",IF(LEN(Dashboard!$D26)=0,0,Dashboard!$D26)),"") -> 0 | E17: =IFERROR(IF(LEN($B17)=0,"",IF(MOD($B17,12)=1,$E16+(ratechange)/12,$E16)),"") -> 0.0069166667 | F17: =IFERROR(IF(LEN($B17)=0,"",($G16+$D17)*$E17),"") -> 455.5311 | G17: =IFERROR(IF(LEN($B17)=0,"",$G16+$F17+$D17-$C17),"") -> 64565.449 | H17: =IFERROR(IF(OR($E17<0,$F17<0),"",$B17),"") -> 13 | I17: =IFERROR(IF(OR($E17<0,$G17<0),"",$B17),"") -> 13 | M17: =IF($B17<=$K$4,$B17,"") -> 13 | N17: =IF($B17<=$K$4,IF($G17<0,0,$G17),"") -> 64565.449
B18: =IFERROR($B17+1,"") -> 14 | C18: =IFERROR(currentmonthlypayment,"") -> 1750 | D18: =IFERROR(IF(LEN($B18)=0,"",IF(LEN(Dashboard!$D27)=0,0,Dashboard!$D27)),"") -> 0 | E18: =IFERROR(IF(LEN($B18)=0,"",IF(MOD($B18,12)=1,$E17+(ratechange)/12,$E17)),"") -> 0.0069166667 | F18: =IFERROR(IF(LEN($B18)=0,"",($G17+$D18)*$E18),"") -> 446.57769 | G18: =IFERROR(IF(LEN($B18)=0,"",$G17+$F18+$D18-$C18),"") -> 63262.026 | H18: =IFERROR(IF(OR($E18<0,$F18<0),"",$B18),"") -> 14 | I18: =IFERROR(IF(OR($E18<0,$G18<0),"",$B18),"") -> 14 | M18: =IF($B18<=$K$4,$B18,"") -> 14 | N18: =IF($B18<=$K$4,IF($G18<0,0,$G18),"") -> 63262.026
B19: =IFERROR($B18+1,"") -> 15 | C19: =IFERROR(currentmonthlypayment,"") -> 1750 | D19: =IFERROR(IF(LEN($B19)=0,"",IF(LEN(Dashboard!$D28)=0,0,Dashboard!$D28)),"") -> 0 | E19: =IFERROR(IF(LEN($B19)=0,"",IF(MOD($B19,12)=1,$E18+(ratechange)/12,$E18)),"") -> 0.0069166667 | F19: =IFERROR(IF(LEN($B19)=0,"",($G18+$D19)*$E19),"") -> 437.56235 | G19: =IFERROR(IF(LEN($B19)=0,"",$G18+$F19+$D19-$C19),"") -> 61949.589 | H19: =IFERROR(IF(OR($E19<0,$F19<0),"",$B19),"") -> 15 | I19: =IFERROR(IF(OR($E19<0,$G19<0),"",$B19),"") -> 15 | M19: =IF($B19<=$K$4,$B19,"") -> 15 | N19: =IF($B19<=$K$4,IF($G19<0,0,$G19),"") -> 61949.589
B20: =IFERROR($B19+1,"") -> 16 | C20: =IFERROR(currentmonthlypayment,"") -> 1750 | D20: =IFERROR(IF(LEN($B20)=0,"",IF(LEN(Dashboard!$D29)=0,0,Dashboard!$D29)),"") -> 0 | E20: =IFERROR(IF(LEN($B20)=0,"",IF(MOD($B20,12)=1,$E19+(ratechange)/12,$E19)),"") -> 0.0069166667 | F20: =IFERROR(IF(LEN($B20)=0,"",($G19+$D20)*$E20),"") -> 428.48466 | G20: =IFERROR(IF(LEN($B20)=0,"",$G19+$F20+$D20-$C20),"") -> 60628.073 | H20: =IFERROR(IF(OR($E20<0,$F20<0),"",$B20),"") -> 16 | I20: =IFERROR(IF(OR($E20<0,$G20<0),"",$B20),"") -> 16 | M20: =IF($B20<=$K$4,$B20,"") -> 16 | N20: =IF($B20<=$K$4,IF($G20<0,0,$G20),"") -> 60628.073
B21: =IFERROR($B20+1,"") -> 17 | C21: =IFERROR(currentmonthlypayment,"") -> 1750 | D21: =IFERROR(IF(LEN($B21)=0,"",IF(LEN(Dashboard!$D30)=0,0,Dashboard!$D30)),"") -> 0 | E21: =IFERROR(IF(LEN($B21)=0,"",IF(MOD($B21,12)=1,$E20+(ratechange)/12,$E20)),"") -> 0.0069166667 | F21: =IFERROR(IF(LEN($B21)=0,"",($G20+$D21)*$E21),"") -> 419.34417 | G21: =IFERROR(IF(LEN($B21)=0,"",$G20+$F21+$D21-$C21),"") -> 59297.418 | H21: =IFERROR(IF(OR($E21<0,$F21<0),"",$B21),"") -> 17 | I21: =IFERROR(IF(OR($E21<0,$G21<0),"",$B21),"") -> 17 | M21: =IF($B21<=$K$4,$B21,"") -> 17 | N21: =IF($B21<=$K$4,IF($G21<0,0,$G21),"") -> 59297.418
B22: =IFERROR($B21+1,"") -> 18 | C22: =IFERROR(currentmonthlypayment,"") -> 1750 | D22: =IFERROR(IF(LEN($B22)=0,"",IF(LEN(Dashboard!$D31)=0,0,Dashboard!$D31)),"") -> 500 | E22: =IFERROR(IF(LEN($B22)=0,"",IF(MOD($B22,12)=1,$E21+(ratechange)/12,$E21)),"") -> 0.0069166667 | F22: =IFERROR(IF(LEN($B22)=0,"",($G21+$D22)*$E22),"") -> 413.59881 | G22: =IFERROR(IF(LEN($B22)=0,"",$G21+$F22+$D22-$C22),"") -> 58461.016 | H22: =IFERROR(IF(OR($E22<0,$F22<0),"",$B22),"") -> 18 | I22: =IFERROR(IF(OR($E22<0,$G22<0),"",$B22),"") -> 18 | M22: =IF($B22<=$K$4,$B22,"") -> 18 | N22: =IF($B22<=$K$4,IF($G22<0,0,$G22),"") -> 58461.016
... B364: =IFERROR($B363+1,"") -> 360 | C364: =IFERROR(currentmonthlypayment,"") -> 1750 | D364: =IFERROR(IF(LEN($B364)=0,"",IF(LEN(Dashboard!$D373)=0,0,Dashboard!$D373)),"") -> 0 | E364: =IFERROR(IF(LEN($B364)=0,"",IF(MOD($B364,12)=1,$E363+(ratechange)/12,$E363)),"") -> 0.017416667 | F364: =IFERROR(IF(LEN($B364)=0,"",($G363+$D364)*$E364),"") -> -133847.19 | G364: =IFERROR(IF(LEN($B364)=0,"",$G363+$F364+$D364-$C364),"") -> -7820603.3 | H364: =IFERROR(IF(OR($E364<0,$F364<0),"",$B364),"") | I364: =IFERROR(IF(OR($E364<0,$G364<0),"",$B364),"") | M364: =IF($B364<=$K$4,$B364,"") | N364: =IF($B364<=$K$4,IF($G364<0,0,$G364),"")
