Workbook
Name chartactual: OFFSET(Calc!$R$26,,,Calc!$O$25)
Name chartcompleted: OFFSET(Calc!$U$26,,,Calc!$O$25)
Name chartexpected: OFFSET(Calc!$Q$26,,,Calc!$O$25)
Name chartinprogress: OFFSET(Calc!$T$26,,,Calc!$O$25)
Name chartlabels: OFFSET(Calc!$P$26,,,Calc!$O$25)
Name chartnotstarted: OFFSET(Calc!$S$26,,,Calc!$O$25)
Name list: Dashboard!$G$8
Name subactchart: OFFSET(Calc!$S$19,,,Calc!$O$18)
Name subcatchart: OFFSET(Calc!$Q$19,,,Calc!$O$18)
Name subexpchart: OFFSET(Calc!$R$19,,,Calc!$O$18)

Sheet Dashboard
C2: EVENT BUDGET TEMPLATE
C3: DASHBOARD
F8: Select Category: | G8: Catering

Sheet Input
C2: EVENT BUDGET TEMPLATE
C3: INPUT
C6: Event Name | I6: Owner Name | J6: Event Date | K6: Tasks to be Completed | L6: Expected Expense | M6: Actual Expense
K7: =IFERROR(IF(LEN(Calc!$G$3)=0,"",Calc!$G$3),"") -> 18 | L7: =SUM($D$21,$D$34,$D$47,$D$60,$D$73,$J$73,$J$60,$J$47,$J$34,$J$21) -> 89500 | M7: =SUM(E21,E34,E47,E60,E73,K73,K60,K47,K34,K21) -> 84480
C10: Venue | D10: Expected Expense | E10: Actual Expense | F10: Responsible | G10: Status | I10: Catering | J10: Expected Expense | K10: Actual Expense | L10: Responsible | M10: Status
C11: Venue Rental | D11: 10000 | E11: 9500 | F11: John | G11: Completed | I11: Food | J11: 8000 | K11: 7500 | L11: Sarah | M11: In Progress
C12: Insurance | D12: 2000 | E12: 2000 | F12: Sarah | G12: Not Started | I12: Beverage | J12: 4000 | K12: 3800 | L12: James | M12: Completed
C13: Utilities | D13: 1000 | E13: 950 | F13: James | G13: Completed | I13: Bar Services | J13: 2000 | K13: 1800 | L13: Emma | M13: Completed
C14: Security | D14: 3000 | E14: 2800 | F14: Emma | G14: In Progress | I14: Staffing | J14: 3000 | K14: 2800 | L14: John | M14: In Progress
C21: Subtotal: | D21: =SUM(D11:D15) -> 16000 | E21: =SUM(E11:E15) -> 15250 | G21: ="Tasks to be completed: "&COUNTIFS($G$11:$G$15,"<>"&"Completed",$G$11:$G$15,"<>") -> Tasks to be completed: 2 | I21: Subtotal: | J21: =SUM(J11:J15) -> 17000 | K21: =SUM(K11:K15) -> 15900 | M21: ="Tasks to be completed: "&COUNTIFS(M11:M15,"<>"&"Completed",M11:M15,"<>") -> Tasks to be completed: 2
C23: Entertainment | D23: Expected Expense | E23: Actual Expense | F23: Responsible | G23: Status | I23: Decoration | J23: Expected Expense | K23: Actual Expense | L23: Responsible | M23: Status
C24: Performers | D24: 5000 | E24: 4800 | F24: James | G24: Completed | I24: Floral Arrangements | J24: 2500 | K24: 2400 | L24: Emma | M24: Not Started
C25: Sound System | D25: 2000 | E25: 1800 | F25: Emma | G25: In Progress | I25: Table Centerpieces | J25: 1500 | K25: 1400 | L25: John | M25: Completed
C26: Lighting | D26: 1500 | E26: 1400 | F26: John | G26: Not Started | I26: Linens | J26: 1000 | K26: 950 | L26: Sarah | M26: Completed
C27: Stage Setup | D27: 2000 | E27: 1900 | F27: Sarah | G27: In Progress | I27: Lighting | J27: 1000 | K27: 950 | L27: James | M27: Completed
C34: Subtotal: | D34: =SUM(D24:D28) -> 10500 | E34: =SUM(E24:E28) -> 9900 | G34: ="Tasks to be completed: "&COUNTIFS(G24:G28,"<>"&"Completed",G24:G28,"<>") -> Tasks to be completed: 3 | I34: Subtotal: | J34: =SUM(J24:J28) -> 6000 | K34: =SUM(K24:K28) -> 5700 | M34: ="Tasks to be completed: "&COUNTIFS(M24:M28,"<>"&"Completed",M24:M28,"<>") -> Tasks to be completed: 1
C36: Audio/Visual | D36: Expected Expense | E36: Actual Expense | F36: Responsible | G36: Status | I36: Marketing | J36: Expected Expense | K36: Actual Expense | L36: Responsible | M36: Status
C37: Equipment Rental | D37: 4000 | E37: 3800 | F37: John | G37: In Progress | I37: Printing | J37: 1500 | K37: 1400 | L37: Sarah | M37: Completed
C38: Technician Services | D38: 2000 | E38: 1900 | F38: Sarah | G38: Not Started | I38: Advertising | J38: 2500 | K38: 2400 | L38: James | M38: Completed
C39: Projection | D39: 1500 | E39: 1400 | F39: James | G39: Completed | I39: Graphic Design | J39: 1000 | K39: 950 | L39: Emma | M39: Not Started
C40: Sound System | D40: 1500 | E40: 1400 | F40: Emma | G40: Completed | I40: Promotional Items | J40: 1000 | K40: 950 | L40: John | M40: Completed
C47: Subtotal: | D47: =SUM(D37:D41) -> 9000 | E47: =SUM(E37:E41) -> 8500 | G47: ="Tasks to be completed: "&COUNTIFS(G37:G41,"<>"&"Completed",G37:G41,"<>") -> Tasks to be completed: 2 | I47: Subtotal: | J47: =SUM(J37:J41) -> 6000 | K47: =SUM(K37:K41) -> 5700 | M47: ="Tasks to be completed: "&COUNTIFS(M37:M41,"<>"&"Completed",M37:M41,"<>") -> Tasks to be completed: 1
C49: Staffing | D49: Expected Expense | E49: Actual Expense | F49: Responsible | G49: Status | I49: Transportation | J49: Expected Expense | K49: Actual Expense | L49: Responsible | M49: Status
C50: Event Coordinator | D50: 3000 | E50: 2800 | F50: James | G50: Completed | I50: Transportation Services | J50: 2000 | K50: 1900 | L50: Emma | M50: In Progress
C51: Registration | D51: 1500 | E51: 1400 | F51: Emma | G51: Completed | I51: Parking | J51: 1000 | K51: 950 | L51: John | M51: Not Started
C52: Ushers | D52: 1000 | E52: 950 | F52: John | G52: Completed | I52: Shuttle Service | J52: 1500 | K52: 1400 | L52: Sarah | M52: In Progress
C53: Volunteers | D53: 1500 | E53: 1400 | F53: Sarah | G53: In Progress | I53: Rental Vehicles | J53: 2000 | K53: 1900 | L53: James | M53: In Progress
C60: Subtotal: | D60: =SUM(D50:D54) -> 7000 | E60: =SUM(E50:E54) -> 6550 | G60: ="Tasks to be completed: "&COUNTIFS(G50:G54,"<>"&"Completed",G50:G54,"<>") -> Tasks to be completed: 1 | I60: Subtotal: | J60: =SUM(J50:J54) -> 6500 | K60: =SUM(K50:K54) -> 6150 | M60: ="Tasks to be completed: "&COUNTIFS(M50:M54,"<>"&"Completed",M50:M54,"<>") -> Tasks to be completed: 4
C62: Permits / Licenses | D62: Expected Expense | E62: Actual Expense | F62: Responsible | G62: Status | I62: Miscellaneous | J62: Expected Expense | K62: Actual Expense | L62: Responsible | M62: Status
C63: Event Permits | D63: 1000 | E63: 950 | F63: John | G63: Completed | I63: Event Supplies | J63: 2000 | K63: 1900 | L63: Sarah | M63: Completed
C64: Health Permits | D64: 500 | E64: 480 | F64: Sarah | G64: Completed | I64: Photography.Videography | J64: 3000 | K64: 2800 | L64: James | M64: In Progress
C65: Alcohol License | D65: 1500 | E65: 1400 | F65: James | G65: Completed | I65: Signage Banners | J65: 1000 | K65: 950 | L65: Emma | M65: Completed
C66: Vendor Permits | D66: 1000 | E66: 950 | F66: Emma | G66: Completed | I66: Gifts Souvenirs | J66: 1500 | K66: 1400 | L66: John | M66: In Progress
C73: Subtotal: | D73: =SUM(D63:D67) -> 4000 | E73: =SUM(E63:E67) -> 3780 | G73: ="Tasks to be completed: "&COUNTIFS(G63:G67,"<>"&"Completed",G63:G67,"<>") -> Tasks to be completed: 0 | I73: Subtotal: | J73: =SUM(J63:J67) -> 7500 | K73: =SUM(K63:K67) -> 7050 | M73: ="Tasks to be completed: "&COUNTIFS(M63:M67,"<>"&"Completed",M63:M67,"<>") -> Tasks to be completed: 2

Sheet Calc
G3: =COUNTIFS($G$5:$G$54,"<>" & "Completed")-COUNTBLANK($G$5:$G$54) -> 18 | J3: =COUNT($J$5:$J$54) -> 4
B4: Category | C4: Subcategory | D4: Expected Expense | E4: Actual Expense | F4: Responsible | G4: Status | H4: Index | K4: Name Range | L4: Not Started | M4: In Progress | N4: Completed | P4: Category | Q4: Expected Expense | R4: Actual Expense | S4: Not Started | T4: In Progress | U4: Completed
A5: 1 | B5: =IF(LEN(C5)=0,"",Input!$C$10) -> Venue | C5: =IF(LEN(Input!C11)=0,"",Input!C11) -> Venue Rental | D5: =IF(LEN(Input!D11)=0,"",Input!D11) -> 10000 | E5: =IF(LEN(Input!E11)=0,"",Input!E11) -> 9500 | F5: =IF(LEN(Input!F11)=0,"",Input!F11) -> John | G5: =IF(LEN(Input!G11)=0,"",Input!G11) -> Completed | H5: =IF($B5=$P$18,$A5,"") | J5: =IF(AND(LEN(F5)>0,COUNTIF($F$5:F5,F5)=1),A5,"") -> 1 | K5: {=IFERROR(INDEX($F$5:$F$54,SMALL($J$5:$J$54,$A5)),"")} -> John | L5: =COUNTIFS($G$5:$G$54,L$4,$F$5:$F$54,$K5) -> 2 | M5: =COUNTIFS($G$5:$G$54,M$4,$F$5:$F$54,$K5) -> 3 | N5: =COUNTIFS($G$5:$G$54,N$4,$F$5:$F$54,$K5) -> 5 | P5: {=IFERROR(IF(OR(LEN(Input!$C$10)=0,SUM(LEN($B$5:$B$9))=0),"",Input!$C$10),"")} -> Venue | Q5: =SUMIF($B$5:$B$54,$P5,D$5:D$54) -> 16000 | R5: =SUMIF($B$5:$B$54,$P5,E$5:E$54) -> 15250 | S5: =COUNTIFS($G$5:$G$54,S$4,$B$5:$B$54,$P5) -> 1 | T5: =COUNTIFS($G$5:$G$54,T$4,$B$5:$B$54,$P5) -> 1 | U5: =COUNTIFS($G$5:$G$54,U$4,$B$5:$B$54,$P5) -> 2
A6: 2 | B6: =IF(LEN(C6)=0,"",Input!$C$10) -> Venue | C6: =IF(LEN(Input!C12)=0,"",Input!C12) -> Insurance | D6: =IF(LEN(Input!D12)=0,"",Input!D12) -> 2000 | E6: =IF(LEN(Input!E12)=0,"",Input!E12) -> 2000 | F6: =IF(LEN(Input!F12)=0,"",Input!F12) -> Sarah | G6: =IF(LEN(Input!G12)=0,"",Input!G12) -> Not Started | H6: =IF($B6=$P$18,$A6,"") | J6: =IF(AND(LEN(F6)>0,COUNTIF($F$5:F6,F6)=1),A6,"") -> 2 | K6: {=IFERROR(INDEX($F$5:$F$54,SMALL($J$5:$J$54,$A6)),"")} -> Sarah | L6: =COUNTIFS($G$5:$G$54,L$4,$F$5:$F$54,$K6) -> 2 | M6: =COUNTIFS($G$5:$G$54,M$4,$F$5:$F$54,$K6) -> 4 | N6: =COUNTIFS($G$5:$G$54,N$4,$F$5:$F$54,$K6) -> 4 | P6: {=IFERROR(IF(OR(LEN(Input!$C$23)=0,SUM(LEN($B$10:$B$14))=0),"",Input!$C$23),"")} -> Entertainment | Q6: =SUMIF($B$5:$B$54,$P6,D$5:D$54) -> 10500 | R6: =SUMIF($B$5:$B$54,$P6,E$5:E$54) -> 9900 | S6: =COUNTIFS($G$5:$G$54,S$4,$B$5:$B$54,$P6) -> 1 | T6: =COUNTIFS($G$5:$G$54,T$4,$B$5:$B$54,$P6) -> 2 | U6: =COUNTIFS($G$5:$G$54,U$4,$B$5:$B$54,$P6) -> 1
A7: 3 | B7: =IF(LEN(C7)=0,"",Input!$C$10) -> Venue | C7: =IF(LEN(Input!C13)=0,"",Input!C13) -> Utilities | D7: =IF(LEN(Input!D13)=0,"",Input!D13) -> 1000 | E7: =IF(LEN(Input!E13)=0,"",Input!E13) -> 950 | F7: =IF(LEN(Input!F13)=0,"",Input!F13) -> James | G7: =IF(LEN(Input!G13)=0,"",Input!G13) -> Completed | H7: =IF($B7=$P$18,$A7,"") | J7: =IF(AND(LEN(F7)>0,COUNTIF($F$5:F7,F7)=1),A7,"") -> 3 | K7: {=IFERROR(INDEX($F$5:$F$54,SMALL($J$5:$J$54,$A7)),"")} -> James | L7: =COUNTIFS($G$5:$G$54,L$4,$F$5:$F$54,$K7) -> 0 | M7: =COUNTIFS($G$5:$G$54,M$4,$F$5:$F$54,$K7) -> 2 | N7: =COUNTIFS($G$5:$G$54,N$4,$F$5:$F$54,$K7) -> 8 | P7: {=IFERROR(IF(OR(LEN(Input!$C$36)=0,SUM(LEN($B$15:$B$19))=0),"",Input!$C$36),"")} -> Audio/Visual | Q7: =SUMIF($B$5:$B$54,$P7,D$5:D$54) -> 9000 | R7: =SUMIF($B$5:$B$54,$P7,E$5:E$54) -> 8500 | S7: =COUNTIFS($G$5:$G$54,S$4,$B$5:$B$54,$P7) -> 1 | T7: =COUNTIFS($G$5:$G$54,T$4,$B$5:$B$54,$P7) -> 1 | U7: =COUNTIFS($G$5:$G$54,U$4,$B$5:$B$54,$P7) -> 2
A8: 4 | B8: =IF(LEN(C8)=0,"",Input!$C$10) -> Venue | C8: =IF(LEN(Input!C14)=0,"",Input!C14) -> Security | D8: =IF(LEN(Input!D14)=0,"",Input!D14) -> 3000 | E8: =IF(LEN(Input!E14)=0,"",Input!E14) -> 2800 | F8: =IF(LEN(Input!F14)=0,"",Input!F14) -> Emma | G8: =IF(LEN(Input!G14)=0,"",Input!G14) -> In Progress | H8: =IF($B8=$P$18,$A8,"") | J8: =IF(AND(LEN(F8)>0,COUNTIF($F$5:F8,F8)=1),A8,"") -> 4 | K8: {=IFERROR(INDEX($F$5:$F$54,SMALL($J$5:$J$54,$A8)),"")} -> Emma | L8: =COUNTIFS($G$5:$G$54,L$4,$F$5:$F$54,$K8) -> 2 | M8: =COUNTIFS($G$5:$G$54,M$4,$F$5:$F$54,$K8) -> 3 | N8: =COUNTIFS($G$5:$G$54,N$4,$F$5:$F$54,$K8) -> 5 | P8: {=IFERROR(IF(OR(LEN(Input!$C$49)=0,SUM(LEN($B$20:$B$24))=0),"",Input!$C$49),"")} -> Staffing | Q8: =SUMIF($B$5:$B$54,$P8,D$5:D$54) -> 7000 | R8: =SUMIF($B$5:$B$54,$P8,E$5:E$54) -> 6550 | S8: =COUNTIFS($G$5:$G$54,S$4,$B$5:$B$54,$P8) -> 0 | T8: =COUNTIFS($G$5:$G$54,T$4,$B$5:$B$54,$P8) -> 1 | U8: =COUNTIFS($G$5:$G$54,U$4,$B$5:$B$54,$P8) -> 3
A9: 5 | B9: =IF(LEN(C9)=0,"",Input!$C$10) | C9: =IF(LEN(Input!C15)=0,"",Input!C15) | D9: =IF(LEN(Input!D15)=0,"",Input!D15) | E9: =IF(LEN(Input!E15)=0,"",Input!E15) | F9: =IF(LEN(Input!F15)=0,"",Input!F15) | G9: =IF(LEN(Input!G15)=0,"",Input!G15) | H9: =IF($B9=$P$18,$A9,"") | J9: =IF(AND(LEN(F9)>0,COUNTIF($F$5:F9,F9)=1),A9,"") | K9: {=IFERROR(INDEX($F$5:$F$54,SMALL($J$5:$J$54,$A9)),"")} | L9: =COUNTIFS($G$5:$G$54,L$4,$F$5:$F$54,$K9) -> 0 | M9: =COUNTIFS($G$5:$G$54,M$4,$F$5:$F$54,$K9) -> 0 | N9: =COUNTIFS($G$5:$G$54,N$4,$F$5:$F$54,$K9) -> 0 | P9: {=IFERROR(IF(OR(LEN(Input!$C$62)=0,SUM(LEN($B$25:$B$29))=0),"",Input!$C$62),"")} -> Permits / Licenses | Q9: =SUMIF($B$5:$B$54,$P9,D$5:D$54) -> 4000 | R9: =SUMIF($B$5:$B$54,$P9,E$5:E$54) -> 3780 | S9: =COUNTIFS($G$5:$G$54,S$4,$B$5:$B$54,$P9) -> 0 | T9: =COUNTIFS($G$5:$G$54,T$4,$B$5:$B$54,$P9) -> 0 | U9: =COUNTIFS($G$5:$G$54,U$4,$B$5:$B$54,$P9) -> 4
A10: 6 | B10: =IF(LEN(C10)=0,"",Input!$C$23) -> Entertainment | C10: =IF(LEN(Input!C24)=0,"",Input!C24) -> Performers | D10: =IF(LEN(Input!D24)=0,"",Input!D24) -> 5000 | E10: =IF(LEN(Input!E24)=0,"",Input!E24) -> 4800 | F10: =IF(LEN(Input!F24)=0,"",Input!F24) -> James | G10: =IF(LEN(Input!G24)=0,"",Input!G24) -> Completed | H10: =IF($B10=$P$18,$A10,"") | J10: =IF(AND(LEN(F10)>0,COUNTIF($F$5:F10,F10)=1),A10,"") | K10: {=IFERROR(INDEX($F$5:$F$54,SMALL($J$5:$J$54,$A10)),"")} | L10: =COUNTIFS($G$5:$G$54,L$4,$F$5:$F$54,$K10) -> 0 | M10: =COUNTIFS($G$5:$G$54,M$4,$F$5:$F$54,$K10) -> 0 | N10: =COUNTIFS($G$5:$G$54,N$4,$F$5:$F$54,$K10) -> 0 | P10: {=IFERROR(IF(OR(LEN(Input!$I$10)=0,SUM(LEN($B$30:$B$34))=0),"",Input!$I$10),"")} -> Catering | Q10: =SUMIF($B$5:$B$54,$P10,D$5:D$54) -> 17000 | R10: =SUMIF($B$5:$B$54,$P10,E$5:E$54) -> 15900 | S10: =COUNTIFS($G$5:$G$54,S$4,$B$5:$B$54,$P10) -> 0 | T10: =COUNTIFS($G$5:$G$54,T$4,$B$5:$B$54,$P10) -> 2 | U10: =COUNTIFS($G$5:$G$54,U$4,$B$5:$B$54,$P10) -> 2
A11: 7 | B11: =IF(LEN(C11)=0,"",Input!$C$23) -> Entertainment | C11: =IF(LEN(Input!C25)=0,"",Input!C25) -> Sound System | D11: =IF(LEN(Input!D25)=0,"",Input!D25) -> 2000 | E11: =IF(LEN(Input!E25)=0,"",Input!E25) -> 1800 | F11: =IF(LEN(Input!F25)=0,"",Input!F25) -> Emma | G11: =IF(LEN(Input!G25)=0,"",Input!G25) -> In Progress | H11: =IF($B11=$P$18,$A11,"") | J11: =IF(AND(LEN(F11)>0,COUNTIF($F$5:F11,F11)=1),A11,"") | K11: {=IFERROR(INDEX($F$5:$F$54,SMALL($J$5:$J$54,$A11)),"")} | L11: =COUNTIFS($G$5:$G$54,L$4,$F$5:$F$54,$K11) -> 0 | M11: =COUNTIFS($G$5:$G$54,M$4,$F$5:$F$54,$K11) -> 0 | N11: =COUNTIFS($G$5:$G$54,N$4,$F$5:$F$54,$K11) -> 0 | P11: {=IFERROR(IF(OR(LEN(Input!$I$23)=0,SUM(LEN($B$35:$B$39))=0),"",Input!$I$23),"")} -> Decoration | Q11: =SUMIF($B$5:$B$54,$P11,D$5:D$54) -> 6000 | R11: =SUMIF($B$5:$B$54,$P11,E$5:E$54) -> 5700 | S11: =COUNTIFS($G$5:$G$54,S$4,$B$5:$B$54,$P11) -> 1 | T11: =COUNTIFS($G$5:$G$54,T$4,$B$5:$B$54,$P11) -> 0 | U11: =COUNTIFS($G$5:$G$54,U$4,$B$5:$B$54,$P11) -> 3
A12: 8 | B12: =IF(LEN(C12)=0,"",Input!$C$23) -> Entertainment | C12: =IF(LEN(Input!C26)=0,"",Input!C26) -> Lighting | D12: =IF(LEN(Input!D26)=0,"",Input!D26) -> 1500 | E12: =IF(LEN(Input!E26)=0,"",Input!E26) -> 1400 | F12: =IF(LEN(Input!F26)=0,"",Input!F26) -> John | G12: =IF(LEN(Input!G26)=0,"",Input!G26) -> Not Started | H12: =IF($B12=$P$18,$A12,"") | J12: =IF(AND(LEN(F12)>0,COUNTIF($F$5:F12,F12)=1),A12,"") | K12: {=IFERROR(INDEX($F$5:$F$54,SMALL($J$5:$J$54,$A12)),"")} | L12: =COUNTIFS($G$5:$G$54,L$4,$F$5:$F$54,$K12) -> 0 | M12: =COUNTIFS($G$5:$G$54,M$4,$F$5:$F$54,$K12) -> 0 | N12: =COUNTIFS($G$5:$G$54,N$4,$F$5:$F$54,$K12) -> 0 | P12: {=IFERROR(IF(OR(LEN(Input!$I$36)=0,SUM(LEN($B$40:$B$44))=0),"",Input!$I$36),"")} -> Marketing | Q12: =SUMIF($B$5:$B$54,$P12,D$5:D$54) -> 6000 | R12: =SUMIF($B$5:$B$54,$P12,E$5:E$54) -> 5700 | S12: =COUNTIFS($G$5:$G$54,S$4,$B$5:$B$54,$P12) -> 1 | T12: =COUNTIFS($G$5:$G$54,T$4,$B$5:$B$54,$P12) -> 0 | U12: =COUNTIFS($G$5:$G$54,U$4,$B$5:$B$54,$P12) -> 3
A13: 9 | B13: =IF(LEN(C13)=0,"",Input!$C$23) -> Entertainment | C13: =IF(LEN(Input!C27)=0,"",Input!C27) -> Stage Setup | D13: =IF(LEN(Input!D27)=0,"",Input!D27) -> 2000 | E13: =IF(LEN(Input!E27)=0,"",Input!E27) -> 1900 | F13: =IF(LEN(Input!F27)=0,"",Input!F27) -> Sarah | G13: =IF(LEN(Input!G27)=0,"",Input!G27) -> In Progress | H13: =IF($B13=$P$18,$A13,"") | J13: =IF(AND(LEN(F13)>0,COUNTIF($F$5:F13,F13)=1),A13,"") | K13: {=IFERROR(INDEX($F$5:$F$54,SMALL($J$5:$J$54,$A13)),"")} | L13: =COUNTIFS($G$5:$G$54,L$4,$F$5:$F$54,$K13) -> 0 | M13: =COUNTIFS($G$5:$G$54,M$4,$F$5:$F$54,$K13) -> 0 | N13: =COUNTIFS($G$5:$G$54,N$4,$F$5:$F$54,$K13) -> 0 | P13: {=IFERROR(IF(OR(LEN(Input!$I$49)=0,SUM(LEN($B$45:$B$49))=0),"",Input!$I$49),"")} -> Transportation | Q13: =SUMIF($B$5:$B$54,$P13,D$5:D$54) -> 6500 | R13: =SUMIF($B$5:$B$54,$P13,E$5:E$54) -> 6150 | S13: =COUNTIFS($G$5:$G$54,S$4,$B$5:$B$54,$P13) -> 1 | T13: =COUNTIFS($G$5:$G$54,T$4,$B$5:$B$54,$P13) -> 3 | U13: =COUNTIFS($G$5:$G$54,U$4,$B$5:$B$54,$P13) -> 0
A14: 10 | B14: =IF(LEN(C14)=0,"",Input!$C$23) | C14: =IF(LEN(Input!C28)=0,"",Input!C28) | D14: =IF(LEN(Input!D28)=0,"",Input!D28) | E14: =IF(LEN(Input!E28)=0,"",Input!E28) | F14: =IF(LEN(Input!F28)=0,"",Input!F28) | G14: =IF(LEN(Input!G28)=0,"",Input!G28) | H14: =IF($B14=$P$18,$A14,"") | J14: =IF(AND(LEN(F14)>0,COUNTIF($F$5:F14,F14)=1),A14,"") | K14: {=IFERROR(INDEX($F$5:$F$54,SMALL($J$5:$J$54,$A14)),"")} | L14: =COUNTIFS($G$5:$G$54,L$4,$F$5:$F$54,$K14) -> 0 | M14: =COUNTIFS($G$5:$G$54,M$4,$F$5:$F$54,$K14) -> 0 | N14: =COUNTIFS($G$5:$G$54,N$4,$F$5:$F$54,$K14) -> 0 | P14: {=IFERROR(IF(OR(LEN(Input!$I$62)=0,SUM(LEN($B$50:$B$54))=0),"",Input!$I$62),"")} -> Miscellaneous | Q14: =SUMIF($B$5:$B$54,$P14,D$5:D$54) -> 7500 | R14: =SUMIF($B$5:$B$54,$P14,E$5:E$54) -> 7050 | S14: =COUNTIFS($G$5:$G$54,S$4,$B$5:$B$54,$P14) -> 0 | T14: =COUNTIFS($G$5:$G$54,T$4,$B$5:$B$54,$P14) -> 2 | U14: =COUNTIFS($G$5:$G$54,U$4,$B$5:$B$54,$P14) -> 2
A15: 11 | B15: =IF(LEN(C15)=0,"",Input!$C$36) -> Audio/Visual | C15: =IF(LEN(Input!C37)=0,"",Input!C37) -> Equipment Rental | D15: =IF(LEN(Input!D37)=0,"",Input!D37) -> 4000 | E15: =IF(LEN(Input!E37)=0,"",Input!E37) -> 3800 | F15: =IF(LEN(Input!F37)=0,"",Input!F37) -> John | G15: =IF(LEN(Input!G37)=0,"",Input!G37) -> In Progress | H15: =IF($B15=$P$18,$A15,"") | J15: =IF(AND(LEN(F15)>0,COUNTIF($F$5:F15,F15)=1),A15,"") | K15: {=IFERROR(INDEX($F$5:$F$54,SMALL($J$5:$J$54,$A15)),"")} | L15: =COUNTIFS($G$5:$G$54,L$4,$F$5:$F$54,$K15) -> 0 | M15: =COUNTIFS($G$5:$G$54,M$4,$F$5:$F$54,$K15) -> 0 | N15: =COUNTIFS($G$5:$G$54,N$4,$F$5:$F$54,$K15) -> 0
A16: 12 | B16: =IF(LEN(C16)=0,"",Input!$C$36) -> Audio/Visual | C16: =IF(LEN(Input!C38)=0,"",Input!C38) -> Technician Services | D16: =IF(LEN(Input!D38)=0,"",Input!D38) -> 2000 | E16: =IF(LEN(Input!E38)=0,"",Input!E38) -> 1900 | F16: =IF(LEN(Input!F38)=0,"",Input!F38) -> Sarah | G16: =IF(LEN(Input!G38)=0,"",Input!G38) -> Not Started | H16: =IF($B16=$P$18,$A16,"") | J16: =IF(AND(LEN(F16)>0,COUNTIF($F$5:F16,F16)=1),A16,"") | K16: {=IFERROR(INDEX($F$5:$F$54,SMALL($J$5:$J$54,$A16)),"")} | L16: =COUNTIFS($G$5:$G$54,L$4,$F$5:$F$54,$K16) -> 0 | M16: =COUNTIFS($G$5:$G$54,M$4,$F$5:$F$54,$K16) -> 0 | N16: =COUNTIFS($G$5:$G$54,N$4,$F$5:$F$54,$K16) -> 0
A17: 13 | B17: =IF(LEN(C17)=0,"",Input!$C$36) -> Audio/Visual | C17: =IF(LEN(Input!C39)=0,"",Input!C39) -> Projection | D17: =IF(LEN(Input!D39)=0,"",Input!D39) -> 1500 | E17: =IF(LEN(Input!E39)=0,"",Input!E39) -> 1400 | F17: =IF(LEN(Input!F39)=0,"",Input!F39) -> James | G17: =IF(LEN(Input!G39)=0,"",Input!G39) -> Completed | H17: =IF($B17=$P$18,$A17,"") | J17: =IF(AND(LEN(F17)>0,COUNTIF($F$5:F17,F17)=1),A17,"") | K17: {=IFERROR(INDEX($F$5:$F$54,SMALL($J$5:$J$54,$A17)),"")} | L17: =COUNTIFS($G$5:$G$54,L$4,$F$5:$F$54,$K17) -> 0 | M17: =COUNTIFS($G$5:$G$54,M$4,$F$5:$F$54,$K17) -> 0 | N17: =COUNTIFS($G$5:$G$54,N$4,$F$5:$F$54,$K17) -> 0
A18: 14 | B18: =IF(LEN(C18)=0,"",Input!$C$36) -> Audio/Visual | C18: =IF(LEN(Input!C40)=0,"",Input!C40) -> Sound System | D18: =IF(LEN(Input!D40)=0,"",Input!D40) -> 1500 | E18: =IF(LEN(Input!E40)=0,"",Input!E40) -> 1400 | F18: =IF(LEN(Input!F40)=0,"",Input!F40) -> Emma | G18: =IF(LEN(Input!G40)=0,"",Input!G40) -> Completed | H18: =IF($B18=$P$18,$A18,"") | J18: =IF(AND(LEN(F18)>0,COUNTIF($F$5:F18,F18)=1),A18,"") | K18: {=IFERROR(INDEX($F$5:$F$54,SMALL($J$5:$J$54,$A18)),"")} | L18: =COUNTIFS($G$5:$G$54,L$4,$F$5:$F$54,$K18) -> 0 | M18: =COUNTIFS($G$5:$G$54,M$4,$F$5:$F$54,$K18) -> 0 | N18: =COUNTIFS($G$5:$G$54,N$4,$F$5:$F$54,$K18) -> 0 | O18: =MAX(COUNTA($Q$19:$Q$23)-COUNTBLANK($Q$19:$Q$23),1) -> 4 | P18: =list -> Catering | Q18: Sub-category | R18: Expected Expense | S18: Actual Expense
A19: 15 | B19: =IF(LEN(C19)=0,"",Input!$C$36) | C19: =IF(LEN(Input!C41)=0,"",Input!C41) | D19: =IF(LEN(Input!D41)=0,"",Input!D41) | E19: =IF(LEN(Input!E41)=0,"",Input!E41) | F19: =IF(LEN(Input!F41)=0,"",Input!F41) | G19: =IF(LEN(Input!G41)=0,"",Input!G41) | H19: =IF($B19=$P$18,$A19,"") | J19: =IF(AND(LEN(F19)>0,COUNTIF($F$5:F19,F19)=1),A19,"") | K19: {=IFERROR(INDEX($F$5:$F$54,SMALL($J$5:$J$54,$A19)),"")} | L19: =COUNTIFS($G$5:$G$54,L$4,$F$5:$F$54,$K19) -> 0 | M19: =COUNTIFS($G$5:$G$54,M$4,$F$5:$F$54,$K19) -> 0 | N19: =COUNTIFS($G$5:$G$54,N$4,$F$5:$F$54,$K19) -> 0 | P19: 1 | Q19: {=IFERROR(INDEX(C$5:C$54,SMALL($H$5:$H$54,$P19)),"")} -> Food | R19: {=IFERROR(INDEX(D$5:D$54,SMALL($H$5:$H$54,$P19)),"")} -> 8000 | S19: {=IFERROR(INDEX(E$5:E$54,SMALL($H$5:$H$54,$P19)),"")} -> 7500
A20: 16 | B20: =IF(LEN(C20)=0,"",Input!$C$49) -> Staffing | C20: =IF(LEN(Input!C50)=0,"",Input!C50) -> Event Coordinator | D20: =IF(LEN(Input!D50)=0,"",Input!D50) -> 3000 | E20: =IF(LEN(Input!E50)=0,"",Input!E50) -> 2800 | F20: =IF(LEN(Input!F50)=0,"",Input!F50) -> James | G20: =IF(LEN(Input!G50)=0,"",Input!G50) -> Completed | H20: =IF($B20=$P$18,$A20,"") | J20: =IF(AND(LEN(F20)>0,COUNTIF($F$5:F20,F20)=1),A20,"") | K20: {=IFERROR(INDEX($F$5:$F$54,SMALL($J$5:$J$54,$A20)),"")} | L20: =COUNTIFS($G$5:$G$54,L$4,$F$5:$F$54,$K20) -> 0 | M20: =COUNTIFS($G$5:$G$54,M$4,$F$5:$F$54,$K20) -> 0 | N20: =COUNTIFS($G$5:$G$54,N$4,$F$5:$F$54,$K20) -> 0 | P20: 2 | Q20: {=IFERROR(INDEX(C$5:C$54,SMALL($H$5:$H$54,$P20)),"")} -> Beverage | R20: {=IFERROR(INDEX(D$5:D$54,SMALL($H$5:$H$54,$P20)),"")} -> 4000 | S20: {=IFERROR(INDEX(E$5:E$54,SMALL($H$5:$H$54,$P20)),"")} -> 3800
A21: 17 | B21: =IF(LEN(C21)=0,"",Input!$C$49) -> Staffing | C21: =IF(LEN(Input!C51)=0,"",Input!C51) -> Registration | D21: =IF(LEN(Input!D51)=0,"",Input!D51) -> 1500 | E21: =IF(LEN(Input!E51)=0,"",Input!E51) -> 1400 | F21: =IF(LEN(Input!F51)=0,"",Input!F51) -> Emma | G21: =IF(LEN(Input!G51)=0,"",Input!G51) -> Completed | H21: =IF($B21=$P$18,$A21,"") | J21: =IF(AND(LEN(F21)>0,COUNTIF($F$5:F21,F21)=1),A21,"") | K21: {=IFERROR(INDEX($F$5:$F$54,SMALL($J$5:$J$54,$A21)),"")} | L21: =COUNTIFS($G$5:$G$54,L$4,$F$5:$F$54,$K21) -> 0 | M21: =COUNTIFS($G$5:$G$54,M$4,$F$5:$F$54,$K21) -> 0 | N21: =COUNTIFS($G$5:$G$54,N$4,$F$5:$F$54,$K21) -> 0 | P21: 3 | Q21: {=IFERROR(INDEX(C$5:C$54,SMALL($H$5:$H$54,$P21)),"")} -> Bar Services | R21: {=IFERROR(INDEX(D$5:D$54,SMALL($H$5:$H$54,$P21)),"")} -> 2000 | S21: {=IFERROR(INDEX(E$5:E$54,SMALL($H$5:$H$54,$P21)),"")} -> 1800
A22: 18 | B22: =IF(LEN(C22)=0,"",Input!$C$49) -> Staffing | C22: =IF(LEN(Input!C52)=0,"",Input!C52) -> Ushers | D22: =IF(LEN(Input!D52)=0,"",Input!D52) -> 1000 | E22: =IF(LEN(Input!E52)=0,"",Input!E52) -> 950 | F22: =IF(LEN(Input!F52)=0,"",Input!F52) -> John | G22: =IF(LEN(Input!G52)=0,"",Input!G52) -> Completed | H22: =IF($B22=$P$18,$A22,"") | J22: =IF(AND(LEN(F22)>0,COUNTIF($F$5:F22,F22)=1),A22,"") | K22: {=IFERROR(INDEX($F$5:$F$54,SMALL($J$5:$J$54,$A22)),"")} | L22: =COUNTIFS($G$5:$G$54,L$4,$F$5:$F$54,$K22) -> 0 | M22: =COUNTIFS($G$5:$G$54,M$4,$F$5:$F$54,$K22) -> 0 | N22: =COUNTIFS($G$5:$G$54,N$4,$F$5:$F$54,$K22) -> 0 | P22: 4 | Q22: {=IFERROR(INDEX(C$5:C$54,SMALL($H$5:$H$54,$P22)),"")} -> Staffing | R22: {=IFERROR(INDEX(D$5:D$54,SMALL($H$5:$H$54,$P22)),"")} -> 3000 | S22: {=IFERROR(INDEX(E$5:E$54,SMALL($H$5:$H$54,$P22)),"")} -> 2800
A23: 19 | B23: =IF(LEN(C23)=0,"",Input!$C$49) -> Staffing | C23: =IF(LEN(Input!C53)=0,"",Input!C53) -> Volunteers | D23: =IF(LEN(Input!D53)=0,"",Input!D53) -> 1500 | E23: =IF(LEN(Input!E53)=0,"",Input!E53) -> 1400 | F23: =IF(LEN(Input!F53)=0,"",Input!F53) -> Sarah | G23: =IF(LEN(Input!G53)=0,"",Input!G53) -> In Progress | H23: =IF($B23=$P$18,$A23,"") | J23: =IF(AND(LEN(F23)>0,COUNTIF($F$5:F23,F23)=1),A23,"") | K23: {=IFERROR(INDEX($F$5:$F$54,SMALL($J$5:$J$54,$A23)),"")} | L23: =COUNTIFS($G$5:$G$54,L$4,$F$5:$F$54,$K23) -> 0 | M23: =COUNTIFS($G$5:$G$54,M$4,$F$5:$F$54,$K23) -> 0 | N23: =COUNTIFS($G$5:$G$54,N$4,$F$5:$F$54,$K23) -> 0 | P23: 5 | Q23: {=IFERROR(INDEX(C$5:C$54,SMALL($H$5:$H$54,$P23)),"")} | R23: {=IFERROR(INDEX(D$5:D$54,SMALL($H$5:$H$54,$P23)),"")} | S23: {=IFERROR(INDEX(E$5:E$54,SMALL($H$5:$H$54,$P23)),"")}
A24: 20 | B24: =IF(LEN(C24)=0,"",Input!$C$49) | C24: =IF(LEN(Input!C54)=0,"",Input!C54) | D24: =IF(LEN(Input!D54)=0,"",Input!D54) | E24: =IF(LEN(Input!E54)=0,"",Input!E54) | F24: =IF(LEN(Input!F54)=0,"",Input!F54) | G24: =IF(LEN(Input!G54)=0,"",Input!G54) | H24: =IF($B24=$P$18,$A24,"") | J24: =IF(AND(LEN(F24)>0,COUNTIF($F$5:F24,F24)=1),A24,"") | K24: {=IFERROR(INDEX($F$5:$F$54,SMALL($J$5:$J$54,$A24)),"")} | L24: =COUNTIFS($G$5:$G$54,L$4,$F$5:$F$54,$K24) -> 0 | M24: =COUNTIFS($G$5:$G$54,M$4,$F$5:$F$54,$K24) -> 0 | N24: =COUNTIFS($G$5:$G$54,N$4,$F$5:$F$54,$K24) -> 0 | P24: Dynamic
A25: 21 | B25: =IF(LEN(C25)=0,"",Input!$C$62) -> Permits / Licenses | C25: =IF(LEN(Input!C63)=0,"",Input!C63) -> Event Permits | D25: =IF(LEN(Input!D63)=0,"",Input!D63) -> 1000 | E25: =IF(LEN(Input!E63)=0,"",Input!E63) -> 950 | F25: =IF(LEN(Input!F63)=0,"",Input!F63) -> John | G25: =IF(LEN(Input!G63)=0,"",Input!G63) -> Completed | H25: =IF($B25=$P$18,$A25,"") | J25: =IF(AND(LEN(F25)>0,COUNTIF($F$5:F25,F25)=1),A25,"") | K25: {=IFERROR(INDEX($F$5:$F$54,SMALL($J$5:$J$54,$A25)),"")} | L25: =COUNTIFS($G$5:$G$54,L$4,$F$5:$F$54,$K25) -> 0 | M25: =COUNTIFS($G$5:$G$54,M$4,$F$5:$F$54,$K25) -> 0 | N25: =COUNTIFS($G$5:$G$54,N$4,$F$5:$F$54,$K25) -> 0 | O25: =MAX(COUNTA($P$26:$P$35)-COUNTBLANK(P26:P35),1) -> 10 | P25: Category | Q25: Expected Expense | R25: Actual Expense | S25: Not Started | T25: In Progress | U25: Completed
A26: 22 | B26: =IF(LEN(C26)=0,"",Input!$C$62) -> Permits / Licenses | C26: =IF(LEN(Input!C64)=0,"",Input!C64) -> Health Permits | D26: =IF(LEN(Input!D64)=0,"",Input!D64) -> 500 | E26: =IF(LEN(Input!E64)=0,"",Input!E64) -> 480 | F26: =IF(LEN(Input!F64)=0,"",Input!F64) -> Sarah | G26: =IF(LEN(Input!G64)=0,"",Input!G64) -> Completed | H26: =IF($B26=$P$18,$A26,"") | J26: =IF(AND(LEN(F26)>0,COUNTIF($F$5:F26,F26)=1),A26,"") | K26: {=IFERROR(INDEX($F$5:$F$54,SMALL($J$5:$J$54,$A26)),"")} | L26: =COUNTIFS($G$5:$G$54,L$4,$F$5:$F$54,$K26) -> 0 | M26: =COUNTIFS($G$5:$G$54,M$4,$F$5:$F$54,$K26) -> 0 | N26: =COUNTIFS($G$5:$G$54,N$4,$F$5:$F$54,$K26) -> 0 | P26: {=IFERROR(INDEX($P$5:$P$14, MATCH(0, COUNTIF($P$25:$P25, $P$5:$P$14&"") + IF($P$5:$P$14="",1,0), 0)), "")} -> Venue | Q26: =IFERROR(IF(LEN($P26)=0,"",SUMIF($B$5:$B$54,$P26,D$5:D$54)),"") -> 16000 | R26: =IFERROR(IF(LEN($P26)=0,"",SUMIF($B$5:$B$54,$P26,E$5:E$54)),"") -> 15250 | S26: =IFERROR(IF(LEN($P26)=0,"",COUNTIFS($G$5:$G$54,S$4,$B$5:$B$54,$P26)),"") -> 1 | T26: =IFERROR(IF(LEN($P26)=0,"",COUNTIFS($G$5:$G$54,T$4,$B$5:$B$54,$P26)),"") -> 1 | U26: =IFERROR(IF(LEN($P26)=0,"",COUNTIFS($G$5:$G$54,U$4,$B$5:$B$54,$P26)),"") -> 2
A27: 23 | B27: =IF(LEN(C27)=0,"",Input!$C$62) -> Permits / Licenses | C27: =IF(LEN(Input!C65)=0,"",Input!C65) -> Alcohol License | D27: =IF(LEN(Input!D65)=0,"",Input!D65) -> 1500 | E27: =IF(LEN(Input!E65)=0,"",Input!E65) -> 1400 | F27: =IF(LEN(Input!F65)=0,"",Input!F65) -> James | G27: =IF(LEN(Input!G65)=0,"",Input!G65) -> Completed | H27: =IF($B27=$P$18,$A27,"") | J27: =IF(AND(LEN(F27)>0,COUNTIF($F$5:F27,F27)=1),A27,"") | K27: {=IFERROR(INDEX($F$5:$F$54,SMALL($J$5:$J$54,$A27)),"")} | L27: =COUNTIFS($G$5:$G$54,L$4,$F$5:$F$54,$K27) -> 0 | M27: =COUNTIFS($G$5:$G$54,M$4,$F$5:$F$54,$K27) -> 0 | N27: =COUNTIFS($G$5:$G$54,N$4,$F$5:$F$54,$K27) -> 0 | P27: {=IFERROR(INDEX($P$5:$P$14, MATCH(0, COUNTIF($P$25:$P26, $P$5:$P$14&"") + IF($P$5:$P$14="",1,0), 0)), "")} -> Entertainment | Q27: =IFERROR(IF(LEN($P27)=0,"",SUMIF($B$5:$B$54,$P27,D$5:D$54)),"") -> 10500 | R27: =IFERROR(IF(LEN($P27)=0,"",SUMIF($B$5:$B$54,$P27,E$5:E$54)),"") -> 9900 | S27: =IFERROR(IF(LEN($P27)=0,"",COUNTIFS($G$5:$G$54,S$4,$B$5:$B$54,$P27)),"") -> 1 | T27: =IFERROR(IF(LEN($P27)=0,"",COUNTIFS($G$5:$G$54,T$4,$B$5:$B$54,$P27)),"") -> 2 | U27: =IFERROR(IF(LEN($P27)=0,"",COUNTIFS($G$5:$G$54,U$4,$B$5:$B$54,$P27)),"") -> 1
A28: 24 | B28: =IF(LEN(C28)=0,"",Input!$C$62) -> Permits / Licenses | C28: =IF(LEN(Input!C66)=0,"",Input!C66) -> Vendor Permits | D28: =IF(LEN(Input!D66)=0,"",Input!D66) -> 1000 | E28: =IF(LEN(Input!E66)=0,"",Input!E66) -> 950 | F28: =IF(LEN(Input!F66)=0,"",Input!F66) -> Emma | G28: =IF(LEN(Input!G66)=0,"",Input!G66) -> Completed | H28: =IF($B28=$P$18,$A28,"") | J28: =IF(AND(LEN(F28)>0,COUNTIF($F$5:F28,F28)=1),A28,"") | K28: {=IFERROR(INDEX($F$5:$F$54,SMALL($J$5:$J$54,$A28)),"")} | L28: =COUNTIFS($G$5:$G$54,L$4,$F$5:$F$54,$K28) -> 0 | M28: =COUNTIFS($G$5:$G$54,M$4,$F$5:$F$54,$K28) -> 0 | N28: =COUNTIFS($G$5:$G$54,N$4,$F$5:$F$54,$K28) -> 0 | P28: {=IFERROR(INDEX($P$5:$P$14, MATCH(0, COUNTIF($P$25:$P27, $P$5:$P$14&"") + IF($P$5:$P$14="",1,0), 0)), "")} -> Audio/Visual | Q28: =IFERROR(IF(LEN($P28)=0,"",SUMIF($B$5:$B$54,$P28,D$5:D$54)),"") -> 9000 | R28: =IFERROR(IF(LEN($P28)=0,"",SUMIF($B$5:$B$54,$P28,E$5:E$54)),"") -> 8500 | S28: =IFERROR(IF(LEN($P28)=0,"",COUNTIFS($G$5:$G$54,S$4,$B$5:$B$54,$P28)),"") -> 1 | T28: =IFERROR(IF(LEN($P28)=0,"",COUNTIFS($G$5:$G$54,T$4,$B$5:$B$54,$P28)),"") -> 1 | U28: =IFERROR(IF(LEN($P28)=0,"",COUNTIFS($G$5:$G$54,U$4,$B$5:$B$54,$P28)),"") -> 2
A29: 25 | B29: =IF(LEN(C29)=0,"",Input!$C$62) | C29: =IF(LEN(Input!C67)=0,"",Input!C67) | D29: =IF(LEN(Input!D67)=0,"",Input!D67) | E29: =IF(LEN(Input!E67)=0,"",Input!E67) | F29: =IF(LEN(Input!F67)=0,"",Input!F67) | G29: =IF(LEN(Input!G67)=0,"",Input!G67) | H29: =IF($B29=$P$18,$A29,"") | J29: =IF(AND(LEN(F29)>0,COUNTIF($F$5:F29,F29)=1),A29,"") | K29: {=IFERROR(INDEX($F$5:$F$54,SMALL($J$5:$J$54,$A29)),"")} | L29: =COUNTIFS($G$5:$G$54,L$4,$F$5:$F$54,$K29) -> 0 | M29: =COUNTIFS($G$5:$G$54,M$4,$F$5:$F$54,$K29) -> 0 | N29: =COUNTIFS($G$5:$G$54,N$4,$F$5:$F$54,$K29) -> 0 | P29: {=IFERROR(INDEX($P$5:$P$14, MATCH(0, COUNTIF($P$25:$P28, $P$5:$P$14&"") + IF($P$5:$P$14="",1,0), 0)), "")} -> Staffing | Q29: =IFERROR(IF(LEN($P29)=0,"",SUMIF($B$5:$B$54,$P29,D$5:D$54)),"") -> 7000 | R29: =IFERROR(IF(LEN($P29)=0,"",SUMIF($B$5:$B$54,$P29,E$5:E$54)),"") -> 6550 | S29: =IFERROR(IF(LEN($P29)=0,"",COUNTIFS($G$5:$G$54,S$4,$B$5:$B$54,$P29)),"") -> 0 | T29: =IFERROR(IF(LEN($P29)=0,"",COUNTIFS($G$5:$G$54,T$4,$B$5:$B$54,$P29)),"") -> 1 | U29: =IFERROR(IF(LEN($P29)=0,"",COUNTIFS($G$5:$G$54,U$4,$B$5:$B$54,$P29)),"") -> 3
A30: 26 | B30: =IF(LEN(C30)=0,"",Input!$I$10) -> Catering | C30: =IF(LEN(Input!I11)=0,"",Input!I11) -> Food | D30: =IF(LEN(Input!J11)=0,"",Input!J11) -> 8000 | E30: =IF(LEN(Input!K11)=0,"",Input!K11) -> 7500 | F30: =IF(LEN(Input!L11)=0,"",Input!L11) -> Sarah | G30: =IF(LEN(Input!M11)=0,"",Input!M11) -> In Progress | H30: =IF($B30=$P$18,$A30,"") -> 26 | J30: =IF(AND(LEN(F30)>0,COUNTIF($F$5:F30,F30)=1),A30,"") | K30: {=IFERROR(INDEX($F$5:$F$54,SMALL($J$5:$J$54,$A30)),"")} | L30: =COUNTIFS($G$5:$G$54,L$4,$F$5:$F$54,$K30) -> 0 | M30: =COUNTIFS($G$5:$G$54,M$4,$F$5:$F$54,$K30) -> 0 | N30: =COUNTIFS($G$5:$G$54,N$4,$F$5:$F$54,$K30) -> 0 | P30: {=IFERROR(INDEX($P$5:$P$14, MATCH(0, COUNTIF($P$25:$P29, $P$5:$P$14&"") + IF($P$5:$P$14="",1,0), 0)), "")} -> Permits / Licenses | Q30: =IFERROR(IF(LEN($P30)=0,"",SUMIF($B$5:$B$54,$P30,D$5:D$54)),"") -> 4000 | R30: =IFERROR(IF(LEN($P30)=0,"",SUMIF($B$5:$B$54,$P30,E$5:E$54)),"") -> 3780 | S30: =IFERROR(IF(LEN($P30)=0,"",COUNTIFS($G$5:$G$54,S$4,$B$5:$B$54,$P30)),"") -> 0 | T30: =IFERROR(IF(LEN($P30)=0,"",COUNTIFS($G$5:$G$54,T$4,$B$5:$B$54,$P30)),"") -> 0 | U30: =IFERROR(IF(LEN($P30)=0,"",COUNTIFS($G$5:$G$54,U$4,$B$5:$B$54,$P30)),"") -> 4
A31: 27 | B31: =IF(LEN(C31)=0,"",Input!$I$10) -> Catering | C31: =IF(LEN(Input!I12)=0,"",Input!I12) -> Beverage | D31: =IF(LEN(Input!J12)=0,"",Input!J12) -> 4000 | E31: =IF(LEN(Input!K12)=0,"",Input!K12) -> 3800 | F31: =IF(LEN(Input!L12)=0,"",Input!L12) -> James | G31: =IF(LEN(Input!M12)=0,"",Input!M12) -> Completed | H31: =IF($B31=$P$18,$A31,"") -> 27 | J31: =IF(AND(LEN(F31)>0,COUNTIF($F$5:F31,F31)=1),A31,"") | K31: {=IFERROR(INDEX($F$5:$F$54,SMALL($J$5:$J$54,$A31)),"")} | L31: =COUNTIFS($G$5:$G$54,L$4,$F$5:$F$54,$K31) -> 0 | M31: =COUNTIFS($G$5:$G$54,M$4,$F$5:$F$54,$K31) -> 0 | N31: =COUNTIFS($G$5:$G$54,N$4,$F$5:$F$54,$K31) -> 0 | P31: {=IFERROR(INDEX($P$5:$P$14, MATCH(0, COUNTIF($P$25:$P30, $P$5:$P$14&"") + IF($P$5:$P$14="",1,0), 0)), "")} -> Catering | Q31: =IFERROR(IF(LEN($P31)=0,"",SUMIF($B$5:$B$54,$P31,D$5:D$54)),"") -> 17000 | R31: =IFERROR(IF(LEN($P31)=0,"",SUMIF($B$5:$B$54,$P31,E$5:E$54)),"") -> 15900 | S31: =IFERROR(IF(LEN($P31)=0,"",COUNTIFS($G$5:$G$54,S$4,$B$5:$B$54,$P31)),"") -> 0 | T31: =IFERROR(IF(LEN($P31)=0,"",COUNTIFS($G$5:$G$54,T$4,$B$5:$B$54,$P31)),"") -> 2 | U31: =IFERROR(IF(LEN($P31)=0,"",COUNTIFS($G$5:$G$54,U$4,$B$5:$B$54,$P31)),"") -> 2
A32: 28 | B32: =IF(LEN(C32)=0,"",Input!$I$10) -> Catering | C32: =IF(LEN(Input!I13)=0,"",Input!I13) -> Bar Services | D32: =IF(LEN(Input!J13)=0,"",Input!J13) -> 2000 | E32: =IF(LEN(Input!K13)=0,"",Input!K13) -> 1800 | F32: =IF(LEN(Input!L13)=0,"",Input!L13) -> Emma | G32: =IF(LEN(Input!M13)=0,"",Input!M13) -> Completed | H32: =IF($B32=$P$18,$A32,"") -> 28 | J32: =IF(AND(LEN(F32)>0,COUNTIF($F$5:F32,F32)=1),A32,"") | K32: {=IFERROR(INDEX($F$5:$F$54,SMALL($J$5:$J$54,$A32)),"")} | L32: =COUNTIFS($G$5:$G$54,L$4,$F$5:$F$54,$K32) -> 0 | M32: =COUNTIFS($G$5:$G$54,M$4,$F$5:$F$54,$K32) -> 0 | N32: =COUNTIFS($G$5:$G$54,N$4,$F$5:$F$54,$K32) -> 0 | P32: {=IFERROR(INDEX($P$5:$P$14, MATCH(0, COUNTIF($P$25:$P31, $P$5:$P$14&"") + IF($P$5:$P$14="",1,0), 0)), "")} -> Decoration | Q32: =IFERROR(IF(LEN($P32)=0,"",SUMIF($B$5:$B$54,$P32,D$5:D$54)),"") -> 6000 | R32: =IFERROR(IF(LEN($P32)=0,"",SUMIF($B$5:$B$54,$P32,E$5:E$54)),"") -> 5700 | S32: =IFERROR(IF(LEN($P32)=0,"",COUNTIFS($G$5:$G$54,S$4,$B$5:$B$54,$P32)),"") -> 1 | T32: =IFERROR(IF(LEN($P32)=0,"",COUNTIFS($G$5:$G$54,T$4,$B$5:$B$54,$P32)),"") -> 0 | U32: =IFERROR(IF(LEN($P32)=0,"",COUNTIFS($G$5:$G$54,U$4,$B$5:$B$54,$P32)),"") -> 3
A33: 29 | B33: =IF(LEN(C33)=0,"",Input!$I$10) -> Catering | C33: =IF(LEN(Input!I14)=0,"",Input!I14) -> Staffing | D33: =IF(LEN(Input!J14)=0,"",Input!J14) -> 3000 | E33: =IF(LEN(Input!K14)=0,"",Input!K14) -> 2800 | F33: =IF(LEN(Input!L14)=0,"",Input!L14) -> John | G33: =IF(LEN(Input!M14)=0,"",Input!M14) -> In Progress | H33: =IF($B33=$P$18,$A33,"") -> 29 | J33: =IF(AND(LEN(F33)>0,COUNTIF($F$5:F33,F33)=1),A33,"") | K33: {=IFERROR(INDEX($F$5:$F$54,SMALL($J$5:$J$54,$A33)),"")} | L33: =COUNTIFS($G$5:$G$54,L$4,$F$5:$F$54,$K33) -> 0 | M33: =COUNTIFS($G$5:$G$54,M$4,$F$5:$F$54,$K33) -> 0 | N33: =COUNTIFS($G$5:$G$54,N$4,$F$5:$F$54,$K33) -> 0 | P33: {=IFERROR(INDEX($P$5:$P$14, MATCH(0, COUNTIF($P$25:$P32, $P$5:$P$14&"") + IF($P$5:$P$14="",1,0), 0)), "")} -> Marketing | Q33: =IFERROR(IF(LEN($P33)=0,"",SUMIF($B$5:$B$54,$P33,D$5:D$54)),"") -> 6000 | R33: =IFERROR(IF(LEN($P33)=0,"",SUMIF($B$5:$B$54,$P33,E$5:E$54)),"") -> 5700 | S33: =IFERROR(IF(LEN($P33)=0,"",COUNTIFS($G$5:$G$54,S$4,$B$5:$B$54,$P33)),"") -> 1 | T33: =IFERROR(IF(LEN($P33)=0,"",COUNTIFS($G$5:$G$54,T$4,$B$5:$B$54,$P33)),"") -> 0 | U33: =IFERROR(IF(LEN($P33)=0,"",COUNTIFS($G$5:$G$54,U$4,$B$5:$B$54,$P33)),"") -> 3
A34: 30 | B34: =IF(LEN(C34)=0,"",Input!$I$10) | C34: =IF(LEN(Input!I15)=0,"",Input!I15) | D34: =IF(LEN(Input!J15)=0,"",Input!J15) | E34: =IF(LEN(Input!K15)=0,"",Input!K15) | F34: =IF(LEN(Input!L15)=0,"",Input!L15) | G34: =IF(LEN(Input!M15)=0,"",Input!M15) | H34: =IF($B34=$P$18,$A34,"") | J34: =IF(AND(LEN(F34)>0,COUNTIF($F$5:F34,F34)=1),A34,"") | K34: {=IFERROR(INDEX($F$5:$F$54,SMALL($J$5:$J$54,$A34)),"")} | L34: =COUNTIFS($G$5:$G$54,L$4,$F$5:$F$54,$K34) -> 0 | M34: =COUNTIFS($G$5:$G$54,M$4,$F$5:$F$54,$K34) -> 0 | N34: =COUNTIFS($G$5:$G$54,N$4,$F$5:$F$54,$K34) -> 0 | P34: {=IFERROR(INDEX($P$5:$P$14, MATCH(0, COUNTIF($P$25:$P33, $P$5:$P$14&"") + IF($P$5:$P$14="",1,0), 0)), "")} -> Transportation | Q34: =IFERROR(IF(LEN($P34)=0,"",SUMIF($B$5:$B$54,$P34,D$5:D$54)),"") -> 6500 | R34: =IFERROR(IF(LEN($P34)=0,"",SUMIF($B$5:$B$54,$P34,E$5:E$54)),"") -> 6150 | S34: =IFERROR(IF(LEN($P34)=0,"",COUNTIFS($G$5:$G$54,S$4,$B$5:$B$54,$P34)),"") -> 1 | T34: =IFERROR(IF(LEN($P34)=0,"",COUNTIFS($G$5:$G$54,T$4,$B$5:$B$54,$P34)),"") -> 3 | U34: =IFERROR(IF(LEN($P34)=0,"",COUNTIFS($G$5:$G$54,U$4,$B$5:$B$54,$P34)),"") -> 0
A35: 31 | B35: =IF(LEN(C35)=0,"",Input!$I$23) -> Decoration | C35: =IF(LEN(Input!I24)=0,"",Input!I24) -> Floral Arrangements | D35: =IF(LEN(Input!J24)=0,"",Input!J24) -> 2500 | E35: =IF(LEN(Input!K24)=0,"",Input!K24) -> 2400 | F35: =IF(LEN(Input!L24)=0,"",Input!L24) -> Emma | G35: =IF(LEN(Input!M24)=0,"",Input!M24) -> Not Started | H35: =IF($B35=$P$18,$A35,"") | J35: =IF(AND(LEN(F35)>0,COUNTIF($F$5:F35,F35)=1),A35,"") | K35: {=IFERROR(INDEX($F$5:$F$54,SMALL($J$5:$J$54,$A35)),"")} | L35: =COUNTIFS($G$5:$G$54,L$4,$F$5:$F$54,$K35) -> 0 | M35: =COUNTIFS($G$5:$G$54,M$4,$F$5:$F$54,$K35) -> 0 | N35: =COUNTIFS($G$5:$G$54,N$4,$F$5:$F$54,$K35) -> 0 | P35: {=IFERROR(INDEX($P$5:$P$14, MATCH(0, COUNTIF($P$25:$P34, $P$5:$P$14&"") + IF($P$5:$P$14="",1,0), 0)), "")} -> Miscellaneous | Q35: =IFERROR(IF(LEN($P35)=0,"",SUMIF($B$5:$B$54,$P35,D$5:D$54)),"") -> 7500 | R35: =IFERROR(IF(LEN($P35)=0,"",SUMIF($B$5:$B$54,$P35,E$5:E$54)),"") -> 7050 | S35: =IFERROR(IF(LEN($P35)=0,"",COUNTIFS($G$5:$G$54,S$4,$B$5:$B$54,$P35)),"") -> 0 | T35: =IFERROR(IF(LEN($P35)=0,"",COUNTIFS($G$5:$G$54,T$4,$B$5:$B$54,$P35)),"") -> 2 | U35: =IFERROR(IF(LEN($P35)=0,"",COUNTIFS($G$5:$G$54,U$4,$B$5:$B$54,$P35)),"") -> 2
A36: 32 | B36: =IF(LEN(C36)=0,"",Input!$I$23) -> Decoration | C36: =IF(LEN(Input!I25)=0,"",Input!I25) -> Table Centerpieces | D36: =IF(LEN(Input!J25)=0,"",Input!J25) -> 1500 | E36: =IF(LEN(Input!K25)=0,"",Input!K25) -> 1400 | F36: =IF(LEN(Input!L25)=0,"",Input!L25) -> John | G36: =IF(LEN(Input!M25)=0,"",Input!M25) -> Completed | H36: =IF($B36=$P$18,$A36,"") | J36: =IF(AND(LEN(F36)>0,COUNTIF($F$5:F36,F36)=1),A36,"") | K36: {=IFERROR(INDEX($F$5:$F$54,SMALL($J$5:$J$54,$A36)),"")} | L36: =COUNTIFS($G$5:$G$54,L$4,$F$5:$F$54,$K36) -> 0 | M36: =COUNTIFS($G$5:$G$54,M$4,$F$5:$F$54,$K36) -> 0 | N36: =COUNTIFS($G$5:$G$54,N$4,$F$5:$F$54,$K36) -> 0
A37: 33 | B37: =IF(LEN(C37)=0,"",Input!$I$23) -> Decoration | C37: =IF(LEN(Input!I26)=0,"",Input!I26) -> Linens | D37: =IF(LEN(Input!J26)=0,"",Input!J26) -> 1000 | E37: =IF(LEN(Input!K26)=0,"",Input!K26) -> 950 | F37: =IF(LEN(Input!L26)=0,"",Input!L26) -> Sarah | G37: =IF(LEN(Input!M26)=0,"",Input!M26) -> Completed | H37: =IF($B37=$P$18,$A37,"") | J37: =IF(AND(LEN(F37)>0,COUNTIF($F$5:F37,F37)=1),A37,"") | K37: {=IFERROR(INDEX($F$5:$F$54,SMALL($J$5:$J$54,$A37)),"")} | L37: =COUNTIFS($G$5:$G$54,L$4,$F$5:$F$54,$K37) -> 0 | M37: =COUNTIFS($G$5:$G$54,M$4,$F$5:$F$54,$K37) -> 0 | N37: =COUNTIFS($G$5:$G$54,N$4,$F$5:$F$54,$K37) -> 0
A38: 34 | B38: =IF(LEN(C38)=0,"",Input!$I$23) -> Decoration | C38: =IF(LEN(Input!I27)=0,"",Input!I27) -> Lighting | D38: =IF(LEN(Input!J27)=0,"",Input!J27) -> 1000 | E38: =IF(LEN(Input!K27)=0,"",Input!K27) -> 950 | F38: =IF(LEN(Input!L27)=0,"",Input!L27) -> James | G38: =IF(LEN(Input!M27)=0,"",Input!M27) -> Completed | H38: =IF($B38=$P$18,$A38,"") | J38: =IF(AND(LEN(F38)>0,COUNTIF($F$5:F38,F38)=1),A38,"") | K38: {=IFERROR(INDEX($F$5:$F$54,SMALL($J$5:$J$54,$A38)),"")} | L38: =COUNTIFS($G$5:$G$54,L$4,$F$5:$F$54,$K38) -> 0 | M38: =COUNTIFS($G$5:$G$54,M$4,$F$5:$F$54,$K38) -> 0 | N38: =COUNTIFS($G$5:$G$54,N$4,$F$5:$F$54,$K38) -> 0
A39: 35 | B39: =IF(LEN(C39)=0,"",Input!$I$23) | C39: =IF(LEN(Input!I28)=0,"",Input!I28) | D39: =IF(LEN(Input!J28)=0,"",Input!J28) | E39: =IF(LEN(Input!K28)=0,"",Input!K28) | F39: =IF(LEN(Input!L28)=0,"",Input!L28) | G39: =IF(LEN(Input!M28)=0,"",Input!M28) | H39: =IF($B39=$P$18,$A39,"") | J39: =IF(AND(LEN(F39)>0,COUNTIF($F$5:F39,F39)=1),A39,"") | K39: {=IFERROR(INDEX($F$5:$F$54,SMALL($J$5:$J$54,$A39)),"")} | L39: =COUNTIFS($G$5:$G$54,L$4,$F$5:$F$54,$K39) -> 0 | M39: =COUNTIFS($G$5:$G$54,M$4,$F$5:$F$54,$K39) -> 0 | N39: =COUNTIFS($G$5:$G$54,N$4,$F$5:$F$54,$K39) -> 0
A40: 36 | B40: =IF(LEN(C40)=0,"",Input!$I$36) -> Marketing | C40: =IF(LEN(Input!I37)=0,"",Input!I37) -> Printing | D40: =IF(LEN(Input!J37)=0,"",Input!J37) -> 1500 | E40: =IF(LEN(Input!K37)=0,"",Input!K37) -> 1400 | F40: =IF(LEN(Input!L37)=0,"",Input!L37) -> Sarah | G40: =IF(LEN(Input!M37)=0,"",Input!M37) -> Completed | H40: =IF($B40=$P$18,$A40,"") | J40: =IF(AND(LEN(F40)>0,COUNTIF($F$5:F40,F40)=1),A40,"") | K40: {=IFERROR(INDEX($F$5:$F$54,SMALL($J$5:$J$54,$A40)),"")} | L40: =COUNTIFS($G$5:$G$54,L$4,$F$5:$F$54,$K40) -> 0 | M40: =COUNTIFS($G$5:$G$54,M$4,$F$5:$F$54,$K40) -> 0 | N40: =COUNTIFS($G$5:$G$54,N$4,$F$5:$F$54,$K40) -> 0
A41: 37 | B41: =IF(LEN(C41)=0,"",Input!$I$36) -> Marketing | C41: =IF(LEN(Input!I38)=0,"",Input!I38) -> Advertising | D41: =IF(LEN(Input!J38)=0,"",Input!J38) -> 2500 | E41: =IF(LEN(Input!K38)=0,"",Input!K38) -> 2400 | F41: =IF(LEN(Input!L38)=0,"",Input!L38) -> James | G41: =IF(LEN(Input!M38)=0,"",Input!M38) -> Completed | H41: =IF($B41=$P$18,$A41,"") | J41: =IF(AND(LEN(F41)>0,COUNTIF($F$5:F41,F41)=1),A41,"") | K41: {=IFERROR(INDEX($F$5:$F$54,SMALL($J$5:$J$54,$A41)),"")} | L41: =COUNTIFS($G$5:$G$54,L$4,$F$5:$F$54,$K41) -> 0 | M41: =COUNTIFS($G$5:$G$54,M$4,$F$5:$F$54,$K41) -> 0 | N41: =COUNTIFS($G$5:$G$54,N$4,$F$5:$F$54,$K41) -> 0
A42: 38 | B42: =IF(LEN(C42)=0,"",Input!$I$36) -> Marketing | C42: =IF(LEN(Input!I39)=0,"",Input!I39) -> Graphic Design | D42: =IF(LEN(Input!J39)=0,"",Input!J39) -> 1000 | E42: =IF(LEN(Input!K39)=0,"",Input!K39) -> 950 | F42: =IF(LEN(Input!L39)=0,"",Input!L39) -> Emma | G42: =IF(LEN(Input!M39)=0,"",Input!M39) -> Not Started | H42: =IF($B42=$P$18,$A42,"") | J42: =IF(AND(LEN(F42)>0,COUNTIF($F$5:F42,F42)=1),A42,"") | K42: {=IFERROR(INDEX($F$5:$F$54,SMALL($J$5:$J$54,$A42)),"")} | L42: =COUNTIFS($G$5:$G$54,L$4,$F$5:$F$54,$K42) -> 0 | M42: =COUNTIFS($G$5:$G$54,M$4,$F$5:$F$54,$K42) -> 0 | N42: =COUNTIFS($G$5:$G$54,N$4,$F$5:$F$54,$K42) -> 0
...
