Workbook

Sheet Dashboard
C2: PROFIT AND LOSS STATEMENT TEMPLATE
C3: DASHBOARD
C7: Profit & Loss Statement
C8: (YEAR TOTAL)
C9: Total Sales Revenue | D9: : | E9: =SUM(Database!D8:O8) -> 228750
C10: Total Cost of Sales | D10: : | E10: =SUM(Database!D9:O9) -> 165500
C11: Gross Profit | D11: : | E11: =E9-E10 -> 63250
C12: Total Non-Operational Income | D12: : | E12: =SUM(Database!D14:O14) -> 33000
C13: TOTAL INCOME | D13: : | E13: =E11+E12 -> 96250
C14: Total Operating Expenses | D14: : | E14: =SUM(Database!D36:O36) -> 42150
C15: Total Non-Recurring Expenses | D15: : | E15: =SUM(Database!D40:O40) -> 5825
C16: TOTAL EXPENSES | D16: : | E16: =E14+E15 -> 47975
C17: TOTAL TAXES | D17: : | E17: =SUM(Database!D48:O48) -> 4005
C18: NET INCOME | D18: : | E18: =E13-E16-E17 -> 44270
C19: TOTAL SHARE DISTRIBUTIONS | D19: : | E19: =SUM(Database!D52:O52) -> 5200
C20: NET PROFIT | D20: : | E20: =E18-E19 -> 39070
C22: Select Month: | E22: April | G22: EXPENSES DETAILS (MONTH TOTAL)
C24: MONTH TOTAL | G24: Operating Expenses
C25: Profit & Loss Statement | G25: =""&Database!C18 -> Wages and Salaries | H25: =IFERROR(INDEX(Calc!$C$21:$T$32,MATCH($C$26,Calc!$B$21:$B$32,0),MATCH(G25,Calc!$C$20:$T$20,0)),"") -> 3000 | I25: =IFERROR(H25/$E$32,"") -> 0.71428571 | K25: =""&Database!C27 -> Insurance | L25: =IFERROR(INDEX(Calc!$C$21:$T$32,MATCH($C$26,Calc!$B$21:$B$32,0),MATCH(K25,Calc!$C$20:$T$20,0)),"") -> 0 | M25: =IFERROR(L25/$E$32,"") -> 0
C26: =""&E22 -> April | G26: =""&Database!C19 -> Direct Marketing | H26: =IFERROR(INDEX(Calc!$C$21:$T$32,MATCH($C$26,Calc!$B$21:$B$32,0),MATCH(G26,Calc!$C$20:$T$20,0)),"") -> 750 | I26: =IFERROR(H26/$E$32,"") -> 0.17857143 | K26: =""&Database!C28 -> Technology Licenses | L26: =IFERROR(INDEX(Calc!$C$21:$T$32,MATCH($C$26,Calc!$B$21:$B$32,0),MATCH(K26,Calc!$C$20:$T$20,0)),"") -> 0 | M26: =IFERROR(L26/$E$32,"") -> 0
C27: Total Sales Revenue | D27: : | E27: =IFERROR(INDEX(Calc!$C$7:$I$18,MATCH($C$26,Calc!$B$7:$B$18,0),MATCH(C27,Calc!$C$6:$I$6,0)),"") -> 19000 | G27: =""&Database!C20 -> Advertising | H27: =IFERROR(INDEX(Calc!$C$21:$T$32,MATCH($C$26,Calc!$B$21:$B$32,0),MATCH(G27,Calc!$C$20:$T$20,0)),"") -> 450 | I27: =IFERROR(H27/$E$32,"") -> 0.10714286 | K27: =""&Database!C29 -> Patents | L27: =IFERROR(INDEX(Calc!$C$21:$T$32,MATCH($C$26,Calc!$B$21:$B$32,0),MATCH(K27,Calc!$C$20:$T$20,0)),"") -> 0 | M27: =IFERROR(L27/$E$32,"") -> 0
C28: Total Cost of Sales | D28: : | E28: =IFERROR(INDEX(Calc!$C$7:$I$18,MATCH($C$26,Calc!$B$7:$B$18,0),MATCH(C28,Calc!$C$6:$I$6,0)),"") -> 16000 | G28: =""&Database!C21 -> Office Supplies | H28: =IFERROR(INDEX(Calc!$C$21:$T$32,MATCH($C$26,Calc!$B$21:$B$32,0),MATCH(G28,Calc!$C$20:$T$20,0)),"") -> 0 | I28: =IFERROR(H28/$E$32,"") -> 0 | K28: =""&Database!C30 -> Web site Expenses | L28: =IFERROR(INDEX(Calc!$C$21:$T$32,MATCH($C$26,Calc!$B$21:$B$32,0),MATCH(K28,Calc!$C$20:$T$20,0)),"") -> 0 | M28: =IFERROR(L28/$E$32,"") -> 0
C29: Gross Profit | D29: : | E29: =IFERROR(E27-E28,"") -> 3000 | G29: =""&Database!C22 -> Outside Services | H29: =IFERROR(INDEX(Calc!$C$21:$T$32,MATCH($C$26,Calc!$B$21:$B$32,0),MATCH(G29,Calc!$C$20:$T$20,0)),"") -> 0 | I29: =IFERROR(H29/$E$32,"") -> 0 | K29: =""&Database!C31 -> Meals and Entertainment | L29: =IFERROR(INDEX(Calc!$C$21:$T$32,MATCH($C$26,Calc!$B$21:$B$32,0),MATCH(K29,Calc!$C$20:$T$20,0)),"") -> 0 | M29: =IFERROR(L29/$E$32,"") -> 0
C30: Total Non-Operational Income | D30: : | E30: =IFERROR(INDEX(Calc!$C$7:$I$18,MATCH($C$26,Calc!$B$7:$B$18,0),MATCH(C30,Calc!$C$6:$I$6,0)),"") -> 4250 | G30: =""&Database!C23 -> Rent | H30: =IFERROR(INDEX(Calc!$C$21:$T$32,MATCH($C$26,Calc!$B$21:$B$32,0),MATCH(G30,Calc!$C$20:$T$20,0)),"") -> 0 | I30: =IFERROR(H30/$E$32,"") -> 0 | K30: =""&Database!C32 -> Repairs and Maintenance | L30: =IFERROR(INDEX(Calc!$C$21:$T$32,MATCH($C$26,Calc!$B$21:$B$32,0),MATCH(K30,Calc!$C$20:$T$20,0)),"") -> 0 | M30: =IFERROR(L30/$E$32,"") -> 0
C31: TOTAL INCOME | D31: : | E31: =IFERROR(E29+E30,"") -> 7250 | G31: =""&Database!C24 -> Telephone | H31: =IFERROR(INDEX(Calc!$C$21:$T$32,MATCH($C$26,Calc!$B$21:$B$32,0),MATCH(G31,Calc!$C$20:$T$20,0)),"") -> 0 | I31: =IFERROR(H31/$E$32,"") -> 0 | K31: =""&Database!C33 -> Outside Services | L31: =IFERROR(INDEX(Calc!$C$21:$T$32,MATCH($C$26,Calc!$B$21:$B$32,0),MATCH(K31,Calc!$C$20:$T$20,0)),"") -> 0 | M31: =IFERROR(L31/$E$32,"") -> 0
C32: Total Operating Expenses | D32: : | E32: =IFERROR(INDEX(Calc!$C$7:$I$18,MATCH($C$26,Calc!$B$7:$B$18,0),MATCH(C32,Calc!$C$6:$I$6,0)),"") -> 4200 | G32: =""&Database!C25 -> Utilities | H32: =IFERROR(INDEX(Calc!$C$21:$T$32,MATCH($C$26,Calc!$B$21:$B$32,0),MATCH(G32,Calc!$C$20:$T$20,0)),"") -> 0 | I32: =IFERROR(H32/$E$32,"") -> 0 | K32: =""&Database!C34 -> Travel | L32: =IFERROR(INDEX(Calc!$C$21:$T$32,MATCH($C$26,Calc!$B$21:$B$32,0),MATCH(K32,Calc!$C$20:$T$20,0)),"") -> 0 | M32: =IFERROR(L32/$E$32,"") -> 0
C33: Total Non-Recurring Expenses | D33: : | E33: =IFERROR(INDEX(Calc!$C$7:$I$18,MATCH($C$26,Calc!$B$7:$B$18,0),MATCH(C33,Calc!$C$6:$I$6,0)),"") -> 950 | G33: =""&Database!C26 -> Depreciation | H33: =IFERROR(INDEX(Calc!$C$21:$T$32,MATCH($C$26,Calc!$B$21:$B$32,0),MATCH(G33,Calc!$C$20:$T$20,0)),"") -> 0 | I33: =IFERROR(H33/$E$32,"") -> 0 | K33: =""&Database!C35 -> Other | L33: =IFERROR(INDEX(Calc!$C$21:$T$32,MATCH($C$26,Calc!$B$21:$B$32,0),MATCH(K33,Calc!$C$20:$T$20,0)),"") -> 0 | M33: =IFERROR(L33/$E$32,"") -> 0
C34: TOTAL EXPENSES | D34: : | E34: =IFERROR(E32+E33,"") -> 5150
C35: TOTAL TAXES | D35: : | E35: =IFERROR(INDEX(Calc!$C$7:$I$18,MATCH($C$26,Calc!$B$7:$B$18,0),MATCH(C35,Calc!$C$6:$I$6,0)),"") -> 390 | G35: Non-Recurring Expenses
C36: NET INCOME | D36: : | E36: =IFERROR(E31-E34-E35,"") -> 1710 | G36: =""&Database!C37 -> Soft&Hardware Equipments | H36: =IFERROR(INDEX(Calc!$C$35:$E$46,MATCH(Dashboard!$C$26,Calc!$B$35:$B$46,0),MATCH(Dashboard!G36,Calc!$C$34:$E$34,0)),"") -> 450 | I36: =IFERROR(H36/$E$33,"") -> 0.47368421
C37: TOTAL SHARE DISTRIBUTIONS | D37: : | E37: =IFERROR(INDEX(Calc!$C$7:$I$18,MATCH($C$26,Calc!$B$7:$B$18,0),MATCH(C37,Calc!$C$6:$I$6,0)),"") -> 500 | G37: =""&Database!C38 -> Gifts and Rewards Given | H37: =IFERROR(INDEX(Calc!$C$35:$E$46,MATCH(Dashboard!$C$26,Calc!$B$35:$B$46,0),MATCH(Dashboard!G37,Calc!$C$34:$E$34,0)),"") -> 500 | I37: =IFERROR(H37/$E$33,"") -> 0.52631579
C38: NET PROFIT | D38: : | E38: =IFERROR(E36-E37,"") -> 1210 | G38: =""&Database!C39 -> Other | H38: =IFERROR(INDEX(Calc!$C$35:$E$46,MATCH(Dashboard!$C$26,Calc!$B$35:$B$46,0),MATCH(Dashboard!G38,Calc!$C$34:$E$34,0)),"") -> 0 | I38: =IFERROR(H38/$E$33,"") -> 0

Sheet Database
C2: PROFIT AND LOSS STATEMENT TEMPLATE
C3: DATABASE
C7: INCOME DETAILS | D7: January | E7: February | F7: March | G7: April | H7: May | I7: June | J7: July | K7: August | L7: September | M7: October | N7: November | O7: December
C8: Total Sales Revenue | D8: 23000 | E8: 25000 | F8: 19500 | G8: 19000 | H8: 25000 | I8: 20000 | J8: 20350 | K8: 19900 | L8: 19450 | M8: 19000 | N8: 18550
C9: Total Cost of Sales | D9: 14500 | E9: 16000 | F9: 14500 | G9: 16000 | H9: 14500 | I9: 14500 | J9: 16000 | K9: 14500 | L9: 16000 | M9: 14500 | N9: 14500
C10: Gross Profit | D10: =D8-D9 -> 8500 | E10: =E8-E9 -> 9000 | F10: =F8-F9 -> 5000 | G10: =G8-G9 -> 3000 | H10: =H8-H9 -> 10500 | I10: =I8-I9 -> 5500 | J10: =J8-J9 -> 4350 | K10: =K8-K9 -> 5400 | ... O10: =O8-O9 -> 0
C11: Interest Income | D11: 1500 | E11: 1000 | F11: 1500 | G11: 1500 | H11: 2000 | I11: 1500 | J11: 1500 | K11: 1500 | L11: 1500 | M11: 1500 | N11: 1500
C12: Rental Income | D12: 1000 | E12: 2000 | F12: 1000 | G12: 2000 | H12: 1000 | I12: 1000 | J12: 1000 | K12: 1000 | L12: 1000 | M12: 1000 | N12: 1000
C13: Other Income | D13: 500 | E13: 750 | F13: 500 | G13: 750 | H13: 500 | I13: 500
C14: Total Non-Operational Income | D14: =SUM(D11:D13) -> 3000 | E14: =SUM(E11:E13) -> 3750 | F14: =SUM(F11:F13) -> 3000 | G14: =SUM(G11:G13) -> 4250 | H14: =SUM(H11:H13) -> 3500 | I14: =SUM(I11:I13) -> 3000 | J14: =SUM(J11:J13) -> 2500 | K14: =SUM(K11:K13) -> 2500 | ... O14: =SUM(O11:O13) -> 0
C15: TOTAL INCOME (GROSS) | D15: =D10+D14 -> 11500 | E15: =E10+E14 -> 12750 | F15: =F10+F14 -> 8000 | G15: =G10+G14 -> 7250 | H15: =H10+H14 -> 14000 | I15: =I10+I14 -> 8500 | J15: =J10+J14 -> 6850 | K15: =K10+K14 -> 7900 | ... O15: =O10+O14 -> 0
C17: EXPENSE DETAILS
C18: Wages and Salaries | D18: 2000 | E18: 2000 | F18: 2500 | G18: 3000 | H18: 2750 | I18: 3500 | J18: 2000 | K18: 2500 | L18: 3000 | M18: 2750 | N18: 2500
C19: Direct Marketing | D19: 1100 | E19: 950 | F19: 800 | G19: 750 | H19: 700 | I19: 750 | J19: 700 | K19: 680 | L19: 660 | M19: 640 | N19: 620
C20: Advertising | D20: 750 | E20: 500 | F20: 400 | G20: 450 | H20: 400 | I20: 450 | J20: 450 | K20: 460 | L20: 470 | M20: 480 | N20: 490
C21: Office Supplies
C22: Outside Services
C23: Rent
C24: Telephone
C25: Utilities
C26: Depreciation
C27: Insurance
C28: Technology Licenses
C29: Patents
C30: Web site Expenses
C31: Meals and Entertainment
C32: Repairs and Maintenance
... C35: Other
C36: Total Operating Expenses | D36: =SUM(D18:D35) -> 3850 | E36: =SUM(E18:E35) -> 3450 | F36: =SUM(F18:F35) -> 3700 | G36: =SUM(G18:G35) -> 4200 | H36: =SUM(H18:H35) -> 3850 | I36: =SUM(I18:I35) -> 4700 | J36: =SUM(J18:J35) -> 3150 | K36: =SUM(K18:K35) -> 3640 | ... O36: =SUM(O18:O35) -> 0
C37: Soft&Hardware Equipments | D37: 250 | E37: 250 | F37: 350 | G37: 450 | H37: 400 | I37: 400 | J37: 425 | K37: 435 | L37: 445 | M37: 455 | N37: 465
C38: Gifts and Rewards Given | D38: 150 | E38: 200 | F38: 350 | G38: 500 | H38: 150 | I38: 150
C39: Other | D39: 0 | E39: 0 | F39: 0 | G39: 0 | H39: 0 | I39: 0
C40: Total Non-Recurring Expenses | D40: =SUM(D37:D39) -> 400 | E40: =SUM(E37:E39) -> 450 | F40: =SUM(F37:F39) -> 700 | G40: =SUM(G37:G39) -> 950 | H40: =SUM(H37:H39) -> 550 | I40: =SUM(I37:I39) -> 550 | J40: =SUM(J37:J39) -> 425 | K40: =SUM(K37:K39) -> 435 | ... O40: =SUM(O37:O39) -> 0
C41: TOTAL EXPENSES | D41: =D36+D40 -> 4250 | E41: =E36+E40 -> 3900 | F41: =F36+F40 -> 4400 | G41: =G36+G40 -> 5150 | H41: =H36+H40 -> 4400 | I41: =I36+I40 -> 5250 | J41: =J36+J40 -> 3575 | K41: =K36+K40 -> 4075 | ... O41: =O36+O40 -> 0
C43: TAX DETAILS
C44: Income Taxes | D44: 120 | E44: 130 | F44: 140 | G44: 150 | H44: 150 | I44: 160 | J44: 165 | K44: 171 | L44: 177 | M44: 183 | N44: 189
C45: Payroll Taxes | D45: 100 | E45: 120 | F45: 160 | G45: 160 | H45: 160 | I45: 175 | J45: 175 | K45: 179.5 | L45: 184 | M45: 188.5 | N45: 193
C46: Other Taxes- 1 | D46: 20 | E46: 50 | F46: 50 | G46: 50 | H46: 50 | I46: 75
C47: Other Taxes- 2 | D47: 30 | E47: 30 | F47: 30 | G47: 30 | H47: 30 | I47: 30
C48: TOTAL TAXES | D48: =SUM(D44:D47) -> 270 | E48: =SUM(E44:E47) -> 330 | F48: =SUM(F44:F47) -> 380 | G48: =SUM(G44:G47) -> 390 | H48: =SUM(H44:H47) -> 390 | I48: =SUM(I44:I47) -> 440 | J48: =SUM(J44:J47) -> 340 | K48: =SUM(K44:K47) -> 350.5 | ... O48: =SUM(O44:O47) -> 0
...

Sheet Calc
C2: =LEFT(Database!D7,3) -> Jan | D2: =LEFT(Database!E7,3) -> Feb | E2: =LEFT(Database!F7,3) -> Mar | F2: =LEFT(Database!G7,3) -> Apr | G2: =LEFT(Database!H7,3) -> May | H2: =LEFT(Database!I7,3) -> Jun | I2: =LEFT(Database!J7,3) -> Jul | J2: =LEFT(Database!K7,3) -> Aug | ... N2: =LEFT(Database!O7,3) -> Dec
B3: TOTAL INCOME | C3: =INDEX(Database!$D$15:$O$15,1,COLUMN(C2)-COLUMN($B$2)) -> 11500 | D3: =INDEX(Database!$D$15:$O$15,1,COLUMN(D2)-COLUMN($B$2)) -> 12750 | E3: =INDEX(Database!$D$15:$O$15,1,COLUMN(E2)-COLUMN($B$2)) -> 8000 | F3: =INDEX(Database!$D$15:$O$15,1,COLUMN(F2)-COLUMN($B$2)) -> 7250 | G3: =INDEX(Database!$D$15:$O$15,1,COLUMN(G2)-COLUMN($B$2)) -> 14000 | H3: =INDEX(Database!$D$15:$O$15,1,COLUMN(H2)-COLUMN($B$2)) -> 8500 | I3: =INDEX(Database!$D$15:$O$15,1,COLUMN(I2)-COLUMN($B$2)) -> 6850 | J3: =INDEX(Database!$D$15:$O$15,1,COLUMN(J2)-COLUMN($B$2)) -> 7900 | ... N3: =INDEX(Database!$D$15:$O$15,1,COLUMN(N2)-COLUMN($B$2)) -> 0
B4: TOTAL EXPENSES | C4: =INDEX(Database!$D$41:$O$41,1,COLUMN(C2)-COLUMN($B$2)) -> 4250 | D4: =INDEX(Database!$D$41:$O$41,1,COLUMN(D2)-COLUMN($B$2)) -> 3900 | E4: =INDEX(Database!$D$41:$O$41,1,COLUMN(E2)-COLUMN($B$2)) -> 4400 | F4: =INDEX(Database!$D$41:$O$41,1,COLUMN(F2)-COLUMN($B$2)) -> 5150 | G4: =INDEX(Database!$D$41:$O$41,1,COLUMN(G2)-COLUMN($B$2)) -> 4400 | H4: =INDEX(Database!$D$41:$O$41,1,COLUMN(H2)-COLUMN($B$2)) -> 5250 | I4: =INDEX(Database!$D$41:$O$41,1,COLUMN(I2)-COLUMN($B$2)) -> 3575 | J4: =INDEX(Database!$D$41:$O$41,1,COLUMN(J2)-COLUMN($B$2)) -> 4075 | ... N4: =INDEX(Database!$D$41:$O$41,1,COLUMN(N2)-COLUMN($B$2)) -> 0
B6: 1 | C6: =Database!C8 -> Total Sales Revenue | D6: =Database!C9 -> Total Cost of Sales | E6: =Database!C14 -> Total Non-Operational Income | F6: =Database!C36 -> Total Operating Expenses | G6: =Database!C40 -> Total Non-Recurring Expenses | H6: =Database!C48 -> TOTAL TAXES | I6: =Database!C52 -> TOTAL SHARE DISTRIBUTIONS
B7: =INDEX(Database!$D$7:$O$7,1,ROW(B7)-ROW($B$6)) -> January | C7: =INDEX(Database!$D$8:$O$52,MATCH($C$6,Database!$C$8:$C$52,0),MATCH(B7,Database!$D$7:$O$7,0)) -> 23000 | D7: =INDEX(Database!$D$8:$O$52,MATCH($D$6,Database!$C$8:$C$52,0),MATCH(B7,Database!$D$7:$O$7,0)) -> 14500 | E7: =INDEX(Database!$D$8:$O$52,MATCH($E$6,Database!$C$8:$C$52,0),MATCH(B7,Database!$D$7:$O$7,0)) -> 3000 | F7: =INDEX(Database!$D$8:$O$52,MATCH($F$6,Database!$C$8:$C$52,0),MATCH(B7,Database!$D$7:$O$7,0)) -> 3850 | G7: =INDEX(Database!$D$8:$O$52,MATCH($G$6,Database!$C$8:$C$52,0),MATCH(B7,Database!$D$7:$O$7,0)) -> 400 | H7: =INDEX(Database!$D$8:$O$52,MATCH($H$6,Database!$C$8:$C$52,0),MATCH(B7,Database!$D$7:$O$7,0)) -> 270 | I7: =INDEX(Database!$D$8:$O$52,MATCH($I$6,Database!$C$8:$C$52,0),MATCH(B7,Database!$D$7:$O$7,0)) -> 1500
B8: =INDEX(Database!$D$7:$O$7,1,ROW(B8)-ROW($B$6)) -> February | C8: =INDEX(Database!$D$8:$O$52,MATCH($C$6,Database!$C$8:$C$52,0),MATCH(B8,Database!$D$7:$O$7,0)) -> 25000 | D8: =INDEX(Database!$D$8:$O$52,MATCH($D$6,Database!$C$8:$C$52,0),MATCH(B8,Database!$D$7:$O$7,0)) -> 16000 | E8: =INDEX(Database!$D$8:$O$52,MATCH($E$6,Database!$C$8:$C$52,0),MATCH(B8,Database!$D$7:$O$7,0)) -> 3750 | F8: =INDEX(Database!$D$8:$O$52,MATCH($F$6,Database!$C$8:$C$52,0),MATCH(B8,Database!$D$7:$O$7,0)) -> 3450 | G8: =INDEX(Database!$D$8:$O$52,MATCH($G$6,Database!$C$8:$C$52,0),MATCH(B8,Database!$D$7:$O$7,0)) -> 450 | H8: =INDEX(Database!$D$8:$O$52,MATCH($H$6,Database!$C$8:$C$52,0),MATCH(B8,Database!$D$7:$O$7,0)) -> 330 | I8: =INDEX(Database!$D$8:$O$52,MATCH($I$6,Database!$C$8:$C$52,0),MATCH(B8,Database!$D$7:$O$7,0)) -> 850
B9: =INDEX(Database!$D$7:$O$7,1,ROW(B9)-ROW($B$6)) -> March | C9: =INDEX(Database!$D$8:$O$52,MATCH($C$6,Database!$C$8:$C$52,0),MATCH(B9,Database!$D$7:$O$7,0)) -> 19500 | D9: =INDEX(Database!$D$8:$O$52,MATCH($D$6,Database!$C$8:$C$52,0),MATCH(B9,Database!$D$7:$O$7,0)) -> 14500 | E9: =INDEX(Database!$D$8:$O$52,MATCH($E$6,Database!$C$8:$C$52,0),MATCH(B9,Database!$D$7:$O$7,0)) -> 3000 | F9: =INDEX(Database!$D$8:$O$52,MATCH($F$6,Database!$C$8:$C$52,0),MATCH(B9,Database!$D$7:$O$7,0)) -> 3700 | G9: =INDEX(Database!$D$8:$O$52,MATCH($G$6,Database!$C$8:$C$52,0),MATCH(B9,Database!$D$7:$O$7,0)) -> 700 | H9: =INDEX(Database!$D$8:$O$52,MATCH($H$6,Database!$C$8:$C$52,0),MATCH(B9,Database!$D$7:$O$7,0)) -> 380 | I9: =INDEX(Database!$D$8:$O$52,MATCH($I$6,Database!$C$8:$C$52,0),MATCH(B9,Database!$D$7:$O$7,0)) -> 450
B10: =INDEX(Database!$D$7:$O$7,1,ROW(B10)-ROW($B$6)) -> April | C10: =INDEX(Database!$D$8:$O$52,MATCH($C$6,Database!$C$8:$C$52,0),MATCH(B10,Database!$D$7:$O$7,0)) -> 19000 | D10: =INDEX(Database!$D$8:$O$52,MATCH($D$6,Database!$C$8:$C$52,0),MATCH(B10,Database!$D$7:$O$7,0)) -> 16000 | E10: =INDEX(Database!$D$8:$O$52,MATCH($E$6,Database!$C$8:$C$52,0),MATCH(B10,Database!$D$7:$O$7,0)) -> 4250 | F10: =INDEX(Database!$D$8:$O$52,MATCH($F$6,Database!$C$8:$C$52,0),MATCH(B10,Database!$D$7:$O$7,0)) -> 4200 | G10: =INDEX(Database!$D$8:$O$52,MATCH($G$6,Database!$C$8:$C$52,0),MATCH(B10,Database!$D$7:$O$7,0)) -> 950 | H10: =INDEX(Database!$D$8:$O$52,MATCH($H$6,Database!$C$8:$C$52,0),MATCH(B10,Database!$D$7:$O$7,0)) -> 390 | I10: =INDEX(Database!$D$8:$O$52,MATCH($I$6,Database!$C$8:$C$52,0),MATCH(B10,Database!$D$7:$O$7,0)) -> 500
B11: =INDEX(Database!$D$7:$O$7,1,ROW(B11)-ROW($B$6)) -> May | C11: =INDEX(Database!$D$8:$O$52,MATCH($C$6,Database!$C$8:$C$52,0),MATCH(B11,Database!$D$7:$O$7,0)) -> 25000 | D11: =INDEX(Database!$D$8:$O$52,MATCH($D$6,Database!$C$8:$C$52,0),MATCH(B11,Database!$D$7:$O$7,0)) -> 14500 | E11: =INDEX(Database!$D$8:$O$52,MATCH($E$6,Database!$C$8:$C$52,0),MATCH(B11,Database!$D$7:$O$7,0)) -> 3500 | F11: =INDEX(Database!$D$8:$O$52,MATCH($F$6,Database!$C$8:$C$52,0),MATCH(B11,Database!$D$7:$O$7,0)) -> 3850 | G11: =INDEX(Database!$D$8:$O$52,MATCH($G$6,Database!$C$8:$C$52,0),MATCH(B11,Database!$D$7:$O$7,0)) -> 550 | H11: =INDEX(Database!$D$8:$O$52,MATCH($H$6,Database!$C$8:$C$52,0),MATCH(B11,Database!$D$7:$O$7,0)) -> 390 | I11: =INDEX(Database!$D$8:$O$52,MATCH($I$6,Database!$C$8:$C$52,0),MATCH(B11,Database!$D$7:$O$7,0)) -> 1400
B12: =INDEX(Database!$D$7:$O$7,1,ROW(B12)-ROW($B$6)) -> June | C12: =INDEX(Database!$D$8:$O$52,MATCH($C$6,Database!$C$8:$C$52,0),MATCH(B12,Database!$D$7:$O$7,0)) -> 20000 | D12: =INDEX(Database!$D$8:$O$52,MATCH($D$6,Database!$C$8:$C$52,0),MATCH(B12,Database!$D$7:$O$7,0)) -> 14500 | E12: =INDEX(Database!$D$8:$O$52,MATCH($E$6,Database!$C$8:$C$52,0),MATCH(B12,Database!$D$7:$O$7,0)) -> 3000 | F12: =INDEX(Database!$D$8:$O$52,MATCH($F$6,Database!$C$8:$C$52,0),MATCH(B12,Database!$D$7:$O$7,0)) -> 4700 | G12: =INDEX(Database!$D$8:$O$52,MATCH($G$6,Database!$C$8:$C$52,0),MATCH(B12,Database!$D$7:$O$7,0)) -> 550 | H12: =INDEX(Database!$D$8:$O$52,MATCH($H$6,Database!$C$8:$C$52,0),MATCH(B12,Database!$D$7:$O$7,0)) -> 440 | I12: =INDEX(Database!$D$8:$O$52,MATCH($I$6,Database!$C$8:$C$52,0),MATCH(B12,Database!$D$7:$O$7,0)) -> 500
B13: =INDEX(Database!$D$7:$O$7,1,ROW(B13)-ROW($B$6)) -> July | C13: =INDEX(Database!$D$8:$O$52,MATCH($C$6,Database!$C$8:$C$52,0),MATCH(B13,Database!$D$7:$O$7,0)) -> 20350 | D13: =INDEX(Database!$D$8:$O$52,MATCH($D$6,Database!$C$8:$C$52,0),MATCH(B13,Database!$D$7:$O$7,0)) -> 16000 | E13: =INDEX(Database!$D$8:$O$52,MATCH($E$6,Database!$C$8:$C$52,0),MATCH(B13,Database!$D$7:$O$7,0)) -> 2500 | F13: =INDEX(Database!$D$8:$O$52,MATCH($F$6,Database!$C$8:$C$52,0),MATCH(B13,Database!$D$7:$O$7,0)) -> 3150 | G13: =INDEX(Database!$D$8:$O$52,MATCH($G$6,Database!$C$8:$C$52,0),MATCH(B13,Database!$D$7:$O$7,0)) -> 425 | H13: =INDEX(Database!$D$8:$O$52,MATCH($H$6,Database!$C$8:$C$52,0),MATCH(B13,Database!$D$7:$O$7,0)) -> 340 | I13: =INDEX(Database!$D$8:$O$52,MATCH($I$6,Database!$C$8:$C$52,0),MATCH(B13,Database!$D$7:$O$7,0)) -> 0
B14: =INDEX(Database!$D$7:$O$7,1,ROW(B14)-ROW($B$6)) -> August | C14: =INDEX(Database!$D$8:$O$52,MATCH($C$6,Database!$C$8:$C$52,0),MATCH(B14,Database!$D$7:$O$7,0)) -> 19900 | D14: =INDEX(Database!$D$8:$O$52,MATCH($D$6,Database!$C$8:$C$52,0),MATCH(B14,Database!$D$7:$O$7,0)) -> 14500 | E14: =INDEX(Database!$D$8:$O$52,MATCH($E$6,Database!$C$8:$C$52,0),MATCH(B14,Database!$D$7:$O$7,0)) -> 2500 | F14: =INDEX(Database!$D$8:$O$52,MATCH($F$6,Database!$C$8:$C$52,0),MATCH(B14,Database!$D$7:$O$7,0)) -> 3640 | G14: =INDEX(Database!$D$8:$O$52,MATCH($G$6,Database!$C$8:$C$52,0),MATCH(B14,Database!$D$7:$O$7,0)) -> 435 | H14: =INDEX(Database!$D$8:$O$52,MATCH($H$6,Database!$C$8:$C$52,0),MATCH(B14,Database!$D$7:$O$7,0)) -> 350.5 | I14: =INDEX(Database!$D$8:$O$52,MATCH($I$6,Database!$C$8:$C$52,0),MATCH(B14,Database!$D$7:$O$7,0)) -> 0
B15: =INDEX(Database!$D$7:$O$7,1,ROW(B15)-ROW($B$6)) -> September | C15: =INDEX(Database!$D$8:$O$52,MATCH($C$6,Database!$C$8:$C$52,0),MATCH(B15,Database!$D$7:$O$7,0)) -> 19450 | D15: =INDEX(Database!$D$8:$O$52,MATCH($D$6,Database!$C$8:$C$52,0),MATCH(B15,Database!$D$7:$O$7,0)) -> 16000 | E15: =INDEX(Database!$D$8:$O$52,MATCH($E$6,Database!$C$8:$C$52,0),MATCH(B15,Database!$D$7:$O$7,0)) -> 2500 | F15: =INDEX(Database!$D$8:$O$52,MATCH($F$6,Database!$C$8:$C$52,0),MATCH(B15,Database!$D$7:$O$7,0)) -> 4130 | G15: =INDEX(Database!$D$8:$O$52,MATCH($G$6,Database!$C$8:$C$52,0),MATCH(B15,Database!$D$7:$O$7,0)) -> 445 | H15: =INDEX(Database!$D$8:$O$52,MATCH($H$6,Database!$C$8:$C$52,0),MATCH(B15,Database!$D$7:$O$7,0)) -> 361 | I15: =INDEX(Database!$D$8:$O$52,MATCH($I$6,Database!$C$8:$C$52,0),MATCH(B15,Database!$D$7:$O$7,0)) -> 0
B16: =INDEX(Database!$D$7:$O$7,1,ROW(B16)-ROW($B$6)) -> October | C16: =INDEX(Database!$D$8:$O$52,MATCH($C$6,Database!$C$8:$C$52,0),MATCH(B16,Database!$D$7:$O$7,0)) -> 19000 | D16: =INDEX(Database!$D$8:$O$52,MATCH($D$6,Database!$C$8:$C$52,0),MATCH(B16,Database!$D$7:$O$7,0)) -> 14500 | E16: =INDEX(Database!$D$8:$O$52,MATCH($E$6,Database!$C$8:$C$52,0),MATCH(B16,Database!$D$7:$O$7,0)) -> 2500 | F16: =INDEX(Database!$D$8:$O$52,MATCH($F$6,Database!$C$8:$C$52,0),MATCH(B16,Database!$D$7:$O$7,0)) -> 3870 | G16: =INDEX(Database!$D$8:$O$52,MATCH($G$6,Database!$C$8:$C$52,0),MATCH(B16,Database!$D$7:$O$7,0)) -> 455 | H16: =INDEX(Database!$D$8:$O$52,MATCH($H$6,Database!$C$8:$C$52,0),MATCH(B16,Database!$D$7:$O$7,0)) -> 371.5 | I16: =INDEX(Database!$D$8:$O$52,MATCH($I$6,Database!$C$8:$C$52,0),MATCH(B16,Database!$D$7:$O$7,0)) -> 0
B17: =INDEX(Database!$D$7:$O$7,1,ROW(B17)-ROW($B$6)) -> November | C17: =INDEX(Database!$D$8:$O$52,MATCH($C$6,Database!$C$8:$C$52,0),MATCH(B17,Database!$D$7:$O$7,0)) -> 18550 | D17: =INDEX(Database!$D$8:$O$52,MATCH($D$6,Database!$C$8:$C$52,0),MATCH(B17,Database!$D$7:$O$7,0)) -> 14500 | E17: =INDEX(Database!$D$8:$O$52,MATCH($E$6,Database!$C$8:$C$52,0),MATCH(B17,Database!$D$7:$O$7,0)) -> 2500 | F17: =INDEX(Database!$D$8:$O$52,MATCH($F$6,Database!$C$8:$C$52,0),MATCH(B17,Database!$D$7:$O$7,0)) -> 3610 | G17: =INDEX(Database!$D$8:$O$52,MATCH($G$6,Database!$C$8:$C$52,0),MATCH(B17,Database!$D$7:$O$7,0)) -> 465 | H17: =INDEX(Database!$D$8:$O$52,MATCH($H$6,Database!$C$8:$C$52,0),MATCH(B17,Database!$D$7:$O$7,0)) -> 382 | I17: =INDEX(Database!$D$8:$O$52,MATCH($I$6,Database!$C$8:$C$52,0),MATCH(B17,Database!$D$7:$O$7,0)) -> 0
B18: =INDEX(Database!$D$7:$O$7,1,ROW(B18)-ROW($B$6)) -> December | C18: =INDEX(Database!$D$8:$O$52,MATCH($C$6,Database!$C$8:$C$52,0),MATCH(B18,Database!$D$7:$O$7,0)) -> 0 | D18: =INDEX(Database!$D$8:$O$52,MATCH($D$6,Database!$C$8:$C$52,0),MATCH(B18,Database!$D$7:$O$7,0)) -> 0 | E18: =INDEX(Database!$D$8:$O$52,MATCH($E$6,Database!$C$8:$C$52,0),MATCH(B18,Database!$D$7:$O$7,0)) -> 0 | F18: =INDEX(Database!$D$8:$O$52,MATCH($F$6,Database!$C$8:$C$52,0),MATCH(B18,Database!$D$7:$O$7,0)) -> 0 | G18: =INDEX(Database!$D$8:$O$52,MATCH($G$6,Database!$C$8:$C$52,0),MATCH(B18,Database!$D$7:$O$7,0)) -> 0 | H18: =INDEX(Database!$D$8:$O$52,MATCH($H$6,Database!$C$8:$C$52,0),MATCH(B18,Database!$D$7:$O$7,0)) -> 0 | I18: =INDEX(Database!$D$8:$O$52,MATCH($I$6,Database!$C$8:$C$52,0),MATCH(B18,Database!$D$7:$O$7,0)) -> 0
C20: =""&INDEX( Database!$C$18:$C$35,COLUMN(C20)-COLUMN($B$20),1) -> Wages and Salaries | D20: =""&INDEX( Database!$C$18:$C$35,COLUMN(D20)-COLUMN($B$20),1) -> Direct Marketing | E20: =""&INDEX( Database!$C$18:$C$35,COLUMN(E20)-COLUMN($B$20),1) -> Advertising | F20: =""&INDEX( Database!$C$18:$C$35,COLUMN(F20)-COLUMN($B$20),1) -> Office Supplies | G20: =""&INDEX( Database!$C$18:$C$35,COLUMN(G20)-COLUMN($B$20),1) -> Outside Services | H20: =""&INDEX( Database!$C$18:$C$35,COLUMN(H20)-COLUMN($B$20),1) -> Rent | I20: =""&INDEX( Database!$C$18:$C$35,COLUMN(I20)-COLUMN($B$20),1) -> Telephone | J20: =""&INDEX( Database!$C$18:$C$35,COLUMN(J20)-COLUMN($B$20),1) -> Utilities | ... T20: =""&INDEX( Database!$C$18:$C$35,COLUMN(T20)-COLUMN($B$20),1) -> Other
B21: =B7 -> January | C21: =INDEX(Database!$D$8:$O$52,MATCH($C$20,Database!$C$8:$C$52,0),MATCH(B21,Database!$D$7:$O$7,0)) -> 2000 | D21: =INDEX(Database!$D$8:$O$52,MATCH($D$20,Database!$C$8:$C$52,0),MATCH(B21,Database!$D$7:$O$7,0)) -> 1100 | E21: =INDEX(Database!$D$8:$O$52,MATCH($E$20,Database!$C$8:$C$52,0),MATCH(B21,Database!$D$7:$O$7,0)) -> 750 | F21: =INDEX(Database!$D$8:$O$52,MATCH($F$20,Database!$C$8:$C$52,0),MATCH(B21,Database!$D$7:$O$7,0)) -> 0 | G21: =INDEX(Database!$D$8:$O$52,MATCH($G$20,Database!$C$8:$C$52,0),MATCH(B21,Database!$D$7:$O$7,0)) -> 0 | H21: =INDEX(Database!$D$8:$O$52,MATCH($H$20,Database!$C$8:$C$52,0),MATCH(B21,Database!$D$7:$O$7,0)) -> 0 | I21: =INDEX(Database!$D$8:$O$52,MATCH($I$20,Database!$C$8:$C$52,0),MATCH(B21,Database!$D$7:$O$7,0)) -> 0 | J21: =INDEX(Database!$D$8:$O$52,MATCH($J$20,Database!$C$8:$C$52,0),MATCH(B21,Database!$D$7:$O$7,0)) -> 0 | K21: =INDEX(Database!$D$8:$O$52,MATCH($K$20,Database!$C$8:$C$52,0),MATCH(B21,Database!$D$7:$O$7,0)) -> 0 | L21: =INDEX(Database!$D$8:$O$52,MATCH($L$20,Database!$C$8:$C$52,0),MATCH(B21,Database!$D$7:$O$7,0)) -> 0 | M21: =INDEX(Database!$D$8:$O$52,MATCH($M$20,Database!$C$8:$C$52,0),MATCH(B21,Database!$D$7:$O$7,0)) -> 0 | N21: =INDEX(Database!$D$8:$O$52,MATCH($N$20,Database!$C$8:$C$52,0),MATCH(B21,Database!$D$7:$O$7,0)) -> 0 | O21: =INDEX(Database!$D$8:$O$52,MATCH($O$20,Database!$C$8:$C$52,0),MATCH(B21,Database!$D$7:$O$7,0)) -> 0 | P21: =INDEX(Database!$D$8:$O$52,MATCH($P$20,Database!$C$8:$C$52,0),MATCH(B21,Database!$D$7:$O$7,0)) -> 0 | Q21: =INDEX(Database!$D$8:$O$52,MATCH($Q$20,Database!$C$8:$C$52,0),MATCH(B21,Database!$D$7:$O$7,0)) -> 0 | R21: =INDEX(Database!$D$8:$O$52,MATCH($R$20,Database!$C$8:$C$52,0),MATCH(B21,Database!$D$7:$O$7,0)) -> 0 | S21: =INDEX(Database!$D$8:$O$52,MATCH($S$20,Database!$C$8:$C$52,0),MATCH(B21,Database!$D$7:$O$7,0)) -> 0 | T21: =INDEX(Database!$D$8:$O$52,MATCH($T$20,Database!$C$8:$C$52,0),MATCH(B21,Database!$D$7:$O$7,0)) -> 0
B22: =B8 -> February | C22: =INDEX(Database!$D$8:$O$52,MATCH($C$20,Database!$C$8:$C$52,0),MATCH(B22,Database!$D$7:$O$7,0)) -> 2000 | D22: =INDEX(Database!$D$8:$O$52,MATCH($D$20,Database!$C$8:$C$52,0),MATCH(B22,Database!$D$7:$O$7,0)) -> 950 | E22: =INDEX(Database!$D$8:$O$52,MATCH($E$20,Database!$C$8:$C$52,0),MATCH(B22,Database!$D$7:$O$7,0)) -> 500 | F22: =INDEX(Database!$D$8:$O$52,MATCH($F$20,Database!$C$8:$C$52,0),MATCH(B22,Database!$D$7:$O$7,0)) -> 0 | G22: =INDEX(Database!$D$8:$O$52,MATCH($G$20,Database!$C$8:$C$52,0),MATCH(B22,Database!$D$7:$O$7,0)) -> 0 | H22: =INDEX(Database!$D$8:$O$52,MATCH($H$20,Database!$C$8:$C$52,0),MATCH(B22,Database!$D$7:$O$7,0)) -> 0 | I22: =INDEX(Database!$D$8:$O$52,MATCH($I$20,Database!$C$8:$C$52,0),MATCH(B22,Database!$D$7:$O$7,0)) -> 0 | J22: =INDEX(Database!$D$8:$O$52,MATCH($J$20,Database!$C$8:$C$52,0),MATCH(B22,Database!$D$7:$O$7,0)) -> 0 | K22: =INDEX(Database!$D$8:$O$52,MATCH($K$20,Database!$C$8:$C$52,0),MATCH(B22,Database!$D$7:$O$7,0)) -> 0 | L22: =INDEX(Database!$D$8:$O$52,MATCH($L$20,Database!$C$8:$C$52,0),MATCH(B22,Database!$D$7:$O$7,0)) -> 0 | M22: =INDEX(Database!$D$8:$O$52,MATCH($M$20,Database!$C$8:$C$52,0),MATCH(B22,Database!$D$7:$O$7,0)) -> 0 | N22: =INDEX(Database!$D$8:$O$52,MATCH($N$20,Database!$C$8:$C$52,0),MATCH(B22,Database!$D$7:$O$7,0)) -> 0 | O22: =INDEX(Database!$D$8:$O$52,MATCH($O$20,Database!$C$8:$C$52,0),MATCH(B22,Database!$D$7:$O$7,0)) -> 0 | P22: =INDEX(Database!$D$8:$O$52,MATCH($P$20,Database!$C$8:$C$52,0),MATCH(B22,Database!$D$7:$O$7,0)) -> 0 | Q22: =INDEX(Database!$D$8:$O$52,MATCH($Q$20,Database!$C$8:$C$52,0),MATCH(B22,Database!$D$7:$O$7,0)) -> 0 | R22: =INDEX(Database!$D$8:$O$52,MATCH($R$20,Database!$C$8:$C$52,0),MATCH(B22,Database!$D$7:$O$7,0)) -> 0 | S22: =INDEX(Database!$D$8:$O$52,MATCH($S$20,Database!$C$8:$C$52,0),MATCH(B22,Database!$D$7:$O$7,0)) -> 0 | T22: =INDEX(Database!$D$8:$O$52,MATCH($T$20,Database!$C$8:$C$52,0),MATCH(B22,Database!$D$7:$O$7,0)) -> 0
B23: =B9 -> March | C23: =INDEX(Database!$D$8:$O$52,MATCH($C$20,Database!$C$8:$C$52,0),MATCH(B23,Database!$D$7:$O$7,0)) -> 2500 | D23: =INDEX(Database!$D$8:$O$52,MATCH($D$20,Database!$C$8:$C$52,0),MATCH(B23,Database!$D$7:$O$7,0)) -> 800 | E23: =INDEX(Database!$D$8:$O$52,MATCH($E$20,Database!$C$8:$C$52,0),MATCH(B23,Database!$D$7:$O$7,0)) -> 400 | F23: =INDEX(Database!$D$8:$O$52,MATCH($F$20,Database!$C$8:$C$52,0),MATCH(B23,Database!$D$7:$O$7,0)) -> 0 | G23: =INDEX(Database!$D$8:$O$52,MATCH($G$20,Database!$C$8:$C$52,0),MATCH(B23,Database!$D$7:$O$7,0)) -> 0 | H23: =INDEX(Database!$D$8:$O$52,MATCH($H$20,Database!$C$8:$C$52,0),MATCH(B23,Database!$D$7:$O$7,0)) -> 0 | I23: =INDEX(Database!$D$8:$O$52,MATCH($I$20,Database!$C$8:$C$52,0),MATCH(B23,Database!$D$7:$O$7,0)) -> 0 | J23: =INDEX(Database!$D$8:$O$52,MATCH($J$20,Database!$C$8:$C$52,0),MATCH(B23,Database!$D$7:$O$7,0)) -> 0 | K23: =INDEX(Database!$D$8:$O$52,MATCH($K$20,Database!$C$8:$C$52,0),MATCH(B23,Database!$D$7:$O$7,0)) -> 0 | L23: =INDEX(Database!$D$8:$O$52,MATCH($L$20,Database!$C$8:$C$52,0),MATCH(B23,Database!$D$7:$O$7,0)) -> 0 | M23: =INDEX(Database!$D$8:$O$52,MATCH($M$20,Database!$C$8:$C$52,0),MATCH(B23,Database!$D$7:$O$7,0)) -> 0 | N23: =INDEX(Database!$D$8:$O$52,MATCH($N$20,Database!$C$8:$C$52,0),MATCH(B23,Database!$D$7:$O$7,0)) -> 0 | O23: =INDEX(Database!$D$8:$O$52,MATCH($O$20,Database!$C$8:$C$52,0),MATCH(B23,Database!$D$7:$O$7,0)) -> 0 | P23: =INDEX(Database!$D$8:$O$52,MATCH($P$20,Database!$C$8:$C$52,0),MATCH(B23,Database!$D$7:$O$7,0)) -> 0 | Q23: =INDEX(Database!$D$8:$O$52,MATCH($Q$20,Database!$C$8:$C$52,0),MATCH(B23,Database!$D$7:$O$7,0)) -> 0 | R23: =INDEX(Database!$D$8:$O$52,MATCH($R$20,Database!$C$8:$C$52,0),MATCH(B23,Database!$D$7:$O$7,0)) -> 0 | S23: =INDEX(Database!$D$8:$O$52,MATCH($S$20,Database!$C$8:$C$52,0),MATCH(B23,Database!$D$7:$O$7,0)) -> 0 | T23: =INDEX(Database!$D$8:$O$52,MATCH($T$20,Database!$C$8:$C$52,0),MATCH(B23,Database!$D$7:$O$7,0)) -> 0
B24: =B10 -> April | C24: =INDEX(Database!$D$8:$O$52,MATCH($C$20,Database!$C$8:$C$52,0),MATCH(B24,Database!$D$7:$O$7,0)) -> 3000 | D24: =INDEX(Database!$D$8:$O$52,MATCH($D$20,Database!$C$8:$C$52,0),MATCH(B24,Database!$D$7:$O$7,0)) -> 750 | E24: =INDEX(Database!$D$8:$O$52,MATCH($E$20,Database!$C$8:$C$52,0),MATCH(B24,Database!$D$7:$O$7,0)) -> 450 | F24: =INDEX(Database!$D$8:$O$52,MATCH($F$20,Database!$C$8:$C$52,0),MATCH(B24,Database!$D$7:$O$7,0)) -> 0 | G24: =INDEX(Database!$D$8:$O$52,MATCH($G$20,Database!$C$8:$C$52,0),MATCH(B24,Database!$D$7:$O$7,0)) -> 0 | H24: =INDEX(Database!$D$8:$O$52,MATCH($H$20,Database!$C$8:$C$52,0),MATCH(B24,Database!$D$7:$O$7,0)) -> 0 | I24: =INDEX(Database!$D$8:$O$52,MATCH($I$20,Database!$C$8:$C$52,0),MATCH(B24,Database!$D$7:$O$7,0)) -> 0 | J24: =INDEX(Database!$D$8:$O$52,MATCH($J$20,Database!$C$8:$C$52,0),MATCH(B24,Database!$D$7:$O$7,0)) -> 0 | K24: =INDEX(Database!$D$8:$O$52,MATCH($K$20,Database!$C$8:$C$52,0),MATCH(B24,Database!$D$7:$O$7,0)) -> 0 | L24: =INDEX(Database!$D$8:$O$52,MATCH($L$20,Database!$C$8:$C$52,0),MATCH(B24,Database!$D$7:$O$7,0)) -> 0 | M24: =INDEX(Database!$D$8:$O$52,MATCH($M$20,Database!$C$8:$C$52,0),MATCH(B24,Database!$D$7:$O$7,0)) -> 0 | N24: =INDEX(Database!$D$8:$O$52,MATCH($N$20,Database!$C$8:$C$52,0),MATCH(B24,Database!$D$7:$O$7,0)) -> 0 | O24: =INDEX(Database!$D$8:$O$52,MATCH($O$20,Database!$C$8:$C$52,0),MATCH(B24,Database!$D$7:$O$7,0)) -> 0 | P24: =INDEX(Database!$D$8:$O$52,MATCH($P$20,Database!$C$8:$C$52,0),MATCH(B24,Database!$D$7:$O$7,0)) -> 0 | Q24: =INDEX(Database!$D$8:$O$52,MATCH($Q$20,Database!$C$8:$C$52,0),MATCH(B24,Database!$D$7:$O$7,0)) -> 0 | R24: =INDEX(Database!$D$8:$O$52,MATCH($R$20,Database!$C$8:$C$52,0),MATCH(B24,Database!$D$7:$O$7,0)) -> 0 | S24: =INDEX(Database!$D$8:$O$52,MATCH($S$20,Database!$C$8:$C$52,0),MATCH(B24,Database!$D$7:$O$7,0)) -> 0 | T24: =INDEX(Database!$D$8:$O$52,MATCH($T$20,Database!$C$8:$C$52,0),MATCH(B24,Database!$D$7:$O$7,0)) -> 0
B25: =B11 -> May | C25: =INDEX(Database!$D$8:$O$52,MATCH($C$20,Database!$C$8:$C$52,0),MATCH(B25,Database!$D$7:$O$7,0)) -> 2750 | D25: =INDEX(Database!$D$8:$O$52,MATCH($D$20,Database!$C$8:$C$52,0),MATCH(B25,Database!$D$7:$O$7,0)) -> 700 | E25: =INDEX(Database!$D$8:$O$52,MATCH($E$20,Database!$C$8:$C$52,0),MATCH(B25,Database!$D$7:$O$7,0)) -> 400 | F25: =INDEX(Database!$D$8:$O$52,MATCH($F$20,Database!$C$8:$C$52,0),MATCH(B25,Database!$D$7:$O$7,0)) -> 0 | G25: =INDEX(Database!$D$8:$O$52,MATCH($G$20,Database!$C$8:$C$52,0),MATCH(B25,Database!$D$7:$O$7,0)) -> 0 | H25: =INDEX(Database!$D$8:$O$52,MATCH($H$20,Database!$C$8:$C$52,0),MATCH(B25,Database!$D$7:$O$7,0)) -> 0 | I25: =INDEX(Database!$D$8:$O$52,MATCH($I$20,Database!$C$8:$C$52,0),MATCH(B25,Database!$D$7:$O$7,0)) -> 0 | J25: =INDEX(Database!$D$8:$O$52,MATCH($J$20,Database!$C$8:$C$52,0),MATCH(B25,Database!$D$7:$O$7,0)) -> 0 | K25: =INDEX(Database!$D$8:$O$52,MATCH($K$20,Database!$C$8:$C$52,0),MATCH(B25,Database!$D$7:$O$7,0)) -> 0 | L25: =INDEX(Database!$D$8:$O$52,MATCH($L$20,Database!$C$8:$C$52,0),MATCH(B25,Database!$D$7:$O$7,0)) -> 0 | M25: =INDEX(Database!$D$8:$O$52,MATCH($M$20,Database!$C$8:$C$52,0),MATCH(B25,Database!$D$7:$O$7,0)) -> 0 | N25: =INDEX(Database!$D$8:$O$52,MATCH($N$20,Database!$C$8:$C$52,0),MATCH(B25,Database!$D$7:$O$7,0)) -> 0 | O25: =INDEX(Database!$D$8:$O$52,MATCH($O$20,Database!$C$8:$C$52,0),MATCH(B25,Database!$D$7:$O$7,0)) -> 0 | P25: =INDEX(Database!$D$8:$O$52,MATCH($P$20,Database!$C$8:$C$52,0),MATCH(B25,Database!$D$7:$O$7,0)) -> 0 | Q25: =INDEX(Database!$D$8:$O$52,MATCH($Q$20,Database!$C$8:$C$52,0),MATCH(B25,Database!$D$7:$O$7,0)) -> 0 | R25: =INDEX(Database!$D$8:$O$52,MATCH($R$20,Database!$C$8:$C$52,0),MATCH(B25,Database!$D$7:$O$7,0)) -> 0 | S25: =INDEX(Database!$D$8:$O$52,MATCH($S$20,Database!$C$8:$C$52,0),MATCH(B25,Database!$D$7:$O$7,0)) -> 0 | T25: =INDEX(Database!$D$8:$O$52,MATCH($T$20,Database!$C$8:$C$52,0),MATCH(B25,Database!$D$7:$O$7,0)) -> 0
B26: =B12 -> June | C26: =INDEX(Database!$D$8:$O$52,MATCH($C$20,Database!$C$8:$C$52,0),MATCH(B26,Database!$D$7:$O$7,0)) -> 3500 | D26: =INDEX(Database!$D$8:$O$52,MATCH($D$20,Database!$C$8:$C$52,0),MATCH(B26,Database!$D$7:$O$7,0)) -> 750 | E26: =INDEX(Database!$D$8:$O$52,MATCH($E$20,Database!$C$8:$C$52,0),MATCH(B26,Database!$D$7:$O$7,0)) -> 450 | F26: =INDEX(Database!$D$8:$O$52,MATCH($F$20,Database!$C$8:$C$52,0),MATCH(B26,Database!$D$7:$O$7,0)) -> 0 | G26: =INDEX(Database!$D$8:$O$52,MATCH($G$20,Database!$C$8:$C$52,0),MATCH(B26,Database!$D$7:$O$7,0)) -> 0 | H26: =INDEX(Database!$D$8:$O$52,MATCH($H$20,Database!$C$8:$C$52,0),MATCH(B26,Database!$D$7:$O$7,0)) -> 0 | I26: =INDEX(Database!$D$8:$O$52,MATCH($I$20,Database!$C$8:$C$52,0),MATCH(B26,Database!$D$7:$O$7,0)) -> 0 | J26: =INDEX(Database!$D$8:$O$52,MATCH($J$20,Database!$C$8:$C$52,0),MATCH(B26,Database!$D$7:$O$7,0)) -> 0 | K26: =INDEX(Database!$D$8:$O$52,MATCH($K$20,Database!$C$8:$C$52,0),MATCH(B26,Database!$D$7:$O$7,0)) -> 0 | L26: =INDEX(Database!$D$8:$O$52,MATCH($L$20,Database!$C$8:$C$52,0),MATCH(B26,Database!$D$7:$O$7,0)) -> 0 | M26: =INDEX(Database!$D$8:$O$52,MATCH($M$20,Database!$C$8:$C$52,0),MATCH(B26,Database!$D$7:$O$7,0)) -> 0 | N26: =INDEX(Database!$D$8:$O$52,MATCH($N$20,Database!$C$8:$C$52,0),MATCH(B26,Database!$D$7:$O$7,0)) -> 0 | O26: =INDEX(Database!$D$8:$O$52,MATCH($O$20,Database!$C$8:$C$52,0),MATCH(B26,Database!$D$7:$O$7,0)) -> 0 | P26: =INDEX(Database!$D$8:$O$52,MATCH($P$20,Database!$C$8:$C$52,0),MATCH(B26,Database!$D$7:$O$7,0)) -> 0 | Q26: =INDEX(Database!$D$8:$O$52,MATCH($Q$20,Database!$C$8:$C$52,0),MATCH(B26,Database!$D$7:$O$7,0)) -> 0 | R26: =INDEX(Database!$D$8:$O$52,MATCH($R$20,Database!$C$8:$C$52,0),MATCH(B26,Database!$D$7:$O$7,0)) -> 0 | S26: =INDEX(Database!$D$8:$O$52,MATCH($S$20,Database!$C$8:$C$52,0),MATCH(B26,Database!$D$7:$O$7,0)) -> 0 | T26: =INDEX(Database!$D$8:$O$52,MATCH($T$20,Database!$C$8:$C$52,0),MATCH(B26,Database!$D$7:$O$7,0)) -> 0
B27: =B13 -> July | C27: =INDEX(Database!$D$8:$O$52,MATCH($C$20,Database!$C$8:$C$52,0),MATCH(B27,Database!$D$7:$O$7,0)) -> 2000 | D27: =INDEX(Database!$D$8:$O$52,MATCH($D$20,Database!$C$8:$C$52,0),MATCH(B27,Database!$D$7:$O$7,0)) -> 700 | E27: =INDEX(Database!$D$8:$O$52,MATCH($E$20,Database!$C$8:$C$52,0),MATCH(B27,Database!$D$7:$O$7,0)) -> 450 | F27: =INDEX(Database!$D$8:$O$52,MATCH($F$20,Database!$C$8:$C$52,0),MATCH(B27,Database!$D$7:$O$7,0)) -> 0 | G27: =INDEX(Database!$D$8:$O$52,MATCH($G$20,Database!$C$8:$C$52,0),MATCH(B27,Database!$D$7:$O$7,0)) -> 0 | H27: =INDEX(Database!$D$8:$O$52,MATCH($H$20,Database!$C$8:$C$52,0),MATCH(B27,Database!$D$7:$O$7,0)) -> 0 | I27: =INDEX(Database!$D$8:$O$52,MATCH($I$20,Database!$C$8:$C$52,0),MATCH(B27,Database!$D$7:$O$7,0)) -> 0 | J27: =INDEX(Database!$D$8:$O$52,MATCH($J$20,Database!$C$8:$C$52,0),MATCH(B27,Database!$D$7:$O$7,0)) -> 0 | K27: =INDEX(Database!$D$8:$O$52,MATCH($K$20,Database!$C$8:$C$52,0),MATCH(B27,Database!$D$7:$O$7,0)) -> 0 | L27: =INDEX(Database!$D$8:$O$52,MATCH($L$20,Database!$C$8:$C$52,0),MATCH(B27,Database!$D$7:$O$7,0)) -> 0 | M27: =INDEX(Database!$D$8:$O$52,MATCH($M$20,Database!$C$8:$C$52,0),MATCH(B27,Database!$D$7:$O$7,0)) -> 0 | N27: =INDEX(Database!$D$8:$O$52,MATCH($N$20,Database!$C$8:$C$52,0),MATCH(B27,Database!$D$7:$O$7,0)) -> 0 | O27: =INDEX(Database!$D$8:$O$52,MATCH($O$20,Database!$C$8:$C$52,0),MATCH(B27,Database!$D$7:$O$7,0)) -> 0 | P27: =INDEX(Database!$D$8:$O$52,MATCH($P$20,Database!$C$8:$C$52,0),MATCH(B27,Database!$D$7:$O$7,0)) -> 0 | Q27: =INDEX(Database!$D$8:$O$52,MATCH($Q$20,Database!$C$8:$C$52,0),MATCH(B27,Database!$D$7:$O$7,0)) -> 0 | R27: =INDEX(Database!$D$8:$O$52,MATCH($R$20,Database!$C$8:$C$52,0),MATCH(B27,Database!$D$7:$O$7,0)) -> 0 | S27: =INDEX(Database!$D$8:$O$52,MATCH($S$20,Database!$C$8:$C$52,0),MATCH(B27,Database!$D$7:$O$7,0)) -> 0 | T27: =INDEX(Database!$D$8:$O$52,MATCH($T$20,Database!$C$8:$C$52,0),MATCH(B27,Database!$D$7:$O$7,0)) -> 0
B28: =B14 -> August | C28: =INDEX(Database!$D$8:$O$52,MATCH($C$20,Database!$C$8:$C$52,0),MATCH(B28,Database!$D$7:$O$7,0)) -> 2500 | D28: =INDEX(Database!$D$8:$O$52,MATCH($D$20,Database!$C$8:$C$52,0),MATCH(B28,Database!$D$7:$O$7,0)) -> 680 | E28: =INDEX(Database!$D$8:$O$52,MATCH($E$20,Database!$C$8:$C$52,0),MATCH(B28,Database!$D$7:$O$7,0)) -> 460 | F28: =INDEX(Database!$D$8:$O$52,MATCH($F$20,Database!$C$8:$C$52,0),MATCH(B28,Database!$D$7:$O$7,0)) -> 0 | G28: =INDEX(Database!$D$8:$O$52,MATCH($G$20,Database!$C$8:$C$52,0),MATCH(B28,Database!$D$7:$O$7,0)) -> 0 | H28: =INDEX(Database!$D$8:$O$52,MATCH($H$20,Database!$C$8:$C$52,0),MATCH(B28,Database!$D$7:$O$7,0)) -> 0 | I28: =INDEX(Database!$D$8:$O$52,MATCH($I$20,Database!$C$8:$C$52,0),MATCH(B28,Database!$D$7:$O$7,0)) -> 0 | J28: =INDEX(Database!$D$8:$O$52,MATCH($J$20,Database!$C$8:$C$52,0),MATCH(B28,Database!$D$7:$O$7,0)) -> 0 | K28: =INDEX(Database!$D$8:$O$52,MATCH($K$20,Database!$C$8:$C$52,0),MATCH(B28,Database!$D$7:$O$7,0)) -> 0 | L28: =INDEX(Database!$D$8:$O$52,MATCH($L$20,Database!$C$8:$C$52,0),MATCH(B28,Database!$D$7:$O$7,0)) -> 0 | M28: =INDEX(Database!$D$8:$O$52,MATCH($M$20,Database!$C$8:$C$52,0),MATCH(B28,Database!$D$7:$O$7,0)) -> 0 | N28: =INDEX(Database!$D$8:$O$52,MATCH($N$20,Database!$C$8:$C$52,0),MATCH(B28,Database!$D$7:$O$7,0)) -> 0 | O28: =INDEX(Database!$D$8:$O$52,MATCH($O$20,Database!$C$8:$C$52,0),MATCH(B28,Database!$D$7:$O$7,0)) -> 0 | P28: =INDEX(Database!$D$8:$O$52,MATCH($P$20,Database!$C$8:$C$52,0),MATCH(B28,Database!$D$7:$O$7,0)) -> 0 | Q28: =INDEX(Database!$D$8:$O$52,MATCH($Q$20,Database!$C$8:$C$52,0),MATCH(B28,Database!$D$7:$O$7,0)) -> 0 | R28: =INDEX(Database!$D$8:$O$52,MATCH($R$20,Database!$C$8:$C$52,0),MATCH(B28,Database!$D$7:$O$7,0)) -> 0 | S28: =INDEX(Database!$D$8:$O$52,MATCH($S$20,Database!$C$8:$C$52,0),MATCH(B28,Database!$D$7:$O$7,0)) -> 0 | T28: =INDEX(Database!$D$8:$O$52,MATCH($T$20,Database!$C$8:$C$52,0),MATCH(B28,Database!$D$7:$O$7,0)) -> 0
B29: =B15 -> September | C29: =INDEX(Database!$D$8:$O$52,MATCH($C$20,Database!$C$8:$C$52,0),MATCH(B29,Database!$D$7:$O$7,0)) -> 3000 | D29: =INDEX(Database!$D$8:$O$52,MATCH($D$20,Database!$C$8:$C$52,0),MATCH(B29,Database!$D$7:$O$7,0)) -> 660 | E29: =INDEX(Database!$D$8:$O$52,MATCH($E$20,Database!$C$8:$C$52,0),MATCH(B29,Database!$D$7:$O$7,0)) -> 470 | F29: =INDEX(Database!$D$8:$O$52,MATCH($F$20,Database!$C$8:$C$52,0),MATCH(B29,Database!$D$7:$O$7,0)) -> 0 | G29: =INDEX(Database!$D$8:$O$52,MATCH($G$20,Database!$C$8:$C$52,0),MATCH(B29,Database!$D$7:$O$7,0)) -> 0 | H29: =INDEX(Database!$D$8:$O$52,MATCH($H$20,Database!$C$8:$C$52,0),MATCH(B29,Database!$D$7:$O$7,0)) -> 0 | I29: =INDEX(Database!$D$8:$O$52,MATCH($I$20,Database!$C$8:$C$52,0),MATCH(B29,Database!$D$7:$O$7,0)) -> 0 | J29: =INDEX(Database!$D$8:$O$52,MATCH($J$20,Database!$C$8:$C$52,0),MATCH(B29,Database!$D$7:$O$7,0)) -> 0 | K29: =INDEX(Database!$D$8:$O$52,MATCH($K$20,Database!$C$8:$C$52,0),MATCH(B29,Database!$D$7:$O$7,0)) -> 0 | L29: =INDEX(Database!$D$8:$O$52,MATCH($L$20,Database!$C$8:$C$52,0),MATCH(B29,Database!$D$7:$O$7,0)) -> 0 | M29: =INDEX(Database!$D$8:$O$52,MATCH($M$20,Database!$C$8:$C$52,0),MATCH(B29,Database!$D$7:$O$7,0)) -> 0 | N29: =INDEX(Database!$D$8:$O$52,MATCH($N$20,Database!$C$8:$C$52,0),MATCH(B29,Database!$D$7:$O$7,0)) -> 0 | O29: =INDEX(Database!$D$8:$O$52,MATCH($O$20,Database!$C$8:$C$52,0),MATCH(B29,Database!$D$7:$O$7,0)) -> 0 | P29: =INDEX(Database!$D$8:$O$52,MATCH($P$20,Database!$C$8:$C$52,0),MATCH(B29,Database!$D$7:$O$7,0)) -> 0 | Q29: =INDEX(Database!$D$8:$O$52,MATCH($Q$20,Database!$C$8:$C$52,0),MATCH(B29,Database!$D$7:$O$7,0)) -> 0 | R29: =INDEX(Database!$D$8:$O$52,MATCH($R$20,Database!$C$8:$C$52,0),MATCH(B29,Database!$D$7:$O$7,0)) -> 0 | S29: =INDEX(Database!$D$8:$O$52,MATCH($S$20,Database!$C$8:$C$52,0),MATCH(B29,Database!$D$7:$O$7,0)) -> 0 | T29: =INDEX(Database!$D$8:$O$52,MATCH($T$20,Database!$C$8:$C$52,0),MATCH(B29,Database!$D$7:$O$7,0)) -> 0
B30: =B16 -> October | C30: =INDEX(Database!$D$8:$O$52,MATCH($C$20,Database!$C$8:$C$52,0),MATCH(B30,Database!$D$7:$O$7,0)) -> 2750 | D30: =INDEX(Database!$D$8:$O$52,MATCH($D$20,Database!$C$8:$C$52,0),MATCH(B30,Database!$D$7:$O$7,0)) -> 640 | E30: =INDEX(Database!$D$8:$O$52,MATCH($E$20,Database!$C$8:$C$52,0),MATCH(B30,Database!$D$7:$O$7,0)) -> 480 | F30: =INDEX(Database!$D$8:$O$52,MATCH($F$20,Database!$C$8:$C$52,0),MATCH(B30,Database!$D$7:$O$7,0)) -> 0 | G30: =INDEX(Database!$D$8:$O$52,MATCH($G$20,Database!$C$8:$C$52,0),MATCH(B30,Database!$D$7:$O$7,0)) -> 0 | H30: =INDEX(Database!$D$8:$O$52,MATCH($H$20,Database!$C$8:$C$52,0),MATCH(B30,Database!$D$7:$O$7,0)) -> 0 | I30: =INDEX(Database!$D$8:$O$52,MATCH($I$20,Database!$C$8:$C$52,0),MATCH(B30,Database!$D$7:$O$7,0)) -> 0 | J30: =INDEX(Database!$D$8:$O$52,MATCH($J$20,Database!$C$8:$C$52,0),MATCH(B30,Database!$D$7:$O$7,0)) -> 0 | K30: =INDEX(Database!$D$8:$O$52,MATCH($K$20,Database!$C$8:$C$52,0),MATCH(B30,Database!$D$7:$O$7,0)) -> 0 | L30: =INDEX(Database!$D$8:$O$52,MATCH($L$20,Database!$C$8:$C$52,0),MATCH(B30,Database!$D$7:$O$7,0)) -> 0 | M30: =INDEX(Database!$D$8:$O$52,MATCH($M$20,Database!$C$8:$C$52,0),MATCH(B30,Database!$D$7:$O$7,0)) -> 0 | N30: =INDEX(Database!$D$8:$O$52,MATCH($N$20,Database!$C$8:$C$52,0),MATCH(B30,Database!$D$7:$O$7,0)) -> 0 | O30: =INDEX(Database!$D$8:$O$52,MATCH($O$20,Database!$C$8:$C$52,0),MATCH(B30,Database!$D$7:$O$7,0)) -> 0 | P30: =INDEX(Database!$D$8:$O$52,MATCH($P$20,Database!$C$8:$C$52,0),MATCH(B30,Database!$D$7:$O$7,0)) -> 0 | Q30: =INDEX(Database!$D$8:$O$52,MATCH($Q$20,Database!$C$8:$C$52,0),MATCH(B30,Database!$D$7:$O$7,0)) -> 0 | R30: =INDEX(Database!$D$8:$O$52,MATCH($R$20,Database!$C$8:$C$52,0),MATCH(B30,Database!$D$7:$O$7,0)) -> 0 | S30: =INDEX(Database!$D$8:$O$52,MATCH($S$20,Database!$C$8:$C$52,0),MATCH(B30,Database!$D$7:$O$7,0)) -> 0 | T30: =INDEX(Database!$D$8:$O$52,MATCH($T$20,Database!$C$8:$C$52,0),MATCH(B30,Database!$D$7:$O$7,0)) -> 0
B31: =B17 -> November | C31: =INDEX(Database!$D$8:$O$52,MATCH($C$20,Database!$C$8:$C$52,0),MATCH(B31,Database!$D$7:$O$7,0)) -> 2500 | D31: =INDEX(Database!$D$8:$O$52,MATCH($D$20,Database!$C$8:$C$52,0),MATCH(B31,Database!$D$7:$O$7,0)) -> 620 | E31: =INDEX(Database!$D$8:$O$52,MATCH($E$20,Database!$C$8:$C$52,0),MATCH(B31,Database!$D$7:$O$7,0)) -> 490 | F31: =INDEX(Database!$D$8:$O$52,MATCH($F$20,Database!$C$8:$C$52,0),MATCH(B31,Database!$D$7:$O$7,0)) -> 0 | G31: =INDEX(Database!$D$8:$O$52,MATCH($G$20,Database!$C$8:$C$52,0),MATCH(B31,Database!$D$7:$O$7,0)) -> 0 | H31: =INDEX(Database!$D$8:$O$52,MATCH($H$20,Database!$C$8:$C$52,0),MATCH(B31,Database!$D$7:$O$7,0)) -> 0 | I31: =INDEX(Database!$D$8:$O$52,MATCH($I$20,Database!$C$8:$C$52,0),MATCH(B31,Database!$D$7:$O$7,0)) -> 0 | J31: =INDEX(Database!$D$8:$O$52,MATCH($J$20,Database!$C$8:$C$52,0),MATCH(B31,Database!$D$7:$O$7,0)) -> 0 | K31: =INDEX(Database!$D$8:$O$52,MATCH($K$20,Database!$C$8:$C$52,0),MATCH(B31,Database!$D$7:$O$7,0)) -> 0 | L31: =INDEX(Database!$D$8:$O$52,MATCH($L$20,Database!$C$8:$C$52,0),MATCH(B31,Database!$D$7:$O$7,0)) -> 0 | M31: =INDEX(Database!$D$8:$O$52,MATCH($M$20,Database!$C$8:$C$52,0),MATCH(B31,Database!$D$7:$O$7,0)) -> 0 | N31: =INDEX(Database!$D$8:$O$52,MATCH($N$20,Database!$C$8:$C$52,0),MATCH(B31,Database!$D$7:$O$7,0)) -> 0 | O31: =INDEX(Database!$D$8:$O$52,MATCH($O$20,Database!$C$8:$C$52,0),MATCH(B31,Database!$D$7:$O$7,0)) -> 0 | P31: =INDEX(Database!$D$8:$O$52,MATCH($P$20,Database!$C$8:$C$52,0),MATCH(B31,Database!$D$7:$O$7,0)) -> 0 | Q31: =INDEX(Database!$D$8:$O$52,MATCH($Q$20,Database!$C$8:$C$52,0),MATCH(B31,Database!$D$7:$O$7,0)) -> 0 | R31: =INDEX(Database!$D$8:$O$52,MATCH($R$20,Database!$C$8:$C$52,0),MATCH(B31,Database!$D$7:$O$7,0)) -> 0 | S31: =INDEX(Database!$D$8:$O$52,MATCH($S$20,Database!$C$8:$C$52,0),MATCH(B31,Database!$D$7:$O$7,0)) -> 0 | T31: =INDEX(Database!$D$8:$O$52,MATCH($T$20,Database!$C$8:$C$52,0),MATCH(B31,Database!$D$7:$O$7,0)) -> 0
B32: =B18 -> December | C32: =INDEX(Database!$D$8:$O$52,MATCH($C$20,Database!$C$8:$C$52,0),MATCH(B32,Database!$D$7:$O$7,0)) -> 0 | D32: =INDEX(Database!$D$8:$O$52,MATCH($D$20,Database!$C$8:$C$52,0),MATCH(B32,Database!$D$7:$O$7,0)) -> 0 | E32: =INDEX(Database!$D$8:$O$52,MATCH($E$20,Database!$C$8:$C$52,0),MATCH(B32,Database!$D$7:$O$7,0)) -> 0 | F32: =INDEX(Database!$D$8:$O$52,MATCH($F$20,Database!$C$8:$C$52,0),MATCH(B32,Database!$D$7:$O$7,0)) -> 0 | G32: =INDEX(Database!$D$8:$O$52,MATCH($G$20,Database!$C$8:$C$52,0),MATCH(B32,Database!$D$7:$O$7,0)) -> 0 | H32: =INDEX(Database!$D$8:$O$52,MATCH($H$20,Database!$C$8:$C$52,0),MATCH(B32,Database!$D$7:$O$7,0)) -> 0 | I32: =INDEX(Database!$D$8:$O$52,MATCH($I$20,Database!$C$8:$C$52,0),MATCH(B32,Database!$D$7:$O$7,0)) -> 0 | J32: =INDEX(Database!$D$8:$O$52,MATCH($J$20,Database!$C$8:$C$52,0),MATCH(B32,Database!$D$7:$O$7,0)) -> 0 | K32: =INDEX(Database!$D$8:$O$52,MATCH($K$20,Database!$C$8:$C$52,0),MATCH(B32,Database!$D$7:$O$7,0)) -> 0 | L32: =INDEX(Database!$D$8:$O$52,MATCH($L$20,Database!$C$8:$C$52,0),MATCH(B32,Database!$D$7:$O$7,0)) -> 0 | M32: =INDEX(Database!$D$8:$O$52,MATCH($M$20,Database!$C$8:$C$52,0),MATCH(B32,Database!$D$7:$O$7,0)) -> 0 | N32: =INDEX(Database!$D$8:$O$52,MATCH($N$20,Database!$C$8:$C$52,0),MATCH(B32,Database!$D$7:$O$7,0)) -> 0 | O32: =INDEX(Database!$D$8:$O$52,MATCH($O$20,Database!$C$8:$C$52,0),MATCH(B32,Database!$D$7:$O$7,0)) -> 0 | P32: =INDEX(Database!$D$8:$O$52,MATCH($P$20,Database!$C$8:$C$52,0),MATCH(B32,Database!$D$7:$O$7,0)) -> 0 | Q32: =INDEX(Database!$D$8:$O$52,MATCH($Q$20,Database!$C$8:$C$52,0),MATCH(B32,Database!$D$7:$O$7,0)) -> 0 | R32: =INDEX(Database!$D$8:$O$52,MATCH($R$20,Database!$C$8:$C$52,0),MATCH(B32,Database!$D$7:$O$7,0)) -> 0 | S32: =INDEX(Database!$D$8:$O$52,MATCH($S$20,Database!$C$8:$C$52,0),MATCH(B32,Database!$D$7:$O$7,0)) -> 0 | T32: =INDEX(Database!$D$8:$O$52,MATCH($T$20,Database!$C$8:$C$52,0),MATCH(B32,Database!$D$7:$O$7,0)) -> 0
C34: =""&INDEX(Database!$C$37:$C$39,COLUMN(C34)-COLUMN($B$34),1) -> Soft&Hardware Equipments | D34: =""&INDEX(Database!$C$37:$C$39,COLUMN(D34)-COLUMN($B$34),1) -> Gifts and Rewards Given | E34: =""&INDEX(Database!$C$37:$C$39,COLUMN(E34)-COLUMN($B$34),1) -> Other
B35: =B7 -> January | C35: =INDEX(Database!$D$8:$O$52,MATCH($C$34,Database!$C$8:$C$52,0),MATCH(B35,Database!$D$7:$O$7,0)) -> 250 | D35: =INDEX(Database!$D$8:$O$52,MATCH($D$34,Database!$C$8:$C$52,0),MATCH(B35,Database!$D$7:$O$7,0)) -> 150 | E35: =INDEX(Database!$D$8:$O$52,MATCH($E$34,Database!$C$8:$C$52,0),MATCH(B35,Database!$D$7:$O$7,0)) -> 0
B36: =B8 -> February | C36: =INDEX(Database!$D$8:$O$52,MATCH($C$34,Database!$C$8:$C$52,0),MATCH(B36,Database!$D$7:$O$7,0)) -> 250 | D36: =INDEX(Database!$D$8:$O$52,MATCH($D$34,Database!$C$8:$C$52,0),MATCH(B36,Database!$D$7:$O$7,0)) -> 200 | E36: =INDEX(Database!$D$8:$O$52,MATCH($E$34,Database!$C$8:$C$52,0),MATCH(B36,Database!$D$7:$O$7,0)) -> 0
B37: =B9 -> March | C37: =INDEX(Database!$D$8:$O$52,MATCH($C$34,Database!$C$8:$C$52,0),MATCH(B37,Database!$D$7:$O$7,0)) -> 350 | D37: =INDEX(Database!$D$8:$O$52,MATCH($D$34,Database!$C$8:$C$52,0),MATCH(B37,Database!$D$7:$O$7,0)) -> 350 | E37: =INDEX(Database!$D$8:$O$52,MATCH($E$34,Database!$C$8:$C$52,0),MATCH(B37,Database!$D$7:$O$7,0)) -> 0
B38: =B10 -> April | C38: =INDEX(Database!$D$8:$O$52,MATCH($C$34,Database!$C$8:$C$52,0),MATCH(B38,Database!$D$7:$O$7,0)) -> 450 | D38: =INDEX(Database!$D$8:$O$52,MATCH($D$34,Database!$C$8:$C$52,0),MATCH(B38,Database!$D$7:$O$7,0)) -> 500 | E38: =INDEX(Database!$D$8:$O$52,MATCH($E$34,Database!$C$8:$C$52,0),MATCH(B38,Database!$D$7:$O$7,0)) -> 0
B39: =B11 -> May | C39: =INDEX(Database!$D$8:$O$52,MATCH($C$34,Database!$C$8:$C$52,0),MATCH(B39,Database!$D$7:$O$7,0)) -> 400 | D39: =INDEX(Database!$D$8:$O$52,MATCH($D$34,Database!$C$8:$C$52,0),MATCH(B39,Database!$D$7:$O$7,0)) -> 150 | E39: =INDEX(Database!$D$8:$O$52,MATCH($E$34,Database!$C$8:$C$52,0),MATCH(B39,Database!$D$7:$O$7,0)) -> 0
B40: =B12 -> June | C40: =INDEX(Database!$D$8:$O$52,MATCH($C$34,Database!$C$8:$C$52,0),MATCH(B40,Database!$D$7:$O$7,0)) -> 400 | D40: =INDEX(Database!$D$8:$O$52,MATCH($D$34,Database!$C$8:$C$52,0),MATCH(B40,Database!$D$7:$O$7,0)) -> 150 | E40: =INDEX(Database!$D$8:$O$52,MATCH($E$34,Database!$C$8:$C$52,0),MATCH(B40,Database!$D$7:$O$7,0)) -> 0
B41: =B13 -> July | C41: =INDEX(Database!$D$8:$O$52,MATCH($C$34,Database!$C$8:$C$52,0),MATCH(B41,Database!$D$7:$O$7,0)) -> 425 | D41: =INDEX(Database!$D$8:$O$52,MATCH($D$34,Database!$C$8:$C$52,0),MATCH(B41,Database!$D$7:$O$7,0)) -> 0 | E41: =INDEX(Database!$D$8:$O$52,MATCH($E$34,Database!$C$8:$C$52,0),MATCH(B41,Database!$D$7:$O$7,0)) -> 0
B42: =B14 -> August | C42: =INDEX(Database!$D$8:$O$52,MATCH($C$34,Database!$C$8:$C$52,0),MATCH(B42,Database!$D$7:$O$7,0)) -> 435 | D42: =INDEX(Database!$D$8:$O$52,MATCH($D$34,Database!$C$8:$C$52,0),MATCH(B42,Database!$D$7:$O$7,0)) -> 0 | E42: =INDEX(Database!$D$8:$O$52,MATCH($E$34,Database!$C$8:$C$52,0),MATCH(B42,Database!$D$7:$O$7,0)) -> 0
B43: =B15 -> September | C43: =INDEX(Database!$D$8:$O$52,MATCH($C$34,Database!$C$8:$C$52,0),MATCH(B43,Database!$D$7:$O$7,0)) -> 445 | D43: =INDEX(Database!$D$8:$O$52,MATCH($D$34,Database!$C$8:$C$52,0),MATCH(B43,Database!$D$7:$O$7,0)) -> 0 | E43: =INDEX(Database!$D$8:$O$52,MATCH($E$34,Database!$C$8:$C$52,0),MATCH(B43,Database!$D$7:$O$7,0)) -> 0
B44: =B16 -> October | C44: =INDEX(Database!$D$8:$O$52,MATCH($C$34,Database!$C$8:$C$52,0),MATCH(B44,Database!$D$7:$O$7,0)) -> 455 | D44: =INDEX(Database!$D$8:$O$52,MATCH($D$34,Database!$C$8:$C$52,0),MATCH(B44,Database!$D$7:$O$7,0)) -> 0 | E44: =INDEX(Database!$D$8:$O$52,MATCH($E$34,Database!$C$8:$C$52,0),MATCH(B44,Database!$D$7:$O$7,0)) -> 0
...
