Workbook
Name assetDD: OFFSET(Menu!$G$21,,,COUNTA(Menu!$G$21:$G$30),)
Name expenseDD: OFFSET(Menu!$E$21,,,COUNTA(Menu!$E$21:$E$30),)
Name incomeDD: OFFSET(Menu!$C$21,,,COUNTA(Menu!$C$21:$C$30),)
Name liabilityDD: OFFSET(Menu!$I$21,,,COUNTA(Menu!$I$21:$I$30),)
Name months: Calc!$D$14:$D$25
Name years: Calc!$B$13:$B$29

Sheet Menu
C2: PERSONAL FINANCIAL STATEMENT TEMPLATE
C3: MENU
C18: SETTINGS
C20: INCOME CATEGORIES | E20: EXPENSE CATEGORIES | G20: ASSET CATEGORIES | I20: LIABILITY CATEGORIES | K20: Select Start Month | L20: Select Year
C21: Employment Income | E21: Housing Expenses | G21: Cash and Cash Equivalents | I21: Credit Card Debts | K21: January | L21: 2024
C22: Business Income | E22: Food Expenses | G22: Investments | I22: Loan Debts
C23: Investment Income | E23: Transportation Expenses | G23: Real Estate | I23: Other Liabilities
C24: Other Income

Sheet Dashboard
C2: PERSONAL FINANCIAL STATEMENT TEMPLATE
C3: DASHBOARD
C8: ANNUAL INCOME | E8: ANNUAL EXPENSES | G8: ANNUAL ASSETS | I8: ANNUAL LIABILITIES
C10: =SUM(IncomeExpenses!E58:P58) -> 165880 | E10: =SUM(IncomeExpenses!E111:P111) -> 34020 | G10: =SUM(AssetsLiabilities!E58:P58) -> 171700 | I10: =SUM(AssetsLiabilities!E111:P111) -> 96400

Sheet PersonalFinancialStatement
C2: PERSONAL FINANCIAL STATEMENT TEMPLATE
C3: PERSONAL FINANCIAL STATEMENT
C7: PERSONAL FINANCIAL STATEMENT
C9: Name: | D9: David Beckham | F9: Financial Month: | G9: February
C11: Assets | F11: Income
C12: =IF(Calc!B55="","",Calc!B55 & ":") -> Cash and Cash Equivalents: | D12: =IFERROR(IF(C12="","",INDEX(Calc!$C$55:$N$64,ROW(A1),MATCH(INDEX(Calc!$J$14:$J$25,MATCH(PersonalFinancialStatement!$G$9,Calc!$K$14:$K$25,0),),Calc!$C$54:$N$54,0))),"") -> 8950 | F12: =IF(Calc!B33="","",Calc!B33 & ":") -> Employment Income: | G12: =IFERROR(IF(F12="","",INDEX(Calc!$C$33:$N$42,ROW(A1),MATCH(INDEX(Calc!$J$14:$J$25,MATCH(PersonalFinancialStatement!$G$9,Calc!$K$14:$K$25,0),),Calc!$C$32:$N$32,0))),"") -> 6000
C13: =IF(Calc!B56="","",Calc!B56 & ":") -> Investments: | D13: =IFERROR(IF(C13="","",INDEX(Calc!$C$55:$N$64,ROW(A2),MATCH(INDEX(Calc!$J$14:$J$25,MATCH(PersonalFinancialStatement!$G$9,Calc!$K$14:$K$25,0),),Calc!$C$54:$N$54,0))),"") -> 3500 | F13: =IF(Calc!B34="","",Calc!B34 & ":") -> Business Income: | G13: =IFERROR(IF(F13="","",INDEX(Calc!$C$33:$N$42,ROW(A2),MATCH(INDEX(Calc!$J$14:$J$25,MATCH(PersonalFinancialStatement!$G$9,Calc!$K$14:$K$25,0),),Calc!$C$32:$N$32,0))),"") -> 3800
C14: =IF(Calc!B57="","",Calc!B57 & ":") -> Real Estate: | D14: =IFERROR(IF(C14="","",INDEX(Calc!$C$55:$N$64,ROW(A3),MATCH(INDEX(Calc!$J$14:$J$25,MATCH(PersonalFinancialStatement!$G$9,Calc!$K$14:$K$25,0),),Calc!$C$54:$N$54,0))),"") -> 1000 | F14: =IF(Calc!B35="","",Calc!B35 & ":") -> Investment Income: | G14: =IFERROR(IF(F14="","",INDEX(Calc!$C$33:$N$42,ROW(A3),MATCH(INDEX(Calc!$J$14:$J$25,MATCH(PersonalFinancialStatement!$G$9,Calc!$K$14:$K$25,0),),Calc!$C$32:$N$32,0))),"") -> 530
C15: =IF(Calc!B58="","",Calc!B58 & ":") | D15: =IFERROR(IF(C15="","",INDEX(Calc!$C$55:$N$64,ROW(A4),MATCH(INDEX(Calc!$J$14:$J$25,MATCH(PersonalFinancialStatement!$G$9,Calc!$K$14:$K$25,0),),Calc!$C$54:$N$54,0))),"") | F15: =IF(Calc!B36="","",Calc!B36 & ":") -> Other Income: | G15: =IFERROR(IF(F15="","",INDEX(Calc!$C$33:$N$42,ROW(A4),MATCH(INDEX(Calc!$J$14:$J$25,MATCH(PersonalFinancialStatement!$G$9,Calc!$K$14:$K$25,0),),Calc!$C$32:$N$32,0))),"") -> 1600
C16: =IF(Calc!B59="","",Calc!B59 & ":") | D16: =IFERROR(IF(C16="","",INDEX(Calc!$C$55:$N$64,ROW(A5),MATCH(INDEX(Calc!$J$14:$J$25,MATCH(PersonalFinancialStatement!$G$9,Calc!$K$14:$K$25,0),),Calc!$C$54:$N$54,0))),"") | F16: =IF(Calc!B37="","",Calc!B37 & ":") | G16: =IFERROR(IF(F16="","",INDEX(Calc!$C$33:$N$42,ROW(A5),MATCH(INDEX(Calc!$J$14:$J$25,MATCH(PersonalFinancialStatement!$G$9,Calc!$K$14:$K$25,0),),Calc!$C$32:$N$32,0))),"")
C17: =IF(Calc!B60="","",Calc!B60 & ":") | D17: =IFERROR(IF(C17="","",INDEX(Calc!$C$55:$N$64,ROW(A6),MATCH(INDEX(Calc!$J$14:$J$25,MATCH(PersonalFinancialStatement!$G$9,Calc!$K$14:$K$25,0),),Calc!$C$54:$N$54,0))),"") | F17: =IF(Calc!B38="","",Calc!B38 & ":") | G17: =IFERROR(IF(F17="","",INDEX(Calc!$C$33:$N$42,ROW(A6),MATCH(INDEX(Calc!$J$14:$J$25,MATCH(PersonalFinancialStatement!$G$9,Calc!$K$14:$K$25,0),),Calc!$C$32:$N$32,0))),"")
C18: =IF(Calc!B61="","",Calc!B61 & ":") | D18: =IFERROR(IF(C18="","",INDEX(Calc!$C$55:$N$64,ROW(A7),MATCH(INDEX(Calc!$J$14:$J$25,MATCH(PersonalFinancialStatement!$G$9,Calc!$K$14:$K$25,0),),Calc!$C$54:$N$54,0))),"") | F18: =IF(Calc!B39="","",Calc!B39 & ":") | G18: =IFERROR(IF(F18="","",INDEX(Calc!$C$33:$N$42,ROW(A7),MATCH(INDEX(Calc!$J$14:$J$25,MATCH(PersonalFinancialStatement!$G$9,Calc!$K$14:$K$25,0),),Calc!$C$32:$N$32,0))),"")
C19: =IF(Calc!B62="","",Calc!B62 & ":") | D19: =IFERROR(IF(C19="","",INDEX(Calc!$C$55:$N$64,ROW(A8),MATCH(INDEX(Calc!$J$14:$J$25,MATCH(PersonalFinancialStatement!$G$9,Calc!$K$14:$K$25,0),),Calc!$C$54:$N$54,0))),"") | F19: =IF(Calc!B40="","",Calc!B40 & ":") | G19: =IFERROR(IF(F19="","",INDEX(Calc!$C$33:$N$42,ROW(A8),MATCH(INDEX(Calc!$J$14:$J$25,MATCH(PersonalFinancialStatement!$G$9,Calc!$K$14:$K$25,0),),Calc!$C$32:$N$32,0))),"")
C20: =IF(Calc!B63="","",Calc!B63 & ":") | D20: =IFERROR(IF(C20="","",INDEX(Calc!$C$55:$N$64,ROW(A9),MATCH(INDEX(Calc!$J$14:$J$25,MATCH(PersonalFinancialStatement!$G$9,Calc!$K$14:$K$25,0),),Calc!$C$54:$N$54,0))),"") | F20: =IF(Calc!B41="","",Calc!B41 & ":") | G20: =IFERROR(IF(F20="","",INDEX(Calc!$C$33:$N$42,ROW(A9),MATCH(INDEX(Calc!$J$14:$J$25,MATCH(PersonalFinancialStatement!$G$9,Calc!$K$14:$K$25,0),),Calc!$C$32:$N$32,0))),"")
C21: =IF(Calc!B64="","",Calc!B64 & ":") | D21: =IFERROR(IF(C21="","",INDEX(Calc!$C$55:$N$64,ROW(A10),MATCH(INDEX(Calc!$J$14:$J$25,MATCH(PersonalFinancialStatement!$G$9,Calc!$K$14:$K$25,0),),Calc!$C$54:$N$54,0))),"") | F21: =IF(Calc!B42="","",Calc!B42 & ":") | G21: =IFERROR(IF(F21="","",INDEX(Calc!$C$33:$N$42,ROW(A10),MATCH(INDEX(Calc!$J$14:$J$25,MATCH(PersonalFinancialStatement!$G$9,Calc!$K$14:$K$25,0),),Calc!$C$32:$N$32,0))),"")
C23: Liabilities | F23: Expenses
C24: =IF(Calc!B66="","",Calc!B66 & ":") -> Credit Card Debts: | D24: =IFERROR(IF(C24="","",INDEX(Calc!$C$66:$N$75,ROW(A1),MATCH(INDEX(Calc!$J$14:$J$25,MATCH(PersonalFinancialStatement!$G$9,Calc!$K$14:$K$25,0),),Calc!$C$65:$N$65,0))),"") -> 1350 | F24: =IF(Calc!B44="","",Calc!B44 & ":") -> Housing Expenses: | G24: =IFERROR(IF(F24="","",INDEX(Calc!$C$44:$N$53,ROW(A1),MATCH(INDEX(Calc!$J$14:$J$25,MATCH(PersonalFinancialStatement!$G$9,Calc!$K$14:$K$25,0),),Calc!$C$43:$N$43,0))),"") -> 1660
C25: =IF(Calc!B67="","",Calc!B67 & ":") -> Loan Debts: | D25: =IFERROR(IF(C25="","",INDEX(Calc!$C$66:$N$75,ROW(A2),MATCH(INDEX(Calc!$J$14:$J$25,MATCH(PersonalFinancialStatement!$G$9,Calc!$K$14:$K$25,0),),Calc!$C$65:$N$65,0))),"") -> 3000 | F25: =IF(Calc!B45="","",Calc!B45 & ":") -> Food Expenses: | G25: =IFERROR(IF(F25="","",INDEX(Calc!$C$44:$N$53,ROW(A2),MATCH(INDEX(Calc!$J$14:$J$25,MATCH(PersonalFinancialStatement!$G$9,Calc!$K$14:$K$25,0),),Calc!$C$43:$N$43,0))),"") -> 650
C26: =IF(Calc!B68="","",Calc!B68 & ":") -> Other Liabilities: | D26: =IFERROR(IF(C26="","",INDEX(Calc!$C$66:$N$75,ROW(A3),MATCH(INDEX(Calc!$J$14:$J$25,MATCH(PersonalFinancialStatement!$G$9,Calc!$K$14:$K$25,0),),Calc!$C$65:$N$65,0))),"") -> 3000 | F26: =IF(Calc!B46="","",Calc!B46 & ":") -> Transportation Expenses: | G26: =IFERROR(IF(F26="","",INDEX(Calc!$C$44:$N$53,ROW(A3),MATCH(INDEX(Calc!$J$14:$J$25,MATCH(PersonalFinancialStatement!$G$9,Calc!$K$14:$K$25,0),),Calc!$C$43:$N$43,0))),"") -> 210
C27: =IF(Calc!B69="","",Calc!B69 & ":") | D27: =IFERROR(IF(C27="","",INDEX(Calc!$C$66:$N$75,ROW(A4),MATCH(INDEX(Calc!$J$14:$J$25,MATCH(PersonalFinancialStatement!$G$9,Calc!$K$14:$K$25,0),),Calc!$C$65:$N$65,0))),"") | F27: =IF(Calc!B47="","",Calc!B47 & ":") | G27: =IFERROR(IF(F27="","",INDEX(Calc!$C$44:$N$53,ROW(A4),MATCH(INDEX(Calc!$J$14:$J$25,MATCH(PersonalFinancialStatement!$G$9,Calc!$K$14:$K$25,0),),Calc!$C$43:$N$43,0))),"")
C28: =IF(Calc!B70="","",Calc!B70 & ":") | D28: =IFERROR(IF(C28="","",INDEX(Calc!$C$66:$N$75,ROW(A5),MATCH(INDEX(Calc!$J$14:$J$25,MATCH(PersonalFinancialStatement!$G$9,Calc!$K$14:$K$25,0),),Calc!$C$65:$N$65,0))),"") | F28: =IF(Calc!B48="","",Calc!B48 & ":") | G28: =IFERROR(IF(F28="","",INDEX(Calc!$C$44:$N$53,ROW(A5),MATCH(INDEX(Calc!$J$14:$J$25,MATCH(PersonalFinancialStatement!$G$9,Calc!$K$14:$K$25,0),),Calc!$C$43:$N$43,0))),"")
C29: =IF(Calc!B71="","",Calc!B71 & ":") | D29: =IFERROR(IF(C29="","",INDEX(Calc!$C$66:$N$75,ROW(A6),MATCH(INDEX(Calc!$J$14:$J$25,MATCH(PersonalFinancialStatement!$G$9,Calc!$K$14:$K$25,0),),Calc!$C$65:$N$65,0))),"") | F29: =IF(Calc!B49="","",Calc!B49 & ":") | G29: =IFERROR(IF(F29="","",INDEX(Calc!$C$44:$N$53,ROW(A6),MATCH(INDEX(Calc!$J$14:$J$25,MATCH(PersonalFinancialStatement!$G$9,Calc!$K$14:$K$25,0),),Calc!$C$43:$N$43,0))),"")
C30: =IF(Calc!B72="","",Calc!B72 & ":") | D30: =IFERROR(IF(C30="","",INDEX(Calc!$C$66:$N$75,ROW(A7),MATCH(INDEX(Calc!$J$14:$J$25,MATCH(PersonalFinancialStatement!$G$9,Calc!$K$14:$K$25,0),),Calc!$C$65:$N$65,0))),"") | F30: =IF(Calc!B50="","",Calc!B50 & ":") | G30: =IFERROR(IF(F30="","",INDEX(Calc!$C$44:$N$53,ROW(A7),MATCH(INDEX(Calc!$J$14:$J$25,MATCH(PersonalFinancialStatement!$G$9,Calc!$K$14:$K$25,0),),Calc!$C$43:$N$43,0))),"")
C31: =IF(Calc!B73="","",Calc!B73 & ":") | D31: =IFERROR(IF(C31="","",INDEX(Calc!$C$66:$N$75,ROW(A8),MATCH(INDEX(Calc!$J$14:$J$25,MATCH(PersonalFinancialStatement!$G$9,Calc!$K$14:$K$25,0),),Calc!$C$65:$N$65,0))),"") | F31: =IF(Calc!B51="","",Calc!B51 & ":") | G31: =IFERROR(IF(F31="","",INDEX(Calc!$C$44:$N$53,ROW(A8),MATCH(INDEX(Calc!$J$14:$J$25,MATCH(PersonalFinancialStatement!$G$9,Calc!$K$14:$K$25,0),),Calc!$C$43:$N$43,0))),"")
C32: =IF(Calc!B74="","",Calc!B74 & ":") | D32: =IFERROR(IF(C32="","",INDEX(Calc!$C$66:$N$75,ROW(A9),MATCH(INDEX(Calc!$J$14:$J$25,MATCH(PersonalFinancialStatement!$G$9,Calc!$K$14:$K$25,0),),Calc!$C$65:$N$65,0))),"") | F32: =IF(Calc!B52="","",Calc!B52 & ":") | G32: =IFERROR(IF(F32="","",INDEX(Calc!$C$44:$N$53,ROW(A9),MATCH(INDEX(Calc!$J$14:$J$25,MATCH(PersonalFinancialStatement!$G$9,Calc!$K$14:$K$25,0),),Calc!$C$43:$N$43,0))),"")
C33: =IF(Calc!B75="","",Calc!B75 & ":") | D33: =IFERROR(IF(C33="","",INDEX(Calc!$C$66:$N$75,ROW(A10),MATCH(INDEX(Calc!$J$14:$J$25,MATCH(PersonalFinancialStatement!$G$9,Calc!$K$14:$K$25,0),),Calc!$C$65:$N$65,0))),"") | F33: =IF(Calc!B53="","",Calc!B53 & ":") | G33: =IFERROR(IF(F33="","",INDEX(Calc!$C$44:$N$53,ROW(A10),MATCH(INDEX(Calc!$J$14:$J$25,MATCH(PersonalFinancialStatement!$G$9,Calc!$K$14:$K$25,0),),Calc!$C$43:$N$43,0))),"")
C35: Total Assets: | D35: =IFERROR(SUM(D12:D21),"") -> 13450 | F35: Total Income: | G35: =IFERROR(SUM(G12:G21),"") -> 11930
C36: Total Liabilities: | D36: =IFERROR(SUM(D24:D33),"") -> 7350 | F36: Total Expenses: | G36: =IFERROR(SUM(G24:G33),"") -> 2520
C37: Net Worth: | D37: =IFERROR(D35-D36,"") -> 6100 | F37: Net Profit: | G37: =IFERROR(G35-G36,"") -> 9410
C39: NOTES
F43: Report Creation Date: | G43: =TODAY() -> 45447
C65: =IFERROR(IF(C12="","",INDEX(Calc!$C$55:$N$64,,MATCH(INDEX(Calc!$J$14:$J$25,MATCH(PersonalFinancialStatement!$G$9,Calc!$H$14:$H$25,0),),Calc!#REF!,0))),"")

Sheet IncomeExpenses
C2: PERSONAL FINANCIAL STATEMENT TEMPLATE
C3: INCOME & EXPENSES
C7: INCOME CATEGORY | D7: SUBCATEGORY | E7: =IFERROR(Calc!$J$14,"") -> Jan-2024 | F7: =IFERROR(Calc!$J$15,"") -> Feb-2024 | G7: =IFERROR(Calc!$J$16,"") -> Mar-2024 | H7: =IFERROR(Calc!$J$17,"") -> Apr-2024 | I7: =IFERROR(Calc!$J$18,"") -> May-2024 | J7: =IFERROR(Calc!$J$19,"") -> Jun-2024 | K7: =IFERROR(Calc!$J$20,"") -> Jul-2024 | L7: =IFERROR(Calc!$J$21,"") -> Aug-2024 | M7: =IFERROR(Calc!$J$22,"") -> Sep-2024 | N7: =IFERROR(Calc!$J$23,"") -> Oct-2024 | O7: =IFERROR(Calc!$J$24,"") -> Nov-2024 | P7: =IFERROR(Calc!$J$25,"") -> Dec-2024
C8: Employment Income | D8: Salary | E8: 5000 | F8: 5000 | G8: 5000 | H8: 5000 | I8: 5000 | J8: 5000 | K8: 5000 | L8: 5000 | M8: 5000 | N8: 5000 | O8: 5000 | P8: 5000
C9: Employment Income | D9: Bonus | E9: 1000 | F9: 1000 | G9: 1000 | H9: 1000 | I9: 1000 | J9: 500 | K9: 1000 | L9: 1000 | M9: 1000 | N9: 1000 | O9: 1000 | P9: 1000
C10: Business Income | D10: Sales | E10: 2000 | F10: 2200 | G10: 2400 | H10: 2600 | I10: 2800 | J10: 3000 | K10: 3200 | L10: 3400 | M10: 3600 | N10: 3800 | O10: 4000 | P10: 4200
C11: Business Income | D11: Service Revenue | E11: 1500 | F11: 1600 | G11: 1700 | H11: 1800 | I11: 1900 | J11: 2000 | K11: 2100 | L11: 2200 | M11: 2300 | N11: 2400 | O11: 2500 | P11: 2600
C12: Investment Income | D12: Dividends | E12: 300 | F12: 310 | G12: 320 | H12: 330 | I12: 340 | J12: 350 | K12: 360 | L12: 370 | M12: 380 | N12: 390 | O12: 400 | P12: 410
C13: Investment Income | D13: Interest | E13: 200 | F13: 220 | G13: 240 | H13: 260 | I13: 280 | J13: 300 | K13: 320 | L13: 340 | M13: 360 | N13: 380 | O13: 400 | P13: 420
C14: Other Income | D14: Rental Income | E14: 1000 | F14: 1000 | G14: 1000 | H14: 1000 | I14: 1000 | J14: 1000 | K14: 1000 | L14: 1000 | M14: 1000 | N14: 1000 | O14: 1000 | P14: 1000
C15: Other Income | D15: Freelance Income | E15: 500 | F15: 600 | G15: 700 | H15: 800 | I15: 900 | J15: 1000 | K15: 1100 | L15: 1200 | M15: 1300 | N15: 1400 | O15: 1500 | P15: 1600
C58: TOTAL INCOME | E58: =SUM(E8:E17) -> 11500 | F58: =SUM(F8:F17) -> 11930 | G58: =SUM(G8:G17) -> 12360 | H58: =SUM(H8:H17) -> 12790 | I58: =SUM(I8:I17) -> 13220 | J58: =SUM(J8:J17) -> 13150 | K58: =SUM(K8:K17) -> 14080 | L58: =SUM(L8:L17) -> 14510 | ... P58: =SUM(P8:P17) -> 16230
C60: EXPENSE CATEGORY | D60: SUBCATEGORY | E60: =IFERROR(Calc!$J$14,"") -> Jan-2024 | F60: =IFERROR(Calc!$J$15,"") -> Feb-2024 | G60: =IFERROR(Calc!$J$16,"") -> Mar-2024 | H60: =IFERROR(Calc!$J$17,"") -> Apr-2024 | I60: =IFERROR(Calc!$J$18,"") -> May-2024 | J60: =IFERROR(Calc!$J$19,"") -> Jun-2024 | K60: =IFERROR(Calc!$J$20,"") -> Jul-2024 | L60: =IFERROR(Calc!$J$21,"") -> Aug-2024 | M60: =IFERROR(Calc!$J$22,"") -> Sep-2024 | N60: =IFERROR(Calc!$J$23,"") -> Oct-2024 | O60: =IFERROR(Calc!$J$24,"") -> Nov-2024 | P60: =IFERROR(Calc!$J$25,"") -> Dec-2024
C61: Housing Expenses | D61: Rent/Mortgage | E61: 1500 | F61: 1500 | G61: 1500 | H61: 1500 | I61: 1500 | J61: 1500 | K61: 1500 | L61: 1500 | M61: 1500 | N61: 1500 | O61: 1500 | P61: 1500
C62: Housing Expenses | D62: Electricity | E62: 100 | F62: 110 | G62: 120 | H62: 130 | I62: 140 | J62: 150 | K62: 160 | L62: 170 | M62: 180 | N62: 190 | O62: 200 | P62: 210
C63: Housing Expenses | D63: Water | E63: 50 | F63: 50 | G63: 50 | H63: 50 | I63: 50 | J63: 50 | K63: 50 | L63: 50 | M63: 50 | N63: 50 | O63: 50 | P63: 50
C64: Food Expenses | D64: Grocery Shopping | E64: 300 | F64: 320 | G64: 340 | H64: 360 | I64: 380 | J64: 400 | K64: 420 | L64: 440 | M64: 460 | N64: 480 | O64: 500 | P64: 520
C65: Food Expenses | D65: Restaurants | E65: 200 | F65: 220 | G65: 240 | H65: 260 | I65: 280 | J65: 300 | K65: 320 | L65: 340 | M65: 360 | N65: 380 | O65: 400 | P65: 420
C66: Food Expenses | D66: Fast Food | E66: 100 | F66: 110 | G66: 120 | H66: 130 | I66: 140 | J66: 150 | K66: 160 | L66: 170 | M66: 180 | N66: 190 | O66: 200 | P66: 210
C67: Transportation Expenses | D67: Fuel | E67: 150 | F67: 160 | G67: 170 | H67: 180 | I67: 190 | J67: 200 | K67: 210 | L67: 220 | M67: 230 | N67: 240 | O67: 250 | P67: 260
C68: Transportation Expenses | D68: Public Transport | E68: 50 | F68: 50 | G68: 50 | H68: 50 | I68: 50 | J68: 50 | K68: 50 | L68: 50 | M68: 50 | N68: 50 | O68: 50 | P68: 50
C111: TOTAL EXPENSES | E111: =SUM(E61:E70) -> 2450 | F111: =SUM(F61:F70) -> 2520 | G111: =SUM(G61:G70) -> 2590 | H111: =SUM(H61:H70) -> 2660 | I111: =SUM(I61:I70) -> 2730 | J111: =SUM(J61:J70) -> 2800 | K111: =SUM(K61:K70) -> 2870 | L111: =SUM(L61:L70) -> 2940 | ... P111: =SUM(P61:P70) -> 3220
C113: NET PROFIT | E113: =E58-E111 -> 9050 | F113: =F58-F111 -> 9410 | G113: =G58-G111 -> 9770 | H113: =H58-H111 -> 10130 | I113: =I58-I111 -> 10490 | J113: =J58-J111 -> 10350 | K113: =K58-K111 -> 11210 | L113: =L58-L111 -> 11570 | ... P113: =P58-P111 -> 13010

Sheet AssetsLiabilities
C2: PERSONAL FINANCIAL STATEMENT TEMPLATE
C3: ASSETS & LIABILITIES
C7: ASSET CATEGORY | D7: SUBCATEGORY | E7: =IFERROR(Calc!$J$14,"") -> Jan-2024 | F7: =IFERROR(Calc!$J$15,"") -> Feb-2024 | G7: =IFERROR(Calc!$J$16,"") -> Mar-2024 | H7: =IFERROR(Calc!$J$17,"") -> Apr-2024 | I7: =IFERROR(Calc!$J$18,"") -> May-2024 | J7: =IFERROR(Calc!$J$19,"") -> Jun-2024 | K7: =IFERROR(Calc!$J$20,"") -> Jul-2024 | L7: =IFERROR(Calc!$J$21,"") -> Aug-2024 | M7: =IFERROR(Calc!$J$22,"") -> Sep-2024 | N7: =IFERROR(Calc!$J$23,"") -> Oct-2024 | O7: =IFERROR(Calc!$J$24,"") -> Nov-2024 | P7: =IFERROR(Calc!$J$25,"") -> Dec-2024
C8: Cash and Cash Equivalents | D8: Cash | E8: 1000 | F8: 950 | G8: 900 | H8: 850 | I8: 800 | J8: 750 | K8: 700 | L8: 650 | M8: 600 | N8: 550 | O8: 500 | P8: 450
C9: Cash and Cash Equivalents | D9: Bank accounts | E9: 5000 | F9: 4950 | G9: 4900 | H9: 4850 | I9: 4800 | J9: 4750 | K9: 4700 | L9: 4650 | M9: 4600 | N9: 4550 | O9: 4500 | P9: 4450
C10: Cash and Cash Equivalents | D10: Savings accounts | E10: 3000 | F10: 3050 | G10: 3100 | H10: 3150 | I10: 3200 | J10: 3250 | K10: 3300 | L10: 3350 | M10: 3400 | N10: 3450 | O10: 3500 | P10: 3550
C11: Investments | D11: Stocks | E11: 2000 | F11: 1980 | G11: 1960 | H11: 1940 | I11: 1920 | J11: 1900 | K11: 1880 | L11: 1860 | M11: 1840 | N11: 1820 | O11: 1800 | P11: 1780
C12: Investments | D12: Bonds | E12: 1500 | F12: 1520 | G12: 1540 | H12: 1560 | I12: 1580 | J12: 1600 | K12: 1620 | L12: 1640 | M12: 1660 | N12: 1680 | O12: 1700 | P12: 1720
C13: Real Estate | D13: Home | E13: 2000 | F13: 0 | G13: 2000 | H13: 2000 | I13: 2000 | J13: 2000 | K13: 0 | L13: 2000 | M13: 0 | N13: 0 | O13: 2000 | P13: 2000
C14: Real Estate | D14: Rental properties | E14: 1000 | F14: 1000 | G14: 0 | H14: 1000 | I14: 0 | J14: 1000 | K14: 0 | L14: 0 | M14: 1000 | N14: 0 | O14: 0 | P14: 1000
C15: Real Estate | D15: Land | E15: 500 | F15: 0 | G15: 500 | H15: 0 | I15: 500 | J15: 0 | K15: 500 | L15: 0 | M15: 500 | N15: 0 | O15: 500 | P15: 0
C58: TOTAL ASSETS | E58: =SUM(E8:E17) -> 16000 | F58: =SUM(F8:F17) -> 13450 | G58: =SUM(G8:G17) -> 14900 | H58: =SUM(H8:H17) -> 15350 | I58: =SUM(I8:I17) -> 14800 | J58: =SUM(J8:J17) -> 15250 | K58: =SUM(K8:K17) -> 12700 | L58: =SUM(L8:L17) -> 14150 | ... P58: =SUM(P8:P17) -> 14950
C60: LIABILITY CATEGORY | D60: SUBCATEGORY | E60: =IFERROR(Calc!$J$14,"") -> Jan-2024 | F60: =IFERROR(Calc!$J$15,"") -> Feb-2024 | G60: =IFERROR(Calc!$J$16,"") -> Mar-2024 | H60: =IFERROR(Calc!$J$17,"") -> Apr-2024 | I60: =IFERROR(Calc!$J$18,"") -> May-2024 | J60: =IFERROR(Calc!$J$19,"") -> Jun-2024 | K60: =IFERROR(Calc!$J$20,"") -> Jul-2024 | L60: =IFERROR(Calc!$J$21,"") -> Aug-2024 | M60: =IFERROR(Calc!$J$22,"") -> Sep-2024 | N60: =IFERROR(Calc!$J$23,"") -> Oct-2024 | O60: =IFERROR(Calc!$J$24,"") -> Nov-2024 | P60: =IFERROR(Calc!$J$25,"") -> Dec-2024
C61: Credit Card Debts | D61: Visa | E61: 500 | F61: 550 | G61: 600 | H61: 650 | I61: 700 | J61: 750 | K61: 800 | L61: 850 | M61: 900 | N61: 950 | O61: 1000 | P61: 1050
C62: Credit Card Debts | D62: Mastercard | E62: 400 | F62: 450 | G62: 500 | H62: 550 | I62: 600 | J62: 650 | K62: 700 | L62: 750 | M62: 800 | N62: 850 | O62: 900 | P62: 950
C63: Credit Card Debts | D63: American Express | E63: 300 | F63: 350 | G63: 400 | H63: 450 | I63: 500 | J63: 550 | K63: 600 | L63: 650 | M63: 700 | N63: 750 | O63: 800 | P63: 850
C64: Loan Debts | D64: Home Loan | E64: 1500 | F64: 1500 | G64: 1500 | H64: 1500 | I64: 1500 | J64: 1500 | K64: 1500 | L64: 1500 | M64: 1500 | N64: 1500 | O64: 1500 | P64: 1500
C65: Loan Debts | D65: Car Loan | E65: 500 | F65: 500 | G65: 500 | H65: 500 | I65: 500 | J65: 500 | K65: 500 | L65: 500 | M65: 500 | N65: 500 | O65: 500 | P65: 500
C66: Loan Debts | D66: Education Loan | E66: 1000 | F66: 1000 | G66: 1000 | H66: 1000 | I66: 1000 | J66: 1000 | K66: 1000 | L66: 1000 | M66: 1000 | N66: 1000 | O66: 1000 | P66: 1000
C67: Other Liabilities | D67: Personal Loans | E67: 2000 | F67: 2100 | G67: 2200 | H67: 2300 | I67: 2400 | J67: 2500 | K67: 2600 | L67: 2700 | M67: 2800 | N67: 2900 | O67: 3000 | P67: 3100
C68: Other Liabilities | D68: Debts | E68: 1000 | F68: 900 | G68: 800 | H68: 700 | I68: 600 | J68: 500 | K68: 400 | L68: 300 | M68: 200 | N68: 100 | O68: 0 | P68: 0
C111: TOTAL LIABILITIES | E111: =SUM(E61:E70) -> 7200 | F111: =SUM(F61:F70) -> 7350 | G111: =SUM(G61:G70) -> 7500 | H111: =SUM(H61:H70) -> 7650 | I111: =SUM(I61:I70) -> 7800 | J111: =SUM(J61:J70) -> 7950 | K111: =SUM(K61:K70) -> 8100 | L111: =SUM(L61:L70) -> 8250 | ... P111: =SUM(P61:P70) -> 8950
C113: NET WORTH | E113: =E58-E111 -> 8800 | F113: =F58-F111 -> 6100 | G113: =G58-G111 -> 7400 | H113: =H58-H111 -> 7700 | I113: =I58-I111 -> 7000 | J113: =J58-J111 -> 7300 | K113: =K58-K111 -> 4600 | L113: =L58-L111 -> 5900 | ... P113: =P58-P111 -> 6000

Sheet Calc
C2: =$H$14 -> Jan | D2: =$H$15 -> Feb | E2: =$H$16 -> Mar | F2: =$H$17 -> Apr | G2: =$H$18 -> May | H2: =$H$19 -> Jun | I2: =$H$20 -> Jul | J2: =$H$21 -> Aug | K2: =$H$22 -> Sep | L2: =$H$23 -> Oct | M2: =$H$24 -> Nov | N2: =$H$25 -> Dec
B3: TOTAL INCOME | C3: =IncomeExpenses!E58 -> 11500 | D3: =IncomeExpenses!F58 -> 11930 | E3: =IncomeExpenses!G58 -> 12360 | F3: =IncomeExpenses!H58 -> 12790 | G3: =IncomeExpenses!I58 -> 13220 | H3: =IncomeExpenses!J58 -> 13150 | I3: =IncomeExpenses!K58 -> 14080 | J3: =IncomeExpenses!L58 -> 14510 | ... N3: =IncomeExpenses!P58 -> 16230
B4: TOTAL EXPENSES | C4: =IncomeExpenses!E111 -> 2450 | D4: =IncomeExpenses!F111 -> 2520 | E4: =IncomeExpenses!G111 -> 2590 | F4: =IncomeExpenses!H111 -> 2660 | G4: =IncomeExpenses!I111 -> 2730 | H4: =IncomeExpenses!J111 -> 2800 | I4: =IncomeExpenses!K111 -> 2870 | J4: =IncomeExpenses!L111 -> 2940 | ... N4: =IncomeExpenses!P111 -> 3220
C7: =$H$14 -> Jan | D7: =$H$15 -> Feb | E7: =$H$16 -> Mar | F7: =$H$17 -> Apr | G7: =$H$18 -> May | H7: =$H$19 -> Jun | I7: =$H$20 -> Jul | J7: =$H$21 -> Aug | K7: =$H$22 -> Sep | L7: =$H$23 -> Oct | M7: =$H$24 -> Nov | N7: =$H$25 -> Dec
B8: NET WORTH | C8: =AssetsLiabilities!E113 -> 8800 | D8: =AssetsLiabilities!F113 -> 6100 | E8: =AssetsLiabilities!G113 -> 7400 | F8: =AssetsLiabilities!H113 -> 7700 | G8: =AssetsLiabilities!I113 -> 7000 | H8: =AssetsLiabilities!J113 -> 7300 | I8: =AssetsLiabilities!K113 -> 4600 | J8: =AssetsLiabilities!L113 -> 5900 | ... N8: =AssetsLiabilities!P113 -> 6000
B9: NET PROFIT | C9: =IncomeExpenses!E113 -> 9050 | D9: =IncomeExpenses!F113 -> 9410 | E9: =IncomeExpenses!G113 -> 9770 | F9: =IncomeExpenses!H113 -> 10130 | G9: =IncomeExpenses!I113 -> 10490 | H9: =IncomeExpenses!J113 -> 10350 | I9: =IncomeExpenses!K113 -> 11210 | J9: =IncomeExpenses!L113 -> 11570 | ... N9: =IncomeExpenses!P113 -> 13010
G11: Dates
B12: Years | C12: Months | G12: Date | H12: Month Abb. | I12: Year | J12: Year & Mont | K12: Month
B13: 2024 | C13: 0 | J13: All
B14: 2025 | C14: 1 | D14: January | E14: Jan | G14: =IFERROR(DATE($H$27,MATCH($H$28,$D$14:$D$25,0)+C13,1),"") -> 45292 | H14: =IFERROR(INDEX($E$14:$E$25,MONTH(G14)),"") -> Jan | I14: =IFERROR(YEAR(G14),"") -> 2024 | J14: =IFERROR(H14&"-"&I14,"") -> Jan-2024 | K14: =INDEX($D$14:$D$25,MATCH(H14,$E$14:$E$25,0)) -> January
B15: 2026 | C15: 2 | D15: February | E15: Feb | G15: =IFERROR(DATE($H$27,MATCH($H$28,$D$14:$D$25,0)+C14,1),"") -> 45323 | H15: =IFERROR(INDEX($E$14:$E$25,MONTH(G15)),"") -> Feb | I15: =IFERROR(YEAR(G15),"") -> 2024 | J15: =IFERROR(H15&"-"&I15,"") -> Feb-2024 | K15: =INDEX($D$14:$D$25,MATCH(H15,$E$14:$E$25,0)) -> February
B16: 2027 | C16: 3 | D16: March | E16: Mar | G16: =IFERROR(DATE($H$27,MATCH($H$28,$D$14:$D$25,0)+C15,1),"") -> 45352 | H16: =IFERROR(INDEX($E$14:$E$25,MONTH(G16)),"") -> Mar | I16: =IFERROR(YEAR(G16),"") -> 2024 | J16: =IFERROR(H16&"-"&I16,"") -> Mar-2024 | K16: =INDEX($D$14:$D$25,MATCH(H16,$E$14:$E$25,0)) -> March
B17: 2028 | C17: 4 | D17: April | E17: Apr | G17: =IFERROR(DATE($H$27,MATCH($H$28,$D$14:$D$25,0)+C16,1),"") -> 45383 | H17: =IFERROR(INDEX($E$14:$E$25,MONTH(G17)),"") -> Apr | I17: =IFERROR(YEAR(G17),"") -> 2024 | J17: =IFERROR(H17&"-"&I17,"") -> Apr-2024 | K17: =INDEX($D$14:$D$25,MATCH(H17,$E$14:$E$25,0)) -> April
B18: 2029 | C18: 5 | D18: May | E18: May | G18: =IFERROR(DATE($H$27,MATCH($H$28,$D$14:$D$25,0)+C17,1),"") -> 45413 | H18: =IFERROR(INDEX($E$14:$E$25,MONTH(G18)),"") -> May | I18: =IFERROR(YEAR(G18),"") -> 2024 | J18: =IFERROR(H18&"-"&I18,"") -> May-2024 | K18: =INDEX($D$14:$D$25,MATCH(H18,$E$14:$E$25,0)) -> May
B19: 2030 | C19: 6 | D19: June | E19: Jun | G19: =IFERROR(DATE($H$27,MATCH($H$28,$D$14:$D$25,0)+C18,1),"") -> 45444 | H19: =IFERROR(INDEX($E$14:$E$25,MONTH(G19)),"") -> Jun | I19: =IFERROR(YEAR(G19),"") -> 2024 | J19: =IFERROR(H19&"-"&I19,"") -> Jun-2024 | K19: =INDEX($D$14:$D$25,MATCH(H19,$E$14:$E$25,0)) -> June
B20: 2031 | C20: 7 | D20: July | E20: Jul | G20: =IFERROR(DATE($H$27,MATCH($H$28,$D$14:$D$25,0)+C19,1),"") -> 45474 | H20: =IFERROR(INDEX($E$14:$E$25,MONTH(G20)),"") -> Jul | I20: =IFERROR(YEAR(G20),"") -> 2024 | J20: =IFERROR(H20&"-"&I20,"") -> Jul-2024 | K20: =INDEX($D$14:$D$25,MATCH(H20,$E$14:$E$25,0)) -> July
B21: 2032 | C21: 8 | D21: August | E21: Aug | G21: =IFERROR(DATE($H$27,MATCH($H$28,$D$14:$D$25,0)+C20,1),"") -> 45505 | H21: =IFERROR(INDEX($E$14:$E$25,MONTH(G21)),"") -> Aug | I21: =IFERROR(YEAR(G21),"") -> 2024 | J21: =IFERROR(H21&"-"&I21,"") -> Aug-2024 | K21: =INDEX($D$14:$D$25,MATCH(H21,$E$14:$E$25,0)) -> August
B22: 2033 | C22: 9 | D22: September | E22: Sep | G22: =IFERROR(DATE($H$27,MATCH($H$28,$D$14:$D$25,0)+C21,1),"") -> 45536 | H22: =IFERROR(INDEX($E$14:$E$25,MONTH(G22)),"") -> Sep | I22: =IFERROR(YEAR(G22),"") -> 2024 | J22: =IFERROR(H22&"-"&I22,"") -> Sep-2024 | K22: =INDEX($D$14:$D$25,MATCH(H22,$E$14:$E$25,0)) -> September
B23: 2034 | C23: 10 | D23: October | E23: Oct | G23: =IFERROR(DATE($H$27,MATCH($H$28,$D$14:$D$25,0)+C22,1),"") -> 45566 | H23: =IFERROR(INDEX($E$14:$E$25,MONTH(G23)),"") -> Oct | I23: =IFERROR(YEAR(G23),"") -> 2024 | J23: =IFERROR(H23&"-"&I23,"") -> Oct-2024 | K23: =INDEX($D$14:$D$25,MATCH(H23,$E$14:$E$25,0)) -> October
B24: 2035 | C24: 11 | D24: November | E24: Nov | G24: =IFERROR(DATE($H$27,MATCH($H$28,$D$14:$D$25,0)+C23,1),"") -> 45597 | H24: =IFERROR(INDEX($E$14:$E$25,MONTH(G24)),"") -> Nov | I24: =IFERROR(YEAR(G24),"") -> 2024 | J24: =IFERROR(H24&"-"&I24,"") -> Nov-2024 | K24: =INDEX($D$14:$D$25,MATCH(H24,$E$14:$E$25,0)) -> November
B25: 2036 | C25: 12 | D25: December | E25: Dec | G25: =IFERROR(DATE($H$27,MATCH($H$28,$D$14:$D$25,0)+C24,1),"") -> 45627 | H25: =IFERROR(INDEX($E$14:$E$25,MONTH(G25)),"") -> Dec | I25: =IFERROR(YEAR(G25),"") -> 2024 | J25: =IFERROR(H25&"-"&I25,"") -> Dec-2024 | K25: =INDEX($D$14:$D$25,MATCH(H25,$E$14:$E$25,0)) -> December
B26: 2037
B27: 2038 | G27: Start Year | H27: =IFERROR(IF(LEN(Menu!$L$21)=0,2022,Menu!$L$21),"") -> 2024
B28: 2039 | G28: Start Month | H28: =IFERROR(IF(LEN(Menu!$K$21)=0,"January",Menu!$K$21),"January") -> January
B29: 2040
B32: INCOME CATEGORY | C32: =IFERROR(Calc!$J$14,"") -> Jan-2024 | D32: =IFERROR(Calc!$J$15,"") -> Feb-2024 | E32: =IFERROR(Calc!$J$16,"") -> Mar-2024 | F32: =IFERROR(Calc!$J$17,"") -> Apr-2024 | G32: =IFERROR(Calc!$J$18,"") -> May-2024 | H32: =IFERROR(Calc!$J$19,"") -> Jun-2024 | I32: =IFERROR(Calc!$J$20,"") -> Jul-2024 | J32: =IFERROR(Calc!$J$21,"") -> Aug-2024 | K32: =IFERROR(Calc!$J$22,"") -> Sep-2024 | L32: =IFERROR(Calc!$J$23,"") -> Oct-2024 | M32: =IFERROR(Calc!$J$24,"") -> Nov-2024 | N32: =IFERROR(Calc!$J$25,"") -> Dec-2024
B33: =IF(Menu!C21="","",Menu!C21) -> Employment Income | C33: =IF($B33="","",SUMIF(IncomeExpenses!$C$8:$C$17,Calc!$B33,IncomeExpenses!E$8:E$17)) -> 6000 | D33: =IF($B33="","",SUMIF(IncomeExpenses!$C$8:$C$17,Calc!$B33,IncomeExpenses!F$8:F$17)) -> 6000 | E33: =IF($B33="","",SUMIF(IncomeExpenses!$C$8:$C$17,Calc!$B33,IncomeExpenses!G$8:G$17)) -> 6000 | F33: =IF($B33="","",SUMIF(IncomeExpenses!$C$8:$C$17,Calc!$B33,IncomeExpenses!H$8:H$17)) -> 6000 | G33: =IF($B33="","",SUMIF(IncomeExpenses!$C$8:$C$17,Calc!$B33,IncomeExpenses!I$8:I$17)) -> 6000 | H33: =IF($B33="","",SUMIF(IncomeExpenses!$C$8:$C$17,Calc!$B33,IncomeExpenses!J$8:J$17)) -> 5500 | I33: =IF($B33="","",SUMIF(IncomeExpenses!$C$8:$C$17,Calc!$B33,IncomeExpenses!K$8:K$17)) -> 6000 | J33: =IF($B33="","",SUMIF(IncomeExpenses!$C$8:$C$17,Calc!$B33,IncomeExpenses!L$8:L$17)) -> 6000 | ... N33: =IF($B33="","",SUMIF(IncomeExpenses!$C$8:$C$17,Calc!$B33,IncomeExpenses!P$8:P$17)) -> 6000
B34: =IF(Menu!C22="","",Menu!C22) -> Business Income | C34: =IF($B34="","",SUMIF(IncomeExpenses!$C$8:$C$17,Calc!$B34,IncomeExpenses!E$8:E$17)) -> 3500 | D34: =IF($B34="","",SUMIF(IncomeExpenses!$C$8:$C$17,Calc!$B34,IncomeExpenses!F$8:F$17)) -> 3800 | E34: =IF($B34="","",SUMIF(IncomeExpenses!$C$8:$C$17,Calc!$B34,IncomeExpenses!G$8:G$17)) -> 4100 | F34: =IF($B34="","",SUMIF(IncomeExpenses!$C$8:$C$17,Calc!$B34,IncomeExpenses!H$8:H$17)) -> 4400 | G34: =IF($B34="","",SUMIF(IncomeExpenses!$C$8:$C$17,Calc!$B34,IncomeExpenses!I$8:I$17)) -> 4700 | H34: =IF($B34="","",SUMIF(IncomeExpenses!$C$8:$C$17,Calc!$B34,IncomeExpenses!J$8:J$17)) -> 5000 | I34: =IF($B34="","",SUMIF(IncomeExpenses!$C$8:$C$17,Calc!$B34,IncomeExpenses!K$8:K$17)) -> 5300 | J34: =IF($B34="","",SUMIF(IncomeExpenses!$C$8:$C$17,Calc!$B34,IncomeExpenses!L$8:L$17)) -> 5600 | ... N34: =IF($B34="","",SUMIF(IncomeExpenses!$C$8:$C$17,Calc!$B34,IncomeExpenses!P$8:P$17)) -> 6800
B35: =IF(Menu!C23="","",Menu!C23) -> Investment Income | C35: =IF($B35="","",SUMIF(IncomeExpenses!$C$8:$C$17,Calc!$B35,IncomeExpenses!E$8:E$17)) -> 500 | D35: =IF($B35="","",SUMIF(IncomeExpenses!$C$8:$C$17,Calc!$B35,IncomeExpenses!F$8:F$17)) -> 530 | E35: =IF($B35="","",SUMIF(IncomeExpenses!$C$8:$C$17,Calc!$B35,IncomeExpenses!G$8:G$17)) -> 560 | F35: =IF($B35="","",SUMIF(IncomeExpenses!$C$8:$C$17,Calc!$B35,IncomeExpenses!H$8:H$17)) -> 590 | G35: =IF($B35="","",SUMIF(IncomeExpenses!$C$8:$C$17,Calc!$B35,IncomeExpenses!I$8:I$17)) -> 620 | H35: =IF($B35="","",SUMIF(IncomeExpenses!$C$8:$C$17,Calc!$B35,IncomeExpenses!J$8:J$17)) -> 650 | I35: =IF($B35="","",SUMIF(IncomeExpenses!$C$8:$C$17,Calc!$B35,IncomeExpenses!K$8:K$17)) -> 680 | J35: =IF($B35="","",SUMIF(IncomeExpenses!$C$8:$C$17,Calc!$B35,IncomeExpenses!L$8:L$17)) -> 710 | ... N35: =IF($B35="","",SUMIF(IncomeExpenses!$C$8:$C$17,Calc!$B35,IncomeExpenses!P$8:P$17)) -> 830
B36: =IF(Menu!C24="","",Menu!C24) -> Other Income | C36: =IF($B36="","",SUMIF(IncomeExpenses!$C$8:$C$17,Calc!$B36,IncomeExpenses!E$8:E$17)) -> 1500 | D36: =IF($B36="","",SUMIF(IncomeExpenses!$C$8:$C$17,Calc!$B36,IncomeExpenses!F$8:F$17)) -> 1600 | E36: =IF($B36="","",SUMIF(IncomeExpenses!$C$8:$C$17,Calc!$B36,IncomeExpenses!G$8:G$17)) -> 1700 | F36: =IF($B36="","",SUMIF(IncomeExpenses!$C$8:$C$17,Calc!$B36,IncomeExpenses!H$8:H$17)) -> 1800 | G36: =IF($B36="","",SUMIF(IncomeExpenses!$C$8:$C$17,Calc!$B36,IncomeExpenses!I$8:I$17)) -> 1900 | H36: =IF($B36="","",SUMIF(IncomeExpenses!$C$8:$C$17,Calc!$B36,IncomeExpenses!J$8:J$17)) -> 2000 | I36: =IF($B36="","",SUMIF(IncomeExpenses!$C$8:$C$17,Calc!$B36,IncomeExpenses!K$8:K$17)) -> 2100 | J36: =IF($B36="","",SUMIF(IncomeExpenses!$C$8:$C$17,Calc!$B36,IncomeExpenses!L$8:L$17)) -> 2200 | ... N36: =IF($B36="","",SUMIF(IncomeExpenses!$C$8:$C$17,Calc!$B36,IncomeExpenses!P$8:P$17)) -> 2600
B37: =IF(Menu!C25="","",Menu!C25) | C37: =IF($B37="","",SUMIF(IncomeExpenses!$C$8:$C$17,Calc!$B37,IncomeExpenses!E$8:E$17)) | D37: =IF($B37="","",SUMIF(IncomeExpenses!$C$8:$C$17,Calc!$B37,IncomeExpenses!F$8:F$17)) | E37: =IF($B37="","",SUMIF(IncomeExpenses!$C$8:$C$17,Calc!$B37,IncomeExpenses!G$8:G$17)) | F37: =IF($B37="","",SUMIF(IncomeExpenses!$C$8:$C$17,Calc!$B37,IncomeExpenses!H$8:H$17)) | G37: =IF($B37="","",SUMIF(IncomeExpenses!$C$8:$C$17,Calc!$B37,IncomeExpenses!I$8:I$17)) | H37: =IF($B37="","",SUMIF(IncomeExpenses!$C$8:$C$17,Calc!$B37,IncomeExpenses!J$8:J$17)) | I37: =IF($B37="","",SUMIF(IncomeExpenses!$C$8:$C$17,Calc!$B37,IncomeExpenses!K$8:K$17)) | J37: =IF($B37="","",SUMIF(IncomeExpenses!$C$8:$C$17,Calc!$B37,IncomeExpenses!L$8:L$17)) | ... N37: =IF($B37="","",SUMIF(IncomeExpenses!$C$8:$C$17,Calc!$B37,IncomeExpenses!P$8:P$17))
B38: =IF(Menu!C26="","",Menu!C26) | C38: =IF($B38="","",SUMIF(IncomeExpenses!$C$8:$C$17,Calc!$B38,IncomeExpenses!E$8:E$17)) | D38: =IF($B38="","",SUMIF(IncomeExpenses!$C$8:$C$17,Calc!$B38,IncomeExpenses!F$8:F$17)) | E38: =IF($B38="","",SUMIF(IncomeExpenses!$C$8:$C$17,Calc!$B38,IncomeExpenses!G$8:G$17)) | F38: =IF($B38="","",SUMIF(IncomeExpenses!$C$8:$C$17,Calc!$B38,IncomeExpenses!H$8:H$17)) | G38: =IF($B38="","",SUMIF(IncomeExpenses!$C$8:$C$17,Calc!$B38,IncomeExpenses!I$8:I$17)) | H38: =IF($B38="","",SUMIF(IncomeExpenses!$C$8:$C$17,Calc!$B38,IncomeExpenses!J$8:J$17)) | I38: =IF($B38="","",SUMIF(IncomeExpenses!$C$8:$C$17,Calc!$B38,IncomeExpenses!K$8:K$17)) | J38: =IF($B38="","",SUMIF(IncomeExpenses!$C$8:$C$17,Calc!$B38,IncomeExpenses!L$8:L$17)) | ... N38: =IF($B38="","",SUMIF(IncomeExpenses!$C$8:$C$17,Calc!$B38,IncomeExpenses!P$8:P$17))
B39: =IF(Menu!C27="","",Menu!C27) | C39: =IF($B39="","",SUMIF(IncomeExpenses!$C$8:$C$17,Calc!$B39,IncomeExpenses!E$8:E$17)) | D39: =IF($B39="","",SUMIF(IncomeExpenses!$C$8:$C$17,Calc!$B39,IncomeExpenses!F$8:F$17)) | E39: =IF($B39="","",SUMIF(IncomeExpenses!$C$8:$C$17,Calc!$B39,IncomeExpenses!G$8:G$17)) | F39: =IF($B39="","",SUMIF(IncomeExpenses!$C$8:$C$17,Calc!$B39,IncomeExpenses!H$8:H$17)) | G39: =IF($B39="","",SUMIF(IncomeExpenses!$C$8:$C$17,Calc!$B39,IncomeExpenses!I$8:I$17)) | H39: =IF($B39="","",SUMIF(IncomeExpenses!$C$8:$C$17,Calc!$B39,IncomeExpenses!J$8:J$17)) | I39: =IF($B39="","",SUMIF(IncomeExpenses!$C$8:$C$17,Calc!$B39,IncomeExpenses!K$8:K$17)) | J39: =IF($B39="","",SUMIF(IncomeExpenses!$C$8:$C$17,Calc!$B39,IncomeExpenses!L$8:L$17)) | ... N39: =IF($B39="","",SUMIF(IncomeExpenses!$C$8:$C$17,Calc!$B39,IncomeExpenses!P$8:P$17))
B40: =IF(Menu!C28="","",Menu!C28) | C40: =IF($B40="","",SUMIF(IncomeExpenses!$C$8:$C$17,Calc!$B40,IncomeExpenses!E$8:E$17)) | D40: =IF($B40="","",SUMIF(IncomeExpenses!$C$8:$C$17,Calc!$B40,IncomeExpenses!F$8:F$17)) | E40: =IF($B40="","",SUMIF(IncomeExpenses!$C$8:$C$17,Calc!$B40,IncomeExpenses!G$8:G$17)) | F40: =IF($B40="","",SUMIF(IncomeExpenses!$C$8:$C$17,Calc!$B40,IncomeExpenses!H$8:H$17)) | G40: =IF($B40="","",SUMIF(IncomeExpenses!$C$8:$C$17,Calc!$B40,IncomeExpenses!I$8:I$17)) | H40: =IF($B40="","",SUMIF(IncomeExpenses!$C$8:$C$17,Calc!$B40,IncomeExpenses!J$8:J$17)) | I40: =IF($B40="","",SUMIF(IncomeExpenses!$C$8:$C$17,Calc!$B40,IncomeExpenses!K$8:K$17)) | J40: =IF($B40="","",SUMIF(IncomeExpenses!$C$8:$C$17,Calc!$B40,IncomeExpenses!L$8:L$17)) | ... N40: =IF($B40="","",SUMIF(IncomeExpenses!$C$8:$C$17,Calc!$B40,IncomeExpenses!P$8:P$17))
B41: =IF(Menu!C29="","",Menu!C29) | C41: =IF($B41="","",SUMIF(IncomeExpenses!$C$8:$C$17,Calc!$B41,IncomeExpenses!E$8:E$17)) | D41: =IF($B41="","",SUMIF(IncomeExpenses!$C$8:$C$17,Calc!$B41,IncomeExpenses!F$8:F$17)) | E41: =IF($B41="","",SUMIF(IncomeExpenses!$C$8:$C$17,Calc!$B41,IncomeExpenses!G$8:G$17)) | F41: =IF($B41="","",SUMIF(IncomeExpenses!$C$8:$C$17,Calc!$B41,IncomeExpenses!H$8:H$17)) | G41: =IF($B41="","",SUMIF(IncomeExpenses!$C$8:$C$17,Calc!$B41,IncomeExpenses!I$8:I$17)) | H41: =IF($B41="","",SUMIF(IncomeExpenses!$C$8:$C$17,Calc!$B41,IncomeExpenses!J$8:J$17)) | I41: =IF($B41="","",SUMIF(IncomeExpenses!$C$8:$C$17,Calc!$B41,IncomeExpenses!K$8:K$17)) | J41: =IF($B41="","",SUMIF(IncomeExpenses!$C$8:$C$17,Calc!$B41,IncomeExpenses!L$8:L$17)) | ... N41: =IF($B41="","",SUMIF(IncomeExpenses!$C$8:$C$17,Calc!$B41,IncomeExpenses!P$8:P$17))
B42: =IF(Menu!C30="","",Menu!C30) | C42: =IF($B42="","",SUMIF(IncomeExpenses!$C$8:$C$17,Calc!$B42,IncomeExpenses!E$8:E$17)) | D42: =IF($B42="","",SUMIF(IncomeExpenses!$C$8:$C$17,Calc!$B42,IncomeExpenses!F$8:F$17)) | E42: =IF($B42="","",SUMIF(IncomeExpenses!$C$8:$C$17,Calc!$B42,IncomeExpenses!G$8:G$17)) | F42: =IF($B42="","",SUMIF(IncomeExpenses!$C$8:$C$17,Calc!$B42,IncomeExpenses!H$8:H$17)) | G42: =IF($B42="","",SUMIF(IncomeExpenses!$C$8:$C$17,Calc!$B42,IncomeExpenses!I$8:I$17)) | H42: =IF($B42="","",SUMIF(IncomeExpenses!$C$8:$C$17,Calc!$B42,IncomeExpenses!J$8:J$17)) | I42: =IF($B42="","",SUMIF(IncomeExpenses!$C$8:$C$17,Calc!$B42,IncomeExpenses!K$8:K$17)) | J42: =IF($B42="","",SUMIF(IncomeExpenses!$C$8:$C$17,Calc!$B42,IncomeExpenses!L$8:L$17)) | ... N42: =IF($B42="","",SUMIF(IncomeExpenses!$C$8:$C$17,Calc!$B42,IncomeExpenses!P$8:P$17))
B43: EXPENSE CATEGORY | C43: =IFERROR(Calc!$J$14,"") -> Jan-2024 | D43: =IFERROR(Calc!$J$15,"") -> Feb-2024 | E43: =IFERROR(Calc!$J$16,"") -> Mar-2024 | F43: =IFERROR(Calc!$J$17,"") -> Apr-2024 | G43: =IFERROR(Calc!$J$18,"") -> May-2024 | H43: =IFERROR(Calc!$J$19,"") -> Jun-2024 | I43: =IFERROR(Calc!$J$20,"") -> Jul-2024 | J43: =IFERROR(Calc!$J$21,"") -> Aug-2024 | K43: =IFERROR(Calc!$J$22,"") -> Sep-2024 | L43: =IFERROR(Calc!$J$23,"") -> Oct-2024 | M43: =IFERROR(Calc!$J$24,"") -> Nov-2024 | N43: =IFERROR(Calc!$J$25,"") -> Dec-2024
B44: =IF(Menu!E21="","",Menu!E21) -> Housing Expenses | C44: =IF($B44="","",SUMIF(IncomeExpenses!$C$61:$C$70,Calc!$B44,IncomeExpenses!E$61:E$70)) -> 1650 | D44: =IF($B44="","",SUMIF(IncomeExpenses!$C$61:$C$70,Calc!$B44,IncomeExpenses!F$61:F$70)) -> 1660 | E44: =IF($B44="","",SUMIF(IncomeExpenses!$C$61:$C$70,Calc!$B44,IncomeExpenses!G$61:G$70)) -> 1670 | F44: =IF($B44="","",SUMIF(IncomeExpenses!$C$61:$C$70,Calc!$B44,IncomeExpenses!H$61:H$70)) -> 1680 | G44: =IF($B44="","",SUMIF(IncomeExpenses!$C$61:$C$70,Calc!$B44,IncomeExpenses!I$61:I$70)) -> 1690 | H44: =IF($B44="","",SUMIF(IncomeExpenses!$C$61:$C$70,Calc!$B44,IncomeExpenses!J$61:J$70)) -> 1700 | I44: =IF($B44="","",SUMIF(IncomeExpenses!$C$61:$C$70,Calc!$B44,IncomeExpenses!K$61:K$70)) -> 1710 | J44: =IF($B44="","",SUMIF(IncomeExpenses!$C$61:$C$70,Calc!$B44,IncomeExpenses!L$61:L$70)) -> 1720 | ... N44: =IF($B44="","",SUMIF(IncomeExpenses!$C$61:$C$70,Calc!$B44,IncomeExpenses!P$61:P$70)) -> 1760
B45: =IF(Menu!E22="","",Menu!E22) -> Food Expenses | C45: =IF($B45="","",SUMIF(IncomeExpenses!$C$61:$C$70,Calc!$B45,IncomeExpenses!E$61:E$70)) -> 600 | D45: =IF($B45="","",SUMIF(IncomeExpenses!$C$61:$C$70,Calc!$B45,IncomeExpenses!F$61:F$70)) -> 650 | E45: =IF($B45="","",SUMIF(IncomeExpenses!$C$61:$C$70,Calc!$B45,IncomeExpenses!G$61:G$70)) -> 700 | F45: =IF($B45="","",SUMIF(IncomeExpenses!$C$61:$C$70,Calc!$B45,IncomeExpenses!H$61:H$70)) -> 750 | G45: =IF($B45="","",SUMIF(IncomeExpenses!$C$61:$C$70,Calc!$B45,IncomeExpenses!I$61:I$70)) -> 800 | H45: =IF($B45="","",SUMIF(IncomeExpenses!$C$61:$C$70,Calc!$B45,IncomeExpenses!J$61:J$70)) -> 850 | I45: =IF($B45="","",SUMIF(IncomeExpenses!$C$61:$C$70,Calc!$B45,IncomeExpenses!K$61:K$70)) -> 900 | J45: =IF($B45="","",SUMIF(IncomeExpenses!$C$61:$C$70,Calc!$B45,IncomeExpenses!L$61:L$70)) -> 950 | ... N45: =IF($B45="","",SUMIF(IncomeExpenses!$C$61:$C$70,Calc!$B45,IncomeExpenses!P$61:P$70)) -> 1150
B46: =IF(Menu!E23="","",Menu!E23) -> Transportation Expenses | C46: =IF($B46="","",SUMIF(IncomeExpenses!$C$61:$C$70,Calc!$B46,IncomeExpenses!E$61:E$70)) -> 200 | D46: =IF($B46="","",SUMIF(IncomeExpenses!$C$61:$C$70,Calc!$B46,IncomeExpenses!F$61:F$70)) -> 210 | E46: =IF($B46="","",SUMIF(IncomeExpenses!$C$61:$C$70,Calc!$B46,IncomeExpenses!G$61:G$70)) -> 220 | F46: =IF($B46="","",SUMIF(IncomeExpenses!$C$61:$C$70,Calc!$B46,IncomeExpenses!H$61:H$70)) -> 230 | G46: =IF($B46="","",SUMIF(IncomeExpenses!$C$61:$C$70,Calc!$B46,IncomeExpenses!I$61:I$70)) -> 240 | H46: =IF($B46="","",SUMIF(IncomeExpenses!$C$61:$C$70,Calc!$B46,IncomeExpenses!J$61:J$70)) -> 250 | I46: =IF($B46="","",SUMIF(IncomeExpenses!$C$61:$C$70,Calc!$B46,IncomeExpenses!K$61:K$70)) -> 260 | J46: =IF($B46="","",SUMIF(IncomeExpenses!$C$61:$C$70,Calc!$B46,IncomeExpenses!L$61:L$70)) -> 270 | ... N46: =IF($B46="","",SUMIF(IncomeExpenses!$C$61:$C$70,Calc!$B46,IncomeExpenses!P$61:P$70)) -> 310
...
