Workbook
Name ChartX: IFERROR(OFFSET(Dashboard!$E$23,0,0,1,COUNT(Dashboard!$E$23:$AM$23)),1)
Name ChartY: IFERROR(OFFSET(Dashboard!$E$22,0,0,1,COUNT(Dashboard!$E$23:$AM$23)),1)
Name period: Dashboard!$D$9
Name rate: Dashboard!$D$10

Sheet Dashboard
B2: NPV & IRR CALCULATOR
B3: DASHBOARD
C7: Inputs
C8: Initial Investment Date | D8: 44531
C9: Period Term | D9: Monthly
C10: Interest Rate | D10: 0.015
C12: Outputs
C13: NPV | D13: =IFERROR(XNPV(rate,Calculations!$B$12:$N$12,Calculations!$B$13:$N$13),"") -> 252270.43
C14: IRR | D14: =IFERROR(XIRR(Calculations!$B$12:$N$12,Calculations!$B$13:$N$13),"") -> 2.5639052
C16: ="Period No. (" & IF(D9="Monthly","Month)","Year)") -> Period No. (Month) | D16: 3
C17: ROI (Return On Investments) | D17: =IFERROR(IF(LEN($D$16)=0,"",INDEX(Calculations!$C5:$N5,1,$D$16)),"") -> 0.22581625
C18: Gross Profit Margin % | D18: =IFERROR(IF(LEN($D$16)=0,"",INDEX(Calculations!$C6:$N6,1,$D$16)),"") -> 0.88
C19: Net Profit Margin % | D19: =IFERROR(IF(LEN($D$16)=0,"",INDEX(Calculations!$C7:$N7,1,$D$16)),"") -> 0.70567578
C20: Profit Before Tax % | D20: =IFERROR(IF(LEN($D$16)=0,"",INDEX(Calculations!$C8:$N8,1,$D$16)),"") -> 0.79041667
C22: Income Statement | D22: 0 | E22: 1 | F22: 2 | G22: 3 | H22: 4 | I22: 5 | J22: 6 | K22: 7 | L22: 8 | M22: 9 | N22: 10 | O22: 11 | P22: 12 | Q22: 13 | R22: 14 | S22: 15 | T22: 16 | U22: 17 | V22: 18 | W22: 19 | X22: 20 | Y22: 21 | Z22: 22 | AA22: 23 | AB22: 24 | AC22: 25 | AD22: 26 | AE22: 27 | AF22: 28 | AG22: 29 | AH22: 30 | AI22: 31 | AJ22: 32 | AK22: 33 | AL22: 34 | AM22: 35 | AN22: 36
C23: =D9&" "&"Cash Flow" -> Monthly Cash Flow | D23: -180000 | E23: -50000 | F23: 11048 | G23: 22776 | H23: 32538 | I23: 42649.2 | J23: 53207 | K23: 55891 | L23: 59312 | M23: 63680 | N23: 69269 | O23: 76429
C24: Revenue | E24: =IFERROR(IF(Database!C6=0,0,Database!C6),"") -> 2400 | F24: =IFERROR(IF(Database!D6=0,"",Database!D6),"") -> 9600 | G24: =IFERROR(IF(Database!E6=0,"",Database!E6),"") -> 19200 | H24: =IFERROR(IF(Database!F6=0,"",Database!F6),"") -> 28800 | I24: =IFERROR(IF(Database!G6=0,"",Database!G6),"") -> 38400 | J24: =IFERROR(IF(Database!H6=0,"",Database!H6),"") -> 48000 | K24: =IFERROR(IF(Database!I6=0,"",Database!I6),"") -> 48000 | L24: =IFERROR(IF(Database!J6=0,"",Database!J6),"") -> 48000 | M24: =IFERROR(IF(Database!K6=0,"",Database!K6),"") -> 48000 | ... P24: =IFERROR(IF(Database!N6=0,"",Database!N6),"") -> 48000
C25: Gross Profit | E25: =IFERROR(IF(Database!C8=0,0,Database!C8),"") -> 2112 | F25: =IFERROR(IF(Database!D8=0,"",Database!D8),"") -> 8448 | G25: =IFERROR(IF(Database!E8=0,"",Database!E8),"") -> 16896 | H25: =IFERROR(IF(Database!F8=0,"",Database!F8),"") -> 25344 | I25: =IFERROR(IF(Database!G8=0,"",Database!G8),"") -> 33792 | J25: =IFERROR(IF(Database!H8=0,"",Database!H8),"") -> 42240 | K25: =IFERROR(IF(Database!I8=0,"",Database!I8),"") -> 42240 | L25: =IFERROR(IF(Database!J8=0,"",Database!J8),"") -> 42240 | M25: =IFERROR(IF(Database!K8=0,"",Database!K8),"") -> 42240 | ... P25: =IFERROR(IF(Database!N8=0,"",Database!N8),"") -> 42240
C26: Total Income | E26: =IFERROR(IF(Database!C23=0,0,Database!C23),"") -> 4112 | F26: =IFERROR(IF(Database!D23=0,"",Database!D23),"") -> 13048 | G26: =IFERROR(IF(Database!E23=0,"",Database!E23),"") -> 22276 | H26: =IFERROR(IF(Database!F23=0,"",Database!F23),"") -> 32038 | I26: =IFERROR(IF(Database!G23=0,"",Database!G23),"") -> 42149.2 | J26: =IFERROR(IF(Database!H23=0,"",Database!H23),"") -> 52707.61 | K26: =IFERROR(IF(Database!I23=0,"",Database!I23),"") -> 55391.63 | L26: =IFERROR(IF(Database!J23=0,"",Database!J23),"") -> 58812.418 | M26: =IFERROR(IF(Database!K23=0,"",Database!K23),"") -> 63180.736 | ... P26: =IFERROR(IF(Database!N23=0,"",Database!N23),"") -> 85118.96
C27: Total Expenses | E27: =IFERROR(IF(Database!C80=0,0,Database!C80),"") -> 67100 | F27: =IFERROR(IF(Database!D80=0,"",Database!D80),"") -> 17100 | G27: =IFERROR(IF(Database!E80=0,"",Database!E80),"") -> 7100 | H27: =IFERROR(IF(Database!F80=0,"",Database!F80),"") -> 7100 | I27: =IFERROR(IF(Database!G80=0,"",Database!G80),"") -> 7100 | J27: =IFERROR(IF(Database!H80=0,"",Database!H80),"") -> 7100 | K27: =IFERROR(IF(Database!I80=0,"",Database!I80),"") -> 7100 | L27: =IFERROR(IF(Database!J80=0,"",Database!J80),"") -> 7100 | M27: =IFERROR(IF(Database!K80=0,"",Database!K80),"") -> 7100 | ... P27: =IFERROR(IF(Database!N80=0,"",Database!N80),"") -> 7100
C28: EBIT | E28: =IFERROR(IF(Database!C82=0,0,Database!C82),"") -> -62988 | F28: =IFERROR(IF(Database!D82=0,"",Database!D82),"") -> -4052 | G28: =IFERROR(IF(Database!E82=0,"",Database!E82),"") -> 15176 | H28: =IFERROR(IF(Database!F82=0,"",Database!F82),"") -> 24938 | I28: =IFERROR(IF(Database!G82=0,"",Database!G82),"") -> 35049.2 | J28: =IFERROR(IF(Database!H82=0,"",Database!H82),"") -> 45607.61 | K28: =IFERROR(IF(Database!I82=0,"",Database!I82),"") -> 48291.63 | L28: =IFERROR(IF(Database!J82=0,"",Database!J82),"") -> 51712.418 | M28: =IFERROR(IF(Database!K82=0,"",Database!K82),"") -> 56080.736 | ... P28: =IFERROR(IF(Database!N82=0,"",Database!N82),"") -> 78018.96
C29: Net Profit | E29: =IFERROR(IF(Database!C112=0,0,Database!C112),"") -> -64438.625 | F29: =IFERROR(IF(Database!D112=0,"",Database!D112),"") -> -5502.625 | G29: =IFERROR(IF(Database!E112=0,"",Database!E112),"") -> 13548.975 | H29: =IFERROR(IF(Database!F112=0,"",Database!F112),"") -> 21846.675 | I29: =IFERROR(IF(Database!G112=0,"",Database!G112),"") -> 30441.195 | J29: =IFERROR(IF(Database!H112=0,"",Database!H112),"") -> 39415.844 | K29: =IFERROR(IF(Database!I112=0,"",Database!I112),"") -> 41697.261 | L29: =IFERROR(IF(Database!J112=0,"",Database!J112),"") -> 44604.93 | M29: =IFERROR(IF(Database!K112=0,"",Database!K112),"") -> 48318.001 | ... P29: =IFERROR(IF(Database!N112=0,"",Database!N112),"") -> 66965.491

Sheet Database
B2: NPV & IRR CALCULATOR
B3: DATABASE
B5: INCOME DETAILS | C5: =IFERROR(IF(LEN(Calculations!B13)=0,"",Calculations!B13),"") -> 44531 | D5: =IFERROR(IF(LEN(Calculations!C13)=0,"",Calculations!C13),"") -> 44562 | E5: =IFERROR(IF(LEN(Calculations!D13)=0,"",Calculations!D13),"") -> 44593 | F5: =IFERROR(IF(LEN(Calculations!E13)=0,"",Calculations!E13),"") -> 44621 | G5: =IFERROR(IF(LEN(Calculations!F13)=0,"",Calculations!F13),"") -> 44652 | H5: =IFERROR(IF(LEN(Calculations!G13)=0,"",Calculations!G13),"") -> 44682 | I5: =IFERROR(IF(LEN(Calculations!H13)=0,"",Calculations!H13),"") -> 44713 | J5: =IFERROR(IF(LEN(Calculations!I13)=0,"",Calculations!I13),"") -> 44743 | ... N5: =IFERROR(IF(LEN(Calculations!M13)=0,"",Calculations!M13),"") -> 44866
B6: Total Sales Revenue | C6: 2400 | D6: 9600 | E6: 19200 | F6: 28800 | G6: 38400 | H6: 48000 | I6: 48000 | J6: 48000 | K6: 48000 | L6: 48000 | M6: 48000 | N6: 48000
B7: Total Cost of Sales | C7: 288 | D7: 1152 | E7: 2304 | F7: 3456 | G7: 4608 | H7: 5760 | I7: 5760 | J7: 5760 | K7: 5760 | L7: 5760 | M7: 5760 | N7: 5760
B8: Gross Profit | C8: =IFERROR(C6-C7,"") -> 2112 | D8: =IFERROR(D6-D7,"") -> 8448 | E8: =IFERROR(E6-E7,"") -> 16896 | F8: =IFERROR(F6-F7,"") -> 25344 | G8: =IFERROR(G6-G7,"") -> 33792 | H8: =IFERROR(H6-H7,"") -> 42240 | I8: =IFERROR(I6-I7,"") -> 42240 | J8: =IFERROR(J6-J7,"") -> 42240 | ... N8: =IFERROR(N6-N7,"") -> 42240
B9: Interest Income | C9: 2000 | D9: 2600 | E9: 3380 | F9: 4394 | G9: 5712.2 | H9: 7425.86 | I9: 9653.618 | J9: 12549.703 | K9: 16314.614 | L9: 21208.999 | M9: 27571.698 | N9: 35843.208
B10: Rental Income | C10: 0 | D10: 2000 | E10: 2000 | F10: 2300 | G10: 2645 | H10: 3041.75 | I10: 3498.0125 | J10: 4022.7144 | K10: 4626.1215 | L10: 5320.0398 | M10: 6118.0457 | N10: 7035.7526
B11: Other Income
B22: Total Non-Operational Income | C22: =IFERROR(SUM(C9:C21),"") -> 2000 | D22: =IFERROR(SUM(D9:D21),"") -> 4600 | E22: =IFERROR(SUM(E9:E21),"") -> 5380 | F22: =IFERROR(SUM(F9:F21),"") -> 6694 | G22: =IFERROR(SUM(G9:G21),"") -> 8357.2 | H22: =IFERROR(SUM(H9:H21),"") -> 10467.61 | I22: =IFERROR(SUM(I9:I21),"") -> 13151.63 | J22: =IFERROR(SUM(J9:J21),"") -> 16572.418 | ... N22: =IFERROR(SUM(N9:N21),"") -> 42878.96
B23: TOTAL INCOME (GROSS) | C23: =IFERROR(C8+C22,"") -> 4112 | D23: =IFERROR(D8+D22,"") -> 13048 | E23: =IFERROR(E8+E22,"") -> 22276 | F23: =IFERROR(F8+F22,"") -> 32038 | G23: =IFERROR(G8+G22,"") -> 42149.2 | H23: =IFERROR(H8+H22,"") -> 52707.61 | I23: =IFERROR(I8+I22,"") -> 55391.63 | J23: =IFERROR(J8+J22,"") -> 58812.418 | ... N23: =IFERROR(N8+N22,"") -> 85118.96
B25: EXPENSE DETAILS
B26: Investment for that Period | C26: 60000 | D26: 10000
B27: Wages and Salaries | C27: 5000 | D27: 5000 | E27: 5000 | F27: 5000 | G27: 5000 | H27: 5000 | I27: 5000 | J27: 5000 | K27: 5000 | L27: 5000 | M27: 5000 | N27: 5000
B28: Direct Marketing | C28: 600 | D28: 600 | E28: 600 | F28: 600 | G28: 600 | H28: 600 | I28: 600 | J28: 600 | K28: 600 | L28: 600 | M28: 600 | N28: 600
B29: Advertising | C29: 200 | D29: 200 | E29: 200 | F29: 200 | G29: 200 | H29: 200 | I29: 200 | J29: 200 | K29: 200 | L29: 200 | M29: 200 | N29: 200
B30: Office Supplies | C30: 500 | D30: 500 | E30: 500 | F30: 500 | G30: 500 | H30: 500 | I30: 500 | J30: 500 | K30: 500 | L30: 500 | M30: 500 | N30: 500
B31: Outside Services
B32: Rent
B33: Telephone
B34: Utilities
B35: Depreciation
B36: Insurance
B37: Technology Licenses
B38: Patents
B39: Web site Expenses
B40: Meals and Entertainment
B41: Repairs and Maintenance
B42: Outside Services
B43: Travel
B60: Total Operating Expenses | C60: =IFERROR(SUM(C26:C31),"") -> 66300 | D60: =IFERROR(SUM(D26:D31),"") -> 16300 | E60: =IFERROR(SUM(E26:E31),"") -> 6300 | F60: =IFERROR(SUM(F26:F31),"") -> 6300 | G60: =IFERROR(SUM(G26:G31),"") -> 6300 | H60: =IFERROR(SUM(H26:H31),"") -> 6300 | I60: =IFERROR(SUM(I26:I31),"") -> 6300 | J60: =IFERROR(SUM(J26:J31),"") -> 6300 | ... N60: =IFERROR(SUM(N26:N31),"") -> 6300
B61: Soft&Hardware Equipments | C61: 500 | D61: 500 | E61: 500 | F61: 500 | G61: 500 | H61: 500 | I61: 500 | J61: 500 | K61: 500 | L61: 500 | M61: 500 | N61: 500
B62: Gifts and Rewards Given | C62: 300 | D62: 300 | E62: 300 | F62: 300 | G62: 300 | H62: 300 | I62: 300 | J62: 300 | K62: 300 | L62: 300 | M62: 300 | N62: 300
B79: Total Non-Recurring Expenses | C79: =IFERROR(SUM(C61:C78),"") -> 800 | D79: =IFERROR(SUM(D61:D78),"") -> 800 | E79: =IFERROR(SUM(E61:E78),"") -> 800 | F79: =IFERROR(SUM(F61:F78),"") -> 800 | G79: =IFERROR(SUM(G61:G78),"") -> 800 | H79: =IFERROR(SUM(H61:H78),"") -> 800 | I79: =IFERROR(SUM(I61:I78),"") -> 800 | J79: =IFERROR(SUM(J61:J78),"") -> 800 | ... N79: =IFERROR(SUM(N61:N78),"") -> 800
B80: TOTAL EXPENSES | C80: =IFERROR(C60+C79,"") -> 67100 | D80: =IFERROR(D60+D79,"") -> 17100 | E80: =IFERROR(E60+E79,"") -> 7100 | F80: =IFERROR(F60+F79,"") -> 7100 | G80: =IFERROR(G60+G79,"") -> 7100 | H80: =IFERROR(H60+H79,"") -> 7100 | I80: =IFERROR(I60+I79,"") -> 7100 | J80: =IFERROR(J60+J79,"") -> 7100 | ... N80: =IFERROR(N60+N79,"") -> 7100
B82: EBIT (Earnings before interest & taxes) | C82: =IFERROR(IF(LEN(C23)=0,"",C23-C80),"") -> -62988 | D82: =IFERROR(IF(LEN(D23)=0,"",D23-D80),"") -> -4052 | E82: =IFERROR(IF(LEN(E23)=0,"",E23-E80),"") -> 15176 | F82: =IFERROR(IF(LEN(F23)=0,"",F23-F80),"") -> 24938 | G82: =IFERROR(IF(LEN(G23)=0,"",G23-G80),"") -> 35049.2 | H82: =IFERROR(IF(LEN(H23)=0,"",H23-H80),"") -> 45607.61 | I82: =IFERROR(IF(LEN(I23)=0,"",I23-I80),"") -> 48291.63 | J82: =IFERROR(IF(LEN(J23)=0,"",J23-J80),"") -> 51712.418 | ... N82: =IFERROR(IF(LEN(N23)=0,"",N23-N80),"") -> 78018.96
B84: INTEREST DETAILS
B85: Interest Expense
B86: Interest Income
B88: TAX DETAILS
...

Sheet Calculations
C4: 1 | D4: 2 | E4: 3 | F4: 4 | G4: 5 | H4: 6 | I4: 7 | J4: 8 | K4: 9 | L4: 10 | M4: 11 | N4: 12
B5: ROI (Return On Investments) | C5: =IFERROR(IF(LEN(Database!$C$26)=0,"",IF(Dashboard!$D$9="Monthly",Database!C112/Database!$C$26,Database!C112/Database!C26)),"") -> -1.0739771 | D5: =IFERROR(IF(LEN(Database!$C$26)=0,"",IF(Dashboard!$D$9="Monthly",Database!D112/Database!$C$26,Database!D112/Database!D26)),"") -> -0.091710417 | E5: =IFERROR(IF(LEN(Database!$C$26)=0,"",IF(Dashboard!$D$9="Monthly",Database!E112/Database!$C$26,Database!E112/Database!E26)),"") -> 0.22581625 | F5: =IFERROR(IF(LEN(Database!$C$26)=0,"",IF(Dashboard!$D$9="Monthly",Database!F112/Database!$C$26,Database!F112/Database!F26)),"") -> 0.36411125 | G5: =IFERROR(IF(LEN(Database!$C$26)=0,"",IF(Dashboard!$D$9="Monthly",Database!G112/Database!$C$26,Database!G112/Database!G26)),"") -> 0.50735325 | H5: =IFERROR(IF(LEN(Database!$C$26)=0,"",IF(Dashboard!$D$9="Monthly",Database!H112/Database!$C$26,Database!H112/Database!H26)),"") -> 0.65693073 | I5: =IFERROR(IF(LEN(Database!$C$26)=0,"",IF(Dashboard!$D$9="Monthly",Database!I112/Database!$C$26,Database!I112/Database!I26)),"") -> 0.69495435 | J5: =IFERROR(IF(LEN(Database!$C$26)=0,"",IF(Dashboard!$D$9="Monthly",Database!J112/Database!$C$26,Database!J112/Database!J26)),"") -> 0.7434155 | ... N5: =IFERROR(IF(LEN(Database!$C$26)=0,"",IF(Dashboard!$D$9="Monthly",Database!N112/Database!$C$26,Database!N112/Database!N26)),"") -> 1.1160915
B6: Gross Profit Margin % | C6: =IFERROR(IF(LEN(Database!C6)=0,"",Database!C8/Database!C6),"") -> 0.88 | D6: =IFERROR(IF(LEN(Database!D6)=0,"",Database!D8/Database!D6),"") -> 0.88 | E6: =IFERROR(IF(LEN(Database!E6)=0,"",Database!E8/Database!E6),"") -> 0.88 | F6: =IFERROR(IF(LEN(Database!F6)=0,"",Database!F8/Database!F6),"") -> 0.88 | G6: =IFERROR(IF(LEN(Database!G6)=0,"",Database!G8/Database!G6),"") -> 0.88 | H6: =IFERROR(IF(LEN(Database!H6)=0,"",Database!H8/Database!H6),"") -> 0.88 | I6: =IFERROR(IF(LEN(Database!I6)=0,"",Database!I8/Database!I6),"") -> 0.88 | J6: =IFERROR(IF(LEN(Database!J6)=0,"",Database!J8/Database!J6),"") -> 0.88 | ... N6: =IFERROR(IF(LEN(Database!N6)=0,"",Database!N8/Database!N6),"") -> 0.88
B7: Net Profit Margin % | C7: =IFERROR(IF(LEN(Database!C112)=0,"",Database!C112/Database!C6),"") -> -26.849427 | D7: =IFERROR(IF(LEN(Database!D112)=0,"",Database!D112/Database!D6),"") -> -0.5731901 | E7: =IFERROR(IF(LEN(Database!E112)=0,"",Database!E112/Database!E6),"") -> 0.70567578 | F7: =IFERROR(IF(LEN(Database!F112)=0,"",Database!F112/Database!F6),"") -> 0.7585651 | G7: =IFERROR(IF(LEN(Database!G112)=0,"",Database!G112/Database!G6),"") -> 0.79273945 | H7: =IFERROR(IF(LEN(Database!H112)=0,"",Database!H112/Database!H6),"") -> 0.82116341 | I7: =IFERROR(IF(LEN(Database!I112)=0,"",Database!I112/Database!I6),"") -> 0.86869294 | J7: =IFERROR(IF(LEN(Database!J112)=0,"",Database!J112/Database!J6),"") -> 0.92926938 | ... N7: =IFERROR(IF(LEN(Database!N112)=0,"",Database!N112/Database!N6),"") -> 1.3951144
B8: Profit Before Tax % | C8: =IFERROR(IF(LEN(Database!C82)=0,"",Database!C82/Database!C6),"") -> -26.245 | D8: =IFERROR(IF(LEN(Database!D82)=0,"",Database!D82/Database!D6),"") -> -0.42208333 | E8: =IFERROR(IF(LEN(Database!E82)=0,"",Database!E82/Database!E6),"") -> 0.79041667 | F8: =IFERROR(IF(LEN(Database!F82)=0,"",Database!F82/Database!F6),"") -> 0.86590278 | G8: =IFERROR(IF(LEN(Database!G82)=0,"",Database!G82/Database!G6),"") -> 0.91273958 | H8: =IFERROR(IF(LEN(Database!H82)=0,"",Database!H82/Database!H6),"") -> 0.95015854 | I8: =IFERROR(IF(LEN(Database!I82)=0,"",Database!I82/Database!I6),"") -> 1.0060756 | J8: =IFERROR(IF(LEN(Database!J82)=0,"",Database!J82/Database!J6),"") -> 1.077342 | ... N8: =IFERROR(IF(LEN(Database!N82)=0,"",Database!N82/Database!N6),"") -> 1.625395
B11: ="CF&DATES "&UPPER(Dashboard!D9) -> CF&DATES MONTHLY
B12: =Dashboard!D23 -> -180000 | C12: =Dashboard!E23 -> -50000 | D12: =Dashboard!F23 -> 11048 | E12: =Dashboard!G23 -> 22776 | F12: =Dashboard!H23 -> 32538 | G12: =Dashboard!I23 -> 42649.2 | H12: =Dashboard!J23 -> 53207 | I12: =Dashboard!K23 -> 55891 | ... N12: =Dashboard!P23 -> 0
B13: =IFERROR(IF(LEN(Dashboard!D8)=0,"",Dashboard!D8),"") -> 44531 | C13: =IFERROR(IF(period="Yearly",DATE(YEAR(Calculations!B13)+1,MONTH(Calculations!B13),DAY(Calculations!B13)),B13+DAY(EOMONTH(B13,0))),"") -> 44562 | D13: =IFERROR(IF(period="Yearly",DATE(YEAR(Calculations!C13)+1,MONTH(Calculations!C13),DAY(Calculations!C13)),C13+DAY(EOMONTH(C13,0))),"") -> 44593 | E13: =IFERROR(IF(period="Yearly",DATE(YEAR(Calculations!D13)+1,MONTH(Calculations!D13),DAY(Calculations!D13)),D13+DAY(EOMONTH(D13,0))),"") -> 44621 | F13: =IFERROR(IF(period="Yearly",DATE(YEAR(Calculations!E13)+1,MONTH(Calculations!E13),DAY(Calculations!E13)),E13+DAY(EOMONTH(E13,0))),"") -> 44652 | G13: =IFERROR(IF(period="Yearly",DATE(YEAR(Calculations!F13)+1,MONTH(Calculations!F13),DAY(Calculations!F13)),F13+DAY(EOMONTH(F13,0))),"") -> 44682 | H13: =IFERROR(IF(period="Yearly",DATE(YEAR(Calculations!G13)+1,MONTH(Calculations!G13),DAY(Calculations!G13)),G13+DAY(EOMONTH(G13,0))),"") -> 44713 | I13: =IFERROR(IF(period="Yearly",DATE(YEAR(Calculations!H13)+1,MONTH(Calculations!H13),DAY(Calculations!H13)),H13+DAY(EOMONTH(H13,0))),"") -> 44743 | J13: =IFERROR(IF(period="Yearly",DATE(YEAR(Calculations!I13)+1,MONTH(Calculations!I13),DAY(Calculations!I13)),I13+DAY(EOMONTH(I13,0))),"") -> 44774 | ... N13: =IFERROR(IF(period="Yearly",DATE(YEAR(Calculations!M13)+1,MONTH(Calculations!M13),DAY(Calculations!M13)),M13+DAY(EOMONTH(M13,0))),"") -> 44896
