Workbook
Name days: Calc!$CP$29:$CR$35
Name MainReg: Calc!$D$11:$O$110
Name months: Calc!$CP$14:$CR$25
Name StartMonth: Calc!$CQ$28
Name StartYear: Calc!$CQ$27

Sheet Menu
C2: MONTHLY BILL ORGANIZER
C3: MENU
G7: SETTINGS
G9: Categories | I9: Starting Month | J9: Starting Year
G10: Utilities | I10: January | J10: 2024
G11: Subscriptions
G12: Phone | I12: Currency
G13: Internet | I13: $
G14: Home
G15: Other

Sheet Bills
B2: MONTHLY BILL ORGANIZER
B3: BILLS
B5: Category | C5: Bill Name | D5: Payment Day | E5: =Calc!CW14 -> Jan-2024 | G5: =Calc!CW15 -> Feb-2024 | I5: =Calc!CW16 -> Mar-2024 | K5: =Calc!CW17 -> Apr-2024 | M5: =Calc!CW18 -> May-2024 | O5: =Calc!CW19 -> Jun-2024 | Q5: =Calc!CW20 -> Jul-2024 | S5: =Calc!CW21 -> Aug-2024 | U5: =Calc!CW22 -> Sep-2024 | W5: =Calc!CW23 -> Oct-2024 | Y5: =Calc!CW24 -> Nov-2024 | AA5: =Calc!CW25 -> Dec-2024
B6: Utilities | C6: Electricity | D6: 1st | E6: 120 | F6: X | G6: 120 | H6: ✓ | I6: 120 | J6: ✓ | K6: 120 | L6: ✓ | M6: 120 | N6: X | O6: 120 | P6: ✓ | Q6: 120 | R6: ✓ | S6: 120 | T6: ✓ | U6: 120 | V6: X | W6: 120 | X6: ✓ | Y6: 120 | Z6: ✓ | AA6: 120 | AB6: ✓
B7: Utilities | C7: Water | D7: 5th | E7: 30 | F7: ✓ | G7: 30 | H7: ✓ | I7: 30 | J7: ✓ | K7: 30 | L7: ✓ | M7: 30 | N7: ✓ | O7: 30 | P7: ✓ | Q7: 30 | R7: ✓ | S7: 30 | T7: ✓ | U7: 30 | V7: ✓ | W7: 30 | X7: ✓ | Y7: 30 | Z7: ✓ | AA7: 30 | AB7: ✓
B8: Utilities | C8: Gas | D8: 7th | E8: 50 | F8: ✓ | G8: 50 | H8: ✓ | I8: 50 | J8: ✓ | K8: 50 | L8: X | M8: 50 | N8: ✓ | O8: 50 | P8: ✓ | Q8: 50 | R8: ✓ | S8: 50 | T8: X | U8: 50 | V8: ✓ | W8: 150 | X8: ✓ | Y8: 50 | Z8: ✓ | AA8: 50 | AB8: ✓
B9: Utilities | C9: Trash | D9: 1st | E9: 20 | F9: ✓ | G9: 30 | H9: ✓ | I9: 20 | J9: ✓ | K9: 30 | L9: X | M9: 20 | N9: ✓ | O9: 30 | P9: ✓ | Q9: 20 | R9: ✓ | S9: 20 | T9: X | U9: 20 | V9: ✓ | W9: 20 | X9: ✓ | Y9: 20 | Z9: ✓ | AA9: 20 | AB9: ✓
B10: Subscriptions | C10: Streaming Service | D10: 1st | E10: 15 | F10: ✓ | G10: 15 | H10: ✓ | I10: 15 | J10: ✓ | K10: 15 | L10: ✓ | M10: 15 | N10: ✓ | O10: 15 | P10: ✓ | Q10: 15 | R10: ✓ | S10: 15 | T10: X | U10: 15 | V10: ✓ | W10: 15 | X10: ✓ | Y10: 15 | Z10: X | AA10: 15 | AB10: ✓
B11: Subscriptions | C11: Gym Membership | D11: 15th | E11: 20 | F11: ✓ | G11: 20 | H11: ✓ | I11: 20 | J11: ✓ | K11: 20 | L11: ✓ | M11: 20 | N11: ✓ | O11: 20 | P11: ✓ | Q11: 20 | R11: ✓ | S11: 20 | T11: ✓ | U11: 20 | V11: ✓ | W11: 20 | X11: ✓ | Y11: 20 | Z11: ✓ | AA11: 20 | AB11: ✓
B12: Subscriptions | C12: Magazine | D12: 15th | E12: 10 | F12: ✓ | G12: 10 | H12: ✓ | I12: 10 | J12: ✓ | K12: 10 | L12: ✓ | M12: 10 | N12: ✓ | O12: 10 | P12: ✓ | Q12: 10 | R12: ✓ | S12: 10 | T12: ✓ | U12: 10 | V12: ✓ | W12: 10 | X12: ✓ | Y12: 10 | Z12: ✓ | AA12: 10 | AB12: X

Sheet Calendar
C2: MONTHLY BILL ORGANIZER
C3: BILL CALENDAR
C5: Year | E5: 2024 | G5: Category | I5: ALL | K5: PAID
C7: Month | E7: January | G7: Show by? | I7: Category - Amount | K7: UNPAID
C10: MONDAY | E10: TUESDAY | G10: WEDNESDAY | I10: THURSDAY | K10: FRIDAY | M10: SATURDAY | O10: SUNDAY
C12: =IFERROR(IF(WEEKDAY(Calc!CK14)=2,Calc!CK14,""),"") -> 45292 | E12: =IFERROR(IF(LEN(C12)>0,C12+1,IF(WEEKDAY(Calc!CK14)=3,Calc!CK14,"")),"") -> 45293 | G12: =IFERROR(IF(LEN(E12)>0,E12+1,IF(WEEKDAY(Calc!CK14)=4,Calc!CK14,"")),"") -> 45294 | I12: =IFERROR(IF(LEN(G12)>0,G12+1,IF(WEEKDAY(Calc!CK14)=5,Calc!CK14,"")),"") -> 45295 | K12: =IFERROR(IF(LEN(I12)>0,I12+1,IF(WEEKDAY(Calc!CK14)=6,Calc!CK14,"")),"") -> 45296 | M12: =IFERROR(IF(LEN(K12)>0,K12+1,IF(WEEKDAY(Calc!CK14)=7,Calc!CK14,"")),"") -> 45297 | O12: =IFERROR(IF(LEN(M12)>0,M12+1,IF(WEEKDAY(Calc!CK14)=1,Calc!CK14,"")),"") -> 45298
C14: {=IFERROR(INDEX(Calc!$O$11:$O$130,SMALL(IF((C$12=Calc!$N$11:$N$130)*(Calc!$CH$11:$CH$130),ROW(Calc!$O$11:$O$130)-ROW(INDEX(Calc!$O$11:$O$130,1,1))+1),Calc!$CJ17)),"")} -> Utilities - $120 | E14: {=IFERROR(INDEX(Calc!$O$11:$O$130,SMALL(IF((E$12=Calc!$N$11:$N$130)*(Calc!$CH$11:$CH$130),ROW(Calc!$O$11:$O$130)-ROW(INDEX(Calc!$O$11:$O$130,1,1))+1),Calc!$CJ17)),"")} | G14: {=IFERROR(INDEX(Calc!$O$11:$O$130,SMALL(IF((G$12=Calc!$N$11:$N$130)*(Calc!$CH$11:$CH$130),ROW(Calc!$O$11:$O$130)-ROW(INDEX(Calc!$O$11:$O$130,1,1))+1),Calc!$CJ17)),"")} | I14: {=IFERROR(INDEX(Calc!$O$11:$O$130,SMALL(IF((I$12=Calc!$N$11:$N$130)*(Calc!$CH$11:$CH$130),ROW(Calc!$O$11:$O$130)-ROW(INDEX(Calc!$O$11:$O$130,1,1))+1),Calc!$CJ17)),"")} | K14: {=IFERROR(INDEX(Calc!$O$11:$O$130,SMALL(IF((K$12=Calc!$N$11:$N$130)*(Calc!$CH$11:$CH$130),ROW(Calc!$O$11:$O$130)-ROW(INDEX(Calc!$O$11:$O$130,1,1))+1),Calc!$CJ17)),"")} -> Utilities - $30 | M14: {=IFERROR(INDEX(Calc!$O$11:$O$130,SMALL(IF((M$12=Calc!$N$11:$N$130)*(Calc!$CH$11:$CH$130),ROW(Calc!$O$11:$O$130)-ROW(INDEX(Calc!$O$11:$O$130,1,1))+1),Calc!$CJ17)),"")} | O14: {=IFERROR(INDEX(Calc!$O$11:$O$130,SMALL(IF((O$12=Calc!$N$11:$N$130)*(Calc!$CH$11:$CH$130),ROW(Calc!$O$11:$O$130)-ROW(INDEX(Calc!$O$11:$O$130,1,1))+1),Calc!$CJ17)),"")} -> Utilities - $50
C15: {=IFERROR(INDEX(Calc!$O$11:$O$130,SMALL(IF((C$12=Calc!$N$11:$N$130)*(Calc!$CH$11:$CH$130),ROW(Calc!$O$11:$O$130)-ROW(INDEX(Calc!$O$11:$O$130,1,1))+1),Calc!$CJ18)),"")} -> Utilities - $20 | E15: {=IFERROR(INDEX(Calc!$O$11:$O$130,SMALL(IF((E$12=Calc!$N$11:$N$130)*(Calc!$CH$11:$CH$130),ROW(Calc!$O$11:$O$130)-ROW(INDEX(Calc!$O$11:$O$130,1,1))+1),Calc!$CJ18)),"")} | G15: {=IFERROR(INDEX(Calc!$O$11:$O$130,SMALL(IF((G$12=Calc!$N$11:$N$130)*(Calc!$CH$11:$CH$130),ROW(Calc!$O$11:$O$130)-ROW(INDEX(Calc!$O$11:$O$130,1,1))+1),Calc!$CJ18)),"")} | I15: {=IFERROR(INDEX(Calc!$O$11:$O$130,SMALL(IF((I$12=Calc!$N$11:$N$130)*(Calc!$CH$11:$CH$130),ROW(Calc!$O$11:$O$130)-ROW(INDEX(Calc!$O$11:$O$130,1,1))+1),Calc!$CJ18)),"")} | K15: {=IFERROR(INDEX(Calc!$O$11:$O$130,SMALL(IF((K$12=Calc!$N$11:$N$130)*(Calc!$CH$11:$CH$130),ROW(Calc!$O$11:$O$130)-ROW(INDEX(Calc!$O$11:$O$130,1,1))+1),Calc!$CJ18)),"")} | M15: {=IFERROR(INDEX(Calc!$O$11:$O$130,SMALL(IF((M$12=Calc!$N$11:$N$130)*(Calc!$CH$11:$CH$130),ROW(Calc!$O$11:$O$130)-ROW(INDEX(Calc!$O$11:$O$130,1,1))+1),Calc!$CJ18)),"")} | O15: {=IFERROR(INDEX(Calc!$O$11:$O$130,SMALL(IF((O$12=Calc!$N$11:$N$130)*(Calc!$CH$11:$CH$130),ROW(Calc!$O$11:$O$130)-ROW(INDEX(Calc!$O$11:$O$130,1,1))+1),Calc!$CJ18)),"")}
C16: {=IFERROR(INDEX(Calc!$O$11:$O$130,SMALL(IF((C$12=Calc!$N$11:$N$130)*(Calc!$CH$11:$CH$130),ROW(Calc!$O$11:$O$130)-ROW(INDEX(Calc!$O$11:$O$130,1,1))+1),Calc!$CJ19)),"")} -> Subscriptions - $15 | E16: {=IFERROR(INDEX(Calc!$O$11:$O$130,SMALL(IF((E$12=Calc!$N$11:$N$130)*(Calc!$CH$11:$CH$130),ROW(Calc!$O$11:$O$130)-ROW(INDEX(Calc!$O$11:$O$130,1,1))+1),Calc!$CJ19)),"")} | G16: {=IFERROR(INDEX(Calc!$O$11:$O$130,SMALL(IF((G$12=Calc!$N$11:$N$130)*(Calc!$CH$11:$CH$130),ROW(Calc!$O$11:$O$130)-ROW(INDEX(Calc!$O$11:$O$130,1,1))+1),Calc!$CJ19)),"")} | I16: {=IFERROR(INDEX(Calc!$O$11:$O$130,SMALL(IF((I$12=Calc!$N$11:$N$130)*(Calc!$CH$11:$CH$130),ROW(Calc!$O$11:$O$130)-ROW(INDEX(Calc!$O$11:$O$130,1,1))+1),Calc!$CJ19)),"")} | K16: {=IFERROR(INDEX(Calc!$O$11:$O$130,SMALL(IF((K$12=Calc!$N$11:$N$130)*(Calc!$CH$11:$CH$130),ROW(Calc!$O$11:$O$130)-ROW(INDEX(Calc!$O$11:$O$130,1,1))+1),Calc!$CJ19)),"")} | M16: {=IFERROR(INDEX(Calc!$O$11:$O$130,SMALL(IF((M$12=Calc!$N$11:$N$130)*(Calc!$CH$11:$CH$130),ROW(Calc!$O$11:$O$130)-ROW(INDEX(Calc!$O$11:$O$130,1,1))+1),Calc!$CJ19)),"")} | O16: {=IFERROR(INDEX(Calc!$O$11:$O$130,SMALL(IF((O$12=Calc!$N$11:$N$130)*(Calc!$CH$11:$CH$130),ROW(Calc!$O$11:$O$130)-ROW(INDEX(Calc!$O$11:$O$130,1,1))+1),Calc!$CJ19)),"")}
C17: {=IFERROR(INDEX(Calc!$O$11:$O$130,SMALL(IF((C$12=Calc!$N$11:$N$130)*(Calc!$CH$11:$CH$130),ROW(Calc!$O$11:$O$130)-ROW(INDEX(Calc!$O$11:$O$130,1,1))+1),Calc!$CJ20)),"")} | E17: {=IFERROR(INDEX(Calc!$O$11:$O$130,SMALL(IF((E$12=Calc!$N$11:$N$130)*(Calc!$CH$11:$CH$130),ROW(Calc!$O$11:$O$130)-ROW(INDEX(Calc!$O$11:$O$130,1,1))+1),Calc!$CJ20)),"")} | G17: {=IFERROR(INDEX(Calc!$O$11:$O$130,SMALL(IF((G$12=Calc!$N$11:$N$130)*(Calc!$CH$11:$CH$130),ROW(Calc!$O$11:$O$130)-ROW(INDEX(Calc!$O$11:$O$130,1,1))+1),Calc!$CJ20)),"")} | I17: {=IFERROR(INDEX(Calc!$O$11:$O$130,SMALL(IF((I$12=Calc!$N$11:$N$130)*(Calc!$CH$11:$CH$130),ROW(Calc!$O$11:$O$130)-ROW(INDEX(Calc!$O$11:$O$130,1,1))+1),Calc!$CJ20)),"")} | K17: {=IFERROR(INDEX(Calc!$O$11:$O$130,SMALL(IF((K$12=Calc!$N$11:$N$130)*(Calc!$CH$11:$CH$130),ROW(Calc!$O$11:$O$130)-ROW(INDEX(Calc!$O$11:$O$130,1,1))+1),Calc!$CJ20)),"")} | M17: {=IFERROR(INDEX(Calc!$O$11:$O$130,SMALL(IF((M$12=Calc!$N$11:$N$130)*(Calc!$CH$11:$CH$130),ROW(Calc!$O$11:$O$130)-ROW(INDEX(Calc!$O$11:$O$130,1,1))+1),Calc!$CJ20)),"")} | O17: {=IFERROR(INDEX(Calc!$O$11:$O$130,SMALL(IF((O$12=Calc!$N$11:$N$130)*(Calc!$CH$11:$CH$130),ROW(Calc!$O$11:$O$130)-ROW(INDEX(Calc!$O$11:$O$130,1,1))+1),Calc!$CJ20)),"")}
C18: {=IFERROR(INDEX(Calc!$O$11:$O$130,SMALL(IF((C$12=Calc!$N$11:$N$130)*(Calc!$CH$11:$CH$130),ROW(Calc!$O$11:$O$130)-ROW(INDEX(Calc!$O$11:$O$130,1,1))+1),Calc!$CJ21)),"")} | E18: {=IFERROR(INDEX(Calc!$O$11:$O$130,SMALL(IF((E$12=Calc!$N$11:$N$130)*(Calc!$CH$11:$CH$130),ROW(Calc!$O$11:$O$130)-ROW(INDEX(Calc!$O$11:$O$130,1,1))+1),Calc!$CJ21)),"")} | G18: {=IFERROR(INDEX(Calc!$O$11:$O$130,SMALL(IF((G$12=Calc!$N$11:$N$130)*(Calc!$CH$11:$CH$130),ROW(Calc!$O$11:$O$130)-ROW(INDEX(Calc!$O$11:$O$130,1,1))+1),Calc!$CJ21)),"")} | I18: {=IFERROR(INDEX(Calc!$O$11:$O$130,SMALL(IF((I$12=Calc!$N$11:$N$130)*(Calc!$CH$11:$CH$130),ROW(Calc!$O$11:$O$130)-ROW(INDEX(Calc!$O$11:$O$130,1,1))+1),Calc!$CJ21)),"")} | K18: {=IFERROR(INDEX(Calc!$O$11:$O$130,SMALL(IF((K$12=Calc!$N$11:$N$130)*(Calc!$CH$11:$CH$130),ROW(Calc!$O$11:$O$130)-ROW(INDEX(Calc!$O$11:$O$130,1,1))+1),Calc!$CJ21)),"")} | M18: {=IFERROR(INDEX(Calc!$O$11:$O$130,SMALL(IF((M$12=Calc!$N$11:$N$130)*(Calc!$CH$11:$CH$130),ROW(Calc!$O$11:$O$130)-ROW(INDEX(Calc!$O$11:$O$130,1,1))+1),Calc!$CJ21)),"")} | O18: {=IFERROR(INDEX(Calc!$O$11:$O$130,SMALL(IF((O$12=Calc!$N$11:$N$130)*(Calc!$CH$11:$CH$130),ROW(Calc!$O$11:$O$130)-ROW(INDEX(Calc!$O$11:$O$130,1,1))+1),Calc!$CJ21)),"")}
C19: {=IFERROR(INDEX(Calc!$O$11:$O$130,SMALL(IF((C$12=Calc!$N$11:$N$130)*(Calc!$CH$11:$CH$130),ROW(Calc!$O$11:$O$130)-ROW(INDEX(Calc!$O$11:$O$130,1,1))+1),Calc!$CJ22)),"")} | E19: {=IFERROR(INDEX(Calc!$O$11:$O$130,SMALL(IF((E$12=Calc!$N$11:$N$130)*(Calc!$CH$11:$CH$130),ROW(Calc!$O$11:$O$130)-ROW(INDEX(Calc!$O$11:$O$130,1,1))+1),Calc!$CJ22)),"")} | G19: {=IFERROR(INDEX(Calc!$O$11:$O$130,SMALL(IF((G$12=Calc!$N$11:$N$130)*(Calc!$CH$11:$CH$130),ROW(Calc!$O$11:$O$130)-ROW(INDEX(Calc!$O$11:$O$130,1,1))+1),Calc!$CJ22)),"")} | I19: {=IFERROR(INDEX(Calc!$O$11:$O$130,SMALL(IF((I$12=Calc!$N$11:$N$130)*(Calc!$CH$11:$CH$130),ROW(Calc!$O$11:$O$130)-ROW(INDEX(Calc!$O$11:$O$130,1,1))+1),Calc!$CJ22)),"")} | K19: {=IFERROR(INDEX(Calc!$O$11:$O$130,SMALL(IF((K$12=Calc!$N$11:$N$130)*(Calc!$CH$11:$CH$130),ROW(Calc!$O$11:$O$130)-ROW(INDEX(Calc!$O$11:$O$130,1,1))+1),Calc!$CJ22)),"")} | M19: {=IFERROR(INDEX(Calc!$O$11:$O$130,SMALL(IF((M$12=Calc!$N$11:$N$130)*(Calc!$CH$11:$CH$130),ROW(Calc!$O$11:$O$130)-ROW(INDEX(Calc!$O$11:$O$130,1,1))+1),Calc!$CJ22)),"")} | O19: {=IFERROR(INDEX(Calc!$O$11:$O$130,SMALL(IF((O$12=Calc!$N$11:$N$130)*(Calc!$CH$11:$CH$130),ROW(Calc!$O$11:$O$130)-ROW(INDEX(Calc!$O$11:$O$130,1,1))+1),Calc!$CJ22)),"")}
C20: {=IFERROR(INDEX(Calc!$O$11:$O$130,SMALL(IF((C$12=Calc!$N$11:$N$130)*(Calc!$CH$11:$CH$130),ROW(Calc!$O$11:$O$130)-ROW(INDEX(Calc!$O$11:$O$130,1,1))+1),Calc!$CJ23)),"")} | E20: {=IFERROR(INDEX(Calc!$O$11:$O$130,SMALL(IF((E$12=Calc!$N$11:$N$130)*(Calc!$CH$11:$CH$130),ROW(Calc!$O$11:$O$130)-ROW(INDEX(Calc!$O$11:$O$130,1,1))+1),Calc!$CJ23)),"")} | G20: {=IFERROR(INDEX(Calc!$O$11:$O$130,SMALL(IF((G$12=Calc!$N$11:$N$130)*(Calc!$CH$11:$CH$130),ROW(Calc!$O$11:$O$130)-ROW(INDEX(Calc!$O$11:$O$130,1,1))+1),Calc!$CJ23)),"")} | I20: {=IFERROR(INDEX(Calc!$O$11:$O$130,SMALL(IF((I$12=Calc!$N$11:$N$130)*(Calc!$CH$11:$CH$130),ROW(Calc!$O$11:$O$130)-ROW(INDEX(Calc!$O$11:$O$130,1,1))+1),Calc!$CJ23)),"")} | K20: {=IFERROR(INDEX(Calc!$O$11:$O$130,SMALL(IF((K$12=Calc!$N$11:$N$130)*(Calc!$CH$11:$CH$130),ROW(Calc!$O$11:$O$130)-ROW(INDEX(Calc!$O$11:$O$130,1,1))+1),Calc!$CJ23)),"")} | M20: {=IFERROR(INDEX(Calc!$O$11:$O$130,SMALL(IF((M$12=Calc!$N$11:$N$130)*(Calc!$CH$11:$CH$130),ROW(Calc!$O$11:$O$130)-ROW(INDEX(Calc!$O$11:$O$130,1,1))+1),Calc!$CJ23)),"")} | O20: {=IFERROR(INDEX(Calc!$O$11:$O$130,SMALL(IF((O$12=Calc!$N$11:$N$130)*(Calc!$CH$11:$CH$130),ROW(Calc!$O$11:$O$130)-ROW(INDEX(Calc!$O$11:$O$130,1,1))+1),Calc!$CJ23)),"")}
C21: {=IFERROR(INDEX(Calc!$O$11:$O$130,SMALL(IF((C$12=Calc!$N$11:$N$130)*(Calc!$CH$11:$CH$130),ROW(Calc!$O$11:$O$130)-ROW(INDEX(Calc!$O$11:$O$130,1,1))+1),Calc!$CJ24)),"")} | E21: {=IFERROR(INDEX(Calc!$O$11:$O$130,SMALL(IF((E$12=Calc!$N$11:$N$130)*(Calc!$CH$11:$CH$130),ROW(Calc!$O$11:$O$130)-ROW(INDEX(Calc!$O$11:$O$130,1,1))+1),Calc!$CJ24)),"")} | G21: {=IFERROR(INDEX(Calc!$O$11:$O$130,SMALL(IF((G$12=Calc!$N$11:$N$130)*(Calc!$CH$11:$CH$130),ROW(Calc!$O$11:$O$130)-ROW(INDEX(Calc!$O$11:$O$130,1,1))+1),Calc!$CJ24)),"")} | I21: {=IFERROR(INDEX(Calc!$O$11:$O$130,SMALL(IF((I$12=Calc!$N$11:$N$130)*(Calc!$CH$11:$CH$130),ROW(Calc!$O$11:$O$130)-ROW(INDEX(Calc!$O$11:$O$130,1,1))+1),Calc!$CJ24)),"")} | K21: {=IFERROR(INDEX(Calc!$O$11:$O$130,SMALL(IF((K$12=Calc!$N$11:$N$130)*(Calc!$CH$11:$CH$130),ROW(Calc!$O$11:$O$130)-ROW(INDEX(Calc!$O$11:$O$130,1,1))+1),Calc!$CJ24)),"")} | M21: {=IFERROR(INDEX(Calc!$O$11:$O$130,SMALL(IF((M$12=Calc!$N$11:$N$130)*(Calc!$CH$11:$CH$130),ROW(Calc!$O$11:$O$130)-ROW(INDEX(Calc!$O$11:$O$130,1,1))+1),Calc!$CJ24)),"")} | O21: {=IFERROR(INDEX(Calc!$O$11:$O$130,SMALL(IF((O$12=Calc!$N$11:$N$130)*(Calc!$CH$11:$CH$130),ROW(Calc!$O$11:$O$130)-ROW(INDEX(Calc!$O$11:$O$130,1,1))+1),Calc!$CJ24)),"")}
C22: {=IFERROR(INDEX(Calc!$O$11:$O$130,SMALL(IF((C$12=Calc!$N$11:$N$130)*(Calc!$CH$11:$CH$130),ROW(Calc!$O$11:$O$130)-ROW(INDEX(Calc!$O$11:$O$130,1,1))+1),Calc!$CJ25)),"")} | E22: {=IFERROR(INDEX(Calc!$O$11:$O$130,SMALL(IF((E$12=Calc!$N$11:$N$130)*(Calc!$CH$11:$CH$130),ROW(Calc!$O$11:$O$130)-ROW(INDEX(Calc!$O$11:$O$130,1,1))+1),Calc!$CJ25)),"")} | G22: {=IFERROR(INDEX(Calc!$O$11:$O$130,SMALL(IF((G$12=Calc!$N$11:$N$130)*(Calc!$CH$11:$CH$130),ROW(Calc!$O$11:$O$130)-ROW(INDEX(Calc!$O$11:$O$130,1,1))+1),Calc!$CJ25)),"")} | I22: {=IFERROR(INDEX(Calc!$O$11:$O$130,SMALL(IF((I$12=Calc!$N$11:$N$130)*(Calc!$CH$11:$CH$130),ROW(Calc!$O$11:$O$130)-ROW(INDEX(Calc!$O$11:$O$130,1,1))+1),Calc!$CJ25)),"")} | K22: {=IFERROR(INDEX(Calc!$O$11:$O$130,SMALL(IF((K$12=Calc!$N$11:$N$130)*(Calc!$CH$11:$CH$130),ROW(Calc!$O$11:$O$130)-ROW(INDEX(Calc!$O$11:$O$130,1,1))+1),Calc!$CJ25)),"")} | M22: {=IFERROR(INDEX(Calc!$O$11:$O$130,SMALL(IF((M$12=Calc!$N$11:$N$130)*(Calc!$CH$11:$CH$130),ROW(Calc!$O$11:$O$130)-ROW(INDEX(Calc!$O$11:$O$130,1,1))+1),Calc!$CJ25)),"")} | O22: {=IFERROR(INDEX(Calc!$O$11:$O$130,SMALL(IF((O$12=Calc!$N$11:$N$130)*(Calc!$CH$11:$CH$130),ROW(Calc!$O$11:$O$130)-ROW(INDEX(Calc!$O$11:$O$130,1,1))+1),Calc!$CJ25)),"")}
C23: {=IFERROR(INDEX(Calc!$O$11:$O$130,SMALL(IF((C$12=Calc!$N$11:$N$130)*(Calc!$CH$11:$CH$130),ROW(Calc!$O$11:$O$130)-ROW(INDEX(Calc!$O$11:$O$130,1,1))+1),Calc!$CJ26)),"")} | E23: {=IFERROR(INDEX(Calc!$O$11:$O$130,SMALL(IF((E$12=Calc!$N$11:$N$130)*(Calc!$CH$11:$CH$130),ROW(Calc!$O$11:$O$130)-ROW(INDEX(Calc!$O$11:$O$130,1,1))+1),Calc!$CJ26)),"")} | G23: {=IFERROR(INDEX(Calc!$O$11:$O$130,SMALL(IF((G$12=Calc!$N$11:$N$130)*(Calc!$CH$11:$CH$130),ROW(Calc!$O$11:$O$130)-ROW(INDEX(Calc!$O$11:$O$130,1,1))+1),Calc!$CJ26)),"")} | I23: {=IFERROR(INDEX(Calc!$O$11:$O$130,SMALL(IF((I$12=Calc!$N$11:$N$130)*(Calc!$CH$11:$CH$130),ROW(Calc!$O$11:$O$130)-ROW(INDEX(Calc!$O$11:$O$130,1,1))+1),Calc!$CJ26)),"")} | K23: {=IFERROR(INDEX(Calc!$O$11:$O$130,SMALL(IF((K$12=Calc!$N$11:$N$130)*(Calc!$CH$11:$CH$130),ROW(Calc!$O$11:$O$130)-ROW(INDEX(Calc!$O$11:$O$130,1,1))+1),Calc!$CJ26)),"")} | M23: {=IFERROR(INDEX(Calc!$O$11:$O$130,SMALL(IF((M$12=Calc!$N$11:$N$130)*(Calc!$CH$11:$CH$130),ROW(Calc!$O$11:$O$130)-ROW(INDEX(Calc!$O$11:$O$130,1,1))+1),Calc!$CJ26)),"")} | O23: {=IFERROR(INDEX(Calc!$O$11:$O$130,SMALL(IF((O$12=Calc!$N$11:$N$130)*(Calc!$CH$11:$CH$130),ROW(Calc!$O$11:$O$130)-ROW(INDEX(Calc!$O$11:$O$130,1,1))+1),Calc!$CJ26)),"")}
C25: =IFERROR(IF(LEN(O12)=0,"",IF(MONTH(O12+1)=MONTH(O12),O12+1,"")),"") -> 45299 | E25: =IFERROR(IF(LEN(C25)=0,"",IF(MONTH(C25+1)=MONTH(C25),C25+1,"")),"") -> 45300 | G25: =IFERROR(IF(LEN(E25)=0,"",IF(MONTH(E25+1)=MONTH(E25),E25+1,"")),"") -> 45301 | I25: =IFERROR(IF(LEN(G25)=0,"",IF(MONTH(G25+1)=MONTH(G25),G25+1,"")),"") -> 45302 | K25: =IFERROR(IF(LEN(I25)=0,"",IF(MONTH(I25+1)=MONTH(I25),I25+1,"")),"") -> 45303 | M25: =IFERROR(IF(LEN(K25)=0,"",IF(MONTH(K25+1)=MONTH(K25),K25+1,"")),"") -> 45304 | O25: =IFERROR(IF(LEN(M25)=0,"",IF(MONTH(M25+1)=MONTH(M25),M25+1,"")),"") -> 45305
C27: {=IFERROR(INDEX(Calc!$O$11:$O$130,SMALL(IF((C$25=Calc!$N$11:$N$130)*(Calc!$CH$11:$CH$130),ROW(Calc!$O$11:$O$130)-ROW(INDEX(Calc!$O$11:$O$130,1,1))+1),Calc!$CJ17)),"")} | E27: {=IFERROR(INDEX(Calc!$O$11:$O$130,SMALL(IF((E$25=Calc!$N$11:$N$130)*(Calc!$CH$11:$CH$130),ROW(Calc!$O$11:$O$130)-ROW(INDEX(Calc!$O$11:$O$130,1,1))+1),Calc!$CJ17)),"")} | G27: {=IFERROR(INDEX(Calc!$O$11:$O$130,SMALL(IF((G$25=Calc!$N$11:$N$130)*(Calc!$CH$11:$CH$130),ROW(Calc!$O$11:$O$130)-ROW(INDEX(Calc!$O$11:$O$130,1,1))+1),Calc!$CJ17)),"")} | I27: {=IFERROR(INDEX(Calc!$O$11:$O$130,SMALL(IF((I$25=Calc!$N$11:$N$130)*(Calc!$CH$11:$CH$130),ROW(Calc!$O$11:$O$130)-ROW(INDEX(Calc!$O$11:$O$130,1,1))+1),Calc!$CJ17)),"")} | K27: {=IFERROR(INDEX(Calc!$O$11:$O$130,SMALL(IF((K$25=Calc!$N$11:$N$130)*(Calc!$CH$11:$CH$130),ROW(Calc!$O$11:$O$130)-ROW(INDEX(Calc!$O$11:$O$130,1,1))+1),Calc!$CJ17)),"")} | M27: {=IFERROR(INDEX(Calc!$O$11:$O$130,SMALL(IF((M$25=Calc!$N$11:$N$130)*(Calc!$CH$11:$CH$130),ROW(Calc!$O$11:$O$130)-ROW(INDEX(Calc!$O$11:$O$130,1,1))+1),Calc!$CJ17)),"")} | O27: {=IFERROR(INDEX(Calc!$O$11:$O$130,SMALL(IF((O$25=Calc!$N$11:$N$130)*(Calc!$CH$11:$CH$130),ROW(Calc!$O$11:$O$130)-ROW(INDEX(Calc!$O$11:$O$130,1,1))+1),Calc!$CJ17)),"")}
C28: {=IFERROR(INDEX(Calc!$O$11:$O$130,SMALL(IF((C$25=Calc!$N$11:$N$130)*(Calc!$CH$11:$CH$130),ROW(Calc!$O$11:$O$130)-ROW(INDEX(Calc!$O$11:$O$130,1,1))+1),Calc!$CJ18)),"")} | E28: {=IFERROR(INDEX(Calc!$O$11:$O$130,SMALL(IF((E$25=Calc!$N$11:$N$130)*(Calc!$CH$11:$CH$130),ROW(Calc!$O$11:$O$130)-ROW(INDEX(Calc!$O$11:$O$130,1,1))+1),Calc!$CJ18)),"")} | G28: {=IFERROR(INDEX(Calc!$O$11:$O$130,SMALL(IF((G$25=Calc!$N$11:$N$130)*(Calc!$CH$11:$CH$130),ROW(Calc!$O$11:$O$130)-ROW(INDEX(Calc!$O$11:$O$130,1,1))+1),Calc!$CJ18)),"")} | I28: {=IFERROR(INDEX(Calc!$O$11:$O$130,SMALL(IF((I$25=Calc!$N$11:$N$130)*(Calc!$CH$11:$CH$130),ROW(Calc!$O$11:$O$130)-ROW(INDEX(Calc!$O$11:$O$130,1,1))+1),Calc!$CJ18)),"")} | K28: {=IFERROR(INDEX(Calc!$O$11:$O$130,SMALL(IF((K$25=Calc!$N$11:$N$130)*(Calc!$CH$11:$CH$130),ROW(Calc!$O$11:$O$130)-ROW(INDEX(Calc!$O$11:$O$130,1,1))+1),Calc!$CJ18)),"")} | M28: {=IFERROR(INDEX(Calc!$O$11:$O$130,SMALL(IF((M$25=Calc!$N$11:$N$130)*(Calc!$CH$11:$CH$130),ROW(Calc!$O$11:$O$130)-ROW(INDEX(Calc!$O$11:$O$130,1,1))+1),Calc!$CJ18)),"")} | O28: {=IFERROR(INDEX(Calc!$O$11:$O$130,SMALL(IF((O$25=Calc!$N$11:$N$130)*(Calc!$CH$11:$CH$130),ROW(Calc!$O$11:$O$130)-ROW(INDEX(Calc!$O$11:$O$130,1,1))+1),Calc!$CJ18)),"")}
C29: {=IFERROR(INDEX(Calc!$O$11:$O$130,SMALL(IF((C$25=Calc!$N$11:$N$130)*(Calc!$CH$11:$CH$130),ROW(Calc!$O$11:$O$130)-ROW(INDEX(Calc!$O$11:$O$130,1,1))+1),Calc!$CJ19)),"")} | E29: {=IFERROR(INDEX(Calc!$O$11:$O$130,SMALL(IF((E$25=Calc!$N$11:$N$130)*(Calc!$CH$11:$CH$130),ROW(Calc!$O$11:$O$130)-ROW(INDEX(Calc!$O$11:$O$130,1,1))+1),Calc!$CJ19)),"")} | G29: {=IFERROR(INDEX(Calc!$O$11:$O$130,SMALL(IF((G$25=Calc!$N$11:$N$130)*(Calc!$CH$11:$CH$130),ROW(Calc!$O$11:$O$130)-ROW(INDEX(Calc!$O$11:$O$130,1,1))+1),Calc!$CJ19)),"")} | I29: {=IFERROR(INDEX(Calc!$O$11:$O$130,SMALL(IF((I$25=Calc!$N$11:$N$130)*(Calc!$CH$11:$CH$130),ROW(Calc!$O$11:$O$130)-ROW(INDEX(Calc!$O$11:$O$130,1,1))+1),Calc!$CJ19)),"")} | K29: {=IFERROR(INDEX(Calc!$O$11:$O$130,SMALL(IF((K$25=Calc!$N$11:$N$130)*(Calc!$CH$11:$CH$130),ROW(Calc!$O$11:$O$130)-ROW(INDEX(Calc!$O$11:$O$130,1,1))+1),Calc!$CJ19)),"")} | M29: {=IFERROR(INDEX(Calc!$O$11:$O$130,SMALL(IF((M$25=Calc!$N$11:$N$130)*(Calc!$CH$11:$CH$130),ROW(Calc!$O$11:$O$130)-ROW(INDEX(Calc!$O$11:$O$130,1,1))+1),Calc!$CJ19)),"")} | O29: {=IFERROR(INDEX(Calc!$O$11:$O$130,SMALL(IF((O$25=Calc!$N$11:$N$130)*(Calc!$CH$11:$CH$130),ROW(Calc!$O$11:$O$130)-ROW(INDEX(Calc!$O$11:$O$130,1,1))+1),Calc!$CJ19)),"")}
C30: {=IFERROR(INDEX(Calc!$O$11:$O$130,SMALL(IF((C$25=Calc!$N$11:$N$130)*(Calc!$CH$11:$CH$130),ROW(Calc!$O$11:$O$130)-ROW(INDEX(Calc!$O$11:$O$130,1,1))+1),Calc!$CJ20)),"")} | E30: {=IFERROR(INDEX(Calc!$O$11:$O$130,SMALL(IF((E$25=Calc!$N$11:$N$130)*(Calc!$CH$11:$CH$130),ROW(Calc!$O$11:$O$130)-ROW(INDEX(Calc!$O$11:$O$130,1,1))+1),Calc!$CJ20)),"")} | G30: {=IFERROR(INDEX(Calc!$O$11:$O$130,SMALL(IF((G$25=Calc!$N$11:$N$130)*(Calc!$CH$11:$CH$130),ROW(Calc!$O$11:$O$130)-ROW(INDEX(Calc!$O$11:$O$130,1,1))+1),Calc!$CJ20)),"")} | I30: {=IFERROR(INDEX(Calc!$O$11:$O$130,SMALL(IF((I$25=Calc!$N$11:$N$130)*(Calc!$CH$11:$CH$130),ROW(Calc!$O$11:$O$130)-ROW(INDEX(Calc!$O$11:$O$130,1,1))+1),Calc!$CJ20)),"")} | K30: {=IFERROR(INDEX(Calc!$O$11:$O$130,SMALL(IF((K$25=Calc!$N$11:$N$130)*(Calc!$CH$11:$CH$130),ROW(Calc!$O$11:$O$130)-ROW(INDEX(Calc!$O$11:$O$130,1,1))+1),Calc!$CJ20)),"")} | M30: {=IFERROR(INDEX(Calc!$O$11:$O$130,SMALL(IF((M$25=Calc!$N$11:$N$130)*(Calc!$CH$11:$CH$130),ROW(Calc!$O$11:$O$130)-ROW(INDEX(Calc!$O$11:$O$130,1,1))+1),Calc!$CJ20)),"")} | O30: {=IFERROR(INDEX(Calc!$O$11:$O$130,SMALL(IF((O$25=Calc!$N$11:$N$130)*(Calc!$CH$11:$CH$130),ROW(Calc!$O$11:$O$130)-ROW(INDEX(Calc!$O$11:$O$130,1,1))+1),Calc!$CJ20)),"")}
C31: {=IFERROR(INDEX(Calc!$O$11:$O$130,SMALL(IF((C$25=Calc!$N$11:$N$130)*(Calc!$CH$11:$CH$130),ROW(Calc!$O$11:$O$130)-ROW(INDEX(Calc!$O$11:$O$130,1,1))+1),Calc!$CJ21)),"")} | E31: {=IFERROR(INDEX(Calc!$O$11:$O$130,SMALL(IF((E$25=Calc!$N$11:$N$130)*(Calc!$CH$11:$CH$130),ROW(Calc!$O$11:$O$130)-ROW(INDEX(Calc!$O$11:$O$130,1,1))+1),Calc!$CJ21)),"")} | G31: {=IFERROR(INDEX(Calc!$O$11:$O$130,SMALL(IF((G$25=Calc!$N$11:$N$130)*(Calc!$CH$11:$CH$130),ROW(Calc!$O$11:$O$130)-ROW(INDEX(Calc!$O$11:$O$130,1,1))+1),Calc!$CJ21)),"")} | I31: {=IFERROR(INDEX(Calc!$O$11:$O$130,SMALL(IF((I$25=Calc!$N$11:$N$130)*(Calc!$CH$11:$CH$130),ROW(Calc!$O$11:$O$130)-ROW(INDEX(Calc!$O$11:$O$130,1,1))+1),Calc!$CJ21)),"")} | K31: {=IFERROR(INDEX(Calc!$O$11:$O$130,SMALL(IF((K$25=Calc!$N$11:$N$130)*(Calc!$CH$11:$CH$130),ROW(Calc!$O$11:$O$130)-ROW(INDEX(Calc!$O$11:$O$130,1,1))+1),Calc!$CJ21)),"")} | M31: {=IFERROR(INDEX(Calc!$O$11:$O$130,SMALL(IF((M$25=Calc!$N$11:$N$130)*(Calc!$CH$11:$CH$130),ROW(Calc!$O$11:$O$130)-ROW(INDEX(Calc!$O$11:$O$130,1,1))+1),Calc!$CJ21)),"")} | O31: {=IFERROR(INDEX(Calc!$O$11:$O$130,SMALL(IF((O$25=Calc!$N$11:$N$130)*(Calc!$CH$11:$CH$130),ROW(Calc!$O$11:$O$130)-ROW(INDEX(Calc!$O$11:$O$130,1,1))+1),Calc!$CJ21)),"")}
C32: {=IFERROR(INDEX(Calc!$O$11:$O$130,SMALL(IF((C$25=Calc!$N$11:$N$130)*(Calc!$CH$11:$CH$130),ROW(Calc!$O$11:$O$130)-ROW(INDEX(Calc!$O$11:$O$130,1,1))+1),Calc!$CJ22)),"")} | E32: {=IFERROR(INDEX(Calc!$O$11:$O$130,SMALL(IF((E$25=Calc!$N$11:$N$130)*(Calc!$CH$11:$CH$130),ROW(Calc!$O$11:$O$130)-ROW(INDEX(Calc!$O$11:$O$130,1,1))+1),Calc!$CJ22)),"")} | G32: {=IFERROR(INDEX(Calc!$O$11:$O$130,SMALL(IF((G$25=Calc!$N$11:$N$130)*(Calc!$CH$11:$CH$130),ROW(Calc!$O$11:$O$130)-ROW(INDEX(Calc!$O$11:$O$130,1,1))+1),Calc!$CJ22)),"")} | I32: {=IFERROR(INDEX(Calc!$O$11:$O$130,SMALL(IF((I$25=Calc!$N$11:$N$130)*(Calc!$CH$11:$CH$130),ROW(Calc!$O$11:$O$130)-ROW(INDEX(Calc!$O$11:$O$130,1,1))+1),Calc!$CJ22)),"")} | K32: {=IFERROR(INDEX(Calc!$O$11:$O$130,SMALL(IF((K$25=Calc!$N$11:$N$130)*(Calc!$CH$11:$CH$130),ROW(Calc!$O$11:$O$130)-ROW(INDEX(Calc!$O$11:$O$130,1,1))+1),Calc!$CJ22)),"")} | M32: {=IFERROR(INDEX(Calc!$O$11:$O$130,SMALL(IF((M$25=Calc!$N$11:$N$130)*(Calc!$CH$11:$CH$130),ROW(Calc!$O$11:$O$130)-ROW(INDEX(Calc!$O$11:$O$130,1,1))+1),Calc!$CJ22)),"")} | O32: {=IFERROR(INDEX(Calc!$O$11:$O$130,SMALL(IF((O$25=Calc!$N$11:$N$130)*(Calc!$CH$11:$CH$130),ROW(Calc!$O$11:$O$130)-ROW(INDEX(Calc!$O$11:$O$130,1,1))+1),Calc!$CJ22)),"")}
C33: {=IFERROR(INDEX(Calc!$O$11:$O$130,SMALL(IF((C$25=Calc!$N$11:$N$130)*(Calc!$CH$11:$CH$130),ROW(Calc!$O$11:$O$130)-ROW(INDEX(Calc!$O$11:$O$130,1,1))+1),Calc!$CJ23)),"")} | E33: {=IFERROR(INDEX(Calc!$O$11:$O$130,SMALL(IF((E$25=Calc!$N$11:$N$130)*(Calc!$CH$11:$CH$130),ROW(Calc!$O$11:$O$130)-ROW(INDEX(Calc!$O$11:$O$130,1,1))+1),Calc!$CJ23)),"")} | G33: {=IFERROR(INDEX(Calc!$O$11:$O$130,SMALL(IF((G$25=Calc!$N$11:$N$130)*(Calc!$CH$11:$CH$130),ROW(Calc!$O$11:$O$130)-ROW(INDEX(Calc!$O$11:$O$130,1,1))+1),Calc!$CJ23)),"")} | I33: {=IFERROR(INDEX(Calc!$O$11:$O$130,SMALL(IF((I$25=Calc!$N$11:$N$130)*(Calc!$CH$11:$CH$130),ROW(Calc!$O$11:$O$130)-ROW(INDEX(Calc!$O$11:$O$130,1,1))+1),Calc!$CJ23)),"")} | K33: {=IFERROR(INDEX(Calc!$O$11:$O$130,SMALL(IF((K$25=Calc!$N$11:$N$130)*(Calc!$CH$11:$CH$130),ROW(Calc!$O$11:$O$130)-ROW(INDEX(Calc!$O$11:$O$130,1,1))+1),Calc!$CJ23)),"")} | M33: {=IFERROR(INDEX(Calc!$O$11:$O$130,SMALL(IF((M$25=Calc!$N$11:$N$130)*(Calc!$CH$11:$CH$130),ROW(Calc!$O$11:$O$130)-ROW(INDEX(Calc!$O$11:$O$130,1,1))+1),Calc!$CJ23)),"")} | O33: {=IFERROR(INDEX(Calc!$O$11:$O$130,SMALL(IF((O$25=Calc!$N$11:$N$130)*(Calc!$CH$11:$CH$130),ROW(Calc!$O$11:$O$130)-ROW(INDEX(Calc!$O$11:$O$130,1,1))+1),Calc!$CJ23)),"")}
C34: {=IFERROR(INDEX(Calc!$O$11:$O$130,SMALL(IF((C$25=Calc!$N$11:$N$130)*(Calc!$CH$11:$CH$130),ROW(Calc!$O$11:$O$130)-ROW(INDEX(Calc!$O$11:$O$130,1,1))+1),Calc!$CJ24)),"")} | E34: {=IFERROR(INDEX(Calc!$O$11:$O$130,SMALL(IF((E$25=Calc!$N$11:$N$130)*(Calc!$CH$11:$CH$130),ROW(Calc!$O$11:$O$130)-ROW(INDEX(Calc!$O$11:$O$130,1,1))+1),Calc!$CJ24)),"")} | G34: {=IFERROR(INDEX(Calc!$O$11:$O$130,SMALL(IF((G$25=Calc!$N$11:$N$130)*(Calc!$CH$11:$CH$130),ROW(Calc!$O$11:$O$130)-ROW(INDEX(Calc!$O$11:$O$130,1,1))+1),Calc!$CJ24)),"")} | I34: {=IFERROR(INDEX(Calc!$O$11:$O$130,SMALL(IF((I$25=Calc!$N$11:$N$130)*(Calc!$CH$11:$CH$130),ROW(Calc!$O$11:$O$130)-ROW(INDEX(Calc!$O$11:$O$130,1,1))+1),Calc!$CJ24)),"")} | K34: {=IFERROR(INDEX(Calc!$O$11:$O$130,SMALL(IF((K$25=Calc!$N$11:$N$130)*(Calc!$CH$11:$CH$130),ROW(Calc!$O$11:$O$130)-ROW(INDEX(Calc!$O$11:$O$130,1,1))+1),Calc!$CJ24)),"")} | M34: {=IFERROR(INDEX(Calc!$O$11:$O$130,SMALL(IF((M$25=Calc!$N$11:$N$130)*(Calc!$CH$11:$CH$130),ROW(Calc!$O$11:$O$130)-ROW(INDEX(Calc!$O$11:$O$130,1,1))+1),Calc!$CJ24)),"")} | O34: {=IFERROR(INDEX(Calc!$O$11:$O$130,SMALL(IF((O$25=Calc!$N$11:$N$130)*(Calc!$CH$11:$CH$130),ROW(Calc!$O$11:$O$130)-ROW(INDEX(Calc!$O$11:$O$130,1,1))+1),Calc!$CJ24)),"")}
C35: {=IFERROR(INDEX(Calc!$O$11:$O$130,SMALL(IF((C$25=Calc!$N$11:$N$130)*(Calc!$CH$11:$CH$130),ROW(Calc!$O$11:$O$130)-ROW(INDEX(Calc!$O$11:$O$130,1,1))+1),Calc!$CJ25)),"")} | E35: {=IFERROR(INDEX(Calc!$O$11:$O$130,SMALL(IF((E$25=Calc!$N$11:$N$130)*(Calc!$CH$11:$CH$130),ROW(Calc!$O$11:$O$130)-ROW(INDEX(Calc!$O$11:$O$130,1,1))+1),Calc!$CJ25)),"")} | G35: {=IFERROR(INDEX(Calc!$O$11:$O$130,SMALL(IF((G$25=Calc!$N$11:$N$130)*(Calc!$CH$11:$CH$130),ROW(Calc!$O$11:$O$130)-ROW(INDEX(Calc!$O$11:$O$130,1,1))+1),Calc!$CJ25)),"")} | I35: {=IFERROR(INDEX(Calc!$O$11:$O$130,SMALL(IF((I$25=Calc!$N$11:$N$130)*(Calc!$CH$11:$CH$130),ROW(Calc!$O$11:$O$130)-ROW(INDEX(Calc!$O$11:$O$130,1,1))+1),Calc!$CJ25)),"")} | K35: {=IFERROR(INDEX(Calc!$O$11:$O$130,SMALL(IF((K$25=Calc!$N$11:$N$130)*(Calc!$CH$11:$CH$130),ROW(Calc!$O$11:$O$130)-ROW(INDEX(Calc!$O$11:$O$130,1,1))+1),Calc!$CJ25)),"")} | M35: {=IFERROR(INDEX(Calc!$O$11:$O$130,SMALL(IF((M$25=Calc!$N$11:$N$130)*(Calc!$CH$11:$CH$130),ROW(Calc!$O$11:$O$130)-ROW(INDEX(Calc!$O$11:$O$130,1,1))+1),Calc!$CJ25)),"")} | O35: {=IFERROR(INDEX(Calc!$O$11:$O$130,SMALL(IF((O$25=Calc!$N$11:$N$130)*(Calc!$CH$11:$CH$130),ROW(Calc!$O$11:$O$130)-ROW(INDEX(Calc!$O$11:$O$130,1,1))+1),Calc!$CJ25)),"")}
C36: {=IFERROR(INDEX(Calc!$O$11:$O$130,SMALL(IF((C$25=Calc!$N$11:$N$130)*(Calc!$CH$11:$CH$130),ROW(Calc!$O$11:$O$130)-ROW(INDEX(Calc!$O$11:$O$130,1,1))+1),Calc!$CJ26)),"")} | E36: {=IFERROR(INDEX(Calc!$O$11:$O$130,SMALL(IF((E$25=Calc!$N$11:$N$130)*(Calc!$CH$11:$CH$130),ROW(Calc!$O$11:$O$130)-ROW(INDEX(Calc!$O$11:$O$130,1,1))+1),Calc!$CJ26)),"")} | G36: {=IFERROR(INDEX(Calc!$O$11:$O$130,SMALL(IF((G$25=Calc!$N$11:$N$130)*(Calc!$CH$11:$CH$130),ROW(Calc!$O$11:$O$130)-ROW(INDEX(Calc!$O$11:$O$130,1,1))+1),Calc!$CJ26)),"")} | I36: {=IFERROR(INDEX(Calc!$O$11:$O$130,SMALL(IF((I$25=Calc!$N$11:$N$130)*(Calc!$CH$11:$CH$130),ROW(Calc!$O$11:$O$130)-ROW(INDEX(Calc!$O$11:$O$130,1,1))+1),Calc!$CJ26)),"")} | K36: {=IFERROR(INDEX(Calc!$O$11:$O$130,SMALL(IF((K$25=Calc!$N$11:$N$130)*(Calc!$CH$11:$CH$130),ROW(Calc!$O$11:$O$130)-ROW(INDEX(Calc!$O$11:$O$130,1,1))+1),Calc!$CJ26)),"")} | M36: {=IFERROR(INDEX(Calc!$O$11:$O$130,SMALL(IF((M$25=Calc!$N$11:$N$130)*(Calc!$CH$11:$CH$130),ROW(Calc!$O$11:$O$130)-ROW(INDEX(Calc!$O$11:$O$130,1,1))+1),Calc!$CJ26)),"")} | O36: {=IFERROR(INDEX(Calc!$O$11:$O$130,SMALL(IF((O$25=Calc!$N$11:$N$130)*(Calc!$CH$11:$CH$130),ROW(Calc!$O$11:$O$130)-ROW(INDEX(Calc!$O$11:$O$130,1,1))+1),Calc!$CJ26)),"")}
C38: =IFERROR(IF(LEN(O25)=0,"",IF(MONTH(O25+1)=MONTH(O25),O25+1,"")),"") -> 45306 | E38: =IFERROR(IF(LEN(C38)=0,"",IF(MONTH(C38+1)=MONTH(C38),C38+1,"")),"") -> 45307 | G38: =IFERROR(IF(LEN(E38)=0,"",IF(MONTH(E38+1)=MONTH(E38),E38+1,"")),"") -> 45308 | I38: =IFERROR(IF(LEN(G38)=0,"",IF(MONTH(G38+1)=MONTH(G38),G38+1,"")),"") -> 45309 | K38: =IFERROR(IF(LEN(I38)=0,"",IF(MONTH(I38+1)=MONTH(I38),I38+1,"")),"") -> 45310 | M38: =IFERROR(IF(LEN(K38)=0,"",IF(MONTH(K38+1)=MONTH(K38),K38+1,"")),"") -> 45311 | O38: =IFERROR(IF(LEN(M38)=0,"",IF(MONTH(M38+1)=MONTH(M38),M38+1,"")),"") -> 45312
C40: {=IFERROR(INDEX(Calc!$O$11:$O$130,SMALL(IF((C$38=Calc!$N$11:$N$130)*(Calc!$CH$11:$CH$130),ROW(Calc!$O$11:$O$130)-ROW(INDEX(Calc!$O$11:$O$130,1,1))+1),Calc!$CJ17)),"")} -> Subscriptions - $20 | E40: {=IFERROR(INDEX(Calc!$O$11:$O$130,SMALL(IF((E$38=Calc!$N$11:$N$130)*(Calc!$CH$11:$CH$130),ROW(Calc!$O$11:$O$130)-ROW(INDEX(Calc!$O$11:$O$130,1,1))+1),Calc!$CJ17)),"")} | G40: {=IFERROR(INDEX(Calc!$O$11:$O$130,SMALL(IF((G$38=Calc!$N$11:$N$130)*(Calc!$CH$11:$CH$130),ROW(Calc!$O$11:$O$130)-ROW(INDEX(Calc!$O$11:$O$130,1,1))+1),Calc!$CJ17)),"")} | I40: {=IFERROR(INDEX(Calc!$O$11:$O$130,SMALL(IF((I$38=Calc!$N$11:$N$130)*(Calc!$CH$11:$CH$130),ROW(Calc!$O$11:$O$130)-ROW(INDEX(Calc!$O$11:$O$130,1,1))+1),Calc!$CJ17)),"")} | K40: {=IFERROR(INDEX(Calc!$O$11:$O$130,SMALL(IF((K$38=Calc!$N$11:$N$130)*(Calc!$CH$11:$CH$130),ROW(Calc!$O$11:$O$130)-ROW(INDEX(Calc!$O$11:$O$130,1,1))+1),Calc!$CJ17)),"")} | M40: {=IFERROR(INDEX(Calc!$O$11:$O$130,SMALL(IF((M$38=Calc!$N$11:$N$130)*(Calc!$CH$11:$CH$130),ROW(Calc!$O$11:$O$130)-ROW(INDEX(Calc!$O$11:$O$130,1,1))+1),Calc!$CJ17)),"")} | O40: {=IFERROR(INDEX(Calc!$O$11:$O$130,SMALL(IF((O$38=Calc!$N$11:$N$130)*(Calc!$CH$11:$CH$130),ROW(Calc!$O$11:$O$130)-ROW(INDEX(Calc!$O$11:$O$130,1,1))+1),Calc!$CJ17)),"")}
C41: {=IFERROR(INDEX(Calc!$O$11:$O$130,SMALL(IF((C$38=Calc!$N$11:$N$130)*(Calc!$CH$11:$CH$130),ROW(Calc!$O$11:$O$130)-ROW(INDEX(Calc!$O$11:$O$130,1,1))+1),Calc!$CJ18)),"")} -> Subscriptions - $10 | E41: {=IFERROR(INDEX(Calc!$O$11:$O$130,SMALL(IF((E$38=Calc!$N$11:$N$130)*(Calc!$CH$11:$CH$130),ROW(Calc!$O$11:$O$130)-ROW(INDEX(Calc!$O$11:$O$130,1,1))+1),Calc!$CJ18)),"")} | G41: {=IFERROR(INDEX(Calc!$O$11:$O$130,SMALL(IF((G$38=Calc!$N$11:$N$130)*(Calc!$CH$11:$CH$130),ROW(Calc!$O$11:$O$130)-ROW(INDEX(Calc!$O$11:$O$130,1,1))+1),Calc!$CJ18)),"")} | I41: {=IFERROR(INDEX(Calc!$O$11:$O$130,SMALL(IF((I$38=Calc!$N$11:$N$130)*(Calc!$CH$11:$CH$130),ROW(Calc!$O$11:$O$130)-ROW(INDEX(Calc!$O$11:$O$130,1,1))+1),Calc!$CJ18)),"")} | K41: {=IFERROR(INDEX(Calc!$O$11:$O$130,SMALL(IF((K$38=Calc!$N$11:$N$130)*(Calc!$CH$11:$CH$130),ROW(Calc!$O$11:$O$130)-ROW(INDEX(Calc!$O$11:$O$130,1,1))+1),Calc!$CJ18)),"")} | M41: {=IFERROR(INDEX(Calc!$O$11:$O$130,SMALL(IF((M$38=Calc!$N$11:$N$130)*(Calc!$CH$11:$CH$130),ROW(Calc!$O$11:$O$130)-ROW(INDEX(Calc!$O$11:$O$130,1,1))+1),Calc!$CJ18)),"")} | O41: {=IFERROR(INDEX(Calc!$O$11:$O$130,SMALL(IF((O$38=Calc!$N$11:$N$130)*(Calc!$CH$11:$CH$130),ROW(Calc!$O$11:$O$130)-ROW(INDEX(Calc!$O$11:$O$130,1,1))+1),Calc!$CJ18)),"")}
C42: {=IFERROR(INDEX(Calc!$O$11:$O$130,SMALL(IF((C$38=Calc!$N$11:$N$130)*(Calc!$CH$11:$CH$130),ROW(Calc!$O$11:$O$130)-ROW(INDEX(Calc!$O$11:$O$130,1,1))+1),Calc!$CJ19)),"")} | E42: {=IFERROR(INDEX(Calc!$O$11:$O$130,SMALL(IF((E$38=Calc!$N$11:$N$130)*(Calc!$CH$11:$CH$130),ROW(Calc!$O$11:$O$130)-ROW(INDEX(Calc!$O$11:$O$130,1,1))+1),Calc!$CJ19)),"")} | G42: {=IFERROR(INDEX(Calc!$O$11:$O$130,SMALL(IF((G$38=Calc!$N$11:$N$130)*(Calc!$CH$11:$CH$130),ROW(Calc!$O$11:$O$130)-ROW(INDEX(Calc!$O$11:$O$130,1,1))+1),Calc!$CJ19)),"")} | I42: {=IFERROR(INDEX(Calc!$O$11:$O$130,SMALL(IF((I$38=Calc!$N$11:$N$130)*(Calc!$CH$11:$CH$130),ROW(Calc!$O$11:$O$130)-ROW(INDEX(Calc!$O$11:$O$130,1,1))+1),Calc!$CJ19)),"")} | K42: {=IFERROR(INDEX(Calc!$O$11:$O$130,SMALL(IF((K$38=Calc!$N$11:$N$130)*(Calc!$CH$11:$CH$130),ROW(Calc!$O$11:$O$130)-ROW(INDEX(Calc!$O$11:$O$130,1,1))+1),Calc!$CJ19)),"")} | M42: {=IFERROR(INDEX(Calc!$O$11:$O$130,SMALL(IF((M$38=Calc!$N$11:$N$130)*(Calc!$CH$11:$CH$130),ROW(Calc!$O$11:$O$130)-ROW(INDEX(Calc!$O$11:$O$130,1,1))+1),Calc!$CJ19)),"")} | O42: {=IFERROR(INDEX(Calc!$O$11:$O$130,SMALL(IF((O$38=Calc!$N$11:$N$130)*(Calc!$CH$11:$CH$130),ROW(Calc!$O$11:$O$130)-ROW(INDEX(Calc!$O$11:$O$130,1,1))+1),Calc!$CJ19)),"")}
C43: {=IFERROR(INDEX(Calc!$O$11:$O$130,SMALL(IF((C$38=Calc!$N$11:$N$130)*(Calc!$CH$11:$CH$130),ROW(Calc!$O$11:$O$130)-ROW(INDEX(Calc!$O$11:$O$130,1,1))+1),Calc!$CJ20)),"")} | E43: {=IFERROR(INDEX(Calc!$O$11:$O$130,SMALL(IF((E$38=Calc!$N$11:$N$130)*(Calc!$CH$11:$CH$130),ROW(Calc!$O$11:$O$130)-ROW(INDEX(Calc!$O$11:$O$130,1,1))+1),Calc!$CJ20)),"")} | G43: {=IFERROR(INDEX(Calc!$O$11:$O$130,SMALL(IF((G$38=Calc!$N$11:$N$130)*(Calc!$CH$11:$CH$130),ROW(Calc!$O$11:$O$130)-ROW(INDEX(Calc!$O$11:$O$130,1,1))+1),Calc!$CJ20)),"")} | I43: {=IFERROR(INDEX(Calc!$O$11:$O$130,SMALL(IF((I$38=Calc!$N$11:$N$130)*(Calc!$CH$11:$CH$130),ROW(Calc!$O$11:$O$130)-ROW(INDEX(Calc!$O$11:$O$130,1,1))+1),Calc!$CJ20)),"")} | K43: {=IFERROR(INDEX(Calc!$O$11:$O$130,SMALL(IF((K$38=Calc!$N$11:$N$130)*(Calc!$CH$11:$CH$130),ROW(Calc!$O$11:$O$130)-ROW(INDEX(Calc!$O$11:$O$130,1,1))+1),Calc!$CJ20)),"")} | M43: {=IFERROR(INDEX(Calc!$O$11:$O$130,SMALL(IF((M$38=Calc!$N$11:$N$130)*(Calc!$CH$11:$CH$130),ROW(Calc!$O$11:$O$130)-ROW(INDEX(Calc!$O$11:$O$130,1,1))+1),Calc!$CJ20)),"")} | O43: {=IFERROR(INDEX(Calc!$O$11:$O$130,SMALL(IF((O$38=Calc!$N$11:$N$130)*(Calc!$CH$11:$CH$130),ROW(Calc!$O$11:$O$130)-ROW(INDEX(Calc!$O$11:$O$130,1,1))+1),Calc!$CJ20)),"")}
C44: {=IFERROR(INDEX(Calc!$O$11:$O$130,SMALL(IF((C$38=Calc!$N$11:$N$130)*(Calc!$CH$11:$CH$130),ROW(Calc!$O$11:$O$130)-ROW(INDEX(Calc!$O$11:$O$130,1,1))+1),Calc!$CJ21)),"")} | E44: {=IFERROR(INDEX(Calc!$O$11:$O$130,SMALL(IF((E$38=Calc!$N$11:$N$130)*(Calc!$CH$11:$CH$130),ROW(Calc!$O$11:$O$130)-ROW(INDEX(Calc!$O$11:$O$130,1,1))+1),Calc!$CJ21)),"")} | G44: {=IFERROR(INDEX(Calc!$O$11:$O$130,SMALL(IF((G$38=Calc!$N$11:$N$130)*(Calc!$CH$11:$CH$130),ROW(Calc!$O$11:$O$130)-ROW(INDEX(Calc!$O$11:$O$130,1,1))+1),Calc!$CJ21)),"")} | I44: {=IFERROR(INDEX(Calc!$O$11:$O$130,SMALL(IF((I$38=Calc!$N$11:$N$130)*(Calc!$CH$11:$CH$130),ROW(Calc!$O$11:$O$130)-ROW(INDEX(Calc!$O$11:$O$130,1,1))+1),Calc!$CJ21)),"")} | K44: {=IFERROR(INDEX(Calc!$O$11:$O$130,SMALL(IF((K$38=Calc!$N$11:$N$130)*(Calc!$CH$11:$CH$130),ROW(Calc!$O$11:$O$130)-ROW(INDEX(Calc!$O$11:$O$130,1,1))+1),Calc!$CJ21)),"")} | M44: {=IFERROR(INDEX(Calc!$O$11:$O$130,SMALL(IF((M$38=Calc!$N$11:$N$130)*(Calc!$CH$11:$CH$130),ROW(Calc!$O$11:$O$130)-ROW(INDEX(Calc!$O$11:$O$130,1,1))+1),Calc!$CJ21)),"")} | O44: {=IFERROR(INDEX(Calc!$O$11:$O$130,SMALL(IF((O$38=Calc!$N$11:$N$130)*(Calc!$CH$11:$CH$130),ROW(Calc!$O$11:$O$130)-ROW(INDEX(Calc!$O$11:$O$130,1,1))+1),Calc!$CJ21)),"")}
C45: {=IFERROR(INDEX(Calc!$O$11:$O$130,SMALL(IF((C$38=Calc!$N$11:$N$130)*(Calc!$CH$11:$CH$130),ROW(Calc!$O$11:$O$130)-ROW(INDEX(Calc!$O$11:$O$130,1,1))+1),Calc!$CJ22)),"")} | E45: {=IFERROR(INDEX(Calc!$O$11:$O$130,SMALL(IF((E$38=Calc!$N$11:$N$130)*(Calc!$CH$11:$CH$130),ROW(Calc!$O$11:$O$130)-ROW(INDEX(Calc!$O$11:$O$130,1,1))+1),Calc!$CJ22)),"")} | G45: {=IFERROR(INDEX(Calc!$O$11:$O$130,SMALL(IF((G$38=Calc!$N$11:$N$130)*(Calc!$CH$11:$CH$130),ROW(Calc!$O$11:$O$130)-ROW(INDEX(Calc!$O$11:$O$130,1,1))+1),Calc!$CJ22)),"")} | I45: {=IFERROR(INDEX(Calc!$O$11:$O$130,SMALL(IF((I$38=Calc!$N$11:$N$130)*(Calc!$CH$11:$CH$130),ROW(Calc!$O$11:$O$130)-ROW(INDEX(Calc!$O$11:$O$130,1,1))+1),Calc!$CJ22)),"")} | K45: {=IFERROR(INDEX(Calc!$O$11:$O$130,SMALL(IF((K$38=Calc!$N$11:$N$130)*(Calc!$CH$11:$CH$130),ROW(Calc!$O$11:$O$130)-ROW(INDEX(Calc!$O$11:$O$130,1,1))+1),Calc!$CJ22)),"")} | M45: {=IFERROR(INDEX(Calc!$O$11:$O$130,SMALL(IF((M$38=Calc!$N$11:$N$130)*(Calc!$CH$11:$CH$130),ROW(Calc!$O$11:$O$130)-ROW(INDEX(Calc!$O$11:$O$130,1,1))+1),Calc!$CJ22)),"")} | O45: {=IFERROR(INDEX(Calc!$O$11:$O$130,SMALL(IF((O$38=Calc!$N$11:$N$130)*(Calc!$CH$11:$CH$130),ROW(Calc!$O$11:$O$130)-ROW(INDEX(Calc!$O$11:$O$130,1,1))+1),Calc!$CJ22)),"")}
C46: {=IFERROR(INDEX(Calc!$O$11:$O$130,SMALL(IF((C$38=Calc!$N$11:$N$130)*(Calc!$CH$11:$CH$130),ROW(Calc!$O$11:$O$130)-ROW(INDEX(Calc!$O$11:$O$130,1,1))+1),Calc!$CJ23)),"")} | E46: {=IFERROR(INDEX(Calc!$O$11:$O$130,SMALL(IF((E$38=Calc!$N$11:$N$130)*(Calc!$CH$11:$CH$130),ROW(Calc!$O$11:$O$130)-ROW(INDEX(Calc!$O$11:$O$130,1,1))+1),Calc!$CJ23)),"")} | G46: {=IFERROR(INDEX(Calc!$O$11:$O$130,SMALL(IF((G$38=Calc!$N$11:$N$130)*(Calc!$CH$11:$CH$130),ROW(Calc!$O$11:$O$130)-ROW(INDEX(Calc!$O$11:$O$130,1,1))+1),Calc!$CJ23)),"")} | I46: {=IFERROR(INDEX(Calc!$O$11:$O$130,SMALL(IF((I$38=Calc!$N$11:$N$130)*(Calc!$CH$11:$CH$130),ROW(Calc!$O$11:$O$130)-ROW(INDEX(Calc!$O$11:$O$130,1,1))+1),Calc!$CJ23)),"")} | K46: {=IFERROR(INDEX(Calc!$O$11:$O$130,SMALL(IF((K$38=Calc!$N$11:$N$130)*(Calc!$CH$11:$CH$130),ROW(Calc!$O$11:$O$130)-ROW(INDEX(Calc!$O$11:$O$130,1,1))+1),Calc!$CJ23)),"")} | M46: {=IFERROR(INDEX(Calc!$O$11:$O$130,SMALL(IF((M$38=Calc!$N$11:$N$130)*(Calc!$CH$11:$CH$130),ROW(Calc!$O$11:$O$130)-ROW(INDEX(Calc!$O$11:$O$130,1,1))+1),Calc!$CJ23)),"")} | O46: {=IFERROR(INDEX(Calc!$O$11:$O$130,SMALL(IF((O$38=Calc!$N$11:$N$130)*(Calc!$CH$11:$CH$130),ROW(Calc!$O$11:$O$130)-ROW(INDEX(Calc!$O$11:$O$130,1,1))+1),Calc!$CJ23)),"")}
C47: {=IFERROR(INDEX(Calc!$O$11:$O$130,SMALL(IF((C$38=Calc!$N$11:$N$130)*(Calc!$CH$11:$CH$130),ROW(Calc!$O$11:$O$130)-ROW(INDEX(Calc!$O$11:$O$130,1,1))+1),Calc!$CJ24)),"")} | E47: {=IFERROR(INDEX(Calc!$O$11:$O$130,SMALL(IF((E$38=Calc!$N$11:$N$130)*(Calc!$CH$11:$CH$130),ROW(Calc!$O$11:$O$130)-ROW(INDEX(Calc!$O$11:$O$130,1,1))+1),Calc!$CJ24)),"")} | G47: {=IFERROR(INDEX(Calc!$O$11:$O$130,SMALL(IF((G$38=Calc!$N$11:$N$130)*(Calc!$CH$11:$CH$130),ROW(Calc!$O$11:$O$130)-ROW(INDEX(Calc!$O$11:$O$130,1,1))+1),Calc!$CJ24)),"")} | I47: {=IFERROR(INDEX(Calc!$O$11:$O$130,SMALL(IF((I$38=Calc!$N$11:$N$130)*(Calc!$CH$11:$CH$130),ROW(Calc!$O$11:$O$130)-ROW(INDEX(Calc!$O$11:$O$130,1,1))+1),Calc!$CJ24)),"")} | K47: {=IFERROR(INDEX(Calc!$O$11:$O$130,SMALL(IF((K$38=Calc!$N$11:$N$130)*(Calc!$CH$11:$CH$130),ROW(Calc!$O$11:$O$130)-ROW(INDEX(Calc!$O$11:$O$130,1,1))+1),Calc!$CJ24)),"")} | M47: {=IFERROR(INDEX(Calc!$O$11:$O$130,SMALL(IF((M$38=Calc!$N$11:$N$130)*(Calc!$CH$11:$CH$130),ROW(Calc!$O$11:$O$130)-ROW(INDEX(Calc!$O$11:$O$130,1,1))+1),Calc!$CJ24)),"")} | O47: {=IFERROR(INDEX(Calc!$O$11:$O$130,SMALL(IF((O$38=Calc!$N$11:$N$130)*(Calc!$CH$11:$CH$130),ROW(Calc!$O$11:$O$130)-ROW(INDEX(Calc!$O$11:$O$130,1,1))+1),Calc!$CJ24)),"")}
C48: {=IFERROR(INDEX(Calc!$O$11:$O$130,SMALL(IF((C$38=Calc!$N$11:$N$130)*(Calc!$CH$11:$CH$130),ROW(Calc!$O$11:$O$130)-ROW(INDEX(Calc!$O$11:$O$130,1,1))+1),Calc!$CJ25)),"")} | E48: {=IFERROR(INDEX(Calc!$O$11:$O$130,SMALL(IF((E$38=Calc!$N$11:$N$130)*(Calc!$CH$11:$CH$130),ROW(Calc!$O$11:$O$130)-ROW(INDEX(Calc!$O$11:$O$130,1,1))+1),Calc!$CJ25)),"")} | G48: {=IFERROR(INDEX(Calc!$O$11:$O$130,SMALL(IF((G$38=Calc!$N$11:$N$130)*(Calc!$CH$11:$CH$130),ROW(Calc!$O$11:$O$130)-ROW(INDEX(Calc!$O$11:$O$130,1,1))+1),Calc!$CJ25)),"")} | I48: {=IFERROR(INDEX(Calc!$O$11:$O$130,SMALL(IF((I$38=Calc!$N$11:$N$130)*(Calc!$CH$11:$CH$130),ROW(Calc!$O$11:$O$130)-ROW(INDEX(Calc!$O$11:$O$130,1,1))+1),Calc!$CJ25)),"")} | K48: {=IFERROR(INDEX(Calc!$O$11:$O$130,SMALL(IF((K$38=Calc!$N$11:$N$130)*(Calc!$CH$11:$CH$130),ROW(Calc!$O$11:$O$130)-ROW(INDEX(Calc!$O$11:$O$130,1,1))+1),Calc!$CJ25)),"")} | M48: {=IFERROR(INDEX(Calc!$O$11:$O$130,SMALL(IF((M$38=Calc!$N$11:$N$130)*(Calc!$CH$11:$CH$130),ROW(Calc!$O$11:$O$130)-ROW(INDEX(Calc!$O$11:$O$130,1,1))+1),Calc!$CJ25)),"")} | O48: {=IFERROR(INDEX(Calc!$O$11:$O$130,SMALL(IF((O$38=Calc!$N$11:$N$130)*(Calc!$CH$11:$CH$130),ROW(Calc!$O$11:$O$130)-ROW(INDEX(Calc!$O$11:$O$130,1,1))+1),Calc!$CJ25)),"")}
C49: {=IFERROR(INDEX(Calc!$O$11:$O$130,SMALL(IF((C$38=Calc!$N$11:$N$130)*(Calc!$CH$11:$CH$130),ROW(Calc!$O$11:$O$130)-ROW(INDEX(Calc!$O$11:$O$130,1,1))+1),Calc!$CJ26)),"")} | E49: {=IFERROR(INDEX(Calc!$O$11:$O$130,SMALL(IF((E$38=Calc!$N$11:$N$130)*(Calc!$CH$11:$CH$130),ROW(Calc!$O$11:$O$130)-ROW(INDEX(Calc!$O$11:$O$130,1,1))+1),Calc!$CJ26)),"")} | G49: {=IFERROR(INDEX(Calc!$O$11:$O$130,SMALL(IF((G$38=Calc!$N$11:$N$130)*(Calc!$CH$11:$CH$130),ROW(Calc!$O$11:$O$130)-ROW(INDEX(Calc!$O$11:$O$130,1,1))+1),Calc!$CJ26)),"")} | I49: {=IFERROR(INDEX(Calc!$O$11:$O$130,SMALL(IF((I$38=Calc!$N$11:$N$130)*(Calc!$CH$11:$CH$130),ROW(Calc!$O$11:$O$130)-ROW(INDEX(Calc!$O$11:$O$130,1,1))+1),Calc!$CJ26)),"")} | K49: {=IFERROR(INDEX(Calc!$O$11:$O$130,SMALL(IF((K$38=Calc!$N$11:$N$130)*(Calc!$CH$11:$CH$130),ROW(Calc!$O$11:$O$130)-ROW(INDEX(Calc!$O$11:$O$130,1,1))+1),Calc!$CJ26)),"")} | M49: {=IFERROR(INDEX(Calc!$O$11:$O$130,SMALL(IF((M$38=Calc!$N$11:$N$130)*(Calc!$CH$11:$CH$130),ROW(Calc!$O$11:$O$130)-ROW(INDEX(Calc!$O$11:$O$130,1,1))+1),Calc!$CJ26)),"")} | O49: {=IFERROR(INDEX(Calc!$O$11:$O$130,SMALL(IF((O$38=Calc!$N$11:$N$130)*(Calc!$CH$11:$CH$130),ROW(Calc!$O$11:$O$130)-ROW(INDEX(Calc!$O$11:$O$130,1,1))+1),Calc!$CJ26)),"")}
C51: =IFERROR(IF(LEN(O38)=0,"",IF(MONTH(O38+1)=MONTH(O38),O38+1,"")),"") -> 45313 | E51: =IFERROR(IF(LEN(C51)=0,"",IF(MONTH(C51+1)=MONTH(C51),C51+1,"")),"") -> 45314 | G51: =IFERROR(IF(LEN(E51)=0,"",IF(MONTH(E51+1)=MONTH(E51),E51+1,"")),"") -> 45315 | I51: =IFERROR(IF(LEN(G51)=0,"",IF(MONTH(G51+1)=MONTH(G51),G51+1,"")),"") -> 45316 | K51: =IFERROR(IF(LEN(I51)=0,"",IF(MONTH(I51+1)=MONTH(I51),I51+1,"")),"") -> 45317 | M51: =IFERROR(IF(LEN(K51)=0,"",IF(MONTH(K51+1)=MONTH(K51),K51+1,"")),"") -> 45318 | O51: =IFERROR(IF(LEN(M51)=0,"",IF(MONTH(M51+1)=MONTH(M51),M51+1,"")),"") -> 45319
C53: {=IFERROR(INDEX(Calc!$O$11:$O$130,SMALL(IF((C$51=Calc!$N$11:$N$130)*(Calc!$CH$11:$CH$130),ROW(Calc!$O$11:$O$130)-ROW(INDEX(Calc!$O$11:$O$130,1,1))+1),Calc!$CJ17)),"")} | E53: {=IFERROR(INDEX(Calc!$O$11:$O$130,SMALL(IF((E$51=Calc!$N$11:$N$130)*(Calc!$CH$11:$CH$130),ROW(Calc!$O$11:$O$130)-ROW(INDEX(Calc!$O$11:$O$130,1,1))+1),Calc!$CJ17)),"")} | G53: {=IFERROR(INDEX(Calc!$O$11:$O$130,SMALL(IF((G$51=Calc!$N$11:$N$130)*(Calc!$CH$11:$CH$130),ROW(Calc!$O$11:$O$130)-ROW(INDEX(Calc!$O$11:$O$130,1,1))+1),Calc!$CJ17)),"")} | I53: {=IFERROR(INDEX(Calc!$O$11:$O$130,SMALL(IF((I$51=Calc!$N$11:$N$130)*(Calc!$CH$11:$CH$130),ROW(Calc!$O$11:$O$130)-ROW(INDEX(Calc!$O$11:$O$130,1,1))+1),Calc!$CJ17)),"")} | K53: {=IFERROR(INDEX(Calc!$O$11:$O$130,SMALL(IF((K$51=Calc!$N$11:$N$130)*(Calc!$CH$11:$CH$130),ROW(Calc!$O$11:$O$130)-ROW(INDEX(Calc!$O$11:$O$130,1,1))+1),Calc!$CJ17)),"")} | M53: {=IFERROR(INDEX(Calc!$O$11:$O$130,SMALL(IF((M$51=Calc!$N$11:$N$130)*(Calc!$CH$11:$CH$130),ROW(Calc!$O$11:$O$130)-ROW(INDEX(Calc!$O$11:$O$130,1,1))+1),Calc!$CJ17)),"")} | O53: {=IFERROR(INDEX(Calc!$O$11:$O$130,SMALL(IF((O$51=Calc!$N$11:$N$130)*(Calc!$CH$11:$CH$130),ROW(Calc!$O$11:$O$130)-ROW(INDEX(Calc!$O$11:$O$130,1,1))+1),Calc!$CJ17)),"")}
C54: {=IFERROR(INDEX(Calc!$O$11:$O$130,SMALL(IF((C$51=Calc!$N$11:$N$130)*(Calc!$CH$11:$CH$130),ROW(Calc!$O$11:$O$130)-ROW(INDEX(Calc!$O$11:$O$130,1,1))+1),Calc!$CJ18)),"")} | E54: {=IFERROR(INDEX(Calc!$O$11:$O$130,SMALL(IF((E$51=Calc!$N$11:$N$130)*(Calc!$CH$11:$CH$130),ROW(Calc!$O$11:$O$130)-ROW(INDEX(Calc!$O$11:$O$130,1,1))+1),Calc!$CJ18)),"")} | G54: {=IFERROR(INDEX(Calc!$O$11:$O$130,SMALL(IF((G$51=Calc!$N$11:$N$130)*(Calc!$CH$11:$CH$130),ROW(Calc!$O$11:$O$130)-ROW(INDEX(Calc!$O$11:$O$130,1,1))+1),Calc!$CJ18)),"")} | I54: {=IFERROR(INDEX(Calc!$O$11:$O$130,SMALL(IF((I$51=Calc!$N$11:$N$130)*(Calc!$CH$11:$CH$130),ROW(Calc!$O$11:$O$130)-ROW(INDEX(Calc!$O$11:$O$130,1,1))+1),Calc!$CJ18)),"")} | K54: {=IFERROR(INDEX(Calc!$O$11:$O$130,SMALL(IF((K$51=Calc!$N$11:$N$130)*(Calc!$CH$11:$CH$130),ROW(Calc!$O$11:$O$130)-ROW(INDEX(Calc!$O$11:$O$130,1,1))+1),Calc!$CJ18)),"")} | M54: {=IFERROR(INDEX(Calc!$O$11:$O$130,SMALL(IF((M$51=Calc!$N$11:$N$130)*(Calc!$CH$11:$CH$130),ROW(Calc!$O$11:$O$130)-ROW(INDEX(Calc!$O$11:$O$130,1,1))+1),Calc!$CJ18)),"")} | O54: {=IFERROR(INDEX(Calc!$O$11:$O$130,SMALL(IF((O$51=Calc!$N$11:$N$130)*(Calc!$CH$11:$CH$130),ROW(Calc!$O$11:$O$130)-ROW(INDEX(Calc!$O$11:$O$130,1,1))+1),Calc!$CJ18)),"")}
C55: {=IFERROR(INDEX(Calc!$O$11:$O$130,SMALL(IF((C$51=Calc!$N$11:$N$130)*(Calc!$CH$11:$CH$130),ROW(Calc!$O$11:$O$130)-ROW(INDEX(Calc!$O$11:$O$130,1,1))+1),Calc!$CJ19)),"")} | E55: {=IFERROR(INDEX(Calc!$O$11:$O$130,SMALL(IF((E$51=Calc!$N$11:$N$130)*(Calc!$CH$11:$CH$130),ROW(Calc!$O$11:$O$130)-ROW(INDEX(Calc!$O$11:$O$130,1,1))+1),Calc!$CJ19)),"")} | G55: {=IFERROR(INDEX(Calc!$O$11:$O$130,SMALL(IF((G$51=Calc!$N$11:$N$130)*(Calc!$CH$11:$CH$130),ROW(Calc!$O$11:$O$130)-ROW(INDEX(Calc!$O$11:$O$130,1,1))+1),Calc!$CJ19)),"")} | I55: {=IFERROR(INDEX(Calc!$O$11:$O$130,SMALL(IF((I$51=Calc!$N$11:$N$130)*(Calc!$CH$11:$CH$130),ROW(Calc!$O$11:$O$130)-ROW(INDEX(Calc!$O$11:$O$130,1,1))+1),Calc!$CJ19)),"")} | K55: {=IFERROR(INDEX(Calc!$O$11:$O$130,SMALL(IF((K$51=Calc!$N$11:$N$130)*(Calc!$CH$11:$CH$130),ROW(Calc!$O$11:$O$130)-ROW(INDEX(Calc!$O$11:$O$130,1,1))+1),Calc!$CJ19)),"")} | M55: {=IFERROR(INDEX(Calc!$O$11:$O$130,SMALL(IF((M$51=Calc!$N$11:$N$130)*(Calc!$CH$11:$CH$130),ROW(Calc!$O$11:$O$130)-ROW(INDEX(Calc!$O$11:$O$130,1,1))+1),Calc!$CJ19)),"")} | O55: {=IFERROR(INDEX(Calc!$O$11:$O$130,SMALL(IF((O$51=Calc!$N$11:$N$130)*(Calc!$CH$11:$CH$130),ROW(Calc!$O$11:$O$130)-ROW(INDEX(Calc!$O$11:$O$130,1,1))+1),Calc!$CJ19)),"")}
C56: {=IFERROR(INDEX(Calc!$O$11:$O$130,SMALL(IF((C$51=Calc!$N$11:$N$130)*(Calc!$CH$11:$CH$130),ROW(Calc!$O$11:$O$130)-ROW(INDEX(Calc!$O$11:$O$130,1,1))+1),Calc!$CJ20)),"")} | E56: {=IFERROR(INDEX(Calc!$O$11:$O$130,SMALL(IF((E$51=Calc!$N$11:$N$130)*(Calc!$CH$11:$CH$130),ROW(Calc!$O$11:$O$130)-ROW(INDEX(Calc!$O$11:$O$130,1,1))+1),Calc!$CJ20)),"")} | G56: {=IFERROR(INDEX(Calc!$O$11:$O$130,SMALL(IF((G$51=Calc!$N$11:$N$130)*(Calc!$CH$11:$CH$130),ROW(Calc!$O$11:$O$130)-ROW(INDEX(Calc!$O$11:$O$130,1,1))+1),Calc!$CJ20)),"")} | I56: {=IFERROR(INDEX(Calc!$O$11:$O$130,SMALL(IF((I$51=Calc!$N$11:$N$130)*(Calc!$CH$11:$CH$130),ROW(Calc!$O$11:$O$130)-ROW(INDEX(Calc!$O$11:$O$130,1,1))+1),Calc!$CJ20)),"")} | K56: {=IFERROR(INDEX(Calc!$O$11:$O$130,SMALL(IF((K$51=Calc!$N$11:$N$130)*(Calc!$CH$11:$CH$130),ROW(Calc!$O$11:$O$130)-ROW(INDEX(Calc!$O$11:$O$130,1,1))+1),Calc!$CJ20)),"")} | M56: {=IFERROR(INDEX(Calc!$O$11:$O$130,SMALL(IF((M$51=Calc!$N$11:$N$130)*(Calc!$CH$11:$CH$130),ROW(Calc!$O$11:$O$130)-ROW(INDEX(Calc!$O$11:$O$130,1,1))+1),Calc!$CJ20)),"")} | O56: {=IFERROR(INDEX(Calc!$O$11:$O$130,SMALL(IF((O$51=Calc!$N$11:$N$130)*(Calc!$CH$11:$CH$130),ROW(Calc!$O$11:$O$130)-ROW(INDEX(Calc!$O$11:$O$130,1,1))+1),Calc!$CJ20)),"")}
C57: {=IFERROR(INDEX(Calc!$O$11:$O$130,SMALL(IF((C$51=Calc!$N$11:$N$130)*(Calc!$CH$11:$CH$130),ROW(Calc!$O$11:$O$130)-ROW(INDEX(Calc!$O$11:$O$130,1,1))+1),Calc!$CJ21)),"")} | E57: {=IFERROR(INDEX(Calc!$O$11:$O$130,SMALL(IF((E$51=Calc!$N$11:$N$130)*(Calc!$CH$11:$CH$130),ROW(Calc!$O$11:$O$130)-ROW(INDEX(Calc!$O$11:$O$130,1,1))+1),Calc!$CJ21)),"")} | G57: {=IFERROR(INDEX(Calc!$O$11:$O$130,SMALL(IF((G$51=Calc!$N$11:$N$130)*(Calc!$CH$11:$CH$130),ROW(Calc!$O$11:$O$130)-ROW(INDEX(Calc!$O$11:$O$130,1,1))+1),Calc!$CJ21)),"")} | I57: {=IFERROR(INDEX(Calc!$O$11:$O$130,SMALL(IF((I$51=Calc!$N$11:$N$130)*(Calc!$CH$11:$CH$130),ROW(Calc!$O$11:$O$130)-ROW(INDEX(Calc!$O$11:$O$130,1,1))+1),Calc!$CJ21)),"")} | K57: {=IFERROR(INDEX(Calc!$O$11:$O$130,SMALL(IF((K$51=Calc!$N$11:$N$130)*(Calc!$CH$11:$CH$130),ROW(Calc!$O$11:$O$130)-ROW(INDEX(Calc!$O$11:$O$130,1,1))+1),Calc!$CJ21)),"")} | M57: {=IFERROR(INDEX(Calc!$O$11:$O$130,SMALL(IF((M$51=Calc!$N$11:$N$130)*(Calc!$CH$11:$CH$130),ROW(Calc!$O$11:$O$130)-ROW(INDEX(Calc!$O$11:$O$130,1,1))+1),Calc!$CJ21)),"")} | O57: {=IFERROR(INDEX(Calc!$O$11:$O$130,SMALL(IF((O$51=Calc!$N$11:$N$130)*(Calc!$CH$11:$CH$130),ROW(Calc!$O$11:$O$130)-ROW(INDEX(Calc!$O$11:$O$130,1,1))+1),Calc!$CJ21)),"")}
C58: {=IFERROR(INDEX(Calc!$O$11:$O$130,SMALL(IF((C$51=Calc!$N$11:$N$130)*(Calc!$CH$11:$CH$130),ROW(Calc!$O$11:$O$130)-ROW(INDEX(Calc!$O$11:$O$130,1,1))+1),Calc!$CJ22)),"")} | E58: {=IFERROR(INDEX(Calc!$O$11:$O$130,SMALL(IF((E$51=Calc!$N$11:$N$130)*(Calc!$CH$11:$CH$130),ROW(Calc!$O$11:$O$130)-ROW(INDEX(Calc!$O$11:$O$130,1,1))+1),Calc!$CJ22)),"")} | G58: {=IFERROR(INDEX(Calc!$O$11:$O$130,SMALL(IF((G$51=Calc!$N$11:$N$130)*(Calc!$CH$11:$CH$130),ROW(Calc!$O$11:$O$130)-ROW(INDEX(Calc!$O$11:$O$130,1,1))+1),Calc!$CJ22)),"")} | I58: {=IFERROR(INDEX(Calc!$O$11:$O$130,SMALL(IF((I$51=Calc!$N$11:$N$130)*(Calc!$CH$11:$CH$130),ROW(Calc!$O$11:$O$130)-ROW(INDEX(Calc!$O$11:$O$130,1,1))+1),Calc!$CJ22)),"")} | K58: {=IFERROR(INDEX(Calc!$O$11:$O$130,SMALL(IF((K$51=Calc!$N$11:$N$130)*(Calc!$CH$11:$CH$130),ROW(Calc!$O$11:$O$130)-ROW(INDEX(Calc!$O$11:$O$130,1,1))+1),Calc!$CJ22)),"")} | M58: {=IFERROR(INDEX(Calc!$O$11:$O$130,SMALL(IF((M$51=Calc!$N$11:$N$130)*(Calc!$CH$11:$CH$130),ROW(Calc!$O$11:$O$130)-ROW(INDEX(Calc!$O$11:$O$130,1,1))+1),Calc!$CJ22)),"")} | O58: {=IFERROR(INDEX(Calc!$O$11:$O$130,SMALL(IF((O$51=Calc!$N$11:$N$130)*(Calc!$CH$11:$CH$130),ROW(Calc!$O$11:$O$130)-ROW(INDEX(Calc!$O$11:$O$130,1,1))+1),Calc!$CJ22)),"")}
C59: {=IFERROR(INDEX(Calc!$O$11:$O$130,SMALL(IF((C$51=Calc!$N$11:$N$130)*(Calc!$CH$11:$CH$130),ROW(Calc!$O$11:$O$130)-ROW(INDEX(Calc!$O$11:$O$130,1,1))+1),Calc!$CJ23)),"")} | E59: {=IFERROR(INDEX(Calc!$O$11:$O$130,SMALL(IF((E$51=Calc!$N$11:$N$130)*(Calc!$CH$11:$CH$130),ROW(Calc!$O$11:$O$130)-ROW(INDEX(Calc!$O$11:$O$130,1,1))+1),Calc!$CJ23)),"")} | G59: {=IFERROR(INDEX(Calc!$O$11:$O$130,SMALL(IF((G$51=Calc!$N$11:$N$130)*(Calc!$CH$11:$CH$130),ROW(Calc!$O$11:$O$130)-ROW(INDEX(Calc!$O$11:$O$130,1,1))+1),Calc!$CJ23)),"")} | I59: {=IFERROR(INDEX(Calc!$O$11:$O$130,SMALL(IF((I$51=Calc!$N$11:$N$130)*(Calc!$CH$11:$CH$130),ROW(Calc!$O$11:$O$130)-ROW(INDEX(Calc!$O$11:$O$130,1,1))+1),Calc!$CJ23)),"")} | K59: {=IFERROR(INDEX(Calc!$O$11:$O$130,SMALL(IF((K$51=Calc!$N$11:$N$130)*(Calc!$CH$11:$CH$130),ROW(Calc!$O$11:$O$130)-ROW(INDEX(Calc!$O$11:$O$130,1,1))+1),Calc!$CJ23)),"")} | M59: {=IFERROR(INDEX(Calc!$O$11:$O$130,SMALL(IF((M$51=Calc!$N$11:$N$130)*(Calc!$CH$11:$CH$130),ROW(Calc!$O$11:$O$130)-ROW(INDEX(Calc!$O$11:$O$130,1,1))+1),Calc!$CJ23)),"")} | O59: {=IFERROR(INDEX(Calc!$O$11:$O$130,SMALL(IF((O$51=Calc!$N$11:$N$130)*(Calc!$CH$11:$CH$130),ROW(Calc!$O$11:$O$130)-ROW(INDEX(Calc!$O$11:$O$130,1,1))+1),Calc!$CJ23)),"")}
C60: {=IFERROR(INDEX(Calc!$O$11:$O$130,SMALL(IF((C$51=Calc!$N$11:$N$130)*(Calc!$CH$11:$CH$130),ROW(Calc!$O$11:$O$130)-ROW(INDEX(Calc!$O$11:$O$130,1,1))+1),Calc!$CJ24)),"")} | E60: {=IFERROR(INDEX(Calc!$O$11:$O$130,SMALL(IF((E$51=Calc!$N$11:$N$130)*(Calc!$CH$11:$CH$130),ROW(Calc!$O$11:$O$130)-ROW(INDEX(Calc!$O$11:$O$130,1,1))+1),Calc!$CJ24)),"")} | G60: {=IFERROR(INDEX(Calc!$O$11:$O$130,SMALL(IF((G$51=Calc!$N$11:$N$130)*(Calc!$CH$11:$CH$130),ROW(Calc!$O$11:$O$130)-ROW(INDEX(Calc!$O$11:$O$130,1,1))+1),Calc!$CJ24)),"")} | I60: {=IFERROR(INDEX(Calc!$O$11:$O$130,SMALL(IF((I$51=Calc!$N$11:$N$130)*(Calc!$CH$11:$CH$130),ROW(Calc!$O$11:$O$130)-ROW(INDEX(Calc!$O$11:$O$130,1,1))+1),Calc!$CJ24)),"")} | K60: {=IFERROR(INDEX(Calc!$O$11:$O$130,SMALL(IF((K$51=Calc!$N$11:$N$130)*(Calc!$CH$11:$CH$130),ROW(Calc!$O$11:$O$130)-ROW(INDEX(Calc!$O$11:$O$130,1,1))+1),Calc!$CJ24)),"")} | M60: {=IFERROR(INDEX(Calc!$O$11:$O$130,SMALL(IF((M$51=Calc!$N$11:$N$130)*(Calc!$CH$11:$CH$130),ROW(Calc!$O$11:$O$130)-ROW(INDEX(Calc!$O$11:$O$130,1,1))+1),Calc!$CJ24)),"")} | O60: {=IFERROR(INDEX(Calc!$O$11:$O$130,SMALL(IF((O$51=Calc!$N$11:$N$130)*(Calc!$CH$11:$CH$130),ROW(Calc!$O$11:$O$130)-ROW(INDEX(Calc!$O$11:$O$130,1,1))+1),Calc!$CJ24)),"")}
C61: {=IFERROR(INDEX(Calc!$O$11:$O$130,SMALL(IF((C$51=Calc!$N$11:$N$130)*(Calc!$CH$11:$CH$130),ROW(Calc!$O$11:$O$130)-ROW(INDEX(Calc!$O$11:$O$130,1,1))+1),Calc!$CJ25)),"")} | E61: {=IFERROR(INDEX(Calc!$O$11:$O$130,SMALL(IF((E$51=Calc!$N$11:$N$130)*(Calc!$CH$11:$CH$130),ROW(Calc!$O$11:$O$130)-ROW(INDEX(Calc!$O$11:$O$130,1,1))+1),Calc!$CJ25)),"")} | G61: {=IFERROR(INDEX(Calc!$O$11:$O$130,SMALL(IF((G$51=Calc!$N$11:$N$130)*(Calc!$CH$11:$CH$130),ROW(Calc!$O$11:$O$130)-ROW(INDEX(Calc!$O$11:$O$130,1,1))+1),Calc!$CJ25)),"")} | I61: {=IFERROR(INDEX(Calc!$O$11:$O$130,SMALL(IF((I$51=Calc!$N$11:$N$130)*(Calc!$CH$11:$CH$130),ROW(Calc!$O$11:$O$130)-ROW(INDEX(Calc!$O$11:$O$130,1,1))+1),Calc!$CJ25)),"")} | K61: {=IFERROR(INDEX(Calc!$O$11:$O$130,SMALL(IF((K$51=Calc!$N$11:$N$130)*(Calc!$CH$11:$CH$130),ROW(Calc!$O$11:$O$130)-ROW(INDEX(Calc!$O$11:$O$130,1,1))+1),Calc!$CJ25)),"")} | M61: {=IFERROR(INDEX(Calc!$O$11:$O$130,SMALL(IF((M$51=Calc!$N$11:$N$130)*(Calc!$CH$11:$CH$130),ROW(Calc!$O$11:$O$130)-ROW(INDEX(Calc!$O$11:$O$130,1,1))+1),Calc!$CJ25)),"")} | O61: {=IFERROR(INDEX(Calc!$O$11:$O$130,SMALL(IF((O$51=Calc!$N$11:$N$130)*(Calc!$CH$11:$CH$130),ROW(Calc!$O$11:$O$130)-ROW(INDEX(Calc!$O$11:$O$130,1,1))+1),Calc!$CJ25)),"")}
C62: {=IFERROR(INDEX(Calc!$O$11:$O$130,SMALL(IF((C$51=Calc!$N$11:$N$130)*(Calc!$CH$11:$CH$130),ROW(Calc!$O$11:$O$130)-ROW(INDEX(Calc!$O$11:$O$130,1,1))+1),Calc!$CJ26)),"")} | E62: {=IFERROR(INDEX(Calc!$O$11:$O$130,SMALL(IF((E$51=Calc!$N$11:$N$130)*(Calc!$CH$11:$CH$130),ROW(Calc!$O$11:$O$130)-ROW(INDEX(Calc!$O$11:$O$130,1,1))+1),Calc!$CJ26)),"")} | G62: {=IFERROR(INDEX(Calc!$O$11:$O$130,SMALL(IF((G$51=Calc!$N$11:$N$130)*(Calc!$CH$11:$CH$130),ROW(Calc!$O$11:$O$130)-ROW(INDEX(Calc!$O$11:$O$130,1,1))+1),Calc!$CJ26)),"")} | I62: {=IFERROR(INDEX(Calc!$O$11:$O$130,SMALL(IF((I$51=Calc!$N$11:$N$130)*(Calc!$CH$11:$CH$130),ROW(Calc!$O$11:$O$130)-ROW(INDEX(Calc!$O$11:$O$130,1,1))+1),Calc!$CJ26)),"")} | K62: {=IFERROR(INDEX(Calc!$O$11:$O$130,SMALL(IF((K$51=Calc!$N$11:$N$130)*(Calc!$CH$11:$CH$130),ROW(Calc!$O$11:$O$130)-ROW(INDEX(Calc!$O$11:$O$130,1,1))+1),Calc!$CJ26)),"")} | M62: {=IFERROR(INDEX(Calc!$O$11:$O$130,SMALL(IF((M$51=Calc!$N$11:$N$130)*(Calc!$CH$11:$CH$130),ROW(Calc!$O$11:$O$130)-ROW(INDEX(Calc!$O$11:$O$130,1,1))+1),Calc!$CJ26)),"")} | O62: {=IFERROR(INDEX(Calc!$O$11:$O$130,SMALL(IF((O$51=Calc!$N$11:$N$130)*(Calc!$CH$11:$CH$130),ROW(Calc!$O$11:$O$130)-ROW(INDEX(Calc!$O$11:$O$130,1,1))+1),Calc!$CJ26)),"")}
C64: =IFERROR(IF(LEN(O51)=0,"",IF(MONTH(O51+1)=MONTH(O51),O51+1,"")),"") -> 45320 | E64: =IFERROR(IF(LEN(C64)=0,"",IF(MONTH(C64+1)=MONTH(C64),C64+1,"")),"") -> 45321 | G64: =IFERROR(IF(LEN(E64)=0,"",IF(MONTH(E64+1)=MONTH(E64),E64+1,"")),"") -> 45322 | I64: =IFERROR(IF(LEN(G64)=0,"",IF(MONTH(G64+1)=MONTH(G64),G64+1,"")),"") | K64: =IFERROR(IF(LEN(I64)=0,"",IF(MONTH(I64+1)=MONTH(I64),I64+1,"")),"") | M64: =IFERROR(IF(LEN(K64)=0,"",IF(MONTH(K64+1)=MONTH(K64),K64+1,"")),"") | O64: =IFERROR(IF(LEN(M64)=0,"",IF(MONTH(M64+1)=MONTH(M64),M64+1,"")),"")
C66: {=IFERROR(INDEX(Calc!$O$11:$O$130,SMALL(IF((C$64=Calc!$N$11:$N$130)*(Calc!$CH$11:$CH$130),ROW(Calc!$O$11:$O$130)-ROW(INDEX(Calc!$O$11:$O$130,1,1))+1),Calc!$CJ17)),"")} | E66: {=IFERROR(INDEX(Calc!$O$11:$O$130,SMALL(IF((E$64=Calc!$N$11:$N$130)*(Calc!$CH$11:$CH$130),ROW(Calc!$O$11:$O$130)-ROW(INDEX(Calc!$O$11:$O$130,1,1))+1),Calc!$CJ17)),"")} | G66: {=IFERROR(INDEX(Calc!$O$11:$O$130,SMALL(IF((G$64=Calc!$N$11:$N$130)*(Calc!$CH$11:$CH$130),ROW(Calc!$O$11:$O$130)-ROW(INDEX(Calc!$O$11:$O$130,1,1))+1),Calc!$CJ17)),"")} | I66: {=IFERROR(INDEX(Calc!$O$11:$O$130,SMALL(IF((I$64=Calc!$N$11:$N$130)*(Calc!$CH$11:$CH$130),ROW(Calc!$O$11:$O$130)-ROW(INDEX(Calc!$O$11:$O$130,1,1))+1),Calc!$CJ17)),"")} | K66: {=IFERROR(INDEX(Calc!$O$11:$O$130,SMALL(IF((K$64=Calc!$N$11:$N$130)*(Calc!$CH$11:$CH$130),ROW(Calc!$O$11:$O$130)-ROW(INDEX(Calc!$O$11:$O$130,1,1))+1),Calc!$CJ17)),"")} | M66: {=IFERROR(INDEX(Calc!$O$11:$O$130,SMALL(IF((M$64=Calc!$N$11:$N$130)*(Calc!$CH$11:$CH$130),ROW(Calc!$O$11:$O$130)-ROW(INDEX(Calc!$O$11:$O$130,1,1))+1),Calc!$CJ17)),"")} | O66: {=IFERROR(INDEX(Calc!$O$11:$O$130,SMALL(IF((O$64=Calc!$N$11:$N$130)*(Calc!$CH$11:$CH$130),ROW(Calc!$O$11:$O$130)-ROW(INDEX(Calc!$O$11:$O$130,1,1))+1),Calc!$CJ17)),"")}
C67: {=IFERROR(INDEX(Calc!$O$11:$O$130,SMALL(IF((C$64=Calc!$N$11:$N$130)*(Calc!$CH$11:$CH$130),ROW(Calc!$O$11:$O$130)-ROW(INDEX(Calc!$O$11:$O$130,1,1))+1),Calc!$CJ18)),"")} | E67: {=IFERROR(INDEX(Calc!$O$11:$O$130,SMALL(IF((E$64=Calc!$N$11:$N$130)*(Calc!$CH$11:$CH$130),ROW(Calc!$O$11:$O$130)-ROW(INDEX(Calc!$O$11:$O$130,1,1))+1),Calc!$CJ18)),"")} | G67: {=IFERROR(INDEX(Calc!$O$11:$O$130,SMALL(IF((G$64=Calc!$N$11:$N$130)*(Calc!$CH$11:$CH$130),ROW(Calc!$O$11:$O$130)-ROW(INDEX(Calc!$O$11:$O$130,1,1))+1),Calc!$CJ18)),"")} | I67: {=IFERROR(INDEX(Calc!$O$11:$O$130,SMALL(IF((I$64=Calc!$N$11:$N$130)*(Calc!$CH$11:$CH$130),ROW(Calc!$O$11:$O$130)-ROW(INDEX(Calc!$O$11:$O$130,1,1))+1),Calc!$CJ18)),"")} | K67: {=IFERROR(INDEX(Calc!$O$11:$O$130,SMALL(IF((K$64=Calc!$N$11:$N$130)*(Calc!$CH$11:$CH$130),ROW(Calc!$O$11:$O$130)-ROW(INDEX(Calc!$O$11:$O$130,1,1))+1),Calc!$CJ18)),"")} | M67: {=IFERROR(INDEX(Calc!$O$11:$O$130,SMALL(IF((M$64=Calc!$N$11:$N$130)*(Calc!$CH$11:$CH$130),ROW(Calc!$O$11:$O$130)-ROW(INDEX(Calc!$O$11:$O$130,1,1))+1),Calc!$CJ18)),"")} | O67: {=IFERROR(INDEX(Calc!$O$11:$O$130,SMALL(IF((O$64=Calc!$N$11:$N$130)*(Calc!$CH$11:$CH$130),ROW(Calc!$O$11:$O$130)-ROW(INDEX(Calc!$O$11:$O$130,1,1))+1),Calc!$CJ18)),"")}
C68: {=IFERROR(INDEX(Calc!$O$11:$O$130,SMALL(IF((C$64=Calc!$N$11:$N$130)*(Calc!$CH$11:$CH$130),ROW(Calc!$O$11:$O$130)-ROW(INDEX(Calc!$O$11:$O$130,1,1))+1),Calc!$CJ19)),"")} | E68: {=IFERROR(INDEX(Calc!$O$11:$O$130,SMALL(IF((E$64=Calc!$N$11:$N$130)*(Calc!$CH$11:$CH$130),ROW(Calc!$O$11:$O$130)-ROW(INDEX(Calc!$O$11:$O$130,1,1))+1),Calc!$CJ19)),"")} | G68: {=IFERROR(INDEX(Calc!$O$11:$O$130,SMALL(IF((G$64=Calc!$N$11:$N$130)*(Calc!$CH$11:$CH$130),ROW(Calc!$O$11:$O$130)-ROW(INDEX(Calc!$O$11:$O$130,1,1))+1),Calc!$CJ19)),"")} | I68: {=IFERROR(INDEX(Calc!$O$11:$O$130,SMALL(IF((I$64=Calc!$N$11:$N$130)*(Calc!$CH$11:$CH$130),ROW(Calc!$O$11:$O$130)-ROW(INDEX(Calc!$O$11:$O$130,1,1))+1),Calc!$CJ19)),"")} | K68: {=IFERROR(INDEX(Calc!$O$11:$O$130,SMALL(IF((K$64=Calc!$N$11:$N$130)*(Calc!$CH$11:$CH$130),ROW(Calc!$O$11:$O$130)-ROW(INDEX(Calc!$O$11:$O$130,1,1))+1),Calc!$CJ19)),"")} | M68: {=IFERROR(INDEX(Calc!$O$11:$O$130,SMALL(IF((M$64=Calc!$N$11:$N$130)*(Calc!$CH$11:$CH$130),ROW(Calc!$O$11:$O$130)-ROW(INDEX(Calc!$O$11:$O$130,1,1))+1),Calc!$CJ19)),"")} | O68: {=IFERROR(INDEX(Calc!$O$11:$O$130,SMALL(IF((O$64=Calc!$N$11:$N$130)*(Calc!$CH$11:$CH$130),ROW(Calc!$O$11:$O$130)-ROW(INDEX(Calc!$O$11:$O$130,1,1))+1),Calc!$CJ19)),"")}
C69: {=IFERROR(INDEX(Calc!$O$11:$O$130,SMALL(IF((C$64=Calc!$N$11:$N$130)*(Calc!$CH$11:$CH$130),ROW(Calc!$O$11:$O$130)-ROW(INDEX(Calc!$O$11:$O$130,1,1))+1),Calc!$CJ20)),"")} | E69: {=IFERROR(INDEX(Calc!$O$11:$O$130,SMALL(IF((E$64=Calc!$N$11:$N$130)*(Calc!$CH$11:$CH$130),ROW(Calc!$O$11:$O$130)-ROW(INDEX(Calc!$O$11:$O$130,1,1))+1),Calc!$CJ20)),"")} | G69: {=IFERROR(INDEX(Calc!$O$11:$O$130,SMALL(IF((G$64=Calc!$N$11:$N$130)*(Calc!$CH$11:$CH$130),ROW(Calc!$O$11:$O$130)-ROW(INDEX(Calc!$O$11:$O$130,1,1))+1),Calc!$CJ20)),"")} | I69: {=IFERROR(INDEX(Calc!$O$11:$O$130,SMALL(IF((I$64=Calc!$N$11:$N$130)*(Calc!$CH$11:$CH$130),ROW(Calc!$O$11:$O$130)-ROW(INDEX(Calc!$O$11:$O$130,1,1))+1),Calc!$CJ20)),"")} | K69: {=IFERROR(INDEX(Calc!$O$11:$O$130,SMALL(IF((K$64=Calc!$N$11:$N$130)*(Calc!$CH$11:$CH$130),ROW(Calc!$O$11:$O$130)-ROW(INDEX(Calc!$O$11:$O$130,1,1))+1),Calc!$CJ20)),"")} | M69: {=IFERROR(INDEX(Calc!$O$11:$O$130,SMALL(IF((M$64=Calc!$N$11:$N$130)*(Calc!$CH$11:$CH$130),ROW(Calc!$O$11:$O$130)-ROW(INDEX(Calc!$O$11:$O$130,1,1))+1),Calc!$CJ20)),"")} | O69: {=IFERROR(INDEX(Calc!$O$11:$O$130,SMALL(IF((O$64=Calc!$N$11:$N$130)*(Calc!$CH$11:$CH$130),ROW(Calc!$O$11:$O$130)-ROW(INDEX(Calc!$O$11:$O$130,1,1))+1),Calc!$CJ20)),"")}
C70: {=IFERROR(INDEX(Calc!$O$11:$O$130,SMALL(IF((C$64=Calc!$N$11:$N$130)*(Calc!$CH$11:$CH$130),ROW(Calc!$O$11:$O$130)-ROW(INDEX(Calc!$O$11:$O$130,1,1))+1),Calc!$CJ21)),"")} | E70: {=IFERROR(INDEX(Calc!$O$11:$O$130,SMALL(IF((E$64=Calc!$N$11:$N$130)*(Calc!$CH$11:$CH$130),ROW(Calc!$O$11:$O$130)-ROW(INDEX(Calc!$O$11:$O$130,1,1))+1),Calc!$CJ21)),"")} | G70: {=IFERROR(INDEX(Calc!$O$11:$O$130,SMALL(IF((G$64=Calc!$N$11:$N$130)*(Calc!$CH$11:$CH$130),ROW(Calc!$O$11:$O$130)-ROW(INDEX(Calc!$O$11:$O$130,1,1))+1),Calc!$CJ21)),"")} | I70: {=IFERROR(INDEX(Calc!$O$11:$O$130,SMALL(IF((I$64=Calc!$N$11:$N$130)*(Calc!$CH$11:$CH$130),ROW(Calc!$O$11:$O$130)-ROW(INDEX(Calc!$O$11:$O$130,1,1))+1),Calc!$CJ21)),"")} | K70: {=IFERROR(INDEX(Calc!$O$11:$O$130,SMALL(IF((K$64=Calc!$N$11:$N$130)*(Calc!$CH$11:$CH$130),ROW(Calc!$O$11:$O$130)-ROW(INDEX(Calc!$O$11:$O$130,1,1))+1),Calc!$CJ21)),"")} | M70: {=IFERROR(INDEX(Calc!$O$11:$O$130,SMALL(IF((M$64=Calc!$N$11:$N$130)*(Calc!$CH$11:$CH$130),ROW(Calc!$O$11:$O$130)-ROW(INDEX(Calc!$O$11:$O$130,1,1))+1),Calc!$CJ21)),"")} | O70: {=IFERROR(INDEX(Calc!$O$11:$O$130,SMALL(IF((O$64=Calc!$N$11:$N$130)*(Calc!$CH$11:$CH$130),ROW(Calc!$O$11:$O$130)-ROW(INDEX(Calc!$O$11:$O$130,1,1))+1),Calc!$CJ21)),"")}
C71: {=IFERROR(INDEX(Calc!$O$11:$O$130,SMALL(IF((C$64=Calc!$N$11:$N$130)*(Calc!$CH$11:$CH$130),ROW(Calc!$O$11:$O$130)-ROW(INDEX(Calc!$O$11:$O$130,1,1))+1),Calc!$CJ22)),"")} | E71: {=IFERROR(INDEX(Calc!$O$11:$O$130,SMALL(IF((E$64=Calc!$N$11:$N$130)*(Calc!$CH$11:$CH$130),ROW(Calc!$O$11:$O$130)-ROW(INDEX(Calc!$O$11:$O$130,1,1))+1),Calc!$CJ22)),"")} | G71: {=IFERROR(INDEX(Calc!$O$11:$O$130,SMALL(IF((G$64=Calc!$N$11:$N$130)*(Calc!$CH$11:$CH$130),ROW(Calc!$O$11:$O$130)-ROW(INDEX(Calc!$O$11:$O$130,1,1))+1),Calc!$CJ22)),"")} | I71: {=IFERROR(INDEX(Calc!$O$11:$O$130,SMALL(IF((I$64=Calc!$N$11:$N$130)*(Calc!$CH$11:$CH$130),ROW(Calc!$O$11:$O$130)-ROW(INDEX(Calc!$O$11:$O$130,1,1))+1),Calc!$CJ22)),"")} | K71: {=IFERROR(INDEX(Calc!$O$11:$O$130,SMALL(IF((K$64=Calc!$N$11:$N$130)*(Calc!$CH$11:$CH$130),ROW(Calc!$O$11:$O$130)-ROW(INDEX(Calc!$O$11:$O$130,1,1))+1),Calc!$CJ22)),"")} | M71: {=IFERROR(INDEX(Calc!$O$11:$O$130,SMALL(IF((M$64=Calc!$N$11:$N$130)*(Calc!$CH$11:$CH$130),ROW(Calc!$O$11:$O$130)-ROW(INDEX(Calc!$O$11:$O$130,1,1))+1),Calc!$CJ22)),"")} | O71: {=IFERROR(INDEX(Calc!$O$11:$O$130,SMALL(IF((O$64=Calc!$N$11:$N$130)*(Calc!$CH$11:$CH$130),ROW(Calc!$O$11:$O$130)-ROW(INDEX(Calc!$O$11:$O$130,1,1))+1),Calc!$CJ22)),"")}
C72: {=IFERROR(INDEX(Calc!$O$11:$O$130,SMALL(IF((C$64=Calc!$N$11:$N$130)*(Calc!$CH$11:$CH$130),ROW(Calc!$O$11:$O$130)-ROW(INDEX(Calc!$O$11:$O$130,1,1))+1),Calc!$CJ23)),"")} | E72: {=IFERROR(INDEX(Calc!$O$11:$O$130,SMALL(IF((E$64=Calc!$N$11:$N$130)*(Calc!$CH$11:$CH$130),ROW(Calc!$O$11:$O$130)-ROW(INDEX(Calc!$O$11:$O$130,1,1))+1),Calc!$CJ23)),"")} | G72: {=IFERROR(INDEX(Calc!$O$11:$O$130,SMALL(IF((G$64=Calc!$N$11:$N$130)*(Calc!$CH$11:$CH$130),ROW(Calc!$O$11:$O$130)-ROW(INDEX(Calc!$O$11:$O$130,1,1))+1),Calc!$CJ23)),"")} | I72: {=IFERROR(INDEX(Calc!$O$11:$O$130,SMALL(IF((I$64=Calc!$N$11:$N$130)*(Calc!$CH$11:$CH$130),ROW(Calc!$O$11:$O$130)-ROW(INDEX(Calc!$O$11:$O$130,1,1))+1),Calc!$CJ23)),"")} | K72: {=IFERROR(INDEX(Calc!$O$11:$O$130,SMALL(IF((K$64=Calc!$N$11:$N$130)*(Calc!$CH$11:$CH$130),ROW(Calc!$O$11:$O$130)-ROW(INDEX(Calc!$O$11:$O$130,1,1))+1),Calc!$CJ23)),"")} | M72: {=IFERROR(INDEX(Calc!$O$11:$O$130,SMALL(IF((M$64=Calc!$N$11:$N$130)*(Calc!$CH$11:$CH$130),ROW(Calc!$O$11:$O$130)-ROW(INDEX(Calc!$O$11:$O$130,1,1))+1),Calc!$CJ23)),"")} | O72: {=IFERROR(INDEX(Calc!$O$11:$O$130,SMALL(IF((O$64=Calc!$N$11:$N$130)*(Calc!$CH$11:$CH$130),ROW(Calc!$O$11:$O$130)-ROW(INDEX(Calc!$O$11:$O$130,1,1))+1),Calc!$CJ23)),"")}
C73: {=IFERROR(INDEX(Calc!$O$11:$O$130,SMALL(IF((C$64=Calc!$N$11:$N$130)*(Calc!$CH$11:$CH$130),ROW(Calc!$O$11:$O$130)-ROW(INDEX(Calc!$O$11:$O$130,1,1))+1),Calc!$CJ24)),"")} | E73: {=IFERROR(INDEX(Calc!$O$11:$O$130,SMALL(IF((E$64=Calc!$N$11:$N$130)*(Calc!$CH$11:$CH$130),ROW(Calc!$O$11:$O$130)-ROW(INDEX(Calc!$O$11:$O$130,1,1))+1),Calc!$CJ24)),"")} | G73: {=IFERROR(INDEX(Calc!$O$11:$O$130,SMALL(IF((G$64=Calc!$N$11:$N$130)*(Calc!$CH$11:$CH$130),ROW(Calc!$O$11:$O$130)-ROW(INDEX(Calc!$O$11:$O$130,1,1))+1),Calc!$CJ24)),"")} | I73: {=IFERROR(INDEX(Calc!$O$11:$O$130,SMALL(IF((I$64=Calc!$N$11:$N$130)*(Calc!$CH$11:$CH$130),ROW(Calc!$O$11:$O$130)-ROW(INDEX(Calc!$O$11:$O$130,1,1))+1),Calc!$CJ24)),"")} | K73: {=IFERROR(INDEX(Calc!$O$11:$O$130,SMALL(IF((K$64=Calc!$N$11:$N$130)*(Calc!$CH$11:$CH$130),ROW(Calc!$O$11:$O$130)-ROW(INDEX(Calc!$O$11:$O$130,1,1))+1),Calc!$CJ24)),"")} | M73: {=IFERROR(INDEX(Calc!$O$11:$O$130,SMALL(IF((M$64=Calc!$N$11:$N$130)*(Calc!$CH$11:$CH$130),ROW(Calc!$O$11:$O$130)-ROW(INDEX(Calc!$O$11:$O$130,1,1))+1),Calc!$CJ24)),"")} | O73: {=IFERROR(INDEX(Calc!$O$11:$O$130,SMALL(IF((O$64=Calc!$N$11:$N$130)*(Calc!$CH$11:$CH$130),ROW(Calc!$O$11:$O$130)-ROW(INDEX(Calc!$O$11:$O$130,1,1))+1),Calc!$CJ24)),"")}
C74: {=IFERROR(INDEX(Calc!$O$11:$O$130,SMALL(IF((C$64=Calc!$N$11:$N$130)*(Calc!$CH$11:$CH$130),ROW(Calc!$O$11:$O$130)-ROW(INDEX(Calc!$O$11:$O$130,1,1))+1),Calc!$CJ25)),"")} | E74: {=IFERROR(INDEX(Calc!$O$11:$O$130,SMALL(IF((E$64=Calc!$N$11:$N$130)*(Calc!$CH$11:$CH$130),ROW(Calc!$O$11:$O$130)-ROW(INDEX(Calc!$O$11:$O$130,1,1))+1),Calc!$CJ25)),"")} | G74: {=IFERROR(INDEX(Calc!$O$11:$O$130,SMALL(IF((G$64=Calc!$N$11:$N$130)*(Calc!$CH$11:$CH$130),ROW(Calc!$O$11:$O$130)-ROW(INDEX(Calc!$O$11:$O$130,1,1))+1),Calc!$CJ25)),"")} | I74: {=IFERROR(INDEX(Calc!$O$11:$O$130,SMALL(IF((I$64=Calc!$N$11:$N$130)*(Calc!$CH$11:$CH$130),ROW(Calc!$O$11:$O$130)-ROW(INDEX(Calc!$O$11:$O$130,1,1))+1),Calc!$CJ25)),"")} | K74: {=IFERROR(INDEX(Calc!$O$11:$O$130,SMALL(IF((K$64=Calc!$N$11:$N$130)*(Calc!$CH$11:$CH$130),ROW(Calc!$O$11:$O$130)-ROW(INDEX(Calc!$O$11:$O$130,1,1))+1),Calc!$CJ25)),"")} | M74: {=IFERROR(INDEX(Calc!$O$11:$O$130,SMALL(IF((M$64=Calc!$N$11:$N$130)*(Calc!$CH$11:$CH$130),ROW(Calc!$O$11:$O$130)-ROW(INDEX(Calc!$O$11:$O$130,1,1))+1),Calc!$CJ25)),"")} | O74: {=IFERROR(INDEX(Calc!$O$11:$O$130,SMALL(IF((O$64=Calc!$N$11:$N$130)*(Calc!$CH$11:$CH$130),ROW(Calc!$O$11:$O$130)-ROW(INDEX(Calc!$O$11:$O$130,1,1))+1),Calc!$CJ25)),"")}
C75: {=IFERROR(INDEX(Calc!$O$11:$O$130,SMALL(IF((C$64=Calc!$N$11:$N$130)*(Calc!$CH$11:$CH$130),ROW(Calc!$O$11:$O$130)-ROW(INDEX(Calc!$O$11:$O$130,1,1))+1),Calc!$CJ26)),"")} | E75: {=IFERROR(INDEX(Calc!$O$11:$O$130,SMALL(IF((E$64=Calc!$N$11:$N$130)*(Calc!$CH$11:$CH$130),ROW(Calc!$O$11:$O$130)-ROW(INDEX(Calc!$O$11:$O$130,1,1))+1),Calc!$CJ26)),"")} | G75: {=IFERROR(INDEX(Calc!$O$11:$O$130,SMALL(IF((G$64=Calc!$N$11:$N$130)*(Calc!$CH$11:$CH$130),ROW(Calc!$O$11:$O$130)-ROW(INDEX(Calc!$O$11:$O$130,1,1))+1),Calc!$CJ26)),"")} | I75: {=IFERROR(INDEX(Calc!$O$11:$O$130,SMALL(IF((I$64=Calc!$N$11:$N$130)*(Calc!$CH$11:$CH$130),ROW(Calc!$O$11:$O$130)-ROW(INDEX(Calc!$O$11:$O$130,1,1))+1),Calc!$CJ26)),"")} | K75: {=IFERROR(INDEX(Calc!$O$11:$O$130,SMALL(IF((K$64=Calc!$N$11:$N$130)*(Calc!$CH$11:$CH$130),ROW(Calc!$O$11:$O$130)-ROW(INDEX(Calc!$O$11:$O$130,1,1))+1),Calc!$CJ26)),"")} | M75: {=IFERROR(INDEX(Calc!$O$11:$O$130,SMALL(IF((M$64=Calc!$N$11:$N$130)*(Calc!$CH$11:$CH$130),ROW(Calc!$O$11:$O$130)-ROW(INDEX(Calc!$O$11:$O$130,1,1))+1),Calc!$CJ26)),"")} | O75: {=IFERROR(INDEX(Calc!$O$11:$O$130,SMALL(IF((O$64=Calc!$N$11:$N$130)*(Calc!$CH$11:$CH$130),ROW(Calc!$O$11:$O$130)-ROW(INDEX(Calc!$O$11:$O$130,1,1))+1),Calc!$CJ26)),"")}
C77: =IFERROR(IF(LEN(O64)=0,"",IF(MONTH(O64+1)=MONTH(O64),O64+1,"")),"") | E77: =IFERROR(IF(LEN(C77)=0,"",IF(MONTH(C77+1)=MONTH(C77),C77+1,"")),"")
C79: {=IFERROR(INDEX(Calc!$O$11:$O$130,SMALL(IF((C$77=Calc!$N$11:$N$130)*(Calc!$CH$11:$CH$130),ROW(Calc!$O$11:$O$130)-ROW(INDEX(Calc!$O$11:$O$130,1,1))+1),Calc!$CJ17)),"")} | E79: {=IFERROR(INDEX(Calc!$O$11:$O$130,SMALL(IF((E$77=Calc!$N$11:$N$130)*(Calc!$CH$11:$CH$130),ROW(Calc!$O$11:$O$130)-ROW(INDEX(Calc!$O$11:$O$130,1,1))+1),Calc!$CJ17)),"")}
C80: {=IFERROR(INDEX(Calc!$O$11:$O$130,SMALL(IF((C$77=Calc!$N$11:$N$130)*(Calc!$CH$11:$CH$130),ROW(Calc!$O$11:$O$130)-ROW(INDEX(Calc!$O$11:$O$130,1,1))+1),Calc!$CJ18)),"")} | E80: {=IFERROR(INDEX(Calc!$O$11:$O$130,SMALL(IF((E$77=Calc!$N$11:$N$130)*(Calc!$CH$11:$CH$130),ROW(Calc!$O$11:$O$130)-ROW(INDEX(Calc!$O$11:$O$130,1,1))+1),Calc!$CJ18)),"")}
C81: {=IFERROR(INDEX(Calc!$O$11:$O$130,SMALL(IF((C$77=Calc!$N$11:$N$130)*(Calc!$CH$11:$CH$130),ROW(Calc!$O$11:$O$130)-ROW(INDEX(Calc!$O$11:$O$130,1,1))+1),Calc!$CJ19)),"")} | E81: {=IFERROR(INDEX(Calc!$O$11:$O$130,SMALL(IF((E$77=Calc!$N$11:$N$130)*(Calc!$CH$11:$CH$130),ROW(Calc!$O$11:$O$130)-ROW(INDEX(Calc!$O$11:$O$130,1,1))+1),Calc!$CJ19)),"")}
C82: {=IFERROR(INDEX(Calc!$O$11:$O$130,SMALL(IF((C$77=Calc!$N$11:$N$130)*(Calc!$CH$11:$CH$130),ROW(Calc!$O$11:$O$130)-ROW(INDEX(Calc!$O$11:$O$130,1,1))+1),Calc!$CJ20)),"")} | E82: {=IFERROR(INDEX(Calc!$O$11:$O$130,SMALL(IF((E$77=Calc!$N$11:$N$130)*(Calc!$CH$11:$CH$130),ROW(Calc!$O$11:$O$130)-ROW(INDEX(Calc!$O$11:$O$130,1,1))+1),Calc!$CJ20)),"")}
C83: {=IFERROR(INDEX(Calc!$O$11:$O$130,SMALL(IF((C$77=Calc!$N$11:$N$130)*(Calc!$CH$11:$CH$130),ROW(Calc!$O$11:$O$130)-ROW(INDEX(Calc!$O$11:$O$130,1,1))+1),Calc!$CJ21)),"")} | E83: {=IFERROR(INDEX(Calc!$O$11:$O$130,SMALL(IF((E$77=Calc!$N$11:$N$130)*(Calc!$CH$11:$CH$130),ROW(Calc!$O$11:$O$130)-ROW(INDEX(Calc!$O$11:$O$130,1,1))+1),Calc!$CJ21)),"")}
C84: {=IFERROR(INDEX(Calc!$O$11:$O$130,SMALL(IF((C$77=Calc!$N$11:$N$130)*(Calc!$CH$11:$CH$130),ROW(Calc!$O$11:$O$130)-ROW(INDEX(Calc!$O$11:$O$130,1,1))+1),Calc!$CJ22)),"")} | E84: {=IFERROR(INDEX(Calc!$O$11:$O$130,SMALL(IF((E$77=Calc!$N$11:$N$130)*(Calc!$CH$11:$CH$130),ROW(Calc!$O$11:$O$130)-ROW(INDEX(Calc!$O$11:$O$130,1,1))+1),Calc!$CJ22)),"")}
C85: {=IFERROR(INDEX(Calc!$O$11:$O$130,SMALL(IF((C$77=Calc!$N$11:$N$130)*(Calc!$CH$11:$CH$130),ROW(Calc!$O$11:$O$130)-ROW(INDEX(Calc!$O$11:$O$130,1,1))+1),Calc!$CJ23)),"")} | E85: {=IFERROR(INDEX(Calc!$O$11:$O$130,SMALL(IF((E$77=Calc!$N$11:$N$130)*(Calc!$CH$11:$CH$130),ROW(Calc!$O$11:$O$130)-ROW(INDEX(Calc!$O$11:$O$130,1,1))+1),Calc!$CJ23)),"")}
C86: {=IFERROR(INDEX(Calc!$O$11:$O$130,SMALL(IF((C$77=Calc!$N$11:$N$130)*(Calc!$CH$11:$CH$130),ROW(Calc!$O$11:$O$130)-ROW(INDEX(Calc!$O$11:$O$130,1,1))+1),Calc!$CJ24)),"")} | E86: {=IFERROR(INDEX(Calc!$O$11:$O$130,SMALL(IF((E$77=Calc!$N$11:$N$130)*(Calc!$CH$11:$CH$130),ROW(Calc!$O$11:$O$130)-ROW(INDEX(Calc!$O$11:$O$130,1,1))+1),Calc!$CJ24)),"")}
C87: {=IFERROR(INDEX(Calc!$O$11:$O$130,SMALL(IF((C$77=Calc!$N$11:$N$130)*(Calc!$CH$11:$CH$130),ROW(Calc!$O$11:$O$130)-ROW(INDEX(Calc!$O$11:$O$130,1,1))+1),Calc!$CJ25)),"")} | E87: {=IFERROR(INDEX(Calc!$O$11:$O$130,SMALL(IF((E$77=Calc!$N$11:$N$130)*(Calc!$CH$11:$CH$130),ROW(Calc!$O$11:$O$130)-ROW(INDEX(Calc!$O$11:$O$130,1,1))+1),Calc!$CJ25)),"")}
C88: {=IFERROR(INDEX(Calc!$O$11:$O$130,SMALL(IF((C$77=Calc!$N$11:$N$130)*(Calc!$CH$11:$CH$130),ROW(Calc!$O$11:$O$130)-ROW(INDEX(Calc!$O$11:$O$130,1,1))+1),Calc!$CJ26)),"")} | E88: {=IFERROR(INDEX(Calc!$O$11:$O$130,SMALL(IF((E$77=Calc!$N$11:$N$130)*(Calc!$CH$11:$CH$130),ROW(Calc!$O$11:$O$130)-ROW(INDEX(Calc!$O$11:$O$130,1,1))+1),Calc!$CJ26)),"")}
C91: Next Month: | E91: =IFERROR(Calc!CN12&" / "&INDEX(Calc!CQ14:CQ25,Calc!CN13,1),"") -> 2024 / February
C95: MONDAY | E95: TUESDAY | G95: WEDNESDAY | I95: THURSDAY | K95: FRIDAY | M95: SATURDAY | O95: SUNDAY
C97: =IFERROR(IF(WEEKDAY(Calc!CN14)=2,Calc!CN14,""),"") | E97: =IFERROR(IF(LEN(C97)>0,C97+1,IF(WEEKDAY(Calc!CN14)=3,Calc!CN14,"")),"") | G97: =IFERROR(IF(LEN(E97)>0,E97+1,IF(WEEKDAY(Calc!CN14)=4,Calc!CN14,"")),"") | I97: =IFERROR(IF(LEN(G97)>0,G97+1,IF(WEEKDAY(Calc!CN14)=5,Calc!CN14,"")),"") -> 45323 | K97: =IFERROR(IF(LEN(I97)>0,I97+1,IF(WEEKDAY(Calc!CN14)=6,Calc!CN14,"")),"") -> 45324 | M97: =IFERROR(IF(LEN(K97)>0,K97+1,IF(WEEKDAY(Calc!CN14)=7,Calc!CN14,"")),"") -> 45325 | O97: =IFERROR(IF(LEN(M97)>0,M97+1,IF(WEEKDAY(Calc!CN14)=1,Calc!CN14,"")),"") -> 45326
C99: {=IFERROR(INDEX(Calc!$O$11:$O$130,SMALL(IF((C$97=Calc!$N$11:$N$130)*(Calc!$CH$11:$CH$130),ROW(Calc!$O$11:$O$130)-ROW(INDEX(Calc!$O$11:$O$130,1,1))+1),Calc!$CJ17)),"")} | E99: {=IFERROR(INDEX(Calc!$O$11:$O$130,SMALL(IF((E$97=Calc!$N$11:$N$130)*(Calc!$CH$11:$CH$130),ROW(Calc!$O$11:$O$130)-ROW(INDEX(Calc!$O$11:$O$130,1,1))+1),Calc!$CJ17)),"")} | G99: {=IFERROR(INDEX(Calc!$O$11:$O$130,SMALL(IF((G$97=Calc!$N$11:$N$130)*(Calc!$CH$11:$CH$130),ROW(Calc!$O$11:$O$130)-ROW(INDEX(Calc!$O$11:$O$130,1,1))+1),Calc!$CJ17)),"")} | I99: {=IFERROR(INDEX(Calc!$O$11:$O$130,SMALL(IF((I$97=Calc!$N$11:$N$130)*(Calc!$CH$11:$CH$130),ROW(Calc!$O$11:$O$130)-ROW(INDEX(Calc!$O$11:$O$130,1,1))+1),Calc!$CJ17)),"")} -> Utilities - $120 | K99: {=IFERROR(INDEX(Calc!$O$11:$O$130,SMALL(IF((K$97=Calc!$N$11:$N$130)*(Calc!$CH$11:$CH$130),ROW(Calc!$O$11:$O$130)-ROW(INDEX(Calc!$O$11:$O$130,1,1))+1),Calc!$CJ17)),"")} | M99: {=IFERROR(INDEX(Calc!$O$11:$O$130,SMALL(IF((M$97=Calc!$N$11:$N$130)*(Calc!$CH$11:$CH$130),ROW(Calc!$O$11:$O$130)-ROW(INDEX(Calc!$O$11:$O$130,1,1))+1),Calc!$CJ17)),"")} | O99: {=IFERROR(INDEX(Calc!$O$11:$O$130,SMALL(IF((O$97=Calc!$N$11:$N$130)*(Calc!$CH$11:$CH$130),ROW(Calc!$O$11:$O$130)-ROW(INDEX(Calc!$O$11:$O$130,1,1))+1),Calc!$CJ17)),"")}
C100: {=IFERROR(INDEX(Calc!$O$11:$O$130,SMALL(IF((C$97=Calc!$N$11:$N$130)*(Calc!$CH$11:$CH$130),ROW(Calc!$O$11:$O$130)-ROW(INDEX(Calc!$O$11:$O$130,1,1))+1),Calc!$CJ18)),"")} | E100: {=IFERROR(INDEX(Calc!$O$11:$O$130,SMALL(IF((E$97=Calc!$N$11:$N$130)*(Calc!$CH$11:$CH$130),ROW(Calc!$O$11:$O$130)-ROW(INDEX(Calc!$O$11:$O$130,1,1))+1),Calc!$CJ18)),"")} | G100: {=IFERROR(INDEX(Calc!$O$11:$O$130,SMALL(IF((G$97=Calc!$N$11:$N$130)*(Calc!$CH$11:$CH$130),ROW(Calc!$O$11:$O$130)-ROW(INDEX(Calc!$O$11:$O$130,1,1))+1),Calc!$CJ18)),"")} | I100: {=IFERROR(INDEX(Calc!$O$11:$O$130,SMALL(IF((I$97=Calc!$N$11:$N$130)*(Calc!$CH$11:$CH$130),ROW(Calc!$O$11:$O$130)-ROW(INDEX(Calc!$O$11:$O$130,1,1))+1),Calc!$CJ18)),"")} -> Utilities - $30 | K100: {=IFERROR(INDEX(Calc!$O$11:$O$130,SMALL(IF((K$97=Calc!$N$11:$N$130)*(Calc!$CH$11:$CH$130),ROW(Calc!$O$11:$O$130)-ROW(INDEX(Calc!$O$11:$O$130,1,1))+1),Calc!$CJ18)),"")} | M100: {=IFERROR(INDEX(Calc!$O$11:$O$130,SMALL(IF((M$97=Calc!$N$11:$N$130)*(Calc!$CH$11:$CH$130),ROW(Calc!$O$11:$O$130)-ROW(INDEX(Calc!$O$11:$O$130,1,1))+1),Calc!$CJ18)),"")} | O100: {=IFERROR(INDEX(Calc!$O$11:$O$130,SMALL(IF((O$97=Calc!$N$11:$N$130)*(Calc!$CH$11:$CH$130),ROW(Calc!$O$11:$O$130)-ROW(INDEX(Calc!$O$11:$O$130,1,1))+1),Calc!$CJ18)),"")}
C101: {=IFERROR(INDEX(Calc!$O$11:$O$130,SMALL(IF((C$97=Calc!$N$11:$N$130)*(Calc!$CH$11:$CH$130),ROW(Calc!$O$11:$O$130)-ROW(INDEX(Calc!$O$11:$O$130,1,1))+1),Calc!$CJ19)),"")} | E101: {=IFERROR(INDEX(Calc!$O$11:$O$130,SMALL(IF((E$97=Calc!$N$11:$N$130)*(Calc!$CH$11:$CH$130),ROW(Calc!$O$11:$O$130)-ROW(INDEX(Calc!$O$11:$O$130,1,1))+1),Calc!$CJ19)),"")} | G101: {=IFERROR(INDEX(Calc!$O$11:$O$130,SMALL(IF((G$97=Calc!$N$11:$N$130)*(Calc!$CH$11:$CH$130),ROW(Calc!$O$11:$O$130)-ROW(INDEX(Calc!$O$11:$O$130,1,1))+1),Calc!$CJ19)),"")} | I101: {=IFERROR(INDEX(Calc!$O$11:$O$130,SMALL(IF((I$97=Calc!$N$11:$N$130)*(Calc!$CH$11:$CH$130),ROW(Calc!$O$11:$O$130)-ROW(INDEX(Calc!$O$11:$O$130,1,1))+1),Calc!$CJ19)),"")} -> Subscriptions - $15 | K101: {=IFERROR(INDEX(Calc!$O$11:$O$130,SMALL(IF((K$97=Calc!$N$11:$N$130)*(Calc!$CH$11:$CH$130),ROW(Calc!$O$11:$O$130)-ROW(INDEX(Calc!$O$11:$O$130,1,1))+1),Calc!$CJ19)),"")} | M101: {=IFERROR(INDEX(Calc!$O$11:$O$130,SMALL(IF((M$97=Calc!$N$11:$N$130)*(Calc!$CH$11:$CH$130),ROW(Calc!$O$11:$O$130)-ROW(INDEX(Calc!$O$11:$O$130,1,1))+1),Calc!$CJ19)),"")} | O101: {=IFERROR(INDEX(Calc!$O$11:$O$130,SMALL(IF((O$97=Calc!$N$11:$N$130)*(Calc!$CH$11:$CH$130),ROW(Calc!$O$11:$O$130)-ROW(INDEX(Calc!$O$11:$O$130,1,1))+1),Calc!$CJ19)),"")}
C102: {=IFERROR(INDEX(Calc!$O$11:$O$130,SMALL(IF((C$97=Calc!$N$11:$N$130)*(Calc!$CH$11:$CH$130),ROW(Calc!$O$11:$O$130)-ROW(INDEX(Calc!$O$11:$O$130,1,1))+1),Calc!$CJ20)),"")} | E102: {=IFERROR(INDEX(Calc!$O$11:$O$130,SMALL(IF((E$97=Calc!$N$11:$N$130)*(Calc!$CH$11:$CH$130),ROW(Calc!$O$11:$O$130)-ROW(INDEX(Calc!$O$11:$O$130,1,1))+1),Calc!$CJ20)),"")} | G102: {=IFERROR(INDEX(Calc!$O$11:$O$130,SMALL(IF((G$97=Calc!$N$11:$N$130)*(Calc!$CH$11:$CH$130),ROW(Calc!$O$11:$O$130)-ROW(INDEX(Calc!$O$11:$O$130,1,1))+1),Calc!$CJ20)),"")} | I102: {=IFERROR(INDEX(Calc!$O$11:$O$130,SMALL(IF((I$97=Calc!$N$11:$N$130)*(Calc!$CH$11:$CH$130),ROW(Calc!$O$11:$O$130)-ROW(INDEX(Calc!$O$11:$O$130,1,1))+1),Calc!$CJ20)),"")} | K102: {=IFERROR(INDEX(Calc!$O$11:$O$130,SMALL(IF((K$97=Calc!$N$11:$N$130)*(Calc!$CH$11:$CH$130),ROW(Calc!$O$11:$O$130)-ROW(INDEX(Calc!$O$11:$O$130,1,1))+1),Calc!$CJ20)),"")} | M102: {=IFERROR(INDEX(Calc!$O$11:$O$130,SMALL(IF((M$97=Calc!$N$11:$N$130)*(Calc!$CH$11:$CH$130),ROW(Calc!$O$11:$O$130)-ROW(INDEX(Calc!$O$11:$O$130,1,1))+1),Calc!$CJ20)),"")} | O102: {=IFERROR(INDEX(Calc!$O$11:$O$130,SMALL(IF((O$97=Calc!$N$11:$N$130)*(Calc!$CH$11:$CH$130),ROW(Calc!$O$11:$O$130)-ROW(INDEX(Calc!$O$11:$O$130,1,1))+1),Calc!$CJ20)),"")}
C103: {=IFERROR(INDEX(Calc!$O$11:$O$130,SMALL(IF((C$97=Calc!$N$11:$N$130)*(Calc!$CH$11:$CH$130),ROW(Calc!$O$11:$O$130)-ROW(INDEX(Calc!$O$11:$O$130,1,1))+1),Calc!$CJ21)),"")} | E103: {=IFERROR(INDEX(Calc!$O$11:$O$130,SMALL(IF((E$97=Calc!$N$11:$N$130)*(Calc!$CH$11:$CH$130),ROW(Calc!$O$11:$O$130)-ROW(INDEX(Calc!$O$11:$O$130,1,1))+1),Calc!$CJ21)),"")} | G103: {=IFERROR(INDEX(Calc!$O$11:$O$130,SMALL(IF((G$97=Calc!$N$11:$N$130)*(Calc!$CH$11:$CH$130),ROW(Calc!$O$11:$O$130)-ROW(INDEX(Calc!$O$11:$O$130,1,1))+1),Calc!$CJ21)),"")} | I103: {=IFERROR(INDEX(Calc!$O$11:$O$130,SMALL(IF((I$97=Calc!$N$11:$N$130)*(Calc!$CH$11:$CH$130),ROW(Calc!$O$11:$O$130)-ROW(INDEX(Calc!$O$11:$O$130,1,1))+1),Calc!$CJ21)),"")} | K103: {=IFERROR(INDEX(Calc!$O$11:$O$130,SMALL(IF((K$97=Calc!$N$11:$N$130)*(Calc!$CH$11:$CH$130),ROW(Calc!$O$11:$O$130)-ROW(INDEX(Calc!$O$11:$O$130,1,1))+1),Calc!$CJ21)),"")} | M103: {=IFERROR(INDEX(Calc!$O$11:$O$130,SMALL(IF((M$97=Calc!$N$11:$N$130)*(Calc!$CH$11:$CH$130),ROW(Calc!$O$11:$O$130)-ROW(INDEX(Calc!$O$11:$O$130,1,1))+1),Calc!$CJ21)),"")} | O103: {=IFERROR(INDEX(Calc!$O$11:$O$130,SMALL(IF((O$97=Calc!$N$11:$N$130)*(Calc!$CH$11:$CH$130),ROW(Calc!$O$11:$O$130)-ROW(INDEX(Calc!$O$11:$O$130,1,1))+1),Calc!$CJ21)),"")}
C104: {=IFERROR(INDEX(Calc!$O$11:$O$130,SMALL(IF((C$97=Calc!$N$11:$N$130)*(Calc!$CH$11:$CH$130),ROW(Calc!$O$11:$O$130)-ROW(INDEX(Calc!$O$11:$O$130,1,1))+1),Calc!$CJ22)),"")} | E104: {=IFERROR(INDEX(Calc!$O$11:$O$130,SMALL(IF((E$97=Calc!$N$11:$N$130)*(Calc!$CH$11:$CH$130),ROW(Calc!$O$11:$O$130)-ROW(INDEX(Calc!$O$11:$O$130,1,1))+1),Calc!$CJ22)),"")} | G104: {=IFERROR(INDEX(Calc!$O$11:$O$130,SMALL(IF((G$97=Calc!$N$11:$N$130)*(Calc!$CH$11:$CH$130),ROW(Calc!$O$11:$O$130)-ROW(INDEX(Calc!$O$11:$O$130,1,1))+1),Calc!$CJ22)),"")} | I104: {=IFERROR(INDEX(Calc!$O$11:$O$130,SMALL(IF((I$97=Calc!$N$11:$N$130)*(Calc!$CH$11:$CH$130),ROW(Calc!$O$11:$O$130)-ROW(INDEX(Calc!$O$11:$O$130,1,1))+1),Calc!$CJ22)),"")} | K104: {=IFERROR(INDEX(Calc!$O$11:$O$130,SMALL(IF((K$97=Calc!$N$11:$N$130)*(Calc!$CH$11:$CH$130),ROW(Calc!$O$11:$O$130)-ROW(INDEX(Calc!$O$11:$O$130,1,1))+1),Calc!$CJ22)),"")} | M104: {=IFERROR(INDEX(Calc!$O$11:$O$130,SMALL(IF((M$97=Calc!$N$11:$N$130)*(Calc!$CH$11:$CH$130),ROW(Calc!$O$11:$O$130)-ROW(INDEX(Calc!$O$11:$O$130,1,1))+1),Calc!$CJ22)),"")} | O104: {=IFERROR(INDEX(Calc!$O$11:$O$130,SMALL(IF((O$97=Calc!$N$11:$N$130)*(Calc!$CH$11:$CH$130),ROW(Calc!$O$11:$O$130)-ROW(INDEX(Calc!$O$11:$O$130,1,1))+1),Calc!$CJ22)),"")}
C105: {=IFERROR(INDEX(Calc!$O$11:$O$130,SMALL(IF((C$97=Calc!$N$11:$N$130)*(Calc!$CH$11:$CH$130),ROW(Calc!$O$11:$O$130)-ROW(INDEX(Calc!$O$11:$O$130,1,1))+1),Calc!$CJ23)),"")} | E105: {=IFERROR(INDEX(Calc!$O$11:$O$130,SMALL(IF((E$97=Calc!$N$11:$N$130)*(Calc!$CH$11:$CH$130),ROW(Calc!$O$11:$O$130)-ROW(INDEX(Calc!$O$11:$O$130,1,1))+1),Calc!$CJ23)),"")} | G105: {=IFERROR(INDEX(Calc!$O$11:$O$130,SMALL(IF((G$97=Calc!$N$11:$N$130)*(Calc!$CH$11:$CH$130),ROW(Calc!$O$11:$O$130)-ROW(INDEX(Calc!$O$11:$O$130,1,1))+1),Calc!$CJ23)),"")} | I105: {=IFERROR(INDEX(Calc!$O$11:$O$130,SMALL(IF((I$97=Calc!$N$11:$N$130)*(Calc!$CH$11:$CH$130),ROW(Calc!$O$11:$O$130)-ROW(INDEX(Calc!$O$11:$O$130,1,1))+1),Calc!$CJ23)),"")} | K105: {=IFERROR(INDEX(Calc!$O$11:$O$130,SMALL(IF((K$97=Calc!$N$11:$N$130)*(Calc!$CH$11:$CH$130),ROW(Calc!$O$11:$O$130)-ROW(INDEX(Calc!$O$11:$O$130,1,1))+1),Calc!$CJ23)),"")} | M105: {=IFERROR(INDEX(Calc!$O$11:$O$130,SMALL(IF((M$97=Calc!$N$11:$N$130)*(Calc!$CH$11:$CH$130),ROW(Calc!$O$11:$O$130)-ROW(INDEX(Calc!$O$11:$O$130,1,1))+1),Calc!$CJ23)),"")} | O105: {=IFERROR(INDEX(Calc!$O$11:$O$130,SMALL(IF((O$97=Calc!$N$11:$N$130)*(Calc!$CH$11:$CH$130),ROW(Calc!$O$11:$O$130)-ROW(INDEX(Calc!$O$11:$O$130,1,1))+1),Calc!$CJ23)),"")}
C106: {=IFERROR(INDEX(Calc!$O$11:$O$130,SMALL(IF((C$97=Calc!$N$11:$N$130)*(Calc!$CH$11:$CH$130),ROW(Calc!$O$11:$O$130)-ROW(INDEX(Calc!$O$11:$O$130,1,1))+1),Calc!$CJ24)),"")} | E106: {=IFERROR(INDEX(Calc!$O$11:$O$130,SMALL(IF((E$97=Calc!$N$11:$N$130)*(Calc!$CH$11:$CH$130),ROW(Calc!$O$11:$O$130)-ROW(INDEX(Calc!$O$11:$O$130,1,1))+1),Calc!$CJ24)),"")} | G106: {=IFERROR(INDEX(Calc!$O$11:$O$130,SMALL(IF((G$97=Calc!$N$11:$N$130)*(Calc!$CH$11:$CH$130),ROW(Calc!$O$11:$O$130)-ROW(INDEX(Calc!$O$11:$O$130,1,1))+1),Calc!$CJ24)),"")} | I106: {=IFERROR(INDEX(Calc!$O$11:$O$130,SMALL(IF((I$97=Calc!$N$11:$N$130)*(Calc!$CH$11:$CH$130),ROW(Calc!$O$11:$O$130)-ROW(INDEX(Calc!$O$11:$O$130,1,1))+1),Calc!$CJ24)),"")} | K106: {=IFERROR(INDEX(Calc!$O$11:$O$130,SMALL(IF((K$97=Calc!$N$11:$N$130)*(Calc!$CH$11:$CH$130),ROW(Calc!$O$11:$O$130)-ROW(INDEX(Calc!$O$11:$O$130,1,1))+1),Calc!$CJ24)),"")} | M106: {=IFERROR(INDEX(Calc!$O$11:$O$130,SMALL(IF((M$97=Calc!$N$11:$N$130)*(Calc!$CH$11:$CH$130),ROW(Calc!$O$11:$O$130)-ROW(INDEX(Calc!$O$11:$O$130,1,1))+1),Calc!$CJ24)),"")} | O106: {=IFERROR(INDEX(Calc!$O$11:$O$130,SMALL(IF((O$97=Calc!$N$11:$N$130)*(Calc!$CH$11:$CH$130),ROW(Calc!$O$11:$O$130)-ROW(INDEX(Calc!$O$11:$O$130,1,1))+1),Calc!$CJ24)),"")}
C107: {=IFERROR(INDEX(Calc!$O$11:$O$130,SMALL(IF((C$97=Calc!$N$11:$N$130)*(Calc!$CH$11:$CH$130),ROW(Calc!$O$11:$O$130)-ROW(INDEX(Calc!$O$11:$O$130,1,1))+1),Calc!$CJ25)),"")} | E107: {=IFERROR(INDEX(Calc!$O$11:$O$130,SMALL(IF((E$97=Calc!$N$11:$N$130)*(Calc!$CH$11:$CH$130),ROW(Calc!$O$11:$O$130)-ROW(INDEX(Calc!$O$11:$O$130,1,1))+1),Calc!$CJ25)),"")} | G107: {=IFERROR(INDEX(Calc!$O$11:$O$130,SMALL(IF((G$97=Calc!$N$11:$N$130)*(Calc!$CH$11:$CH$130),ROW(Calc!$O$11:$O$130)-ROW(INDEX(Calc!$O$11:$O$130,1,1))+1),Calc!$CJ25)),"")} | I107: {=IFERROR(INDEX(Calc!$O$11:$O$130,SMALL(IF((I$97=Calc!$N$11:$N$130)*(Calc!$CH$11:$CH$130),ROW(Calc!$O$11:$O$130)-ROW(INDEX(Calc!$O$11:$O$130,1,1))+1),Calc!$CJ25)),"")} | K107: {=IFERROR(INDEX(Calc!$O$11:$O$130,SMALL(IF((K$97=Calc!$N$11:$N$130)*(Calc!$CH$11:$CH$130),ROW(Calc!$O$11:$O$130)-ROW(INDEX(Calc!$O$11:$O$130,1,1))+1),Calc!$CJ25)),"")} | M107: {=IFERROR(INDEX(Calc!$O$11:$O$130,SMALL(IF((M$97=Calc!$N$11:$N$130)*(Calc!$CH$11:$CH$130),ROW(Calc!$O$11:$O$130)-ROW(INDEX(Calc!$O$11:$O$130,1,1))+1),Calc!$CJ25)),"")} | O107: {=IFERROR(INDEX(Calc!$O$11:$O$130,SMALL(IF((O$97=Calc!$N$11:$N$130)*(Calc!$CH$11:$CH$130),ROW(Calc!$O$11:$O$130)-ROW(INDEX(Calc!$O$11:$O$130,1,1))+1),Calc!$CJ25)),"")}
C108: {=IFERROR(INDEX(Calc!$O$11:$O$130,SMALL(IF((C$97=Calc!$N$11:$N$130)*(Calc!$CH$11:$CH$130),ROW(Calc!$O$11:$O$130)-ROW(INDEX(Calc!$O$11:$O$130,1,1))+1),Calc!$CJ26)),"")} | E108: {=IFERROR(INDEX(Calc!$O$11:$O$130,SMALL(IF((E$97=Calc!$N$11:$N$130)*(Calc!$CH$11:$CH$130),ROW(Calc!$O$11:$O$130)-ROW(INDEX(Calc!$O$11:$O$130,1,1))+1),Calc!$CJ26)),"")} | G108: {=IFERROR(INDEX(Calc!$O$11:$O$130,SMALL(IF((G$97=Calc!$N$11:$N$130)*(Calc!$CH$11:$CH$130),ROW(Calc!$O$11:$O$130)-ROW(INDEX(Calc!$O$11:$O$130,1,1))+1),Calc!$CJ26)),"")} | I108: {=IFERROR(INDEX(Calc!$O$11:$O$130,SMALL(IF((I$97=Calc!$N$11:$N$130)*(Calc!$CH$11:$CH$130),ROW(Calc!$O$11:$O$130)-ROW(INDEX(Calc!$O$11:$O$130,1,1))+1),Calc!$CJ26)),"")} | K108: {=IFERROR(INDEX(Calc!$O$11:$O$130,SMALL(IF((K$97=Calc!$N$11:$N$130)*(Calc!$CH$11:$CH$130),ROW(Calc!$O$11:$O$130)-ROW(INDEX(Calc!$O$11:$O$130,1,1))+1),Calc!$CJ26)),"")} | M108: {=IFERROR(INDEX(Calc!$O$11:$O$130,SMALL(IF((M$97=Calc!$N$11:$N$130)*(Calc!$CH$11:$CH$130),ROW(Calc!$O$11:$O$130)-ROW(INDEX(Calc!$O$11:$O$130,1,1))+1),Calc!$CJ26)),"")} | O108: {=IFERROR(INDEX(Calc!$O$11:$O$130,SMALL(IF((O$97=Calc!$N$11:$N$130)*(Calc!$CH$11:$CH$130),ROW(Calc!$O$11:$O$130)-ROW(INDEX(Calc!$O$11:$O$130,1,1))+1),Calc!$CJ26)),"")}
C110: =IFERROR(IF(LEN(O97)=0,"",IF(MONTH(O97+1)=MONTH(O97),O97+1,"")),"") -> 45327 | E110: =IFERROR(IF(LEN(C110)=0,"",IF(MONTH(C110+1)=MONTH(C110),C110+1,"")),"") -> 45328 | G110: =IFERROR(IF(LEN(E110)=0,"",IF(MONTH(E110+1)=MONTH(E110),E110+1,"")),"") -> 45329 | I110: =IFERROR(IF(LEN(G110)=0,"",IF(MONTH(G110+1)=MONTH(G110),G110+1,"")),"") -> 45330 | K110: =IFERROR(IF(LEN(I110)=0,"",IF(MONTH(I110+1)=MONTH(I110),I110+1,"")),"") -> 45331 | M110: =IFERROR(IF(LEN(K110)=0,"",IF(MONTH(K110+1)=MONTH(K110),K110+1,"")),"") -> 45332 | O110: =IFERROR(IF(LEN(M110)=0,"",IF(MONTH(M110+1)=MONTH(M110),M110+1,"")),"") -> 45333
C112: {=IFERROR(INDEX(Calc!$O$11:$O$130,SMALL(IF((C$110=Calc!$N$11:$N$130)*(Calc!$CH$11:$CH$130),ROW(Calc!$O$11:$O$130)-ROW(INDEX(Calc!$O$11:$O$130,1,1))+1),Calc!$CJ17)),"")} -> Utilities - $30 | E112: {=IFERROR(INDEX(Calc!$O$11:$O$130,SMALL(IF((E$110=Calc!$N$11:$N$130)*(Calc!$CH$11:$CH$130),ROW(Calc!$O$11:$O$130)-ROW(INDEX(Calc!$O$11:$O$130,1,1))+1),Calc!$CJ17)),"")} | G112: {=IFERROR(INDEX(Calc!$O$11:$O$130,SMALL(IF((G$110=Calc!$N$11:$N$130)*(Calc!$CH$11:$CH$130),ROW(Calc!$O$11:$O$130)-ROW(INDEX(Calc!$O$11:$O$130,1,1))+1),Calc!$CJ17)),"")} -> Utilities - $50 | I112: {=IFERROR(INDEX(Calc!$O$11:$O$130,SMALL(IF((I$110=Calc!$N$11:$N$130)*(Calc!$CH$11:$CH$130),ROW(Calc!$O$11:$O$130)-ROW(INDEX(Calc!$O$11:$O$130,1,1))+1),Calc!$CJ17)),"")} | K112: {=IFERROR(INDEX(Calc!$O$11:$O$130,SMALL(IF((K$110=Calc!$N$11:$N$130)*(Calc!$CH$11:$CH$130),ROW(Calc!$O$11:$O$130)-ROW(INDEX(Calc!$O$11:$O$130,1,1))+1),Calc!$CJ17)),"")} | M112: {=IFERROR(INDEX(Calc!$O$11:$O$130,SMALL(IF((M$110=Calc!$N$11:$N$130)*(Calc!$CH$11:$CH$130),ROW(Calc!$O$11:$O$130)-ROW(INDEX(Calc!$O$11:$O$130,1,1))+1),Calc!$CJ17)),"")} | O112: {=IFERROR(INDEX(Calc!$O$11:$O$130,SMALL(IF((O$110=Calc!$N$11:$N$130)*(Calc!$CH$11:$CH$130),ROW(Calc!$O$11:$O$130)-ROW(INDEX(Calc!$O$11:$O$130,1,1))+1),Calc!$CJ17)),"")}
C113: {=IFERROR(INDEX(Calc!$O$11:$O$130,SMALL(IF((C$110=Calc!$N$11:$N$130)*(Calc!$CH$11:$CH$130),ROW(Calc!$O$11:$O$130)-ROW(INDEX(Calc!$O$11:$O$130,1,1))+1),Calc!$CJ18)),"")} | E113: {=IFERROR(INDEX(Calc!$O$11:$O$130,SMALL(IF((E$110=Calc!$N$11:$N$130)*(Calc!$CH$11:$CH$130),ROW(Calc!$O$11:$O$130)-ROW(INDEX(Calc!$O$11:$O$130,1,1))+1),Calc!$CJ18)),"")} | G113: {=IFERROR(INDEX(Calc!$O$11:$O$130,SMALL(IF((G$110=Calc!$N$11:$N$130)*(Calc!$CH$11:$CH$130),ROW(Calc!$O$11:$O$130)-ROW(INDEX(Calc!$O$11:$O$130,1,1))+1),Calc!$CJ18)),"")} | I113: {=IFERROR(INDEX(Calc!$O$11:$O$130,SMALL(IF((I$110=Calc!$N$11:$N$130)*(Calc!$CH$11:$CH$130),ROW(Calc!$O$11:$O$130)-ROW(INDEX(Calc!$O$11:$O$130,1,1))+1),Calc!$CJ18)),"")} | K113: {=IFERROR(INDEX(Calc!$O$11:$O$130,SMALL(IF((K$110=Calc!$N$11:$N$130)*(Calc!$CH$11:$CH$130),ROW(Calc!$O$11:$O$130)-ROW(INDEX(Calc!$O$11:$O$130,1,1))+1),Calc!$CJ18)),"")} | M113: {=IFERROR(INDEX(Calc!$O$11:$O$130,SMALL(IF((M$110=Calc!$N$11:$N$130)*(Calc!$CH$11:$CH$130),ROW(Calc!$O$11:$O$130)-ROW(INDEX(Calc!$O$11:$O$130,1,1))+1),Calc!$CJ18)),"")} | O113: {=IFERROR(INDEX(Calc!$O$11:$O$130,SMALL(IF((O$110=Calc!$N$11:$N$130)*(Calc!$CH$11:$CH$130),ROW(Calc!$O$11:$O$130)-ROW(INDEX(Calc!$O$11:$O$130,1,1))+1),Calc!$CJ18)),"")}
C114: {=IFERROR(INDEX(Calc!$O$11:$O$130,SMALL(IF((C$110=Calc!$N$11:$N$130)*(Calc!$CH$11:$CH$130),ROW(Calc!$O$11:$O$130)-ROW(INDEX(Calc!$O$11:$O$130,1,1))+1),Calc!$CJ19)),"")} | E114: {=IFERROR(INDEX(Calc!$O$11:$O$130,SMALL(IF((E$110=Calc!$N$11:$N$130)*(Calc!$CH$11:$CH$130),ROW(Calc!$O$11:$O$130)-ROW(INDEX(Calc!$O$11:$O$130,1,1))+1),Calc!$CJ19)),"")} | G114: {=IFERROR(INDEX(Calc!$O$11:$O$130,SMALL(IF((G$110=Calc!$N$11:$N$130)*(Calc!$CH$11:$CH$130),ROW(Calc!$O$11:$O$130)-ROW(INDEX(Calc!$O$11:$O$130,1,1))+1),Calc!$CJ19)),"")} | I114: {=IFERROR(INDEX(Calc!$O$11:$O$130,SMALL(IF((I$110=Calc!$N$11:$N$130)*(Calc!$CH$11:$CH$130),ROW(Calc!$O$11:$O$130)-ROW(INDEX(Calc!$O$11:$O$130,1,1))+1),Calc!$CJ19)),"")} | K114: {=IFERROR(INDEX(Calc!$O$11:$O$130,SMALL(IF((K$110=Calc!$N$11:$N$130)*(Calc!$CH$11:$CH$130),ROW(Calc!$O$11:$O$130)-ROW(INDEX(Calc!$O$11:$O$130,1,1))+1),Calc!$CJ19)),"")} | M114: {=IFERROR(INDEX(Calc!$O$11:$O$130,SMALL(IF((M$110=Calc!$N$11:$N$130)*(Calc!$CH$11:$CH$130),ROW(Calc!$O$11:$O$130)-ROW(INDEX(Calc!$O$11:$O$130,1,1))+1),Calc!$CJ19)),"")} | O114: {=IFERROR(INDEX(Calc!$O$11:$O$130,SMALL(IF((O$110=Calc!$N$11:$N$130)*(Calc!$CH$11:$CH$130),ROW(Calc!$O$11:$O$130)-ROW(INDEX(Calc!$O$11:$O$130,1,1))+1),Calc!$CJ19)),"")}
C115: {=IFERROR(INDEX(Calc!$O$11:$O$130,SMALL(IF((C$110=Calc!$N$11:$N$130)*(Calc!$CH$11:$CH$130),ROW(Calc!$O$11:$O$130)-ROW(INDEX(Calc!$O$11:$O$130,1,1))+1),Calc!$CJ20)),"")} | E115: {=IFERROR(INDEX(Calc!$O$11:$O$130,SMALL(IF((E$110=Calc!$N$11:$N$130)*(Calc!$CH$11:$CH$130),ROW(Calc!$O$11:$O$130)-ROW(INDEX(Calc!$O$11:$O$130,1,1))+1),Calc!$CJ20)),"")} | G115: {=IFERROR(INDEX(Calc!$O$11:$O$130,SMALL(IF((G$110=Calc!$N$11:$N$130)*(Calc!$CH$11:$CH$130),ROW(Calc!$O$11:$O$130)-ROW(INDEX(Calc!$O$11:$O$130,1,1))+1),Calc!$CJ20)),"")} | I115: {=IFERROR(INDEX(Calc!$O$11:$O$130,SMALL(IF((I$110=Calc!$N$11:$N$130)*(Calc!$CH$11:$CH$130),ROW(Calc!$O$11:$O$130)-ROW(INDEX(Calc!$O$11:$O$130,1,1))+1),Calc!$CJ20)),"")} | K115: {=IFERROR(INDEX(Calc!$O$11:$O$130,SMALL(IF((K$110=Calc!$N$11:$N$130)*(Calc!$CH$11:$CH$130),ROW(Calc!$O$11:$O$130)-ROW(INDEX(Calc!$O$11:$O$130,1,1))+1),Calc!$CJ20)),"")} | M115: {=IFERROR(INDEX(Calc!$O$11:$O$130,SMALL(IF((M$110=Calc!$N$11:$N$130)*(Calc!$CH$11:$CH$130),ROW(Calc!$O$11:$O$130)-ROW(INDEX(Calc!$O$11:$O$130,1,1))+1),Calc!$CJ20)),"")} | O115: {=IFERROR(INDEX(Calc!$O$11:$O$130,SMALL(IF((O$110=Calc!$N$11:$N$130)*(Calc!$CH$11:$CH$130),ROW(Calc!$O$11:$O$130)-ROW(INDEX(Calc!$O$11:$O$130,1,1))+1),Calc!$CJ20)),"")}
C116: {=IFERROR(INDEX(Calc!$O$11:$O$130,SMALL(IF((C$110=Calc!$N$11:$N$130)*(Calc!$CH$11:$CH$130),ROW(Calc!$O$11:$O$130)-ROW(INDEX(Calc!$O$11:$O$130,1,1))+1),Calc!$CJ21)),"")} | E116: {=IFERROR(INDEX(Calc!$O$11:$O$130,SMALL(IF((E$110=Calc!$N$11:$N$130)*(Calc!$CH$11:$CH$130),ROW(Calc!$O$11:$O$130)-ROW(INDEX(Calc!$O$11:$O$130,1,1))+1),Calc!$CJ21)),"")} | G116: {=IFERROR(INDEX(Calc!$O$11:$O$130,SMALL(IF((G$110=Calc!$N$11:$N$130)*(Calc!$CH$11:$CH$130),ROW(Calc!$O$11:$O$130)-ROW(INDEX(Calc!$O$11:$O$130,1,1))+1),Calc!$CJ21)),"")} | I116: {=IFERROR(INDEX(Calc!$O$11:$O$130,SMALL(IF((I$110=Calc!$N$11:$N$130)*(Calc!$CH$11:$CH$130),ROW(Calc!$O$11:$O$130)-ROW(INDEX(Calc!$O$11:$O$130,1,1))+1),Calc!$CJ21)),"")} | K116: {=IFERROR(INDEX(Calc!$O$11:$O$130,SMALL(IF((K$110=Calc!$N$11:$N$130)*(Calc!$CH$11:$CH$130),ROW(Calc!$O$11:$O$130)-ROW(INDEX(Calc!$O$11:$O$130,1,1))+1),Calc!$CJ21)),"")} | M116: {=IFERROR(INDEX(Calc!$O$11:$O$130,SMALL(IF((M$110=Calc!$N$11:$N$130)*(Calc!$CH$11:$CH$130),ROW(Calc!$O$11:$O$130)-ROW(INDEX(Calc!$O$11:$O$130,1,1))+1),Calc!$CJ21)),"")} | O116: {=IFERROR(INDEX(Calc!$O$11:$O$130,SMALL(IF((O$110=Calc!$N$11:$N$130)*(Calc!$CH$11:$CH$130),ROW(Calc!$O$11:$O$130)-ROW(INDEX(Calc!$O$11:$O$130,1,1))+1),Calc!$CJ21)),"")}
C117: {=IFERROR(INDEX(Calc!$O$11:$O$130,SMALL(IF((C$110=Calc!$N$11:$N$130)*(Calc!$CH$11:$CH$130),ROW(Calc!$O$11:$O$130)-ROW(INDEX(Calc!$O$11:$O$130,1,1))+1),Calc!$CJ22)),"")} | E117: {=IFERROR(INDEX(Calc!$O$11:$O$130,SMALL(IF((E$110=Calc!$N$11:$N$130)*(Calc!$CH$11:$CH$130),ROW(Calc!$O$11:$O$130)-ROW(INDEX(Calc!$O$11:$O$130,1,1))+1),Calc!$CJ22)),"")} | G117: {=IFERROR(INDEX(Calc!$O$11:$O$130,SMALL(IF((G$110=Calc!$N$11:$N$130)*(Calc!$CH$11:$CH$130),ROW(Calc!$O$11:$O$130)-ROW(INDEX(Calc!$O$11:$O$130,1,1))+1),Calc!$CJ22)),"")} | I117: {=IFERROR(INDEX(Calc!$O$11:$O$130,SMALL(IF((I$110=Calc!$N$11:$N$130)*(Calc!$CH$11:$CH$130),ROW(Calc!$O$11:$O$130)-ROW(INDEX(Calc!$O$11:$O$130,1,1))+1),Calc!$CJ22)),"")} | K117: {=IFERROR(INDEX(Calc!$O$11:$O$130,SMALL(IF((K$110=Calc!$N$11:$N$130)*(Calc!$CH$11:$CH$130),ROW(Calc!$O$11:$O$130)-ROW(INDEX(Calc!$O$11:$O$130,1,1))+1),Calc!$CJ22)),"")} | M117: {=IFERROR(INDEX(Calc!$O$11:$O$130,SMALL(IF((M$110=Calc!$N$11:$N$130)*(Calc!$CH$11:$CH$130),ROW(Calc!$O$11:$O$130)-ROW(INDEX(Calc!$O$11:$O$130,1,1))+1),Calc!$CJ22)),"")} | O117: {=IFERROR(INDEX(Calc!$O$11:$O$130,SMALL(IF((O$110=Calc!$N$11:$N$130)*(Calc!$CH$11:$CH$130),ROW(Calc!$O$11:$O$130)-ROW(INDEX(Calc!$O$11:$O$130,1,1))+1),Calc!$CJ22)),"")}
C118: {=IFERROR(INDEX(Calc!$O$11:$O$130,SMALL(IF((C$110=Calc!$N$11:$N$130)*(Calc!$CH$11:$CH$130),ROW(Calc!$O$11:$O$130)-ROW(INDEX(Calc!$O$11:$O$130,1,1))+1),Calc!$CJ23)),"")} | E118: {=IFERROR(INDEX(Calc!$O$11:$O$130,SMALL(IF((E$110=Calc!$N$11:$N$130)*(Calc!$CH$11:$CH$130),ROW(Calc!$O$11:$O$130)-ROW(INDEX(Calc!$O$11:$O$130,1,1))+1),Calc!$CJ23)),"")} | G118: {=IFERROR(INDEX(Calc!$O$11:$O$130,SMALL(IF((G$110=Calc!$N$11:$N$130)*(Calc!$CH$11:$CH$130),ROW(Calc!$O$11:$O$130)-ROW(INDEX(Calc!$O$11:$O$130,1,1))+1),Calc!$CJ23)),"")} | I118: {=IFERROR(INDEX(Calc!$O$11:$O$130,SMALL(IF((I$110=Calc!$N$11:$N$130)*(Calc!$CH$11:$CH$130),ROW(Calc!$O$11:$O$130)-ROW(INDEX(Calc!$O$11:$O$130,1,1))+1),Calc!$CJ23)),"")} | K118: {=IFERROR(INDEX(Calc!$O$11:$O$130,SMALL(IF((K$110=Calc!$N$11:$N$130)*(Calc!$CH$11:$CH$130),ROW(Calc!$O$11:$O$130)-ROW(INDEX(Calc!$O$11:$O$130,1,1))+1),Calc!$CJ23)),"")} | M118: {=IFERROR(INDEX(Calc!$O$11:$O$130,SMALL(IF((M$110=Calc!$N$11:$N$130)*(Calc!$CH$11:$CH$130),ROW(Calc!$O$11:$O$130)-ROW(INDEX(Calc!$O$11:$O$130,1,1))+1),Calc!$CJ23)),"")} | O118: {=IFERROR(INDEX(Calc!$O$11:$O$130,SMALL(IF((O$110=Calc!$N$11:$N$130)*(Calc!$CH$11:$CH$130),ROW(Calc!$O$11:$O$130)-ROW(INDEX(Calc!$O$11:$O$130,1,1))+1),Calc!$CJ23)),"")}
C119: {=IFERROR(INDEX(Calc!$O$11:$O$130,SMALL(IF((C$110=Calc!$N$11:$N$130)*(Calc!$CH$11:$CH$130),ROW(Calc!$O$11:$O$130)-ROW(INDEX(Calc!$O$11:$O$130,1,1))+1),Calc!$CJ24)),"")} | E119: {=IFERROR(INDEX(Calc!$O$11:$O$130,SMALL(IF((E$110=Calc!$N$11:$N$130)*(Calc!$CH$11:$CH$130),ROW(Calc!$O$11:$O$130)-ROW(INDEX(Calc!$O$11:$O$130,1,1))+1),Calc!$CJ24)),"")} | G119: {=IFERROR(INDEX(Calc!$O$11:$O$130,SMALL(IF((G$110=Calc!$N$11:$N$130)*(Calc!$CH$11:$CH$130),ROW(Calc!$O$11:$O$130)-ROW(INDEX(Calc!$O$11:$O$130,1,1))+1),Calc!$CJ24)),"")} | I119: {=IFERROR(INDEX(Calc!$O$11:$O$130,SMALL(IF((I$110=Calc!$N$11:$N$130)*(Calc!$CH$11:$CH$130),ROW(Calc!$O$11:$O$130)-ROW(INDEX(Calc!$O$11:$O$130,1,1))+1),Calc!$CJ24)),"")} | K119: {=IFERROR(INDEX(Calc!$O$11:$O$130,SMALL(IF((K$110=Calc!$N$11:$N$130)*(Calc!$CH$11:$CH$130),ROW(Calc!$O$11:$O$130)-ROW(INDEX(Calc!$O$11:$O$130,1,1))+1),Calc!$CJ24)),"")} | M119: {=IFERROR(INDEX(Calc!$O$11:$O$130,SMALL(IF((M$110=Calc!$N$11:$N$130)*(Calc!$CH$11:$CH$130),ROW(Calc!$O$11:$O$130)-ROW(INDEX(Calc!$O$11:$O$130,1,1))+1),Calc!$CJ24)),"")} | O119: {=IFERROR(INDEX(Calc!$O$11:$O$130,SMALL(IF((O$110=Calc!$N$11:$N$130)*(Calc!$CH$11:$CH$130),ROW(Calc!$O$11:$O$130)-ROW(INDEX(Calc!$O$11:$O$130,1,1))+1),Calc!$CJ24)),"")}
C120: {=IFERROR(INDEX(Calc!$O$11:$O$130,SMALL(IF((C$110=Calc!$N$11:$N$130)*(Calc!$CH$11:$CH$130),ROW(Calc!$O$11:$O$130)-ROW(INDEX(Calc!$O$11:$O$130,1,1))+1),Calc!$CJ25)),"")} | E120: {=IFERROR(INDEX(Calc!$O$11:$O$130,SMALL(IF((E$110=Calc!$N$11:$N$130)*(Calc!$CH$11:$CH$130),ROW(Calc!$O$11:$O$130)-ROW(INDEX(Calc!$O$11:$O$130,1,1))+1),Calc!$CJ25)),"")} | G120: {=IFERROR(INDEX(Calc!$O$11:$O$130,SMALL(IF((G$110=Calc!$N$11:$N$130)*(Calc!$CH$11:$CH$130),ROW(Calc!$O$11:$O$130)-ROW(INDEX(Calc!$O$11:$O$130,1,1))+1),Calc!$CJ25)),"")} | I120: {=IFERROR(INDEX(Calc!$O$11:$O$130,SMALL(IF((I$110=Calc!$N$11:$N$130)*(Calc!$CH$11:$CH$130),ROW(Calc!$O$11:$O$130)-ROW(INDEX(Calc!$O$11:$O$130,1,1))+1),Calc!$CJ25)),"")} | K120: {=IFERROR(INDEX(Calc!$O$11:$O$130,SMALL(IF((K$110=Calc!$N$11:$N$130)*(Calc!$CH$11:$CH$130),ROW(Calc!$O$11:$O$130)-ROW(INDEX(Calc!$O$11:$O$130,1,1))+1),Calc!$CJ25)),"")} | M120: {=IFERROR(INDEX(Calc!$O$11:$O$130,SMALL(IF((M$110=Calc!$N$11:$N$130)*(Calc!$CH$11:$CH$130),ROW(Calc!$O$11:$O$130)-ROW(INDEX(Calc!$O$11:$O$130,1,1))+1),Calc!$CJ25)),"")} | O120: {=IFERROR(INDEX(Calc!$O$11:$O$130,SMALL(IF((O$110=Calc!$N$11:$N$130)*(Calc!$CH$11:$CH$130),ROW(Calc!$O$11:$O$130)-ROW(INDEX(Calc!$O$11:$O$130,1,1))+1),Calc!$CJ25)),"")}
C121: {=IFERROR(INDEX(Calc!$O$11:$O$130,SMALL(IF((C$110=Calc!$N$11:$N$130)*(Calc!$CH$11:$CH$130),ROW(Calc!$O$11:$O$130)-ROW(INDEX(Calc!$O$11:$O$130,1,1))+1),Calc!$CJ26)),"")} | E121: {=IFERROR(INDEX(Calc!$O$11:$O$130,SMALL(IF((E$110=Calc!$N$11:$N$130)*(Calc!$CH$11:$CH$130),ROW(Calc!$O$11:$O$130)-ROW(INDEX(Calc!$O$11:$O$130,1,1))+1),Calc!$CJ26)),"")} | G121: {=IFERROR(INDEX(Calc!$O$11:$O$130,SMALL(IF((G$110=Calc!$N$11:$N$130)*(Calc!$CH$11:$CH$130),ROW(Calc!$O$11:$O$130)-ROW(INDEX(Calc!$O$11:$O$130,1,1))+1),Calc!$CJ26)),"")} | I121: {=IFERROR(INDEX(Calc!$O$11:$O$130,SMALL(IF((I$110=Calc!$N$11:$N$130)*(Calc!$CH$11:$CH$130),ROW(Calc!$O$11:$O$130)-ROW(INDEX(Calc!$O$11:$O$130,1,1))+1),Calc!$CJ26)),"")} | K121: {=IFERROR(INDEX(Calc!$O$11:$O$130,SMALL(IF((K$110=Calc!$N$11:$N$130)*(Calc!$CH$11:$CH$130),ROW(Calc!$O$11:$O$130)-ROW(INDEX(Calc!$O$11:$O$130,1,1))+1),Calc!$CJ26)),"")} | M121: {=IFERROR(INDEX(Calc!$O$11:$O$130,SMALL(IF((M$110=Calc!$N$11:$N$130)*(Calc!$CH$11:$CH$130),ROW(Calc!$O$11:$O$130)-ROW(INDEX(Calc!$O$11:$O$130,1,1))+1),Calc!$CJ26)),"")} | O121: {=IFERROR(INDEX(Calc!$O$11:$O$130,SMALL(IF((O$110=Calc!$N$11:$N$130)*(Calc!$CH$11:$CH$130),ROW(Calc!$O$11:$O$130)-ROW(INDEX(Calc!$O$11:$O$130,1,1))+1),Calc!$CJ26)),"")}
C123: =IFERROR(IF(LEN(O110)=0,"",IF(MONTH(O110+1)=MONTH(O110),O110+1,"")),"") -> 45334 | E123: =IFERROR(IF(LEN(C123)=0,"",IF(MONTH(C123+1)=MONTH(C123),C123+1,"")),"") -> 45335 | G123: =IFERROR(IF(LEN(E123)=0,"",IF(MONTH(E123+1)=MONTH(E123),E123+1,"")),"") -> 45336 | I123: =IFERROR(IF(LEN(G123)=0,"",IF(MONTH(G123+1)=MONTH(G123),G123+1,"")),"") -> 45337 | K123: =IFERROR(IF(LEN(I123)=0,"",IF(MONTH(I123+1)=MONTH(I123),I123+1,"")),"") -> 45338 | M123: =IFERROR(IF(LEN(K123)=0,"",IF(MONTH(K123+1)=MONTH(K123),K123+1,"")),"") -> 45339 | O123: =IFERROR(IF(LEN(M123)=0,"",IF(MONTH(M123+1)=MONTH(M123),M123+1,"")),"") -> 45340
C125: {=IFERROR(INDEX(Calc!$O$11:$O$130,SMALL(IF((C$123=Calc!$N$11:$N$130)*(Calc!$CH$11:$CH$130),ROW(Calc!$O$11:$O$130)-ROW(INDEX(Calc!$O$11:$O$130,1,1))+1),Calc!$CJ17)),"")} | E125: {=IFERROR(INDEX(Calc!$O$11:$O$130,SMALL(IF((E$123=Calc!$N$11:$N$130)*(Calc!$CH$11:$CH$130),ROW(Calc!$O$11:$O$130)-ROW(INDEX(Calc!$O$11:$O$130,1,1))+1),Calc!$CJ17)),"")} | G125: {=IFERROR(INDEX(Calc!$O$11:$O$130,SMALL(IF((G$123=Calc!$N$11:$N$130)*(Calc!$CH$11:$CH$130),ROW(Calc!$O$11:$O$130)-ROW(INDEX(Calc!$O$11:$O$130,1,1))+1),Calc!$CJ17)),"")} | I125: {=IFERROR(INDEX(Calc!$O$11:$O$130,SMALL(IF((I$123=Calc!$N$11:$N$130)*(Calc!$CH$11:$CH$130),ROW(Calc!$O$11:$O$130)-ROW(INDEX(Calc!$O$11:$O$130,1,1))+1),Calc!$CJ17)),"")} -> Subscriptions - $20 | K125: {=IFERROR(INDEX(Calc!$O$11:$O$130,SMALL(IF((K$123=Calc!$N$11:$N$130)*(Calc!$CH$11:$CH$130),ROW(Calc!$O$11:$O$130)-ROW(INDEX(Calc!$O$11:$O$130,1,1))+1),Calc!$CJ17)),"")} | M125: {=IFERROR(INDEX(Calc!$O$11:$O$130,SMALL(IF((M$123=Calc!$N$11:$N$130)*(Calc!$CH$11:$CH$130),ROW(Calc!$O$11:$O$130)-ROW(INDEX(Calc!$O$11:$O$130,1,1))+1),Calc!$CJ17)),"")} | O125: {=IFERROR(INDEX(Calc!$O$11:$O$130,SMALL(IF((O$123=Calc!$N$11:$N$130)*(Calc!$CH$11:$CH$130),ROW(Calc!$O$11:$O$130)-ROW(INDEX(Calc!$O$11:$O$130,1,1))+1),Calc!$CJ17)),"")}
C126: {=IFERROR(INDEX(Calc!$O$11:$O$130,SMALL(IF((C$123=Calc!$N$11:$N$130)*(Calc!$CH$11:$CH$130),ROW(Calc!$O$11:$O$130)-ROW(INDEX(Calc!$O$11:$O$130,1,1))+1),Calc!$CJ18)),"")} | E126: {=IFERROR(INDEX(Calc!$O$11:$O$130,SMALL(IF((E$123=Calc!$N$11:$N$130)*(Calc!$CH$11:$CH$130),ROW(Calc!$O$11:$O$130)-ROW(INDEX(Calc!$O$11:$O$130,1,1))+1),Calc!$CJ18)),"")} | G126: {=IFERROR(INDEX(Calc!$O$11:$O$130,SMALL(IF((G$123=Calc!$N$11:$N$130)*(Calc!$CH$11:$CH$130),ROW(Calc!$O$11:$O$130)-ROW(INDEX(Calc!$O$11:$O$130,1,1))+1),Calc!$CJ18)),"")} | I126: {=IFERROR(INDEX(Calc!$O$11:$O$130,SMALL(IF((I$123=Calc!$N$11:$N$130)*(Calc!$CH$11:$CH$130),ROW(Calc!$O$11:$O$130)-ROW(INDEX(Calc!$O$11:$O$130,1,1))+1),Calc!$CJ18)),"")} -> Subscriptions - $10 | K126: {=IFERROR(INDEX(Calc!$O$11:$O$130,SMALL(IF((K$123=Calc!$N$11:$N$130)*(Calc!$CH$11:$CH$130),ROW(Calc!$O$11:$O$130)-ROW(INDEX(Calc!$O$11:$O$130,1,1))+1),Calc!$CJ18)),"")} | M126: {=IFERROR(INDEX(Calc!$O$11:$O$130,SMALL(IF((M$123=Calc!$N$11:$N$130)*(Calc!$CH$11:$CH$130),ROW(Calc!$O$11:$O$130)-ROW(INDEX(Calc!$O$11:$O$130,1,1))+1),Calc!$CJ18)),"")} | O126: {=IFERROR(INDEX(Calc!$O$11:$O$130,SMALL(IF((O$123=Calc!$N$11:$N$130)*(Calc!$CH$11:$CH$130),ROW(Calc!$O$11:$O$130)-ROW(INDEX(Calc!$O$11:$O$130,1,1))+1),Calc!$CJ18)),"")}
C127: {=IFERROR(INDEX(Calc!$O$11:$O$130,SMALL(IF((C$123=Calc!$N$11:$N$130)*(Calc!$CH$11:$CH$130),ROW(Calc!$O$11:$O$130)-ROW(INDEX(Calc!$O$11:$O$130,1,1))+1),Calc!$CJ19)),"")} | E127: {=IFERROR(INDEX(Calc!$O$11:$O$130,SMALL(IF((E$123=Calc!$N$11:$N$130)*(Calc!$CH$11:$CH$130),ROW(Calc!$O$11:$O$130)-ROW(INDEX(Calc!$O$11:$O$130,1,1))+1),Calc!$CJ19)),"")} | G127: {=IFERROR(INDEX(Calc!$O$11:$O$130,SMALL(IF((G$123=Calc!$N$11:$N$130)*(Calc!$CH$11:$CH$130),ROW(Calc!$O$11:$O$130)-ROW(INDEX(Calc!$O$11:$O$130,1,1))+1),Calc!$CJ19)),"")} | I127: {=IFERROR(INDEX(Calc!$O$11:$O$130,SMALL(IF((I$123=Calc!$N$11:$N$130)*(Calc!$CH$11:$CH$130),ROW(Calc!$O$11:$O$130)-ROW(INDEX(Calc!$O$11:$O$130,1,1))+1),Calc!$CJ19)),"")} | K127: {=IFERROR(INDEX(Calc!$O$11:$O$130,SMALL(IF((K$123=Calc!$N$11:$N$130)*(Calc!$CH$11:$CH$130),ROW(Calc!$O$11:$O$130)-ROW(INDEX(Calc!$O$11:$O$130,1,1))+1),Calc!$CJ19)),"")} | M127: {=IFERROR(INDEX(Calc!$O$11:$O$130,SMALL(IF((M$123=Calc!$N$11:$N$130)*(Calc!$CH$11:$CH$130),ROW(Calc!$O$11:$O$130)-ROW(INDEX(Calc!$O$11:$O$130,1,1))+1),Calc!$CJ19)),"")} | O127: {=IFERROR(INDEX(Calc!$O$11:$O$130,SMALL(IF((O$123=Calc!$N$11:$N$130)*(Calc!$CH$11:$CH$130),ROW(Calc!$O$11:$O$130)-ROW(INDEX(Calc!$O$11:$O$130,1,1))+1),Calc!$CJ19)),"")}
C128: {=IFERROR(INDEX(Calc!$O$11:$O$130,SMALL(IF((C$123=Calc!$N$11:$N$130)*(Calc!$CH$11:$CH$130),ROW(Calc!$O$11:$O$130)-ROW(INDEX(Calc!$O$11:$O$130,1,1))+1),Calc!$CJ20)),"")} | E128: {=IFERROR(INDEX(Calc!$O$11:$O$130,SMALL(IF((E$123=Calc!$N$11:$N$130)*(Calc!$CH$11:$CH$130),ROW(Calc!$O$11:$O$130)-ROW(INDEX(Calc!$O$11:$O$130,1,1))+1),Calc!$CJ20)),"")} | G128: {=IFERROR(INDEX(Calc!$O$11:$O$130,SMALL(IF((G$123=Calc!$N$11:$N$130)*(Calc!$CH$11:$CH$130),ROW(Calc!$O$11:$O$130)-ROW(INDEX(Calc!$O$11:$O$130,1,1))+1),Calc!$CJ20)),"")} | I128: {=IFERROR(INDEX(Calc!$O$11:$O$130,SMALL(IF((I$123=Calc!$N$11:$N$130)*(Calc!$CH$11:$CH$130),ROW(Calc!$O$11:$O$130)-ROW(INDEX(Calc!$O$11:$O$130,1,1))+1),Calc!$CJ20)),"")} | K128: {=IFERROR(INDEX(Calc!$O$11:$O$130,SMALL(IF((K$123=Calc!$N$11:$N$130)*(Calc!$CH$11:$CH$130),ROW(Calc!$O$11:$O$130)-ROW(INDEX(Calc!$O$11:$O$130,1,1))+1),Calc!$CJ20)),"")} | M128: {=IFERROR(INDEX(Calc!$O$11:$O$130,SMALL(IF((M$123=Calc!$N$11:$N$130)*(Calc!$CH$11:$CH$130),ROW(Calc!$O$11:$O$130)-ROW(INDEX(Calc!$O$11:$O$130,1,1))+1),Calc!$CJ20)),"")} | O128: {=IFERROR(INDEX(Calc!$O$11:$O$130,SMALL(IF((O$123=Calc!$N$11:$N$130)*(Calc!$CH$11:$CH$130),ROW(Calc!$O$11:$O$130)-ROW(INDEX(Calc!$O$11:$O$130,1,1))+1),Calc!$CJ20)),"")}
...

Sheet Dashboard
C2: MONTHLY BILL ORGANIZER
C3: DASHBOARD
C7: Month | D7: ALL | F7: Category | G7: ALL
C9: =IFERROR(IF(Menu!$I$13="","Total Bill Amount","Total Bill Amount (" & Menu!$I$13 & ")"),"") -> Total Bill Amount ($) | F9: =IFERROR(IF(Menu!$I$13="","Paid Bill Amount","Paid Bill Amount (" & Menu!$I$13 & ")"),"") -> Paid Bill Amount ($) | I9: =IFERROR(IF(Menu!$I$13="","Unpaid Bill Amount","Unpaid Bill Amount (" & Menu!$I$13 & ")"),"") -> Unpaid Bill Amount ($) | L9: =IFERROR(IF(Menu!$I$13="","Top 3 Expense Categories","Top 3 Expense Categories (" & Menu!$I$13 & ")"),"") -> Top 3 Expense Categories ($)
L10: 1 | M10: =Calc!DA11 -> Utilities | N10: =Calc!DB11 -> 2770.0001
C11: =Calc!CQ31 -> 3310 | F11: =Calc!CQ32 -> 2760 | I11: =Calc!CQ33 -> 550 | L11: 2 | M11: =Calc!DA12 -> Subscriptions | N11: =Calc!DB12 -> 540.00012
L12: 3 | M12: =Calc!DA13 -> Other | N12: =Calc!DB13 -> 0.00016

Sheet Calc
B3: BILLS | Q3: BILL TRACKER CALENDAR | CP3: GENERAL CALCULATIONS
Q5: First Month | AY5: Second Month
Q6: Month | R6: =INDEX(CP14:CP25,MATCH(Calendar!$E$7,CQ14:CQ25,0)) -> 1 | S6: Month Day | U6: =IFERROR(INDEX(CS14:CS25,R6),31) -> 31 | V6: Year | W6: =Calendar!E5 -> 2024 | AY6: Month | AZ6: =IFERROR(IF(R6=12,1,R6+1),"") -> 2 | BA6: Month Day | BC6: =IFERROR(INDEX(CS14:CS25,AZ6),31) -> 29 | BD6: Year | BE6: =IFERROR(IF(R6=12,W6+1,W6),"") -> 2024
R8: Date | S8: =IFERROR(DATE($W$6,$R$6,S10),"") -> 45292 | T8: =IFERROR(DATE($W$6,$R$6,T10),"") -> 45293 | U8: =IFERROR(DATE($W$6,$R$6,U10),"") -> 45294 | V8: =IFERROR(DATE($W$6,$R$6,V10),"") -> 45295 | W8: =IFERROR(DATE($W$6,$R$6,W10),"") -> 45296 | X8: =IFERROR(DATE($W$6,$R$6,X10),"") -> 45297 | Y8: =IFERROR(DATE($W$6,$R$6,Y10),"") -> 45298 | Z8: =IFERROR(DATE($W$6,$R$6,Z10),"") -> 45299 | ... AW8: =IFERROR(DATE($W$6,$R$6,AW10),"") -> 45322 | AY8: =IFERROR(DATE($BE$6,$AZ$6,AY10),"") -> 45323 | AZ8: =IFERROR(DATE($BE$6,$AZ$6,AZ10),"") -> 45324 | BA8: =IFERROR(DATE($BE$6,$AZ$6,BA10),"") -> 45325 | BB8: =IFERROR(DATE($BE$6,$AZ$6,BB10),"") -> 45326 | BC8: =IFERROR(DATE($BE$6,$AZ$6,BC10),"") -> 45327 | BD8: =IFERROR(DATE($BE$6,$AZ$6,BD10),"") -> 45328 | BE8: =IFERROR(DATE($BE$6,$AZ$6,BE10),"") -> 45329 | BF8: =IFERROR(DATE($BE$6,$AZ$6,BF10),"") -> 45330 | ... CC8: =IFERROR(DATE($BE$6,$AZ$6,CC10),"") -> 45353
B9: Heading Index | D9: =MATCH(Bills!B5,Bills!$B$5:$E$5,0) -> 1 | E9: 2 | F9: 3 | N9: Calculated Area | Q9: Heading # | R9: 1
B10: Row Index | C10: Empty Check | D10: Category | E10: Bill Name | F10: Payment Day | G10: Month | H10: Year | I10: Month-Year | J10: Amount | K10: Paid? | L10: Start Month | M10: Start Day | N10: Leave Start Date | O10: Calendar Combination | Q10: Row Index | R10: Bills | S10: 1 | T10: 2 | U10: 3 | V10: 4 | W10: 5 | X10: 6 | Y10: 7 | Z10: 8 | AA10: 9 | AB10: 10 | AC10: 11 | AD10: 12 | AE10: 13 | AF10: 14 | AG10: 15 | AH10: 16 | AI10: 17 | AJ10: 18 | AK10: 19 | AL10: 20 | AM10: 21 | AN10: 22 | AO10: 23 | AP10: 24 | AQ10: 25 | AR10: 26 | AS10: 27 | AT10: 28 | AU10: 29 | AV10: 30 | AW10: 31 | AY10: 1 | AZ10: 2 | BA10: 3 | BB10: 4 | BC10: 5 | BD10: 6 | BE10: 7 | BF10: 8 | BG10: 9 | BH10: 10 | BI10: 11 | BJ10: 12 | BK10: 13 | BL10: 14 | BM10: 15 | BN10: 16 | BO10: 17 | BP10: 18 | BQ10: 19 | BR10: 20 | BS10: 21 | BT10: 22 | BU10: 23 | BV10: 24 | BW10: 25 | BX10: 26 | BY10: 27 | BZ10: 28 | CA10: 29 | CB10: 30 | CC10: 31 | CE10: Month | CF10: Category | CG10: Total Filter | CH10: Category Calendar | CY10: Categories | CZ10: Amount | DA10: Top Categories | DB10: Top Categories | DC10: Top Amounts | DF10: Date Dropdowns | DK10: Categories | DM10: Dropdowns
B11: 1 | C11: =IFERROR(IF(INDEX(Bills!$C$6:$C$15,B11,1)="",0,1),"") -> 1 | D11: =IFERROR(IF($C11=1,INDEX(Bills!$B$6:$AB$15,$B11,D$9),""),"") -> Utilities | E11: =IFERROR(IF($C11=1,INDEX(Bills!$B$6:$AB$15,$B11,E$9),""),"") -> Electricity | F11: {=IFERROR(IF($C11=1, INDEX($DG$13:$DG$43, MATCH(INDEX(Bills!$B$6:$AB$15, $B11, F$9), $DF$13:$DF$43, 0)), ""), "")} -> 1 | G11: {=IFERROR(IF($C11=1,INDEX($CV$14:$CV$25,IF(MOD(ROW(A1),12)=0,12,MOD(ROW(A1),12)),1),""),"")} -> January | H11: {=IFERROR(IF($C11=1,YEAR(INDEX($CU$14:$CU$25,IF(MOD(ROW(A1),12)=0,12,MOD(ROW(A1),12)),1)),""),"")} -> 2024 | I11: {=IFERROR(IF($C11=1,INDEX($CW$14:$CW$25,IF(MOD(ROW(A1),12)=0,12,MOD(ROW(A1),12)),1),""),"")} -> Jan-2024 | J11: {=IFERROR(IF($C11=1,INDEX(Bills!$B$6:$AB$15,B11,MATCH(INDEX($CW$14:$CW$25,IF(MOD(ROW(A1),12)=0,12,MOD(ROW(A1),12)),1),Bills!$E$5:$AB$5,0)+3),""),"")} -> 120 | K11: {=IFERROR(IF($C11=1,IF(INDEX(Bills!$B$6:$AB$15,B11,MATCH(INDEX($CW$14:$CW$25,IF(MOD(ROW(A1),12)=0,12,MOD(ROW(A1),12)),1),Bills!$E$5:$AB$5,0)+4)=$DM$13,"Paid","Unpaid"),""),"")} -> Unpaid | L11: =IFERROR(IF($C11=1,INDEX($CP$14:$CQ$25,MATCH(G11,$CQ$14:$CQ$25,0),1),""),"") -> 1 | M11: =IFERROR(IF($C11=1,F11,""),"") -> 1 | N11: =IFERROR(DATE(H11,INDEX($CP$14:$CQ$25,MATCH(G11,$CQ$14:$CQ$25,0),1),F11),"") -> 45292 | O11: =IFERROR(IF(C11<>1,"",IF(Menu!$I$13="",IF(OR(Calendar!$I$7="",Calendar!$I$7=$CM$17),E11,IF(Calendar!$I$7=$CM$18,E11 & " - " &J11,D11 & " - " &J11)),IF(OR(Calendar!$I$7="",Calendar!$I$7=$CM$17),E11,IF(Calendar!$I$7=$CM$18,E11 & " - " &Menu!$I$13 &J11,D11 & " - " &Menu!$I$13 &J11)))),"") -> Utilities - $120 | Q11: 1 | R11: =IFERROR(IF(INDEX(Bills!$C$6:$C$105,$Q11,$R$9)="","",INDEX(Bills!$C$6:$C$105,$Q11,$R$9)),"") -> Electricity | S11: {=IFERROR(IF(LEN($R11)=0,"",INDEX($K$11:$K$130,SMALL(IF((S$8=$N$11:$N$130)*($E$11:$E$130=$R11)*($C$11:$C$130=1),ROW($K$11:$K$130)-ROW(INDEX($K$11:$K$130,1,1))+1),1))),"")} -> Unpaid | T11: {=IFERROR(IF(LEN($R11)=0,"",INDEX($K$11:$K$130,SMALL(IF((T$8=$N$11:$N$130)*($E$11:$E$130=$R11)*($C$11:$C$130=1),ROW($K$11:$K$130)-ROW(INDEX($K$11:$K$130,1,1))+1),1))),"")} | U11: {=IFERROR(IF(LEN($R11)=0,"",INDEX($K$11:$K$130,SMALL(IF((U$8=$N$11:$N$130)*($E$11:$E$130=$R11)*($C$11:$C$130=1),ROW($K$11:$K$130)-ROW(INDEX($K$11:$K$130,1,1))+1),1))),"")} | V11: {=IFERROR(IF(LEN($R11)=0,"",INDEX($K$11:$K$130,SMALL(IF((V$8=$N$11:$N$130)*($E$11:$E$130=$R11)*($C$11:$C$130=1),ROW($K$11:$K$130)-ROW(INDEX($K$11:$K$130,1,1))+1),1))),"")} | W11: {=IFERROR(IF(LEN($R11)=0,"",INDEX($K$11:$K$130,SMALL(IF((W$8=$N$11:$N$130)*($E$11:$E$130=$R11)*($C$11:$C$130=1),ROW($K$11:$K$130)-ROW(INDEX($K$11:$K$130,1,1))+1),1))),"")} | X11: {=IFERROR(IF(LEN($R11)=0,"",INDEX($K$11:$K$130,SMALL(IF((X$8=$N$11:$N$130)*($E$11:$E$130=$R11)*($C$11:$C$130=1),ROW($K$11:$K$130)-ROW(INDEX($K$11:$K$130,1,1))+1),1))),"")} | Y11: {=IFERROR(IF(LEN($R11)=0,"",INDEX($K$11:$K$130,SMALL(IF((Y$8=$N$11:$N$130)*($E$11:$E$130=$R11)*($C$11:$C$130=1),ROW($K$11:$K$130)-ROW(INDEX($K$11:$K$130,1,1))+1),1))),"")} | Z11: {=IFERROR(IF(LEN($R11)=0,"",INDEX($K$11:$K$130,SMALL(IF((Z$8=$N$11:$N$130)*($E$11:$E$130=$R11)*($C$11:$C$130=1),ROW($K$11:$K$130)-ROW(INDEX($K$11:$K$130,1,1))+1),1))),"")} | ... AW11: {=IFERROR(IF(LEN($R11)=0,"",INDEX($K$11:$K$130,SMALL(IF((AW$8=$N$11:$N$130)*($E$11:$E$130=$R11)*($C$11:$C$130=1),ROW($K$11:$K$130)-ROW(INDEX($K$11:$K$130,1,1))+1),1))),"")} | AY11: {=IFERROR(IF(LEN($R11)=0,"",INDEX($K$11:$K$130,SMALL(IF((AY$8=$N$11:$N$130)*($E$11:$E$130=$R11)*($C$11:$C$130=1),ROW($K$11:$K$130)-ROW(INDEX($K$11:$K$130,1,1))+1),1))),"")} -> Paid | AZ11: {=IFERROR(IF(LEN($R11)=0,"",INDEX($K$11:$K$130,SMALL(IF((AZ$8=$N$11:$N$130)*($E$11:$E$130=$R11)*($C$11:$C$130=1),ROW($K$11:$K$130)-ROW(INDEX($K$11:$K$130,1,1))+1),1))),"")} | BA11: {=IFERROR(IF(LEN($R11)=0,"",INDEX($K$11:$K$130,SMALL(IF((BA$8=$N$11:$N$130)*($E$11:$E$130=$R11)*($C$11:$C$130=1),ROW($K$11:$K$130)-ROW(INDEX($K$11:$K$130,1,1))+1),1))),"")} | BB11: {=IFERROR(IF(LEN($R11)=0,"",INDEX($K$11:$K$130,SMALL(IF((BB$8=$N$11:$N$130)*($E$11:$E$130=$R11)*($C$11:$C$130=1),ROW($K$11:$K$130)-ROW(INDEX($K$11:$K$130,1,1))+1),1))),"")} | BC11: {=IFERROR(IF(LEN($R11)=0,"",INDEX($K$11:$K$130,SMALL(IF((BC$8=$N$11:$N$130)*($E$11:$E$130=$R11)*($C$11:$C$130=1),ROW($K$11:$K$130)-ROW(INDEX($K$11:$K$130,1,1))+1),1))),"")} | BD11: {=IFERROR(IF(LEN($R11)=0,"",INDEX($K$11:$K$130,SMALL(IF((BD$8=$N$11:$N$130)*($E$11:$E$130=$R11)*($C$11:$C$130=1),ROW($K$11:$K$130)-ROW(INDEX($K$11:$K$130,1,1))+1),1))),"")} | BE11: {=IFERROR(IF(LEN($R11)=0,"",INDEX($K$11:$K$130,SMALL(IF((BE$8=$N$11:$N$130)*($E$11:$E$130=$R11)*($C$11:$C$130=1),ROW($K$11:$K$130)-ROW(INDEX($K$11:$K$130,1,1))+1),1))),"")} | BF11: {=IFERROR(IF(LEN($R11)=0,"",INDEX($K$11:$K$130,SMALL(IF((BF$8=$N$11:$N$130)*($E$11:$E$130=$R11)*($C$11:$C$130=1),ROW($K$11:$K$130)-ROW(INDEX($K$11:$K$130,1,1))+1),1))),"")} | ... CC11: {=IFERROR(IF(LEN($R11)=0,"",INDEX($K$11:$K$130,SMALL(IF((CC$8=$N$11:$N$130)*($E$11:$E$130=$R11)*($C$11:$C$130=1),ROW($K$11:$K$130)-ROW(INDEX($K$11:$K$130,1,1))+1),1))),"")} | CE11: =IF(OR(Dashboard!$D$7="",Dashboard!$D$7="ALL"),1,IF(Dashboard!$D$7=I11,1,0)) -> 1 | CF11: =IF(OR(Dashboard!$G$7="",Dashboard!$G$7="ALL"),1,IF(Dashboard!$G$7=Calc!D11,1,0)) -> 1 | CG11: =IFERROR(CE11*CF11,0) -> 1 | CH11: =IF(OR(Calendar!$I$5="",Calendar!$I$5="ALL"),1,IF(Calendar!$I$5=Calc!D11,1,0)) -> 1 | CY11: =IF(Menu!G10="","",Menu!G10) -> Utilities | CZ11: =IFERROR(IF(CY11="","",SUMIFS($J$11:$J$130,$CE$11:$CE$130,1,$D$11:$D$130,CY11)),"") -> 2770 | DA11: =INDEX($CY$11:$CY$25, MATCH(DB11, $DC$11:$DC$25, 0)) -> Utilities | DB11: =LARGE($DC$11:$DC$25,1) -> 2770.0001 | DC11: =IFERROR(CZ11 + ROW() / 100000,"") -> 2770.0001
B12: 1 | C12: =IFERROR(IF(INDEX(Bills!$C$6:$C$15,B12,1)="",0,1),"") -> 1 | D12: =IFERROR(IF($C12=1,INDEX(Bills!$B$6:$AB$15,$B12,D$9),""),"") -> Utilities | E12: =IFERROR(IF($C12=1,INDEX(Bills!$B$6:$AB$15,$B12,E$9),""),"") -> Electricity | F12: {=IFERROR(IF($C12=1, INDEX($DG$13:$DG$43, MATCH(INDEX(Bills!$B$6:$AB$15, $B12, F$9), $DF$13:$DF$43, 0)), ""), "")} -> 1 | G12: {=IFERROR(IF($C12=1,INDEX($CV$14:$CV$25,IF(MOD(ROW(A2),12)=0,12,MOD(ROW(A2),12)),1),""),"")} -> February | H12: {=IFERROR(IF($C12=1,YEAR(INDEX($CU$14:$CU$25,IF(MOD(ROW(A2),12)=0,12,MOD(ROW(A2),12)),1)),""),"")} -> 2024 | I12: {=IFERROR(IF($C12=1,INDEX($CW$14:$CW$25,IF(MOD(ROW(A2),12)=0,12,MOD(ROW(A2),12)),1),""),"")} -> Feb-2024 | J12: {=IFERROR(IF($C12=1,INDEX(Bills!$B$6:$AB$15,B12,MATCH(INDEX($CW$14:$CW$25,IF(MOD(ROW(A2),12)=0,12,MOD(ROW(A2),12)),1),Bills!$E$5:$AB$5,0)+3),""),"")} -> 120 | K12: {=IFERROR(IF($C12=1,IF(INDEX(Bills!$B$6:$AB$15,B12,MATCH(INDEX($CW$14:$CW$25,IF(MOD(ROW(A2),12)=0,12,MOD(ROW(A2),12)),1),Bills!$E$5:$AB$5,0)+4)=$DM$13,"Paid","Unpaid"),""),"")} -> Paid | L12: =IFERROR(IF($C12=1,INDEX($CP$14:$CQ$25,MATCH(G12,$CQ$14:$CQ$25,0),1),""),"") -> 2 | M12: =IFERROR(IF($C12=1,F12,""),"") -> 1 | N12: =IFERROR(DATE(H12,INDEX($CP$14:$CQ$25,MATCH(G12,$CQ$14:$CQ$25,0),1),F12),"") -> 45323 | O12: =IFERROR(IF(C12<>1,"",IF(Menu!$I$13="",IF(OR(Calendar!$I$7="",Calendar!$I$7=$CM$17),E12,IF(Calendar!$I$7=$CM$18,E12 & " - " &J12,D12 & " - " &J12)),IF(OR(Calendar!$I$7="",Calendar!$I$7=$CM$17),E12,IF(Calendar!$I$7=$CM$18,E12 & " - " &Menu!$I$13 &J12,D12 & " - " &Menu!$I$13 &J12)))),"") -> Utilities - $120 | Q12: 2 | R12: =IFERROR(IF(INDEX(Bills!$C$6:$C$105,$Q12,$R$9)="","",INDEX(Bills!$C$6:$C$105,$Q12,$R$9)),"") -> Water | S12: {=IFERROR(IF(LEN($R12)=0,"",INDEX($K$11:$K$130,SMALL(IF((S$8=$N$11:$N$130)*($E$11:$E$130=$R12)*($C$11:$C$130=1),ROW($K$11:$K$130)-ROW(INDEX($K$11:$K$130,1,1))+1),1))),"")} | T12: {=IFERROR(IF(LEN($R12)=0,"",INDEX($K$11:$K$130,SMALL(IF((T$8=$N$11:$N$130)*($E$11:$E$130=$R12)*($C$11:$C$130=1),ROW($K$11:$K$130)-ROW(INDEX($K$11:$K$130,1,1))+1),1))),"")} | U12: {=IFERROR(IF(LEN($R12)=0,"",INDEX($K$11:$K$130,SMALL(IF((U$8=$N$11:$N$130)*($E$11:$E$130=$R12)*($C$11:$C$130=1),ROW($K$11:$K$130)-ROW(INDEX($K$11:$K$130,1,1))+1),1))),"")} | V12: {=IFERROR(IF(LEN($R12)=0,"",INDEX($K$11:$K$130,SMALL(IF((V$8=$N$11:$N$130)*($E$11:$E$130=$R12)*($C$11:$C$130=1),ROW($K$11:$K$130)-ROW(INDEX($K$11:$K$130,1,1))+1),1))),"")} | W12: {=IFERROR(IF(LEN($R12)=0,"",INDEX($K$11:$K$130,SMALL(IF((W$8=$N$11:$N$130)*($E$11:$E$130=$R12)*($C$11:$C$130=1),ROW($K$11:$K$130)-ROW(INDEX($K$11:$K$130,1,1))+1),1))),"")} -> Paid | X12: {=IFERROR(IF(LEN($R12)=0,"",INDEX($K$11:$K$130,SMALL(IF((X$8=$N$11:$N$130)*($E$11:$E$130=$R12)*($C$11:$C$130=1),ROW($K$11:$K$130)-ROW(INDEX($K$11:$K$130,1,1))+1),1))),"")} | Y12: {=IFERROR(IF(LEN($R12)=0,"",INDEX($K$11:$K$130,SMALL(IF((Y$8=$N$11:$N$130)*($E$11:$E$130=$R12)*($C$11:$C$130=1),ROW($K$11:$K$130)-ROW(INDEX($K$11:$K$130,1,1))+1),1))),"")} | Z12: {=IFERROR(IF(LEN($R12)=0,"",INDEX($K$11:$K$130,SMALL(IF((Z$8=$N$11:$N$130)*($E$11:$E$130=$R12)*($C$11:$C$130=1),ROW($K$11:$K$130)-ROW(INDEX($K$11:$K$130,1,1))+1),1))),"")} | ... AW12: {=IFERROR(IF(LEN($R12)=0,"",INDEX($K$11:$K$130,SMALL(IF((AW$8=$N$11:$N$130)*($E$11:$E$130=$R12)*($C$11:$C$130=1),ROW($K$11:$K$130)-ROW(INDEX($K$11:$K$130,1,1))+1),1))),"")} | AY12: {=IFERROR(IF(LEN($R12)=0,"",INDEX($K$11:$K$130,SMALL(IF((AY$8=$N$11:$N$130)*($E$11:$E$130=$R12)*($C$11:$C$130=1),ROW($K$11:$K$130)-ROW(INDEX($K$11:$K$130,1,1))+1),1))),"")} | AZ12: {=IFERROR(IF(LEN($R12)=0,"",INDEX($K$11:$K$130,SMALL(IF((AZ$8=$N$11:$N$130)*($E$11:$E$130=$R12)*($C$11:$C$130=1),ROW($K$11:$K$130)-ROW(INDEX($K$11:$K$130,1,1))+1),1))),"")} | BA12: {=IFERROR(IF(LEN($R12)=0,"",INDEX($K$11:$K$130,SMALL(IF((BA$8=$N$11:$N$130)*($E$11:$E$130=$R12)*($C$11:$C$130=1),ROW($K$11:$K$130)-ROW(INDEX($K$11:$K$130,1,1))+1),1))),"")} | BB12: {=IFERROR(IF(LEN($R12)=0,"",INDEX($K$11:$K$130,SMALL(IF((BB$8=$N$11:$N$130)*($E$11:$E$130=$R12)*($C$11:$C$130=1),ROW($K$11:$K$130)-ROW(INDEX($K$11:$K$130,1,1))+1),1))),"")} | BC12: {=IFERROR(IF(LEN($R12)=0,"",INDEX($K$11:$K$130,SMALL(IF((BC$8=$N$11:$N$130)*($E$11:$E$130=$R12)*($C$11:$C$130=1),ROW($K$11:$K$130)-ROW(INDEX($K$11:$K$130,1,1))+1),1))),"")} -> Paid | BD12: {=IFERROR(IF(LEN($R12)=0,"",INDEX($K$11:$K$130,SMALL(IF((BD$8=$N$11:$N$130)*($E$11:$E$130=$R12)*($C$11:$C$130=1),ROW($K$11:$K$130)-ROW(INDEX($K$11:$K$130,1,1))+1),1))),"")} | BE12: {=IFERROR(IF(LEN($R12)=0,"",INDEX($K$11:$K$130,SMALL(IF((BE$8=$N$11:$N$130)*($E$11:$E$130=$R12)*($C$11:$C$130=1),ROW($K$11:$K$130)-ROW(INDEX($K$11:$K$130,1,1))+1),1))),"")} | BF12: {=IFERROR(IF(LEN($R12)=0,"",INDEX($K$11:$K$130,SMALL(IF((BF$8=$N$11:$N$130)*($E$11:$E$130=$R12)*($C$11:$C$130=1),ROW($K$11:$K$130)-ROW(INDEX($K$11:$K$130,1,1))+1),1))),"")} | ... CC12: {=IFERROR(IF(LEN($R12)=0,"",INDEX($K$11:$K$130,SMALL(IF((CC$8=$N$11:$N$130)*($E$11:$E$130=$R12)*($C$11:$C$130=1),ROW($K$11:$K$130)-ROW(INDEX($K$11:$K$130,1,1))+1),1))),"")} | CE12: =IF(OR(Dashboard!$D$7="",Dashboard!$D$7="ALL"),1,IF(Dashboard!$D$7=I12,1,0)) -> 1 | CF12: =IF(OR(Dashboard!$G$7="",Dashboard!$G$7="ALL"),1,IF(Dashboard!$G$7=Calc!D12,1,0)) -> 1 | CG12: =IFERROR(CE12*CF12,0) -> 1 | CH12: =IF(OR(Calendar!$I$5="",Calendar!$I$5="ALL"),1,IF(Calendar!$I$5=Calc!D12,1,0)) -> 1 | CJ12: Year 1 | CK12: =IFERROR(Calendar!E5,"") -> 2024 | CM12: Year 2 | CN12: =IFERROR(IF(CK13=12,CK12+1,CK12),"") -> 2024 | CP12: Months | CT12: Month Abb. | CU12: Day | CV12: Month | CW12: Year & Mont | CY12: =IF(Menu!G11="","",Menu!G11) -> Subscriptions | CZ12: =IFERROR(IF(CY12="","",SUMIFS($J$11:$J$130,$CE$11:$CE$130,1,$D$11:$D$130,CY12)),"") -> 540 | DA12: =INDEX($CY$11:$CY$25, MATCH(DB12, $DC$11:$DC$25, 0)) -> Subscriptions | DB12: =LARGE($DC$11:$DC$25,2) -> 540.00012 | DC12: =IFERROR(CZ12 + ROW() / 100000,"") -> 540.00012 | DG12: Day | DH12: Month | DI12: Year | DK12: ALL | DM12: Paid
B13: 1 | C13: =IFERROR(IF(INDEX(Bills!$C$6:$C$15,B13,1)="",0,1),"") -> 1 | D13: =IFERROR(IF($C13=1,INDEX(Bills!$B$6:$AB$15,$B13,D$9),""),"") -> Utilities | E13: =IFERROR(IF($C13=1,INDEX(Bills!$B$6:$AB$15,$B13,E$9),""),"") -> Electricity | F13: {=IFERROR(IF($C13=1, INDEX($DG$13:$DG$43, MATCH(INDEX(Bills!$B$6:$AB$15, $B13, F$9), $DF$13:$DF$43, 0)), ""), "")} -> 1 | G13: {=IFERROR(IF($C13=1,INDEX($CV$14:$CV$25,IF(MOD(ROW(A3),12)=0,12,MOD(ROW(A3),12)),1),""),"")} -> March | H13: {=IFERROR(IF($C13=1,YEAR(INDEX($CU$14:$CU$25,IF(MOD(ROW(A3),12)=0,12,MOD(ROW(A3),12)),1)),""),"")} -> 2024 | I13: {=IFERROR(IF($C13=1,INDEX($CW$14:$CW$25,IF(MOD(ROW(A3),12)=0,12,MOD(ROW(A3),12)),1),""),"")} -> Mar-2024 | J13: {=IFERROR(IF($C13=1,INDEX(Bills!$B$6:$AB$15,B13,MATCH(INDEX($CW$14:$CW$25,IF(MOD(ROW(A3),12)=0,12,MOD(ROW(A3),12)),1),Bills!$E$5:$AB$5,0)+3),""),"")} -> 120 | K13: {=IFERROR(IF($C13=1,IF(INDEX(Bills!$B$6:$AB$15,B13,MATCH(INDEX($CW$14:$CW$25,IF(MOD(ROW(A3),12)=0,12,MOD(ROW(A3),12)),1),Bills!$E$5:$AB$5,0)+4)=$DM$13,"Paid","Unpaid"),""),"")} -> Paid | L13: =IFERROR(IF($C13=1,INDEX($CP$14:$CQ$25,MATCH(G13,$CQ$14:$CQ$25,0),1),""),"") -> 3 | M13: =IFERROR(IF($C13=1,F13,""),"") -> 1 | N13: =IFERROR(DATE(H13,INDEX($CP$14:$CQ$25,MATCH(G13,$CQ$14:$CQ$25,0),1),F13),"") -> 45352 | O13: =IFERROR(IF(C13<>1,"",IF(Menu!$I$13="",IF(OR(Calendar!$I$7="",Calendar!$I$7=$CM$17),E13,IF(Calendar!$I$7=$CM$18,E13 & " - " &J13,D13 & " - " &J13)),IF(OR(Calendar!$I$7="",Calendar!$I$7=$CM$17),E13,IF(Calendar!$I$7=$CM$18,E13 & " - " &Menu!$I$13 &J13,D13 & " - " &Menu!$I$13 &J13)))),"") -> Utilities - $120 | Q13: 3 | R13: =IFERROR(IF(INDEX(Bills!$C$6:$C$105,$Q13,$R$9)="","",INDEX(Bills!$C$6:$C$105,$Q13,$R$9)),"") -> Gas | S13: {=IFERROR(IF(LEN($R13)=0,"",INDEX($K$11:$K$130,SMALL(IF((S$8=$N$11:$N$130)*($E$11:$E$130=$R13)*($C$11:$C$130=1),ROW($K$11:$K$130)-ROW(INDEX($K$11:$K$130,1,1))+1),1))),"")} | T13: {=IFERROR(IF(LEN($R13)=0,"",INDEX($K$11:$K$130,SMALL(IF((T$8=$N$11:$N$130)*($E$11:$E$130=$R13)*($C$11:$C$130=1),ROW($K$11:$K$130)-ROW(INDEX($K$11:$K$130,1,1))+1),1))),"")} | U13: {=IFERROR(IF(LEN($R13)=0,"",INDEX($K$11:$K$130,SMALL(IF((U$8=$N$11:$N$130)*($E$11:$E$130=$R13)*($C$11:$C$130=1),ROW($K$11:$K$130)-ROW(INDEX($K$11:$K$130,1,1))+1),1))),"")} | V13: {=IFERROR(IF(LEN($R13)=0,"",INDEX($K$11:$K$130,SMALL(IF((V$8=$N$11:$N$130)*($E$11:$E$130=$R13)*($C$11:$C$130=1),ROW($K$11:$K$130)-ROW(INDEX($K$11:$K$130,1,1))+1),1))),"")} | W13: {=IFERROR(IF(LEN($R13)=0,"",INDEX($K$11:$K$130,SMALL(IF((W$8=$N$11:$N$130)*($E$11:$E$130=$R13)*($C$11:$C$130=1),ROW($K$11:$K$130)-ROW(INDEX($K$11:$K$130,1,1))+1),1))),"")} | X13: {=IFERROR(IF(LEN($R13)=0,"",INDEX($K$11:$K$130,SMALL(IF((X$8=$N$11:$N$130)*($E$11:$E$130=$R13)*($C$11:$C$130=1),ROW($K$11:$K$130)-ROW(INDEX($K$11:$K$130,1,1))+1),1))),"")} | Y13: {=IFERROR(IF(LEN($R13)=0,"",INDEX($K$11:$K$130,SMALL(IF((Y$8=$N$11:$N$130)*($E$11:$E$130=$R13)*($C$11:$C$130=1),ROW($K$11:$K$130)-ROW(INDEX($K$11:$K$130,1,1))+1),1))),"")} -> Paid | Z13: {=IFERROR(IF(LEN($R13)=0,"",INDEX($K$11:$K$130,SMALL(IF((Z$8=$N$11:$N$130)*($E$11:$E$130=$R13)*($C$11:$C$130=1),ROW($K$11:$K$130)-ROW(INDEX($K$11:$K$130,1,1))+1),1))),"")} | ... AW13: {=IFERROR(IF(LEN($R13)=0,"",INDEX($K$11:$K$130,SMALL(IF((AW$8=$N$11:$N$130)*($E$11:$E$130=$R13)*($C$11:$C$130=1),ROW($K$11:$K$130)-ROW(INDEX($K$11:$K$130,1,1))+1),1))),"")} | AY13: {=IFERROR(IF(LEN($R13)=0,"",INDEX($K$11:$K$130,SMALL(IF((AY$8=$N$11:$N$130)*($E$11:$E$130=$R13)*($C$11:$C$130=1),ROW($K$11:$K$130)-ROW(INDEX($K$11:$K$130,1,1))+1),1))),"")} | AZ13: {=IFERROR(IF(LEN($R13)=0,"",INDEX($K$11:$K$130,SMALL(IF((AZ$8=$N$11:$N$130)*($E$11:$E$130=$R13)*($C$11:$C$130=1),ROW($K$11:$K$130)-ROW(INDEX($K$11:$K$130,1,1))+1),1))),"")} | BA13: {=IFERROR(IF(LEN($R13)=0,"",INDEX($K$11:$K$130,SMALL(IF((BA$8=$N$11:$N$130)*($E$11:$E$130=$R13)*($C$11:$C$130=1),ROW($K$11:$K$130)-ROW(INDEX($K$11:$K$130,1,1))+1),1))),"")} | BB13: {=IFERROR(IF(LEN($R13)=0,"",INDEX($K$11:$K$130,SMALL(IF((BB$8=$N$11:$N$130)*($E$11:$E$130=$R13)*($C$11:$C$130=1),ROW($K$11:$K$130)-ROW(INDEX($K$11:$K$130,1,1))+1),1))),"")} | BC13: {=IFERROR(IF(LEN($R13)=0,"",INDEX($K$11:$K$130,SMALL(IF((BC$8=$N$11:$N$130)*($E$11:$E$130=$R13)*($C$11:$C$130=1),ROW($K$11:$K$130)-ROW(INDEX($K$11:$K$130,1,1))+1),1))),"")} | BD13: {=IFERROR(IF(LEN($R13)=0,"",INDEX($K$11:$K$130,SMALL(IF((BD$8=$N$11:$N$130)*($E$11:$E$130=$R13)*($C$11:$C$130=1),ROW($K$11:$K$130)-ROW(INDEX($K$11:$K$130,1,1))+1),1))),"")} | BE13: {=IFERROR(IF(LEN($R13)=0,"",INDEX($K$11:$K$130,SMALL(IF((BE$8=$N$11:$N$130)*($E$11:$E$130=$R13)*($C$11:$C$130=1),ROW($K$11:$K$130)-ROW(INDEX($K$11:$K$130,1,1))+1),1))),"")} -> Paid | BF13: {=IFERROR(IF(LEN($R13)=0,"",INDEX($K$11:$K$130,SMALL(IF((BF$8=$N$11:$N$130)*($E$11:$E$130=$R13)*($C$11:$C$130=1),ROW($K$11:$K$130)-ROW(INDEX($K$11:$K$130,1,1))+1),1))),"")} | ... CC13: {=IFERROR(IF(LEN($R13)=0,"",INDEX($K$11:$K$130,SMALL(IF((CC$8=$N$11:$N$130)*($E$11:$E$130=$R13)*($C$11:$C$130=1),ROW($K$11:$K$130)-ROW(INDEX($K$11:$K$130,1,1))+1),1))),"")} | CE13: =IF(OR(Dashboard!$D$7="",Dashboard!$D$7="ALL"),1,IF(Dashboard!$D$7=I13,1,0)) -> 1 | CF13: =IF(OR(Dashboard!$G$7="",Dashboard!$G$7="ALL"),1,IF(Dashboard!$G$7=Calc!D13,1,0)) -> 1 | CG13: =IFERROR(CE13*CF13,0) -> 1 | CH13: =IF(OR(Calendar!$I$5="",Calendar!$I$5="ALL"),1,IF(Calendar!$I$5=Calc!D13,1,0)) -> 1 | CJ13: Month 1 | CK13: =IFERROR(INDEX($CP$14:$CP$25,MATCH(Calendar!$E$7,Calc!$CQ$14:$CQ$25,0),1),"") -> 1 | CM13: Month 2 | CN13: =IFERROR(IF(CK13=12,1,CK13+1),"") -> 2 | CP13: 0 | CW13: ALL | CY13: =IF(Menu!G12="","",Menu!G12) -> Phone | CZ13: =IFERROR(IF(CY13="","",SUMIFS($J$11:$J$130,$CE$11:$CE$130,1,$D$11:$D$130,CY13)),"") -> 0 | DA13: =INDEX($CY$11:$CY$25, MATCH(DB13, $DC$11:$DC$25, 0)) -> Other | DB13: =LARGE($DC$11:$DC$25,3) -> 0.00016 | DC13: =IFERROR(CZ13 + ROW() / 100000,"") -> 0.00013 | DF13: 1st | DG13: 1 | DH13: 1 | DI13: 2024 | DK13: =IF(Menu!G10="","",Menu!G10) -> Utilities | DM13: ✓
B14: 1 | C14: =IFERROR(IF(INDEX(Bills!$C$6:$C$15,B14,1)="",0,1),"") -> 1 | D14: =IFERROR(IF($C14=1,INDEX(Bills!$B$6:$AB$15,$B14,D$9),""),"") -> Utilities | E14: =IFERROR(IF($C14=1,INDEX(Bills!$B$6:$AB$15,$B14,E$9),""),"") -> Electricity | F14: {=IFERROR(IF($C14=1, INDEX($DG$13:$DG$43, MATCH(INDEX(Bills!$B$6:$AB$15, $B14, F$9), $DF$13:$DF$43, 0)), ""), "")} -> 1 | G14: {=IFERROR(IF($C14=1,INDEX($CV$14:$CV$25,IF(MOD(ROW(A4),12)=0,12,MOD(ROW(A4),12)),1),""),"")} -> April | H14: {=IFERROR(IF($C14=1,YEAR(INDEX($CU$14:$CU$25,IF(MOD(ROW(A4),12)=0,12,MOD(ROW(A4),12)),1)),""),"")} -> 2024 | I14: {=IFERROR(IF($C14=1,INDEX($CW$14:$CW$25,IF(MOD(ROW(A4),12)=0,12,MOD(ROW(A4),12)),1),""),"")} -> Apr-2024 | J14: {=IFERROR(IF($C14=1,INDEX(Bills!$B$6:$AB$15,B14,MATCH(INDEX($CW$14:$CW$25,IF(MOD(ROW(A4),12)=0,12,MOD(ROW(A4),12)),1),Bills!$E$5:$AB$5,0)+3),""),"")} -> 120 | K14: {=IFERROR(IF($C14=1,IF(INDEX(Bills!$B$6:$AB$15,B14,MATCH(INDEX($CW$14:$CW$25,IF(MOD(ROW(A4),12)=0,12,MOD(ROW(A4),12)),1),Bills!$E$5:$AB$5,0)+4)=$DM$13,"Paid","Unpaid"),""),"")} -> Paid | L14: =IFERROR(IF($C14=1,INDEX($CP$14:$CQ$25,MATCH(G14,$CQ$14:$CQ$25,0),1),""),"") -> 4 | M14: =IFERROR(IF($C14=1,F14,""),"") -> 1 | N14: =IFERROR(DATE(H14,INDEX($CP$14:$CQ$25,MATCH(G14,$CQ$14:$CQ$25,0),1),F14),"") -> 45383 | O14: =IFERROR(IF(C14<>1,"",IF(Menu!$I$13="",IF(OR(Calendar!$I$7="",Calendar!$I$7=$CM$17),E14,IF(Calendar!$I$7=$CM$18,E14 & " - " &J14,D14 & " - " &J14)),IF(OR(Calendar!$I$7="",Calendar!$I$7=$CM$17),E14,IF(Calendar!$I$7=$CM$18,E14 & " - " &Menu!$I$13 &J14,D14 & " - " &Menu!$I$13 &J14)))),"") -> Utilities - $120 | Q14: 4 | R14: =IFERROR(IF(INDEX(Bills!$C$6:$C$105,$Q14,$R$9)="","",INDEX(Bills!$C$6:$C$105,$Q14,$R$9)),"") -> Trash | S14: {=IFERROR(IF(LEN($R14)=0,"",INDEX($K$11:$K$130,SMALL(IF((S$8=$N$11:$N$130)*($E$11:$E$130=$R14)*($C$11:$C$130=1),ROW($K$11:$K$130)-ROW(INDEX($K$11:$K$130,1,1))+1),1))),"")} -> Paid | T14: {=IFERROR(IF(LEN($R14)=0,"",INDEX($K$11:$K$130,SMALL(IF((T$8=$N$11:$N$130)*($E$11:$E$130=$R14)*($C$11:$C$130=1),ROW($K$11:$K$130)-ROW(INDEX($K$11:$K$130,1,1))+1),1))),"")} | U14: {=IFERROR(IF(LEN($R14)=0,"",INDEX($K$11:$K$130,SMALL(IF((U$8=$N$11:$N$130)*($E$11:$E$130=$R14)*($C$11:$C$130=1),ROW($K$11:$K$130)-ROW(INDEX($K$11:$K$130,1,1))+1),1))),"")} | V14: {=IFERROR(IF(LEN($R14)=0,"",INDEX($K$11:$K$130,SMALL(IF((V$8=$N$11:$N$130)*($E$11:$E$130=$R14)*($C$11:$C$130=1),ROW($K$11:$K$130)-ROW(INDEX($K$11:$K$130,1,1))+1),1))),"")} | W14: {=IFERROR(IF(LEN($R14)=0,"",INDEX($K$11:$K$130,SMALL(IF((W$8=$N$11:$N$130)*($E$11:$E$130=$R14)*($C$11:$C$130=1),ROW($K$11:$K$130)-ROW(INDEX($K$11:$K$130,1,1))+1),1))),"")} | X14: {=IFERROR(IF(LEN($R14)=0,"",INDEX($K$11:$K$130,SMALL(IF((X$8=$N$11:$N$130)*($E$11:$E$130=$R14)*($C$11:$C$130=1),ROW($K$11:$K$130)-ROW(INDEX($K$11:$K$130,1,1))+1),1))),"")} | Y14: {=IFERROR(IF(LEN($R14)=0,"",INDEX($K$11:$K$130,SMALL(IF((Y$8=$N$11:$N$130)*($E$11:$E$130=$R14)*($C$11:$C$130=1),ROW($K$11:$K$130)-ROW(INDEX($K$11:$K$130,1,1))+1),1))),"")} | Z14: {=IFERROR(IF(LEN($R14)=0,"",INDEX($K$11:$K$130,SMALL(IF((Z$8=$N$11:$N$130)*($E$11:$E$130=$R14)*($C$11:$C$130=1),ROW($K$11:$K$130)-ROW(INDEX($K$11:$K$130,1,1))+1),1))),"")} | ... AW14: {=IFERROR(IF(LEN($R14)=0,"",INDEX($K$11:$K$130,SMALL(IF((AW$8=$N$11:$N$130)*($E$11:$E$130=$R14)*($C$11:$C$130=1),ROW($K$11:$K$130)-ROW(INDEX($K$11:$K$130,1,1))+1),1))),"")} | AY14: {=IFERROR(IF(LEN($R14)=0,"",INDEX($K$11:$K$130,SMALL(IF((AY$8=$N$11:$N$130)*($E$11:$E$130=$R14)*($C$11:$C$130=1),ROW($K$11:$K$130)-ROW(INDEX($K$11:$K$130,1,1))+1),1))),"")} -> Paid | AZ14: {=IFERROR(IF(LEN($R14)=0,"",INDEX($K$11:$K$130,SMALL(IF((AZ$8=$N$11:$N$130)*($E$11:$E$130=$R14)*($C$11:$C$130=1),ROW($K$11:$K$130)-ROW(INDEX($K$11:$K$130,1,1))+1),1))),"")} | BA14: {=IFERROR(IF(LEN($R14)=0,"",INDEX($K$11:$K$130,SMALL(IF((BA$8=$N$11:$N$130)*($E$11:$E$130=$R14)*($C$11:$C$130=1),ROW($K$11:$K$130)-ROW(INDEX($K$11:$K$130,1,1))+1),1))),"")} | BB14: {=IFERROR(IF(LEN($R14)=0,"",INDEX($K$11:$K$130,SMALL(IF((BB$8=$N$11:$N$130)*($E$11:$E$130=$R14)*($C$11:$C$130=1),ROW($K$11:$K$130)-ROW(INDEX($K$11:$K$130,1,1))+1),1))),"")} | BC14: {=IFERROR(IF(LEN($R14)=0,"",INDEX($K$11:$K$130,SMALL(IF((BC$8=$N$11:$N$130)*($E$11:$E$130=$R14)*($C$11:$C$130=1),ROW($K$11:$K$130)-ROW(INDEX($K$11:$K$130,1,1))+1),1))),"")} | BD14: {=IFERROR(IF(LEN($R14)=0,"",INDEX($K$11:$K$130,SMALL(IF((BD$8=$N$11:$N$130)*($E$11:$E$130=$R14)*($C$11:$C$130=1),ROW($K$11:$K$130)-ROW(INDEX($K$11:$K$130,1,1))+1),1))),"")} | BE14: {=IFERROR(IF(LEN($R14)=0,"",INDEX($K$11:$K$130,SMALL(IF((BE$8=$N$11:$N$130)*($E$11:$E$130=$R14)*($C$11:$C$130=1),ROW($K$11:$K$130)-ROW(INDEX($K$11:$K$130,1,1))+1),1))),"")} | BF14: {=IFERROR(IF(LEN($R14)=0,"",INDEX($K$11:$K$130,SMALL(IF((BF$8=$N$11:$N$130)*($E$11:$E$130=$R14)*($C$11:$C$130=1),ROW($K$11:$K$130)-ROW(INDEX($K$11:$K$130,1,1))+1),1))),"")} | ... CC14: {=IFERROR(IF(LEN($R14)=0,"",INDEX($K$11:$K$130,SMALL(IF((CC$8=$N$11:$N$130)*($E$11:$E$130=$R14)*($C$11:$C$130=1),ROW($K$11:$K$130)-ROW(INDEX($K$11:$K$130,1,1))+1),1))),"")} | CE14: =IF(OR(Dashboard!$D$7="",Dashboard!$D$7="ALL"),1,IF(Dashboard!$D$7=I14,1,0)) -> 1 | CF14: =IF(OR(Dashboard!$G$7="",Dashboard!$G$7="ALL"),1,IF(Dashboard!$G$7=Calc!D14,1,0)) -> 1 | CG14: =IFERROR(CE14*CF14,0) -> 1 | CH14: =IF(OR(Calendar!$I$5="",Calendar!$I$5="ALL"),1,IF(Calendar!$I$5=Calc!D14,1,0)) -> 1 | CJ14: Calendar 1 | CK14: =IFERROR(DATE(CK12,CK13,1),"") -> 45292 | CM14: Calendar 2 | CN14: =IFERROR(DATE(CN12,CN13,1),"") -> 45323 | CP14: 1 | CQ14: January | CR14: Jan | CS14: 31 | CT14: =IFERROR(INDEX($CR$14:$CR$25,MONTH(CU14)),"") -> Jan | CU14: =IFERROR(DATE(StartYear,MATCH(StartMonth,$CQ$14:$CQ$25,0)+CP13,1),"") -> 45292 | CV14: =IFERROR(INDEX($CQ$14:$CQ$25,MONTH(CU14)),"") -> January | CW14: =IFERROR(CT14&"-"&YEAR(CU14),"") -> Jan-2024 | CY14: =IF(Menu!G13="","",Menu!G13) -> Internet | CZ14: =IFERROR(IF(CY14="","",SUMIFS($J$11:$J$130,$CE$11:$CE$130,1,$D$11:$D$130,CY14)),"") -> 0 | DC14: =IFERROR(CZ14 + ROW() / 100000,"") -> 0.00014 | DF14: 2nd | DG14: 2 | DH14: 2 | DI14: 2025 | DK14: =IF(Menu!G11="","",Menu!G11) -> Subscriptions | DM14: X
B15: 1 | C15: =IFERROR(IF(INDEX(Bills!$C$6:$C$15,B15,1)="",0,1),"") -> 1 | D15: =IFERROR(IF($C15=1,INDEX(Bills!$B$6:$AB$15,$B15,D$9),""),"") -> Utilities | E15: =IFERROR(IF($C15=1,INDEX(Bills!$B$6:$AB$15,$B15,E$9),""),"") -> Electricity | F15: {=IFERROR(IF($C15=1, INDEX($DG$13:$DG$43, MATCH(INDEX(Bills!$B$6:$AB$15, $B15, F$9), $DF$13:$DF$43, 0)), ""), "")} -> 1 | G15: {=IFERROR(IF($C15=1,INDEX($CV$14:$CV$25,IF(MOD(ROW(A5),12)=0,12,MOD(ROW(A5),12)),1),""),"")} -> May | H15: {=IFERROR(IF($C15=1,YEAR(INDEX($CU$14:$CU$25,IF(MOD(ROW(A5),12)=0,12,MOD(ROW(A5),12)),1)),""),"")} -> 2024 | I15: {=IFERROR(IF($C15=1,INDEX($CW$14:$CW$25,IF(MOD(ROW(A5),12)=0,12,MOD(ROW(A5),12)),1),""),"")} -> May-2024 | J15: {=IFERROR(IF($C15=1,INDEX(Bills!$B$6:$AB$15,B15,MATCH(INDEX($CW$14:$CW$25,IF(MOD(ROW(A5),12)=0,12,MOD(ROW(A5),12)),1),Bills!$E$5:$AB$5,0)+3),""),"")} -> 120 | K15: {=IFERROR(IF($C15=1,IF(INDEX(Bills!$B$6:$AB$15,B15,MATCH(INDEX($CW$14:$CW$25,IF(MOD(ROW(A5),12)=0,12,MOD(ROW(A5),12)),1),Bills!$E$5:$AB$5,0)+4)=$DM$13,"Paid","Unpaid"),""),"")} -> Unpaid | L15: =IFERROR(IF($C15=1,INDEX($CP$14:$CQ$25,MATCH(G15,$CQ$14:$CQ$25,0),1),""),"") -> 5 | M15: =IFERROR(IF($C15=1,F15,""),"") -> 1 | N15: =IFERROR(DATE(H15,INDEX($CP$14:$CQ$25,MATCH(G15,$CQ$14:$CQ$25,0),1),F15),"") -> 45413 | O15: =IFERROR(IF(C15<>1,"",IF(Menu!$I$13="",IF(OR(Calendar!$I$7="",Calendar!$I$7=$CM$17),E15,IF(Calendar!$I$7=$CM$18,E15 & " - " &J15,D15 & " - " &J15)),IF(OR(Calendar!$I$7="",Calendar!$I$7=$CM$17),E15,IF(Calendar!$I$7=$CM$18,E15 & " - " &Menu!$I$13 &J15,D15 & " - " &Menu!$I$13 &J15)))),"") -> Utilities - $120 | Q15: 5 | R15: =IFERROR(IF(INDEX(Bills!$C$6:$C$105,$Q15,$R$9)="","",INDEX(Bills!$C$6:$C$105,$Q15,$R$9)),"") -> Streaming Service | S15: {=IFERROR(IF(LEN($R15)=0,"",INDEX($K$11:$K$130,SMALL(IF((S$8=$N$11:$N$130)*($E$11:$E$130=$R15)*($C$11:$C$130=1),ROW($K$11:$K$130)-ROW(INDEX($K$11:$K$130,1,1))+1),1))),"")} -> Paid | T15: {=IFERROR(IF(LEN($R15)=0,"",INDEX($K$11:$K$130,SMALL(IF((T$8=$N$11:$N$130)*($E$11:$E$130=$R15)*($C$11:$C$130=1),ROW($K$11:$K$130)-ROW(INDEX($K$11:$K$130,1,1))+1),1))),"")} | U15: {=IFERROR(IF(LEN($R15)=0,"",INDEX($K$11:$K$130,SMALL(IF((U$8=$N$11:$N$130)*($E$11:$E$130=$R15)*($C$11:$C$130=1),ROW($K$11:$K$130)-ROW(INDEX($K$11:$K$130,1,1))+1),1))),"")} | V15: {=IFERROR(IF(LEN($R15)=0,"",INDEX($K$11:$K$130,SMALL(IF((V$8=$N$11:$N$130)*($E$11:$E$130=$R15)*($C$11:$C$130=1),ROW($K$11:$K$130)-ROW(INDEX($K$11:$K$130,1,1))+1),1))),"")} | W15: {=IFERROR(IF(LEN($R15)=0,"",INDEX($K$11:$K$130,SMALL(IF((W$8=$N$11:$N$130)*($E$11:$E$130=$R15)*($C$11:$C$130=1),ROW($K$11:$K$130)-ROW(INDEX($K$11:$K$130,1,1))+1),1))),"")} | X15: {=IFERROR(IF(LEN($R15)=0,"",INDEX($K$11:$K$130,SMALL(IF((X$8=$N$11:$N$130)*($E$11:$E$130=$R15)*($C$11:$C$130=1),ROW($K$11:$K$130)-ROW(INDEX($K$11:$K$130,1,1))+1),1))),"")} | Y15: {=IFERROR(IF(LEN($R15)=0,"",INDEX($K$11:$K$130,SMALL(IF((Y$8=$N$11:$N$130)*($E$11:$E$130=$R15)*($C$11:$C$130=1),ROW($K$11:$K$130)-ROW(INDEX($K$11:$K$130,1,1))+1),1))),"")} | Z15: {=IFERROR(IF(LEN($R15)=0,"",INDEX($K$11:$K$130,SMALL(IF((Z$8=$N$11:$N$130)*($E$11:$E$130=$R15)*($C$11:$C$130=1),ROW($K$11:$K$130)-ROW(INDEX($K$11:$K$130,1,1))+1),1))),"")} | ... AW15: {=IFERROR(IF(LEN($R15)=0,"",INDEX($K$11:$K$130,SMALL(IF((AW$8=$N$11:$N$130)*($E$11:$E$130=$R15)*($C$11:$C$130=1),ROW($K$11:$K$130)-ROW(INDEX($K$11:$K$130,1,1))+1),1))),"")} | AY15: {=IFERROR(IF(LEN($R15)=0,"",INDEX($K$11:$K$130,SMALL(IF((AY$8=$N$11:$N$130)*($E$11:$E$130=$R15)*($C$11:$C$130=1),ROW($K$11:$K$130)-ROW(INDEX($K$11:$K$130,1,1))+1),1))),"")} -> Paid | AZ15: {=IFERROR(IF(LEN($R15)=0,"",INDEX($K$11:$K$130,SMALL(IF((AZ$8=$N$11:$N$130)*($E$11:$E$130=$R15)*($C$11:$C$130=1),ROW($K$11:$K$130)-ROW(INDEX($K$11:$K$130,1,1))+1),1))),"")} | BA15: {=IFERROR(IF(LEN($R15)=0,"",INDEX($K$11:$K$130,SMALL(IF((BA$8=$N$11:$N$130)*($E$11:$E$130=$R15)*($C$11:$C$130=1),ROW($K$11:$K$130)-ROW(INDEX($K$11:$K$130,1,1))+1),1))),"")} | BB15: {=IFERROR(IF(LEN($R15)=0,"",INDEX($K$11:$K$130,SMALL(IF((BB$8=$N$11:$N$130)*($E$11:$E$130=$R15)*($C$11:$C$130=1),ROW($K$11:$K$130)-ROW(INDEX($K$11:$K$130,1,1))+1),1))),"")} | BC15: {=IFERROR(IF(LEN($R15)=0,"",INDEX($K$11:$K$130,SMALL(IF((BC$8=$N$11:$N$130)*($E$11:$E$130=$R15)*($C$11:$C$130=1),ROW($K$11:$K$130)-ROW(INDEX($K$11:$K$130,1,1))+1),1))),"")} | BD15: {=IFERROR(IF(LEN($R15)=0,"",INDEX($K$11:$K$130,SMALL(IF((BD$8=$N$11:$N$130)*($E$11:$E$130=$R15)*($C$11:$C$130=1),ROW($K$11:$K$130)-ROW(INDEX($K$11:$K$130,1,1))+1),1))),"")} | BE15: {=IFERROR(IF(LEN($R15)=0,"",INDEX($K$11:$K$130,SMALL(IF((BE$8=$N$11:$N$130)*($E$11:$E$130=$R15)*($C$11:$C$130=1),ROW($K$11:$K$130)-ROW(INDEX($K$11:$K$130,1,1))+1),1))),"")} | BF15: {=IFERROR(IF(LEN($R15)=0,"",INDEX($K$11:$K$130,SMALL(IF((BF$8=$N$11:$N$130)*($E$11:$E$130=$R15)*($C$11:$C$130=1),ROW($K$11:$K$130)-ROW(INDEX($K$11:$K$130,1,1))+1),1))),"")} | ... CC15: {=IFERROR(IF(LEN($R15)=0,"",INDEX($K$11:$K$130,SMALL(IF((CC$8=$N$11:$N$130)*($E$11:$E$130=$R15)*($C$11:$C$130=1),ROW($K$11:$K$130)-ROW(INDEX($K$11:$K$130,1,1))+1),1))),"")} | CE15: =IF(OR(Dashboard!$D$7="",Dashboard!$D$7="ALL"),1,IF(Dashboard!$D$7=I15,1,0)) -> 1 | CF15: =IF(OR(Dashboard!$G$7="",Dashboard!$G$7="ALL"),1,IF(Dashboard!$G$7=Calc!D15,1,0)) -> 1 | CG15: =IFERROR(CE15*CF15,0) -> 1 | CH15: =IF(OR(Calendar!$I$5="",Calendar!$I$5="ALL"),1,IF(Calendar!$I$5=Calc!D15,1,0)) -> 1 | CP15: 2 | CQ15: February | CR15: Feb | CS15: =IFERROR(IF(MOD(W6,4)=0,29,28),31) -> 29 | CT15: =IFERROR(INDEX($CR$14:$CR$25,MONTH(CU15)),"") -> Feb | CU15: =IFERROR(DATE(StartYear,MATCH(StartMonth,$CQ$14:$CQ$25,0)+CP14,1),"") -> 45323 | CV15: =IFERROR(INDEX($CQ$14:$CQ$25,MONTH(CU15)),"") -> February | CW15: =IFERROR(CT15&"-"&YEAR(CU15),"") -> Feb-2024 | CY15: =IF(Menu!G14="","",Menu!G14) -> Home | CZ15: =IFERROR(IF(CY15="","",SUMIFS($J$11:$J$130,$CE$11:$CE$130,1,$D$11:$D$130,CY15)),"") -> 0 | DC15: =IFERROR(CZ15 + ROW() / 100000,"") -> 0.00015 | DF15: 3rd | DG15: 3 | DH15: 3 | DI15: 2026 | DK15: =IF(Menu!G12="","",Menu!G12) -> Phone
B16: 1 | C16: =IFERROR(IF(INDEX(Bills!$C$6:$C$15,B16,1)="",0,1),"") -> 1 | D16: =IFERROR(IF($C16=1,INDEX(Bills!$B$6:$AB$15,$B16,D$9),""),"") -> Utilities | E16: =IFERROR(IF($C16=1,INDEX(Bills!$B$6:$AB$15,$B16,E$9),""),"") -> Electricity | F16: {=IFERROR(IF($C16=1, INDEX($DG$13:$DG$43, MATCH(INDEX(Bills!$B$6:$AB$15, $B16, F$9), $DF$13:$DF$43, 0)), ""), "")} -> 1 | G16: {=IFERROR(IF($C16=1,INDEX($CV$14:$CV$25,IF(MOD(ROW(A6),12)=0,12,MOD(ROW(A6),12)),1),""),"")} -> June | H16: {=IFERROR(IF($C16=1,YEAR(INDEX($CU$14:$CU$25,IF(MOD(ROW(A6),12)=0,12,MOD(ROW(A6),12)),1)),""),"")} -> 2024 | I16: {=IFERROR(IF($C16=1,INDEX($CW$14:$CW$25,IF(MOD(ROW(A6),12)=0,12,MOD(ROW(A6),12)),1),""),"")} -> Jun-2024 | J16: {=IFERROR(IF($C16=1,INDEX(Bills!$B$6:$AB$15,B16,MATCH(INDEX($CW$14:$CW$25,IF(MOD(ROW(A6),12)=0,12,MOD(ROW(A6),12)),1),Bills!$E$5:$AB$5,0)+3),""),"")} -> 120 | K16: {=IFERROR(IF($C16=1,IF(INDEX(Bills!$B$6:$AB$15,B16,MATCH(INDEX($CW$14:$CW$25,IF(MOD(ROW(A6),12)=0,12,MOD(ROW(A6),12)),1),Bills!$E$5:$AB$5,0)+4)=$DM$13,"Paid","Unpaid"),""),"")} -> Paid | L16: =IFERROR(IF($C16=1,INDEX($CP$14:$CQ$25,MATCH(G16,$CQ$14:$CQ$25,0),1),""),"") -> 6 | M16: =IFERROR(IF($C16=1,F16,""),"") -> 1 | N16: =IFERROR(DATE(H16,INDEX($CP$14:$CQ$25,MATCH(G16,$CQ$14:$CQ$25,0),1),F16),"") -> 45444 | O16: =IFERROR(IF(C16<>1,"",IF(Menu!$I$13="",IF(OR(Calendar!$I$7="",Calendar!$I$7=$CM$17),E16,IF(Calendar!$I$7=$CM$18,E16 & " - " &J16,D16 & " - " &J16)),IF(OR(Calendar!$I$7="",Calendar!$I$7=$CM$17),E16,IF(Calendar!$I$7=$CM$18,E16 & " - " &Menu!$I$13 &J16,D16 & " - " &Menu!$I$13 &J16)))),"") -> Utilities - $120 | Q16: 6 | R16: =IFERROR(IF(INDEX(Bills!$C$6:$C$105,$Q16,$R$9)="","",INDEX(Bills!$C$6:$C$105,$Q16,$R$9)),"") -> Gym Membership | S16: {=IFERROR(IF(LEN($R16)=0,"",INDEX($K$11:$K$130,SMALL(IF((S$8=$N$11:$N$130)*($E$11:$E$130=$R16)*($C$11:$C$130=1),ROW($K$11:$K$130)-ROW(INDEX($K$11:$K$130,1,1))+1),1))),"")} | T16: {=IFERROR(IF(LEN($R16)=0,"",INDEX($K$11:$K$130,SMALL(IF((T$8=$N$11:$N$130)*($E$11:$E$130=$R16)*($C$11:$C$130=1),ROW($K$11:$K$130)-ROW(INDEX($K$11:$K$130,1,1))+1),1))),"")} | U16: {=IFERROR(IF(LEN($R16)=0,"",INDEX($K$11:$K$130,SMALL(IF((U$8=$N$11:$N$130)*($E$11:$E$130=$R16)*($C$11:$C$130=1),ROW($K$11:$K$130)-ROW(INDEX($K$11:$K$130,1,1))+1),1))),"")} | V16: {=IFERROR(IF(LEN($R16)=0,"",INDEX($K$11:$K$130,SMALL(IF((V$8=$N$11:$N$130)*($E$11:$E$130=$R16)*($C$11:$C$130=1),ROW($K$11:$K$130)-ROW(INDEX($K$11:$K$130,1,1))+1),1))),"")} | W16: {=IFERROR(IF(LEN($R16)=0,"",INDEX($K$11:$K$130,SMALL(IF((W$8=$N$11:$N$130)*($E$11:$E$130=$R16)*($C$11:$C$130=1),ROW($K$11:$K$130)-ROW(INDEX($K$11:$K$130,1,1))+1),1))),"")} | X16: {=IFERROR(IF(LEN($R16)=0,"",INDEX($K$11:$K$130,SMALL(IF((X$8=$N$11:$N$130)*($E$11:$E$130=$R16)*($C$11:$C$130=1),ROW($K$11:$K$130)-ROW(INDEX($K$11:$K$130,1,1))+1),1))),"")} | Y16: {=IFERROR(IF(LEN($R16)=0,"",INDEX($K$11:$K$130,SMALL(IF((Y$8=$N$11:$N$130)*($E$11:$E$130=$R16)*($C$11:$C$130=1),ROW($K$11:$K$130)-ROW(INDEX($K$11:$K$130,1,1))+1),1))),"")} | Z16: {=IFERROR(IF(LEN($R16)=0,"",INDEX($K$11:$K$130,SMALL(IF((Z$8=$N$11:$N$130)*($E$11:$E$130=$R16)*($C$11:$C$130=1),ROW($K$11:$K$130)-ROW(INDEX($K$11:$K$130,1,1))+1),1))),"")} | ... AW16: {=IFERROR(IF(LEN($R16)=0,"",INDEX($K$11:$K$130,SMALL(IF((AW$8=$N$11:$N$130)*($E$11:$E$130=$R16)*($C$11:$C$130=1),ROW($K$11:$K$130)-ROW(INDEX($K$11:$K$130,1,1))+1),1))),"")} | AY16: {=IFERROR(IF(LEN($R16)=0,"",INDEX($K$11:$K$130,SMALL(IF((AY$8=$N$11:$N$130)*($E$11:$E$130=$R16)*($C$11:$C$130=1),ROW($K$11:$K$130)-ROW(INDEX($K$11:$K$130,1,1))+1),1))),"")} | AZ16: {=IFERROR(IF(LEN($R16)=0,"",INDEX($K$11:$K$130,SMALL(IF((AZ$8=$N$11:$N$130)*($E$11:$E$130=$R16)*($C$11:$C$130=1),ROW($K$11:$K$130)-ROW(INDEX($K$11:$K$130,1,1))+1),1))),"")} | BA16: {=IFERROR(IF(LEN($R16)=0,"",INDEX($K$11:$K$130,SMALL(IF((BA$8=$N$11:$N$130)*($E$11:$E$130=$R16)*($C$11:$C$130=1),ROW($K$11:$K$130)-ROW(INDEX($K$11:$K$130,1,1))+1),1))),"")} | BB16: {=IFERROR(IF(LEN($R16)=0,"",INDEX($K$11:$K$130,SMALL(IF((BB$8=$N$11:$N$130)*($E$11:$E$130=$R16)*($C$11:$C$130=1),ROW($K$11:$K$130)-ROW(INDEX($K$11:$K$130,1,1))+1),1))),"")} | BC16: {=IFERROR(IF(LEN($R16)=0,"",INDEX($K$11:$K$130,SMALL(IF((BC$8=$N$11:$N$130)*($E$11:$E$130=$R16)*($C$11:$C$130=1),ROW($K$11:$K$130)-ROW(INDEX($K$11:$K$130,1,1))+1),1))),"")} | BD16: {=IFERROR(IF(LEN($R16)=0,"",INDEX($K$11:$K$130,SMALL(IF((BD$8=$N$11:$N$130)*($E$11:$E$130=$R16)*($C$11:$C$130=1),ROW($K$11:$K$130)-ROW(INDEX($K$11:$K$130,1,1))+1),1))),"")} | BE16: {=IFERROR(IF(LEN($R16)=0,"",INDEX($K$11:$K$130,SMALL(IF((BE$8=$N$11:$N$130)*($E$11:$E$130=$R16)*($C$11:$C$130=1),ROW($K$11:$K$130)-ROW(INDEX($K$11:$K$130,1,1))+1),1))),"")} | BF16: {=IFERROR(IF(LEN($R16)=0,"",INDEX($K$11:$K$130,SMALL(IF((BF$8=$N$11:$N$130)*($E$11:$E$130=$R16)*($C$11:$C$130=1),ROW($K$11:$K$130)-ROW(INDEX($K$11:$K$130,1,1))+1),1))),"")} | ... CC16: {=IFERROR(IF(LEN($R16)=0,"",INDEX($K$11:$K$130,SMALL(IF((CC$8=$N$11:$N$130)*($E$11:$E$130=$R16)*($C$11:$C$130=1),ROW($K$11:$K$130)-ROW(INDEX($K$11:$K$130,1,1))+1),1))),"")} | CE16: =IF(OR(Dashboard!$D$7="",Dashboard!$D$7="ALL"),1,IF(Dashboard!$D$7=I16,1,0)) -> 1 | CF16: =IF(OR(Dashboard!$G$7="",Dashboard!$G$7="ALL"),1,IF(Dashboard!$G$7=Calc!D16,1,0)) -> 1 | CG16: =IFERROR(CE16*CF16,0) -> 1 | CH16: =IF(OR(Calendar!$I$5="",Calendar!$I$5="ALL"),1,IF(Calendar!$I$5=Calc!D16,1,0)) -> 1 | CJ16: Order Index | CM16: Show Option | CP16: 3 | CQ16: March | CR16: Mar | CS16: 31 | CT16: =IFERROR(INDEX($CR$14:$CR$25,MONTH(CU16)),"") -> Mar | CU16: =IFERROR(DATE(StartYear,MATCH(StartMonth,$CQ$14:$CQ$25,0)+CP15,1),"") -> 45352 | CV16: =IFERROR(INDEX($CQ$14:$CQ$25,MONTH(CU16)),"") -> March | CW16: =IFERROR(CT16&"-"&YEAR(CU16),"") -> Mar-2024 | CY16: =IF(Menu!G15="","",Menu!G15) -> Other | CZ16: =IFERROR(IF(CY16="","",SUMIFS($J$11:$J$130,$CE$11:$CE$130,1,$D$11:$D$130,CY16)),"") -> 0 | DC16: =IFERROR(CZ16 + ROW() / 100000,"") -> 0.00016 | DF16: 4th | DG16: 4 | DH16: 4 | DI16: 2027 | DK16: =IF(Menu!G13="","",Menu!G13) -> Internet
B17: 1 | C17: =IFERROR(IF(INDEX(Bills!$C$6:$C$15,B17,1)="",0,1),"") -> 1 | D17: =IFERROR(IF($C17=1,INDEX(Bills!$B$6:$AB$15,$B17,D$9),""),"") -> Utilities | E17: =IFERROR(IF($C17=1,INDEX(Bills!$B$6:$AB$15,$B17,E$9),""),"") -> Electricity | F17: {=IFERROR(IF($C17=1, INDEX($DG$13:$DG$43, MATCH(INDEX(Bills!$B$6:$AB$15, $B17, F$9), $DF$13:$DF$43, 0)), ""), "")} -> 1 | G17: {=IFERROR(IF($C17=1,INDEX($CV$14:$CV$25,IF(MOD(ROW(A7),12)=0,12,MOD(ROW(A7),12)),1),""),"")} -> July | H17: {=IFERROR(IF($C17=1,YEAR(INDEX($CU$14:$CU$25,IF(MOD(ROW(A7),12)=0,12,MOD(ROW(A7),12)),1)),""),"")} -> 2024 | I17: {=IFERROR(IF($C17=1,INDEX($CW$14:$CW$25,IF(MOD(ROW(A7),12)=0,12,MOD(ROW(A7),12)),1),""),"")} -> Jul-2024 | J17: {=IFERROR(IF($C17=1,INDEX(Bills!$B$6:$AB$15,B17,MATCH(INDEX($CW$14:$CW$25,IF(MOD(ROW(A7),12)=0,12,MOD(ROW(A7),12)),1),Bills!$E$5:$AB$5,0)+3),""),"")} -> 120 | K17: {=IFERROR(IF($C17=1,IF(INDEX(Bills!$B$6:$AB$15,B17,MATCH(INDEX($CW$14:$CW$25,IF(MOD(ROW(A7),12)=0,12,MOD(ROW(A7),12)),1),Bills!$E$5:$AB$5,0)+4)=$DM$13,"Paid","Unpaid"),""),"")} -> Paid | L17: =IFERROR(IF($C17=1,INDEX($CP$14:$CQ$25,MATCH(G17,$CQ$14:$CQ$25,0),1),""),"") -> 7 | M17: =IFERROR(IF($C17=1,F17,""),"") -> 1 | N17: =IFERROR(DATE(H17,INDEX($CP$14:$CQ$25,MATCH(G17,$CQ$14:$CQ$25,0),1),F17),"") -> 45474 | O17: =IFERROR(IF(C17<>1,"",IF(Menu!$I$13="",IF(OR(Calendar!$I$7="",Calendar!$I$7=$CM$17),E17,IF(Calendar!$I$7=$CM$18,E17 & " - " &J17,D17 & " - " &J17)),IF(OR(Calendar!$I$7="",Calendar!$I$7=$CM$17),E17,IF(Calendar!$I$7=$CM$18,E17 & " - " &Menu!$I$13 &J17,D17 & " - " &Menu!$I$13 &J17)))),"") -> Utilities - $120 | Q17: 7 | R17: =IFERROR(IF(INDEX(Bills!$C$6:$C$105,$Q17,$R$9)="","",INDEX(Bills!$C$6:$C$105,$Q17,$R$9)),"") -> Magazine | S17: {=IFERROR(IF(LEN($R17)=0,"",INDEX($K$11:$K$130,SMALL(IF((S$8=$N$11:$N$130)*($E$11:$E$130=$R17)*($C$11:$C$130=1),ROW($K$11:$K$130)-ROW(INDEX($K$11:$K$130,1,1))+1),1))),"")} | T17: {=IFERROR(IF(LEN($R17)=0,"",INDEX($K$11:$K$130,SMALL(IF((T$8=$N$11:$N$130)*($E$11:$E$130=$R17)*($C$11:$C$130=1),ROW($K$11:$K$130)-ROW(INDEX($K$11:$K$130,1,1))+1),1))),"")} | U17: {=IFERROR(IF(LEN($R17)=0,"",INDEX($K$11:$K$130,SMALL(IF((U$8=$N$11:$N$130)*($E$11:$E$130=$R17)*($C$11:$C$130=1),ROW($K$11:$K$130)-ROW(INDEX($K$11:$K$130,1,1))+1),1))),"")} | V17: {=IFERROR(IF(LEN($R17)=0,"",INDEX($K$11:$K$130,SMALL(IF((V$8=$N$11:$N$130)*($E$11:$E$130=$R17)*($C$11:$C$130=1),ROW($K$11:$K$130)-ROW(INDEX($K$11:$K$130,1,1))+1),1))),"")} | W17: {=IFERROR(IF(LEN($R17)=0,"",INDEX($K$11:$K$130,SMALL(IF((W$8=$N$11:$N$130)*($E$11:$E$130=$R17)*($C$11:$C$130=1),ROW($K$11:$K$130)-ROW(INDEX($K$11:$K$130,1,1))+1),1))),"")} | X17: {=IFERROR(IF(LEN($R17)=0,"",INDEX($K$11:$K$130,SMALL(IF((X$8=$N$11:$N$130)*($E$11:$E$130=$R17)*($C$11:$C$130=1),ROW($K$11:$K$130)-ROW(INDEX($K$11:$K$130,1,1))+1),1))),"")} | Y17: {=IFERROR(IF(LEN($R17)=0,"",INDEX($K$11:$K$130,SMALL(IF((Y$8=$N$11:$N$130)*($E$11:$E$130=$R17)*($C$11:$C$130=1),ROW($K$11:$K$130)-ROW(INDEX($K$11:$K$130,1,1))+1),1))),"")} | Z17: {=IFERROR(IF(LEN($R17)=0,"",INDEX($K$11:$K$130,SMALL(IF((Z$8=$N$11:$N$130)*($E$11:$E$130=$R17)*($C$11:$C$130=1),ROW($K$11:$K$130)-ROW(INDEX($K$11:$K$130,1,1))+1),1))),"")} | ... AW17: {=IFERROR(IF(LEN($R17)=0,"",INDEX($K$11:$K$130,SMALL(IF((AW$8=$N$11:$N$130)*($E$11:$E$130=$R17)*($C$11:$C$130=1),ROW($K$11:$K$130)-ROW(INDEX($K$11:$K$130,1,1))+1),1))),"")} | AY17: {=IFERROR(IF(LEN($R17)=0,"",INDEX($K$11:$K$130,SMALL(IF((AY$8=$N$11:$N$130)*($E$11:$E$130=$R17)*($C$11:$C$130=1),ROW($K$11:$K$130)-ROW(INDEX($K$11:$K$130,1,1))+1),1))),"")} | AZ17: {=IFERROR(IF(LEN($R17)=0,"",INDEX($K$11:$K$130,SMALL(IF((AZ$8=$N$11:$N$130)*($E$11:$E$130=$R17)*($C$11:$C$130=1),ROW($K$11:$K$130)-ROW(INDEX($K$11:$K$130,1,1))+1),1))),"")} | BA17: {=IFERROR(IF(LEN($R17)=0,"",INDEX($K$11:$K$130,SMALL(IF((BA$8=$N$11:$N$130)*($E$11:$E$130=$R17)*($C$11:$C$130=1),ROW($K$11:$K$130)-ROW(INDEX($K$11:$K$130,1,1))+1),1))),"")} | BB17: {=IFERROR(IF(LEN($R17)=0,"",INDEX($K$11:$K$130,SMALL(IF((BB$8=$N$11:$N$130)*($E$11:$E$130=$R17)*($C$11:$C$130=1),ROW($K$11:$K$130)-ROW(INDEX($K$11:$K$130,1,1))+1),1))),"")} | BC17: {=IFERROR(IF(LEN($R17)=0,"",INDEX($K$11:$K$130,SMALL(IF((BC$8=$N$11:$N$130)*($E$11:$E$130=$R17)*($C$11:$C$130=1),ROW($K$11:$K$130)-ROW(INDEX($K$11:$K$130,1,1))+1),1))),"")} | BD17: {=IFERROR(IF(LEN($R17)=0,"",INDEX($K$11:$K$130,SMALL(IF((BD$8=$N$11:$N$130)*($E$11:$E$130=$R17)*($C$11:$C$130=1),ROW($K$11:$K$130)-ROW(INDEX($K$11:$K$130,1,1))+1),1))),"")} | BE17: {=IFERROR(IF(LEN($R17)=0,"",INDEX($K$11:$K$130,SMALL(IF((BE$8=$N$11:$N$130)*($E$11:$E$130=$R17)*($C$11:$C$130=1),ROW($K$11:$K$130)-ROW(INDEX($K$11:$K$130,1,1))+1),1))),"")} | BF17: {=IFERROR(IF(LEN($R17)=0,"",INDEX($K$11:$K$130,SMALL(IF((BF$8=$N$11:$N$130)*($E$11:$E$130=$R17)*($C$11:$C$130=1),ROW($K$11:$K$130)-ROW(INDEX($K$11:$K$130,1,1))+1),1))),"")} | ... CC17: {=IFERROR(IF(LEN($R17)=0,"",INDEX($K$11:$K$130,SMALL(IF((CC$8=$N$11:$N$130)*($E$11:$E$130=$R17)*($C$11:$C$130=1),ROW($K$11:$K$130)-ROW(INDEX($K$11:$K$130,1,1))+1),1))),"")} | CE17: =IF(OR(Dashboard!$D$7="",Dashboard!$D$7="ALL"),1,IF(Dashboard!$D$7=I17,1,0)) -> 1 | CF17: =IF(OR(Dashboard!$G$7="",Dashboard!$G$7="ALL"),1,IF(Dashboard!$G$7=Calc!D17,1,0)) -> 1 | CG17: =IFERROR(CE17*CF17,0) -> 1 | CH17: =IF(OR(Calendar!$I$5="",Calendar!$I$5="ALL"),1,IF(Calendar!$I$5=Calc!D17,1,0)) -> 1 | CJ17: 1 | CM17: Bill Name | CP17: 4 | CQ17: April | CR17: Apr | CS17: 30 | CT17: =IFERROR(INDEX($CR$14:$CR$25,MONTH(CU17)),"") -> Apr | CU17: =IFERROR(DATE(StartYear,MATCH(StartMonth,$CQ$14:$CQ$25,0)+CP16,1),"") -> 45383 | CV17: =IFERROR(INDEX($CQ$14:$CQ$25,MONTH(CU17)),"") -> April | CW17: =IFERROR(CT17&"-"&YEAR(CU17),"") -> Apr-2024 | CY17: =IF(Menu!G16="","",Menu!G16) | CZ17: =IFERROR(IF(CY17="","",SUMIFS($J$11:$J$130,$CE$11:$CE$130,1,$D$11:$D$130,CY17)),"") | DC17: =IFERROR(CZ17 + ROW() / 100000,"") | DF17: 5th | DG17: 5 | DH17: 5 | DI17: 2028 | DK17: =IF(Menu!G14="","",Menu!G14) -> Home
B18: 1 | C18: =IFERROR(IF(INDEX(Bills!$C$6:$C$15,B18,1)="",0,1),"") -> 1 | D18: =IFERROR(IF($C18=1,INDEX(Bills!$B$6:$AB$15,$B18,D$9),""),"") -> Utilities | E18: =IFERROR(IF($C18=1,INDEX(Bills!$B$6:$AB$15,$B18,E$9),""),"") -> Electricity | F18: {=IFERROR(IF($C18=1, INDEX($DG$13:$DG$43, MATCH(INDEX(Bills!$B$6:$AB$15, $B18, F$9), $DF$13:$DF$43, 0)), ""), "")} -> 1 | G18: {=IFERROR(IF($C18=1,INDEX($CV$14:$CV$25,IF(MOD(ROW(A8),12)=0,12,MOD(ROW(A8),12)),1),""),"")} -> August | H18: {=IFERROR(IF($C18=1,YEAR(INDEX($CU$14:$CU$25,IF(MOD(ROW(A8),12)=0,12,MOD(ROW(A8),12)),1)),""),"")} -> 2024 | I18: {=IFERROR(IF($C18=1,INDEX($CW$14:$CW$25,IF(MOD(ROW(A8),12)=0,12,MOD(ROW(A8),12)),1),""),"")} -> Aug-2024 | J18: {=IFERROR(IF($C18=1,INDEX(Bills!$B$6:$AB$15,B18,MATCH(INDEX($CW$14:$CW$25,IF(MOD(ROW(A8),12)=0,12,MOD(ROW(A8),12)),1),Bills!$E$5:$AB$5,0)+3),""),"")} -> 120 | K18: {=IFERROR(IF($C18=1,IF(INDEX(Bills!$B$6:$AB$15,B18,MATCH(INDEX($CW$14:$CW$25,IF(MOD(ROW(A8),12)=0,12,MOD(ROW(A8),12)),1),Bills!$E$5:$AB$5,0)+4)=$DM$13,"Paid","Unpaid"),""),"")} -> Paid | L18: =IFERROR(IF($C18=1,INDEX($CP$14:$CQ$25,MATCH(G18,$CQ$14:$CQ$25,0),1),""),"") -> 8 | M18: =IFERROR(IF($C18=1,F18,""),"") -> 1 | N18: =IFERROR(DATE(H18,INDEX($CP$14:$CQ$25,MATCH(G18,$CQ$14:$CQ$25,0),1),F18),"") -> 45505 | O18: =IFERROR(IF(C18<>1,"",IF(Menu!$I$13="",IF(OR(Calendar!$I$7="",Calendar!$I$7=$CM$17),E18,IF(Calendar!$I$7=$CM$18,E18 & " - " &J18,D18 & " - " &J18)),IF(OR(Calendar!$I$7="",Calendar!$I$7=$CM$17),E18,IF(Calendar!$I$7=$CM$18,E18 & " - " &Menu!$I$13 &J18,D18 & " - " &Menu!$I$13 &J18)))),"") -> Utilities - $120 | Q18: 8 | R18: =IFERROR(IF(INDEX(Bills!$C$6:$C$105,$Q18,$R$9)="","",INDEX(Bills!$C$6:$C$105,$Q18,$R$9)),"") | S18: {=IFERROR(IF(LEN($R18)=0,"",INDEX($K$11:$K$130,SMALL(IF((S$8=$N$11:$N$130)*($E$11:$E$130=$R18)*($C$11:$C$130=1),ROW($K$11:$K$130)-ROW(INDEX($K$11:$K$130,1,1))+1),1))),"")} | T18: {=IFERROR(IF(LEN($R18)=0,"",INDEX($K$11:$K$130,SMALL(IF((T$8=$N$11:$N$130)*($E$11:$E$130=$R18)*($C$11:$C$130=1),ROW($K$11:$K$130)-ROW(INDEX($K$11:$K$130,1,1))+1),1))),"")} | U18: {=IFERROR(IF(LEN($R18)=0,"",INDEX($K$11:$K$130,SMALL(IF((U$8=$N$11:$N$130)*($E$11:$E$130=$R18)*($C$11:$C$130=1),ROW($K$11:$K$130)-ROW(INDEX($K$11:$K$130,1,1))+1),1))),"")} | V18: {=IFERROR(IF(LEN($R18)=0,"",INDEX($K$11:$K$130,SMALL(IF((V$8=$N$11:$N$130)*($E$11:$E$130=$R18)*($C$11:$C$130=1),ROW($K$11:$K$130)-ROW(INDEX($K$11:$K$130,1,1))+1),1))),"")} | W18: {=IFERROR(IF(LEN($R18)=0,"",INDEX($K$11:$K$130,SMALL(IF((W$8=$N$11:$N$130)*($E$11:$E$130=$R18)*($C$11:$C$130=1),ROW($K$11:$K$130)-ROW(INDEX($K$11:$K$130,1,1))+1),1))),"")} | X18: {=IFERROR(IF(LEN($R18)=0,"",INDEX($K$11:$K$130,SMALL(IF((X$8=$N$11:$N$130)*($E$11:$E$130=$R18)*($C$11:$C$130=1),ROW($K$11:$K$130)-ROW(INDEX($K$11:$K$130,1,1))+1),1))),"")} | Y18: {=IFERROR(IF(LEN($R18)=0,"",INDEX($K$11:$K$130,SMALL(IF((Y$8=$N$11:$N$130)*($E$11:$E$130=$R18)*($C$11:$C$130=1),ROW($K$11:$K$130)-ROW(INDEX($K$11:$K$130,1,1))+1),1))),"")} | Z18: {=IFERROR(IF(LEN($R18)=0,"",INDEX($K$11:$K$130,SMALL(IF((Z$8=$N$11:$N$130)*($E$11:$E$130=$R18)*($C$11:$C$130=1),ROW($K$11:$K$130)-ROW(INDEX($K$11:$K$130,1,1))+1),1))),"")} | ... AW18: {=IFERROR(IF(LEN($R18)=0,"",INDEX($K$11:$K$130,SMALL(IF((AW$8=$N$11:$N$130)*($E$11:$E$130=$R18)*($C$11:$C$130=1),ROW($K$11:$K$130)-ROW(INDEX($K$11:$K$130,1,1))+1),1))),"")} | AY18: {=IFERROR(IF(LEN($R18)=0,"",INDEX($K$11:$K$130,SMALL(IF((AY$8=$N$11:$N$130)*($E$11:$E$130=$R18)*($C$11:$C$130=1),ROW($K$11:$K$130)-ROW(INDEX($K$11:$K$130,1,1))+1),1))),"")} | AZ18: {=IFERROR(IF(LEN($R18)=0,"",INDEX($K$11:$K$130,SMALL(IF((AZ$8=$N$11:$N$130)*($E$11:$E$130=$R18)*($C$11:$C$130=1),ROW($K$11:$K$130)-ROW(INDEX($K$11:$K$130,1,1))+1),1))),"")} | BA18: {=IFERROR(IF(LEN($R18)=0,"",INDEX($K$11:$K$130,SMALL(IF((BA$8=$N$11:$N$130)*($E$11:$E$130=$R18)*($C$11:$C$130=1),ROW($K$11:$K$130)-ROW(INDEX($K$11:$K$130,1,1))+1),1))),"")} | BB18: {=IFERROR(IF(LEN($R18)=0,"",INDEX($K$11:$K$130,SMALL(IF((BB$8=$N$11:$N$130)*($E$11:$E$130=$R18)*($C$11:$C$130=1),ROW($K$11:$K$130)-ROW(INDEX($K$11:$K$130,1,1))+1),1))),"")} | BC18: {=IFERROR(IF(LEN($R18)=0,"",INDEX($K$11:$K$130,SMALL(IF((BC$8=$N$11:$N$130)*($E$11:$E$130=$R18)*($C$11:$C$130=1),ROW($K$11:$K$130)-ROW(INDEX($K$11:$K$130,1,1))+1),1))),"")} | BD18: {=IFERROR(IF(LEN($R18)=0,"",INDEX($K$11:$K$130,SMALL(IF((BD$8=$N$11:$N$130)*($E$11:$E$130=$R18)*($C$11:$C$130=1),ROW($K$11:$K$130)-ROW(INDEX($K$11:$K$130,1,1))+1),1))),"")} | BE18: {=IFERROR(IF(LEN($R18)=0,"",INDEX($K$11:$K$130,SMALL(IF((BE$8=$N$11:$N$130)*($E$11:$E$130=$R18)*($C$11:$C$130=1),ROW($K$11:$K$130)-ROW(INDEX($K$11:$K$130,1,1))+1),1))),"")} | BF18: {=IFERROR(IF(LEN($R18)=0,"",INDEX($K$11:$K$130,SMALL(IF((BF$8=$N$11:$N$130)*($E$11:$E$130=$R18)*($C$11:$C$130=1),ROW($K$11:$K$130)-ROW(INDEX($K$11:$K$130,1,1))+1),1))),"")} | ... CC18: {=IFERROR(IF(LEN($R18)=0,"",INDEX($K$11:$K$130,SMALL(IF((CC$8=$N$11:$N$130)*($E$11:$E$130=$R18)*($C$11:$C$130=1),ROW($K$11:$K$130)-ROW(INDEX($K$11:$K$130,1,1))+1),1))),"")} | CE18: =IF(OR(Dashboard!$D$7="",Dashboard!$D$7="ALL"),1,IF(Dashboard!$D$7=I18,1,0)) -> 1 | CF18: =IF(OR(Dashboard!$G$7="",Dashboard!$G$7="ALL"),1,IF(Dashboard!$G$7=Calc!D18,1,0)) -> 1 | CG18: =IFERROR(CE18*CF18,0) -> 1 | CH18: =IF(OR(Calendar!$I$5="",Calendar!$I$5="ALL"),1,IF(Calendar!$I$5=Calc!D18,1,0)) -> 1 | CJ18: 2 | CM18: Bill Name - Amount | CP18: 5 | CQ18: May | CR18: May | CS18: 31 | CT18: =IFERROR(INDEX($CR$14:$CR$25,MONTH(CU18)),"") -> May | CU18: =IFERROR(DATE(StartYear,MATCH(StartMonth,$CQ$14:$CQ$25,0)+CP17,1),"") -> 45413 | CV18: =IFERROR(INDEX($CQ$14:$CQ$25,MONTH(CU18)),"") -> May | CW18: =IFERROR(CT18&"-"&YEAR(CU18),"") -> May-2024 | CY18: =IF(Menu!G17="","",Menu!G17) | CZ18: =IFERROR(IF(CY18="","",SUMIFS($J$11:$J$130,$CE$11:$CE$130,1,$D$11:$D$130,CY18)),"") | DC18: =IFERROR(CZ18 + ROW() / 100000,"") | DF18: 6th | DG18: 6 | DH18: 6 | DI18: 2029 | DK18: =IF(Menu!G15="","",Menu!G15) -> Other
B19: 1 | C19: =IFERROR(IF(INDEX(Bills!$C$6:$C$15,B19,1)="",0,1),"") -> 1 | D19: =IFERROR(IF($C19=1,INDEX(Bills!$B$6:$AB$15,$B19,D$9),""),"") -> Utilities | E19: =IFERROR(IF($C19=1,INDEX(Bills!$B$6:$AB$15,$B19,E$9),""),"") -> Electricity | F19: {=IFERROR(IF($C19=1, INDEX($DG$13:$DG$43, MATCH(INDEX(Bills!$B$6:$AB$15, $B19, F$9), $DF$13:$DF$43, 0)), ""), "")} -> 1 | G19: {=IFERROR(IF($C19=1,INDEX($CV$14:$CV$25,IF(MOD(ROW(A9),12)=0,12,MOD(ROW(A9),12)),1),""),"")} -> September | H19: {=IFERROR(IF($C19=1,YEAR(INDEX($CU$14:$CU$25,IF(MOD(ROW(A9),12)=0,12,MOD(ROW(A9),12)),1)),""),"")} -> 2024 | I19: {=IFERROR(IF($C19=1,INDEX($CW$14:$CW$25,IF(MOD(ROW(A9),12)=0,12,MOD(ROW(A9),12)),1),""),"")} -> Sep-2024 | J19: {=IFERROR(IF($C19=1,INDEX(Bills!$B$6:$AB$15,B19,MATCH(INDEX($CW$14:$CW$25,IF(MOD(ROW(A9),12)=0,12,MOD(ROW(A9),12)),1),Bills!$E$5:$AB$5,0)+3),""),"")} -> 120 | K19: {=IFERROR(IF($C19=1,IF(INDEX(Bills!$B$6:$AB$15,B19,MATCH(INDEX($CW$14:$CW$25,IF(MOD(ROW(A9),12)=0,12,MOD(ROW(A9),12)),1),Bills!$E$5:$AB$5,0)+4)=$DM$13,"Paid","Unpaid"),""),"")} -> Unpaid | L19: =IFERROR(IF($C19=1,INDEX($CP$14:$CQ$25,MATCH(G19,$CQ$14:$CQ$25,0),1),""),"") -> 9 | M19: =IFERROR(IF($C19=1,F19,""),"") -> 1 | N19: =IFERROR(DATE(H19,INDEX($CP$14:$CQ$25,MATCH(G19,$CQ$14:$CQ$25,0),1),F19),"") -> 45536 | O19: =IFERROR(IF(C19<>1,"",IF(Menu!$I$13="",IF(OR(Calendar!$I$7="",Calendar!$I$7=$CM$17),E19,IF(Calendar!$I$7=$CM$18,E19 & " - " &J19,D19 & " - " &J19)),IF(OR(Calendar!$I$7="",Calendar!$I$7=$CM$17),E19,IF(Calendar!$I$7=$CM$18,E19 & " - " &Menu!$I$13 &J19,D19 & " - " &Menu!$I$13 &J19)))),"") -> Utilities - $120 | Q19: 9 | R19: =IFERROR(IF(INDEX(Bills!$C$6:$C$105,$Q19,$R$9)="","",INDEX(Bills!$C$6:$C$105,$Q19,$R$9)),"") | S19: {=IFERROR(IF(LEN($R19)=0,"",INDEX($K$11:$K$130,SMALL(IF((S$8=$N$11:$N$130)*($E$11:$E$130=$R19)*($C$11:$C$130=1),ROW($K$11:$K$130)-ROW(INDEX($K$11:$K$130,1,1))+1),1))),"")} | T19: {=IFERROR(IF(LEN($R19)=0,"",INDEX($K$11:$K$130,SMALL(IF((T$8=$N$11:$N$130)*($E$11:$E$130=$R19)*($C$11:$C$130=1),ROW($K$11:$K$130)-ROW(INDEX($K$11:$K$130,1,1))+1),1))),"")} | U19: {=IFERROR(IF(LEN($R19)=0,"",INDEX($K$11:$K$130,SMALL(IF((U$8=$N$11:$N$130)*($E$11:$E$130=$R19)*($C$11:$C$130=1),ROW($K$11:$K$130)-ROW(INDEX($K$11:$K$130,1,1))+1),1))),"")} | V19: {=IFERROR(IF(LEN($R19)=0,"",INDEX($K$11:$K$130,SMALL(IF((V$8=$N$11:$N$130)*($E$11:$E$130=$R19)*($C$11:$C$130=1),ROW($K$11:$K$130)-ROW(INDEX($K$11:$K$130,1,1))+1),1))),"")} | W19: {=IFERROR(IF(LEN($R19)=0,"",INDEX($K$11:$K$130,SMALL(IF((W$8=$N$11:$N$130)*($E$11:$E$130=$R19)*($C$11:$C$130=1),ROW($K$11:$K$130)-ROW(INDEX($K$11:$K$130,1,1))+1),1))),"")} | X19: {=IFERROR(IF(LEN($R19)=0,"",INDEX($K$11:$K$130,SMALL(IF((X$8=$N$11:$N$130)*($E$11:$E$130=$R19)*($C$11:$C$130=1),ROW($K$11:$K$130)-ROW(INDEX($K$11:$K$130,1,1))+1),1))),"")} | Y19: {=IFERROR(IF(LEN($R19)=0,"",INDEX($K$11:$K$130,SMALL(IF((Y$8=$N$11:$N$130)*($E$11:$E$130=$R19)*($C$11:$C$130=1),ROW($K$11:$K$130)-ROW(INDEX($K$11:$K$130,1,1))+1),1))),"")} | Z19: {=IFERROR(IF(LEN($R19)=0,"",INDEX($K$11:$K$130,SMALL(IF((Z$8=$N$11:$N$130)*($E$11:$E$130=$R19)*($C$11:$C$130=1),ROW($K$11:$K$130)-ROW(INDEX($K$11:$K$130,1,1))+1),1))),"")} | ... AW19: {=IFERROR(IF(LEN($R19)=0,"",INDEX($K$11:$K$130,SMALL(IF((AW$8=$N$11:$N$130)*($E$11:$E$130=$R19)*($C$11:$C$130=1),ROW($K$11:$K$130)-ROW(INDEX($K$11:$K$130,1,1))+1),1))),"")} | AY19: {=IFERROR(IF(LEN($R19)=0,"",INDEX($K$11:$K$130,SMALL(IF((AY$8=$N$11:$N$130)*($E$11:$E$130=$R19)*($C$11:$C$130=1),ROW($K$11:$K$130)-ROW(INDEX($K$11:$K$130,1,1))+1),1))),"")} | AZ19: {=IFERROR(IF(LEN($R19)=0,"",INDEX($K$11:$K$130,SMALL(IF((AZ$8=$N$11:$N$130)*($E$11:$E$130=$R19)*($C$11:$C$130=1),ROW($K$11:$K$130)-ROW(INDEX($K$11:$K$130,1,1))+1),1))),"")} | BA19: {=IFERROR(IF(LEN($R19)=0,"",INDEX($K$11:$K$130,SMALL(IF((BA$8=$N$11:$N$130)*($E$11:$E$130=$R19)*($C$11:$C$130=1),ROW($K$11:$K$130)-ROW(INDEX($K$11:$K$130,1,1))+1),1))),"")} | BB19: {=IFERROR(IF(LEN($R19)=0,"",INDEX($K$11:$K$130,SMALL(IF((BB$8=$N$11:$N$130)*($E$11:$E$130=$R19)*($C$11:$C$130=1),ROW($K$11:$K$130)-ROW(INDEX($K$11:$K$130,1,1))+1),1))),"")} | BC19: {=IFERROR(IF(LEN($R19)=0,"",INDEX($K$11:$K$130,SMALL(IF((BC$8=$N$11:$N$130)*($E$11:$E$130=$R19)*($C$11:$C$130=1),ROW($K$11:$K$130)-ROW(INDEX($K$11:$K$130,1,1))+1),1))),"")} | BD19: {=IFERROR(IF(LEN($R19)=0,"",INDEX($K$11:$K$130,SMALL(IF((BD$8=$N$11:$N$130)*($E$11:$E$130=$R19)*($C$11:$C$130=1),ROW($K$11:$K$130)-ROW(INDEX($K$11:$K$130,1,1))+1),1))),"")} | BE19: {=IFERROR(IF(LEN($R19)=0,"",INDEX($K$11:$K$130,SMALL(IF((BE$8=$N$11:$N$130)*($E$11:$E$130=$R19)*($C$11:$C$130=1),ROW($K$11:$K$130)-ROW(INDEX($K$11:$K$130,1,1))+1),1))),"")} | BF19: {=IFERROR(IF(LEN($R19)=0,"",INDEX($K$11:$K$130,SMALL(IF((BF$8=$N$11:$N$130)*($E$11:$E$130=$R19)*($C$11:$C$130=1),ROW($K$11:$K$130)-ROW(INDEX($K$11:$K$130,1,1))+1),1))),"")} | ... CC19: {=IFERROR(IF(LEN($R19)=0,"",INDEX($K$11:$K$130,SMALL(IF((CC$8=$N$11:$N$130)*($E$11:$E$130=$R19)*($C$11:$C$130=1),ROW($K$11:$K$130)-ROW(INDEX($K$11:$K$130,1,1))+1),1))),"")} | CE19: =IF(OR(Dashboard!$D$7="",Dashboard!$D$7="ALL"),1,IF(Dashboard!$D$7=I19,1,0)) -> 1 | CF19: =IF(OR(Dashboard!$G$7="",Dashboard!$G$7="ALL"),1,IF(Dashboard!$G$7=Calc!D19,1,0)) -> 1 | CG19: =IFERROR(CE19*CF19,0) -> 1 | CH19: =IF(OR(Calendar!$I$5="",Calendar!$I$5="ALL"),1,IF(Calendar!$I$5=Calc!D19,1,0)) -> 1 | CJ19: 3 | CM19: Category - Amount | CP19: 6 | CQ19: June | CR19: Jun | CS19: 30 | CT19: =IFERROR(INDEX($CR$14:$CR$25,MONTH(CU19)),"") -> Jun | CU19: =IFERROR(DATE(StartYear,MATCH(StartMonth,$CQ$14:$CQ$25,0)+CP18,1),"") -> 45444 | CV19: =IFERROR(INDEX($CQ$14:$CQ$25,MONTH(CU19)),"") -> June | CW19: =IFERROR(CT19&"-"&YEAR(CU19),"") -> Jun-2024 | CY19: =IF(Menu!G18="","",Menu!G18) | CZ19: =IFERROR(IF(CY19="","",SUMIFS($J$11:$J$130,$CE$11:$CE$130,1,$D$11:$D$130,CY19)),"") | DC19: =IFERROR(CZ19 + ROW() / 100000,"") | DF19: 7th | DG19: 7 | DH19: 7 | DI19: 2030 | DK19: =IF(Menu!G16="","",Menu!G16)
B20: 1 | C20: =IFERROR(IF(INDEX(Bills!$C$6:$C$15,B20,1)="",0,1),"") -> 1 | D20: =IFERROR(IF($C20=1,INDEX(Bills!$B$6:$AB$15,$B20,D$9),""),"") -> Utilities | E20: =IFERROR(IF($C20=1,INDEX(Bills!$B$6:$AB$15,$B20,E$9),""),"") -> Electricity | F20: {=IFERROR(IF($C20=1, INDEX($DG$13:$DG$43, MATCH(INDEX(Bills!$B$6:$AB$15, $B20, F$9), $DF$13:$DF$43, 0)), ""), "")} -> 1 | G20: {=IFERROR(IF($C20=1,INDEX($CV$14:$CV$25,IF(MOD(ROW(A10),12)=0,12,MOD(ROW(A10),12)),1),""),"")} -> October | H20: {=IFERROR(IF($C20=1,YEAR(INDEX($CU$14:$CU$25,IF(MOD(ROW(A10),12)=0,12,MOD(ROW(A10),12)),1)),""),"")} -> 2024 | I20: {=IFERROR(IF($C20=1,INDEX($CW$14:$CW$25,IF(MOD(ROW(A10),12)=0,12,MOD(ROW(A10),12)),1),""),"")} -> Oct-2024 | J20: {=IFERROR(IF($C20=1,INDEX(Bills!$B$6:$AB$15,B20,MATCH(INDEX($CW$14:$CW$25,IF(MOD(ROW(A10),12)=0,12,MOD(ROW(A10),12)),1),Bills!$E$5:$AB$5,0)+3),""),"")} -> 120 | K20: {=IFERROR(IF($C20=1,IF(INDEX(Bills!$B$6:$AB$15,B20,MATCH(INDEX($CW$14:$CW$25,IF(MOD(ROW(A10),12)=0,12,MOD(ROW(A10),12)),1),Bills!$E$5:$AB$5,0)+4)=$DM$13,"Paid","Unpaid"),""),"")} -> Paid | L20: =IFERROR(IF($C20=1,INDEX($CP$14:$CQ$25,MATCH(G20,$CQ$14:$CQ$25,0),1),""),"") -> 10 | M20: =IFERROR(IF($C20=1,F20,""),"") -> 1 | N20: =IFERROR(DATE(H20,INDEX($CP$14:$CQ$25,MATCH(G20,$CQ$14:$CQ$25,0),1),F20),"") -> 45566 | O20: =IFERROR(IF(C20<>1,"",IF(Menu!$I$13="",IF(OR(Calendar!$I$7="",Calendar!$I$7=$CM$17),E20,IF(Calendar!$I$7=$CM$18,E20 & " - " &J20,D20 & " - " &J20)),IF(OR(Calendar!$I$7="",Calendar!$I$7=$CM$17),E20,IF(Calendar!$I$7=$CM$18,E20 & " - " &Menu!$I$13 &J20,D20 & " - " &Menu!$I$13 &J20)))),"") -> Utilities - $120 | Q20: 10 | R20: =IFERROR(IF(INDEX(Bills!$C$6:$C$105,$Q20,$R$9)="","",INDEX(Bills!$C$6:$C$105,$Q20,$R$9)),"") | S20: {=IFERROR(IF(LEN($R20)=0,"",INDEX($K$11:$K$130,SMALL(IF((S$8=$N$11:$N$130)*($E$11:$E$130=$R20)*($C$11:$C$130=1),ROW($K$11:$K$130)-ROW(INDEX($K$11:$K$130,1,1))+1),1))),"")} | T20: {=IFERROR(IF(LEN($R20)=0,"",INDEX($K$11:$K$130,SMALL(IF((T$8=$N$11:$N$130)*($E$11:$E$130=$R20)*($C$11:$C$130=1),ROW($K$11:$K$130)-ROW(INDEX($K$11:$K$130,1,1))+1),1))),"")} | U20: {=IFERROR(IF(LEN($R20)=0,"",INDEX($K$11:$K$130,SMALL(IF((U$8=$N$11:$N$130)*($E$11:$E$130=$R20)*($C$11:$C$130=1),ROW($K$11:$K$130)-ROW(INDEX($K$11:$K$130,1,1))+1),1))),"")} | V20: {=IFERROR(IF(LEN($R20)=0,"",INDEX($K$11:$K$130,SMALL(IF((V$8=$N$11:$N$130)*($E$11:$E$130=$R20)*($C$11:$C$130=1),ROW($K$11:$K$130)-ROW(INDEX($K$11:$K$130,1,1))+1),1))),"")} | W20: {=IFERROR(IF(LEN($R20)=0,"",INDEX($K$11:$K$130,SMALL(IF((W$8=$N$11:$N$130)*($E$11:$E$130=$R20)*($C$11:$C$130=1),ROW($K$11:$K$130)-ROW(INDEX($K$11:$K$130,1,1))+1),1))),"")} | X20: {=IFERROR(IF(LEN($R20)=0,"",INDEX($K$11:$K$130,SMALL(IF((X$8=$N$11:$N$130)*($E$11:$E$130=$R20)*($C$11:$C$130=1),ROW($K$11:$K$130)-ROW(INDEX($K$11:$K$130,1,1))+1),1))),"")} | Y20: {=IFERROR(IF(LEN($R20)=0,"",INDEX($K$11:$K$130,SMALL(IF((Y$8=$N$11:$N$130)*($E$11:$E$130=$R20)*($C$11:$C$130=1),ROW($K$11:$K$130)-ROW(INDEX($K$11:$K$130,1,1))+1),1))),"")} | Z20: {=IFERROR(IF(LEN($R20)=0,"",INDEX($K$11:$K$130,SMALL(IF((Z$8=$N$11:$N$130)*($E$11:$E$130=$R20)*($C$11:$C$130=1),ROW($K$11:$K$130)-ROW(INDEX($K$11:$K$130,1,1))+1),1))),"")} | ... AW20: {=IFERROR(IF(LEN($R20)=0,"",INDEX($K$11:$K$130,SMALL(IF((AW$8=$N$11:$N$130)*($E$11:$E$130=$R20)*($C$11:$C$130=1),ROW($K$11:$K$130)-ROW(INDEX($K$11:$K$130,1,1))+1),1))),"")} | AY20: {=IFERROR(IF(LEN($R20)=0,"",INDEX($K$11:$K$130,SMALL(IF((AY$8=$N$11:$N$130)*($E$11:$E$130=$R20)*($C$11:$C$130=1),ROW($K$11:$K$130)-ROW(INDEX($K$11:$K$130,1,1))+1),1))),"")} | AZ20: {=IFERROR(IF(LEN($R20)=0,"",INDEX($K$11:$K$130,SMALL(IF((AZ$8=$N$11:$N$130)*($E$11:$E$130=$R20)*($C$11:$C$130=1),ROW($K$11:$K$130)-ROW(INDEX($K$11:$K$130,1,1))+1),1))),"")} | BA20: {=IFERROR(IF(LEN($R20)=0,"",INDEX($K$11:$K$130,SMALL(IF((BA$8=$N$11:$N$130)*($E$11:$E$130=$R20)*($C$11:$C$130=1),ROW($K$11:$K$130)-ROW(INDEX($K$11:$K$130,1,1))+1),1))),"")} | BB20: {=IFERROR(IF(LEN($R20)=0,"",INDEX($K$11:$K$130,SMALL(IF((BB$8=$N$11:$N$130)*($E$11:$E$130=$R20)*($C$11:$C$130=1),ROW($K$11:$K$130)-ROW(INDEX($K$11:$K$130,1,1))+1),1))),"")} | BC20: {=IFERROR(IF(LEN($R20)=0,"",INDEX($K$11:$K$130,SMALL(IF((BC$8=$N$11:$N$130)*($E$11:$E$130=$R20)*($C$11:$C$130=1),ROW($K$11:$K$130)-ROW(INDEX($K$11:$K$130,1,1))+1),1))),"")} | BD20: {=IFERROR(IF(LEN($R20)=0,"",INDEX($K$11:$K$130,SMALL(IF((BD$8=$N$11:$N$130)*($E$11:$E$130=$R20)*($C$11:$C$130=1),ROW($K$11:$K$130)-ROW(INDEX($K$11:$K$130,1,1))+1),1))),"")} | BE20: {=IFERROR(IF(LEN($R20)=0,"",INDEX($K$11:$K$130,SMALL(IF((BE$8=$N$11:$N$130)*($E$11:$E$130=$R20)*($C$11:$C$130=1),ROW($K$11:$K$130)-ROW(INDEX($K$11:$K$130,1,1))+1),1))),"")} | BF20: {=IFERROR(IF(LEN($R20)=0,"",INDEX($K$11:$K$130,SMALL(IF((BF$8=$N$11:$N$130)*($E$11:$E$130=$R20)*($C$11:$C$130=1),ROW($K$11:$K$130)-ROW(INDEX($K$11:$K$130,1,1))+1),1))),"")} | ... CC20: {=IFERROR(IF(LEN($R20)=0,"",INDEX($K$11:$K$130,SMALL(IF((CC$8=$N$11:$N$130)*($E$11:$E$130=$R20)*($C$11:$C$130=1),ROW($K$11:$K$130)-ROW(INDEX($K$11:$K$130,1,1))+1),1))),"")} | CE20: =IF(OR(Dashboard!$D$7="",Dashboard!$D$7="ALL"),1,IF(Dashboard!$D$7=I20,1,0)) -> 1 | CF20: =IF(OR(Dashboard!$G$7="",Dashboard!$G$7="ALL"),1,IF(Dashboard!$G$7=Calc!D20,1,0)) -> 1 | CG20: =IFERROR(CE20*CF20,0) -> 1 | CH20: =IF(OR(Calendar!$I$5="",Calendar!$I$5="ALL"),1,IF(Calendar!$I$5=Calc!D20,1,0)) -> 1 | CJ20: 4 | CP20: 7 | CQ20: July | CR20: Jul | CS20: 31 | CT20: =IFERROR(INDEX($CR$14:$CR$25,MONTH(CU20)),"") -> Jul | CU20: =IFERROR(DATE(StartYear,MATCH(StartMonth,$CQ$14:$CQ$25,0)+CP19,1),"") -> 45474 | CV20: =IFERROR(INDEX($CQ$14:$CQ$25,MONTH(CU20)),"") -> July | CW20: =IFERROR(CT20&"-"&YEAR(CU20),"") -> Jul-2024 | CY20: =IF(Menu!G19="","",Menu!G19) | CZ20: =IFERROR(IF(CY20="","",SUMIFS($J$11:$J$130,$CE$11:$CE$130,1,$D$11:$D$130,CY20)),"") | DC20: =IFERROR(CZ20 + ROW() / 100000,"") | DF20: 8th | DG20: 8 | DH20: 8 | DI20: 2031 | DK20: =IF(Menu!G17="","",Menu!G17)
B21: 1 | C21: =IFERROR(IF(INDEX(Bills!$C$6:$C$15,B21,1)="",0,1),"") -> 1 | D21: =IFERROR(IF($C21=1,INDEX(Bills!$B$6:$AB$15,$B21,D$9),""),"") -> Utilities | E21: =IFERROR(IF($C21=1,INDEX(Bills!$B$6:$AB$15,$B21,E$9),""),"") -> Electricity | F21: {=IFERROR(IF($C21=1, INDEX($DG$13:$DG$43, MATCH(INDEX(Bills!$B$6:$AB$15, $B21, F$9), $DF$13:$DF$43, 0)), ""), "")} -> 1 | G21: {=IFERROR(IF($C21=1,INDEX($CV$14:$CV$25,IF(MOD(ROW(A11),12)=0,12,MOD(ROW(A11),12)),1),""),"")} -> November | H21: {=IFERROR(IF($C21=1,YEAR(INDEX($CU$14:$CU$25,IF(MOD(ROW(A11),12)=0,12,MOD(ROW(A11),12)),1)),""),"")} -> 2024 | I21: {=IFERROR(IF($C21=1,INDEX($CW$14:$CW$25,IF(MOD(ROW(A11),12)=0,12,MOD(ROW(A11),12)),1),""),"")} -> Nov-2024 | J21: {=IFERROR(IF($C21=1,INDEX(Bills!$B$6:$AB$15,B21,MATCH(INDEX($CW$14:$CW$25,IF(MOD(ROW(A11),12)=0,12,MOD(ROW(A11),12)),1),Bills!$E$5:$AB$5,0)+3),""),"")} -> 120 | K21: {=IFERROR(IF($C21=1,IF(INDEX(Bills!$B$6:$AB$15,B21,MATCH(INDEX($CW$14:$CW$25,IF(MOD(ROW(A11),12)=0,12,MOD(ROW(A11),12)),1),Bills!$E$5:$AB$5,0)+4)=$DM$13,"Paid","Unpaid"),""),"")} -> Paid | L21: =IFERROR(IF($C21=1,INDEX($CP$14:$CQ$25,MATCH(G21,$CQ$14:$CQ$25,0),1),""),"") -> 11 | M21: =IFERROR(IF($C21=1,F21,""),"") -> 1 | N21: =IFERROR(DATE(H21,INDEX($CP$14:$CQ$25,MATCH(G21,$CQ$14:$CQ$25,0),1),F21),"") -> 45597 | O21: =IFERROR(IF(C21<>1,"",IF(Menu!$I$13="",IF(OR(Calendar!$I$7="",Calendar!$I$7=$CM$17),E21,IF(Calendar!$I$7=$CM$18,E21 & " - " &J21,D21 & " - " &J21)),IF(OR(Calendar!$I$7="",Calendar!$I$7=$CM$17),E21,IF(Calendar!$I$7=$CM$18,E21 & " - " &Menu!$I$13 &J21,D21 & " - " &Menu!$I$13 &J21)))),"") -> Utilities - $120 | CE21: =IF(OR(Dashboard!$D$7="",Dashboard!$D$7="ALL"),1,IF(Dashboard!$D$7=I21,1,0)) -> 1 | CF21: =IF(OR(Dashboard!$G$7="",Dashboard!$G$7="ALL"),1,IF(Dashboard!$G$7=Calc!D21,1,0)) -> 1 | CG21: =IFERROR(CE21*CF21,0) -> 1 | CH21: =IF(OR(Calendar!$I$5="",Calendar!$I$5="ALL"),1,IF(Calendar!$I$5=Calc!D21,1,0)) -> 1 | CJ21: 5 | CM21: Border Line | CN21: =IFERROR(IF(ISNUMBER(Calendar!$C$77),82,IF(ISNUMBER(Calendar!$C$64),70,58)),82) -> 70 | CP21: 8 | CQ21: August | CR21: Aug | CS21: 31 | CT21: =IFERROR(INDEX($CR$14:$CR$25,MONTH(CU21)),"") -> Aug | CU21: =IFERROR(DATE(StartYear,MATCH(StartMonth,$CQ$14:$CQ$25,0)+CP20,1),"") -> 45505 | CV21: =IFERROR(INDEX($CQ$14:$CQ$25,MONTH(CU21)),"") -> August | CW21: =IFERROR(CT21&"-"&YEAR(CU21),"") -> Aug-2024 | CY21: =IF(Menu!G20="","",Menu!G20) | CZ21: =IFERROR(IF(CY21="","",SUMIFS($J$11:$J$130,$CE$11:$CE$130,1,$D$11:$D$130,CY21)),"") | DC21: =IFERROR(CZ21 + ROW() / 100000,"") | DF21: 9th | DG21: 9 | DH21: 9 | DI21: 2032 | DK21: =IF(Menu!G18="","",Menu!G18)
B22: 1 | C22: =IFERROR(IF(INDEX(Bills!$C$6:$C$15,B22,1)="",0,1),"") -> 1 | D22: =IFERROR(IF($C22=1,INDEX(Bills!$B$6:$AB$15,$B22,D$9),""),"") -> Utilities | E22: =IFERROR(IF($C22=1,INDEX(Bills!$B$6:$AB$15,$B22,E$9),""),"") -> Electricity | F22: {=IFERROR(IF($C22=1, INDEX($DG$13:$DG$43, MATCH(INDEX(Bills!$B$6:$AB$15, $B22, F$9), $DF$13:$DF$43, 0)), ""), "")} -> 1 | G22: {=IFERROR(IF($C22=1,INDEX($CV$14:$CV$25,IF(MOD(ROW(A12),12)=0,12,MOD(ROW(A12),12)),1),""),"")} -> December | H22: {=IFERROR(IF($C22=1,YEAR(INDEX($CU$14:$CU$25,IF(MOD(ROW(A12),12)=0,12,MOD(ROW(A12),12)),1)),""),"")} -> 2024 | I22: {=IFERROR(IF($C22=1,INDEX($CW$14:$CW$25,IF(MOD(ROW(A12),12)=0,12,MOD(ROW(A12),12)),1),""),"")} -> Dec-2024 | J22: {=IFERROR(IF($C22=1,INDEX(Bills!$B$6:$AB$15,B22,MATCH(INDEX($CW$14:$CW$25,IF(MOD(ROW(A12),12)=0,12,MOD(ROW(A12),12)),1),Bills!$E$5:$AB$5,0)+3),""),"")} -> 120 | K22: {=IFERROR(IF($C22=1,IF(INDEX(Bills!$B$6:$AB$15,B22,MATCH(INDEX($CW$14:$CW$25,IF(MOD(ROW(A12),12)=0,12,MOD(ROW(A12),12)),1),Bills!$E$5:$AB$5,0)+4)=$DM$13,"Paid","Unpaid"),""),"")} -> Paid | L22: =IFERROR(IF($C22=1,INDEX($CP$14:$CQ$25,MATCH(G22,$CQ$14:$CQ$25,0),1),""),"") -> 12 | M22: =IFERROR(IF($C22=1,F22,""),"") -> 1 | N22: =IFERROR(DATE(H22,INDEX($CP$14:$CQ$25,MATCH(G22,$CQ$14:$CQ$25,0),1),F22),"") -> 45627 | O22: =IFERROR(IF(C22<>1,"",IF(Menu!$I$13="",IF(OR(Calendar!$I$7="",Calendar!$I$7=$CM$17),E22,IF(Calendar!$I$7=$CM$18,E22 & " - " &J22,D22 & " - " &J22)),IF(OR(Calendar!$I$7="",Calendar!$I$7=$CM$17),E22,IF(Calendar!$I$7=$CM$18,E22 & " - " &Menu!$I$13 &J22,D22 & " - " &Menu!$I$13 &J22)))),"") -> Utilities - $120 | CE22: =IF(OR(Dashboard!$D$7="",Dashboard!$D$7="ALL"),1,IF(Dashboard!$D$7=I22,1,0)) -> 1 | CF22: =IF(OR(Dashboard!$G$7="",Dashboard!$G$7="ALL"),1,IF(Dashboard!$G$7=Calc!D22,1,0)) -> 1 | CG22: =IFERROR(CE22*CF22,0) -> 1 | CH22: =IF(OR(Calendar!$I$5="",Calendar!$I$5="ALL"),1,IF(Calendar!$I$5=Calc!D22,1,0)) -> 1 | CJ22: 6 | CP22: 9 | CQ22: September | CR22: Sep | CS22: 30 | CT22: =IFERROR(INDEX($CR$14:$CR$25,MONTH(CU22)),"") -> Sep | CU22: =IFERROR(DATE(StartYear,MATCH(StartMonth,$CQ$14:$CQ$25,0)+CP21,1),"") -> 45536 | CV22: =IFERROR(INDEX($CQ$14:$CQ$25,MONTH(CU22)),"") -> September | CW22: =IFERROR(CT22&"-"&YEAR(CU22),"") -> Sep-2024 | CY22: =IF(Menu!G21="","",Menu!G21) | CZ22: =IFERROR(IF(CY22="","",SUMIFS($J$11:$J$130,$CE$11:$CE$130,1,$D$11:$D$130,CY22)),"") | DC22: =IFERROR(CZ22 + ROW() / 100000,"") | DF22: 10th | DG22: 10 | DH22: 10 | DI22: 2033 | DK22: =IF(Menu!G19="","",Menu!G19)
B23: 2 | C23: =IFERROR(IF(INDEX(Bills!$C$6:$C$15,B23,1)="",0,1),"") -> 1 | D23: =IFERROR(IF($C23=1,INDEX(Bills!$B$6:$AB$15,$B23,D$9),""),"") -> Utilities | E23: =IFERROR(IF($C23=1,INDEX(Bills!$B$6:$AB$15,$B23,E$9),""),"") -> Water | F23: {=IFERROR(IF($C23=1, INDEX($DG$13:$DG$43, MATCH(INDEX(Bills!$B$6:$AB$15, $B23, F$9), $DF$13:$DF$43, 0)), ""), "")} -> 5 | G23: {=IFERROR(IF($C23=1,INDEX($CV$14:$CV$25,IF(MOD(ROW(A13),12)=0,12,MOD(ROW(A13),12)),1),""),"")} -> January | H23: {=IFERROR(IF($C23=1,YEAR(INDEX($CU$14:$CU$25,IF(MOD(ROW(A13),12)=0,12,MOD(ROW(A13),12)),1)),""),"")} -> 2024 | I23: {=IFERROR(IF($C23=1,INDEX($CW$14:$CW$25,IF(MOD(ROW(A13),12)=0,12,MOD(ROW(A13),12)),1),""),"")} -> Jan-2024 | J23: {=IFERROR(IF($C23=1,INDEX(Bills!$B$6:$AB$15,B23,MATCH(INDEX($CW$14:$CW$25,IF(MOD(ROW(A13),12)=0,12,MOD(ROW(A13),12)),1),Bills!$E$5:$AB$5,0)+3),""),"")} -> 30 | K23: {=IFERROR(IF($C23=1,IF(INDEX(Bills!$B$6:$AB$15,B23,MATCH(INDEX($CW$14:$CW$25,IF(MOD(ROW(A13),12)=0,12,MOD(ROW(A13),12)),1),Bills!$E$5:$AB$5,0)+4)=$DM$13,"Paid","Unpaid"),""),"")} -> Paid | L23: =IFERROR(IF($C23=1,INDEX($CP$14:$CQ$25,MATCH(G23,$CQ$14:$CQ$25,0),1),""),"") -> 1 | M23: =IFERROR(IF($C23=1,F23,""),"") -> 5 | N23: =IFERROR(DATE(H23,INDEX($CP$14:$CQ$25,MATCH(G23,$CQ$14:$CQ$25,0),1),F23),"") -> 45296 | O23: =IFERROR(IF(C23<>1,"",IF(Menu!$I$13="",IF(OR(Calendar!$I$7="",Calendar!$I$7=$CM$17),E23,IF(Calendar!$I$7=$CM$18,E23 & " - " &J23,D23 & " - " &J23)),IF(OR(Calendar!$I$7="",Calendar!$I$7=$CM$17),E23,IF(Calendar!$I$7=$CM$18,E23 & " - " &Menu!$I$13 &J23,D23 & " - " &Menu!$I$13 &J23)))),"") -> Utilities - $30 | CE23: =IF(OR(Dashboard!$D$7="",Dashboard!$D$7="ALL"),1,IF(Dashboard!$D$7=I23,1,0)) -> 1 | CF23: =IF(OR(Dashboard!$G$7="",Dashboard!$G$7="ALL"),1,IF(Dashboard!$G$7=Calc!D23,1,0)) -> 1 | CG23: =IFERROR(CE23*CF23,0) -> 1 | CH23: =IF(OR(Calendar!$I$5="",Calendar!$I$5="ALL"),1,IF(Calendar!$I$5=Calc!D23,1,0)) -> 1 | CJ23: 7 | CP23: 10 | CQ23: October | CR23: Oct | CS23: 31 | CT23: =IFERROR(INDEX($CR$14:$CR$25,MONTH(CU23)),"") -> Oct | CU23: =IFERROR(DATE(StartYear,MATCH(StartMonth,$CQ$14:$CQ$25,0)+CP22,1),"") -> 45566 | CV23: =IFERROR(INDEX($CQ$14:$CQ$25,MONTH(CU23)),"") -> October | CW23: =IFERROR(CT23&"-"&YEAR(CU23),"") -> Oct-2024 | CY23: =IF(Menu!G22="","",Menu!G22) | CZ23: =IFERROR(IF(CY23="","",SUMIFS($J$11:$J$130,$CE$11:$CE$130,1,$D$11:$D$130,CY23)),"") | DC23: =IFERROR(CZ23 + ROW() / 100000,"") | DF23: 11th | DG23: 11 | DH23: 11 | DK23: =IF(Menu!G20="","",Menu!G20)
B24: 2 | C24: =IFERROR(IF(INDEX(Bills!$C$6:$C$15,B24,1)="",0,1),"") -> 1 | D24: =IFERROR(IF($C24=1,INDEX(Bills!$B$6:$AB$15,$B24,D$9),""),"") -> Utilities | E24: =IFERROR(IF($C24=1,INDEX(Bills!$B$6:$AB$15,$B24,E$9),""),"") -> Water | F24: {=IFERROR(IF($C24=1, INDEX($DG$13:$DG$43, MATCH(INDEX(Bills!$B$6:$AB$15, $B24, F$9), $DF$13:$DF$43, 0)), ""), "")} -> 5 | G24: {=IFERROR(IF($C24=1,INDEX($CV$14:$CV$25,IF(MOD(ROW(A14),12)=0,12,MOD(ROW(A14),12)),1),""),"")} -> February | H24: {=IFERROR(IF($C24=1,YEAR(INDEX($CU$14:$CU$25,IF(MOD(ROW(A14),12)=0,12,MOD(ROW(A14),12)),1)),""),"")} -> 2024 | I24: {=IFERROR(IF($C24=1,INDEX($CW$14:$CW$25,IF(MOD(ROW(A14),12)=0,12,MOD(ROW(A14),12)),1),""),"")} -> Feb-2024 | J24: {=IFERROR(IF($C24=1,INDEX(Bills!$B$6:$AB$15,B24,MATCH(INDEX($CW$14:$CW$25,IF(MOD(ROW(A14),12)=0,12,MOD(ROW(A14),12)),1),Bills!$E$5:$AB$5,0)+3),""),"")} -> 30 | K24: {=IFERROR(IF($C24=1,IF(INDEX(Bills!$B$6:$AB$15,B24,MATCH(INDEX($CW$14:$CW$25,IF(MOD(ROW(A14),12)=0,12,MOD(ROW(A14),12)),1),Bills!$E$5:$AB$5,0)+4)=$DM$13,"Paid","Unpaid"),""),"")} -> Paid | L24: =IFERROR(IF($C24=1,INDEX($CP$14:$CQ$25,MATCH(G24,$CQ$14:$CQ$25,0),1),""),"") -> 2 | M24: =IFERROR(IF($C24=1,F24,""),"") -> 5 | N24: =IFERROR(DATE(H24,INDEX($CP$14:$CQ$25,MATCH(G24,$CQ$14:$CQ$25,0),1),F24),"") -> 45327 | O24: =IFERROR(IF(C24<>1,"",IF(Menu!$I$13="",IF(OR(Calendar!$I$7="",Calendar!$I$7=$CM$17),E24,IF(Calendar!$I$7=$CM$18,E24 & " - " &J24,D24 & " - " &J24)),IF(OR(Calendar!$I$7="",Calendar!$I$7=$CM$17),E24,IF(Calendar!$I$7=$CM$18,E24 & " - " &Menu!$I$13 &J24,D24 & " - " &Menu!$I$13 &J24)))),"") -> Utilities - $30 | CE24: =IF(OR(Dashboard!$D$7="",Dashboard!$D$7="ALL"),1,IF(Dashboard!$D$7=I24,1,0)) -> 1 | CF24: =IF(OR(Dashboard!$G$7="",Dashboard!$G$7="ALL"),1,IF(Dashboard!$G$7=Calc!D24,1,0)) -> 1 | CG24: =IFERROR(CE24*CF24,0) -> 1 | CH24: =IF(OR(Calendar!$I$5="",Calendar!$I$5="ALL"),1,IF(Calendar!$I$5=Calc!D24,1,0)) -> 1 | CJ24: 8 | CP24: 11 | CQ24: November | CR24: Nov | CS24: 30 | CT24: =IFERROR(INDEX($CR$14:$CR$25,MONTH(CU24)),"") -> Nov | CU24: =IFERROR(DATE(StartYear,MATCH(StartMonth,$CQ$14:$CQ$25,0)+CP23,1),"") -> 45597 | CV24: =IFERROR(INDEX($CQ$14:$CQ$25,MONTH(CU24)),"") -> November | CW24: =IFERROR(CT24&"-"&YEAR(CU24),"") -> Nov-2024 | CY24: =IF(Menu!G23="","",Menu!G23) | CZ24: =IFERROR(IF(CY24="","",SUMIFS($J$11:$J$130,$CE$11:$CE$130,1,$D$11:$D$130,CY24)),"") | DC24: =IFERROR(CZ24 + ROW() / 100000,"") | DF24: 12th | DG24: 12 | DH24: 12 | DK24: =IF(Menu!G21="","",Menu!G21)
B25: 2 | C25: =IFERROR(IF(INDEX(Bills!$C$6:$C$15,B25,1)="",0,1),"") -> 1 | D25: =IFERROR(IF($C25=1,INDEX(Bills!$B$6:$AB$15,$B25,D$9),""),"") -> Utilities | E25: =IFERROR(IF($C25=1,INDEX(Bills!$B$6:$AB$15,$B25,E$9),""),"") -> Water | F25: {=IFERROR(IF($C25=1, INDEX($DG$13:$DG$43, MATCH(INDEX(Bills!$B$6:$AB$15, $B25, F$9), $DF$13:$DF$43, 0)), ""), "")} -> 5 | G25: {=IFERROR(IF($C25=1,INDEX($CV$14:$CV$25,IF(MOD(ROW(A15),12)=0,12,MOD(ROW(A15),12)),1),""),"")} -> March | H25: {=IFERROR(IF($C25=1,YEAR(INDEX($CU$14:$CU$25,IF(MOD(ROW(A15),12)=0,12,MOD(ROW(A15),12)),1)),""),"")} -> 2024 | I25: {=IFERROR(IF($C25=1,INDEX($CW$14:$CW$25,IF(MOD(ROW(A15),12)=0,12,MOD(ROW(A15),12)),1),""),"")} -> Mar-2024 | J25: {=IFERROR(IF($C25=1,INDEX(Bills!$B$6:$AB$15,B25,MATCH(INDEX($CW$14:$CW$25,IF(MOD(ROW(A15),12)=0,12,MOD(ROW(A15),12)),1),Bills!$E$5:$AB$5,0)+3),""),"")} -> 30 | K25: {=IFERROR(IF($C25=1,IF(INDEX(Bills!$B$6:$AB$15,B25,MATCH(INDEX($CW$14:$CW$25,IF(MOD(ROW(A15),12)=0,12,MOD(ROW(A15),12)),1),Bills!$E$5:$AB$5,0)+4)=$DM$13,"Paid","Unpaid"),""),"")} -> Paid | L25: =IFERROR(IF($C25=1,INDEX($CP$14:$CQ$25,MATCH(G25,$CQ$14:$CQ$25,0),1),""),"") -> 3 | M25: =IFERROR(IF($C25=1,F25,""),"") -> 5 | N25: =IFERROR(DATE(H25,INDEX($CP$14:$CQ$25,MATCH(G25,$CQ$14:$CQ$25,0),1),F25),"") -> 45356 | O25: =IFERROR(IF(C25<>1,"",IF(Menu!$I$13="",IF(OR(Calendar!$I$7="",Calendar!$I$7=$CM$17),E25,IF(Calendar!$I$7=$CM$18,E25 & " - " &J25,D25 & " - " &J25)),IF(OR(Calendar!$I$7="",Calendar!$I$7=$CM$17),E25,IF(Calendar!$I$7=$CM$18,E25 & " - " &Menu!$I$13 &J25,D25 & " - " &Menu!$I$13 &J25)))),"") -> Utilities - $30 | CE25: =IF(OR(Dashboard!$D$7="",Dashboard!$D$7="ALL"),1,IF(Dashboard!$D$7=I25,1,0)) -> 1 | CF25: =IF(OR(Dashboard!$G$7="",Dashboard!$G$7="ALL"),1,IF(Dashboard!$G$7=Calc!D25,1,0)) -> 1 | CG25: =IFERROR(CE25*CF25,0) -> 1 | CH25: =IF(OR(Calendar!$I$5="",Calendar!$I$5="ALL"),1,IF(Calendar!$I$5=Calc!D25,1,0)) -> 1 | CJ25: 9 | CP25: 12 | CQ25: December | CR25: Dec | CS25: 31 | CT25: =IFERROR(INDEX($CR$14:$CR$25,MONTH(CU25)),"") -> Dec | CU25: =IFERROR(DATE(StartYear,MATCH(StartMonth,$CQ$14:$CQ$25,0)+CP24,1),"") -> 45627 | CV25: =IFERROR(INDEX($CQ$14:$CQ$25,MONTH(CU25)),"") -> December | CW25: =IFERROR(CT25&"-"&YEAR(CU25),"") -> Dec-2024 | CY25: =IF(Menu!G24="","",Menu!G24) | CZ25: =IFERROR(IF(CY25="","",SUMIFS($J$11:$J$130,$CE$11:$CE$130,1,$D$11:$D$130,CY25)),"") | DC25: =IFERROR(CZ25 + ROW() / 100000,"") | DF25: 13th | DG25: 13 | DK25: =IF(Menu!G22="","",Menu!G22)
B26: 2 | C26: =IFERROR(IF(INDEX(Bills!$C$6:$C$15,B26,1)="",0,1),"") -> 1 | D26: =IFERROR(IF($C26=1,INDEX(Bills!$B$6:$AB$15,$B26,D$9),""),"") -> Utilities | E26: =IFERROR(IF($C26=1,INDEX(Bills!$B$6:$AB$15,$B26,E$9),""),"") -> Water | F26: {=IFERROR(IF($C26=1, INDEX($DG$13:$DG$43, MATCH(INDEX(Bills!$B$6:$AB$15, $B26, F$9), $DF$13:$DF$43, 0)), ""), "")} -> 5 | G26: {=IFERROR(IF($C26=1,INDEX($CV$14:$CV$25,IF(MOD(ROW(A16),12)=0,12,MOD(ROW(A16),12)),1),""),"")} -> April | H26: {=IFERROR(IF($C26=1,YEAR(INDEX($CU$14:$CU$25,IF(MOD(ROW(A16),12)=0,12,MOD(ROW(A16),12)),1)),""),"")} -> 2024 | I26: {=IFERROR(IF($C26=1,INDEX($CW$14:$CW$25,IF(MOD(ROW(A16),12)=0,12,MOD(ROW(A16),12)),1),""),"")} -> Apr-2024 | J26: {=IFERROR(IF($C26=1,INDEX(Bills!$B$6:$AB$15,B26,MATCH(INDEX($CW$14:$CW$25,IF(MOD(ROW(A16),12)=0,12,MOD(ROW(A16),12)),1),Bills!$E$5:$AB$5,0)+3),""),"")} -> 30 | K26: {=IFERROR(IF($C26=1,IF(INDEX(Bills!$B$6:$AB$15,B26,MATCH(INDEX($CW$14:$CW$25,IF(MOD(ROW(A16),12)=0,12,MOD(ROW(A16),12)),1),Bills!$E$5:$AB$5,0)+4)=$DM$13,"Paid","Unpaid"),""),"")} -> Paid | L26: =IFERROR(IF($C26=1,INDEX($CP$14:$CQ$25,MATCH(G26,$CQ$14:$CQ$25,0),1),""),"") -> 4 | M26: =IFERROR(IF($C26=1,F26,""),"") -> 5 | N26: =IFERROR(DATE(H26,INDEX($CP$14:$CQ$25,MATCH(G26,$CQ$14:$CQ$25,0),1),F26),"") -> 45387 | O26: =IFERROR(IF(C26<>1,"",IF(Menu!$I$13="",IF(OR(Calendar!$I$7="",Calendar!$I$7=$CM$17),E26,IF(Calendar!$I$7=$CM$18,E26 & " - " &J26,D26 & " - " &J26)),IF(OR(Calendar!$I$7="",Calendar!$I$7=$CM$17),E26,IF(Calendar!$I$7=$CM$18,E26 & " - " &Menu!$I$13 &J26,D26 & " - " &Menu!$I$13 &J26)))),"") -> Utilities - $30 | CE26: =IF(OR(Dashboard!$D$7="",Dashboard!$D$7="ALL"),1,IF(Dashboard!$D$7=I26,1,0)) -> 1 | CF26: =IF(OR(Dashboard!$G$7="",Dashboard!$G$7="ALL"),1,IF(Dashboard!$G$7=Calc!D26,1,0)) -> 1 | CG26: =IFERROR(CE26*CF26,0) -> 1 | CH26: =IF(OR(Calendar!$I$5="",Calendar!$I$5="ALL"),1,IF(Calendar!$I$5=Calc!D26,1,0)) -> 1 | CJ26: 10 | DF26: 14th | DG26: 14 | DK26: =IF(Menu!G23="","",Menu!G23)
B27: 2 | C27: =IFERROR(IF(INDEX(Bills!$C$6:$C$15,B27,1)="",0,1),"") -> 1 | D27: =IFERROR(IF($C27=1,INDEX(Bills!$B$6:$AB$15,$B27,D$9),""),"") -> Utilities | E27: =IFERROR(IF($C27=1,INDEX(Bills!$B$6:$AB$15,$B27,E$9),""),"") -> Water | F27: {=IFERROR(IF($C27=1, INDEX($DG$13:$DG$43, MATCH(INDEX(Bills!$B$6:$AB$15, $B27, F$9), $DF$13:$DF$43, 0)), ""), "")} -> 5 | G27: {=IFERROR(IF($C27=1,INDEX($CV$14:$CV$25,IF(MOD(ROW(A17),12)=0,12,MOD(ROW(A17),12)),1),""),"")} -> May | H27: {=IFERROR(IF($C27=1,YEAR(INDEX($CU$14:$CU$25,IF(MOD(ROW(A17),12)=0,12,MOD(ROW(A17),12)),1)),""),"")} -> 2024 | I27: {=IFERROR(IF($C27=1,INDEX($CW$14:$CW$25,IF(MOD(ROW(A17),12)=0,12,MOD(ROW(A17),12)),1),""),"")} -> May-2024 | J27: {=IFERROR(IF($C27=1,INDEX(Bills!$B$6:$AB$15,B27,MATCH(INDEX($CW$14:$CW$25,IF(MOD(ROW(A17),12)=0,12,MOD(ROW(A17),12)),1),Bills!$E$5:$AB$5,0)+3),""),"")} -> 30 | K27: {=IFERROR(IF($C27=1,IF(INDEX(Bills!$B$6:$AB$15,B27,MATCH(INDEX($CW$14:$CW$25,IF(MOD(ROW(A17),12)=0,12,MOD(ROW(A17),12)),1),Bills!$E$5:$AB$5,0)+4)=$DM$13,"Paid","Unpaid"),""),"")} -> Paid | L27: =IFERROR(IF($C27=1,INDEX($CP$14:$CQ$25,MATCH(G27,$CQ$14:$CQ$25,0),1),""),"") -> 5 | M27: =IFERROR(IF($C27=1,F27,""),"") -> 5 | N27: =IFERROR(DATE(H27,INDEX($CP$14:$CQ$25,MATCH(G27,$CQ$14:$CQ$25,0),1),F27),"") -> 45417 | O27: =IFERROR(IF(C27<>1,"",IF(Menu!$I$13="",IF(OR(Calendar!$I$7="",Calendar!$I$7=$CM$17),E27,IF(Calendar!$I$7=$CM$18,E27 & " - " &J27,D27 & " - " &J27)),IF(OR(Calendar!$I$7="",Calendar!$I$7=$CM$17),E27,IF(Calendar!$I$7=$CM$18,E27 & " - " &Menu!$I$13 &J27,D27 & " - " &Menu!$I$13 &J27)))),"") -> Utilities - $30 | CE27: =IF(OR(Dashboard!$D$7="",Dashboard!$D$7="ALL"),1,IF(Dashboard!$D$7=I27,1,0)) -> 1 | CF27: =IF(OR(Dashboard!$G$7="",Dashboard!$G$7="ALL"),1,IF(Dashboard!$G$7=Calc!D27,1,0)) -> 1 | CG27: =IFERROR(CE27*CF27,0) -> 1 | CH27: =IF(OR(Calendar!$I$5="",Calendar!$I$5="ALL"),1,IF(Calendar!$I$5=Calc!D27,1,0)) -> 1 | CP27: Start Year | CQ27: =IFERROR(IF(Menu!J10="",2024,Menu!J10),"") -> 2024 | DF27: 15th | DG27: 15 | DK27: =IF(Menu!G24="","",Menu!G24)
B28: 2 | C28: =IFERROR(IF(INDEX(Bills!$C$6:$C$15,B28,1)="",0,1),"") -> 1 | D28: =IFERROR(IF($C28=1,INDEX(Bills!$B$6:$AB$15,$B28,D$9),""),"") -> Utilities | E28: =IFERROR(IF($C28=1,INDEX(Bills!$B$6:$AB$15,$B28,E$9),""),"") -> Water | F28: {=IFERROR(IF($C28=1, INDEX($DG$13:$DG$43, MATCH(INDEX(Bills!$B$6:$AB$15, $B28, F$9), $DF$13:$DF$43, 0)), ""), "")} -> 5 | G28: {=IFERROR(IF($C28=1,INDEX($CV$14:$CV$25,IF(MOD(ROW(A18),12)=0,12,MOD(ROW(A18),12)),1),""),"")} -> June | H28: {=IFERROR(IF($C28=1,YEAR(INDEX($CU$14:$CU$25,IF(MOD(ROW(A18),12)=0,12,MOD(ROW(A18),12)),1)),""),"")} -> 2024 | I28: {=IFERROR(IF($C28=1,INDEX($CW$14:$CW$25,IF(MOD(ROW(A18),12)=0,12,MOD(ROW(A18),12)),1),""),"")} -> Jun-2024 | J28: {=IFERROR(IF($C28=1,INDEX(Bills!$B$6:$AB$15,B28,MATCH(INDEX($CW$14:$CW$25,IF(MOD(ROW(A18),12)=0,12,MOD(ROW(A18),12)),1),Bills!$E$5:$AB$5,0)+3),""),"")} -> 30 | K28: {=IFERROR(IF($C28=1,IF(INDEX(Bills!$B$6:$AB$15,B28,MATCH(INDEX($CW$14:$CW$25,IF(MOD(ROW(A18),12)=0,12,MOD(ROW(A18),12)),1),Bills!$E$5:$AB$5,0)+4)=$DM$13,"Paid","Unpaid"),""),"")} -> Paid | L28: =IFERROR(IF($C28=1,INDEX($CP$14:$CQ$25,MATCH(G28,$CQ$14:$CQ$25,0),1),""),"") -> 6 | M28: =IFERROR(IF($C28=1,F28,""),"") -> 5 | N28: =IFERROR(DATE(H28,INDEX($CP$14:$CQ$25,MATCH(G28,$CQ$14:$CQ$25,0),1),F28),"") -> 45448 | O28: =IFERROR(IF(C28<>1,"",IF(Menu!$I$13="",IF(OR(Calendar!$I$7="",Calendar!$I$7=$CM$17),E28,IF(Calendar!$I$7=$CM$18,E28 & " - " &J28,D28 & " - " &J28)),IF(OR(Calendar!$I$7="",Calendar!$I$7=$CM$17),E28,IF(Calendar!$I$7=$CM$18,E28 & " - " &Menu!$I$13 &J28,D28 & " - " &Menu!$I$13 &J28)))),"") -> Utilities - $30 | CE28: =IF(OR(Dashboard!$D$7="",Dashboard!$D$7="ALL"),1,IF(Dashboard!$D$7=I28,1,0)) -> 1 | CF28: =IF(OR(Dashboard!$G$7="",Dashboard!$G$7="ALL"),1,IF(Dashboard!$G$7=Calc!D28,1,0)) -> 1 | CG28: =IFERROR(CE28*CF28,0) -> 1 | CH28: =IF(OR(Calendar!$I$5="",Calendar!$I$5="ALL"),1,IF(Calendar!$I$5=Calc!D28,1,0)) -> 1 | CP28: Start Month | CQ28: =IFERROR(IF(Menu!I10="","January",Menu!I10),"") -> January | DF28: 16th | DG28: 16 | DK28: =IFERROR(COUNTIF(DK13:DK27,"?*"),51) -> 6
B29: 2 | C29: =IFERROR(IF(INDEX(Bills!$C$6:$C$15,B29,1)="",0,1),"") -> 1 | D29: =IFERROR(IF($C29=1,INDEX(Bills!$B$6:$AB$15,$B29,D$9),""),"") -> Utilities | E29: =IFERROR(IF($C29=1,INDEX(Bills!$B$6:$AB$15,$B29,E$9),""),"") -> Water | F29: {=IFERROR(IF($C29=1, INDEX($DG$13:$DG$43, MATCH(INDEX(Bills!$B$6:$AB$15, $B29, F$9), $DF$13:$DF$43, 0)), ""), "")} -> 5 | G29: {=IFERROR(IF($C29=1,INDEX($CV$14:$CV$25,IF(MOD(ROW(A19),12)=0,12,MOD(ROW(A19),12)),1),""),"")} -> July | H29: {=IFERROR(IF($C29=1,YEAR(INDEX($CU$14:$CU$25,IF(MOD(ROW(A19),12)=0,12,MOD(ROW(A19),12)),1)),""),"")} -> 2024 | I29: {=IFERROR(IF($C29=1,INDEX($CW$14:$CW$25,IF(MOD(ROW(A19),12)=0,12,MOD(ROW(A19),12)),1),""),"")} -> Jul-2024 | J29: {=IFERROR(IF($C29=1,INDEX(Bills!$B$6:$AB$15,B29,MATCH(INDEX($CW$14:$CW$25,IF(MOD(ROW(A19),12)=0,12,MOD(ROW(A19),12)),1),Bills!$E$5:$AB$5,0)+3),""),"")} -> 30 | K29: {=IFERROR(IF($C29=1,IF(INDEX(Bills!$B$6:$AB$15,B29,MATCH(INDEX($CW$14:$CW$25,IF(MOD(ROW(A19),12)=0,12,MOD(ROW(A19),12)),1),Bills!$E$5:$AB$5,0)+4)=$DM$13,"Paid","Unpaid"),""),"")} -> Paid | L29: =IFERROR(IF($C29=1,INDEX($CP$14:$CQ$25,MATCH(G29,$CQ$14:$CQ$25,0),1),""),"") -> 7 | M29: =IFERROR(IF($C29=1,F29,""),"") -> 5 | N29: =IFERROR(DATE(H29,INDEX($CP$14:$CQ$25,MATCH(G29,$CQ$14:$CQ$25,0),1),F29),"") -> 45478 | O29: =IFERROR(IF(C29<>1,"",IF(Menu!$I$13="",IF(OR(Calendar!$I$7="",Calendar!$I$7=$CM$17),E29,IF(Calendar!$I$7=$CM$18,E29 & " - " &J29,D29 & " - " &J29)),IF(OR(Calendar!$I$7="",Calendar!$I$7=$CM$17),E29,IF(Calendar!$I$7=$CM$18,E29 & " - " &Menu!$I$13 &J29,D29 & " - " &Menu!$I$13 &J29)))),"") -> Utilities - $30 | CE29: =IF(OR(Dashboard!$D$7="",Dashboard!$D$7="ALL"),1,IF(Dashboard!$D$7=I29,1,0)) -> 1 | CF29: =IF(OR(Dashboard!$G$7="",Dashboard!$G$7="ALL"),1,IF(Dashboard!$G$7=Calc!D29,1,0)) -> 1 | CG29: =IFERROR(CE29*CF29,0) -> 1 | CH29: =IF(OR(Calendar!$I$5="",Calendar!$I$5="ALL"),1,IF(Calendar!$I$5=Calc!D29,1,0)) -> 1 | DF29: 17th | DG29: 17
B30: 2 | C30: =IFERROR(IF(INDEX(Bills!$C$6:$C$15,B30,1)="",0,1),"") -> 1 | D30: =IFERROR(IF($C30=1,INDEX(Bills!$B$6:$AB$15,$B30,D$9),""),"") -> Utilities | E30: =IFERROR(IF($C30=1,INDEX(Bills!$B$6:$AB$15,$B30,E$9),""),"") -> Water | F30: {=IFERROR(IF($C30=1, INDEX($DG$13:$DG$43, MATCH(INDEX(Bills!$B$6:$AB$15, $B30, F$9), $DF$13:$DF$43, 0)), ""), "")} -> 5 | G30: {=IFERROR(IF($C30=1,INDEX($CV$14:$CV$25,IF(MOD(ROW(A20),12)=0,12,MOD(ROW(A20),12)),1),""),"")} -> August | H30: {=IFERROR(IF($C30=1,YEAR(INDEX($CU$14:$CU$25,IF(MOD(ROW(A20),12)=0,12,MOD(ROW(A20),12)),1)),""),"")} -> 2024 | I30: {=IFERROR(IF($C30=1,INDEX($CW$14:$CW$25,IF(MOD(ROW(A20),12)=0,12,MOD(ROW(A20),12)),1),""),"")} -> Aug-2024 | J30: {=IFERROR(IF($C30=1,INDEX(Bills!$B$6:$AB$15,B30,MATCH(INDEX($CW$14:$CW$25,IF(MOD(ROW(A20),12)=0,12,MOD(ROW(A20),12)),1),Bills!$E$5:$AB$5,0)+3),""),"")} -> 30 | K30: {=IFERROR(IF($C30=1,IF(INDEX(Bills!$B$6:$AB$15,B30,MATCH(INDEX($CW$14:$CW$25,IF(MOD(ROW(A20),12)=0,12,MOD(ROW(A20),12)),1),Bills!$E$5:$AB$5,0)+4)=$DM$13,"Paid","Unpaid"),""),"")} -> Paid | L30: =IFERROR(IF($C30=1,INDEX($CP$14:$CQ$25,MATCH(G30,$CQ$14:$CQ$25,0),1),""),"") -> 8 | M30: =IFERROR(IF($C30=1,F30,""),"") -> 5 | N30: =IFERROR(DATE(H30,INDEX($CP$14:$CQ$25,MATCH(G30,$CQ$14:$CQ$25,0),1),F30),"") -> 45509 | O30: =IFERROR(IF(C30<>1,"",IF(Menu!$I$13="",IF(OR(Calendar!$I$7="",Calendar!$I$7=$CM$17),E30,IF(Calendar!$I$7=$CM$18,E30 & " - " &J30,D30 & " - " &J30)),IF(OR(Calendar!$I$7="",Calendar!$I$7=$CM$17),E30,IF(Calendar!$I$7=$CM$18,E30 & " - " &Menu!$I$13 &J30,D30 & " - " &Menu!$I$13 &J30)))),"") -> Utilities - $30 | CE30: =IF(OR(Dashboard!$D$7="",Dashboard!$D$7="ALL"),1,IF(Dashboard!$D$7=I30,1,0)) -> 1 | CF30: =IF(OR(Dashboard!$G$7="",Dashboard!$G$7="ALL"),1,IF(Dashboard!$G$7=Calc!D30,1,0)) -> 1 | CG30: =IFERROR(CE30*CF30,0) -> 1 | CH30: =IF(OR(Calendar!$I$5="",Calendar!$I$5="ALL"),1,IF(Calendar!$I$5=Calc!D30,1,0)) -> 1 | CJ30: 1 | DF30: 18th | DG30: 18
B31: 2 | C31: =IFERROR(IF(INDEX(Bills!$C$6:$C$15,B31,1)="",0,1),"") -> 1 | D31: =IFERROR(IF($C31=1,INDEX(Bills!$B$6:$AB$15,$B31,D$9),""),"") -> Utilities | E31: =IFERROR(IF($C31=1,INDEX(Bills!$B$6:$AB$15,$B31,E$9),""),"") -> Water | F31: {=IFERROR(IF($C31=1, INDEX($DG$13:$DG$43, MATCH(INDEX(Bills!$B$6:$AB$15, $B31, F$9), $DF$13:$DF$43, 0)), ""), "")} -> 5 | G31: {=IFERROR(IF($C31=1,INDEX($CV$14:$CV$25,IF(MOD(ROW(A21),12)=0,12,MOD(ROW(A21),12)),1),""),"")} -> September | H31: {=IFERROR(IF($C31=1,YEAR(INDEX($CU$14:$CU$25,IF(MOD(ROW(A21),12)=0,12,MOD(ROW(A21),12)),1)),""),"")} -> 2024 | I31: {=IFERROR(IF($C31=1,INDEX($CW$14:$CW$25,IF(MOD(ROW(A21),12)=0,12,MOD(ROW(A21),12)),1),""),"")} -> Sep-2024 | J31: {=IFERROR(IF($C31=1,INDEX(Bills!$B$6:$AB$15,B31,MATCH(INDEX($CW$14:$CW$25,IF(MOD(ROW(A21),12)=0,12,MOD(ROW(A21),12)),1),Bills!$E$5:$AB$5,0)+3),""),"")} -> 30 | K31: {=IFERROR(IF($C31=1,IF(INDEX(Bills!$B$6:$AB$15,B31,MATCH(INDEX($CW$14:$CW$25,IF(MOD(ROW(A21),12)=0,12,MOD(ROW(A21),12)),1),Bills!$E$5:$AB$5,0)+4)=$DM$13,"Paid","Unpaid"),""),"")} -> Paid | L31: =IFERROR(IF($C31=1,INDEX($CP$14:$CQ$25,MATCH(G31,$CQ$14:$CQ$25,0),1),""),"") -> 9 | M31: =IFERROR(IF($C31=1,F31,""),"") -> 5 | N31: =IFERROR(DATE(H31,INDEX($CP$14:$CQ$25,MATCH(G31,$CQ$14:$CQ$25,0),1),F31),"") -> 45540 | O31: =IFERROR(IF(C31<>1,"",IF(Menu!$I$13="",IF(OR(Calendar!$I$7="",Calendar!$I$7=$CM$17),E31,IF(Calendar!$I$7=$CM$18,E31 & " - " &J31,D31 & " - " &J31)),IF(OR(Calendar!$I$7="",Calendar!$I$7=$CM$17),E31,IF(Calendar!$I$7=$CM$18,E31 & " - " &Menu!$I$13 &J31,D31 & " - " &Menu!$I$13 &J31)))),"") -> Utilities - $30 | CE31: =IF(OR(Dashboard!$D$7="",Dashboard!$D$7="ALL"),1,IF(Dashboard!$D$7=I31,1,0)) -> 1 | CF31: =IF(OR(Dashboard!$G$7="",Dashboard!$G$7="ALL"),1,IF(Dashboard!$G$7=Calc!D31,1,0)) -> 1 | CG31: =IFERROR(CE31*CF31,0) -> 1 | CH31: =IF(OR(Calendar!$I$5="",Calendar!$I$5="ALL"),1,IF(Calendar!$I$5=Calc!D31,1,0)) -> 1 | CJ31: 2 | CP31: Bill Amount | CQ31: =IFERROR(SUMIFS($J$11:$J$130,$CG$11:$CG$130,1,$C$11:$C$130,1),"") -> 3310 | CS31: BUDGET DOUGHNUT | DF31: 19th | DG31: 19
B32: 2 | C32: =IFERROR(IF(INDEX(Bills!$C$6:$C$15,B32,1)="",0,1),"") -> 1 | D32: =IFERROR(IF($C32=1,INDEX(Bills!$B$6:$AB$15,$B32,D$9),""),"") -> Utilities | E32: =IFERROR(IF($C32=1,INDEX(Bills!$B$6:$AB$15,$B32,E$9),""),"") -> Water | F32: {=IFERROR(IF($C32=1, INDEX($DG$13:$DG$43, MATCH(INDEX(Bills!$B$6:$AB$15, $B32, F$9), $DF$13:$DF$43, 0)), ""), "")} -> 5 | G32: {=IFERROR(IF($C32=1,INDEX($CV$14:$CV$25,IF(MOD(ROW(A22),12)=0,12,MOD(ROW(A22),12)),1),""),"")} -> October | H32: {=IFERROR(IF($C32=1,YEAR(INDEX($CU$14:$CU$25,IF(MOD(ROW(A22),12)=0,12,MOD(ROW(A22),12)),1)),""),"")} -> 2024 | I32: {=IFERROR(IF($C32=1,INDEX($CW$14:$CW$25,IF(MOD(ROW(A22),12)=0,12,MOD(ROW(A22),12)),1),""),"")} -> Oct-2024 | J32: {=IFERROR(IF($C32=1,INDEX(Bills!$B$6:$AB$15,B32,MATCH(INDEX($CW$14:$CW$25,IF(MOD(ROW(A22),12)=0,12,MOD(ROW(A22),12)),1),Bills!$E$5:$AB$5,0)+3),""),"")} -> 30 | K32: {=IFERROR(IF($C32=1,IF(INDEX(Bills!$B$6:$AB$15,B32,MATCH(INDEX($CW$14:$CW$25,IF(MOD(ROW(A22),12)=0,12,MOD(ROW(A22),12)),1),Bills!$E$5:$AB$5,0)+4)=$DM$13,"Paid","Unpaid"),""),"")} -> Paid | L32: =IFERROR(IF($C32=1,INDEX($CP$14:$CQ$25,MATCH(G32,$CQ$14:$CQ$25,0),1),""),"") -> 10 | M32: =IFERROR(IF($C32=1,F32,""),"") -> 5 | N32: =IFERROR(DATE(H32,INDEX($CP$14:$CQ$25,MATCH(G32,$CQ$14:$CQ$25,0),1),F32),"") -> 45570 | O32: =IFERROR(IF(C32<>1,"",IF(Menu!$I$13="",IF(OR(Calendar!$I$7="",Calendar!$I$7=$CM$17),E32,IF(Calendar!$I$7=$CM$18,E32 & " - " &J32,D32 & " - " &J32)),IF(OR(Calendar!$I$7="",Calendar!$I$7=$CM$17),E32,IF(Calendar!$I$7=$CM$18,E32 & " - " &Menu!$I$13 &J32,D32 & " - " &Menu!$I$13 &J32)))),"") -> Utilities - $30 | CE32: =IF(OR(Dashboard!$D$7="",Dashboard!$D$7="ALL"),1,IF(Dashboard!$D$7=I32,1,0)) -> 1 | CF32: =IF(OR(Dashboard!$G$7="",Dashboard!$G$7="ALL"),1,IF(Dashboard!$G$7=Calc!D32,1,0)) -> 1 | CG32: =IFERROR(CE32*CF32,0) -> 1 | CH32: =IF(OR(Calendar!$I$5="",Calendar!$I$5="ALL"),1,IF(Calendar!$I$5=Calc!D32,1,0)) -> 1 | CJ32: 3 | CP32: Paid Bill Amount | CQ32: =IFERROR(SUMIFS($J$11:$J$130,$CG$11:$CG$130,1,$C$11:$C$130,1,$K$11:$K$130,"Paid"),"") -> 2760 | CS32: Paid Bill | CT32: =IFERROR(SUMIFS($J$11:$J$130,$K$11:$K$130,"Paid",$CG$11:$CG$130,1)/SUMIFS($J$11:$J$130,$CG$11:$CG$130,1),"") -> 0.83383686 | DF32: 20th | DG32: 20
B33: 2 | C33: =IFERROR(IF(INDEX(Bills!$C$6:$C$15,B33,1)="",0,1),"") -> 1 | D33: =IFERROR(IF($C33=1,INDEX(Bills!$B$6:$AB$15,$B33,D$9),""),"") -> Utilities | E33: =IFERROR(IF($C33=1,INDEX(Bills!$B$6:$AB$15,$B33,E$9),""),"") -> Water | F33: {=IFERROR(IF($C33=1, INDEX($DG$13:$DG$43, MATCH(INDEX(Bills!$B$6:$AB$15, $B33, F$9), $DF$13:$DF$43, 0)), ""), "")} -> 5 | G33: {=IFERROR(IF($C33=1,INDEX($CV$14:$CV$25,IF(MOD(ROW(A23),12)=0,12,MOD(ROW(A23),12)),1),""),"")} -> November | H33: {=IFERROR(IF($C33=1,YEAR(INDEX($CU$14:$CU$25,IF(MOD(ROW(A23),12)=0,12,MOD(ROW(A23),12)),1)),""),"")} -> 2024 | I33: {=IFERROR(IF($C33=1,INDEX($CW$14:$CW$25,IF(MOD(ROW(A23),12)=0,12,MOD(ROW(A23),12)),1),""),"")} -> Nov-2024 | J33: {=IFERROR(IF($C33=1,INDEX(Bills!$B$6:$AB$15,B33,MATCH(INDEX($CW$14:$CW$25,IF(MOD(ROW(A23),12)=0,12,MOD(ROW(A23),12)),1),Bills!$E$5:$AB$5,0)+3),""),"")} -> 30 | K33: {=IFERROR(IF($C33=1,IF(INDEX(Bills!$B$6:$AB$15,B33,MATCH(INDEX($CW$14:$CW$25,IF(MOD(ROW(A23),12)=0,12,MOD(ROW(A23),12)),1),Bills!$E$5:$AB$5,0)+4)=$DM$13,"Paid","Unpaid"),""),"")} -> Paid | L33: =IFERROR(IF($C33=1,INDEX($CP$14:$CQ$25,MATCH(G33,$CQ$14:$CQ$25,0),1),""),"") -> 11 | M33: =IFERROR(IF($C33=1,F33,""),"") -> 5 | N33: =IFERROR(DATE(H33,INDEX($CP$14:$CQ$25,MATCH(G33,$CQ$14:$CQ$25,0),1),F33),"") -> 45601 | O33: =IFERROR(IF(C33<>1,"",IF(Menu!$I$13="",IF(OR(Calendar!$I$7="",Calendar!$I$7=$CM$17),E33,IF(Calendar!$I$7=$CM$18,E33 & " - " &J33,D33 & " - " &J33)),IF(OR(Calendar!$I$7="",Calendar!$I$7=$CM$17),E33,IF(Calendar!$I$7=$CM$18,E33 & " - " &Menu!$I$13 &J33,D33 & " - " &Menu!$I$13 &J33)))),"") -> Utilities - $30 | CE33: =IF(OR(Dashboard!$D$7="",Dashboard!$D$7="ALL"),1,IF(Dashboard!$D$7=I33,1,0)) -> 1 | CF33: =IF(OR(Dashboard!$G$7="",Dashboard!$G$7="ALL"),1,IF(Dashboard!$G$7=Calc!D33,1,0)) -> 1 | CG33: =IFERROR(CE33*CF33,0) -> 1 | CH33: =IF(OR(Calendar!$I$5="",Calendar!$I$5="ALL"),1,IF(Calendar!$I$5=Calc!D33,1,0)) -> 1 | CJ33: 4 | CP33: Unpaid Bill Amount | CQ33: =IFERROR(SUMIFS($J$11:$J$130,$CG$11:$CG$130,1,$C$11:$C$130,1,$K$11:$K$130,"Unpaid"),"") -> 550 | CS33: Remaining | CT33: =IFERROR(IF(CT32<1,1-CT32,0),"") -> 0.16616314 | DF33: 21st | DG33: 21
B34: 2 | C34: =IFERROR(IF(INDEX(Bills!$C$6:$C$15,B34,1)="",0,1),"") -> 1 | D34: =IFERROR(IF($C34=1,INDEX(Bills!$B$6:$AB$15,$B34,D$9),""),"") -> Utilities | E34: =IFERROR(IF($C34=1,INDEX(Bills!$B$6:$AB$15,$B34,E$9),""),"") -> Water | F34: {=IFERROR(IF($C34=1, INDEX($DG$13:$DG$43, MATCH(INDEX(Bills!$B$6:$AB$15, $B34, F$9), $DF$13:$DF$43, 0)), ""), "")} -> 5 | G34: {=IFERROR(IF($C34=1,INDEX($CV$14:$CV$25,IF(MOD(ROW(A24),12)=0,12,MOD(ROW(A24),12)),1),""),"")} -> December | H34: {=IFERROR(IF($C34=1,YEAR(INDEX($CU$14:$CU$25,IF(MOD(ROW(A24),12)=0,12,MOD(ROW(A24),12)),1)),""),"")} -> 2024 | I34: {=IFERROR(IF($C34=1,INDEX($CW$14:$CW$25,IF(MOD(ROW(A24),12)=0,12,MOD(ROW(A24),12)),1),""),"")} -> Dec-2024 | J34: {=IFERROR(IF($C34=1,INDEX(Bills!$B$6:$AB$15,B34,MATCH(INDEX($CW$14:$CW$25,IF(MOD(ROW(A24),12)=0,12,MOD(ROW(A24),12)),1),Bills!$E$5:$AB$5,0)+3),""),"")} -> 30 | K34: {=IFERROR(IF($C34=1,IF(INDEX(Bills!$B$6:$AB$15,B34,MATCH(INDEX($CW$14:$CW$25,IF(MOD(ROW(A24),12)=0,12,MOD(ROW(A24),12)),1),Bills!$E$5:$AB$5,0)+4)=$DM$13,"Paid","Unpaid"),""),"")} -> Paid | L34: =IFERROR(IF($C34=1,INDEX($CP$14:$CQ$25,MATCH(G34,$CQ$14:$CQ$25,0),1),""),"") -> 12 | M34: =IFERROR(IF($C34=1,F34,""),"") -> 5 | N34: =IFERROR(DATE(H34,INDEX($CP$14:$CQ$25,MATCH(G34,$CQ$14:$CQ$25,0),1),F34),"") -> 45631 | O34: =IFERROR(IF(C34<>1,"",IF(Menu!$I$13="",IF(OR(Calendar!$I$7="",Calendar!$I$7=$CM$17),E34,IF(Calendar!$I$7=$CM$18,E34 & " - " &J34,D34 & " - " &J34)),IF(OR(Calendar!$I$7="",Calendar!$I$7=$CM$17),E34,IF(Calendar!$I$7=$CM$18,E34 & " - " &Menu!$I$13 &J34,D34 & " - " &Menu!$I$13 &J34)))),"") -> Utilities - $30 | CE34: =IF(OR(Dashboard!$D$7="",Dashboard!$D$7="ALL"),1,IF(Dashboard!$D$7=I34,1,0)) -> 1 | CF34: =IF(OR(Dashboard!$G$7="",Dashboard!$G$7="ALL"),1,IF(Dashboard!$G$7=Calc!D34,1,0)) -> 1 | CG34: =IFERROR(CE34*CF34,0) -> 1 | CH34: =IF(OR(Calendar!$I$5="",Calendar!$I$5="ALL"),1,IF(Calendar!$I$5=Calc!D34,1,0)) -> 1 | CJ34: 5 | DF34: 22nd | DG34: 22
B35: 3 | C35: =IFERROR(IF(INDEX(Bills!$C$6:$C$15,B35,1)="",0,1),"") -> 1 | D35: =IFERROR(IF($C35=1,INDEX(Bills!$B$6:$AB$15,$B35,D$9),""),"") -> Utilities | E35: =IFERROR(IF($C35=1,INDEX(Bills!$B$6:$AB$15,$B35,E$9),""),"") -> Gas | F35: {=IFERROR(IF($C35=1, INDEX($DG$13:$DG$43, MATCH(INDEX(Bills!$B$6:$AB$15, $B35, F$9), $DF$13:$DF$43, 0)), ""), "")} -> 7 | G35: {=IFERROR(IF($C35=1,INDEX($CV$14:$CV$25,IF(MOD(ROW(A25),12)=0,12,MOD(ROW(A25),12)),1),""),"")} -> January | H35: {=IFERROR(IF($C35=1,YEAR(INDEX($CU$14:$CU$25,IF(MOD(ROW(A25),12)=0,12,MOD(ROW(A25),12)),1)),""),"")} -> 2024 | I35: {=IFERROR(IF($C35=1,INDEX($CW$14:$CW$25,IF(MOD(ROW(A25),12)=0,12,MOD(ROW(A25),12)),1),""),"")} -> Jan-2024 | J35: {=IFERROR(IF($C35=1,INDEX(Bills!$B$6:$AB$15,B35,MATCH(INDEX($CW$14:$CW$25,IF(MOD(ROW(A25),12)=0,12,MOD(ROW(A25),12)),1),Bills!$E$5:$AB$5,0)+3),""),"")} -> 50 | K35: {=IFERROR(IF($C35=1,IF(INDEX(Bills!$B$6:$AB$15,B35,MATCH(INDEX($CW$14:$CW$25,IF(MOD(ROW(A25),12)=0,12,MOD(ROW(A25),12)),1),Bills!$E$5:$AB$5,0)+4)=$DM$13,"Paid","Unpaid"),""),"")} -> Paid | L35: =IFERROR(IF($C35=1,INDEX($CP$14:$CQ$25,MATCH(G35,$CQ$14:$CQ$25,0),1),""),"") -> 1 | M35: =IFERROR(IF($C35=1,F35,""),"") -> 7 | N35: =IFERROR(DATE(H35,INDEX($CP$14:$CQ$25,MATCH(G35,$CQ$14:$CQ$25,0),1),F35),"") -> 45298 | O35: =IFERROR(IF(C35<>1,"",IF(Menu!$I$13="",IF(OR(Calendar!$I$7="",Calendar!$I$7=$CM$17),E35,IF(Calendar!$I$7=$CM$18,E35 & " - " &J35,D35 & " - " &J35)),IF(OR(Calendar!$I$7="",Calendar!$I$7=$CM$17),E35,IF(Calendar!$I$7=$CM$18,E35 & " - " &Menu!$I$13 &J35,D35 & " - " &Menu!$I$13 &J35)))),"") -> Utilities - $50 | CE35: =IF(OR(Dashboard!$D$7="",Dashboard!$D$7="ALL"),1,IF(Dashboard!$D$7=I35,1,0)) -> 1 | CF35: =IF(OR(Dashboard!$G$7="",Dashboard!$G$7="ALL"),1,IF(Dashboard!$G$7=Calc!D35,1,0)) -> 1 | CG35: =IFERROR(CE35*CF35,0) -> 1 | CH35: =IF(OR(Calendar!$I$5="",Calendar!$I$5="ALL"),1,IF(Calendar!$I$5=Calc!D35,1,0)) -> 1 | CJ35: 6 | CQ35: =CW14 -> Jan-2024 | CR35: =CW15 -> Feb-2024 | CS35: =CW16 -> Mar-2024 | CT35: =CW17 -> Apr-2024 | CU35: =CW18 -> May-2024 | CV35: =CW19 -> Jun-2024 | CW35: =CW20 -> Jul-2024 | CX35: =CW21 -> Aug-2024 | CY35: =CW22 -> Sep-2024 | CZ35: =CW23 -> Oct-2024 | DA35: =CW24 -> Nov-2024 | DB35: =CW25 -> Dec-2024 | DF35: 23rd | DG35: 23
