Workbook
Name days: Calc!$CP$29:$CR$35
Name MainReg: Calc!$D$11:$O$110
Name months: Calc!$CP$14:$CR$25
Name StartMonth: Calc!$CQ$28
Name StartYear: Calc!$CQ$27

Sheet Menu
C2: MONTHLY BILL ORGANIZER
C3: MENU
G7: SETTINGS
G9: Categories | I9: Starting Month | J9: Starting Year
G10: Utilities | I10: January | J10: 2024
G11: Subscriptions
G12: Phone | I12: Currency
G13: Internet | I13: $
G14: Home
G15: Other

Sheet Bills
B2: MONTHLY BILL ORGANIZER
B3: BILLS
B5: Category | C5: Bill Name | D5: Payment Day | E5: =Calc!CW14 -> Jan-2024 | G5: =Calc!CW15 -> Feb-2024 | I5: =Calc!CW16 -> Mar-2024 | K5: =Calc!CW17 -> Apr-2024 | M5: =Calc!CW18 -> May-2024 | O5: =Calc!CW19 -> Jun-2024 | Q5: =Calc!CW20 -> Jul-2024 | S5: =Calc!CW21 -> Aug-2024 | U5: =Calc!CW22 -> Sep-2024 | W5: =Calc!CW23 -> Oct-2024 | Y5: =Calc!CW24 -> Nov-2024 | AA5: =Calc!CW25 -> Dec-2024
B6: Utilities | C6: Electricity | D6: 1st | E6: 120 | F6: X | G6: 120 | H6: ✓ | I6: 120 | J6: ✓ | K6: 120 | L6: ✓ | M6: 120 | N6: X | O6: 120 | P6: ✓ | Q6: 120 | R6: ✓ | S6: 120 | T6: ✓ | U6: 120 | V6: X | W6: 120 | X6: ✓ | Y6: 120 | Z6: ✓ | AA6: 120 | AB6: ✓
B7: Utilities | C7: Water | D7: 5th | E7: 30 | F7: ✓ | G7: 30 | H7: ✓ | I7: 30 | J7: ✓ | K7: 30 | L7: ✓ | M7: 30 | N7: ✓ | O7: 30 | P7: ✓ | Q7: 30 | R7: ✓ | S7: 30 | T7: ✓ | U7: 30 | V7: ✓ | W7: 30 | X7: ✓ | Y7: 30 | Z7: ✓ | AA7: 30 | AB7: ✓
B8: Utilities | C8: Gas | D8: 7th | E8: 50 | F8: ✓ | G8: 50 | H8: ✓ | I8: 50 | J8: ✓ | K8: 50 | L8: X | M8: 50 | N8: ✓ | O8: 50 | P8: ✓ | Q8: 50 | R8: ✓ | S8: 50 | T8: X | U8: 50 | V8: ✓ | W8: 150 | X8: ✓ | Y8: 50 | Z8: ✓ | AA8: 50 | AB8: ✓
B9: Utilities | C9: Trash | D9: 1st | E9: 20 | F9: ✓ | G9: 30 | H9: ✓ | I9: 20 | J9: ✓ | K9: 30 | L9: X | M9: 20 | N9: ✓ | O9: 30 | P9: ✓ | Q9: 20 | R9: ✓ | S9: 20 | T9: X | U9: 20 | V9: ✓ | W9: 20 | X9: ✓ | Y9: 20 | Z9: ✓ | AA9: 20 | AB9: ✓
B10: Subscriptions | C10: Streaming Service | D10: 1st | E10: 15 | F10: ✓ | G10: 15 | H10: ✓ | I10: 15 | J10: ✓ | K10: 15 | L10: ✓ | M10: 15 | N10: ✓ | O10: 15 | P10: ✓ | Q10: 15 | R10: ✓ | S10: 15 | T10: X | U10: 15 | V10: ✓ | W10: 15 | X10: ✓ | Y10: 15 | Z10: X | AA10: 15 | AB10: ✓
B11: Subscriptions | C11: Gym Membership | D11: 15th | E11: 20 | F11: ✓ | G11: 20 | H11: ✓ | I11: 20 | J11: ✓ | K11: 20 | L11: ✓ | M11: 20 | N11: ✓ | O11: 20 | P11: ✓ | Q11: 20 | R11: ✓ | S11: 20 | T11: ✓ | U11: 20 | V11: ✓ | W11: 20 | X11: ✓ | Y11: 20 | Z11: ✓ | AA11: 20 | AB11: ✓
B12: Subscriptions | C12: Magazine | D12: 15th | E12: 10 | F12: ✓ | G12: 10 | H12: ✓ | I12: 10 | J12: ✓ | K12: 10 | L12: ✓ | M12: 10 | N12: ✓ | O12: 10 | P12: ✓ | Q12: 10 | R12: ✓ | S12: 10 | T12: ✓ | U12: 10 | V12: ✓ | W12: 10 | X12: ✓ | Y12: 10 | Z12: ✓ | AA12: 10 | AB12: X

Sheet Calendar
C2: MONTHLY BILL ORGANIZER
C3: BILL CALENDAR
C5: Year | E5: 2024 | G5: Category | I5: ALL | K5: PAID
C7: Month | E7: January | G7: Show by? | I7: Category - Amount | K7: UNPAID
C10: MONDAY | E10: TUESDAY | G10: WEDNESDAY | I10: THURSDAY | K10: FRIDAY | M10: SATURDAY | O10: SUNDAY
C12: =IFERROR(IF(WEEKDAY(Calc!CK14)=2,Calc!CK14,""),"") -> 45292 | E12: =IFERROR(IF(LEN(C12)>0,C12+1,IF(WEEKDAY(Calc!CK14)=3,Calc!CK14,"")),"") -> 45293 | G12: =IFERROR(IF(LEN(E12)>0,E12+1,IF(WEEKDAY(Calc!CK14)=4,Calc!CK14,"")),"") -> 45294 | I12: =IFERROR(IF(LEN(G12)>0,G12+1,IF(WEEKDAY(Calc!CK14)=5,Calc!CK14,"")),"") -> 45295 | K12: =IFERROR(IF(LEN(I12)>0,I12+1,IF(WEEKDAY(Calc!CK14)=6,Calc!CK14,"")),"") -> 45296 | M12: =IFERROR(IF(LEN(K12)>0,K12+1,IF(WEEKDAY(Calc!CK14)=7,Calc!CK14,"")),"") -> 45297 | O12: =IFERROR(IF(LEN(M12)>0,M12+1,IF(WEEKDAY(Calc!CK14)=1,Calc!CK14,"")),"") -> 45298
C14: {=IFERROR(INDEX(Calc!$O$11:$O$130,SMALL(IF((C$12=Calc!$N$11:$N$130)*(Calc!$CH$11:$CH$130),ROW(Calc!$O$11:$O$130)-ROW(INDEX(Calc!$O$11:$O$130,1,1))+1),Calc!$CJ17)),"")} -> Utilities - $120 | E14: {=IFERROR(INDEX(Calc!$O$11:$O$130,SMALL(IF((E$12=Calc!$N$11:$N$130)*(Calc!$CH$11:$CH$130),ROW(Calc!$O$11:$O$130)-ROW(INDEX(Calc!$O$11:$O$130,1,1))+1),Calc!$CJ17)),"")} | G14: {=IFERROR(INDEX(Calc!$O$11:$O$130,SMALL(IF((G$12=Calc!$N$11:$N$130)*(Calc!$CH$11:$CH$130),ROW(Calc!$O$11:$O$130)-ROW(INDEX(Calc!$O$11:$O$130,1,1))+1),Calc!$CJ17)),"")} | I14: {=IFERROR(INDEX(Calc!$O$11:$O$130,SMALL(IF((I$12=Calc!$N$11:$N$130)*(Calc!$CH$11:$CH$130),ROW(Calc!$O$11:$O$130)-ROW(INDEX(Calc!$O$11:$O$130,1,1))+1),Calc!$CJ17)),"")} | K14: {=IFERROR(INDEX(Calc!$O$11:$O$130,SMALL(IF((K$12=Calc!$N$11:$N$130)*(Calc!$CH$11:$CH$130),ROW(Calc!$O$11:$O$130)-ROW(INDEX(Calc!$O$11:$O$130,1,1))+1),Calc!$CJ17)),"")} -> Utilities - $30 | M14: {=IFERROR(INDEX(Calc!$O$11:$O$130,SMALL(IF((M$12=Calc!$N$11:$N$130)*(Calc!$CH$11:$CH$130),ROW(Calc!$O$11:$O$130)-ROW(INDEX(Calc!$O$11:$O$130,1,1))+1),Calc!$CJ17)),"")} | O14: {=IFERROR(INDEX(Calc!$O$11:$O$130,SMALL(IF((O$12=Calc!$N$11:$N$130)*(Calc!$CH$11:$CH$130),ROW(Calc!$O$11:$O$130)-ROW(INDEX(Calc!$O$11:$O$130,1,1))+1),Calc!$CJ17)),"")} -> Utilities - $50
C15: {=IFERROR(INDEX(Calc!$O$11:$O$130,SMALL(IF((C$12=Calc!$N$11:$N$130)*(Calc!$CH$11:$CH$130),ROW(Calc!$O$11:$O$130)-ROW(INDEX(Calc!$O$11:$O$130,1,1))+1),Calc!$CJ18)),"")} -> Utilities - $20 | E15: {=IFERROR(INDEX(Calc!$O$11:$O$130,SMALL(IF((E$12=Calc!$N$11:$N$130)*(Calc!$CH$11:$CH$130),ROW(Calc!$O$11:$O$130)-ROW(INDEX(Calc!$O$11:$O$130,1,1))+1),Calc!$CJ18)),"")} | G15: {=IFERROR(INDEX(Calc!$O$11:$O$130,SMALL(IF((G$12=Calc!$N$11:$N$130)*(Calc!$CH$11:$CH$130),ROW(Calc!$O$11:$O$130)-ROW(INDEX(Calc!$O$11:$O$130,1,1))+1),Calc!$CJ18)),"")} | I15: {=IFERROR(INDEX(Calc!$O$11:$O$130,SMALL(IF((I$12=Calc!$N$11:$N$130)*(Calc!$CH$11:$CH$130),ROW(Calc!$O$11:$O$130)-ROW(INDEX(Calc!$O$11:$O$130,1,1))+1),Calc!$CJ18)),"")} | K15: {=IFERROR(INDEX(Calc!$O$11:$O$130,SMALL(IF((K$12=Calc!$N$11:$N$130)*(Calc!$CH$11:$CH$130),ROW(Calc!$O$11:$O$130)-ROW(INDEX(Calc!$O$11:$O$130,1,1))+1),Calc!$CJ18)),"")} | M15: {=IFERROR(INDEX(Calc!$O$11:$O$130,SMALL(IF((M$12=Calc!$N$11:$N$130)*(Calc!$CH$11:$CH$130),ROW(Calc!$O$11:$O$130)-ROW(INDEX(Calc!$O$11:$O$130,1,1))+1),Calc!$CJ18)),"")} | O15: {=IFERROR(INDEX(Calc!$O$11:$O$130,SMALL(IF((O$12=Calc!$N$11:$N$130)*(Calc!$CH$11:$CH$130),ROW(Calc!$O$11:$O$130)-ROW(INDEX(Calc!$O$11:$O$130,1,1))+1),Calc!$CJ18)),"")}
C16: {=IFERROR(INDEX(Calc!$O$11:$O$130,SMALL(IF((C$12=Calc!$N$11:$N$130)*(Calc!$CH$11:$CH$130),ROW(Calc!$O$11:$O$130)-ROW(INDEX(Calc!$O$11:$O$130,1,1))+1),Calc!$CJ19)),"")} -> Subscriptions - $15 | E16: {=IFERROR(INDEX(Calc!$O$11:$O$130,SMALL(IF((E$12=Calc!$N$11:$N$130)*(Calc!$CH$11:$CH$130),ROW(Calc!$O$11:$O$130)-ROW(INDEX(Calc!$O$11:$O$130,1,1))+1),Calc!$CJ19)),"")} | G16: {=IFERROR(INDEX(Calc!$O$11:$O$130,SMALL(IF((G$12=Calc!$N$11:$N$130)*(Calc!$CH$11:$CH$130),ROW(Calc!$O$11:$O$130)-ROW(INDEX(Calc!$O$11:$O$130,1,1))+1),Calc!$CJ19)),"")} | I16: {=IFERROR(INDEX(Calc!$O$11:$O$130,SMALL(IF((I$12=Calc!$N$11:$N$130)*(Calc!$CH$11:$CH$130),ROW(Calc!$O$11:$O$130)-ROW(INDEX(Calc!$O$11:$O$130,1,1))+1),Calc!$CJ19)),"")} | K16: {=IFERROR(INDEX(Calc!$O$11:$O$130,SMALL(IF((K$12=Calc!$N$11:$N$130)*(Calc!$CH$11:$CH$130),ROW(Calc!$O$11:$O$130)-ROW(INDEX(Calc!$O$11:$O$130,1,1))+1),Calc!$CJ19)),"")} | M16: {=IFERROR(INDEX(Calc!$O$11:$O$130,SMALL(IF((M$12=Calc!$N$11:$N$130)*(Calc!$CH$11:$CH$130),ROW(Calc!$O$11:$O$130)-ROW(INDEX(Calc!$O$11:$O$130,1,1))+1),Calc!$CJ19)),"")} | O16: {=IFERROR(INDEX(Calc!$O$11:$O$130,SMALL(IF((O$12=Calc!$N$11:$N$130)*(Calc!$CH$11:$CH$130),ROW(Calc!$O$11:$O$130)-ROW(INDEX(Calc!$O$11:$O$130,1,1))+1),Calc!$CJ19)),"")}
C17: {=IFERROR(INDEX(Calc!$O$11:$O$130,SMALL(IF((C$12=Calc!$N$11:$N$130)*(Calc!$CH$11:$CH$130),ROW(Calc!$O$11:$O$130)-ROW(INDEX(Calc!$O$11:$O$130,1,1))+1),Calc!$CJ20)),"")} | E17: {=IFERROR(INDEX(Calc!$O$11:$O$130,SMALL(IF((E$12=Calc!$N$11:$N$130)*(Calc!$CH$11:$CH$130),ROW(Calc!$O$11:$O$130)-ROW(INDEX(Calc!$O$11:$O$130,1,1))+1),Calc!$CJ20)),"")} | G17: {=IFERROR(INDEX(Calc!$O$11:$O$130,SMALL(IF((G$12=Calc!$N$11:$N$130)*(Calc!$CH$11:$CH$130),ROW(Calc!$O$11:$O$130)-ROW(INDEX(Calc!$O$11:$O$130,1,1))+1),Calc!$CJ20)),"")} | I17: {=IFERROR(INDEX(Calc!$O$11:$O$130,SMALL(IF((I$12=Calc!$N$11:$N$130)*(Calc!$CH$11:$CH$130),ROW(Calc!$O$11:$O$130)-ROW(INDEX(Calc!$O$11:$O$130,1,1))+1),Calc!$CJ20)),"")} | K17: {=IFERROR(INDEX(Calc!$O$11:$O$130,SMALL(IF((K$12=Calc!$N$11:$N$130)*(Calc!$CH$11:$CH$130),ROW(Calc!$O$11:$O$130)-ROW(INDEX(Calc!$O$11:$O$130,1,1))+1),Calc!$CJ20)),"")} | M17: {=IFERROR(INDEX(Calc!$O$11:$O$130,SMALL(IF((M$12=Calc!$N$11:$N$130)*(Calc!$CH$11:$CH$130),ROW(Calc!$O$11:$O$130)-ROW(INDEX(Calc!$O$11:$O$130,1,1))+1),Calc!$CJ20)),"")} | O17: {=IFERROR(INDEX(Calc!$O$11:$O$130,SMALL(IF((O$12=Calc!$N$11:$N$130)*(Calc!$CH$11:$CH$130),ROW(Calc!$O$11:$O$130)-ROW(INDEX(Calc!$O$11:$O$130,1,1))+1),Calc!$CJ20)),"")}
C18: {=IFERROR(INDEX(Calc!$O$11:$O$130,SMALL(IF((C$12=Calc!$N$11:$N$130)*(Calc!$CH$11:$CH$130),ROW(Calc!$O$11:$O$130)-ROW(INDEX(Calc!$O$11:$O$130,1,1))+1),Calc!$CJ21)),"")} | E18: {=IFERROR(INDEX(Calc!$O$11:$O$130,SMALL(IF((E$12=Calc!$N$11:$N$130)*(Calc!$CH$11:$CH$130),ROW(Calc!$O$11:$O$130)-ROW(INDEX(Calc!$O$11:$O$130,1,1))+1),Calc!$CJ21)),"")} | G18: {=IFERROR(INDEX(Calc!$O$11:$O$130,SMALL(IF((G$12=Calc!$N$11:$N$130)*(Calc!$CH$11:$CH$130),ROW(Calc!$O$11:$O$130)-ROW(INDEX(Calc!$O$11:$O$130,1,1))+1),Calc!$CJ21)),"")} | I18: {=IFERROR(INDEX(Calc!$O$11:$O$130,SMALL(IF((I$12=Calc!$N$11:$N$130)*(Calc!$CH$11:$CH$130),ROW(Calc!$O$11:$O$130)-ROW(INDEX(Calc!$O$11:$O$130,1,1))+1),Calc!$CJ21)),"")} | K18: {=IFERROR(INDEX(Calc!$O$11:$O$130,SMALL(IF((K$12=Calc!$N$11:$N$130)*(Calc!$CH$11:$CH$130),ROW(Calc!$O$11:$O$130)-ROW(INDEX(Calc!$O$11:$O$130,1,1))+1),Calc!$CJ21)),"")} | M18: {=IFERROR(INDEX(Calc!$O$11:$O$130,SMALL(IF((M$12=Calc!$N$11:$N$130)*(Calc!$CH$11:$CH$130),ROW(Calc!$O$11:$O$130)-ROW(INDEX(Calc!$O$11:$O$130,1,1))+1),Calc!$CJ21)),"")} | O18: {=IFERROR(INDEX(Calc!$O$11:$O$130,SMALL(IF((O$12=Calc!$N$11:$N$130)*(Calc!$CH$11:$CH$130),ROW(Calc!$O$11:$O$130)-ROW(INDEX(Calc!$O$11:$O$130,1,1))+1),Calc!$CJ21)),"")}
C19: {=IFERROR(INDEX(Calc!$O$11:$O$130,SMALL(IF((C$12=Calc!$N$11:$N$130)*(Calc!$CH$11:$CH$130),ROW(Calc!$O$11:$O$130)-ROW(INDEX(Calc!$O$11:$O$130,1,1))+1),Calc!$CJ22)),"")} | E19: {=IFERROR(INDEX(Calc!$O$11:$O$130,SMALL(IF((E$12=Calc!$N$11:$N$130)*(Calc!$CH$11:$CH$130),ROW(Calc!$O$11:$O$130)-ROW(INDEX(Calc!$O$11:$O$130,1,1))+1),Calc!$CJ22)),"")} | G19: {=IFERROR(INDEX(Calc!$O$11:$O$130,SMALL(IF((G$12=Calc!$N$11:$N$130)*(Calc!$CH$11:$CH$130),ROW(Calc!$O$11:$O$130)-ROW(INDEX(Calc!$O$11:$O$130,1,1))+1),Calc!$CJ22)),"")} | I19: {=IFERROR(INDEX(Calc!$O$11:$O$130,SMALL(IF((I$12=Calc!$N$11:$N$130)*(Calc!$CH$11:$CH$130),ROW(Calc!$O$11:$O$130)-ROW(INDEX(Calc!$O$11:$O$130,1,1))+1),Calc!$CJ22)),"")} | K19: {=IFERROR(INDEX(Calc!$O$11:$O$130,SMALL(IF((K$12=Calc!$N$11:$N$130)*(Calc!$CH$11:$CH$130),ROW(Calc!$O$11:$O$130)-ROW(INDEX(Calc!$O$11:$O$130,1,1))+1),Calc!$CJ22)),"")} | M19: {=IFERROR(INDEX(Calc!$O$11:$O$130,SMALL(IF((M$12=Calc!$N$11:$N$130)*(Calc!$CH$11:$CH$130),ROW(Calc!$O$11:$O$130)-ROW(INDEX(Calc!$O$11:$O$130,1,1))+1),Calc!$CJ22)),"")} | O19: {=IFERROR(INDEX(Calc!$O$11:$O$130,SMALL(IF((O$12=Calc!$N$11:$N$130)*(Calc!$CH$11:$CH$130),ROW(Calc!$O$11:$O$130)-ROW(INDEX(Calc!$O$11:$O$130,1,1))+1),Calc!$CJ22)),"")}
C20: {=IFERROR(INDEX(Calc!$O$11:$O$130,SMALL(IF((C$12=Calc!$N$11:$N$130)*(Calc!$CH$11:$CH$130),ROW(Calc!$O$11:$O$130)-ROW(INDEX(Calc!$O$11:$O$130,1,1))+1),Calc!$CJ23)),"")} | E20: {=IFERROR(INDEX(Calc!$O$11:$O$130,SMALL(IF((E$12=Calc!$N$11:$N$130)*(Calc!$CH$11:$CH$130),ROW(Calc!$O$11:$O$130)-ROW(INDEX(Calc!$O$11:$O$130,1,1))+1),Calc!$CJ23)),"")} | G20: {=IFERROR(INDEX(Calc!$O$11:$O$130,SMALL(IF((G$12=Calc!$N$11:$N$130)*(Calc!$CH$11:$CH$130),ROW(Calc!$O$11:$O$130)-ROW(INDEX(Calc!$O$11:$O$130,1,1))+1),Calc!$CJ23)),"")} | I20: {=IFERROR(INDEX(Calc!$O$11:$O$130,SMALL(IF((I$12=Calc!$N$11:$N$130)*(Calc!$CH$11:$CH$130),ROW(Calc!$O$11:$O$130)-ROW(INDEX(Calc!$O$11:$O$130,1,1))+1),Calc!$CJ23)),"")} | K20: {=IFERROR(INDEX(Calc!$O$11:$O$130,SMALL(IF((K$12=Calc!$N$11:$N$130)*(Calc!$CH$11:$CH$130),ROW(Calc!$O$11:$O$130)-ROW(INDEX(Calc!$O$11:$O$130,1,1))+1),Calc!$CJ23)),"")} | M20: {=IFERROR(INDEX(Calc!$O$11:$O$130,SMALL(IF((M$12=Calc!$N$11:$N$130)*(Calc!$CH$11:$CH$130),ROW(Calc!$O$11:$O$130)-ROW(INDEX(Calc!$O$11:$O$130,1,1))+1),Calc!$CJ23)),"")} | O20: {=IFERROR(INDEX(Calc!$O$11:$O$130,SMALL(IF((O$12=Calc!$N$11:$N$130)*(Calc!$CH$11:$CH$130),ROW(Calc!$O$11:$O$130)-ROW(INDEX(Calc!$O$11:$O$130,1,1))+1),Calc!$CJ23)),"")}
C21: {=IFERROR(INDEX(Calc!$O$11:$O$130,SMALL(IF((C$12=Calc!$N$11:$N$130)*(Calc!$CH$11:$CH$130),ROW(Calc!$O$11:$O$130)-ROW(INDEX(Calc!$O$11:$O$130,1,1))+1),Calc!$CJ24)),"")} | E21: {=IFERROR(INDEX(Calc!$O$11:$O$130,SMALL(IF((E$12=Calc!$N$11:$N$130)*(Calc!$CH$11:$CH$130),ROW(Calc!$O$11:$O$130)-ROW(INDEX(Calc!$O$11:$O$130,1,1))+1),Calc!$CJ24)),"")} | G21: {=IFERROR(INDEX(Calc!$O$11:$O$130,SMALL(IF((G$12=Calc!$N$11:$N$130)*(Calc!$CH$11:$CH$130),ROW(Calc!$O$11:$O$130)-ROW(INDEX(Calc!$O$11:$O$130,1,1))+1),Calc!$CJ24)),"")} | I21: {=IFERROR(INDEX(Calc!$O$11:$O$130,SMALL(IF((I$12=Calc!$N$11:$N$130)*(Calc!$CH$11:$CH$130),ROW(Calc!$O$11:$O$130)-ROW(INDEX(Calc!$O$11:$O$130,1,1))+1),Calc!$CJ24)),"")} | K21: {=IFERROR(INDEX(Calc!$O$11:$O$130,SMALL(IF((K$12=Calc!$N$11:$N$130)*(Calc!$CH$11:$CH$130),ROW(Calc!$O$11:$O$130)-ROW(INDEX(Calc!$O$11:$O$130,1,1))+1),Calc!$CJ24)),"")} | M21: {=IFERROR(INDEX(Calc!$O$11:$O$130,SMALL(IF((M$12=Calc!$N$11:$N$130)*(Calc!$CH$11:$CH$130),ROW(Calc!$O$11:$O$130)-ROW(INDEX(Calc!$O$11:$O$130,1,1))+1),Calc!$CJ24)),"")} | O21: {=IFERROR(INDEX(Calc!$O$11:$O$130,SMALL(IF((O$12=Calc!$N$11:$N$130)*(Calc!$CH$11:$CH$130),ROW(Calc!$O$11:$O$130)-ROW(INDEX(Calc!$O$11:$O$130,1,1))+1),Calc!$CJ24)),"")}
C22: {=IFERROR(INDEX(Calc!$O$11:$O$130,SMALL(IF((C$12=Calc!$N$11:$N$130)*(Calc!$CH$11:$CH$130),ROW(Calc!$O$11:$O$130)-ROW(INDEX(Calc!$O$11:$O$130,1,1))+1),Calc!$CJ25)),"")} | E22: {=IFERROR(INDEX(Calc!$O$11:$O$130,SMALL(IF((E$12=Calc!$N$11:$N$130)*(Calc!$CH$11:$CH$130),ROW(Calc!$O$11:$O$130)-ROW(INDEX(Calc!$O$11:$O$130,1,1))+1),Calc!$CJ25)),"")} | G22: {=IFERROR(INDEX(Calc!$O$11:$O$130,SMALL(IF((G$12=Calc!$N$11:$N$130)*(Calc!$CH$11:$CH$130),ROW(Calc!$O$11:$O$130)-ROW(INDEX(Calc!$O$11:$O$130,1,1))+1),Calc!$CJ25)),"")} | I22: {=IFERROR(INDEX(Calc!$O$11:$O$130,SMALL(IF((I$12=Calc!$N$11:$N$130)*(Calc!$CH$11:$CH$130),ROW(Calc!$O$11:$O$130)-ROW(INDEX(Calc!$O$11:$O$130,1,1))+1),Calc!$CJ25)),"")} | K22: {=IFERROR(INDEX(Calc!$O$11:$O$130,SMALL(IF((K$12=Calc!$N$11:$N$130)*(Calc!$CH$11:$CH$130),ROW(Calc!$O$11:$O$130)-ROW(INDEX(Calc!$O$11:$O$130,1,1))+1),Calc!$CJ25)),"")} | M22: {=IFERROR(INDEX(Calc!$O$11:$O$130,SMALL(IF((M$12=Calc!$N$11:$N$130)*(Calc!$CH$11:$CH$130),ROW(Calc!$O$11:$O$130)-ROW(INDEX(Calc!$O$11:$O$130,1,1))+1),Calc!$CJ25)),"")} | O22: {=IFERROR(INDEX(Calc!$O$11:$O$130,SMALL(IF((O$12=Calc!$N$11:$N$130)*(Calc!$CH$11:$CH$130),ROW(Calc!$O$11:$O$130)-ROW(INDEX(Calc!$O$11:$O$130,1,1))+1),Calc!$CJ25)),"")}
C23: {=IFERROR(INDEX(Calc!$O$11:$O$130,SMALL(IF((C$12=Calc!$N$11:$N$130)*(Calc!$CH$11:$CH$130),ROW(Calc!$O$11:$O$130)-ROW(INDEX(Calc!$O$11:$O$130,1,1))+1),Calc!$CJ26)),"")} | E23: {=IFERROR(INDEX(Calc!$O$11:$O$130,SMALL(IF((E$12=Calc!$N$11:$N$130)*(Calc!$CH$11:$CH$130),ROW(Calc!$O$11:$O$130)-ROW(INDEX(Calc!$O$11:$O$130,1,1))+1),Calc!$CJ26)),"")} | G23: {=IFERROR(INDEX(Calc!$O$11:$O$130,SMALL(IF((G$12=Calc!$N$11:$N$130)*(Calc!$CH$11:$CH$130),ROW(Calc!$O$11:$O$130)-ROW(INDEX(Calc!$O$11:$O$130,1,1))+1),Calc!$CJ26)),"")} | I23: {=IFERROR(INDEX(Calc!$O$11:$O$130,SMALL(IF((I$12=Calc!$N$11:$N$130)*(Calc!$CH$11:$CH$130),ROW(Calc!$O$11:$O$130)-ROW(INDEX(Calc!$O$11:$O$130,1,1))+1),Calc!$CJ26)),"")} | K23: {=IFERROR(INDEX(Calc!$O$11:$O$130,SMALL(IF((K$12=Calc!$N$11:$N$130)*(Calc!$CH$11:$CH$130),ROW(Calc!$O$11:$O$130)-ROW(INDEX(Calc!$O$11:$O$130,1,1))+1),Calc!$CJ26)),"")} | M23: {=IFERROR(INDEX(Calc!$O$11:$O$130,SMALL(IF((M$12=Calc!$N$11:$N$130)*(Calc!$CH$11:$CH$130),ROW(Calc!$O$11:$O$130)-ROW(INDEX(Calc!$O$11:$O$130,1,1))+1),Calc!$CJ26)),"")} | O23: {=IFERROR(INDEX(Calc!$O$11:$O$130,SMALL(IF((O$12=Calc!$N$11:$N$130)*(Calc!$CH$11:$CH$130),ROW(Calc!$O$11:$O$130)-ROW(INDEX(Calc!$O$11:$O$130,1,1))+1),Calc!$CJ26)),"")}
C25: =IFERROR(IF(LEN(O12)=0,"",IF(MONTH(O12+1)=MONTH(O12),O12+1,"")),"") -> 45299 | E25: =IFERROR(IF(LEN(C25)=0,"",IF(MONTH(C25+1)=MONTH(C25),C25+1,"")),"") -> 45300 | G25: =IFERROR(IF(LEN(E25)=0,"",IF(MONTH(E25+1)=MONTH(E25),E25+1,"")),"") -> 45301 | I25: =IFERROR(IF(LEN(G25)=0,"",IF(MONTH(G25+1)=MONTH(G25),G25+1,"")),"") -> 45302 | K25: =IFERROR(IF(LEN(I25)=0,"",IF(MONTH(I25+1)=MONTH(I25),I25+1,"")),"") -> 45303 | M25: =IFERROR(IF(LEN(K25)=0,"",IF(MONTH(K25+1)=MONTH(K25),K25+1,"")),"") -> 45304 | O25: =IFERROR(IF(LEN(M25)=0,"",IF(MONTH(M25+1)=MONTH(M25),M25+1,"")),"") -> 45305
C27: {=IFERROR(INDEX(Calc!$O$11:$O$130,SMALL(IF((C$25=Calc!$N$11:$N$130)*(Calc!$CH$11:$CH$130),ROW(Calc!$O$11:$O$130)-ROW(INDEX(Calc!$O$11:$O$130,1,1))+1),Calc!$CJ17)),"")} | E27: {=IFERROR(INDEX(Calc!$O$11:$O$130,SMALL(IF((E$25=Calc!$N$11:$N$130)*(Calc!$CH$11:$CH$130),ROW(Calc!$O$11:$O$130)-ROW(INDEX(Calc!$O$11:$O$130,1,1))+1),Calc!$CJ17)),"")} | G27: {=IFERROR(INDEX(Calc!$O$11:$O$130,SMALL(IF((G$25=Calc!$N$11:$N$130)*(Calc!$CH$11:$CH$130),ROW(Calc!$O$11:$O$130)-ROW(INDEX(Calc!$O$11:$O$130,1,1))+1),Calc!$CJ17)),"")} | I27: {=IFERROR(INDEX(Calc!$O$11:$O$130,SMALL(IF((I$25=Calc!$N$11:$N$130)*(Calc!$CH$11:$CH$130),ROW(Calc!$O$11:$O$130)-ROW(INDEX(Calc!$O$11:$O$130,1,1))+1),Calc!$CJ17)),"")} | K27: {=IFERROR(INDEX(Calc!$O$11:$O$130,SMALL(IF((K$25=Calc!$N$11:$N$130)*(Calc!$CH$11:$CH$130),ROW(Calc!$O$11:$O$130)-ROW(INDEX(Calc!$O$11:$O$130,1,1))+1),Calc!$CJ17)),"")} | M27: {=IFERROR(INDEX(Calc!$O$11:$O$130,SMALL(IF((M$25=Calc!$N$11:$N$130)*(Calc!$CH$11:$CH$130),ROW(Calc!$O$11:$O$130)-ROW(INDEX(Calc!$O$11:$O$130,1,1))+1),Calc!$CJ17)),"")} | O27: {=IFERROR(INDEX(Calc!$O$11:$O$130,SMALL(IF((O$25=Calc!$N$11:$N$130)*(Calc!$CH$11:$CH$130),ROW(Calc!$O$11:$O$130)-ROW(INDEX(Calc!$O$11:$O$130,1,1))+1),Calc!$CJ17)),"")}
C28: {=IFERROR(INDEX(Calc!$O$11:$O$130,SMALL(IF((C$25=Calc!$N$11:$N$130)*(Calc!$CH$11:$CH$130),ROW(Calc!$O$11:$O$130)-ROW(INDEX(Calc!$O$11:$O$130,1,1))+1),Calc!$CJ18)),"")} | E28: {=IFERROR(INDEX(Calc!$O$11:$O$130,SMALL(IF((E$25=Calc!$N$11:$N$130)*(Calc!$CH$11:$CH$130),ROW(Calc!$O$11:$O$130)-ROW(INDEX(Calc!$O$11:$O$130,1,1))+1),Calc!$CJ18)),"")} | G28: {=IFERROR(INDEX(Calc!$O$11:$O$130,SMALL(IF((G$25=Calc!$N$11:$N$130)*(Calc!$CH$11:$CH$130),ROW(Calc!$O$11:$O$130)-ROW(INDEX(Calc!$O$11:$O$130,1,1))+1),Calc!$CJ18)),"")} | I28: {=IFERROR(INDEX(Calc!$O$11:$O$130,SMALL(IF((I$25=Calc!$N$11:$N$130)*(Calc!$CH$11:$CH$130),ROW(Calc!$O$11:$O$130)-ROW(INDEX(Calc!$O$11:$O$130,1,1))+1),Calc!$CJ18)),"")} | K28: {=IFERROR(INDEX(Calc!$O$11:$O$130,SMALL(IF((K$25=Calc!$N$11:$N$130)*(Calc!$CH$11:$CH$130),ROW(Calc!$O$11:$O$130)-ROW(INDEX(Calc!$O$11:$O$130,1,1))+1),Calc!$CJ18)),"")} | M28: {=IFERROR(INDEX(Calc!$O$11:$O$130,SMALL(IF((M$25=Calc!$N$11:$N$130)*(Calc!$CH$11:$CH$130),ROW(Calc!$O$11:$O$130)-ROW(INDEX(Calc!$O$11:$O$130,1,1))+1),Calc!$CJ18)),"")} | O28: {=IFERROR(INDEX(Calc!$O$11:$O$130,SMALL(IF((O$25=Calc!$N$11:$N$130)*(Calc!$CH$11:$CH$130),ROW(Calc!$O$11:$O$130)-ROW(INDEX(Calc!$O$11:$O$130,1,1))+1),Calc!$CJ18)),"")}
C29: {=IFERROR(INDEX(Calc!$O$11:$O$130,SMALL(IF((C$25=Calc!$N$11:$N$130)*(Calc!$CH$11:$CH$130),ROW(Calc!$O$11:$O$130)-ROW(INDEX(Calc!$O$11:$O$130,1,1))+1),Calc!$CJ19)),"")} | E29: {=IFERROR(INDEX(Calc!$O$11:$O$130,SMALL(IF((E$25=Calc!$N$11:$N$130)*(Calc!$CH$11:$CH$130),ROW(Calc!$O$11:$O$130)-ROW(INDEX(Calc!$O$11:$O$130,1,1))+1),Calc!$CJ19)),"")} | G29: {=IFERROR(INDEX(Calc!$O$11:$O$130,SMALL(IF((G$25=Calc!$N$11:$N$130)*(Calc!$CH$11:$CH$130),ROW(Calc!$O$11:$O$130)-ROW(INDEX(Calc!$O$11:$O$130,1,1))+1),Calc!$CJ19)),"")} | I29: {=IFERROR(INDEX(Calc!$O$11:$O$130,SMALL(IF((I$25=Calc!$N$11:$N$130)*(Calc!$CH$11:$CH$130),ROW(Calc!$O$11:$O$130)-ROW(INDEX(Calc!$O$11:$O$130,1,1))+1),Calc!$CJ19)),"")} | K29: {=IFERROR(INDEX(Calc!$O$11:$O$130,SMALL(IF((K$25=Calc!$N$11:$N$130)*(Calc!$CH$11:$CH$130),ROW(Calc!$O$11:$O$130)-ROW(INDEX(Calc!$O$11:$O$130,1,1))+1),Calc!$CJ19)),"")} | M29: {=IFERROR(INDEX(Calc!$O$11:$O$130,SMALL(IF((M$25=Calc!$N$11:$N$130)*(Calc!$CH$11:$CH$130),ROW(Calc!$O$11:$O$130)-ROW(INDEX(Calc!$O$11:$O$130,1,1))+1),Calc!$CJ19)),"")} | O29: {=IFERROR(INDEX(Calc!$O$11:$O$130,SMALL(IF((O$25=Calc!$N$11:$N$130)*(Calc!$CH$11:$CH$130),ROW(Calc!$O$11:$O$130)-ROW(INDEX(Calc!$O$11:$O$130,1,1))+1),Calc!$CJ19)),"")}
C30: {=IFERROR(INDEX(Calc!$O$11:$O$130,SMALL(IF((C$25=Calc!$N$11:$N$130)*(Calc!$CH$11:$CH$130),ROW(Calc!$O$11:$O$130)-ROW(INDEX(Calc!$O$11:$O$130,1,1))+1),Calc!$CJ20)),"")} | E30: {=IFERROR(INDEX(Calc!$O$11:$O$130,SMALL(IF((E$25=Calc!$N$11:$N$130)*(Calc!$CH$11:$CH$130),ROW(Calc!$O$11:$O$130)-ROW(INDEX(Calc!$O$11:$O$130,1,1))+1),Calc!$CJ20)),"")} | G30: {=IFERROR(INDEX(Calc!$O$11:$O$130,SMALL(IF((G$25=Calc!$N$11:$N$130)*(Calc!$CH$11:$CH$130),ROW(Calc!$O$11:$O$130)-ROW(INDEX(Calc!$O$11:$O$130,1,1))+1),Calc!$CJ20)),"")} | I30: {=IFERROR(INDEX(Calc!$O$11:$O$130,SMALL(IF((I$25=Calc!$N$11:$N$130)*(Calc!$CH$11:$CH$130),ROW(Calc!$O$11:$O$130)-ROW(INDEX(Calc!$O$11:$O$130,1,1))+1),Calc!$CJ20)),"")} | K30: {=IFERROR(INDEX(Calc!$O$11:$O$130,SMALL(IF((K$25=Calc!$N$11:$N$130)*(Calc!$CH$11:$CH$130),ROW(Calc!$O$11:$O$130)-ROW(INDEX(Calc!$O$11:$O$130,1,1))+1),Calc!$CJ20)),"")} | M30: {=IFERROR(INDEX(Calc!$O$11:$O$130,SMALL(IF((M$25=Calc!$N$11:$N$130)*(Calc!$CH$11:$CH$130),ROW(Calc!$O$11:$O$130)-ROW(INDEX(Calc!$O$11:$O$130,1,1))+1),Calc!$CJ20)),"")} | O30: {=IFERROR(INDEX(Calc!$O$11:$O$130,SMALL(IF((O$25=Calc!$N$11:$N$130)*(Calc!$CH$11:$CH$130),ROW(Calc!$O$11:$O$130)-ROW(INDEX(Calc!$O$11:$O$130,1,1))+1),Calc!$CJ20)),"")}
C31: {=IFERROR(INDEX(Calc!$O$11:$O$130,SMALL(IF((C$25=Calc!$N$11:$N$130)*(Calc!$CH$11:$CH$130),ROW(Calc!$O$11:$O$130)-ROW(INDEX(Calc!$O$11:$O$130,1,1))+1),Calc!$CJ21)),"")} | E31: {=IFERROR(INDEX(Calc!$O$11:$O$130,SMALL(IF((E$25=Calc!$N$11:$N$130)*(Calc!$CH$11:$CH$130),ROW(Calc!$O$11:$O$130)-ROW(INDEX(Calc!$O$11:$O$130,1,1))+1),Calc!$CJ21)),"")} | G31: {=IFERROR(INDEX(Calc!$O$11:$O$130,SMALL(IF((G$25=Calc!$N$11:$N$130)*(Calc!$CH$11:$CH$130),ROW(Calc!$O$11:$O$130)-ROW(INDEX(Calc!$O$11:$O$130,1,1))+1),Calc!$CJ21)),"")} | I31: {=IFERROR(INDEX(Calc!$O$11:$O$130,SMALL(IF((I$25=Calc!$N$11:$N$130)*(Calc!$CH$11:$CH$130),ROW(Calc!$O$11:$O$130)-ROW(INDEX(Calc!$O$11:$O$130,1,1))+1),Calc!$CJ21)),"")} | K31: {=IFERROR(INDEX(Calc!$O$11:$O$130,SMALL(IF((K$25=Calc!$N$11:$N$130)*(Calc!$CH$11:$CH$130),ROW(Calc!$O$11:$O$130)-ROW(INDEX(Calc!$O$11:$O$130,1,1))+1),Calc!$CJ21)),"")} | M31: {=IFERROR(INDEX(Calc!$O$11:$O$130,SMALL(IF((M$25=Calc!$N$11:$N$130)*(Calc!$CH$11:$CH$130),ROW(Calc!$O$11:$O$130)-ROW(INDEX(Calc!$O$11:$O$130,1,1))+1),Calc!$CJ21)),"")} | O31: {=IFERROR(INDEX(Calc!$O$11:$O$130,SMALL(IF((O$25=Calc!$N$11:$N$130)*(Calc!$CH$11:$CH$130),ROW(Calc!$O$11:$O$130)-ROW(INDEX(Calc!$O$11:$O$130,1,1))+1),Calc!$CJ21)),"")}
C32: {=IFERROR(INDEX(Calc!$O$11:$O$130,SMALL(IF((C$25=Calc!$N$11:$N$130)*(Calc!$CH$11:$CH$130),ROW(Calc!$O$11:$O$130)-ROW(INDEX(Calc!$O$11:$O$130,1,1))+1),Calc!$CJ22)),"")} | E32: {=IFERROR(INDEX(Calc!$O$11:$O$130,SMALL(IF((E$25=Calc!$N$11:$N$130)*(Calc!$CH$11:$CH$130),ROW(Calc!$O$11:$O$130)-ROW(INDEX(Calc!$O$11:$O$130,1,1))+1),Calc!$CJ22)),"")} | G32: {=IFERROR(INDEX(Calc!$O$11:$O$130,SMALL(IF((G$25=Calc!$N$11:$N$130)*(Calc!$CH$11:$CH$130),ROW(Calc!$O$11:$O$130)-ROW(INDEX(Calc!$O$11:$O$130,1,1))+1),Calc!$CJ22)),"")} | I32: {=IFERROR(INDEX(Calc!$O$11:$O$130,SMALL(IF((I$25=Calc!$N$11:$N$130)*(Calc!$CH$11:$CH$130),ROW(Calc!$O$11:$O$130)-ROW(INDEX(Calc!$O$11:$O$130,1,1))+1),Calc!$CJ22)),"")} | K32: {=IFERROR(INDEX(Calc!$O$11:$O$130,SMALL(IF((K$25=Calc!$N$11:$N$130)*(Calc!$CH$11:$CH$130),ROW(Calc!$O$11:$O$130)-ROW(INDEX(Calc!$O$11:$O$130,1,1))+1),Calc!$CJ22)),"")} | M32: {=IFERROR(INDEX(Calc!$O$11:$O$130,SMALL(IF((M$25=Calc!$N$11:$N$130)*(Calc!$CH$11:$CH$130),ROW(Calc!$O$11:$O$130)-ROW(INDEX(Calc!$O$11:$O$130,1,1))+1),Calc!$CJ22)),"")} | O32: {=IFERROR(INDEX(Calc!$O$11:$O$130,SMALL(IF((O$25=Calc!$N$11:$N$130)*(Calc!$CH$11:$CH$130),ROW(Calc!$O$11:$O$130)-ROW(INDEX(Calc!$O$11:$O$130,1,1))+1),Calc!$CJ22)),"")}
C33: {=IFERROR(INDEX(Calc!$O$11:$O$130,SMALL(IF((C$25=Calc!$N$11:$N$130)*(Calc!$CH$11:$CH$130),ROW(Calc!$O$11:$O$130)-ROW(INDEX(Calc!$O$11:$O$130,1,1))+1),Calc!$CJ23)),"")} | E33: {=IFERROR(INDEX(Calc!$O$11:$O$130,SMALL(IF((E$25=Calc!$N$11:$N$130)*(Calc!$CH$11:$CH$130),ROW(Calc!$O$11:$O$130)-ROW(INDEX(Calc!$O$11:$O$130,1,1))+1),Calc!$CJ23)),"")} | G33: {=IFERROR(INDEX(Calc!$O$11:$O$130,SMALL(IF((G$25=Calc!$N$11:$N$130)*(Calc!$CH$11:$CH$130),ROW(Calc!$O$11:$O$130)-ROW(INDEX(Calc!$O$11:$O$130,1,1))+1),Calc!$CJ23)),"")} | I33: {=IFERROR(INDEX(Calc!$O$11:$O$130,SMALL(IF((I$25=Calc!$N$11:$N$130)*(Calc!$CH$11:$CH$130),ROW(Calc!$O$11:$O$130)-ROW(INDEX(Calc!$O$11:$O$130,1,1))+1),Calc!$CJ23)),"")} | K33: {=IFERROR(INDEX(Calc!$O$11:$O$130,SMALL(IF((K$25=Calc!$N$11:$N$130)*(Calc!$CH$11:$CH$130),ROW(Calc!$O$11:$O$130)-ROW(INDEX(Calc!$O$11:$O$130,1,1))+1),Calc!$CJ23)),"")} | M33: {=IFERROR(INDEX(Calc!$O$11:$O$130,SMALL(IF((M$25=Calc!$N$11:$N$130)*(Calc!$CH$11:$CH$130),ROW(Calc!$O$11:$O$130)-ROW(INDEX(Calc!$O$11:$O$130,1,1))+1),Calc!$CJ23)),"")} | O33: {=IFERROR(INDEX(Calc!$O$11:$O$130,SMALL(IF((O$25=Calc!$N$11:$N$130)*(Calc!$CH$11:$CH$130),ROW(Calc!$O$11:$O$130)-ROW(INDEX(Calc!$O$11:$O$130,1,1))+1),Calc!$CJ23)),"")}
C34: {=IFERROR(INDEX(Calc!$O$11:$O$130,SMALL(IF((C$25=Calc!$N$11:$N$130)*(Calc!$CH$11:$CH$130),ROW(Calc!$O$11:$O$130)-ROW(INDEX(Calc!$O$11:$O$130,1,1))+1),Calc!$CJ24)),"")} | E34: {=IFERROR(INDEX(Calc!$O$11:$O$130,SMALL(IF((E$25=Calc!$N$11:$N$130)*(Calc!$CH$11:$CH$130),ROW(Calc!$O$11:$O$130)-ROW(INDEX(Calc!$O$11:$O$130,1,1))+1),Calc!$CJ24)),"")} | G34: {=IFERROR(INDEX(Calc!$O$11:$O$130,SMALL(IF((G$25=Calc!$N$11:$N$130)*(Calc!$CH$11:$CH$130),ROW(Calc!$O$11:$O$130)-ROW(INDEX(Calc!$O$11:$O$130,1,1))+1),Calc!$CJ24)),"")} | I34: {=IFERROR(INDEX(Calc!$O$11:$O$130,SMALL(IF((I$25=Calc!$N$11:$N$130)*(Calc!$CH$11:$CH$130),ROW(Calc!$O$11:$O$130)-ROW(INDEX(Calc!$O$11:$O$130,1,1))+1),Calc!$CJ24)),"")} | K34: {=IFERROR(INDEX(Calc!$O$11:$O$130,SMALL(IF((K$25=Calc!$N$11:$N$130)*(Calc!$CH$11:$CH$130),ROW(Calc!$O$11:$O$130)-ROW(INDEX(Calc!$O$11:$O$130,1,1))+1),Calc!$CJ24)),"")} | M34: {=IFERROR(INDEX(Calc!$O$11:$O$130,SMALL(IF((M$25=Calc!$N$11:$N$130)*(Calc!$CH$11:$CH$130),ROW(Calc!$O$11:$O$130)-ROW(INDEX(Calc!$O$11:$O$130,1,1))+1),Calc!$CJ24)),"")} | O34: {=IFERROR(INDEX(Calc!$O$11:$O$130,SMALL(IF((O$25=Calc!$N$11:$N$130)*(Calc!$CH$11:$CH$130),ROW(Calc!$O$11:$O$130)-ROW(INDEX(Calc!$O$11:$O$130,1,1))+1),Calc!$CJ24)),"")}
C35: {=IFERROR(INDEX(Calc!$O$11:$O$130,SMALL(IF((C$25=Calc!$N$11:$N$130)*(Calc!$CH$11:$CH$130),ROW(Calc!$O$11:$O$130)-ROW(INDEX(Calc!$O$11:$O$130,1,1))+1),Calc!$CJ25)),"")} | E35: {=IFERROR(INDEX(Calc!$O$11:$O$130,SMALL(IF((E$25=Calc!$N$11:$N$130)*(Calc!$CH$11:$CH$130),ROW(Calc!$O$11:$O$130)-ROW(INDEX(Calc!$O$11:$O$130,1,1))+1),Calc!$CJ25)),"")} | G35: {=IFERROR(INDEX(Calc!$O$11:$O$130,SMALL(IF((G$25=Calc!$N$11:$N$130)*(Calc!$CH$11:$CH$130),ROW(Calc!$O$11:$O$130)-ROW(INDEX(Calc!$O$11:$O$130,1,1))+1),Calc!$CJ25)),"")} | I35: {=IFERROR(INDEX(Calc!$O$11:$O$130,SMALL(IF((I$25=Calc!$N$11:$N$130)*(Calc!$CH$11:$CH$130),ROW(Calc!$O$11:$O$130)-ROW(INDEX(Calc!$O$11:$O$130,1,1))+1),Calc!$CJ25)),"")} | K35: {=IFERROR(INDEX(Calc!$O$11:$O$130,SMALL(IF((K$25=Calc!$N$11:$N$130)*(Calc!$CH$11:$CH$130),ROW(Calc!$O$11:$O$130)-ROW(INDEX(Calc!$O$11:$O$130,1,1))+1),Calc!$CJ25)),"")} | M35: {=IFERROR(INDEX(Calc!$O$11:$O$130,SMALL(IF((M$25=Calc!$N$11:$N$130)*(Calc!$CH$11:$CH$130),ROW(Calc!$O$11:$O$130)-ROW(INDEX(Calc!$O$11:$O$130,1,1))+1),Calc!$CJ25)),"")} | O35: {=IFERROR(INDEX(Calc!$O$11:$O$130,SMALL(IF((O$25=Calc!$N$11:$N$130)*(Calc!$CH$11:$CH$130),ROW(Calc!$O$11:$O$130)-ROW(INDEX(Calc!$O$11:$O$130,1,1))+1),Calc!$CJ25)),"")}
C36: {=IFERROR(INDEX(Calc!$O$11:$O$130,SMALL(IF((C$25=Calc!$N$11:$N$130)*(Calc!$CH$11:$CH$130),ROW(Calc!$O$11:$O$130)-ROW(INDEX(Calc!$O$11:$O$130,1,1))+1),Calc!$CJ26)),"")} | E36: {=IFERROR(INDEX(Calc!$O$11:$O$130,SMALL(IF((E$25=Calc!$N$11:$N$130)*(Calc!$CH$11:$CH$130),ROW(Calc!$O$11:$O$130)-ROW(INDEX(Calc!$O$11:$O$130,1,1))+1),Calc!$CJ26)),"")} | G36: {=IFERROR(INDEX(Calc!$O$11:$O$130,SMALL(IF((G$25=Calc!$N$11:$N$130)*(Calc!$CH$11:$CH$130),ROW(Calc!$O$11:$O$130)-ROW(INDEX(Calc!$O$11:$O$130,1,1))+1),Calc!$CJ26)),"")} | I36: {=IFERROR(INDEX(Calc!$O$11:$O$130,SMALL(IF((I$25=Calc!$N$11:$N$130)*(Calc!$CH$11:$CH$130),ROW(Calc!$O$11:$O$130)-ROW(INDEX(Calc!$O$11:$O$130,1,1))+1),Calc!$CJ26)),"")} | K36: {=IFERROR(INDEX(Calc!$O$11:$O$130,SMALL(IF((K$25=Calc!$N$11:$N$130)*(Calc!$CH$11:$CH$130),ROW(Calc!$O$11:$O$130)-ROW(INDEX(Calc!$O$11:$O$130,1,1))+1),Calc!$CJ26)),"")} | M36: {=IFERROR(INDEX(Calc!$O$11:$O$130,SMALL(IF((M$25=Calc!$N$11:$N$130)*(Calc!$CH$11:$CH$130),ROW(Calc!$O$11:$O$130)-ROW(INDEX(Calc!$O$11:$O$130,1,1))+1),Calc!$CJ26)),"")} | O36: {=IFERROR(INDEX(Calc!$O$11:$O$130,SMALL(IF((O$25=Calc!$N$11:$N$130)*(Calc!$CH$11:$CH$130),ROW(Calc!$O$11:$O$130)-ROW(INDEX(Calc!$O$11:$O$130,1,1))+1),Calc!$CJ26)),"")}
C38: =IFERROR(IF(LEN(O25)=0,"",IF(MONTH(O25+1)=MONTH(O25),O25+1,"")),"") -> 45306 | E38: =IFERROR(IF(LEN(C38)=0,"",IF(MONTH(C38+1)=MONTH(C38),C38+1,"")),"") -> 45307 | G38: =IFERROR(IF(LEN(E38)=0,"",IF(MONTH(E38+1)=MONTH(E38),E38+1,"")),"") -> 45308 | I38: =IFERROR(IF(LEN(G38)=0,"",IF(MONTH(G38+1)=MONTH(G38),G38+1,"")),"") -> 45309 | K38: =IFERROR(IF(LEN(I38)=0,"",IF(MONTH(I38+1)=MONTH(I38),I38+1,"")),"") -> 45310 | M38: =IFERROR(IF(LEN(K38)=0,"",IF(MONTH(K38+1)=MONTH(K38),K38+1,"")),"") -> 45311 | O38: =IFERROR(IF(LEN(M38)=0,"",IF(MONTH(M38+1)=MONTH(M38),M38+1,"")),"") -> 45312
C40: {=IFERROR(INDEX(Calc!$O$11:$O$130,SMALL(IF((C$38=Calc!$N$11:$N$130)*(Calc!$CH$11:$CH$130),ROW(Calc!$O$11:$O$130)-ROW(INDEX(Calc!$O$11:$O$130,1,1))+1),Calc!$CJ17)),"")} -> Subscriptions - $20 | E40: {=IFERROR(INDEX(Calc!$O$11:$O$130,SMALL(IF((E$38=Calc!$N$11:$N$130)*(Calc!$CH$11:$CH$130),ROW(Calc!$O$11:$O$130)-ROW(INDEX(Calc!$O$11:$O$130,1,1))+1),Calc!$CJ17)),"")} | G40: {=IFERROR(INDEX(Calc!$O$11:$O$130,SMALL(IF((G$38=Calc!$N$11:$N$130)*(Calc!$CH$11:$CH$130),ROW(Calc!$O$11:$O$130)-ROW(INDEX(Calc!$O$11:$O$130,1,1))+1),Calc!$CJ17)),"")} | I40: {=IFERROR(INDEX(Calc!$O$11:$O$130,SMALL(IF((I$38=Calc!$N$11:$N$130)*(Calc!$CH$11:$CH$130),ROW(Calc!$O$11:$O$130)-ROW(INDEX(Calc!$O$11:$O$130,1,1))+1),Calc!$CJ17)),"")} | K40: {=IFERROR(INDEX(Calc!$O$11:$O$130,SMALL(IF((K$38=Calc!$N$11:$N$130)*(Calc!$CH$11:$CH$130),ROW(Calc!$O$11:$O$130)-ROW(INDEX(Calc!$O$11:$O$130,1,1))+1),Calc!$CJ17)),"")} | M40: {=IFERROR(INDEX(Calc!$O$11:$O$130,SMALL(IF((M$38=Calc!$N$11:$N$130)*(Calc!$CH$11:$CH$130),ROW(Calc!$O$11:$O$130)-ROW(INDEX(Calc!$O$11:$O$130,1,1))+1),Calc!$CJ17)),"")} | O40: {=IFERROR(INDEX(Calc!$O$11:$O$130,SMALL(IF((O$38=Calc!$N$11:$N$130)*(Calc!$CH$11:$CH$130),ROW(Calc!$O$11:$O$130)-ROW(INDEX(Calc!$O$11:$O$130,1,1))+1),Calc!$CJ17)),"")}
C41: {=IFERROR(INDEX(Calc!$O$11:$O$130,SMALL(IF((C$38=Calc!$N$11:$N$130)*(Calc!$CH$11:$CH$130),ROW(Calc!$O$11:$O$130)-ROW(INDEX(Calc!$O$11:$O$130,1,1))+1),Calc!$CJ18)),"")} -> Subscriptions - $10 | E41: {=IFERROR(INDEX(Calc!$O$11:$O$130,SMALL(IF((E$38=Calc!$N$11:$N$130)*(Calc!$CH$11:$CH$130),ROW(Calc!$O$11:$O$130)-ROW(INDEX(Calc!$O$11:$O$130,1,1))+1),Calc!$CJ18)),"")} | G41: {=IFERROR(INDEX(Calc!$O$11:$O$130,SMALL(IF((G$38=Calc!$N$11:$N$130)*(Calc!$CH$11:$CH$130),ROW(Calc!$O$11:$O$130)-ROW(INDEX(Calc!$O$11:$O$130,1,1))+1),Calc!$CJ18)),"")} | I41: {=IFERROR(INDEX(Calc!$O$11:$O$130,SMALL(IF((I$38=Calc!$N$11:$N$130)*(Calc!$CH$11:$CH$130),ROW(Calc!$O$11:$O$130)-ROW(INDEX(Calc!$O$11:$O$130,1,1))+1),Calc!$CJ18)),"")} | K41: {=IFERROR(INDEX(Calc!$O$11:$O$130,SMALL(IF((K$38=Calc!$N$11:$N$130)*(Calc!$CH$11:$CH$130),ROW(Calc!$O$11:$O$130)-ROW(INDEX(Calc!$O$11:$O$130,1,1))+1),Calc!$CJ18)),"")} | M41: {=IFERROR(INDEX(Calc!$O$11:$O$130,SMALL(IF((M$38=Calc!$N$11:$N$130)*(Calc!$CH$11:$CH$130),ROW(Calc!$O$11:$O$130)-ROW(INDEX(Calc!$O$11:$O$130,1,1))+1),Calc!$CJ18)),"")} | O41: {=IFERROR(INDEX(Calc!$O$11:$O$130,SMALL(IF((O$38=Calc!$N$11:$N$130)*(Calc!$CH$11:$CH$130),ROW(Calc!$O$11:$O$130)-ROW(INDEX(Calc!$O$11:$O$130,1,1))+1),Calc!$CJ18)),"")}
C42: {=IFERROR(INDEX(Calc!$O$11:$O$130,SMALL(IF((C$38=Calc!$N$11:$N$130)*(Calc!$CH$11:$CH$130),ROW(Calc!$O$11:$O$130)-ROW(INDEX(Calc!$O$11:$O$130,1,1))+1),Calc!$CJ19)),"")} | E42: {=IFERROR(INDEX(Calc!$O$11:$O$130,SMALL(IF((E$38=Calc!$N$11:$N$130)*(Calc!$CH$11:$CH$130),ROW(Calc!$O$11:$O$130)-ROW(INDEX(Calc!$O$11:$O$130,1,1))+1),Calc!$CJ19)),"")} | G42: {=IFERROR(INDEX(Calc!$O$11:$O$130,SMALL(IF((G$38=Calc!$N$11:$N$130)*(Calc!$CH$11:$CH$130),ROW(Calc!$O$11:$O$130)-ROW(INDEX(Calc!$O$11:$O$130,1,1))+1),Calc!$CJ19)),"")} | I42: {=IFERROR(INDEX(Calc!$O$11:$O$130,SMALL(IF((I$38=Calc!$N$11:$N$130)*(Calc!$CH$11:$CH$130),ROW(Calc!$O$11:$O$130)-ROW(INDEX(Calc!$O$11:$O$130,1,1))+1),Calc!$CJ19)),"")} | K42: {=IFERROR(INDEX(Calc!$O$11:$O$130,SMALL(IF((K$38=Calc!$N$11:$N$130)*(Calc!$CH$11:$CH$130),ROW(Calc!$O$11:$O$130)-ROW(INDEX(Calc!$O$11:$O$130,1,1))+1),Calc!$CJ19)),"")} | M42: {=IFERROR(INDEX(Calc!$O$11:$O$130,SMALL(IF((M$38=Calc!$N$11:$N$130)*(Calc!$CH$11:$CH$130),ROW(Calc!$O$11:$O$130)-ROW(INDEX(Calc!$O$11:$O$130,1,1))+1),Calc!$CJ19)),"")} | O42: {=IFERROR(INDEX(Calc!$O$11:$O$130,SMALL(IF((O$38=Calc!$N$11:$N$130)*(Calc!$CH$11:$CH$130),ROW(Calc!$O$11:$O$130)-ROW(INDEX(Calc!$O$11:$O$130,1,1))+1),Calc!$CJ19)),"")}
C43: {=IFERROR(INDEX(Calc!$O$11:$O$130,SMALL(IF((C$38=Calc!$N$11:$N$130)*(Calc!$CH$11:$CH$130),ROW(Calc!$O$11:$O$130)-ROW(INDEX(Calc!$O$11:$O$130,1,1))+1),Calc!$CJ20)),"")} | E43: {=IFERROR(INDEX(Calc!$O$11:$O$130,SMALL(IF((E$38=Calc!$N$11:$N$130)*(Calc!$CH$11:$CH$130),ROW(Calc!$O$11:$O$130)-ROW(INDEX(Calc!$O$11:$O$130,1,1))+1),Calc!$CJ20)),"")} | G43: {=IFERROR(INDEX(Calc!$O$11:$O$130,SMALL(IF((G$38=Calc!$N$11:$N$130)*(Calc!$CH$11:$CH$130),ROW(Calc!$O$11:$O$130)-ROW(INDEX(Calc!$O$11:$O$130,1,1))+1),Calc!$CJ20)),"")} | I43: {=IFERROR(INDEX(Calc!$O$11:$O$130,SMALL(IF((I$38=Calc!$N$11:$N$130)*(Calc!$CH$11:$CH$130),ROW(Calc!$O$11:$O$130)-ROW(INDEX(Calc!$O$11:$O$130,1,1))+1),Calc!$CJ20)),"")} | K43: {=IFERROR(INDEX(Calc!$O$11:$O$130,SMALL(IF((K$38=Calc!$N$11:$N$130)*(Calc!$CH$11:$CH$130),ROW(Calc!$O$11:$O$130)-ROW(INDEX(Calc!$O$11:$O$130,1,1))+1),Calc!$CJ20)),"")} | M43: {=IFERROR(INDEX(Calc!$O$11:$O$130,SMALL(IF((M$38=Calc!$N$11:$N$130)*(Calc!$CH$11:$CH$130),ROW(Calc!$O$11:$O$130)-ROW(INDEX(Calc!$O$11:$O$130,1,1))+1),Calc!$CJ20)),"")} | O43: {=IFERROR(INDEX(Calc!$O$11:$O$130,SMALL(IF((O$38=Calc!$N$11:$N$130)*(Calc!$CH$11:$CH$130),ROW(Calc!$O$11:$O$130)-ROW(INDEX(Calc!$O$11:$O$130,1,1))+1),Calc!$CJ20)),"")}
C44: {=IFERROR(INDEX(Calc!$O$11:$O$130,SMALL(IF((C$38=Calc!$N$11:$N$130)*(Calc!$CH$11:$CH$130),ROW(Calc!$O$11:$O$130)-ROW(INDEX(Calc!$O$11:$O$130,1,1))+1),Calc!$CJ21)),"")} | E44: {=IFERROR(INDEX(Calc!$O$11:$O$130,SMALL(IF((E$38=Calc!$N$11:$N$130)*(Calc!$CH$11:$CH$130),ROW(Calc!$O$11:$O$130)-ROW(INDEX(Calc!$O$11:$O$130,1,1))+1),Calc!$CJ21)),"")} | G44: {=IFERROR(INDEX(Calc!$O$11:$O$130,SMALL(IF((G$38=Calc!$N$11:$N$130)*(Calc!$CH$11:$CH$130),ROW(Calc!$O$11:$O$130)-ROW(INDEX(Calc!$O$11:$O$130,1,1))+1),Calc!$CJ21)),"")} | I44: {=IFERROR(INDEX(Calc!$O$11:$O$130,SMALL(IF((I$38=Calc!$N$11:$N$130)*(Calc!$CH$11:$CH$130),ROW(Calc!$O$11:$O$130)-ROW(INDEX(Calc!$O$11:$O$130,1,1))+1),Calc!$CJ21)),"")} | K44: {=IFERROR(INDEX(Calc!$O$11:$O$130,SMALL(IF((K$38=Calc!$N$11:$N$130)*(Calc!$CH$11:$CH$130),ROW(Calc!$O$11:$O$130)-ROW(INDEX(Calc!$O$11:$O$130,1,1))+1),Calc!$CJ21)),"")} | M44: {=IFERROR(INDEX(Calc!$O$11:$O$130,SMALL(IF((M$38=Calc!$N$11:$N$130)*(Calc!$CH$11:$CH$130),ROW(Calc!$O$11:$O$130)-ROW(INDEX(Calc!$O$11:$O$130,1,1))+1),Calc!$CJ21)),"")} | O44: {=IFERROR(INDEX(Calc!$O$11:$O$130,SMALL(IF((O$38=Calc!$N$11:$N$130)*(Calc!$CH$11:$CH$130),ROW(Calc!$O$11:$O$130)-ROW(INDEX(Calc!$O$11:$O$130,1,1))+1),Calc!$CJ21)),"")}
C45: {=IFERROR(INDEX(Calc!$O$11:$O$130,SMALL(IF((C$38=Calc!$N$11:$N$130)*(Calc!$CH$11:$CH$130),ROW(Calc!$O$11:$O$130)-ROW(INDEX(Calc!$O$11:$O$130,1,1))+1),Calc!$CJ22)),"")} | E45: {=IFERROR(INDEX(Calc!$O$11:$O$130,SMALL(IF((E$38=Calc!$N$11:$N$130)*(Calc!$CH$11:$CH$130),ROW(Calc!$O$11:$O$130)-ROW(INDEX(Calc!$O$11:$O$130,1,1))+1),Calc!$CJ22)),"")} | G45: {=IFERROR(INDEX(Calc!$O$11:$O$130,SMALL(IF((G$38=Calc!$N$11:$N$130)*(Calc!$CH$11:$CH$130),ROW(Calc!$O$11:$O$130)-ROW(INDEX(Calc!$O$11:$O$130,1,1))+1),Calc!$CJ22)),"")} | I45: {=IFERROR(INDEX(Calc!$O$11:$O$130,SMALL(IF((I$38=Calc!$N$11:$N$130)*(Calc!$CH$11:$CH$130),ROW(Calc!$O$11:$O$130)-ROW(INDEX(Calc!$O$11:$O$130,1,1))+1),Calc!$CJ22)),"")} | K45: {=IFERROR(INDEX(Calc!$O$11:$O$130,SMALL(IF((K$38=Calc!$N$11:$N$130)*(Calc!$CH$11:$CH$130),ROW(Calc!$O$11:$O$130)-ROW(INDEX(Calc!$O$11:$O$130,1,1))+1),Calc!$CJ22)),"")} | M45: {=IFERROR(INDEX(Calc!$O$11:$O$130,SMALL(IF((M$38=Calc!$N$11:$N$130)*(Calc!$CH$11:$CH$130),ROW(Calc!$O$11:$O$130)-ROW(INDEX(Calc!$O$11:$O$130,1,1))+1),Calc!$CJ22)),"")} | O45: {=IFERROR(INDEX(Calc!$O$11:$O$130,SMALL(IF((O$38=Calc!$N$11:$N$130)*(Calc!$CH$11:$CH$130),ROW(Calc!$O$11:$O$130)-ROW(INDEX(Calc!$O$11:$O$130,1,1))+1),Calc!$CJ22)),"")}
C46: {=IFERROR(INDEX(Calc!$O$11:$O$130,SMALL(IF((C$38=Calc!$N$11:$N$130)*(Calc!$CH$11:$CH$130),ROW(Calc!$O$11:$O$130)-ROW(INDEX(Calc!$O$11:$O$130,1,1))+1),Calc!$CJ23)),"")} | E46: {=IFERROR(INDEX(Calc!$O$11:$O$130,SMALL(IF((E$38=Calc!$N$11:$N$130)*(Calc!$CH$11:$CH$130),ROW(Calc!$O$11:$O$130)-ROW(INDEX(Calc!$O$11:$O$130,1,1))+1),Calc!$CJ23)),"")} | G46: {=IFERROR(INDEX(Calc!$O$11:$O$130,SMALL(IF((G$38=Calc!$N$11:$N$130)*(Calc!$CH$11:$CH$130),ROW(Calc!$O$11:$O$130)-ROW(INDEX(Calc!$O$11:$O$130,1,1))+1),Calc!$CJ23)),"")} | I46: {=IFERROR(INDEX(Calc!$O$11:$O$130,SMALL(IF((I$38=Calc!$N$11:$N$130)*(Calc!$CH$11:$CH$130),ROW(Calc!$O$11:$O$130)-ROW(INDEX(Calc!$O$11:$O$130,1,1))+1),Calc!$CJ23)),"")} | K46: {=IFERROR(INDEX(Calc!$O$11:$O$130,SMALL(IF((K$38=Calc!$N$11:$N$130)*(Calc!$CH$11:$CH$130),ROW(Calc!$O$11:$O$130)-ROW(INDEX(Calc!$O$11:$O$130,1,1))+1),Calc!$CJ23)),"")} | M46: {=IFERROR(INDEX(Calc!$O$11:$O$130,SMALL(IF((M$38=Calc!$N$11:$N$130)*(Calc!$CH$11:$CH$130),ROW(Calc!$O$11:$O$130)-ROW(INDEX(Calc!$O$11:$O$130,1,1))+1),Calc!$CJ23)),"")} | O46: {=IFERROR(INDEX(Calc!$O$11:$O$130,SMALL(IF((O$38=Calc!$N$11:$N$130)*(Calc!$CH$11:$CH$130),ROW(Calc!$O$11:$O$130)-ROW(INDEX(Calc!$O$11:$O$130,1,1))+1),Calc!$CJ23)),"")}
C47: {=IFERROR(INDEX(Calc!$O$11:$O$130,SMALL(IF((C$38=Calc!$N$11:$N$130)*(Calc!$CH$11:$CH$130),ROW(Calc!$O$11:$O$130)-ROW(INDEX(Calc!$O$11:$O$130,1,1))+1),Calc!$CJ24)),"")} | E47: {=IFERROR(INDEX(Calc!$O$11:$O$130,SMALL(IF((E$38=Calc!$N$11:$N$130)*(Calc!$CH$11:$CH$130),ROW(Calc!$O$11:$O$130)-ROW(INDEX(Calc!$O$11:$O$130,1,1))+1),Calc!$CJ24)),"")} | G47: {=IFERROR(INDEX(Calc!$O$11:$O$130,SMALL(IF((G$38=Calc!$N$11:$N$130)*(Calc!$CH$11:$CH$130),ROW(Calc!$O$11:$O$130)-ROW(INDEX(Calc!$O$11:$O$130,1,1))+1),Calc!$CJ24)),"")} | I47: {=IFERROR(INDEX(Calc!$O$11:$O$130,SMALL(IF((I$38=Calc!$N$11:$N$130)*(Calc!$CH$11:$CH$130),ROW(Calc!$O$11:$O$130)-ROW(INDEX(Calc!$O$11:$O$130,1,1))+1),Calc!$CJ24)),"")} | K47: {=IFERROR(INDEX(Calc!$O$11:$O$130,SMALL(IF((K$38=Calc!$N$11:$N$130)*(Calc!$CH$11:$CH$130),ROW(Calc!$O$11:$O$130)-ROW(INDEX(Calc!$O$11:$O$130,1,1))+1),Calc!$CJ24)),"")} | M47: {=IFERROR(INDEX(Calc!$O$11:$O$130,SMALL(IF((M$38=Calc!$N$11:$N$130)*(Calc!$CH$11:$CH$130),ROW(Calc!$O$11:$O$130)-ROW(INDEX(Calc!$O$11:$O$130,1,1))+1),Calc!$CJ24)),"")} | O47: {=IFERROR(INDEX(Calc!$O$11:$O$130,SMALL(IF((O$38=Calc!$N$11:$N$130)*(Calc!$CH$11:$CH$130),ROW(Calc!$O$11:$O$130)-ROW(INDEX(Calc!$O$11:$O$130,1,1))+1),Calc!$CJ24)),"")}
C48: {=IFERROR(INDEX(Calc!$O$11:$O$130,SMALL(IF((C$38=Calc!$N$11:$N$130)*(Calc!$CH$11:$CH$130),ROW(Calc!$O$11:$O$130)-ROW(INDEX(Calc!$O$11:$O$130,1,1))+1),Calc!$CJ25)),"")} | E48: {=IFERROR(INDEX(Calc!$O$11:$O$130,SMALL(IF((E$38=Calc!$N$11:$N$130)*(Calc!$CH$11:$CH$130),ROW(Calc!$O$11:$O$130)-ROW(INDEX(Calc!$O$11:$O$130,1,1))+1),Calc!$CJ25)),"")} | G48: {=IFERROR(INDEX(Calc!$O$11:$O$130,SMALL(IF((G$38=Calc!$N$11:$N$130)*(Calc!$CH$11:$CH$130),ROW(Calc!$O$11:$O$130)-ROW(INDEX(Calc!$O$11:$O$130,1,1))+1),Calc!$CJ25)),"")} | I48: {=IFERROR(INDEX(Calc!$O$11:$O$130,SMALL(IF((I$38=Calc!$N$11:$N$130)*(Calc!$CH$11:$CH$130),ROW(Calc!$O$11:$O$130)-ROW(INDEX(Calc!$O$11:$O$130,1,1))+1),Calc!$CJ25)),"")} | K48: {=IFERROR(INDEX(Calc!$O$11:$O$130,SMALL(IF((K$38=Calc!$N$11:$N$130)*(Calc!$CH$11:$CH$130),ROW(Calc!$O$11:$O$130)-ROW(INDEX(Calc!$O$11:$O$130,1,1))+1),Calc!$CJ25)),"")} | M48: {=IFERROR(INDEX(Calc!$O$11:$O$130,SMALL(IF((M$38=Calc!$N$11:$N$130)*(Calc!$CH$11:$CH$130),ROW(Calc!$O$11:$O$130)-ROW(INDEX(Calc!$O$11:$O$130,1,1))+1),Calc!$CJ25)),"")} | O48: {=IFERROR(INDEX(Calc!$O$11:$O$130,SMALL(IF((O$38=Calc!$N$11:$N$130)*(Calc!$CH$11:$CH$130),ROW(Calc!$O$11:$O$130)-ROW(INDEX(Calc!$O$11:$O$130,1,1))+1),Calc!$CJ25)),"")}
C49: {=IFERROR(INDEX(Calc!$O$11:$O$130,SMALL(IF((C$38=Calc!$N$11:$N$130)*(Calc!$CH$11:$CH$130),ROW(Calc!$O$11:$O$130)-ROW(INDEX(Calc!$O$11:$O$130,1,1))+1),Calc!$CJ26)),"")} | E49: {=IFERROR(INDEX(Calc!$O$11:$O$130,SMALL(IF((E$38=Calc!$N$11:$N$130)*(Calc!$CH$11:$CH$130),ROW(Calc!$O$11:$O$130)-ROW(INDEX(Calc!$O$11:$O$130,1,1))+1),Calc!$CJ26)),"")} | G49: {=IFERROR(INDEX(Calc!$O$11:$O$130,SMALL(IF((G$38=Calc!$N$11:$N$130)*(Calc!$CH$11:$CH$130),ROW(Calc!$O$11:$O$130)-ROW(INDEX(Calc!$O$11:$O$130,1,1))+1),Calc!$CJ26)),"")} | I49: {=IFERROR(INDEX(Calc!$O$11:$O$130,SMALL(IF((I$38=Calc!$N$11:$N$130)*(Calc!$CH$11:$CH$130),ROW(Calc!$O$11:$O$130)-ROW(INDEX(Calc!$O$11:$O$130,1,1))+1),Calc!$CJ26)),"")} | K49: {=IFERROR(INDEX(Calc!$O$11:$O$130,SMALL(IF((K$38=Calc!$N$11:$N$130)*(Calc!$CH$11:$CH$130),ROW(Calc!$O$11:$O$130)-ROW(INDEX(Calc!$O$11:$O$130,1,1))+1),Calc!$CJ26)),"")} | M49: {=IFERROR(INDEX(Calc!$O$11:$O$130,SMALL(IF((M$38=Calc!$N$11:$N$130)*(Calc!$CH$11:$CH$130),ROW(Calc!$O$11:$O$130)-ROW(INDEX(Calc!$O$11:$O$130,1,1))+1),Calc!$CJ26)),"")} | O49: {=IFERROR(INDEX(Calc!$O$11:$O$130,SMALL(IF((O$38=Calc!$N$11:$N$130)*(Calc!$CH$11:$CH$130),ROW(Calc!$O$11:$O$130)-ROW(INDEX(Calc!$O$11:$O$130,1,1))+1),Calc!$CJ26)),"")}
C51: =IFERROR(IF(LEN(O38)=0,"",IF(MONTH(O38+1)=MONTH(O38),O38+1,"")),"") -> 45313 | E51: =IFERROR(IF(LEN(C51)=0,"",IF(MONTH(C51+1)=MONTH(C51),C51+1,"")),"") -> 45314 | G51: =IFERROR(IF(LEN(E51)=0,"",IF(MONTH(E51+1)=MONTH(E51),E51+1,"")),"") -> 45315 | I51: =IFERROR(IF(LEN(G51)=0,"",IF(MONTH(G51+1)=MONTH(G51),G51+1,"")),"") -> 45316 | K51: =IFERROR(IF(LEN(I51)=0,"",IF(MONTH(I51+1)=MONTH(I51),I51+1,"")),"") -> 45317 | M51: =IFERROR(IF(LEN(K51)=0,"",IF(MONTH(K51+1)=MONTH(K51),K51+1,"")),"") -> 45318 | O51: =IFERROR(IF(LEN(M51)=0,"",IF(MONTH(M51+1)=MONTH(M51),M51+1,"")),"") -> 45319
C53: {=IFERROR(INDEX(Calc!$O$11:$O$130,SMALL(IF((C$51=Calc!$N$11:$N$130)*(Calc!$CH$11:$CH$130),ROW(Calc!$O$11:$O$130)-ROW(INDEX(Calc!$O$11:$O$130,1,1))+1),Calc!$CJ17)),"")} | E53: {=IFERROR(INDEX(Calc!$O$11:$O$130,SMALL(IF((E$51=Calc!$N$11:$N$130)*(Calc!$CH$11:$CH$130),ROW(Calc!$O$11:$O$130)-ROW(INDEX(Calc!$O$11:$O$130,1,1))+1),Calc!$CJ17)),"")} | G53: {=IFERROR(INDEX(Calc!$O$11:$O$130,SMALL(IF((G$51=Calc!$N$11:$N$130)*(Calc!$CH$11:$CH$130),ROW(Calc!$O$11:$O$130)-ROW(INDEX(Calc!$O$11:$O$130,1,1))+1),Calc!$CJ17)),"")} | I53: {=IFERROR(INDEX(Calc!$O$11:$O$130,SMALL(IF((I$51=Calc!$N$11:$N$130)*(Calc!$CH$11:$CH$130),ROW(Calc!$O$11:$O$130)-ROW(INDEX(Calc!$O$11:$O$130,1,1))+1),Calc!$CJ17)),"")} | K53: {=IFERROR(INDEX(Calc!$O$11:$O$130,SMALL(IF((K$51=Calc!$N$11:$N$130)*(Calc!$CH$11:$CH$130),ROW(Calc!$O$11:$O$130)-ROW(INDEX(Calc!$O$11:$O$130,1,1))+1),Calc!$CJ17)),"")} | M53: {=IFERROR(INDEX(Calc!$O$11:$O$130,SMALL(IF((M$51=Calc!$N$11:$N$130)*(Calc!$CH$11:$CH$130),ROW(Calc!$O$11:$O$130)-ROW(INDEX(Calc!$O$11:$O$130,1,1))+1),Calc!$CJ17)),"")} | O53: {=IFERROR(INDEX(Calc!$O$11:$O$130,SMALL(IF((O$51=Calc!$N$11:$N$130)*(Calc!$CH$11:$CH$130),ROW(Calc!$O$11:$O$130)-ROW(INDEX(Calc!$O$11:$O$130,1,1))+1),Calc!$CJ17)),"")}
...

Sheet Dashboard
C2: MONTHLY BILL ORGANIZER
C3: DASHBOARD
C7: Month | D7: ALL | F7: Category | G7: ALL
C9: =IFERROR(IF(Menu!$I$13="","Total Bill Amount","Total Bill Amount (" & Menu!$I$13 & ")"),"") -> Total Bill Amount ($) | F9: =IFERROR(IF(Menu!$I$13="","Paid Bill Amount","Paid Bill Amount (" & Menu!$I$13 & ")"),"") -> Paid Bill Amount ($) | I9: =IFERROR(IF(Menu!$I$13="","Unpaid Bill Amount","Unpaid Bill Amount (" & Menu!$I$13 & ")"),"") -> Unpaid Bill Amount ($) | L9: =IFERROR(IF(Menu!$I$13="","Top 3 Expense Categories","Top 3 Expense Categories (" & Menu!$I$13 & ")"),"") -> Top 3 Expense Categories ($)
L10: 1 | M10: =Calc!DA11 -> Utilities | N10: =Calc!DB11 -> 2770.0001
C11: =Calc!CQ31 -> 3310 | F11: =Calc!CQ32 -> 2760 | I11: =Calc!CQ33 -> 550 | L11: 2 | M11: =Calc!DA12 -> Subscriptions | N11: =Calc!DB12 -> 540.00012
L12: 3 | M12: =Calc!DA13 -> Other | N12: =Calc!DB13 -> 0.00016

Sheet Calc
B3: BILLS | Q3: BILL TRACKER CALENDAR | CP3: GENERAL CALCULATIONS
Q5: First Month | AY5: Second Month
Q6: Month | R6: =INDEX(CP14:CP25,MATCH(Calendar!$E$7,CQ14:CQ25,0)) -> 1 | S6: Month Day | U6: =IFERROR(INDEX(CS14:CS25,R6),31) -> 31 | V6: Year | W6: =Calendar!E5 -> 2024 | AY6: Month | AZ6: =IFERROR(IF(R6=12,1,R6+1),"") -> 2 | BA6: Month Day | BC6: =IFERROR(INDEX(CS14:CS25,AZ6),31) -> 29 | BD6: Year | BE6: =IFERROR(IF(R6=12,W6+1,W6),"") -> 2024
R8: Date | S8: =IFERROR(DATE($W$6,$R$6,S10),"") -> 45292 | T8: =IFERROR(DATE($W$6,$R$6,T10),"") -> 45293 | U8: =IFERROR(DATE($W$6,$R$6,U10),"") -> 45294 | V8: =IFERROR(DATE($W$6,$R$6,V10),"") -> 45295 | W8: =IFERROR(DATE($W$6,$R$6,W10),"") -> 45296 | X8: =IFERROR(DATE($W$6,$R$6,X10),"") -> 45297 | Y8: =IFERROR(DATE($W$6,$R$6,Y10),"") -> 45298 | Z8: =IFERROR(DATE($W$6,$R$6,Z10),"") -> 45299 | ... AW8: =IFERROR(DATE($W$6,$R$6,AW10),"") -> 45322 | AY8: =IFERROR(DATE($BE$6,$AZ$6,AY10),"") -> 45323 | AZ8: =IFERROR(DATE($BE$6,$AZ$6,AZ10),"") -> 45324 | BA8: =IFERROR(DATE($BE$6,$AZ$6,BA10),"") -> 45325 | BB8: =IFERROR(DATE($BE$6,$AZ$6,BB10),"") -> 45326 | BC8: =IFERROR(DATE($BE$6,$AZ$6,BC10),"") -> 45327 | BD8: =IFERROR(DATE($BE$6,$AZ$6,BD10),"") -> 45328 | BE8: =IFERROR(DATE($BE$6,$AZ$6,BE10),"") -> 45329 | BF8: =IFERROR(DATE($BE$6,$AZ$6,BF10),"") -> 45330 | ... CC8: =IFERROR(DATE($BE$6,$AZ$6,CC10),"") -> 45353
B9: Heading Index | D9: =MATCH(Bills!B5,Bills!$B$5:$E$5,0) -> 1 | E9: 2 | F9: 3 | N9: Calculated Area | Q9: Heading # | R9: 1
B10: Row Index | C10: Empty Check | D10: Category | E10: Bill Name | F10: Payment Day | G10: Month | H10: Year | I10: Month-Year | J10: Amount | K10: Paid? | L10: Start Month | M10: Start Day | N10: Leave Start Date | O10: Calendar Combination | Q10: Row Index | R10: Bills | S10: 1 | T10: 2 | U10: 3 | V10: 4 | W10: 5 | X10: 6 | Y10: 7 | Z10: 8 | AA10: 9 | AB10: 10 | AC10: 11 | AD10: 12 | AE10: 13 | AF10: 14 | AG10: 15 | AH10: 16 | AI10: 17 | AJ10: 18 | AK10: 19 | AL10: 20 | AM10: 21 | AN10: 22 | AO10: 23 | AP10: 24 | AQ10: 25 | AR10: 26 | AS10: 27 | AT10: 28 | AU10: 29 | AV10: 30 | AW10: 31 | AY10: 1 | AZ10: 2 | BA10: 3 | BB10: 4 | BC10: 5 | BD10: 6 | BE10: 7 | BF10: 8 | BG10: 9 | BH10: 10 | BI10: 11 | BJ10: 12 | BK10: 13 | BL10: 14 | BM10: 15 | BN10: 16 | BO10: 17 | BP10: 18 | BQ10: 19 | BR10: 20 | BS10: 21 | BT10: 22 | BU10: 23 | BV10: 24 | BW10: 25 | BX10: 26 | BY10: 27 | BZ10: 28 | CA10: 29 | CB10: 30 | CC10: 31 | CE10: Month | CF10: Category | CG10: Total Filter | CH10: Category Calendar | CY10: Categories | CZ10: Amount | DA10: Top Categories | DB10: Top Categories | DC10: Top Amounts | DF10: Date Dropdowns | DK10: Categories | DM10: Dropdowns
B11: 1 | C11: =IFERROR(IF(INDEX(Bills!$C$6:$C$15,B11,1)="",0,1),"") -> 1 | D11: =IFERROR(IF($C11=1,INDEX(Bills!$B$6:$AB$15,$B11,D$9),""),"") -> Utilities | E11: =IFERROR(IF($C11=1,INDEX(Bills!$B$6:$AB$15,$B11,E$9),""),"") -> Electricity | F11: {=IFERROR(IF($C11=1, INDEX($DG$13:$DG$43, MATCH(INDEX(Bills!$B$6:$AB$15, $B11, F$9), $DF$13:$DF$43, 0)), ""), "")} -> 1 | G11: {=IFERROR(IF($C11=1,INDEX($CV$14:$CV$25,IF(MOD(ROW(A1),12)=0,12,MOD(ROW(A1),12)),1),""),"")} -> January | H11: {=IFERROR(IF($C11=1,YEAR(INDEX($CU$14:$CU$25,IF(MOD(ROW(A1),12)=0,12,MOD(ROW(A1),12)),1)),""),"")} -> 2024 | I11: {=IFERROR(IF($C11=1,INDEX($CW$14:$CW$25,IF(MOD(ROW(A1),12)=0,12,MOD(ROW(A1),12)),1),""),"")} -> Jan-2024 | J11: {=IFERROR(IF($C11=1,INDEX(Bills!$B$6:$AB$15,B11,MATCH(INDEX($CW$14:$CW$25,IF(MOD(ROW(A1),12)=0,12,MOD(ROW(A1),12)),1),Bills!$E$5:$AB$5,0)+3),""),"")} -> 120 | K11: {=IFERROR(IF($C11=1,IF(INDEX(Bills!$B$6:$AB$15,B11,MATCH(INDEX($CW$14:$CW$25,IF(MOD(ROW(A1),12)=0,12,MOD(ROW(A1),12)),1),Bills!$E$5:$AB$5,0)+4)=$DM$13,"Paid","Unpaid"),""),"")} -> Unpaid | L11: =IFERROR(IF($C11=1,INDEX($CP$14:$CQ$25,MATCH(G11,$CQ$14:$CQ$25,0),1),""),"") -> 1 | M11: =IFERROR(IF($C11=1,F11,""),"") -> 1 | N11: =IFERROR(DATE(H11,INDEX($CP$14:$CQ$25,MATCH(G11,$CQ$14:$CQ$25,0),1),F11),"") -> 45292 | O11: =IFERROR(IF(C11<>1,"",IF(Menu!$I$13="",IF(OR(Calendar!$I$7="",Calendar!$I$7=$CM$17),E11,IF(Calendar!$I$7=$CM$18,E11 & " - " &J11,D11 & " - " &J11)),IF(OR(Calendar!$I$7="",Calendar!$I$7=$CM$17),E11,IF(Calendar!$I$7=$CM$18,E11 & " - " &Menu!$I$13 &J11,D11 & " - " &Menu!$I$13 &J11)))),"") -> Utilities - $120 | Q11: 1 | R11: =IFERROR(IF(INDEX(Bills!$C$6:$C$105,$Q11,$R$9)="","",INDEX(Bills!$C$6:$C$105,$Q11,$R$9)),"") -> Electricity | S11: {=IFERROR(IF(LEN($R11)=0,"",INDEX($K$11:$K$130,SMALL(IF((S$8=$N$11:$N$130)*($E$11:$E$130=$R11)*($C$11:$C$130=1),ROW($K$11:$K$130)-ROW(INDEX($K$11:$K$130,1,1))+1),1))),"")} -> Unpaid | T11: {=IFERROR(IF(LEN($R11)=0,"",INDEX($K$11:$K$130,SMALL(IF((T$8=$N$11:$N$130)*($E$11:$E$130=$R11)*($C$11:$C$130=1),ROW($K$11:$K$130)-ROW(INDEX($K$11:$K$130,1,1))+1),1))),"")} | U11: {=IFERROR(IF(LEN($R11)=0,"",INDEX($K$11:$K$130,SMALL(IF((U$8=$N$11:$N$130)*($E$11:$E$130=$R11)*($C$11:$C$130=1),ROW($K$11:$K$130)-ROW(INDEX($K$11:$K$130,1,1))+1),1))),"")} | V11: {=IFERROR(IF(LEN($R11)=0,"",INDEX($K$11:$K$130,SMALL(IF((V$8=$N$11:$N$130)*($E$11:$E$130=$R11)*($C$11:$C$130=1),ROW($K$11:$K$130)-ROW(INDEX($K$11:$K$130,1,1))+1),1))),"")} | W11: {=IFERROR(IF(LEN($R11)=0,"",INDEX($K$11:$K$130,SMALL(IF((W$8=$N$11:$N$130)*($E$11:$E$130=$R11)*($C$11:$C$130=1),ROW($K$11:$K$130)-ROW(INDEX($K$11:$K$130,1,1))+1),1))),"")} | X11: {=IFERROR(IF(LEN($R11)=0,"",INDEX($K$11:$K$130,SMALL(IF((X$8=$N$11:$N$130)*($E$11:$E$130=$R11)*($C$11:$C$130=1),ROW($K$11:$K$130)-ROW(INDEX($K$11:$K$130,1,1))+1),1))),"")} | Y11: {=IFERROR(IF(LEN($R11)=0,"",INDEX($K$11:$K$130,SMALL(IF((Y$8=$N$11:$N$130)*($E$11:$E$130=$R11)*($C$11:$C$130=1),ROW($K$11:$K$130)-ROW(INDEX($K$11:$K$130,1,1))+1),1))),"")} | Z11: {=IFERROR(IF(LEN($R11)=0,"",INDEX($K$11:$K$130,SMALL(IF((Z$8=$N$11:$N$130)*($E$11:$E$130=$R11)*($C$11:$C$130=1),ROW($K$11:$K$130)-ROW(INDEX($K$11:$K$130,1,1))+1),1))),"")} | ... AW11: {=IFERROR(IF(LEN($R11)=0,"",INDEX($K$11:$K$130,SMALL(IF((AW$8=$N$11:$N$130)*($E$11:$E$130=$R11)*($C$11:$C$130=1),ROW($K$11:$K$130)-ROW(INDEX($K$11:$K$130,1,1))+1),1))),"")} | AY11: {=IFERROR(IF(LEN($R11)=0,"",INDEX($K$11:$K$130,SMALL(IF((AY$8=$N$11:$N$130)*($E$11:$E$130=$R11)*($C$11:$C$130=1),ROW($K$11:$K$130)-ROW(INDEX($K$11:$K$130,1,1))+1),1))),"")} -> Paid | AZ11: {=IFERROR(IF(LEN($R11)=0,"",INDEX($K$11:$K$130,SMALL(IF((AZ$8=$N$11:$N$130)*($E$11:$E$130=$R11)*($C$11:$C$130=1),ROW($K$11:$K$130)-ROW(INDEX($K$11:$K$130,1,1))+1),1))),"")} | BA11: {=IFERROR(IF(LEN($R11)=0,"",INDEX($K$11:$K$130,SMALL(IF((BA$8=$N$11:$N$130)*($E$11:$E$130=$R11)*($C$11:$C$130=1),ROW($K$11:$K$130)-ROW(INDEX($K$11:$K$130,1,1))+1),1))),"")} | BB11: {=IFERROR(IF(LEN($R11)=0,"",INDEX($K$11:$K$130,SMALL(IF((BB$8=$N$11:$N$130)*($E$11:$E$130=$R11)*($C$11:$C$130=1),ROW($K$11:$K$130)-ROW(INDEX($K$11:$K$130,1,1))+1),1))),"")} | BC11: {=IFERROR(IF(LEN($R11)=0,"",INDEX($K$11:$K$130,SMALL(IF((BC$8=$N$11:$N$130)*($E$11:$E$130=$R11)*($C$11:$C$130=1),ROW($K$11:$K$130)-ROW(INDEX($K$11:$K$130,1,1))+1),1))),"")} | BD11: {=IFERROR(IF(LEN($R11)=0,"",INDEX($K$11:$K$130,SMALL(IF((BD$8=$N$11:$N$130)*($E$11:$E$130=$R11)*($C$11:$C$130=1),ROW($K$11:$K$130)-ROW(INDEX($K$11:$K$130,1,1))+1),1))),"")} | BE11: {=IFERROR(IF(LEN($R11)=0,"",INDEX($K$11:$K$130,SMALL(IF((BE$8=$N$11:$N$130)*($E$11:$E$130=$R11)*($C$11:$C$130=1),ROW($K$11:$K$130)-ROW(INDEX($K$11:$K$130,1,1))+1),1))),"")} | BF11: {=IFERROR(IF(LEN($R11)=0,"",INDEX($K$11:$K$130,SMALL(IF((BF$8=$N$11:$N$130)*($E$11:$E$130=$R11)*($C$11:$C$130=1),ROW($K$11:$K$130)-ROW(INDEX($K$11:$K$130,1,1))+1),1))),"")} | ... CC11: {=IFERROR(IF(LEN($R11)=0,"",INDEX($K$11:$K$130,SMALL(IF((CC$8=$N$11:$N$130)*($E$11:$E$130=$R11)*($C$11:$C$130=1),ROW($K$11:$K$130)-ROW(INDEX($K$11:$K$130,1,1))+1),1))),"")} | CE11: =IF(OR(Dashboard!$D$7="",Dashboard!$D$7="ALL"),1,IF(Dashboard!$D$7=I11,1,0)) -> 1 | CF11: =IF(OR(Dashboard!$G$7="",Dashboard!$G$7="ALL"),1,IF(Dashboard!$G$7=Calc!D11,1,0)) -> 1 | CG11: =IFERROR(CE11*CF11,0) -> 1 | CH11: =IF(OR(Calendar!$I$5="",Calendar!$I$5="ALL"),1,IF(Calendar!$I$5=Calc!D11,1,0)) -> 1 | CY11: =IF(Menu!G10="","",Menu!G10) -> Utilities | CZ11: =IFERROR(IF(CY11="","",SUMIFS($J$11:$J$130,$CE$11:$CE$130,1,$D$11:$D$130,CY11)),"") -> 2770 | DA11: =INDEX($CY$11:$CY$25, MATCH(DB11, $DC$11:$DC$25, 0)) -> Utilities | DB11: =LARGE($DC$11:$DC$25,1) -> 2770.0001 | DC11: =IFERROR(CZ11 + ROW() / 100000,"") -> 2770.0001
B12: 1 | C12: =IFERROR(IF(INDEX(Bills!$C$6:$C$15,B12,1)="",0,1),"") -> 1 | D12: =IFERROR(IF($C12=1,INDEX(Bills!$B$6:$AB$15,$B12,D$9),""),"") -> Utilities | E12: =IFERROR(IF($C12=1,INDEX(Bills!$B$6:$AB$15,$B12,E$9),""),"") -> Electricity | F12: {=IFERROR(IF($C12=1, INDEX($DG$13:$DG$43, MATCH(INDEX(Bills!$B$6:$AB$15, $B12, F$9), $DF$13:$DF$43, 0)), ""), "")} -> 1 | G12: {=IFERROR(IF($C12=1,INDEX($CV$14:$CV$25,IF(MOD(ROW(A2),12)=0,12,MOD(ROW(A2),12)),1),""),"")} -> February | H12: {=IFERROR(IF($C12=1,YEAR(INDEX($CU$14:$CU$25,IF(MOD(ROW(A2),12)=0,12,MOD(ROW(A2),12)),1)),""),"")} -> 2024 | I12: {=IFERROR(IF($C12=1,INDEX($CW$14:$CW$25,IF(MOD(ROW(A2),12)=0,12,MOD(ROW(A2),12)),1),""),"")} -> Feb-2024 | J12: {=IFERROR(IF($C12=1,INDEX(Bills!$B$6:$AB$15,B12,MATCH(INDEX($CW$14:$CW$25,IF(MOD(ROW(A2),12)=0,12,MOD(ROW(A2),12)),1),Bills!$E$5:$AB$5,0)+3),""),"")} -> 120 | K12: {=IFERROR(IF($C12=1,IF(INDEX(Bills!$B$6:$AB$15,B12,MATCH(INDEX($CW$14:$CW$25,IF(MOD(ROW(A2),12)=0,12,MOD(ROW(A2),12)),1),Bills!$E$5:$AB$5,0)+4)=$DM$13,"Paid","Unpaid"),""),"")} -> Paid | L12: =IFERROR(IF($C12=1,INDEX($CP$14:$CQ$25,MATCH(G12,$CQ$14:$CQ$25,0),1),""),"") -> 2 | M12: =IFERROR(IF($C12=1,F12,""),"") -> 1 | N12: =IFERROR(DATE(H12,INDEX($CP$14:$CQ$25,MATCH(G12,$CQ$14:$CQ$25,0),1),F12),"") -> 45323 | O12: =IFERROR(IF(C12<>1,"",IF(Menu!$I$13="",IF(OR(Calendar!$I$7="",Calendar!$I$7=$CM$17),E12,IF(Calendar!$I$7=$CM$18,E12 & " - " &J12,D12 & " - " &J12)),IF(OR(Calendar!$I$7="",Calendar!$I$7=$CM$17),E12,IF(Calendar!$I$7=$CM$18,E12 & " - " &Menu!$I$13 &J12,D12 & " - " &Menu!$I$13 &J12)))),"") -> Utilities - $120 | Q12: 2 | R12: =IFERROR(IF(INDEX(Bills!$C$6:$C$105,$Q12,$R$9)="","",INDEX(Bills!$C$6:$C$105,$Q12,$R$9)),"") -> Water | S12: {=IFERROR(IF(LEN($R12)=0,"",INDEX($K$11:$K$130,SMALL(IF((S$8=$N$11:$N$130)*($E$11:$E$130=$R12)*($C$11:$C$130=1),ROW($K$11:$K$130)-ROW(INDEX($K$11:$K$130,1,1))+1),1))),"")} | T12: {=IFERROR(IF(LEN($R12)=0,"",INDEX($K$11:$K$130,SMALL(IF((T$8=$N$11:$N$130)*($E$11:$E$130=$R12)*($C$11:$C$130=1),ROW($K$11:$K$130)-ROW(INDEX($K$11:$K$130,1,1))+1),1))),"")} | U12: {=IFERROR(IF(LEN($R12)=0,"",INDEX($K$11:$K$130,SMALL(IF((U$8=$N$11:$N$130)*($E$11:$E$130=$R12)*($C$11:$C$130=1),ROW($K$11:$K$130)-ROW(INDEX($K$11:$K$130,1,1))+1),1))),"")} | V12: {=IFERROR(IF(LEN($R12)=0,"",INDEX($K$11:$K$130,SMALL(IF((V$8=$N$11:$N$130)*($E$11:$E$130=$R12)*($C$11:$C$130=1),ROW($K$11:$K$130)-ROW(INDEX($K$11:$K$130,1,1))+1),1))),"")} | W12: {=IFERROR(IF(LEN($R12)=0,"",INDEX($K$11:$K$130,SMALL(IF((W$8=$N$11:$N$130)*($E$11:$E$130=$R12)*($C$11:$C$130=1),ROW($K$11:$K$130)-ROW(INDEX($K$11:$K$130,1,1))+1),1))),"")} -> Paid | X12: {=IFERROR(IF(LEN($R12)=0,"",INDEX($K$11:$K$130,SMALL(IF((X$8=$N$11:$N$130)*($E$11:$E$130=$R12)*($C$11:$C$130=1),ROW($K$11:$K$130)-ROW(INDEX($K$11:$K$130,1,1))+1),1))),"")} | Y12: {=IFERROR(IF(LEN($R12)=0,"",INDEX($K$11:$K$130,SMALL(IF((Y$8=$N$11:$N$130)*($E$11:$E$130=$R12)*($C$11:$C$130=1),ROW($K$11:$K$130)-ROW(INDEX($K$11:$K$130,1,1))+1),1))),"")} | Z12: {=IFERROR(IF(LEN($R12)=0,"",INDEX($K$11:$K$130,SMALL(IF((Z$8=$N$11:$N$130)*($E$11:$E$130=$R12)*($C$11:$C$130=1),ROW($K$11:$K$130)-ROW(INDEX($K$11:$K$130,1,1))+1),1))),"")} | ... AW12: {=IFERROR(IF(LEN($R12)=0,"",INDEX($K$11:$K$130,SMALL(IF((AW$8=$N$11:$N$130)*($E$11:$E$130=$R12)*($C$11:$C$130=1),ROW($K$11:$K$130)-ROW(INDEX($K$11:$K$130,1,1))+1),1))),"")} | AY12: {=IFERROR(IF(LEN($R12)=0,"",INDEX($K$11:$K$130,SMALL(IF((AY$8=$N$11:$N$130)*($E$11:$E$130=$R12)*($C$11:$C$130=1),ROW($K$11:$K$130)-ROW(INDEX($K$11:$K$130,1,1))+1),1))),"")} | AZ12: {=IFERROR(IF(LEN($R12)=0,"",INDEX($K$11:$K$130,SMALL(IF((AZ$8=$N$11:$N$130)*($E$11:$E$130=$R12)*($C$11:$C$130=1),ROW($K$11:$K$130)-ROW(INDEX($K$11:$K$130,1,1))+1),1))),"")} | BA12: {=IFERROR(IF(LEN($R12)=0,"",INDEX($K$11:$K$130,SMALL(IF((BA$8=$N$11:$N$130)*($E$11:$E$130=$R12)*($C$11:$C$130=1),ROW($K$11:$K$130)-ROW(INDEX($K$11:$K$130,1,1))+1),1))),"")} | BB12: {=IFERROR(IF(LEN($R12)=0,"",INDEX($K$11:$K$130,SMALL(IF((BB$8=$N$11:$N$130)*($E$11:$E$130=$R12)*($C$11:$C$130=1),ROW($K$11:$K$130)-ROW(INDEX($K$11:$K$130,1,1))+1),1))),"")} | BC12: {=IFERROR(IF(LEN($R12)=0,"",INDEX($K$11:$K$130,SMALL(IF((BC$8=$N$11:$N$130)*($E$11:$E$130=$R12)*($C$11:$C$130=1),ROW($K$11:$K$130)-ROW(INDEX($K$11:$K$130,1,1))+1),1))),"")} -> Paid | BD12: {=IFERROR(IF(LEN($R12)=0,"",INDEX($K$11:$K$130,SMALL(IF((BD$8=$N$11:$N$130)*($E$11:$E$130=$R12)*($C$11:$C$130=1),ROW($K$11:$K$130)-ROW(INDEX($K$11:$K$130,1,1))+1),1))),"")} | BE12: {=IFERROR(IF(LEN($R12)=0,"",INDEX($K$11:$K$130,SMALL(IF((BE$8=$N$11:$N$130)*($E$11:$E$130=$R12)*($C$11:$C$130=1),ROW($K$11:$K$130)-ROW(INDEX($K$11:$K$130,1,1))+1),1))),"")} | BF12: {=IFERROR(IF(LEN($R12)=0,"",INDEX($K$11:$K$130,SMALL(IF((BF$8=$N$11:$N$130)*($E$11:$E$130=$R12)*($C$11:$C$130=1),ROW($K$11:$K$130)-ROW(INDEX($K$11:$K$130,1,1))+1),1))),"")} | ... CC12: {=IFERROR(IF(LEN($R12)=0,"",INDEX($K$11:$K$130,SMALL(IF((CC$8=$N$11:$N$130)*($E$11:$E$130=$R12)*($C$11:$C$130=1),ROW($K$11:$K$130)-ROW(INDEX($K$11:$K$130,1,1))+1),1))),"")} | CE12: =IF(OR(Dashboard!$D$7="",Dashboard!$D$7="ALL"),1,IF(Dashboard!$D$7=I12,1,0)) -> 1 | CF12: =IF(OR(Dashboard!$G$7="",Dashboard!$G$7="ALL"),1,IF(Dashboard!$G$7=Calc!D12,1,0)) -> 1 | CG12: =IFERROR(CE12*CF12,0) -> 1 | CH12: =IF(OR(Calendar!$I$5="",Calendar!$I$5="ALL"),1,IF(Calendar!$I$5=Calc!D12,1,0)) -> 1 | CJ12: Year 1 | CK12: =IFERROR(Calendar!E5,"") -> 2024 | CM12: Year 2 | CN12: =IFERROR(IF(CK13=12,CK12+1,CK12),"") -> 2024 | CP12: Months | CT12: Month Abb. | CU12: Day | CV12: Month | CW12: Year & Mont | CY12: =IF(Menu!G11="","",Menu!G11) -> Subscriptions | CZ12: =IFERROR(IF(CY12="","",SUMIFS($J$11:$J$130,$CE$11:$CE$130,1,$D$11:$D$130,CY12)),"") -> 540 | DA12: =INDEX($CY$11:$CY$25, MATCH(DB12, $DC$11:$DC$25, 0)) -> Subscriptions | DB12: =LARGE($DC$11:$DC$25,2) -> 540.00012 | DC12: =IFERROR(CZ12 + ROW() / 100000,"") -> 540.00012 | DG12: Day | DH12: Month | DI12: Year | DK12: ALL | DM12: Paid
