Workbook
Name DebtChartValues: OFFSET(Calc!$Y$8,0,0,MAX(Calc!$I$16,1),1)
Name DebtEbitdaMultiple: OFFSET(Calc!$Z$8,0,0,MAX(Calc!$I$16,1),1)
Name FreeCash: OFFSET(Calc!$AA$8,0,0,MAX(Calc!$I$16,1),1)
Name InterestPayment: OFFSET(Calc!$AC$8,0,0,MAX(Calc!$I$16,1),1)
Name PrincipalPayment: OFFSET(Calc!$AB$8,0,0,MAX(Calc!$I$16,1),1)
Name TotalPayment: OFFSET(Calc!$AD$8,0,0,MAX(Calc!$I$16,1),1)
Name Years: OFFSET(Calc!$X$8,0,0,MAX(Calc!$I$16,1),1)

Sheet LBO
C2: LBO MODEL TEMPLATE
C3: LEVERAGED BUYOUT MODEL
C7: ASSUMPTIONS
C9: TRANSACTION ASSUMPTIONS | F9: OPERATIONAL ASSUMPTIONS | J9: DEBT ASSUMPTIONS
C10: LBO Target Name | D10: Daffy Duck Co. | F10: Revenue LTM* | H10: 100000 | J10: Debt Amount* | L10: 40000
C11: Transaction Year | D11: 2022 | F11: EBIDTA Margin | H11: 0.1 | J11: Interest Rate | L11: 0.07
C12: Entry Multiple (x) | D12: 10 | F12: Annual Revenue Growth | H12: 0.1 | J12: Mandatory Annual Payment? | L12: Yes
C13: Transaction Fees* | D13: 4000 | F13: D&A % of Revenue | H13: 0.02 | J13: If Yes, Amortization Term | L13: 10 Years
C14: Targeted Exit Multiple (x) | D14: 10 | F14: CAPEX % of Revenue | H14: 0.02 | J14: Prepayment Allowed? | L14: Yes
C15: Investment Period | D15: 5 Years | F15: Change in NWC % of Revenue | H15: 0.005
F16: Tax rate | H16: 0.2 | J16: * Currency | L16: USD (000's)
C20: LBO REPORT
C22: Purchase Value | D22: =IFERROR(Calc!I12,"") -> 100000
C24: Entry Equity | D24: =IFERROR(Calc!I9,"") -> 64000
C26: Sale Value | D26: =IFERROR(Calc!L18,"") -> 161051
C28: Exit Equity | D28: =IFERROR(Calc!L19,"") -> 152382.62
C30: MoIC
C31: =IFERROR(Calc!L20,"") -> 2.3809785
C33: IRR
C34: =IFERROR(Calc!L21,"") -> 0.18946343
C48: CASH FLOW & PAYMENT SCHEDULE DETAILS
C50: FREE CASH FLOW PROJECTIONS
D52: =IFERROR(INDEX(Calc!$F$7:$F$17,COLUMN()-COLUMN(LBO!$C$52)),"") -> 2022A | E52: =IFERROR(INDEX(Calc!$F$7:$F$17,COLUMN()-COLUMN(LBO!$C$52)),"") -> 2023E | F52: =IFERROR(INDEX(Calc!$F$7:$F$17,COLUMN()-COLUMN(LBO!$C$52)),"") -> 2024E | G52: =IFERROR(INDEX(Calc!$F$7:$F$17,COLUMN()-COLUMN(LBO!$C$52)),"") -> 2025E | H52: =IFERROR(INDEX(Calc!$F$7:$F$17,COLUMN()-COLUMN(LBO!$C$52)),"") -> 2026E | I52: =IFERROR(INDEX(Calc!$F$7:$F$17,COLUMN()-COLUMN(LBO!$C$52)),"") -> 2027E | J52: =IFERROR(INDEX(Calc!$F$7:$F$17,COLUMN()-COLUMN(LBO!$C$52)),"") -> 2028E | K52: =IFERROR(INDEX(Calc!$F$7:$F$17,COLUMN()-COLUMN(LBO!$C$52)),"") -> 2029E | ... N52: =IFERROR(INDEX(Calc!$F$7:$F$17,COLUMN()-COLUMN(LBO!$C$52)),"") -> 2032E
C53: REVENUE | D53: =IFERROR(H10,0) -> 100000 | E53: =IFERROR(D53*(1+LBO!$H$12),0) -> 110000 | F53: =IFERROR(E53*(1+LBO!$H$12),0) -> 121000 | G53: =IFERROR(F53*(1+LBO!$H$12),0) -> 133100 | H53: =IFERROR(G53*(1+LBO!$H$12),0) -> 146410 | I53: =IFERROR(H53*(1+LBO!$H$12),0) -> 161051 | J53: =IFERROR(I53*(1+LBO!$H$12),0) -> 177156.1 | K53: =IFERROR(J53*(1+LBO!$H$12),0) -> 194871.71 | L53: =IFERROR(K53*(1+LBO!$H$12),0) -> 214358.88 | ... N53: =IFERROR(M53*(1+LBO!$H$12),0) -> 259374.25
C54: EBITDA | D54: =IFERROR(D53*LBO!$H$11,0) -> 10000 | E54: =IFERROR(E53*LBO!$H$11,0) -> 11000 | F54: =IFERROR(F53*LBO!$H$11,0) -> 12100 | G54: =IFERROR(G53*LBO!$H$11,0) -> 13310 | H54: =IFERROR(H53*LBO!$H$11,0) -> 14641 | I54: =IFERROR(I53*LBO!$H$11,0) -> 16105.1 | J54: =IFERROR(J53*LBO!$H$11,0) -> 17715.61 | K54: =IFERROR(K53*LBO!$H$11,0) -> 19487.171 | ... N54: =IFERROR(N53*LBO!$H$11,0) -> 25937.425
C55: (D&A) | E55: =IFERROR(E53*LBO!$H$13,0) -> 2200 | F55: =IFERROR(F53*LBO!$H$13,0) -> 2420 | G55: =IFERROR(G53*LBO!$H$13,0) -> 2662 | H55: =IFERROR(H53*LBO!$H$13,0) -> 2928.2 | I55: =IFERROR(I53*LBO!$H$13,0) -> 3221.02 | J55: =IFERROR(J53*LBO!$H$13,0) -> 3543.122 | K55: =IFERROR(K53*LBO!$H$13,0) -> 3897.4342 | L55: =IFERROR(L53*LBO!$H$13,0) -> 4287.1776 | ... N55: =IFERROR(N53*LBO!$H$13,0) -> 5187.4849
C56: EBIT | E56: =IFERROR(E54-E55,0) -> 8800 | F56: =IFERROR(F54-F55,0) -> 9680 | G56: =IFERROR(G54-G55,0) -> 10648 | H56: =IFERROR(H54-H55,0) -> 11712.8 | I56: =IFERROR(I54-I55,0) -> 12884.08 | J56: =IFERROR(J54-J55,0) -> 14172.488 | K56: =IFERROR(K54-K55,0) -> 15589.737 | L56: =IFERROR(L54-L55,0) -> 17148.71 | ... N56: =IFERROR(N54-N55,0) -> 20749.94
C57: (Interest) | E57: =IFERROR(E69*LBO!$L$11,0) -> 2800 | F57: =IFERROR(F69*LBO!$L$11,0) -> 2502.5 | G57: =IFERROR(G69*LBO!$L$11,0) -> 2142.91 | H57: =IFERROR(H69*LBO!$L$11,0) -> 1713.21 | I57: =IFERROR(I69*LBO!$L$11,0) -> 1204.4764 | J57: =IFERROR(J69*LBO!$L$11,0) -> 606.78647 | K57: =IFERROR(K69*LBO!$L$11,0) -> 0 | L57: =IFERROR(L69*LBO!$L$11,0) -> 0 | ... N57: =IFERROR(N69*LBO!$L$11,0) -> 0
C58: EBT | E58: =IFERROR(E56-E57,0) -> 6000 | F58: =IFERROR(F56-F57,0) -> 7177.5 | G58: =IFERROR(G56-G57,0) -> 8505.09 | H58: =IFERROR(H56-H57,0) -> 9999.59 | I58: =IFERROR(I56-I57,0) -> 11679.604 | J58: =IFERROR(J56-J57,0) -> 13565.702 | K58: =IFERROR(K56-K57,0) -> 15589.737 | L58: =IFERROR(L56-L57,0) -> 17148.71 | ... N58: =IFERROR(N56-N57,0) -> 20749.94
C59: (Taxes) | E59: =IFERROR(E58*LBO!$H$16,0) -> 1200 | F59: =IFERROR(F58*LBO!$H$16,0) -> 1435.5 | G59: =IFERROR(G58*LBO!$H$16,0) -> 1701.018 | H59: =IFERROR(H58*LBO!$H$16,0) -> 1999.918 | I59: =IFERROR(I58*LBO!$H$16,0) -> 2335.9207 | J59: =IFERROR(J58*LBO!$H$16,0) -> 2713.1403 | K59: =IFERROR(K58*LBO!$H$16,0) -> 3117.9474 | L59: =IFERROR(L58*LBO!$H$16,0) -> 3429.7421 | ... N59: =IFERROR(N58*LBO!$H$16,0) -> 4149.9879
C60: NET INCOME | E60: =IFERROR(E58-E59,0) -> 4800 | F60: =IFERROR(F58-F59,0) -> 5742 | G60: =IFERROR(G58-G59,0) -> 6804.072 | H60: =IFERROR(H58-H59,0) -> 7999.672 | I60: =IFERROR(I58-I59,0) -> 9343.6829 | J60: =IFERROR(J58-J59,0) -> 10852.561 | K60: =IFERROR(K58-K59,0) -> 12471.789 | L60: =IFERROR(L58-L59,0) -> 13718.968 | ... N60: =IFERROR(N58-N59,0) -> 16599.952
C61: D&A | E61: =IFERROR(E53*LBO!$H$13,0) -> 2200 | F61: =IFERROR(F53*LBO!$H$13,0) -> 2420 | G61: =IFERROR(G53*LBO!$H$13,0) -> 2662 | H61: =IFERROR(H53*LBO!$H$13,0) -> 2928.2 | I61: =IFERROR(I53*LBO!$H$13,0) -> 3221.02 | J61: =IFERROR(J53*LBO!$H$13,0) -> 3543.122 | K61: =IFERROR(K53*LBO!$H$13,0) -> 3897.4342 | L61: =IFERROR(L53*LBO!$H$13,0) -> 4287.1776 | ... N61: =IFERROR(N53*LBO!$H$13,0) -> 5187.4849
C62: (CAPEX) | E62: =IFERROR(E53*LBO!$H$14,0) -> 2200 | F62: =IFERROR(F53*LBO!$H$14,0) -> 2420 | G62: =IFERROR(G53*LBO!$H$14,0) -> 2662 | H62: =IFERROR(H53*LBO!$H$14,0) -> 2928.2 | I62: =IFERROR(I53*LBO!$H$14,0) -> 3221.02 | J62: =IFERROR(J53*LBO!$H$14,0) -> 3543.122 | K62: =IFERROR(K53*LBO!$H$14,0) -> 3897.4342 | L62: =IFERROR(L53*LBO!$H$14,0) -> 4287.1776 | ... N62: =IFERROR(N53*LBO!$H$14,0) -> 5187.4849
C63: (Change in NWC) | E63: =IFERROR(E53*LBO!$H$15,0) -> 550 | F63: =IFERROR(F53*LBO!$H$15,0) -> 605 | G63: =IFERROR(G53*LBO!$H$15,0) -> 665.5 | H63: =IFERROR(H53*LBO!$H$15,0) -> 732.05 | I63: =IFERROR(I53*LBO!$H$15,0) -> 805.255 | J63: =IFERROR(J53*LBO!$H$15,0) -> 885.7805 | K63: =IFERROR(K53*LBO!$H$15,0) -> 974.35855 | L63: =IFERROR(L53*LBO!$H$15,0) -> 1071.7944 | ... N63: =IFERROR(N53*LBO!$H$15,0) -> 1296.8712
C64: FREE CASH FLOW | E64: =IFERROR(E60+E61-E62-E63,0) -> 4250 | F64: =IFERROR(F60+F61-F62-F63,0) -> 5137 | G64: =IFERROR(G60+G61-G62-G63,0) -> 6138.572 | H64: =IFERROR(H60+H61-H62-H63,0) -> 7267.622 | I64: =IFERROR(I60+I61-I62-I63,0) -> 8538.4279 | J64: =IFERROR(J60+J61-J62-J63,0) -> 9966.7807 | K64: =IFERROR(K60+K61-K62-K63,0) -> 11497.431 | L64: =IFERROR(L60+L61-L62-L63,0) -> 12647.174 | ... N64: =IFERROR(N60+N61-N62-N63,0) -> 15303.081
C66: PAYMENT SCHEDULE
D68: =IFERROR(INDEX(Calc!$F$7:$F$17,COLUMN()-COLUMN(LBO!$C$52)),"") -> 2022A | E68: =IFERROR(INDEX(Calc!$F$7:$F$17,COLUMN()-COLUMN(LBO!$C$52)),"") -> 2023E | F68: =IFERROR(INDEX(Calc!$F$7:$F$17,COLUMN()-COLUMN(LBO!$C$52)),"") -> 2024E | G68: =IFERROR(INDEX(Calc!$F$7:$F$17,COLUMN()-COLUMN(LBO!$C$52)),"") -> 2025E | H68: =IFERROR(INDEX(Calc!$F$7:$F$17,COLUMN()-COLUMN(LBO!$C$52)),"") -> 2026E | I68: =IFERROR(INDEX(Calc!$F$7:$F$17,COLUMN()-COLUMN(LBO!$C$52)),"") -> 2027E | J68: =IFERROR(INDEX(Calc!$F$7:$F$17,COLUMN()-COLUMN(LBO!$C$52)),"") -> 2028E | K68: =IFERROR(INDEX(Calc!$F$7:$F$17,COLUMN()-COLUMN(LBO!$C$52)),"") -> 2029E | ... N68: =IFERROR(INDEX(Calc!$F$7:$F$17,COLUMN()-COLUMN(LBO!$C$52)),"") -> 2032E
C69: Begining Balance | E69: =IFERROR(D72,0) -> 40000 | F69: =IFERROR(E72,0) -> 35750 | G69: =IFERROR(F72,0) -> 30613 | H69: =IFERROR(G72,0) -> 24474.428 | I69: =IFERROR(H72,0) -> 17206.806 | J69: =IFERROR(I72,0) -> 8668.3781 | K69: =IFERROR(J72,0) -> 0 | L69: =IFERROR(K72,0) -> 0 | ... N69: =IFERROR(M72,0) -> 0
C70: (Debt Amortization) | E70: =IFERROR(IF(OR($L$12="No",$L$12=""),0,IF(E69=0,0,$L$10/Calc!$I$17)),0) -> 4000 | F70: =IFERROR(IF(OR($L$12="No",$L$12=""),0,IF(F69=0,0,$L$10/Calc!$I$17)),0) -> 4000 | G70: =IFERROR(IF(OR($L$12="No",$L$12=""),0,IF(G69=0,0,$L$10/Calc!$I$17)),0) -> 4000 | H70: =IFERROR(IF(OR($L$12="No",$L$12=""),0,IF(H69=0,0,$L$10/Calc!$I$17)),0) -> 4000 | I70: =IFERROR(IF(OR($L$12="No",$L$12=""),0,IF(I69=0,0,$L$10/Calc!$I$17)),0) -> 4000 | J70: =IFERROR(IF(OR($L$12="No",$L$12=""),0,IF(J69=0,0,$L$10/Calc!$I$17)),0) -> 4000 | K70: =IFERROR(IF(OR($L$12="No",$L$12=""),0,IF(K69=0,0,$L$10/Calc!$I$17)),0) -> 0 | L70: =IFERROR(IF(OR($L$12="No",$L$12=""),0,IF(L69=0,0,$L$10/Calc!$I$17)),0) -> 0 | ... N70: =IFERROR(IF(OR($L$12="No",$L$12=""),0,IF(N69=0,0,$L$10/Calc!$I$17)),0) -> 0
C71: (Prepayment) | E71: =IFERROR(IF(LBO!$L$14="No",0,MAX(0,MIN(E64-E70,E69-E70))),0) -> 250 | F71: =IFERROR(IF(LBO!$L$14="No",0,MAX(0,MIN(F64-F70,F69-F70))),0) -> 1137 | G71: =IFERROR(IF(LBO!$L$14="No",0,MAX(0,MIN(G64-G70,G69-G70))),0) -> 2138.572 | H71: =IFERROR(IF(LBO!$L$14="No",0,MAX(0,MIN(H64-H70,H69-H70))),0) -> 3267.622 | I71: =IFERROR(IF(LBO!$L$14="No",0,MAX(0,MIN(I64-I70,I69-I70))),0) -> 4538.4279 | J71: =IFERROR(IF(LBO!$L$14="No",0,MAX(0,MIN(J64-J70,J69-J70))),0) -> 4668.3781 | K71: =IFERROR(IF(LBO!$L$14="No",0,MAX(0,MIN(K64-K70,K69-K70))),0) -> 0 | L71: =IFERROR(IF(LBO!$L$14="No",0,MAX(0,MIN(L64-L70,L69-L70))),0) -> 0 | ... N71: =IFERROR(IF(LBO!$L$14="No",0,MAX(0,MIN(N64-N70,N69-N70))),0) -> 0
...

Sheet Calc
B6: Years & Periods | H6: Sources & Uses Table | K6: Main Returns | W6: Charts
B7: - | C7: 0 | D7: ="Year "&C7 -> Year 0 | E7: =IFERROR(IF(LEN(LBO!$D$11)=0,YEAR(TODAY())+C7,LBO!$D$11+C7),Calc!D7) -> 2022 | F7: =E7&"A" -> 2022A | H7: Sources | L7: 1 | M7: 2 | N7: 3 | O7: 4 | P7: 5 | Q7: 6 | R7: 7 | S7: 8 | T7: 9 | U7: 10 | W7: Order | X7: Year | Y7: Ending Balance | Z7: Debt/Ebidta | AA7: Free Cash | AB7: Principal Payment | AC7: Interest Payment | AD7: Total Payment
B8: 1 Year | C8: 1 | D8: ="Year "&C8 -> Year 1 | E8: =IFERROR(IF(LEN(LBO!$D$11)=0,YEAR(TODAY())+C8,LBO!$D$11+C8),Calc!D8) -> 2023 | F8: =E8&"E" -> 2023E | H8: Debt | I8: =IFERROR(LBO!L10,"") -> 40000 | L8: ="Year "&L7 -> Year 1 | M8: ="Year "&M7 -> Year 2 | N8: ="Year "&N7 -> Year 3 | O8: ="Year "&O7 -> Year 4 | P8: ="Year "&P7 -> Year 5 | Q8: ="Year "&Q7 -> Year 6 | R8: ="Year "&R7 -> Year 7 | S8: ="Year "&S7 -> Year 8 | ... U8: ="Year "&U7 -> Year 10 | W8: 1 | X8: =IFERROR(IF(W8>$I$16,"",INDEX($E$8:$E$17,W8)),"") -> 2023 | Y8: =IFERROR(IF(W8>$I$16,"",INDEX(LBO!$E$72:$N$72,W8)),"") -> 35750 | Z8: =IFERROR(IF(W8>$I$16,"",INDEX($L$11:$U$11,W8)/INDEX($L$10:$U$10,W8)),0) -> 3.25 | AA8: =IFERROR(IF(W8>$I$16,"",INDEX(LBO!$E$64:$N$64,W8)),"") -> 4250 | AB8: =IFERROR(IF(W8>$I$16,"",INDEX(LBO!$E$70:$N$70,W8)+INDEX(LBO!$E$71:$N$71,W8)),"") -> 4250 | AC8: =IFERROR(IF(W8>$I$16,"",INDEX(LBO!$E$57:$N$57,W8)),"") -> 2800 | AD8: =IFERROR(IF(W8>$I$16,"",AB8+AC8),"") -> 7050
B9: 2 Years | C9: 2 | D9: ="Year "&C9 -> Year 2 | E9: =IFERROR(IF(LEN(LBO!$D$11)=0,YEAR(TODAY())+C9,LBO!$D$11+C9),Calc!D9) -> 2024 | F9: =E9&"E" -> 2024E | H9: Equity | I9: =IFERROR(I10-I8,"") -> 64000 | K9: Revenue | L9: =IFERROR(LBO!E53,"") -> 110000 | M9: =IFERROR(LBO!F53,"") -> 121000 | N9: =IFERROR(LBO!G53,"") -> 133100 | O9: =IFERROR(LBO!H53,"") -> 146410 | P9: =IFERROR(LBO!I53,"") -> 161051 | Q9: =IFERROR(LBO!J53,"") -> 177156.1 | R9: =IFERROR(LBO!K53,"") -> 194871.71 | S9: =IFERROR(LBO!L53,"") -> 214358.88 | ... U9: =IFERROR(LBO!N53,"") -> 259374.25 | W9: 2 | X9: =IFERROR(IF(W9>$I$16,"",INDEX($E$8:$E$17,W9)),"") -> 2024 | Y9: =IFERROR(IF(W9>$I$16,"",INDEX(LBO!$E$72:$N$72,W9)),"") -> 30613 | Z9: =IFERROR(IF(W9>$I$16,"",INDEX($L$11:$U$11,W9)/INDEX($L$10:$U$10,W9)),0) -> 2.53 | AA9: =IFERROR(IF(W9>$I$16,"",INDEX(LBO!$E$64:$N$64,W9)),"") -> 5137 | AB9: =IFERROR(IF(W9>$I$16,"",INDEX(LBO!$E$70:$N$70,W9)+INDEX(LBO!$E$71:$N$71,W9)),"") -> 5137 | AC9: =IFERROR(IF(W9>$I$16,"",INDEX(LBO!$E$57:$N$57,W9)),"") -> 2502.5 | AD9: =IFERROR(IF(W9>$I$16,"",AB9+AC9),"") -> 7639.5
B10: 3 Years | C10: 3 | D10: ="Year "&C10 -> Year 3 | E10: =IFERROR(IF(LEN(LBO!$D$11)=0,YEAR(TODAY())+C10,LBO!$D$11+C10),Calc!D10) -> 2025 | F10: =E10&"E" -> 2025E | H10: Total Sources | I10: =IFERROR(I14,"") -> 104000 | K10: EBITDA | L10: =IFERROR(LBO!E54,"") -> 11000 | M10: =IFERROR(LBO!F54,"") -> 12100 | N10: =IFERROR(LBO!G54,"") -> 13310 | O10: =IFERROR(LBO!H54,"") -> 14641 | P10: =IFERROR(LBO!I54,"") -> 16105.1 | Q10: =IFERROR(LBO!J54,"") -> 17715.61 | R10: =IFERROR(LBO!K54,"") -> 19487.171 | S10: =IFERROR(LBO!L54,"") -> 21435.888 | ... U10: =IFERROR(LBO!N54,"") -> 25937.425 | W10: 3 | X10: =IFERROR(IF(W10>$I$16,"",INDEX($E$8:$E$17,W10)),"") -> 2025 | Y10: =IFERROR(IF(W10>$I$16,"",INDEX(LBO!$E$72:$N$72,W10)),"") -> 24474.428 | Z10: =IFERROR(IF(W10>$I$16,"",INDEX($L$11:$U$11,W10)/INDEX($L$10:$U$10,W10)),0) -> 1.8388 | AA10: =IFERROR(IF(W10>$I$16,"",INDEX(LBO!$E$64:$N$64,W10)),"") -> 6138.572 | AB10: =IFERROR(IF(W10>$I$16,"",INDEX(LBO!$E$70:$N$70,W10)+INDEX(LBO!$E$71:$N$71,W10)),"") -> 6138.572 | AC10: =IFERROR(IF(W10>$I$16,"",INDEX(LBO!$E$57:$N$57,W10)),"") -> 2142.91 | AD10: =IFERROR(IF(W10>$I$16,"",AB10+AC10),"") -> 8281.482
B11: 4 Years | C11: 4 | D11: ="Year "&C11 -> Year 4 | E11: =IFERROR(IF(LEN(LBO!$D$11)=0,YEAR(TODAY())+C11,LBO!$D$11+C11),Calc!D11) -> 2026 | F11: =E11&"E" -> 2026E | H11: Uses | K11: Debt Ending Balance | L11: =IFERROR(LBO!E72,"") -> 35750 | M11: =IFERROR(LBO!F72,"") -> 30613 | N11: =IFERROR(LBO!G72,"") -> 24474.428 | O11: =IFERROR(LBO!H72,"") -> 17206.806 | P11: =IFERROR(LBO!I72,"") -> 8668.3781 | Q11: =IFERROR(LBO!J72,"") -> 0 | R11: =IFERROR(LBO!K72,"") -> 0 | S11: =IFERROR(LBO!L72,"") -> 0 | ... U11: =IFERROR(LBO!N72,"") -> 0 | W11: 4 | X11: =IFERROR(IF(W11>$I$16,"",INDEX($E$8:$E$17,W11)),"") -> 2026 | Y11: =IFERROR(IF(W11>$I$16,"",INDEX(LBO!$E$72:$N$72,W11)),"") -> 17206.806 | Z11: =IFERROR(IF(W11>$I$16,"",INDEX($L$11:$U$11,W11)/INDEX($L$10:$U$10,W11)),0) -> 1.175248 | AA11: =IFERROR(IF(W11>$I$16,"",INDEX(LBO!$E$64:$N$64,W11)),"") -> 7267.622 | AB11: =IFERROR(IF(W11>$I$16,"",INDEX(LBO!$E$70:$N$70,W11)+INDEX(LBO!$E$71:$N$71,W11)),"") -> 7267.622 | AC11: =IFERROR(IF(W11>$I$16,"",INDEX(LBO!$E$57:$N$57,W11)),"") -> 1713.21 | AD11: =IFERROR(IF(W11>$I$16,"",AB11+AC11),"") -> 8980.832
B12: 5 Years | C12: 5 | D12: ="Year "&C12 -> Year 5 | E12: =IFERROR(IF(LEN(LBO!$D$11)=0,YEAR(TODAY())+C12,LBO!$D$11+C12),Calc!D12) -> 2027 | F12: =E12&"E" -> 2027E | H12: Purchase Enterprice Value | I12: =IFERROR(LBO!D12*LBO!H10*LBO!H11,0) -> 100000 | K12: Exit Transaction Value | L12: =IFERROR(L10*LBO!$D$14,"") -> 110000 | M12: =IFERROR(M10*LBO!$D$14,"") -> 121000 | N12: =IFERROR(N10*LBO!$D$14,"") -> 133100 | O12: =IFERROR(O10*LBO!$D$14,"") -> 146410 | P12: =IFERROR(P10*LBO!$D$14,"") -> 161051 | Q12: =IFERROR(Q10*LBO!$D$14,"") -> 177156.1 | R12: =IFERROR(R10*LBO!$D$14,"") -> 194871.71 | S12: =IFERROR(S10*LBO!$D$14,"") -> 214358.88 | ... U12: =IFERROR(U10*LBO!$D$14,"") -> 259374.25 | W12: 5 | X12: =IFERROR(IF(W12>$I$16,"",INDEX($E$8:$E$17,W12)),"") -> 2027 | Y12: =IFERROR(IF(W12>$I$16,"",INDEX(LBO!$E$72:$N$72,W12)),"") -> 8668.3781 | Z12: =IFERROR(IF(W12>$I$16,"",INDEX($L$11:$U$11,W12)/INDEX($L$10:$U$10,W12)),0) -> 0.53823808 | AA12: =IFERROR(IF(W12>$I$16,"",INDEX(LBO!$E$64:$N$64,W12)),"") -> 8538.4279 | AB12: =IFERROR(IF(W12>$I$16,"",INDEX(LBO!$E$70:$N$70,W12)+INDEX(LBO!$E$71:$N$71,W12)),"") -> 8538.4279 | AC12: =IFERROR(IF(W12>$I$16,"",INDEX(LBO!$E$57:$N$57,W12)),"") -> 1204.4764 | AD12: =IFERROR(IF(W12>$I$16,"",AB12+AC12),"") -> 9742.9043
B13: 6 Years | C13: 6 | D13: ="Year "&C13 -> Year 6 | E13: =IFERROR(IF(LEN(LBO!$D$11)=0,YEAR(TODAY())+C13,LBO!$D$11+C13),Calc!D13) -> 2028 | F13: =E13&"E" -> 2028E | H13: Transaction Fees | I13: =IFERROR(LBO!D13,"") -> 4000 | K13: Sponsor Equity Value | L13: =IFERROR(L12-L11,"") -> 74250 | M13: =IFERROR(M12-M11,"") -> 90387 | N13: =IFERROR(N12-N11,"") -> 108625.57 | O13: =IFERROR(O12-O11,"") -> 129203.19 | P13: =IFERROR(P12-P11,"") -> 152382.62 | Q13: =IFERROR(Q12-Q11,"") -> 177156.1 | R13: =IFERROR(R12-R11,"") -> 194871.71 | S13: =IFERROR(S12-S11,"") -> 214358.88 | ... U13: =IFERROR(U12-U11,"") -> 259374.25 | W13: 6 | X13: =IFERROR(IF(W13>$I$16,"",INDEX($E$8:$E$17,W13)),"") | Y13: =IFERROR(IF(W13>$I$16,"",INDEX(LBO!$E$72:$N$72,W13)),"") | Z13: =IFERROR(IF(W13>$I$16,"",INDEX($L$11:$U$11,W13)/INDEX($L$10:$U$10,W13)),0) | AA13: =IFERROR(IF(W13>$I$16,"",INDEX(LBO!$E$64:$N$64,W13)),"") | AB13: =IFERROR(IF(W13>$I$16,"",INDEX(LBO!$E$70:$N$70,W13)+INDEX(LBO!$E$71:$N$71,W13)),"") | AC13: =IFERROR(IF(W13>$I$16,"",INDEX(LBO!$E$57:$N$57,W13)),"") | AD13: =IFERROR(IF(W13>$I$16,"",AB13+AC13),"")
B14: 7 Years | C14: 7 | D14: ="Year "&C14 -> Year 7 | E14: =IFERROR(IF(LEN(LBO!$D$11)=0,YEAR(TODAY())+C14,LBO!$D$11+C14),Calc!D14) -> 2029 | F14: =E14&"E" -> 2029E | H14: Total Uses | I14: =IFERROR(I12+I13,"") -> 104000 | K14: MoIC | L14: =IFERROR(L13/$I$9,"") -> 1.1601563 | M14: =IFERROR(M13/$I$9,"") -> 1.4122969 | N14: =IFERROR(N13/$I$9,"") -> 1.6972746 | O14: =IFERROR(O13/$I$9,"") -> 2.0187999 | P14: =IFERROR(P13/$I$9,"") -> 2.3809785 | Q14: =IFERROR(Q13/$I$9,"") -> 2.7680641 | R14: =IFERROR(R13/$I$9,"") -> 3.0448705 | S14: =IFERROR(S13/$I$9,"") -> 3.3493575 | ... U14: =IFERROR(U13/$I$9,"") -> 4.0527226 | W14: 7 | X14: =IFERROR(IF(W14>$I$16,"",INDEX($E$8:$E$17,W14)),"") | Y14: =IFERROR(IF(W14>$I$16,"",INDEX(LBO!$E$72:$N$72,W14)),"") | Z14: =IFERROR(IF(W14>$I$16,"",INDEX($L$11:$U$11,W14)/INDEX($L$10:$U$10,W14)),0) | AA14: =IFERROR(IF(W14>$I$16,"",INDEX(LBO!$E$64:$N$64,W14)),"") | AB14: =IFERROR(IF(W14>$I$16,"",INDEX(LBO!$E$70:$N$70,W14)+INDEX(LBO!$E$71:$N$71,W14)),"") | AC14: =IFERROR(IF(W14>$I$16,"",INDEX(LBO!$E$57:$N$57,W14)),"") | AD14: =IFERROR(IF(W14>$I$16,"",AB14+AC14),"")
B15: 8 Years | C15: 8 | D15: ="Year "&C15 -> Year 8 | E15: =IFERROR(IF(LEN(LBO!$D$11)=0,YEAR(TODAY())+C15,LBO!$D$11+C15),Calc!D15) -> 2030 | F15: =E15&"E" -> 2030E | K15: IRR | L15: =IFERROR((L14^(1/L7))-1,"") -> 0.16015625 | M15: =IFERROR(M14^(1/M7)-1,"") -> 0.18840097 | N15: =IFERROR(N14^(1/N7)-1,"") -> 0.19284505 | O15: =IFERROR(O14^(1/O7)-1,"") -> 0.19199194 | P15: =IFERROR(P14^(1/P7)-1,"") -> 0.18946343 | Q15: =IFERROR(Q14^(1/Q7)-1,"") -> 0.18493908 | R15: =IFERROR(R14^(1/R7)-1,"") -> 0.17241471 | S15: =IFERROR(S14^(1/S7)-1,"") -> 0.16310839 | T15: =IFERROR(T14^(1/T7)-1,"") -> 0.15592124 | U15: =IFERROR(U14^(1/U7)-1,"") -> 0.15020351 | W15: 8 | X15: =IFERROR(IF(W15>$I$16,"",INDEX($E$8:$E$17,W15)),"") | Y15: =IFERROR(IF(W15>$I$16,"",INDEX(LBO!$E$72:$N$72,W15)),"") | Z15: =IFERROR(IF(W15>$I$16,"",INDEX($L$11:$U$11,W15)/INDEX($L$10:$U$10,W15)),0) | AA15: =IFERROR(IF(W15>$I$16,"",INDEX(LBO!$E$64:$N$64,W15)),"") | AB15: =IFERROR(IF(W15>$I$16,"",INDEX(LBO!$E$70:$N$70,W15)+INDEX(LBO!$E$71:$N$71,W15)),"") | AC15: =IFERROR(IF(W15>$I$16,"",INDEX(LBO!$E$57:$N$57,W15)),"") | AD15: =IFERROR(IF(W15>$I$16,"",AB15+AC15),"")
B16: 9 Years | C16: 9 | D16: ="Year "&C16 -> Year 9 | E16: =IFERROR(IF(LEN(LBO!$D$11)=0,YEAR(TODAY())+C16,LBO!$D$11+C16),Calc!D16) -> 2031 | F16: =E16&"E" -> 2031E | H16: Selected Investment Term | I16: =IFERROR(IF(MATCH(LBO!$D$15,Calc!$B$8:$B$17,0)>0,MATCH(LBO!$D$15,Calc!$B$8:$B$17,0),1),1) -> 5 | W16: 9 | X16: =IFERROR(IF(W16>$I$16,"",INDEX($E$8:$E$17,W16)),"") | Y16: =IFERROR(IF(W16>$I$16,"",INDEX(LBO!$E$72:$N$72,W16)),"") | Z16: =IFERROR(IF(W16>$I$16,"",INDEX($L$11:$U$11,W16)/INDEX($L$10:$U$10,W16)),0) | AA16: =IFERROR(IF(W16>$I$16,"",INDEX(LBO!$E$64:$N$64,W16)),"") | AB16: =IFERROR(IF(W16>$I$16,"",INDEX(LBO!$E$70:$N$70,W16)+INDEX(LBO!$E$71:$N$71,W16)),"") | AC16: =IFERROR(IF(W16>$I$16,"",INDEX(LBO!$E$57:$N$57,W16)),"") | AD16: =IFERROR(IF(W16>$I$16,"",AB16+AC16),"")
B17: 10 Years | C17: 10 | D17: ="Year "&C17 -> Year 10 | E17: =IFERROR(IF(LEN(LBO!$D$11)=0,YEAR(TODAY())+C17,LBO!$D$11+C17),Calc!D17) -> 2032 | F17: =E17&"E" -> 2032E | H17: Selected Debt Term | I17: =IFERROR(INDEX($C$8:$C$27,MATCH(LBO!$L$13,Calc!$B$8:$B$27,0)),1) -> 10 | K17: Returns for Selected Period | W17: 10 | X17: =IFERROR(IF(W17>$I$16,"",INDEX($E$8:$E$17,W17)),"") | Y17: =IFERROR(IF(W17>$I$16,"",INDEX(LBO!$E$72:$N$72,W17)),"") | Z17: =IFERROR(IF(W17>$I$16,"",INDEX($L$11:$U$11,W17)/INDEX($L$10:$U$10,W17)),0) | AA17: =IFERROR(IF(W17>$I$16,"",INDEX(LBO!$E$64:$N$64,W17)),"") | AB17: =IFERROR(IF(W17>$I$16,"",INDEX(LBO!$E$70:$N$70,W17)+INDEX(LBO!$E$71:$N$71,W17)),"") | AC17: =IFERROR(IF(W17>$I$16,"",INDEX(LBO!$E$57:$N$57,W17)),"") | AD17: =IFERROR(IF(W17>$I$16,"",AB17+AC17),"")
B18: 11 Years | C18: 11 | K18: Exit Transaction Value | L18: =IFERROR(INDEX(Calc!$L12:$U12,Calc!$I$16),"") -> 161051
B19: 12 Years | C19: 12 | K19: Sponsor Equity Value | L19: =IFERROR(INDEX(Calc!$L13:$U13,Calc!$I$16),"") -> 152382.62
B20: 13 Years | C20: 13 | K20: MoIC | L20: =IFERROR(INDEX(Calc!$L14:$U14,Calc!$I$16),"") -> 2.3809785
B21: 14 Years | C21: 14 | K21: IRR | L21: =IFERROR(INDEX(Calc!$L15:$U15,Calc!$I$16),"") -> 0.18946343
B22: 15 Years | C22: 15
B23: 16 Years | C23: 16
B24: 17 Years | C24: 17
B25: 18 Years | C25: 18
B26: 19 Years | C26: 19
B27: 20 Years | C27: 20
