Workbook
Name Act: IFERROR(OFFSET(Calc!$BH$10,0,0,Calc!$BH$8,1),"")
Name Types: IFERROR(OFFSET(Calc!$BG$10,0,0,Calc!$BH$8,1),1)

Sheet Dashboard
C2: EXPENSE ANALYSIS DASHBOARD
C3: DASHBOARD
C7: Expense Category | D7: All
C9: Analysis Month | D9: All
J12: ESTIMATED EXPENSES | M12: SETTINGS
J13: =IFERROR(Calc!AR28,"") -> 64761.17 | M13: Start Year | N13: 2022
J14: =IF(LEN(Dashboard!$N$16)=0,"",Dashboard!$N$16) -> USD | M14: Start Month | N14: January
J16: ACTUAL EXPENSES | M16: Currency | N16: USD
J17: =IFERROR(Calc!AR29,"") -> 32587.489
J18: =IF(LEN(Dashboard!$N$16)=0,"",Dashboard!$N$16) -> USD
J20: DIFFERENCE
J21: =IFERROR(Calc!AR30,"") -> -32173.68
J22: =IF(LEN(Dashboard!$N$16)=0,"",Dashboard!$N$16) -> USD
J24: ACT / EST
J25: =IFERROR(Calc!AR31,"") -> 0.50319489
C44: EXPENSE BREAKDOWN
C46: Expense Category | D46: Expense Type | E46: Estimates | F46: Actuals | G46: Difference | H46: Act / Est %
C47: =IFERROR(IF(Calc!C10=0,"",Calc!D10),"") -> Employee Costs | D47: =IFERROR(IF(Calc!D10=0,"",Calc!E10),"") -> International salaries | E47: =IFERROR(IF(LEN($C47)=0,"",Calc!AH10),"") -> 5296.3328 | F47: =IFERROR(IF(LEN($C47)=0,"",Calc!AI10),"") -> 3796.3328 | G47: =IFERROR(IF(LEN($C47)=0,"",Calc!AJ10),"") -> -1500 | H47: =IFERROR(IF(LEN($C47)=0,"",Calc!AK10),"") -> 0.71678517
C48: =IFERROR(IF(Calc!C11=0,"",Calc!D11),"") -> Employee Costs | D48: =IFERROR(IF(Calc!D11=0,"",Calc!E11),"") -> India process Salaries | E48: =IFERROR(IF(LEN($C48)=0,"",Calc!AH11),"") -> 1786.1271 | F48: =IFERROR(IF(LEN($C48)=0,"",Calc!AI11),"") -> 178.12714 | G48: =IFERROR(IF(LEN($C48)=0,"",Calc!AJ11),"") -> -1608 | H48: =IFERROR(IF(LEN($C48)=0,"",Calc!AK11),"") -> 0.099728139
C49: =IFERROR(IF(Calc!C12=0,"",Calc!D12),"") -> Employee Costs | D49: =IFERROR(IF(Calc!D12=0,"",Calc!E12),"") -> Other Salaries | E49: =IFERROR(IF(LEN($C49)=0,"",Calc!AH12),"") -> 4697.9108 | F49: =IFERROR(IF(LEN($C49)=0,"",Calc!AI12),"") -> 2093.9108 | G49: =IFERROR(IF(LEN($C49)=0,"",Calc!AJ12),"") -> -2604 | H49: =IFERROR(IF(LEN($C49)=0,"",Calc!AK12),"") -> 0.44571106
C50: =IFERROR(IF(Calc!C13=0,"",Calc!D13),"") -> Employee Costs | D50: =IFERROR(IF(Calc!D13=0,"",Calc!E13),"") -> Employee Benefit Expenses | E50: =IFERROR(IF(LEN($C50)=0,"",Calc!AH13),"") -> 1016.0636 | F50: =IFERROR(IF(LEN($C50)=0,"",Calc!AI13),"") -> 435.24899 | G50: =IFERROR(IF(LEN($C50)=0,"",Calc!AJ13),"") -> -580.81461 | H50: =IFERROR(IF(LEN($C50)=0,"",Calc!AK13),"") -> 0.42836786
C51: =IFERROR(IF(Calc!C14=0,"",Calc!D14),"") -> Office Costs | D51: =IFERROR(IF(Calc!D14=0,"",Calc!E14),"") -> Security Charges | E51: =IFERROR(IF(LEN($C51)=0,"",Calc!AH14),"") -> 11803.905 | F51: =IFERROR(IF(LEN($C51)=0,"",Calc!AI14),"") -> 6047.3626 | G51: =IFERROR(IF(LEN($C51)=0,"",Calc!AJ14),"") -> -5756.5424 | H51: =IFERROR(IF(LEN($C51)=0,"",Calc!AK14),"") -> 0.51231881
C52: =IFERROR(IF(Calc!C15=0,"",Calc!D15),"") -> Office Costs | D52: =IFERROR(IF(Calc!D15=0,"",Calc!E15),"") -> Office lease | E52: =IFERROR(IF(LEN($C52)=0,"",Calc!AH15),"") -> 2006.4133 | F52: =IFERROR(IF(LEN($C52)=0,"",Calc!AI15),"") -> 970.77715 | G52: =IFERROR(IF(LEN($C52)=0,"",Calc!AJ15),"") -> -1035.6362 | H52: =IFERROR(IF(LEN($C52)=0,"",Calc!AK15),"") -> 0.48383708
C53: =IFERROR(IF(Calc!C16=0,"",Calc!D16),"") -> Office Costs | D53: =IFERROR(IF(Calc!D16=0,"",Calc!E16),"") -> Furniture Purchase | E53: =IFERROR(IF(LEN($C53)=0,"",Calc!AH16),"") -> 2448.2978 | F53: =IFERROR(IF(LEN($C53)=0,"",Calc!AI16),"") -> 1120.8756 | G53: =IFERROR(IF(LEN($C53)=0,"",Calc!AJ16),"") -> -1327.4222 | H53: =IFERROR(IF(LEN($C53)=0,"",Calc!AK16),"") -> 0.45781832
C54: =IFERROR(IF(Calc!C17=0,"",Calc!D17),"") -> Vehicle Maintainance | D54: =IFERROR(IF(Calc!D17=0,"",Calc!E17),"") -> Santro Petrol | E54: =IFERROR(IF(LEN($C54)=0,"",Calc!AH17),"") -> 8901.9167 | F54: =IFERROR(IF(LEN($C54)=0,"",Calc!AI17),"") -> 4563.3011 | G54: =IFERROR(IF(LEN($C54)=0,"",Calc!AJ17),"") -> -4338.6156 | H54: =IFERROR(IF(LEN($C54)=0,"",Calc!AK17),"") -> 0.51262007
C55: =IFERROR(IF(Calc!C18=0,"",Calc!D18),"") -> Vehicle Maintainance | D55: =IFERROR(IF(Calc!D18=0,"",Calc!E18),"") -> Santro Maintenance | E55: =IFERROR(IF(LEN($C55)=0,"",Calc!AH18),"") -> 9951.8469 | F55: =IFERROR(IF(LEN($C55)=0,"",Calc!AI18),"") -> 5065.0751 | G55: =IFERROR(IF(LEN($C55)=0,"",Calc!AJ18),"") -> -4886.7718 | H55: =IFERROR(IF(LEN($C55)=0,"",Calc!AK18),"") -> 0.5089583
C56: =IFERROR(IF(Calc!C19=0,"",Calc!D19),"") -> Vehicle Maintainance | D56: =IFERROR(IF(Calc!D19=0,"",Calc!E19),"") -> Micra Maintainance | E56: =IFERROR(IF(LEN($C56)=0,"",Calc!AH19),"") -> 817.66286 | F56: =IFERROR(IF(LEN($C56)=0,"",Calc!AI19),"") -> 258.16794 | G56: =IFERROR(IF(LEN($C56)=0,"",Calc!AJ19),"") -> -559.49493 | H56: =IFERROR(IF(LEN($C56)=0,"",Calc!AK19),"") -> 0.31573885
C57: =IFERROR(IF(Calc!C20=0,"",Calc!D20),"") -> Food and Beverages | D57: =IFERROR(IF(Calc!D20=0,"",Calc!E20),"") -> Employee Food Expenses | E57: =IFERROR(IF(LEN($C57)=0,"",Calc!AH20),"") -> 8594.0746 | F57: =IFERROR(IF(LEN($C57)=0,"",Calc!AI20),"") -> 4320.5255 | G57: =IFERROR(IF(LEN($C57)=0,"",Calc!AJ20),"") -> -4273.5491 | H57: =IFERROR(IF(LEN($C57)=0,"",Calc!AK20),"") -> 0.50273307
C58: =IFERROR(IF(Calc!C21=0,"",Calc!D21),"") -> Food and Beverages | D58: =IFERROR(IF(Calc!D21=0,"",Calc!E21),"") -> Extra Food Expenses | E58: =IFERROR(IF(LEN($C58)=0,"",Calc!AH21),"") -> 7440.618 | F58: =IFERROR(IF(LEN($C58)=0,"",Calc!AI21),"") -> 3737.7847 | G58: =IFERROR(IF(LEN($C58)=0,"",Calc!AJ21),"") -> -3702.8333 | H58: =IFERROR(IF(LEN($C58)=0,"",Calc!AK21),"") -> 0.50234868
... C61: =IFERROR(IF(Calc!C24=0,"",Calc!D24),"") | D61: =IFERROR(IF(Calc!D24=0,"",Calc!E24),"") | E61: =IFERROR(IF(LEN($C61)=0,"",Calc!AH24),"") | F61: =IFERROR(IF(LEN($C61)=0,"",Calc!AI24),"") | G61: =IFERROR(IF(LEN($C61)=0,"",Calc!AJ24),"") | H61: =IFERROR(IF(LEN($C61)=0,"",Calc!AK24),"")

Sheet Estimated
B2: EXPENSE ANALYSIS DASHBOARD
B3: ESTIMATED EXPENSES
B5: Expense Category | C5: Expense Type | D5: =IFERROR(Calc!F9,"") -> Jan 2022 | E5: =IFERROR(Calc!G9,"") -> Feb 2022 | F5: =IFERROR(Calc!H9,"") -> Mar 2022 | G5: =IFERROR(Calc!I9,"") -> Apr 2022 | H5: =IFERROR(Calc!J9,"") -> May 2022 | I5: =IFERROR(Calc!K9,"") -> Jun 2022 | J5: =IFERROR(Calc!L9,"") -> Jul 2022 | K5: =IFERROR(Calc!M9,"") -> Aug 2022 | ... O5: =IFERROR(Calc!Q9,"") -> Dec 2022
B6: Employee Costs | C6: International salaries | D6: 385 | E6: 437 | F6: 437 | G6: 437 | H6: 437 | I6: 499.4 | J6: 461.96 | K6: 428.264 | L6: 428.264 | M6: 428.264 | N6: 458.5904 | O6: 458.5904
B7: Employee Costs | C7: India process Salaries | D7: 145 | E7: 146.1 | F7: 148.52 | G7: 148.52 | H7: 148.52 | I7: 148.52 | J7: 148.52 | K7: 145.616 | L7: 147.9392 | M7: 150.72704 | N7: 154.07245 | O7: 154.07245
B8: Employee Costs | C8: Other Salaries | D8: 457 | E8: 457 | F8: 433 | G8: 411.4 | H8: 372.52 | I8: 356.968 | J8: 370.9648 | K8: 370.9648 | L8: 340.17184 | M8: 352.48902 | N8: 379.58683 | O8: 395.84551
B9: Employee Costs | C9: Employee Benefit Expenses | D9: 211.61 | E9: 85.358 | F9: 109.4856 | G9: 111.76704 | H9: 86.478336 | I9: 73.156608 | J9: 67.665347 | K9: 63.42407 | L9: 54.399254 | M9: 58.147473 | N9: 51.176071 | O9: 43.395798
B10: Office Costs | C10: Security Charges | D10: 779 | E10: 896.7 | F10: 986.37 | G10: 1033.34 | H10: 981.673 | I10: 930.006 | J10: 1023.0066 | K10: 1116.0072 | L10: 1004.4065 | M10: 892.80576 | N10: 982.08634 | O10: 1178.5036
B11: Office Costs | C11: Office lease | D11: 238 | E11: 171 | F11: 162 | G11: 162 | H11: 145.8 | I11: 129.6 | J11: 142.56 | K11: 163.296 | L11: 162.5184 | M11: 169.36128 | N11: 184.75776 | O11: 175.51987
B12: Office Costs | C12: Furniture Purchase | D12: 426.08 | E12: 325.68 | F12: 276.8832 | G12: 223.36128 | H12: 215.80992 | I12: 189.57888 | J12: 159.67549 | K12: 139.0722 | L12: 129.37149 | M12: 124.62415 | N12: 119.6021 | O12: 118.55905
B13: Vehicle Maintainance | C13: Santro Petrol | D13: 600 | E13: 479.6 | F13: 549.36 | G13: 575.52 | H13: 575.52 | I13: 633.072 | J13: 725.1552 | K13: 759.6864 | L13: 835.65504 | M13: 957.20486 | N13: 1052.9254 | O13: 1158.2179
B14: Vehicle Maintainance | C14: Santro Maintenance | D14: 573 | E14: 863.1 | F14: 949.41 | G14: 994.62 | H14: 895.158 | I14: 755.9112 | J14: 751.93272 | K14: 787.73904 | L14: 866.51294 | M14: 945.28685 | N14: 850.75816 | O14: 718.418
B15: Vehicle Maintainance | C15: Micra Maintainance | D15: 339 | E15: 37.8 | F15: 41.58 | G15: 47.916 | H15: 49.6584 | I15: 51.74928 | J15: 50.808384 | K15: 42.904858 | L15: 42.679043 | M15: 40.24024 | N15: 35.769102 | O15: 37.557557
B16: Food and Beverages | C16: Employee Food Expenses | D16: 724 | E16: 660.6 | F16: 645.92 | G16: 775.104 | H16: 761.0112 | I16: 744.09984 | J16: 730.57075 | K16: 714.33585 | L16: 701.34792 | M16: 685.76241 | N16: 710.69923 | O16: 740.62341
B17: Food and Beverages | C17: Extra Food Expenses | D17: 564 | E17: 769.5 | F17: 656.1 | G17: 641.52 | H17: 664.848 | I17: 598.3632 | J17: 595.21392 | K17: 685.91318 | L17: 710.85548 | M17: 606.09783 | N17: 511.81595 | O17: 436.39044

Sheet Actual
B2: EXPENSE ANALYSIS DASHBOARD
B3: ACTUAL EXPENSES
B5: Expense Category | C5: Expense Type | D5: =IFERROR(Calc!F9,"") -> Jan 2022 | E5: =IFERROR(Calc!G9,"") -> Feb 2022 | F5: =IFERROR(Calc!H9,"") -> Mar 2022 | G5: =IFERROR(Calc!I9,"") -> Apr 2022 | H5: =IFERROR(Calc!J9,"") -> May 2022 | I5: =IFERROR(Calc!K9,"") -> Jun 2022 | J5: =IFERROR(Calc!L9,"") -> Jul 2022 | K5: =IFERROR(Calc!M9,"") -> Aug 2022 | ... O5: =IFERROR(Calc!Q9,"") -> Dec 2022
B6: =IFERROR(IF(LEN(INDEX(Estimated!$B$6:$O$105,Calc!$B10,1))=0,"",INDEX(Estimated!$B$6:$O$105,Calc!$B10,1)),"") -> Employee Costs | C6: =IFERROR(IF(LEN(INDEX(Estimated!$B$6:$O$105,Calc!$B10,2))=0,"",INDEX(Estimated!$B$6:$O$105,Calc!$B10,2)),"") -> International salaries | D6: 260 | E6: 312 | F6: 312 | G6: 312 | H6: 312 | I6: 374.4 | J6: 336.96 | K6: 303.264 | L6: 303.264 | M6: 303.264 | N6: 333.5904 | O6: 333.5904
B7: =IFERROR(IF(LEN(INDEX(Estimated!$B$6:$O$105,Calc!$B11,1))=0,"",INDEX(Estimated!$B$6:$O$105,Calc!$B11,1)),"") -> Employee Costs | C7: =IFERROR(IF(LEN(INDEX(Estimated!$B$6:$O$105,Calc!$B11,2))=0,"",INDEX(Estimated!$B$6:$O$105,Calc!$B11,2)),"") -> India process Salaries | D7: 11 | E7: 12.1 | F7: 14.52 | G7: 14.52 | H7: 14.52 | I7: 14.52 | J7: 14.52 | K7: 11.616 | L7: 13.9392 | M7: 16.72704 | N7: 20.072448 | O7: 20.072448
B8: =IFERROR(IF(LEN(INDEX(Estimated!$B$6:$O$105,Calc!$B12,1))=0,"",INDEX(Estimated!$B$6:$O$105,Calc!$B12,1)),"") -> Employee Costs | C8: =IFERROR(IF(LEN(INDEX(Estimated!$B$6:$O$105,Calc!$B12,2))=0,"",INDEX(Estimated!$B$6:$O$105,Calc!$B12,2)),"") -> Other Salaries | D8: 240 | E8: 240 | F8: 216 | G8: 194.4 | H8: 155.52 | I8: 139.968 | J8: 153.9648 | K8: 153.9648 | L8: 123.17184 | M8: 135.48902 | N8: 162.58683 | O8: 178.84551
B9: =IFERROR(IF(LEN(INDEX(Estimated!$B$6:$O$105,Calc!$B13,1))=0,"",INDEX(Estimated!$B$6:$O$105,Calc!$B13,1)),"") -> Employee Costs | C9: =IFERROR(IF(LEN(INDEX(Estimated!$B$6:$O$105,Calc!$B13,2))=0,"",INDEX(Estimated!$B$6:$O$105,Calc!$B13,2)),"") -> Employee Benefit Expenses | D9: 43.61 | E9: 41.748 | F9: 67.7376 | G9: 44.02944 | H9: 42.448896 | I9: 30.707712 | J9: 36.957635 | K9: 26.466435 | L9: 27.932819 | M9: 30.214655 | N9: 20.961417 | O9: 22.434381
B10: =IFERROR(IF(LEN(INDEX(Estimated!$B$6:$O$105,Calc!$B14,1))=0,"",INDEX(Estimated!$B$6:$O$105,Calc!$B14,1)),"") -> Office Costs | C10: =IFERROR(IF(LEN(INDEX(Estimated!$B$6:$O$105,Calc!$B14,2))=0,"",INDEX(Estimated!$B$6:$O$105,Calc!$B14,2)),"") -> Security Charges | D10: 427 | E10: 469.7 | F10: 516.67 | G10: 516.67 | H10: 465.003 | I10: 465.003 | J10: 558.0036 | K10: 558.0036 | L10: 446.40288 | M10: 446.40288 | N10: 535.68346 | O10: 642.82015
B11: =IFERROR(IF(LEN(INDEX(Estimated!$B$6:$O$105,Calc!$B15,1))=0,"",INDEX(Estimated!$B$6:$O$105,Calc!$B15,1)),"") -> Office Costs | C11: =IFERROR(IF(LEN(INDEX(Estimated!$B$6:$O$105,Calc!$B15,2))=0,"",INDEX(Estimated!$B$6:$O$105,Calc!$B15,2)),"") -> Office lease | D11: 90 | E11: 81 | F11: 81 | G11: 81 | H11: 64.8 | I11: 64.8 | J11: 77.76 | K11: 85.536 | L11: 76.9824 | M11: 92.37888 | N11: 92.37888 | O11: 83.140992
B12: =IFERROR(IF(LEN(INDEX(Estimated!$B$6:$O$105,Calc!$B16,1))=0,"",INDEX(Estimated!$B$6:$O$105,Calc!$B16,1)),"") -> Office Costs | C12: =IFERROR(IF(LEN(INDEX(Estimated!$B$6:$O$105,Calc!$B16,2))=0,"",INDEX(Estimated!$B$6:$O$105,Calc!$B16,2)),"") -> Furniture Purchase | D12: 160.08 | E12: 165.6 | F12: 111.2832 | G12: 112.07808 | H12: 103.73184 | I12: 85.84704 | J12: 73.828454 | K12: 65.24375 | L12: 64.127739 | M12: 60.496409 | N12: 59.105687 | O12: 59.453368
B13: =IFERROR(IF(LEN(INDEX(Estimated!$B$6:$O$105,Calc!$B17,1))=0,"",INDEX(Estimated!$B$6:$O$105,Calc!$B17,1)),"") -> Vehicle Maintainance | C13: =IFERROR(IF(LEN(INDEX(Estimated!$B$6:$O$105,Calc!$B17,2))=0,"",INDEX(Estimated!$B$6:$O$105,Calc!$B17,2)),"") -> Santro Petrol | D13: 218 | E13: 261.6 | F13: 287.76 | G13: 287.76 | H13: 287.76 | I13: 345.312 | J13: 379.8432 | K13: 379.8432 | L13: 455.81184 | M13: 501.39302 | N13: 551.53233 | O13: 606.68556
B14: =IFERROR(IF(LEN(INDEX(Estimated!$B$6:$O$105,Calc!$B18,1))=0,"",INDEX(Estimated!$B$6:$O$105,Calc!$B18,1)),"") -> Vehicle Maintainance | C14: =IFERROR(IF(LEN(INDEX(Estimated!$B$6:$O$105,Calc!$B18,2))=0,"",INDEX(Estimated!$B$6:$O$105,Calc!$B18,2)),"") -> Santro Maintenance | D14: 411 | E14: 452.1 | F14: 497.31 | G14: 497.31 | H14: 397.848 | I14: 358.0632 | J14: 393.86952 | K14: 393.86952 | L14: 472.64342 | M14: 472.64342 | N14: 378.11474 | O14: 340.30327
B15: =IFERROR(IF(LEN(INDEX(Estimated!$B$6:$O$105,Calc!$B19,1))=0,"",INDEX(Estimated!$B$6:$O$105,Calc!$B19,1)),"") -> Vehicle Maintainance | C15: =IFERROR(IF(LEN(INDEX(Estimated!$B$6:$O$105,Calc!$B19,2))=0,"",INDEX(Estimated!$B$6:$O$105,Calc!$B19,2)),"") -> Micra Maintainance | D15: 18 | E15: 19.8 | F15: 21.78 | G15: 26.136 | H15: 23.5224 | I15: 28.22688 | J15: 22.581504 | K15: 20.323354 | L15: 22.355689 | M15: 17.884551 | N15: 17.884551 | O15: 19.673006
B16: =IFERROR(IF(LEN(INDEX(Estimated!$B$6:$O$105,Calc!$B20,1))=0,"",INDEX(Estimated!$B$6:$O$105,Calc!$B20,1)),"") -> Food and Beverages | C16: =IFERROR(IF(LEN(INDEX(Estimated!$B$6:$O$105,Calc!$B20,2))=0,"",INDEX(Estimated!$B$6:$O$105,Calc!$B20,2)),"") -> Employee Food Expenses | D16: 367 | E16: 293.6 | F16: 352.32 | G16: 422.784 | H16: 338.2272 | I16: 405.87264 | J16: 324.69811 | K16: 389.63773 | L16: 311.71019 | M16: 374.05223 | N16: 336.647 | O16: 403.9764
B17: =IFERROR(IF(LEN(INDEX(Estimated!$B$6:$O$105,Calc!$B21,1))=0,"",INDEX(Estimated!$B$6:$O$105,Calc!$B21,1)),"") -> Food and Beverages | C17: =IFERROR(IF(LEN(INDEX(Estimated!$B$6:$O$105,Calc!$B21,2))=0,"",INDEX(Estimated!$B$6:$O$105,Calc!$B21,2)),"") -> Extra Food Expenses | D17: 405 | E17: 364.5 | F17: 291.6 | G17: 349.92 | H17: 314.928 | I17: 283.4352 | J17: 311.77872 | K17: 374.13446 | L17: 336.72102 | M17: 269.37681 | N17: 242.43913 | O17: 193.95131
B18: =IFERROR(IF(LEN(INDEX(Estimated!$B$6:$O$105,Calc!$B22,1))=0,"",INDEX(Estimated!$B$6:$O$105,Calc!$B22,1)),"") | C18: =IFERROR(IF(LEN(INDEX(Estimated!$B$6:$O$105,Calc!$B22,2))=0,"",INDEX(Estimated!$B$6:$O$105,Calc!$B22,2)),"")
B19: =IFERROR(IF(LEN(INDEX(Estimated!$B$6:$O$105,Calc!$B23,1))=0,"",INDEX(Estimated!$B$6:$O$105,Calc!$B23,1)),"") | C19: =IFERROR(IF(LEN(INDEX(Estimated!$B$6:$O$105,Calc!$B23,2))=0,"",INDEX(Estimated!$B$6:$O$105,Calc!$B23,2)),"")
B20: =IFERROR(IF(LEN(INDEX(Estimated!$B$6:$O$105,Calc!$B24,1))=0,"",INDEX(Estimated!$B$6:$O$105,Calc!$B24,1)),"") | C20: =IFERROR(IF(LEN(INDEX(Estimated!$B$6:$O$105,Calc!$B24,2))=0,"",INDEX(Estimated!$B$6:$O$105,Calc!$B24,2)),"")

Sheet Calc
AH4: DYNAMIC MONTHLY TOTALS
AY5: Categories | BC5: Expense Types | BF5: Expense Chart
AH6: Analaysis Month | AI6: =IFERROR(IF(OR(Dashboard!$D$9="",Dashboard!$D$9="All"),0,MATCH(Dashboard!$D$9,Calc!$AT$11:$AT$22,0)),0) -> 0 | AJ6: Row # | AK6: =IFERROR(COUNTIF(C10:C24,"1"),100) -> 12 | AQ6: Dates and Monthly Chart
B7: Main Calculation Table | F7: Estimated | R7: Actual | AH7: Estimated Index | AI7: Actual Index | AY7: Category Number | AZ7: =IFERROR(COUNTIF(BA10:BA24,"?*")+1,1) -> 5 | BC7: Expense Type Number | BD7: =IFERROR(COUNTIF($BC$10:$BC$24,"?*"),"") -> 12
C8: Col Index | D8: =IFERROR(MATCH(D9,Estimated!$B$5:$O$5,0),1) -> 1 | E8: =IFERROR(MATCH(E9,Estimated!$B$5:$O$5,0),1) -> 2 | F8: =IFERROR(MATCH(F9,Estimated!$B$5:$O$5,0),1) -> 3 | G8: =IFERROR(MATCH(G9,Estimated!$B$5:$O$5,0),1) -> 4 | H8: =IFERROR(MATCH(H9,Estimated!$B$5:$O$5,0),1) -> 5 | I8: =IFERROR(MATCH(I9,Estimated!$B$5:$O$5,0),1) -> 6 | J8: =IFERROR(MATCH(J9,Estimated!$B$5:$O$5,0),1) -> 7 | K8: =IFERROR(MATCH(K9,Estimated!$B$5:$O$5,0),1) -> 8 | ... Q8: =IFERROR(MATCH(Q9,Estimated!$B$5:$O$5,0),1) -> 14 | R8: =IFERROR(MATCH(R9,Actual!$B$5:$O$5,0),1) -> 3 | S8: =IFERROR(MATCH(S9,Actual!$B$5:$O$5,0),1) -> 4 | T8: =IFERROR(MATCH(T9,Actual!$B$5:$O$5,0),1) -> 5 | U8: =IFERROR(MATCH(U9,Actual!$B$5:$O$5,0),1) -> 6 | V8: =IFERROR(MATCH(V9,Actual!$B$5:$O$5,0),1) -> 7 | W8: =IFERROR(MATCH(W9,Actual!$B$5:$O$5,0),1) -> 8 | X8: =IFERROR(MATCH(X9,Actual!$B$5:$O$5,0),1) -> 9 | Y8: =IFERROR(MATCH(Y9,Actual!$B$5:$O$5,0),1) -> 10 | ... AC8: =IFERROR(MATCH(AC9,Actual!$B$5:$O$5,0),1) -> 14 | AE8: Filters | AH8: =AI6+4 -> 4 | AI8: =IFERROR(AH8+12,"") -> 16 | AQ8: Dates | AU8: Indexes | AY8: Values | AZ8: Without Duplicates | BA8: Without Blanks | BC8: Values | BD8: Actual | BF8: Row Number | BH8: =IFERROR(COUNTIF($BG$10:$BG$24,"?*"),100) -> 12
B9: Row Index | C9: Check | D9: =Estimated!B5 -> Expense Category | E9: =Estimated!C5 -> Expense Type | F9: =AT11 -> Jan 2022 | G9: =AT12 -> Feb 2022 | H9: =AT13 -> Mar 2022 | I9: =AT14 -> Apr 2022 | J9: =AT15 -> May 2022 | K9: =AT16 -> Jun 2022 | L9: =AT17 -> Jul 2022 | M9: =AT18 -> Aug 2022 | N9: =AT19 -> Sep 2022 | O9: =AT20 -> Oct 2022 | P9: =AT21 -> Nov 2022 | Q9: =AT22 -> Dec 2022 | R9: =F9 -> Jan 2022 | S9: =G9 -> Feb 2022 | T9: =H9 -> Mar 2022 | U9: =I9 -> Apr 2022 | V9: =J9 -> May 2022 | W9: =K9 -> Jun 2022 | X9: =L9 -> Jul 2022 | Y9: =M9 -> Aug 2022 | ... AC9: =Q9 -> Dec 2022 | AE9: Category | AF9: Total | AH9: Estimated | AI9: Actual | AJ9: Difference | AK9: Act / Est | AM9: Months | AQ9: Date | AR9: Month Abb. | AS9: Year | AT9: Year & Mont | AU9: 4 | AV9: 16 | BA9: All | BC9: All | BF9: Types | BG9: Without Duplicates | BH9: Actual
B10: 1 | C10: =IFERROR(IF(OR(LEN(D10)=0,LEN(E10)=0),0,1),0) -> 1 | D10: =IFERROR(IF(LEN(INDEX(Estimated!$B$6:$O$20,$B10,D$8))=0,"",INDEX(Estimated!$B$6:$O$20,$B10,D$8)),"") -> Employee Costs | E10: =IFERROR(IF(LEN(INDEX(Estimated!$B$6:$O$20,$B10,E$8))=0,"",INDEX(Estimated!$B$6:$O$20,$B10,E$8)),"") -> International salaries | F10: =IFERROR(INDEX(Estimated!$B$6:$O$20,$B10,F$8),0) -> 385 | G10: =IFERROR(INDEX(Estimated!$B$6:$O$20,$B10,G$8),0) -> 437 | H10: =IFERROR(INDEX(Estimated!$B$6:$O$20,$B10,H$8),0) -> 437 | I10: =IFERROR(INDEX(Estimated!$B$6:$O$20,$B10,I$8),0) -> 437 | J10: =IFERROR(INDEX(Estimated!$B$6:$O$20,$B10,J$8),0) -> 437 | K10: =IFERROR(INDEX(Estimated!$B$6:$O$20,$B10,K$8),0) -> 499.4 | L10: =IFERROR(INDEX(Estimated!$B$6:$O$20,$B10,L$8),0) -> 461.96 | M10: =IFERROR(INDEX(Estimated!$B$6:$O$20,$B10,M$8),0) -> 428.264 | ... Q10: =IFERROR(INDEX(Estimated!$B$6:$O$20,$B10,Q$8),0) -> 458.5904 | R10: =IFERROR(INDEX(Actual!$B$6:$O$20,$B10,R$8),0) -> 260 | S10: =IFERROR(INDEX(Actual!$B$6:$O$20,$B10,S$8),0) -> 312 | T10: =IFERROR(INDEX(Actual!$B$6:$O$20,$B10,T$8),0) -> 312 | U10: =IFERROR(INDEX(Actual!$B$6:$O$20,$B10,U$8),0) -> 312 | V10: =IFERROR(INDEX(Actual!$B$6:$O$20,$B10,V$8),0) -> 312 | W10: =IFERROR(INDEX(Actual!$B$6:$O$20,$B10,W$8),0) -> 374.4 | X10: =IFERROR(INDEX(Actual!$B$6:$O$20,$B10,X$8),0) -> 336.96 | Y10: =IFERROR(INDEX(Actual!$B$6:$O$20,$B10,Y$8),0) -> 303.264 | ... AC10: =IFERROR(INDEX(Actual!$B$6:$O$20,$B10,AC$8),0) -> 333.5904 | AE10: =IFERROR(IF(OR(Dashboard!$D$7="",Dashboard!$D$7="All"),1,IF(Dashboard!$D$7=Calc!D10,1,0)),0) -> 1 | AF10: =IFERROR(AE10*C10,"") -> 1 | AH10: =IFERROR(IF($AI$6=0,SUM(F10:Q10),INDEX($B$10:$AC$24,$B10,AH$8)),"") -> 5296.3328 | AI10: =IFERROR(IF($AI$6=0,SUM(R10:AC10),INDEX($B$10:$AC$24,$B10,AI$8)),"") -> 3796.3328 | AJ10: =IFERROR(AI10-AH10,"") -> -1500 | AK10: =IFERROR(AI10/AH10,"") -> 0.71678517 | AM10: 0 | AT10: All | AU10: Estimated | AV10: Actual | AW10: Act /Est | AY10: =IFERROR(IF(LEN(INDEX($B$10:$AC$24,$B10,3))=0,"",INDEX($B$10:$AC$24,$B10,3)),"") -> Employee Costs | AZ10: =IFERROR(IF(COUNTIF($AY$10:$AY10,AY10)>1,"",AY10),"") -> Employee Costs | BA10: {=IFERROR(INDEX($AZ$10:$AZ$24,SMALL(IF(LEN($AZ$10:$AZ$24)>0,ROW($AZ$10:$AZ$24)-ROW(INDEX($AZ$10:$AZ$24,1,1))+1),$B10)),"")} -> Employee Costs | BC10: =IFERROR(IF(LEN(INDEX($B$10:$AC$24,$B10,4))=0,"",INDEX($B$10:$AC$24,$B10,4)),"") -> International salaries | BD10: =IFERROR(AE10*AI10,"") -> 3796.3328 | BF10: {=IFERROR(INDEX($BC$10:$BC$24,SMALL(IF($BD$10:$BD$24>0,ROW($BC$10:$BC$24)-ROW(INDEX($BC$10:$BC$24,1,1))+1),$B10)),"")} -> International salaries | BG10: =IFERROR(IF(COUNTIF($BF$10:$BF10,BF10)>1,"",BF10),"") -> International salaries | BH10: =IFERROR(SUMIF($BC$10:$BC$24,BG10,$BD$10:$BD$24),"") -> 3796.3328
B11: 2 | C11: =IFERROR(IF(OR(LEN(D11)=0,LEN(E11)=0),0,1),0) -> 1 | D11: =IFERROR(IF(LEN(INDEX(Estimated!$B$6:$O$20,$B11,D$8))=0,"",INDEX(Estimated!$B$6:$O$20,$B11,D$8)),"") -> Employee Costs | E11: =IFERROR(IF(LEN(INDEX(Estimated!$B$6:$O$20,$B11,E$8))=0,"",INDEX(Estimated!$B$6:$O$20,$B11,E$8)),"") -> India process Salaries | F11: =IFERROR(INDEX(Estimated!$B$6:$O$20,$B11,F$8),0) -> 145 | G11: =IFERROR(INDEX(Estimated!$B$6:$O$20,$B11,G$8),0) -> 146.1 | H11: =IFERROR(INDEX(Estimated!$B$6:$O$20,$B11,H$8),0) -> 148.52 | I11: =IFERROR(INDEX(Estimated!$B$6:$O$20,$B11,I$8),0) -> 148.52 | J11: =IFERROR(INDEX(Estimated!$B$6:$O$20,$B11,J$8),0) -> 148.52 | K11: =IFERROR(INDEX(Estimated!$B$6:$O$20,$B11,K$8),0) -> 148.52 | L11: =IFERROR(INDEX(Estimated!$B$6:$O$20,$B11,L$8),0) -> 148.52 | M11: =IFERROR(INDEX(Estimated!$B$6:$O$20,$B11,M$8),0) -> 145.616 | ... Q11: =IFERROR(INDEX(Estimated!$B$6:$O$20,$B11,Q$8),0) -> 154.07245 | R11: =IFERROR(INDEX(Actual!$B$6:$O$20,$B11,R$8),0) -> 11 | S11: =IFERROR(INDEX(Actual!$B$6:$O$20,$B11,S$8),0) -> 12.1 | T11: =IFERROR(INDEX(Actual!$B$6:$O$20,$B11,T$8),0) -> 14.52 | U11: =IFERROR(INDEX(Actual!$B$6:$O$20,$B11,U$8),0) -> 14.52 | V11: =IFERROR(INDEX(Actual!$B$6:$O$20,$B11,V$8),0) -> 14.52 | W11: =IFERROR(INDEX(Actual!$B$6:$O$20,$B11,W$8),0) -> 14.52 | X11: =IFERROR(INDEX(Actual!$B$6:$O$20,$B11,X$8),0) -> 14.52 | Y11: =IFERROR(INDEX(Actual!$B$6:$O$20,$B11,Y$8),0) -> 11.616 | ... AC11: =IFERROR(INDEX(Actual!$B$6:$O$20,$B11,AC$8),0) -> 20.072448 | AE11: =IFERROR(IF(OR(Dashboard!$D$7="",Dashboard!$D$7="All"),1,IF(Dashboard!$D$7=Calc!D11,1,0)),0) -> 1 | AF11: =IFERROR(AE11*C11,"") -> 1 | AH11: =IFERROR(IF($AI$6=0,SUM(F11:Q11),INDEX($B$10:$AC$24,$B11,AH$8)),"") -> 1786.1271 | AI11: =IFERROR(IF($AI$6=0,SUM(R11:AC11),INDEX($B$10:$AC$24,$B11,AI$8)),"") -> 178.12714 | AJ11: =IFERROR(AI11-AH11,"") -> -1608 | AK11: =IFERROR(AI11/AH11,"") -> 0.099728139 | AM11: 1 | AN11: January | AO11: Jan | AQ11: =IFERROR(DATE($AN$27,MATCH($AN$28,$AN$11:$AN$22,0)+AM10,1),"") -> 44562 | AR11: =IFERROR(INDEX($AO$11:$AO$22,MONTH(AQ11)),"") -> Jan | AS11: =IFERROR(YEAR(AQ11),"") -> 2022 | AT11: =IFERROR(AR11&" "&AS11,"") -> Jan 2022 | AU11: {=IFERROR(SUMPRODUCT(($AF$10:$AF$24)*(OFFSET($A$10,0,$AM11+AU$9,15,1))),"")} -> 5441.69 | AV11: {=IFERROR(SUMPRODUCT(($AF$10:$AF$24)*(OFFSET($A$10,0,$AM11+AV$9,15,1))),"")} -> 2650.69 | AW11: =IFERROR(AV11/AU11,"") -> 0.48710787 | AY11: =IFERROR(IF(LEN(INDEX($B$10:$AC$24,$B11,3))=0,"",INDEX($B$10:$AC$24,$B11,3)),"") -> Employee Costs | AZ11: =IFERROR(IF(COUNTIF($AY$10:$AY11,AY11)>1,"",AY11),"") | BA11: {=IFERROR(INDEX($AZ$10:$AZ$24,SMALL(IF(LEN($AZ$10:$AZ$24)>0,ROW($AZ$10:$AZ$24)-ROW(INDEX($AZ$10:$AZ$24,1,1))+1),$B11)),"")} -> Office Costs | BC11: =IFERROR(IF(LEN(INDEX($B$10:$AC$24,$B11,4))=0,"",INDEX($B$10:$AC$24,$B11,4)),"") -> India process Salaries | BD11: =IFERROR(AE11*AI11,"") -> 178.12714 | BF11: {=IFERROR(INDEX($BC$10:$BC$24,SMALL(IF($BD$10:$BD$24>0,ROW($BC$10:$BC$24)-ROW(INDEX($BC$10:$BC$24,1,1))+1),$B11)),"")} -> India process Salaries | BG11: =IFERROR(IF(COUNTIF($BF$10:$BF11,BF11)>1,"",BF11),"") -> India process Salaries | BH11: =IFERROR(SUMIF($BC$10:$BC$24,BG11,$BD$10:$BD$24),"") -> 178.12714
B12: 3 | C12: =IFERROR(IF(OR(LEN(D12)=0,LEN(E12)=0),0,1),0) -> 1 | D12: =IFERROR(IF(LEN(INDEX(Estimated!$B$6:$O$20,$B12,D$8))=0,"",INDEX(Estimated!$B$6:$O$20,$B12,D$8)),"") -> Employee Costs | E12: =IFERROR(IF(LEN(INDEX(Estimated!$B$6:$O$20,$B12,E$8))=0,"",INDEX(Estimated!$B$6:$O$20,$B12,E$8)),"") -> Other Salaries | F12: =IFERROR(INDEX(Estimated!$B$6:$O$20,$B12,F$8),0) -> 457 | G12: =IFERROR(INDEX(Estimated!$B$6:$O$20,$B12,G$8),0) -> 457 | H12: =IFERROR(INDEX(Estimated!$B$6:$O$20,$B12,H$8),0) -> 433 | I12: =IFERROR(INDEX(Estimated!$B$6:$O$20,$B12,I$8),0) -> 411.4 | J12: =IFERROR(INDEX(Estimated!$B$6:$O$20,$B12,J$8),0) -> 372.52 | K12: =IFERROR(INDEX(Estimated!$B$6:$O$20,$B12,K$8),0) -> 356.968 | L12: =IFERROR(INDEX(Estimated!$B$6:$O$20,$B12,L$8),0) -> 370.9648 | M12: =IFERROR(INDEX(Estimated!$B$6:$O$20,$B12,M$8),0) -> 370.9648 | ... Q12: =IFERROR(INDEX(Estimated!$B$6:$O$20,$B12,Q$8),0) -> 395.84551 | R12: =IFERROR(INDEX(Actual!$B$6:$O$20,$B12,R$8),0) -> 240 | S12: =IFERROR(INDEX(Actual!$B$6:$O$20,$B12,S$8),0) -> 240 | T12: =IFERROR(INDEX(Actual!$B$6:$O$20,$B12,T$8),0) -> 216 | U12: =IFERROR(INDEX(Actual!$B$6:$O$20,$B12,U$8),0) -> 194.4 | V12: =IFERROR(INDEX(Actual!$B$6:$O$20,$B12,V$8),0) -> 155.52 | W12: =IFERROR(INDEX(Actual!$B$6:$O$20,$B12,W$8),0) -> 139.968 | X12: =IFERROR(INDEX(Actual!$B$6:$O$20,$B12,X$8),0) -> 153.9648 | Y12: =IFERROR(INDEX(Actual!$B$6:$O$20,$B12,Y$8),0) -> 153.9648 | ... AC12: =IFERROR(INDEX(Actual!$B$6:$O$20,$B12,AC$8),0) -> 178.84551 | AE12: =IFERROR(IF(OR(Dashboard!$D$7="",Dashboard!$D$7="All"),1,IF(Dashboard!$D$7=Calc!D12,1,0)),0) -> 1 | AF12: =IFERROR(AE12*C12,"") -> 1 | AH12: =IFERROR(IF($AI$6=0,SUM(F12:Q12),INDEX($B$10:$AC$24,$B12,AH$8)),"") -> 4697.9108 | AI12: =IFERROR(IF($AI$6=0,SUM(R12:AC12),INDEX($B$10:$AC$24,$B12,AI$8)),"") -> 2093.9108 | AJ12: =IFERROR(AI12-AH12,"") -> -2604 | AK12: =IFERROR(AI12/AH12,"") -> 0.44571106 | AM12: 2 | AN12: February | AO12: Feb | AQ12: =IFERROR(DATE($AN$27,MATCH($AN$28,$AN$11:$AN$22,0)+AM11,1),"") -> 44593 | AR12: =IFERROR(INDEX($AO$11:$AO$22,MONTH(AQ12)),"") -> Feb | AS12: =IFERROR(YEAR(AQ12),"") -> 2022 | AT12: =IFERROR(AR12&" "&AS12,"") -> Feb 2022 | AU12: {=IFERROR(SUMPRODUCT(($AF$10:$AF$24)*(OFFSET($A$10,0,$AM12+AU$9,15,1))),"")} -> 5329.438 | AV12: {=IFERROR(SUMPRODUCT(($AF$10:$AF$24)*(OFFSET($A$10,0,$AM12+AV$9,15,1))),"")} -> 2713.748 | AW12: =IFERROR(AV12/AU12,"") -> 0.50919966 | AY12: =IFERROR(IF(LEN(INDEX($B$10:$AC$24,$B12,3))=0,"",INDEX($B$10:$AC$24,$B12,3)),"") -> Employee Costs | AZ12: =IFERROR(IF(COUNTIF($AY$10:$AY12,AY12)>1,"",AY12),"") | BA12: {=IFERROR(INDEX($AZ$10:$AZ$24,SMALL(IF(LEN($AZ$10:$AZ$24)>0,ROW($AZ$10:$AZ$24)-ROW(INDEX($AZ$10:$AZ$24,1,1))+1),$B12)),"")} -> Vehicle Maintainance | BC12: =IFERROR(IF(LEN(INDEX($B$10:$AC$24,$B12,4))=0,"",INDEX($B$10:$AC$24,$B12,4)),"") -> Other Salaries | BD12: =IFERROR(AE12*AI12,"") -> 2093.9108 | BF12: {=IFERROR(INDEX($BC$10:$BC$24,SMALL(IF($BD$10:$BD$24>0,ROW($BC$10:$BC$24)-ROW(INDEX($BC$10:$BC$24,1,1))+1),$B12)),"")} -> Other Salaries | BG12: =IFERROR(IF(COUNTIF($BF$10:$BF12,BF12)>1,"",BF12),"") -> Other Salaries | BH12: =IFERROR(SUMIF($BC$10:$BC$24,BG12,$BD$10:$BD$24),"") -> 2093.9108
B13: 4 | C13: =IFERROR(IF(OR(LEN(D13)=0,LEN(E13)=0),0,1),0) -> 1 | D13: =IFERROR(IF(LEN(INDEX(Estimated!$B$6:$O$20,$B13,D$8))=0,"",INDEX(Estimated!$B$6:$O$20,$B13,D$8)),"") -> Employee Costs | E13: =IFERROR(IF(LEN(INDEX(Estimated!$B$6:$O$20,$B13,E$8))=0,"",INDEX(Estimated!$B$6:$O$20,$B13,E$8)),"") -> Employee Benefit Expenses | F13: =IFERROR(INDEX(Estimated!$B$6:$O$20,$B13,F$8),0) -> 211.61 | G13: =IFERROR(INDEX(Estimated!$B$6:$O$20,$B13,G$8),0) -> 85.358 | H13: =IFERROR(INDEX(Estimated!$B$6:$O$20,$B13,H$8),0) -> 109.4856 | I13: =IFERROR(INDEX(Estimated!$B$6:$O$20,$B13,I$8),0) -> 111.76704 | J13: =IFERROR(INDEX(Estimated!$B$6:$O$20,$B13,J$8),0) -> 86.478336 | K13: =IFERROR(INDEX(Estimated!$B$6:$O$20,$B13,K$8),0) -> 73.156608 | L13: =IFERROR(INDEX(Estimated!$B$6:$O$20,$B13,L$8),0) -> 67.665347 | M13: =IFERROR(INDEX(Estimated!$B$6:$O$20,$B13,M$8),0) -> 63.42407 | ... Q13: =IFERROR(INDEX(Estimated!$B$6:$O$20,$B13,Q$8),0) -> 43.395798 | R13: =IFERROR(INDEX(Actual!$B$6:$O$20,$B13,R$8),0) -> 43.61 | S13: =IFERROR(INDEX(Actual!$B$6:$O$20,$B13,S$8),0) -> 41.748 | T13: =IFERROR(INDEX(Actual!$B$6:$O$20,$B13,T$8),0) -> 67.7376 | U13: =IFERROR(INDEX(Actual!$B$6:$O$20,$B13,U$8),0) -> 44.02944 | V13: =IFERROR(INDEX(Actual!$B$6:$O$20,$B13,V$8),0) -> 42.448896 | W13: =IFERROR(INDEX(Actual!$B$6:$O$20,$B13,W$8),0) -> 30.707712 | X13: =IFERROR(INDEX(Actual!$B$6:$O$20,$B13,X$8),0) -> 36.957635 | Y13: =IFERROR(INDEX(Actual!$B$6:$O$20,$B13,Y$8),0) -> 26.466435 | ... AC13: =IFERROR(INDEX(Actual!$B$6:$O$20,$B13,AC$8),0) -> 22.434381 | AE13: =IFERROR(IF(OR(Dashboard!$D$7="",Dashboard!$D$7="All"),1,IF(Dashboard!$D$7=Calc!D13,1,0)),0) -> 1 | AF13: =IFERROR(AE13*C13,"") -> 1 | AH13: =IFERROR(IF($AI$6=0,SUM(F13:Q13),INDEX($B$10:$AC$24,$B13,AH$8)),"") -> 1016.0636 | AI13: =IFERROR(IF($AI$6=0,SUM(R13:AC13),INDEX($B$10:$AC$24,$B13,AI$8)),"") -> 435.24899 | AJ13: =IFERROR(AI13-AH13,"") -> -580.81461 | AK13: =IFERROR(AI13/AH13,"") -> 0.42836786 | AM13: 3 | AN13: March | AO13: Mar | AQ13: =IFERROR(DATE($AN$27,MATCH($AN$28,$AN$11:$AN$22,0)+AM12,1),"") -> 44621 | AR13: =IFERROR(INDEX($AO$11:$AO$22,MONTH(AQ13)),"") -> Mar | AS13: =IFERROR(YEAR(AQ13),"") -> 2022 | AT13: =IFERROR(AR13&" "&AS13,"") -> Mar 2022 | AU13: {=IFERROR(SUMPRODUCT(($AF$10:$AF$24)*(OFFSET($A$10,0,$AM13+AU$9,15,1))),"")} -> 5395.6288 | AV13: {=IFERROR(SUMPRODUCT(($AF$10:$AF$24)*(OFFSET($A$10,0,$AM13+AV$9,15,1))),"")} -> 2769.9808 | AW13: =IFERROR(AV13/AU13,"") -> 0.51337497 | AY13: =IFERROR(IF(LEN(INDEX($B$10:$AC$24,$B13,3))=0,"",INDEX($B$10:$AC$24,$B13,3)),"") -> Employee Costs | AZ13: =IFERROR(IF(COUNTIF($AY$10:$AY13,AY13)>1,"",AY13),"") | BA13: {=IFERROR(INDEX($AZ$10:$AZ$24,SMALL(IF(LEN($AZ$10:$AZ$24)>0,ROW($AZ$10:$AZ$24)-ROW(INDEX($AZ$10:$AZ$24,1,1))+1),$B13)),"")} -> Food and Beverages | BC13: =IFERROR(IF(LEN(INDEX($B$10:$AC$24,$B13,4))=0,"",INDEX($B$10:$AC$24,$B13,4)),"") -> Employee Benefit Expenses | BD13: =IFERROR(AE13*AI13,"") -> 435.24899 | BF13: {=IFERROR(INDEX($BC$10:$BC$24,SMALL(IF($BD$10:$BD$24>0,ROW($BC$10:$BC$24)-ROW(INDEX($BC$10:$BC$24,1,1))+1),$B13)),"")} -> Employee Benefit Expenses | BG13: =IFERROR(IF(COUNTIF($BF$10:$BF13,BF13)>1,"",BF13),"") -> Employee Benefit Expenses | BH13: =IFERROR(SUMIF($BC$10:$BC$24,BG13,$BD$10:$BD$24),"") -> 435.24899
B14: 5 | C14: =IFERROR(IF(OR(LEN(D14)=0,LEN(E14)=0),0,1),0) -> 1 | D14: =IFERROR(IF(LEN(INDEX(Estimated!$B$6:$O$20,$B14,D$8))=0,"",INDEX(Estimated!$B$6:$O$20,$B14,D$8)),"") -> Office Costs | E14: =IFERROR(IF(LEN(INDEX(Estimated!$B$6:$O$20,$B14,E$8))=0,"",INDEX(Estimated!$B$6:$O$20,$B14,E$8)),"") -> Security Charges | F14: =IFERROR(INDEX(Estimated!$B$6:$O$20,$B14,F$8),0) -> 779 | G14: =IFERROR(INDEX(Estimated!$B$6:$O$20,$B14,G$8),0) -> 896.7 | H14: =IFERROR(INDEX(Estimated!$B$6:$O$20,$B14,H$8),0) -> 986.37 | I14: =IFERROR(INDEX(Estimated!$B$6:$O$20,$B14,I$8),0) -> 1033.34 | J14: =IFERROR(INDEX(Estimated!$B$6:$O$20,$B14,J$8),0) -> 981.673 | K14: =IFERROR(INDEX(Estimated!$B$6:$O$20,$B14,K$8),0) -> 930.006 | L14: =IFERROR(INDEX(Estimated!$B$6:$O$20,$B14,L$8),0) -> 1023.0066 | M14: =IFERROR(INDEX(Estimated!$B$6:$O$20,$B14,M$8),0) -> 1116.0072 | ... Q14: =IFERROR(INDEX(Estimated!$B$6:$O$20,$B14,Q$8),0) -> 1178.5036 | R14: =IFERROR(INDEX(Actual!$B$6:$O$20,$B14,R$8),0) -> 427 | S14: =IFERROR(INDEX(Actual!$B$6:$O$20,$B14,S$8),0) -> 469.7 | T14: =IFERROR(INDEX(Actual!$B$6:$O$20,$B14,T$8),0) -> 516.67 | U14: =IFERROR(INDEX(Actual!$B$6:$O$20,$B14,U$8),0) -> 516.67 | V14: =IFERROR(INDEX(Actual!$B$6:$O$20,$B14,V$8),0) -> 465.003 | W14: =IFERROR(INDEX(Actual!$B$6:$O$20,$B14,W$8),0) -> 465.003 | X14: =IFERROR(INDEX(Actual!$B$6:$O$20,$B14,X$8),0) -> 558.0036 | Y14: =IFERROR(INDEX(Actual!$B$6:$O$20,$B14,Y$8),0) -> 558.0036 | ... AC14: =IFERROR(INDEX(Actual!$B$6:$O$20,$B14,AC$8),0) -> 642.82015 | AE14: =IFERROR(IF(OR(Dashboard!$D$7="",Dashboard!$D$7="All"),1,IF(Dashboard!$D$7=Calc!D14,1,0)),0) -> 1 | AF14: =IFERROR(AE14*C14,"") -> 1 | AH14: =IFERROR(IF($AI$6=0,SUM(F14:Q14),INDEX($B$10:$AC$24,$B14,AH$8)),"") -> 11803.905 | AI14: =IFERROR(IF($AI$6=0,SUM(R14:AC14),INDEX($B$10:$AC$24,$B14,AI$8)),"") -> 6047.3626 | AJ14: =IFERROR(AI14-AH14,"") -> -5756.5424 | AK14: =IFERROR(AI14/AH14,"") -> 0.51231881 | AM14: 4 | AN14: April | AO14: Apr | AQ14: =IFERROR(DATE($AN$27,MATCH($AN$28,$AN$11:$AN$22,0)+AM13,1),"") -> 44652 | AR14: =IFERROR(INDEX($AO$11:$AO$22,MONTH(AQ14)),"") -> Apr | AS14: =IFERROR(YEAR(AQ14),"") -> 2022 | AT14: =IFERROR(AR14&" "&AS14,"") -> Apr 2022 | AU14: {=IFERROR(SUMPRODUCT(($AF$10:$AF$24)*(OFFSET($A$10,0,$AM14+AU$9,15,1))),"")} -> 5562.0683 | AV14: {=IFERROR(SUMPRODUCT(($AF$10:$AF$24)*(OFFSET($A$10,0,$AM14+AV$9,15,1))),"")} -> 2858.6075 | AW14: =IFERROR(AV14/AU14,"") -> 0.51394685 | AY14: =IFERROR(IF(LEN(INDEX($B$10:$AC$24,$B14,3))=0,"",INDEX($B$10:$AC$24,$B14,3)),"") -> Office Costs | AZ14: =IFERROR(IF(COUNTIF($AY$10:$AY14,AY14)>1,"",AY14),"") -> Office Costs | BA14: {=IFERROR(INDEX($AZ$10:$AZ$24,SMALL(IF(LEN($AZ$10:$AZ$24)>0,ROW($AZ$10:$AZ$24)-ROW(INDEX($AZ$10:$AZ$24,1,1))+1),$B14)),"")} | BC14: =IFERROR(IF(LEN(INDEX($B$10:$AC$24,$B14,4))=0,"",INDEX($B$10:$AC$24,$B14,4)),"") -> Security Charges | BD14: =IFERROR(AE14*AI14,"") -> 6047.3626 | BF14: {=IFERROR(INDEX($BC$10:$BC$24,SMALL(IF($BD$10:$BD$24>0,ROW($BC$10:$BC$24)-ROW(INDEX($BC$10:$BC$24,1,1))+1),$B14)),"")} -> Security Charges | BG14: =IFERROR(IF(COUNTIF($BF$10:$BF14,BF14)>1,"",BF14),"") -> Security Charges | BH14: =IFERROR(SUMIF($BC$10:$BC$24,BG14,$BD$10:$BD$24),"") -> 6047.3626
B15: 6 | C15: =IFERROR(IF(OR(LEN(D15)=0,LEN(E15)=0),0,1),0) -> 1 | D15: =IFERROR(IF(LEN(INDEX(Estimated!$B$6:$O$20,$B15,D$8))=0,"",INDEX(Estimated!$B$6:$O$20,$B15,D$8)),"") -> Office Costs | E15: =IFERROR(IF(LEN(INDEX(Estimated!$B$6:$O$20,$B15,E$8))=0,"",INDEX(Estimated!$B$6:$O$20,$B15,E$8)),"") -> Office lease | F15: =IFERROR(INDEX(Estimated!$B$6:$O$20,$B15,F$8),0) -> 238 | G15: =IFERROR(INDEX(Estimated!$B$6:$O$20,$B15,G$8),0) -> 171 | H15: =IFERROR(INDEX(Estimated!$B$6:$O$20,$B15,H$8),0) -> 162 | I15: =IFERROR(INDEX(Estimated!$B$6:$O$20,$B15,I$8),0) -> 162 | J15: =IFERROR(INDEX(Estimated!$B$6:$O$20,$B15,J$8),0) -> 145.8 | K15: =IFERROR(INDEX(Estimated!$B$6:$O$20,$B15,K$8),0) -> 129.6 | L15: =IFERROR(INDEX(Estimated!$B$6:$O$20,$B15,L$8),0) -> 142.56 | M15: =IFERROR(INDEX(Estimated!$B$6:$O$20,$B15,M$8),0) -> 163.296 | ... Q15: =IFERROR(INDEX(Estimated!$B$6:$O$20,$B15,Q$8),0) -> 175.51987 | R15: =IFERROR(INDEX(Actual!$B$6:$O$20,$B15,R$8),0) -> 90 | S15: =IFERROR(INDEX(Actual!$B$6:$O$20,$B15,S$8),0) -> 81 | T15: =IFERROR(INDEX(Actual!$B$6:$O$20,$B15,T$8),0) -> 81 | U15: =IFERROR(INDEX(Actual!$B$6:$O$20,$B15,U$8),0) -> 81 | V15: =IFERROR(INDEX(Actual!$B$6:$O$20,$B15,V$8),0) -> 64.8 | W15: =IFERROR(INDEX(Actual!$B$6:$O$20,$B15,W$8),0) -> 64.8 | X15: =IFERROR(INDEX(Actual!$B$6:$O$20,$B15,X$8),0) -> 77.76 | Y15: =IFERROR(INDEX(Actual!$B$6:$O$20,$B15,Y$8),0) -> 85.536 | ... AC15: =IFERROR(INDEX(Actual!$B$6:$O$20,$B15,AC$8),0) -> 83.140992 | AE15: =IFERROR(IF(OR(Dashboard!$D$7="",Dashboard!$D$7="All"),1,IF(Dashboard!$D$7=Calc!D15,1,0)),0) -> 1 | AF15: =IFERROR(AE15*C15,"") -> 1 | AH15: =IFERROR(IF($AI$6=0,SUM(F15:Q15),INDEX($B$10:$AC$24,$B15,AH$8)),"") -> 2006.4133 | AI15: =IFERROR(IF($AI$6=0,SUM(R15:AC15),INDEX($B$10:$AC$24,$B15,AI$8)),"") -> 970.77715 | AJ15: =IFERROR(AI15-AH15,"") -> -1035.6362 | AK15: =IFERROR(AI15/AH15,"") -> 0.48383708 | AM15: 5 | AN15: May | AO15: May | AQ15: =IFERROR(DATE($AN$27,MATCH($AN$28,$AN$11:$AN$22,0)+AM14,1),"") -> 44682 | AR15: =IFERROR(INDEX($AO$11:$AO$22,MONTH(AQ15)),"") -> May | AS15: =IFERROR(YEAR(AQ15),"") -> 2022 | AT15: =IFERROR(AR15&" "&AS15,"") -> May 2022 | AU15: {=IFERROR(SUMPRODUCT(($AF$10:$AF$24)*(OFFSET($A$10,0,$AM15+AU$9,15,1))),"")} -> 5333.9969 | AV15: {=IFERROR(SUMPRODUCT(($AF$10:$AF$24)*(OFFSET($A$10,0,$AM15+AV$9,15,1))),"")} -> 2520.3093 | AW15: =IFERROR(AV15/AU15,"") -> 0.47249922 | AY15: =IFERROR(IF(LEN(INDEX($B$10:$AC$24,$B15,3))=0,"",INDEX($B$10:$AC$24,$B15,3)),"") -> Office Costs | AZ15: =IFERROR(IF(COUNTIF($AY$10:$AY15,AY15)>1,"",AY15),"") | BA15: {=IFERROR(INDEX($AZ$10:$AZ$24,SMALL(IF(LEN($AZ$10:$AZ$24)>0,ROW($AZ$10:$AZ$24)-ROW(INDEX($AZ$10:$AZ$24,1,1))+1),$B15)),"")} | BC15: =IFERROR(IF(LEN(INDEX($B$10:$AC$24,$B15,4))=0,"",INDEX($B$10:$AC$24,$B15,4)),"") -> Office lease | BD15: =IFERROR(AE15*AI15,"") -> 970.77715 | BF15: {=IFERROR(INDEX($BC$10:$BC$24,SMALL(IF($BD$10:$BD$24>0,ROW($BC$10:$BC$24)-ROW(INDEX($BC$10:$BC$24,1,1))+1),$B15)),"")} -> Office lease | BG15: =IFERROR(IF(COUNTIF($BF$10:$BF15,BF15)>1,"",BF15),"") -> Office lease | BH15: =IFERROR(SUMIF($BC$10:$BC$24,BG15,$BD$10:$BD$24),"") -> 970.77715
B16: 7 | C16: =IFERROR(IF(OR(LEN(D16)=0,LEN(E16)=0),0,1),0) -> 1 | D16: =IFERROR(IF(LEN(INDEX(Estimated!$B$6:$O$20,$B16,D$8))=0,"",INDEX(Estimated!$B$6:$O$20,$B16,D$8)),"") -> Office Costs | E16: =IFERROR(IF(LEN(INDEX(Estimated!$B$6:$O$20,$B16,E$8))=0,"",INDEX(Estimated!$B$6:$O$20,$B16,E$8)),"") -> Furniture Purchase | F16: =IFERROR(INDEX(Estimated!$B$6:$O$20,$B16,F$8),0) -> 426.08 | G16: =IFERROR(INDEX(Estimated!$B$6:$O$20,$B16,G$8),0) -> 325.68 | H16: =IFERROR(INDEX(Estimated!$B$6:$O$20,$B16,H$8),0) -> 276.8832 | I16: =IFERROR(INDEX(Estimated!$B$6:$O$20,$B16,I$8),0) -> 223.36128 | J16: =IFERROR(INDEX(Estimated!$B$6:$O$20,$B16,J$8),0) -> 215.80992 | K16: =IFERROR(INDEX(Estimated!$B$6:$O$20,$B16,K$8),0) -> 189.57888 | L16: =IFERROR(INDEX(Estimated!$B$6:$O$20,$B16,L$8),0) -> 159.67549 | M16: =IFERROR(INDEX(Estimated!$B$6:$O$20,$B16,M$8),0) -> 139.0722 | ... Q16: =IFERROR(INDEX(Estimated!$B$6:$O$20,$B16,Q$8),0) -> 118.55905 | R16: =IFERROR(INDEX(Actual!$B$6:$O$20,$B16,R$8),0) -> 160.08 | S16: =IFERROR(INDEX(Actual!$B$6:$O$20,$B16,S$8),0) -> 165.6 | T16: =IFERROR(INDEX(Actual!$B$6:$O$20,$B16,T$8),0) -> 111.2832 | U16: =IFERROR(INDEX(Actual!$B$6:$O$20,$B16,U$8),0) -> 112.07808 | V16: =IFERROR(INDEX(Actual!$B$6:$O$20,$B16,V$8),0) -> 103.73184 | W16: =IFERROR(INDEX(Actual!$B$6:$O$20,$B16,W$8),0) -> 85.84704 | X16: =IFERROR(INDEX(Actual!$B$6:$O$20,$B16,X$8),0) -> 73.828454 | Y16: =IFERROR(INDEX(Actual!$B$6:$O$20,$B16,Y$8),0) -> 65.24375 | ... AC16: =IFERROR(INDEX(Actual!$B$6:$O$20,$B16,AC$8),0) -> 59.453368 | AE16: =IFERROR(IF(OR(Dashboard!$D$7="",Dashboard!$D$7="All"),1,IF(Dashboard!$D$7=Calc!D16,1,0)),0) -> 1 | AF16: =IFERROR(AE16*C16,"") -> 1 | AH16: =IFERROR(IF($AI$6=0,SUM(F16:Q16),INDEX($B$10:$AC$24,$B16,AH$8)),"") -> 2448.2978 | AI16: =IFERROR(IF($AI$6=0,SUM(R16:AC16),INDEX($B$10:$AC$24,$B16,AI$8)),"") -> 1120.8756 | AJ16: =IFERROR(AI16-AH16,"") -> -1327.4222 | AK16: =IFERROR(AI16/AH16,"") -> 0.45781832 | AM16: 6 | AN16: June | AO16: Jun | AQ16: =IFERROR(DATE($AN$27,MATCH($AN$28,$AN$11:$AN$22,0)+AM15,1),"") -> 44713 | AR16: =IFERROR(INDEX($AO$11:$AO$22,MONTH(AQ16)),"") -> Jun | AS16: =IFERROR(YEAR(AQ16),"") -> 2022 | AT16: =IFERROR(AR16&" "&AS16,"") -> Jun 2022 | AU16: {=IFERROR(SUMPRODUCT(($AF$10:$AF$24)*(OFFSET($A$10,0,$AM16+AU$9,15,1))),"")} -> 5110.425 | AV16: {=IFERROR(SUMPRODUCT(($AF$10:$AF$24)*(OFFSET($A$10,0,$AM16+AV$9,15,1))),"")} -> 2596.1557 | AW16: =IFERROR(AV16/AU16,"") -> 0.5080117 | AY16: =IFERROR(IF(LEN(INDEX($B$10:$AC$24,$B16,3))=0,"",INDEX($B$10:$AC$24,$B16,3)),"") -> Office Costs | AZ16: =IFERROR(IF(COUNTIF($AY$10:$AY16,AY16)>1,"",AY16),"") | BA16: {=IFERROR(INDEX($AZ$10:$AZ$24,SMALL(IF(LEN($AZ$10:$AZ$24)>0,ROW($AZ$10:$AZ$24)-ROW(INDEX($AZ$10:$AZ$24,1,1))+1),$B16)),"")} | BC16: =IFERROR(IF(LEN(INDEX($B$10:$AC$24,$B16,4))=0,"",INDEX($B$10:$AC$24,$B16,4)),"") -> Furniture Purchase | BD16: =IFERROR(AE16*AI16,"") -> 1120.8756 | BF16: {=IFERROR(INDEX($BC$10:$BC$24,SMALL(IF($BD$10:$BD$24>0,ROW($BC$10:$BC$24)-ROW(INDEX($BC$10:$BC$24,1,1))+1),$B16)),"")} -> Furniture Purchase | BG16: =IFERROR(IF(COUNTIF($BF$10:$BF16,BF16)>1,"",BF16),"") -> Furniture Purchase | BH16: =IFERROR(SUMIF($BC$10:$BC$24,BG16,$BD$10:$BD$24),"") -> 1120.8756
B17: 8 | C17: =IFERROR(IF(OR(LEN(D17)=0,LEN(E17)=0),0,1),0) -> 1 | D17: =IFERROR(IF(LEN(INDEX(Estimated!$B$6:$O$20,$B17,D$8))=0,"",INDEX(Estimated!$B$6:$O$20,$B17,D$8)),"") -> Vehicle Maintainance | E17: =IFERROR(IF(LEN(INDEX(Estimated!$B$6:$O$20,$B17,E$8))=0,"",INDEX(Estimated!$B$6:$O$20,$B17,E$8)),"") -> Santro Petrol | F17: =IFERROR(INDEX(Estimated!$B$6:$O$20,$B17,F$8),0) -> 600 | G17: =IFERROR(INDEX(Estimated!$B$6:$O$20,$B17,G$8),0) -> 479.6 | H17: =IFERROR(INDEX(Estimated!$B$6:$O$20,$B17,H$8),0) -> 549.36 | I17: =IFERROR(INDEX(Estimated!$B$6:$O$20,$B17,I$8),0) -> 575.52 | J17: =IFERROR(INDEX(Estimated!$B$6:$O$20,$B17,J$8),0) -> 575.52 | K17: =IFERROR(INDEX(Estimated!$B$6:$O$20,$B17,K$8),0) -> 633.072 | L17: =IFERROR(INDEX(Estimated!$B$6:$O$20,$B17,L$8),0) -> 725.1552 | M17: =IFERROR(INDEX(Estimated!$B$6:$O$20,$B17,M$8),0) -> 759.6864 | ... Q17: =IFERROR(INDEX(Estimated!$B$6:$O$20,$B17,Q$8),0) -> 1158.2179 | R17: =IFERROR(INDEX(Actual!$B$6:$O$20,$B17,R$8),0) -> 218 | S17: =IFERROR(INDEX(Actual!$B$6:$O$20,$B17,S$8),0) -> 261.6 | T17: =IFERROR(INDEX(Actual!$B$6:$O$20,$B17,T$8),0) -> 287.76 | U17: =IFERROR(INDEX(Actual!$B$6:$O$20,$B17,U$8),0) -> 287.76 | V17: =IFERROR(INDEX(Actual!$B$6:$O$20,$B17,V$8),0) -> 287.76 | W17: =IFERROR(INDEX(Actual!$B$6:$O$20,$B17,W$8),0) -> 345.312 | X17: =IFERROR(INDEX(Actual!$B$6:$O$20,$B17,X$8),0) -> 379.8432 | Y17: =IFERROR(INDEX(Actual!$B$6:$O$20,$B17,Y$8),0) -> 379.8432 | ... AC17: =IFERROR(INDEX(Actual!$B$6:$O$20,$B17,AC$8),0) -> 606.68556 | AE17: =IFERROR(IF(OR(Dashboard!$D$7="",Dashboard!$D$7="All"),1,IF(Dashboard!$D$7=Calc!D17,1,0)),0) -> 1 | AF17: =IFERROR(AE17*C17,"") -> 1 | AH17: =IFERROR(IF($AI$6=0,SUM(F17:Q17),INDEX($B$10:$AC$24,$B17,AH$8)),"") -> 8901.9167 | AI17: =IFERROR(IF($AI$6=0,SUM(R17:AC17),INDEX($B$10:$AC$24,$B17,AI$8)),"") -> 4563.3011 | AJ17: =IFERROR(AI17-AH17,"") -> -4338.6156 | AK17: =IFERROR(AI17/AH17,"") -> 0.51262007 | AM17: 7 | AN17: July | AO17: Jul | AQ17: =IFERROR(DATE($AN$27,MATCH($AN$28,$AN$11:$AN$22,0)+AM16,1),"") -> 44743 | AR17: =IFERROR(INDEX($AO$11:$AO$22,MONTH(AQ17)),"") -> Jul | AS17: =IFERROR(YEAR(AQ17),"") -> 2022 | AT17: =IFERROR(AR17&" "&AS17,"") -> Jul 2022 | AU17: {=IFERROR(SUMPRODUCT(($AF$10:$AF$24)*(OFFSET($A$10,0,$AM17+AU$9,15,1))),"")} -> 5228.0332 | AV17: {=IFERROR(SUMPRODUCT(($AF$10:$AF$24)*(OFFSET($A$10,0,$AM17+AV$9,15,1))),"")} -> 2684.7655 | AW17: =IFERROR(AV17/AU17,"") -> 0.51353261 | AY17: =IFERROR(IF(LEN(INDEX($B$10:$AC$24,$B17,3))=0,"",INDEX($B$10:$AC$24,$B17,3)),"") -> Vehicle Maintainance | AZ17: =IFERROR(IF(COUNTIF($AY$10:$AY17,AY17)>1,"",AY17),"") -> Vehicle Maintainance | BA17: {=IFERROR(INDEX($AZ$10:$AZ$24,SMALL(IF(LEN($AZ$10:$AZ$24)>0,ROW($AZ$10:$AZ$24)-ROW(INDEX($AZ$10:$AZ$24,1,1))+1),$B17)),"")} | BC17: =IFERROR(IF(LEN(INDEX($B$10:$AC$24,$B17,4))=0,"",INDEX($B$10:$AC$24,$B17,4)),"") -> Santro Petrol | BD17: =IFERROR(AE17*AI17,"") -> 4563.3011 | BF17: {=IFERROR(INDEX($BC$10:$BC$24,SMALL(IF($BD$10:$BD$24>0,ROW($BC$10:$BC$24)-ROW(INDEX($BC$10:$BC$24,1,1))+1),$B17)),"")} -> Santro Petrol | BG17: =IFERROR(IF(COUNTIF($BF$10:$BF17,BF17)>1,"",BF17),"") -> Santro Petrol | BH17: =IFERROR(SUMIF($BC$10:$BC$24,BG17,$BD$10:$BD$24),"") -> 4563.3011
B18: 9 | C18: =IFERROR(IF(OR(LEN(D18)=0,LEN(E18)=0),0,1),0) -> 1 | D18: =IFERROR(IF(LEN(INDEX(Estimated!$B$6:$O$20,$B18,D$8))=0,"",INDEX(Estimated!$B$6:$O$20,$B18,D$8)),"") -> Vehicle Maintainance | E18: =IFERROR(IF(LEN(INDEX(Estimated!$B$6:$O$20,$B18,E$8))=0,"",INDEX(Estimated!$B$6:$O$20,$B18,E$8)),"") -> Santro Maintenance | F18: =IFERROR(INDEX(Estimated!$B$6:$O$20,$B18,F$8),0) -> 573 | G18: =IFERROR(INDEX(Estimated!$B$6:$O$20,$B18,G$8),0) -> 863.1 | H18: =IFERROR(INDEX(Estimated!$B$6:$O$20,$B18,H$8),0) -> 949.41 | I18: =IFERROR(INDEX(Estimated!$B$6:$O$20,$B18,I$8),0) -> 994.62 | J18: =IFERROR(INDEX(Estimated!$B$6:$O$20,$B18,J$8),0) -> 895.158 | K18: =IFERROR(INDEX(Estimated!$B$6:$O$20,$B18,K$8),0) -> 755.9112 | L18: =IFERROR(INDEX(Estimated!$B$6:$O$20,$B18,L$8),0) -> 751.93272 | M18: =IFERROR(INDEX(Estimated!$B$6:$O$20,$B18,M$8),0) -> 787.73904 | ... Q18: =IFERROR(INDEX(Estimated!$B$6:$O$20,$B18,Q$8),0) -> 718.418 | R18: =IFERROR(INDEX(Actual!$B$6:$O$20,$B18,R$8),0) -> 411 | S18: =IFERROR(INDEX(Actual!$B$6:$O$20,$B18,S$8),0) -> 452.1 | T18: =IFERROR(INDEX(Actual!$B$6:$O$20,$B18,T$8),0) -> 497.31 | U18: =IFERROR(INDEX(Actual!$B$6:$O$20,$B18,U$8),0) -> 497.31 | V18: =IFERROR(INDEX(Actual!$B$6:$O$20,$B18,V$8),0) -> 397.848 | W18: =IFERROR(INDEX(Actual!$B$6:$O$20,$B18,W$8),0) -> 358.0632 | X18: =IFERROR(INDEX(Actual!$B$6:$O$20,$B18,X$8),0) -> 393.86952 | Y18: =IFERROR(INDEX(Actual!$B$6:$O$20,$B18,Y$8),0) -> 393.86952 | ... AC18: =IFERROR(INDEX(Actual!$B$6:$O$20,$B18,AC$8),0) -> 340.30327 | AE18: =IFERROR(IF(OR(Dashboard!$D$7="",Dashboard!$D$7="All"),1,IF(Dashboard!$D$7=Calc!D18,1,0)),0) -> 1 | AF18: =IFERROR(AE18*C18,"") -> 1 | AH18: =IFERROR(IF($AI$6=0,SUM(F18:Q18),INDEX($B$10:$AC$24,$B18,AH$8)),"") -> 9951.8469 | AI18: =IFERROR(IF($AI$6=0,SUM(R18:AC18),INDEX($B$10:$AC$24,$B18,AI$8)),"") -> 5065.0751 | AJ18: =IFERROR(AI18-AH18,"") -> -4886.7718 | AK18: =IFERROR(AI18/AH18,"") -> 0.5089583 | AM18: 8 | AN18: August | AO18: Aug | AQ18: =IFERROR(DATE($AN$27,MATCH($AN$28,$AN$11:$AN$22,0)+AM17,1),"") -> 44774 | AR18: =IFERROR(INDEX($AO$11:$AO$22,MONTH(AQ18)),"") -> Aug | AS18: =IFERROR(YEAR(AQ18),"") -> 2022 | AT18: =IFERROR(AR18&" "&AS18,"") -> Aug 2022 | AU18: {=IFERROR(SUMPRODUCT(($AF$10:$AF$24)*(OFFSET($A$10,0,$AM18+AU$9,15,1))),"")} -> 5417.2236 | AV18: {=IFERROR(SUMPRODUCT(($AF$10:$AF$24)*(OFFSET($A$10,0,$AM18+AV$9,15,1))),"")} -> 2761.9029 | AW18: =IFERROR(AV18/AU18,"") -> 0.50983734 | AY18: =IFERROR(IF(LEN(INDEX($B$10:$AC$24,$B18,3))=0,"",INDEX($B$10:$AC$24,$B18,3)),"") -> Vehicle Maintainance | AZ18: =IFERROR(IF(COUNTIF($AY$10:$AY18,AY18)>1,"",AY18),"") | BA18: {=IFERROR(INDEX($AZ$10:$AZ$24,SMALL(IF(LEN($AZ$10:$AZ$24)>0,ROW($AZ$10:$AZ$24)-ROW(INDEX($AZ$10:$AZ$24,1,1))+1),$B18)),"")} | BC18: =IFERROR(IF(LEN(INDEX($B$10:$AC$24,$B18,4))=0,"",INDEX($B$10:$AC$24,$B18,4)),"") -> Santro Maintenance | BD18: =IFERROR(AE18*AI18,"") -> 5065.0751 | BF18: {=IFERROR(INDEX($BC$10:$BC$24,SMALL(IF($BD$10:$BD$24>0,ROW($BC$10:$BC$24)-ROW(INDEX($BC$10:$BC$24,1,1))+1),$B18)),"")} -> Santro Maintenance | BG18: =IFERROR(IF(COUNTIF($BF$10:$BF18,BF18)>1,"",BF18),"") -> Santro Maintenance | BH18: =IFERROR(SUMIF($BC$10:$BC$24,BG18,$BD$10:$BD$24),"") -> 5065.0751
B19: 10 | C19: =IFERROR(IF(OR(LEN(D19)=0,LEN(E19)=0),0,1),0) -> 1 | D19: =IFERROR(IF(LEN(INDEX(Estimated!$B$6:$O$20,$B19,D$8))=0,"",INDEX(Estimated!$B$6:$O$20,$B19,D$8)),"") -> Vehicle Maintainance | E19: =IFERROR(IF(LEN(INDEX(Estimated!$B$6:$O$20,$B19,E$8))=0,"",INDEX(Estimated!$B$6:$O$20,$B19,E$8)),"") -> Micra Maintainance | F19: =IFERROR(INDEX(Estimated!$B$6:$O$20,$B19,F$8),0) -> 339 | G19: =IFERROR(INDEX(Estimated!$B$6:$O$20,$B19,G$8),0) -> 37.8 | H19: =IFERROR(INDEX(Estimated!$B$6:$O$20,$B19,H$8),0) -> 41.58 | I19: =IFERROR(INDEX(Estimated!$B$6:$O$20,$B19,I$8),0) -> 47.916 | J19: =IFERROR(INDEX(Estimated!$B$6:$O$20,$B19,J$8),0) -> 49.6584 | K19: =IFERROR(INDEX(Estimated!$B$6:$O$20,$B19,K$8),0) -> 51.74928 | L19: =IFERROR(INDEX(Estimated!$B$6:$O$20,$B19,L$8),0) -> 50.808384 | M19: =IFERROR(INDEX(Estimated!$B$6:$O$20,$B19,M$8),0) -> 42.904858 | ... Q19: =IFERROR(INDEX(Estimated!$B$6:$O$20,$B19,Q$8),0) -> 37.557557 | R19: =IFERROR(INDEX(Actual!$B$6:$O$20,$B19,R$8),0) -> 18 | S19: =IFERROR(INDEX(Actual!$B$6:$O$20,$B19,S$8),0) -> 19.8 | T19: =IFERROR(INDEX(Actual!$B$6:$O$20,$B19,T$8),0) -> 21.78 | U19: =IFERROR(INDEX(Actual!$B$6:$O$20,$B19,U$8),0) -> 26.136 | V19: =IFERROR(INDEX(Actual!$B$6:$O$20,$B19,V$8),0) -> 23.5224 | W19: =IFERROR(INDEX(Actual!$B$6:$O$20,$B19,W$8),0) -> 28.22688 | X19: =IFERROR(INDEX(Actual!$B$6:$O$20,$B19,X$8),0) -> 22.581504 | Y19: =IFERROR(INDEX(Actual!$B$6:$O$20,$B19,Y$8),0) -> 20.323354 | ... AC19: =IFERROR(INDEX(Actual!$B$6:$O$20,$B19,AC$8),0) -> 19.673006 | AE19: =IFERROR(IF(OR(Dashboard!$D$7="",Dashboard!$D$7="All"),1,IF(Dashboard!$D$7=Calc!D19,1,0)),0) -> 1 | AF19: =IFERROR(AE19*C19,"") -> 1 | AH19: =IFERROR(IF($AI$6=0,SUM(F19:Q19),INDEX($B$10:$AC$24,$B19,AH$8)),"") -> 817.66286 | AI19: =IFERROR(IF($AI$6=0,SUM(R19:AC19),INDEX($B$10:$AC$24,$B19,AI$8)),"") -> 258.16794 | AJ19: =IFERROR(AI19-AH19,"") -> -559.49493 | AK19: =IFERROR(AI19/AH19,"") -> 0.31573885 | AM19: 9 | AN19: September | AO19: Sep | AQ19: =IFERROR(DATE($AN$27,MATCH($AN$28,$AN$11:$AN$22,0)+AM18,1),"") -> 44805 | AR19: =IFERROR(INDEX($AO$11:$AO$22,MONTH(AQ19)),"") -> Sep | AS19: =IFERROR(YEAR(AQ19),"") -> 2022 | AT19: =IFERROR(AR19&" "&AS19,"") -> Sep 2022 | AU19: {=IFERROR(SUMPRODUCT(($AF$10:$AF$24)*(OFFSET($A$10,0,$AM19+AU$9,15,1))),"")} -> 5424.1211 | AV19: {=IFERROR(SUMPRODUCT(($AF$10:$AF$24)*(OFFSET($A$10,0,$AM19+AV$9,15,1))),"")} -> 2655.063 | AW19: =IFERROR(AV19/AU19,"") -> 0.48949184 | AY19: =IFERROR(IF(LEN(INDEX($B$10:$AC$24,$B19,3))=0,"",INDEX($B$10:$AC$24,$B19,3)),"") -> Vehicle Maintainance | AZ19: =IFERROR(IF(COUNTIF($AY$10:$AY19,AY19)>1,"",AY19),"") | BA19: {=IFERROR(INDEX($AZ$10:$AZ$24,SMALL(IF(LEN($AZ$10:$AZ$24)>0,ROW($AZ$10:$AZ$24)-ROW(INDEX($AZ$10:$AZ$24,1,1))+1),$B19)),"")} | BC19: =IFERROR(IF(LEN(INDEX($B$10:$AC$24,$B19,4))=0,"",INDEX($B$10:$AC$24,$B19,4)),"") -> Micra Maintainance | BD19: =IFERROR(AE19*AI19,"") -> 258.16794 | BF19: {=IFERROR(INDEX($BC$10:$BC$24,SMALL(IF($BD$10:$BD$24>0,ROW($BC$10:$BC$24)-ROW(INDEX($BC$10:$BC$24,1,1))+1),$B19)),"")} -> Micra Maintainance | BG19: =IFERROR(IF(COUNTIF($BF$10:$BF19,BF19)>1,"",BF19),"") -> Micra Maintainance | BH19: =IFERROR(SUMIF($BC$10:$BC$24,BG19,$BD$10:$BD$24),"") -> 258.16794
B20: 11 | C20: =IFERROR(IF(OR(LEN(D20)=0,LEN(E20)=0),0,1),0) -> 1 | D20: =IFERROR(IF(LEN(INDEX(Estimated!$B$6:$O$20,$B20,D$8))=0,"",INDEX(Estimated!$B$6:$O$20,$B20,D$8)),"") -> Food and Beverages | E20: =IFERROR(IF(LEN(INDEX(Estimated!$B$6:$O$20,$B20,E$8))=0,"",INDEX(Estimated!$B$6:$O$20,$B20,E$8)),"") -> Employee Food Expenses | F20: =IFERROR(INDEX(Estimated!$B$6:$O$20,$B20,F$8),0) -> 724 | G20: =IFERROR(INDEX(Estimated!$B$6:$O$20,$B20,G$8),0) -> 660.6 | H20: =IFERROR(INDEX(Estimated!$B$6:$O$20,$B20,H$8),0) -> 645.92 | I20: =IFERROR(INDEX(Estimated!$B$6:$O$20,$B20,I$8),0) -> 775.104 | J20: =IFERROR(INDEX(Estimated!$B$6:$O$20,$B20,J$8),0) -> 761.0112 | K20: =IFERROR(INDEX(Estimated!$B$6:$O$20,$B20,K$8),0) -> 744.09984 | L20: =IFERROR(INDEX(Estimated!$B$6:$O$20,$B20,L$8),0) -> 730.57075 | M20: =IFERROR(INDEX(Estimated!$B$6:$O$20,$B20,M$8),0) -> 714.33585 | ... Q20: =IFERROR(INDEX(Estimated!$B$6:$O$20,$B20,Q$8),0) -> 740.62341 | R20: =IFERROR(INDEX(Actual!$B$6:$O$20,$B20,R$8),0) -> 367 | S20: =IFERROR(INDEX(Actual!$B$6:$O$20,$B20,S$8),0) -> 293.6 | T20: =IFERROR(INDEX(Actual!$B$6:$O$20,$B20,T$8),0) -> 352.32 | U20: =IFERROR(INDEX(Actual!$B$6:$O$20,$B20,U$8),0) -> 422.784 | V20: =IFERROR(INDEX(Actual!$B$6:$O$20,$B20,V$8),0) -> 338.2272 | W20: =IFERROR(INDEX(Actual!$B$6:$O$20,$B20,W$8),0) -> 405.87264 | X20: =IFERROR(INDEX(Actual!$B$6:$O$20,$B20,X$8),0) -> 324.69811 | Y20: =IFERROR(INDEX(Actual!$B$6:$O$20,$B20,Y$8),0) -> 389.63773 | ... AC20: =IFERROR(INDEX(Actual!$B$6:$O$20,$B20,AC$8),0) -> 403.9764 | AE20: =IFERROR(IF(OR(Dashboard!$D$7="",Dashboard!$D$7="All"),1,IF(Dashboard!$D$7=Calc!D20,1,0)),0) -> 1 | AF20: =IFERROR(AE20*C20,"") -> 1 | AH20: =IFERROR(IF($AI$6=0,SUM(F20:Q20),INDEX($B$10:$AC$24,$B20,AH$8)),"") -> 8594.0746 | AI20: =IFERROR(IF($AI$6=0,SUM(R20:AC20),INDEX($B$10:$AC$24,$B20,AI$8)),"") -> 4320.5255 | AJ20: =IFERROR(AI20-AH20,"") -> -4273.5491 | AK20: =IFERROR(AI20/AH20,"") -> 0.50273307 | AM20: 10 | AN20: October | AO20: Oct | AQ20: =IFERROR(DATE($AN$27,MATCH($AN$28,$AN$11:$AN$22,0)+AM19,1),"") -> 44835 | AR20: =IFERROR(INDEX($AO$11:$AO$22,MONTH(AQ20)),"") -> Oct | AS20: =IFERROR(YEAR(AQ20),"") -> 2022 | AT20: =IFERROR(AR20&" "&AS20,"") -> Oct 2022 | AU20: {=IFERROR(SUMPRODUCT(($AF$10:$AF$24)*(OFFSET($A$10,0,$AM20+AU$9,15,1))),"")} -> 5411.0109 | AV20: {=IFERROR(SUMPRODUCT(($AF$10:$AF$24)*(OFFSET($A$10,0,$AM20+AV$9,15,1))),"")} -> 2720.3229 | AW20: =IFERROR(AV20/AU20,"") -> 0.50273839 | AY20: =IFERROR(IF(LEN(INDEX($B$10:$AC$24,$B20,3))=0,"",INDEX($B$10:$AC$24,$B20,3)),"") -> Food and Beverages | AZ20: =IFERROR(IF(COUNTIF($AY$10:$AY20,AY20)>1,"",AY20),"") -> Food and Beverages | BA20: {=IFERROR(INDEX($AZ$10:$AZ$24,SMALL(IF(LEN($AZ$10:$AZ$24)>0,ROW($AZ$10:$AZ$24)-ROW(INDEX($AZ$10:$AZ$24,1,1))+1),$B20)),"")} | BC20: =IFERROR(IF(LEN(INDEX($B$10:$AC$24,$B20,4))=0,"",INDEX($B$10:$AC$24,$B20,4)),"") -> Employee Food Expenses | BD20: =IFERROR(AE20*AI20,"") -> 4320.5255 | BF20: {=IFERROR(INDEX($BC$10:$BC$24,SMALL(IF($BD$10:$BD$24>0,ROW($BC$10:$BC$24)-ROW(INDEX($BC$10:$BC$24,1,1))+1),$B20)),"")} -> Employee Food Expenses | BG20: =IFERROR(IF(COUNTIF($BF$10:$BF20,BF20)>1,"",BF20),"") -> Employee Food Expenses | BH20: =IFERROR(SUMIF($BC$10:$BC$24,BG20,$BD$10:$BD$24),"") -> 4320.5255
B21: 12 | C21: =IFERROR(IF(OR(LEN(D21)=0,LEN(E21)=0),0,1),0) -> 1 | D21: =IFERROR(IF(LEN(INDEX(Estimated!$B$6:$O$20,$B21,D$8))=0,"",INDEX(Estimated!$B$6:$O$20,$B21,D$8)),"") -> Food and Beverages | E21: =IFERROR(IF(LEN(INDEX(Estimated!$B$6:$O$20,$B21,E$8))=0,"",INDEX(Estimated!$B$6:$O$20,$B21,E$8)),"") -> Extra Food Expenses | F21: =IFERROR(INDEX(Estimated!$B$6:$O$20,$B21,F$8),0) -> 564 | G21: =IFERROR(INDEX(Estimated!$B$6:$O$20,$B21,G$8),0) -> 769.5 | H21: =IFERROR(INDEX(Estimated!$B$6:$O$20,$B21,H$8),0) -> 656.1 | I21: =IFERROR(INDEX(Estimated!$B$6:$O$20,$B21,I$8),0) -> 641.52 | J21: =IFERROR(INDEX(Estimated!$B$6:$O$20,$B21,J$8),0) -> 664.848 | K21: =IFERROR(INDEX(Estimated!$B$6:$O$20,$B21,K$8),0) -> 598.3632 | L21: =IFERROR(INDEX(Estimated!$B$6:$O$20,$B21,L$8),0) -> 595.21392 | M21: =IFERROR(INDEX(Estimated!$B$6:$O$20,$B21,M$8),0) -> 685.91318 | ... Q21: =IFERROR(INDEX(Estimated!$B$6:$O$20,$B21,Q$8),0) -> 436.39044 | R21: =IFERROR(INDEX(Actual!$B$6:$O$20,$B21,R$8),0) -> 405 | S21: =IFERROR(INDEX(Actual!$B$6:$O$20,$B21,S$8),0) -> 364.5 | T21: =IFERROR(INDEX(Actual!$B$6:$O$20,$B21,T$8),0) -> 291.6 | U21: =IFERROR(INDEX(Actual!$B$6:$O$20,$B21,U$8),0) -> 349.92 | V21: =IFERROR(INDEX(Actual!$B$6:$O$20,$B21,V$8),0) -> 314.928 | W21: =IFERROR(INDEX(Actual!$B$6:$O$20,$B21,W$8),0) -> 283.4352 | X21: =IFERROR(INDEX(Actual!$B$6:$O$20,$B21,X$8),0) -> 311.77872 | Y21: =IFERROR(INDEX(Actual!$B$6:$O$20,$B21,Y$8),0) -> 374.13446 | ... AC21: =IFERROR(INDEX(Actual!$B$6:$O$20,$B21,AC$8),0) -> 193.95131 | AE21: =IFERROR(IF(OR(Dashboard!$D$7="",Dashboard!$D$7="All"),1,IF(Dashboard!$D$7=Calc!D21,1,0)),0) -> 1 | AF21: =IFERROR(AE21*C21,"") -> 1 | AH21: =IFERROR(IF($AI$6=0,SUM(F21:Q21),INDEX($B$10:$AC$24,$B21,AH$8)),"") -> 7440.618 | AI21: =IFERROR(IF($AI$6=0,SUM(R21:AC21),INDEX($B$10:$AC$24,$B21,AI$8)),"") -> 3737.7847 | AJ21: =IFERROR(AI21-AH21,"") -> -3702.8333 | AK21: =IFERROR(AI21/AH21,"") -> 0.50234868 | AM21: 11 | AN21: November | AO21: Nov | AQ21: =IFERROR(DATE($AN$27,MATCH($AN$28,$AN$11:$AN$22,0)+AM20,1),"") -> 44866 | AR21: =IFERROR(INDEX($AO$11:$AO$22,MONTH(AQ21)),"") -> Nov | AS21: =IFERROR(YEAR(AQ21),"") -> 2022 | AT21: =IFERROR(AR21&" "&AS21,"") -> Nov 2022 | AU21: {=IFERROR(SUMPRODUCT(($AF$10:$AF$24)*(OFFSET($A$10,0,$AM21+AU$9,15,1))),"")} -> 5491.8397 | AV21: {=IFERROR(SUMPRODUCT(($AF$10:$AF$24)*(OFFSET($A$10,0,$AM21+AV$9,15,1))),"")} -> 2750.9969 | AW21: =IFERROR(AV21/AU21,"") -> 0.50092446 | AY21: =IFERROR(IF(LEN(INDEX($B$10:$AC$24,$B21,3))=0,"",INDEX($B$10:$AC$24,$B21,3)),"") -> Food and Beverages | AZ21: =IFERROR(IF(COUNTIF($AY$10:$AY21,AY21)>1,"",AY21),"") | BA21: {=IFERROR(INDEX($AZ$10:$AZ$24,SMALL(IF(LEN($AZ$10:$AZ$24)>0,ROW($AZ$10:$AZ$24)-ROW(INDEX($AZ$10:$AZ$24,1,1))+1),$B21)),"")} | BC21: =IFERROR(IF(LEN(INDEX($B$10:$AC$24,$B21,4))=0,"",INDEX($B$10:$AC$24,$B21,4)),"") -> Extra Food Expenses | BD21: =IFERROR(AE21*AI21,"") -> 3737.7847 | BF21: {=IFERROR(INDEX($BC$10:$BC$24,SMALL(IF($BD$10:$BD$24>0,ROW($BC$10:$BC$24)-ROW(INDEX($BC$10:$BC$24,1,1))+1),$B21)),"")} -> Extra Food Expenses | BG21: =IFERROR(IF(COUNTIF($BF$10:$BF21,BF21)>1,"",BF21),"") -> Extra Food Expenses | BH21: =IFERROR(SUMIF($BC$10:$BC$24,BG21,$BD$10:$BD$24),"") -> 3737.7847
B22: 13 | C22: =IFERROR(IF(OR(LEN(D22)=0,LEN(E22)=0),0,1),0) -> 0 | D22: =IFERROR(IF(LEN(INDEX(Estimated!$B$6:$O$20,$B22,D$8))=0,"",INDEX(Estimated!$B$6:$O$20,$B22,D$8)),"") | E22: =IFERROR(IF(LEN(INDEX(Estimated!$B$6:$O$20,$B22,E$8))=0,"",INDEX(Estimated!$B$6:$O$20,$B22,E$8)),"") | F22: =IFERROR(INDEX(Estimated!$B$6:$O$20,$B22,F$8),0) -> 0 | G22: =IFERROR(INDEX(Estimated!$B$6:$O$20,$B22,G$8),0) -> 0 | H22: =IFERROR(INDEX(Estimated!$B$6:$O$20,$B22,H$8),0) -> 0 | I22: =IFERROR(INDEX(Estimated!$B$6:$O$20,$B22,I$8),0) -> 0 | J22: =IFERROR(INDEX(Estimated!$B$6:$O$20,$B22,J$8),0) -> 0 | K22: =IFERROR(INDEX(Estimated!$B$6:$O$20,$B22,K$8),0) -> 0 | L22: =IFERROR(INDEX(Estimated!$B$6:$O$20,$B22,L$8),0) -> 0 | M22: =IFERROR(INDEX(Estimated!$B$6:$O$20,$B22,M$8),0) -> 0 | ... Q22: =IFERROR(INDEX(Estimated!$B$6:$O$20,$B22,Q$8),0) -> 0 | R22: =IFERROR(INDEX(Actual!$B$6:$O$20,$B22,R$8),0) -> 0 | S22: =IFERROR(INDEX(Actual!$B$6:$O$20,$B22,S$8),0) -> 0 | T22: =IFERROR(INDEX(Actual!$B$6:$O$20,$B22,T$8),0) -> 0 | U22: =IFERROR(INDEX(Actual!$B$6:$O$20,$B22,U$8),0) -> 0 | V22: =IFERROR(INDEX(Actual!$B$6:$O$20,$B22,V$8),0) -> 0 | W22: =IFERROR(INDEX(Actual!$B$6:$O$20,$B22,W$8),0) -> 0 | X22: =IFERROR(INDEX(Actual!$B$6:$O$20,$B22,X$8),0) -> 0 | Y22: =IFERROR(INDEX(Actual!$B$6:$O$20,$B22,Y$8),0) -> 0 | ... AC22: =IFERROR(INDEX(Actual!$B$6:$O$20,$B22,AC$8),0) -> 0 | AE22: =IFERROR(IF(OR(Dashboard!$D$7="",Dashboard!$D$7="All"),1,IF(Dashboard!$D$7=Calc!D22,1,0)),0) -> 1 | AF22: =IFERROR(AE22*C22,"") -> 0 | AH22: =IFERROR(IF($AI$6=0,SUM(F22:Q22),INDEX($B$10:$AC$24,$B22,AH$8)),"") -> 0 | AI22: =IFERROR(IF($AI$6=0,SUM(R22:AC22),INDEX($B$10:$AC$24,$B22,AI$8)),"") -> 0 | AJ22: =IFERROR(AI22-AH22,"") -> 0 | AK22: =IFERROR(AI22/AH22,"") | AM22: 12 | AN22: December | AO22: Dec | AQ22: =IFERROR(DATE($AN$27,MATCH($AN$28,$AN$11:$AN$22,0)+AM21,1),"") -> 44896 | AR22: =IFERROR(INDEX($AO$11:$AO$22,MONTH(AQ22)),"") -> Dec | AS22: =IFERROR(YEAR(AQ22),"") -> 2022 | AT22: =IFERROR(AR22&" "&AS22,"") -> Dec 2022 | AU22: {=IFERROR(SUMPRODUCT(($AF$10:$AF$24)*(OFFSET($A$10,0,$AM22+AU$9,15,1))),"")} -> 5615.694 | AV22: {=IFERROR(SUMPRODUCT(($AF$10:$AF$24)*(OFFSET($A$10,0,$AM22+AV$9,15,1))),"")} -> 2904.9468 | AW22: =IFERROR(AV22/AU22,"") -> 0.51729079 | AY22: =IFERROR(IF(LEN(INDEX($B$10:$AC$24,$B22,3))=0,"",INDEX($B$10:$AC$24,$B22,3)),"") | AZ22: =IFERROR(IF(COUNTIF($AY$10:$AY22,AY22)>1,"",AY22),"") | BA22: {=IFERROR(INDEX($AZ$10:$AZ$24,SMALL(IF(LEN($AZ$10:$AZ$24)>0,ROW($AZ$10:$AZ$24)-ROW(INDEX($AZ$10:$AZ$24,1,1))+1),$B22)),"")} | BC22: =IFERROR(IF(LEN(INDEX($B$10:$AC$24,$B22,4))=0,"",INDEX($B$10:$AC$24,$B22,4)),"") | BD22: =IFERROR(AE22*AI22,"") -> 0 | BF22: {=IFERROR(INDEX($BC$10:$BC$24,SMALL(IF($BD$10:$BD$24>0,ROW($BC$10:$BC$24)-ROW(INDEX($BC$10:$BC$24,1,1))+1),$B22)),"")} | BG22: =IFERROR(IF(COUNTIF($BF$10:$BF22,BF22)>1,"",BF22),"") | BH22: =IFERROR(SUMIF($BC$10:$BC$24,BG22,$BD$10:$BD$24),"") -> 0
