Workbook
Name DynamicMonth: OFFSET(Calc!$K$4,,,Calc!$J$2)
Name Item_2Comparison: IFERROR(OFFSET(Calc!$P$4,0,0,Calc!$O$3,1),"")
Name Item_Job_Year: IFERROR(OFFSET(Calc!$C$4,0,0,Calc!$C$2,1),"")
Name Min_Cost: IFERROR(OFFSET(Calc!$M$4,0,0,Calc!$J$2,1),"")
Name Month: IFERROR(OFFSET(Calc!$K$4,0,0,Calc!$J$2,1),"")
Name Month1: IFERROR(OFFSET(Calc!$Q$4,0,0,Calc!$O$3,1),"")
Name Month2: IFERROR(OFFSET(Calc!$R$4,0,0,Calc!$O$3,1),"")
Name TotalCost: IFERROR(OFFSET(Calc!$L$4,0,0,Calc!$J$2,1),"")
Name Unitdropdown: OFFSET(Calc!$AQ$19,0,0,Calc!$AQ$17,1)
Name Vendordropdown: OFFSET(Calc!$AL$20,0,0,Calc!$AL$18,1)
Name VendorName: TwoMonth!$B$7
Name Year1: IFERROR(OFFSET(Calc!$D$4,0,0,Calc!$C$2,1),"")
Name Year2: IFERROR(OFFSET(Calc!$E$4,0,0,Calc!$C$2,1),"")
Name Year3: IFERROR(OFFSET(Calc!$F$4,0,0,Calc!$C$2,1),"")
Name Year4: IFERROR(OFFSET(Calc!$G$4,0,0,Calc!$C$2,1),"")
Name Year5: IFERROR(OFFSET(Calc!$H$4,0,0,Calc!$C$2,1),"")

Sheet Dashboard
B2: COST COMPARISON
B3: DASHBOARD
E7: SETTINGS
E9: Vendor Name | G9: Units
E10: Amazon | G10: Pcs
E11: Carrefour | G11: Set
E12: Metro | G12: Each
E13: Tesco | G13: Box
E14: Walmart | G14: Kg
G15: Bag
E24: Highlight the min unit cost? | G24: Currency
E25: YES | G25: $

Sheet Weighted
B2: COST COMPARISON
B3: WEIGHTED COST COMPARISON
B5: Title: | C5: Renovation to the kitchen
B6: Budget: | C6: 135 | D6: ="TOTAL COST "& "(" & Dashboard!$G$25 & ")" -> TOTAL COST ($) | E6: =IF(COUNTA($E9:$E18)=0,"",SUM($F9:$F18)) -> 381 | G6: =IF(COUNTA($G9:$G18)=0,"",SUM($H9:$H18)) -> 352.37 | I6: =IF(COUNTA($I9:$I18)=0,"",SUM($J9:$J18)) -> 378.55 | K6: =IF(COUNTA($K9:$K18)=0,"",SUM($L9:$L18)) -> 405.2 | M6: =IF(COUNTA($M9:$M18)=0,"",SUM($N9:$N18)) -> 376.26
E7: Amazon | G7: Carrefour | I7: Metro | K7: Tesco | M7: Walmart
B8: ITEM | C8: QTY | D8: UNIT | E8: ="Unit Price"&" "&"("&Dashboard!$G$25&")" -> Unit Price ($) | F8: ="Total"&" "&"("&Dashboard!$G$25&")" -> Total ($) | G8: ="Unit Price"&" "&"("&Dashboard!$G$25&")" -> Unit Price ($) | H8: ="Total"&" "&"("&Dashboard!$G$25&")" -> Total ($) | I8: ="Unit Price"&" "&"("&Dashboard!$G$25&")" -> Unit Price ($) | J8: ="Total"&" "&"("&Dashboard!$G$25&")" -> Total ($) | K8: ="Unit Price"&" "&"("&Dashboard!$G$25&")" -> Unit Price ($) | L8: ="Total"&" "&"("&Dashboard!$G$25&")" -> Total ($) | M8: ="Unit Price"&" "&"("&Dashboard!$G$25&")" -> Unit Price ($) | N8: ="Total"&" "&"("&Dashboard!$G$25&")" -> Total ($)
B9: Cement ( 5 kg ) bags | C9: 4 | D9: Bag | E9: 15 | F9: =IF($C9*$E9=0,"",$C9*$E9) -> 60 | G9: 15.78 | H9: =IF($C9*$G9=0,"",$C9*$G9) -> 63.12 | I9: 16.14 | J9: =IF($C9*$I9=0,"",$C9*$I9) -> 64.56 | K9: 17 | L9: =IF($C9*$K9=0,"",$C9*$K9) -> 68 | M9: 15.89 | N9: =IF($C9*$M9=0,"",$C9*$M9) -> 63.56
B10: Brick | C10: 20 | D10: Pcs | E10: 3 | F10: =IF($C10*$E10=0,"",$C10*$E10) -> 60 | G10: 2.5 | H10: =IF($C10*$G10=0,"",$C10*$G10) -> 50 | I10: 4.1 | J10: =IF($C10*$I10=0,"",$C10*$I10) -> 82 | K10: 3.45 | L10: =IF($C10*$K10=0,"",$C10*$K10) -> 69 | M10: 2.8 | N10: =IF($C10*$M10=0,"",$C10*$M10) -> 56
B11: Plaster ( 1 kg ) | C11: 1 | D11: Bag | E11: 10 | F11: =IF($C11*$E11=0,"",$C11*$E11) -> 10 | G11: 9 | H11: =IF($C11*$G11=0,"",$C11*$G11) -> 9 | I11: 8.75 | J11: =IF($C11*$I11=0,"",$C11*$I11) -> 8.75 | K11: 8.4 | L11: =IF($C11*$K11=0,"",$C11*$K11) -> 8.4 | M11: 6.5 | N11: =IF($C11*$M11=0,"",$C11*$M11) -> 6.5
B12: Tile ( 10 pcs ) | C12: 1 | D12: Box | E12: 11 | F12: =IF($C12*$E12=0,"",$C12*$E12) -> 11 | G12: 10.25 | H12: =IF($C12*$G12=0,"",$C12*$G12) -> 10.25 | I12: 13.24 | J12: =IF($C12*$I12=0,"",$C12*$I12) -> 13.24 | K12: 9.8 | L12: =IF($C12*$K12=0,"",$C12*$K12) -> 9.8 | M12: 10.2 | N12: =IF($C12*$M12=0,"",$C12*$M12) -> 10.2
B13: Wood | C13: 10 | D13: Pcs | E13: 24 | F13: =IF($C13*$E13=0,"",$C13*$E13) -> 240 | G13: 22 | H13: =IF($C13*$G13=0,"",$C13*$G13) -> 220 | I13: 21 | J13: =IF($C13*$I13=0,"",$C13*$I13) -> 210 | K13: 25 | L13: =IF($C13*$K13=0,"",$C13*$K13) -> 250 | M13: 24 | N13: =IF($C13*$M13=0,"",$C13*$M13) -> 240
F14: =IF($C14*$E14=0,"",$C14*$E14) | H14: =IF($C14*$G14=0,"",$C14*$G14) | J14: =IF($C14*$I14=0,"",$C14*$I14) | L14: =IF($C14*$K14=0,"",$C14*$K14) | N14: =IF($C14*$M14=0,"",$C14*$M14)
F15: =IF($C15*$E15=0,"",$C15*$E15) | H15: =IF($C15*$G15=0,"",$C15*$G15) | J15: =IF($C15*$I15=0,"",$C15*$I15) | L15: =IF($C15*$K15=0,"",$C15*$K15) | N15: =IF($C15*$M15=0,"",$C15*$M15)
F16: =IF($C16*$E16=0,"",$C16*$E16) | H16: =IF($C16*$G16=0,"",$C16*$G16) | J16: =IF($C16*$I16=0,"",$C16*$I16) | L16: =IF($C16*$K16=0,"",$C16*$K16) | N16: =IF($C16*$M16=0,"",$C16*$M16)
F17: =IF($C17*$E17=0,"",$C17*$E17) | H17: =IF($C17*$G17=0,"",$C17*$G17) | J17: =IF($C17*$I17=0,"",$C17*$I17) | L17: =IF($C17*$K17=0,"",$C17*$K17) | N17: =IF($C17*$M17=0,"",$C17*$M17)
F18: =IF($C18*$E18=0,"",$C18*$E18) | H18: =IF($C18*$G18=0,"",$C18*$G18) | J18: =IF($C18*$I18=0,"",$C18*$I18) | L18: =IF($C18*$K18=0,"",$C18*$K18) | N18: =IF($C18*$M18=0,"",$C18*$M18)

Sheet UnitBased
B2: COST COMPARISON
B3: UNIT BASED COST COMPARISON
D6: Amazon | F6: Carrefour | H6: Metro | J6: Tesco | L6: Walmart
B7: ITEM | C7: UNIT | D7: Amount | E7: ="Price"&" "&"("&Dashboard!$G$25&")" -> Price ($) | F7: Amount | G7: ="Price"&" "&"("&Dashboard!$G$25&")" -> Price ($) | H7: Amount | I7: ="Price"&" "&"("&Dashboard!$G$25&")" -> Price ($) | J7: Amount | K7: ="Price"&" "&"("&Dashboard!$G$25&")" -> Price ($) | L7: Amount | M7: ="Price"&" "&"("&Dashboard!$G$25&")" -> Price ($) | O7: Min Cost (per unit) | P7: Vendor
B8: Flour | C8: Kg | D8: 1 | E8: 1 | F8: 1 | G8: 2 | H8: 1 | I8: 3 | J8: 1 | K8: 4 | L8: 1 | M8: 5 | O8: =IF(MIN(Calc!AC4:AG4)=0,"",(Dashboard!$G$25&" "&ROUND(MIN(Calc!AC4:AG4),2)&" per 1 "&$C8)) -> $ 1 per 1 Kg | P8: =IFERROR(IF(LEN(O8)>0,INDEX(Calc!$AC$3:$AG$3,1,MATCH(MIN(Calc!$AC4:$AG4),Calc!$AC4:$AG4,0)),""),"") -> Amazon
B9: Cement | C9: Bag | D9: 1 | E9: 2 | F9: 1 | G9: 1 | H9: 1 | I9: 3 | J9: 1 | K9: 4 | L9: 1 | M9: 5 | O9: =IF(MIN(Calc!AC5:AG5)=0,"",(Dashboard!$G$25&" "&ROUND(MIN(Calc!AC5:AG5),2)&" per 1 "&$C9)) -> $ 1 per 1 Bag | P9: =IFERROR(IF(LEN(O9)>0,INDEX(Calc!$AC$3:$AG$3,1,MATCH(MIN(Calc!$AC5:$AG5),Calc!$AC5:$AG5,0)),""),"") -> Carrefour
B10: Cement ( 5 kg ) bags | C10: Pcs | D10: 1 | E10: 2 | F10: 1 | G10: 2 | H10: 1 | I10: 1 | J10: 1 | K10: 4 | L10: 1 | M10: 5 | O10: =IF(MIN(Calc!AC6:AG6)=0,"",(Dashboard!$G$25&" "&ROUND(MIN(Calc!AC6:AG6),2)&" per 1 "&$C10)) -> $ 1 per 1 Pcs | P10: =IFERROR(IF(LEN(O10)>0,INDEX(Calc!$AC$3:$AG$3,1,MATCH(MIN(Calc!$AC6:$AG6),Calc!$AC6:$AG6,0)),""),"") -> Metro
B11: Brick | C11: Pcs | D11: 1 | E11: 2 | F11: 1 | G11: 2 | H11: 1 | I11: 3 | J11: 1 | K11: 1 | L11: 1 | M11: 5 | O11: =IF(MIN(Calc!AC7:AG7)=0,"",(Dashboard!$G$25&" "&ROUND(MIN(Calc!AC7:AG7),2)&" per 1 "&$C11)) -> $ 1 per 1 Pcs | P11: =IFERROR(IF(LEN(O11)>0,INDEX(Calc!$AC$3:$AG$3,1,MATCH(MIN(Calc!$AC7:$AG7),Calc!$AC7:$AG7,0)),""),"") -> Tesco
B12: Plaster ( 1 kg ) | C12: Pcs | D12: 1 | E12: 2 | F12: 1 | G12: 2 | H12: 1 | I12: 3 | J12: 1 | K12: 4 | L12: 1 | M12: 1 | O12: =IF(MIN(Calc!AC8:AG8)=0,"",(Dashboard!$G$25&" "&ROUND(MIN(Calc!AC8:AG8),2)&" per 1 "&$C12)) -> $ 1 per 1 Pcs | P12: =IFERROR(IF(LEN(O12)>0,INDEX(Calc!$AC$3:$AG$3,1,MATCH(MIN(Calc!$AC8:$AG8),Calc!$AC8:$AG8,0)),""),"") -> Walmart
B13: Tile ( 10 pcs ) | C13: Box | D13: 1 | E13: 1 | F13: 1 | G13: 2 | H13: 1 | I13: 3 | J13: 1 | K13: 4 | L13: 1 | M13: 5 | O13: =IF(MIN(Calc!AC9:AG9)=0,"",(Dashboard!$G$25&" "&ROUND(MIN(Calc!AC9:AG9),2)&" per 1 "&$C13)) -> $ 1 per 1 Box | P13: =IFERROR(IF(LEN(O13)>0,INDEX(Calc!$AC$3:$AG$3,1,MATCH(MIN(Calc!$AC9:$AG9),Calc!$AC9:$AG9,0)),""),"") -> Amazon
B14: Wood | C14: Pcs | D14: 1 | E14: 2 | F14: 1 | G14: 1 | H14: 1 | I14: 3 | J14: 1 | K14: 4 | L14: 1 | M14: 5 | O14: =IF(MIN(Calc!AC10:AG10)=0,"",(Dashboard!$G$25&" "&ROUND(MIN(Calc!AC10:AG10),2)&" per 1 "&$C14)) -> $ 1 per 1 Pcs | P14: =IFERROR(IF(LEN(O14)>0,INDEX(Calc!$AC$3:$AG$3,1,MATCH(MIN(Calc!$AC10:$AG10),Calc!$AC10:$AG10,0)),""),"") -> Carrefour
O15: =IF(MIN(Calc!AC11:AG11)=0,"",(Dashboard!$G$25&" "&ROUND(MIN(Calc!AC11:AG11),2)&" per 1 "&$C15)) | P15: =IFERROR(IF(LEN(O15)>0,INDEX(Calc!$AC$3:$AG$3,1,MATCH(MIN(Calc!$AC11:$AG11),Calc!$AC11:$AG11,0)),""),"")
O16: =IF(MIN(Calc!AC12:AG12)=0,"",(Dashboard!$G$25&" "&ROUND(MIN(Calc!AC12:AG12),2)&" per 1 "&$C16)) | P16: =IFERROR(IF(LEN(O16)>0,INDEX(Calc!$AC$3:$AG$3,1,MATCH(MIN(Calc!$AC12:$AG12),Calc!$AC12:$AG12,0)),""),"")
O17: =IF(MIN(Calc!AC13:AG13)=0,"",(Dashboard!$G$25&" "&ROUND(MIN(Calc!AC13:AG13),2)&" per 1 "&$C17)) | P17: =IFERROR(IF(LEN(O17)>0,INDEX(Calc!$AC$3:$AG$3,1,MATCH(MIN(Calc!$AC13:$AG13),Calc!$AC13:$AG13,0)),""),"")
O18: =IF(MIN(Calc!AC14:AG14)=0,"",(Dashboard!$G$25&" "&ROUND(MIN(Calc!AC14:AG14),2)&" per 1 "&$C18)) | P18: =IFERROR(IF(LEN(O18)>0,INDEX(Calc!$AC$3:$AG$3,1,MATCH(MIN(Calc!$AC14:$AG14),Calc!$AC14:$AG14,0)),""),"")

Sheet TwoMonth
B2: COST COMPARISON
B3: TWO MONTH COST COMPARISON
B7: Amazon | E7: December | G7: November
B9: ITEM | C9: UNIT | E9: ="Unit Price"&" "&"("&Dashboard!$G$25&")" -> Unit Price ($) | G9: ="Unit Price"&" "&"("&Dashboard!$G$25&")" -> Unit Price ($)
B10: Detergent | C10: Kg | E10: 10 | G10: 5
B11: Milk | C11: Pcs | E11: 20 | G11: 28
B12: Yogurt | C12: Kg | E12: 10 | G12: 20
B13: Salt | C13: Kg | E13: 5 | G13: 3
B14: Sugar | C14: Kg | E14: 8 | G14: 7.25

Sheet VendorTrend
B2: COST COMPARISON
B3: VENDOR BASED BUCKET COST TREND
B5: Amazon
B12: ="TOTAL COST "&"("&Dashboard!$G$25&")" -> TOTAL COST ($) | C12: =IF((SUM($C$15:$C$24))=0,"",SUM($C$15:$C$24)) -> 170 | D12: =IF((SUM($D$15:$D$24))=0,"",SUM($D$15:$D$24)) -> 232 | E12: =IF((SUM($E$15:$E$24))=0,"",SUM($E$15:$E$24)) -> 175 | F12: =IF((SUM($F$15:$F$24))=0,"",SUM($F$15:$F$24)) -> 168.5 | G12: =IF((SUM($G$15:$G$24))=0,"",SUM($G$15:$G$24)) -> 205 | H12: =IF((SUM($H$15:$H$24))=0,"",SUM($H$15:$H$24)) -> 204.5 | I12: =IF((SUM($I$15:$I$24))=0,"",SUM($I$15:$I$24)) -> 199.37 | J12: =IF((SUM($J$15:$J$24))=0,"",SUM($J$15:$J$24)) -> 197.95 | K12: =IF((SUM($K$15:$K$24))=0,"",SUM($K$15:$K$24)) -> 198.33 | L12: =IF((SUM($L$15:$L$24))=0,"",SUM($L15:$L$24)) -> 198 | M12: =IF((SUM($M$15:$M$24))=0,"",SUM($M$15:$M$24)) -> 197.27 | N12: =IF((SUM($N$15:$N$24))=0,"",SUM($N$15:$N$24)) -> 195.46
B14: ITEM/JOB | C14: January | D14: February | E14: March | F14: April | G14: May | H14: June | I14: July | J14: August | K14: September | L14: October | M14: November | N14: December
B15: Bread | C15: 10 | D15: 15 | E15: 18 | F15: 22 | G15: 34 | H15: 34 | I15: 32 | J15: 32 | K15: 33 | L15: 34 | M15: 35 | N15: 35
B16: Flour | C16: 40 | D16: 43 | E16: 45 | F16: 44 | G16: 46 | H16: 46 | I16: 45 | J16: 45 | K16: 44 | L16: 43 | M16: 41 | N16: 39
B17: Sugar | C17: 40 | D17: 36 | E17: 37 | F17: 37.5 | G17: 40 | H17: 40 | I17: 39 | J17: 38.5 | K17: 38 | L17: 37.8 | M17: 37.7 | N17: 37.5
B18: Salt | C18: 10 | D18: 90 | E18: 15 | F18: 13 | G18: 17 | H18: 17 | I18: 17 | J18: 16 | K18: 16.5 | L18: 16.7 | M18: 16.6 | N18: 16.9
B19: Vegetables | C19: 40 | D19: 12 | E19: 15 | F19: 13 | G19: 17 | H19: 17 | I19: 16 | J19: 16 | K19: 16.4 | L19: 16 | M19: 16.35 | N19: 16.4
B20: Milk | C20: 10 | D20: 12 | E20: 15 | F20: 13 | G20: 17 | H20: 17 | I20: 16.8 | J20: 16.85 | K20: 16.8 | L20: 16.85 | M20: 16.87 | N20: 16.88
B21: Oil | C21: 10 | D21: 12 | E21: 15 | F21: 13 | G21: 17 | H21: 17 | I21: 17.02 | J21: 17.03 | K21: 17.03 | L21: 17.03 | M21: 17.1 | N21: 17.1
B22: Detergent | C22: 10 | D22: 12 | E22: 15 | F22: 13 | G22: 17 | H22: 16.5 | I22: 16.55 | J22: 16.57 | K22: 16.6 | L22: 16.62 | M22: 16.65 | N22: 16.68

Sheet ItemTrend
B2: COST COMPARISON
B3: ITEM COST TREND
C7: ="TOTAL COST "&"("&Dashboard!$G$25&")" -> TOTAL COST ($) | D7: =IF(SUM($D$10:$D$19)=0,"",SUM($D$10:$D$19)) -> 159 | E7: =IF(SUM($E$10:$E$19)=0,"",SUM($E$10:$E$19)) -> 167 | F7: =IF(SUM($F$10:$F$19)=0,"",SUM($F$10:$F$19)) -> 158 | G7: =IF(SUM($G$10:$G$19)=0,"",SUM($G$10:$G$19)) -> 157.5 | H7: =IF(SUM($H$10:$H$19)=0,"",SUM($H$10:$H$19)) -> 183
B9: ITEM | C9: UNIT | D9: Year 1 | E9: Year 2 | F9: Year 3 | G9: Year 4 | H9: Year 5
B10: Flour | C10: Kg | D10: 10 | E10: 15 | F10: 18 | G10: 22 | H10: 34
B11: Sugar | C11: Kg | D11: 40 | E11: 43 | F11: 45 | G11: 44 | H11: 46
B12: Tea | C12: Pcs | D12: 37 | E12: 36 | F12: 35 | G12: 37.5 | H12: 40
B13: Coffee | C13: Box | D13: 32 | E13: 35 | F13: 15 | G13: 13 | H13: 17
B14: Tomatoes | C14: Pcs | D14: 10 | E14: 12 | F14: 15 | G14: 13 | H14: 17
B15: Oil | C15: Kg | D15: 15 | E15: 12 | F15: 15 | G15: 13 | H15: 17
B16: Milk | C16: Each | D16: 10 | E16: 10 | F16: 10 | G16: 10 | H16: 10
B17: Rice | C17: Bag | D17: 5 | E17: 4 | F17: 5 | G17: 5 | H17: 2

Sheet Calc
K1: ="BUCKET COST TREND OF"&" "&UPPER(VendorTrend!B5)&" "&"(Monthly)" -> BUCKET COST TREND OF AMAZON (Monthly)
C2: =COUNTA($C$4:$C$13)-COUNTBLANK($C$4:$C$13) -> 8 | E2: Yearly Cost Comparison Graph | J2: =COUNTA($K$4:$K$15)-COUNTBLANK($K$4:$K$15) -> 12 | K2: Monthly Cost Comparison Graph | P2: Two Moth Cost Comparison Graph | U2: Weighted Cost Comparison | AB2: Unit Based Cost Comparison | AK2: Two Month Cost Comparison | AN2: Item Cost Trend
B3: Index | C3: Item/Job | D3: =IF(ItemTrend!$D$9=0,"",ItemTrend!$D$9) -> Year 1 | E3: =IF(ItemTrend!$E$9=0,"",ItemTrend!$E$9) -> Year 2 | F3: =IF(ItemTrend!$F$9=0,"",ItemTrend!$F$9) -> Year 3 | G3: =IF(ItemTrend!$G$9=0,"",ItemTrend!$G$9) -> Year 4 | H3: =IF(ItemTrend!$H$9=0,"",ItemTrend!$H$9) -> Year 5 | J3: =MAX(COUNTA(VendorTrend!$B$15:$B$24),1) -> 8 | K3: Month | L3: Total Cost | M3: Min Cost | O3: =COUNTA($P$4:$P$11)-COUNTBLANK($P$4:$P$11) -> 5 | P3: Item | Q3: =IF(TwoMonth!$E$7=0,"",TwoMonth!$E$7) -> December | R3: =IF(TwoMonth!$G$7=0,"",TwoMonth!$G$7) -> November | T3: =MAX(COUNTA(Weighted!$B$9:$B$18),1) -> 5 | U3: =IF(Weighted!$E$7=0,"",Weighted!$E$7) -> Amazon | V3: =IF(Weighted!$G$7=0,"",Weighted!$G$7) -> Carrefour | W3: =IF(Weighted!$I$7=0,"",Weighted!$I$7) -> Metro | X3: =IF(Weighted!$K$7=0,"",Weighted!$K$7) -> Tesco | Y3: =IF(Weighted!$M$7=0,"",Weighted!$M$7) -> Walmart | AA3: =MAX(COUNTA(UnitBased!$B$8:$B$18),1) -> 7 | AC3: =IF(UnitBased!$D$6=0,"",UnitBased!$D$6) -> Amazon | AD3: =IF(UnitBased!$F$6=0,"",UnitBased!$F$6) -> Carrefour | AE3: =IF(UnitBased!$H$6=0,"",UnitBased!$H$6) -> Metro | AF3: =IF(UnitBased!$J$6=0,"",UnitBased!$J$6) -> Tesco | AG3: =IF(UnitBased!$L$6=0,"",UnitBased!$L$6) -> Walmart | AH3: Unit | AJ3: =MAX(COUNTA(TwoMonth!$B$10:$B$17),1) -> 5 | AK3: ="COST COMPARISON OF"&" "&UPPER(VendorName)&" "&"IN TWO MONTHS" -> COST COMPARISON OF AMAZON IN TWO MONTHS | AN3: =MAX(COUNTA(ItemTrend!$B$10:$B$109),1) -> 8 | AO3: =IF(ItemTrend!$D$9=0,"",ItemTrend!$D$9) -> Year 1 | AP3: =IF(ItemTrend!$E$9=0,"",ItemTrend!$E$9) -> Year 2 | AQ3: =IF(ItemTrend!$F$9=0,"",ItemTrend!$F$9) -> Year 3 | AR3: =IF(ItemTrend!$G$9=0,"",ItemTrend!$G$9) -> Year 4 | AS3: =IF(ItemTrend!$H$9=0,"",ItemTrend!$H$9) -> Year 5
B4: 1 | C4: =IFERROR(IF(LEN(INDEX(ItemTrend!B$10:B$19,Calc!$B4))=0,"",INDEX(ItemTrend!B$10:B$19,Calc!$B4)),"") -> Flour | D4: =IFERROR(IF(LEN(INDEX(ItemTrend!D$10:D$19,Calc!$B4))=0,"",INDEX(ItemTrend!D$10:D$19,Calc!$B4)),"") -> 10 | E4: =IFERROR(IF(LEN(INDEX(ItemTrend!E$10:E$19,Calc!$B4))=0,"",INDEX(ItemTrend!E$10:E$19,Calc!$B4)),"") -> 15 | F4: =IFERROR(IF(LEN(INDEX(ItemTrend!F$10:F$19,Calc!$B4))=0,"",INDEX(ItemTrend!F$10:F$19,Calc!$B4)),"") -> 18 | G4: =IFERROR(IF(LEN(INDEX(ItemTrend!G$10:G$19,Calc!$B4))=0,"",INDEX(ItemTrend!G$10:G$19,Calc!$B4)),"") -> 22 | H4: =IFERROR(IF(LEN(INDEX(ItemTrend!H$10:H$19,Calc!$B4))=0,"",INDEX(ItemTrend!H$10:H$19,Calc!$B4)),"") -> 34 | J4: 1 | K4: =IFERROR(IF(LEN(INDEX(VendorTrend!C$14:N$14,Calc!$B4))=0,"",INDEX(VendorTrend!C$14:N$14,Calc!$B4)),"") -> January | L4: =IFERROR(IF(LEN(INDEX(VendorTrend!C$12:N$12,Calc!$J4))=0,"",INDEX(VendorTrend!C$12:N$12,Calc!$J4)),"") -> 170 | M4: =MIN($L$4:$L$15) -> 168.5 | P4: {=IFERROR(INDEX(TwoMonth!B$10:B$17,SMALL(IF(LEN(TwoMonth!B$10:B$17)>0,ROW(TwoMonth!B$10:B$17)-ROW(INDEX(TwoMonth!B$10:B$17,1,1))+1),ROW($O5)-ROW($O$4))),"")} -> Detergent | Q4: =IFERROR(IF(LEN(Calc!P4)=0,"",INDEX(TwoMonth!$E$10:$E$17,MATCH(Calc!P4,TwoMonth!$B$10:$B$17,0))),"") -> 10 | R4: =IFERROR(IF(LEN(Calc!P4)=0,"",INDEX(TwoMonth!$G$10:$G$17,MATCH(Calc!P4,TwoMonth!$B$10:$B$17,0))),"") -> 5 | U4: =IFERROR((Weighted!$F9/Weighted!$E9),"") -> 4 | V4: =IFERROR((Weighted!$H9/Weighted!$G9),"") -> 4 | W4: =IFERROR((Weighted!$J9/Weighted!$I9),"") -> 4 | X4: =IFERROR((Weighted!$L9/Weighted!$K9),"") -> 4 | Y4: =IFERROR((Weighted!$N9/Weighted!$M9),"") -> 4 | AB4: =IFERROR(MATCH(MIN($AC4:$AG4),$AC4:$AG4,0),"") -> 1 | AC4: =IFERROR(IF(AND(LEN(UnitBased!$D8)>0,LEN(UnitBased!$E8)>0),(UnitBased!$E8/UnitBased!$D8),""),"") -> 1 | AD4: =IFERROR(IF(AND(LEN(UnitBased!$F8)>0,LEN(UnitBased!$G8)>0),(UnitBased!$G8/UnitBased!$F8),""),"") -> 2 | AE4: =IFERROR(IF(AND(LEN(UnitBased!$H8)>0,LEN(UnitBased!$I8)>0),(UnitBased!$I8/UnitBased!$H8),""),"") -> 3 | AF4: =IFERROR(IF(AND(LEN(UnitBased!$J8)>0,LEN(UnitBased!$K8)>0),(UnitBased!$K8/UnitBased!$J8),""),"") -> 4 | AG4: =IFERROR(IF(AND(LEN(UnitBased!$L8)>0,LEN(UnitBased!$M8)>0),(UnitBased!$M8/UnitBased!$L8),""),"") -> 5 | AH4: =IFERROR(IF(LEN(INDEX(UnitBased!C$8:C$18,Calc!$B4))=0,"",INDEX(UnitBased!C$8:C$18,Calc!$B4)),"") -> Kg | AK4: =MAX(COUNTA($AL$4:$AL$15)-COUNTBLANK($AL$4:$AL$15),1) -> 12 | AL4: January | AN4: =IFERROR(MATCH(MIN($AO4:$AS4),$AO4:$AS4,0),"") -> 1 | AO4: =IFERROR(IF(LEN(INDEX(ItemTrend!D$10:D$19,Calc!$B4))=0,"",INDEX(ItemTrend!D$10:D$19,Calc!$B4)),"") -> 10 | AP4: =IFERROR(IF(LEN(INDEX(ItemTrend!E$10:E$19,Calc!$B4))=0,"",INDEX(ItemTrend!E$10:E$19,Calc!$B4)),"") -> 15 | AQ4: =IFERROR(IF(LEN(INDEX(ItemTrend!F$10:F$19,Calc!$B4))=0,"",INDEX(ItemTrend!F$10:F$19,Calc!$B4)),"") -> 18 | AR4: =IFERROR(IF(LEN(INDEX(ItemTrend!G$10:G$19,Calc!$B4))=0,"",INDEX(ItemTrend!G$10:G$19,Calc!$B4)),"") -> 22 | AS4: =IFERROR(IF(LEN(INDEX(ItemTrend!H$10:H$19,Calc!$B4))=0,"",INDEX(ItemTrend!H$10:H$19,Calc!$B4)),"") -> 34
B5: 2 | C5: =IFERROR(IF(LEN(INDEX(ItemTrend!B$10:B$19,Calc!$B5))=0,"",INDEX(ItemTrend!B$10:B$19,Calc!$B5)),"") -> Sugar | D5: =IFERROR(IF(LEN(INDEX(ItemTrend!D$10:D$19,Calc!$B5))=0,"",INDEX(ItemTrend!D$10:D$19,Calc!$B5)),"") -> 40 | E5: =IFERROR(IF(LEN(INDEX(ItemTrend!E$10:E$19,Calc!$B5))=0,"",INDEX(ItemTrend!E$10:E$19,Calc!$B5)),"") -> 43 | F5: =IFERROR(IF(LEN(INDEX(ItemTrend!F$10:F$19,Calc!$B5))=0,"",INDEX(ItemTrend!F$10:F$19,Calc!$B5)),"") -> 45 | G5: =IFERROR(IF(LEN(INDEX(ItemTrend!G$10:G$19,Calc!$B5))=0,"",INDEX(ItemTrend!G$10:G$19,Calc!$B5)),"") -> 44 | H5: =IFERROR(IF(LEN(INDEX(ItemTrend!H$10:H$19,Calc!$B5))=0,"",INDEX(ItemTrend!H$10:H$19,Calc!$B5)),"") -> 46 | J5: 2 | K5: =IFERROR(IF(LEN(INDEX(VendorTrend!C$14:N$14,Calc!$B5))=0,"",INDEX(VendorTrend!C$14:N$14,Calc!$B5)),"") -> February | L5: =IFERROR(IF(LEN(INDEX(VendorTrend!C$12:N$12,Calc!$J5))=0,"",INDEX(VendorTrend!C$12:N$12,Calc!$J5)),"") -> 232 | M5: =MIN($L$4:$L$15) -> 168.5 | P5: {=IFERROR(INDEX(TwoMonth!B$10:B$17,SMALL(IF(LEN(TwoMonth!B$10:B$17)>0,ROW(TwoMonth!B$10:B$17)-ROW(INDEX(TwoMonth!B$10:B$17,1,1))+1),ROW($O6)-ROW($O$4))),"")} -> Milk | Q5: =IFERROR(IF(LEN(Calc!P5)=0,"",INDEX(TwoMonth!$E$10:$E$17,MATCH(Calc!P5,TwoMonth!$B$10:$B$17,0))),"") -> 20 | R5: =IFERROR(IF(LEN(Calc!P5)=0,"",INDEX(TwoMonth!$G$10:$G$17,MATCH(Calc!P5,TwoMonth!$B$10:$B$17,0))),"") -> 28 | U5: =IFERROR((Weighted!$F10/Weighted!$E10),"") -> 20 | V5: =IFERROR((Weighted!$H10/Weighted!$G10),"") -> 20 | W5: =IFERROR((Weighted!$J10/Weighted!$I10),"") -> 20 | X5: =IFERROR((Weighted!$L10/Weighted!$K10),"") -> 20 | Y5: =IFERROR((Weighted!$N10/Weighted!$M10),"") -> 20 | AB5: =IFERROR(MATCH(MIN($AC5:$AG5),$AC5:$AG5,0),"") -> 2 | AC5: =IFERROR(IF(AND(LEN(UnitBased!$D9)>0,LEN(UnitBased!$E9)>0),(UnitBased!$E9/UnitBased!$D9),""),"") -> 2 | AD5: =IFERROR(IF(AND(LEN(UnitBased!$F9)>0,LEN(UnitBased!$G9)>0),(UnitBased!$G9/UnitBased!$F9),""),"") -> 1 | AE5: =IFERROR(IF(AND(LEN(UnitBased!$H9)>0,LEN(UnitBased!$I9)>0),(UnitBased!$I9/UnitBased!$H9),""),"") -> 3 | AF5: =IFERROR(IF(AND(LEN(UnitBased!$J9)>0,LEN(UnitBased!$K9)>0),(UnitBased!$K9/UnitBased!$J9),""),"") -> 4 | AG5: =IFERROR(IF(AND(LEN(UnitBased!$L9)>0,LEN(UnitBased!$M9)>0),(UnitBased!$M9/UnitBased!$L9),""),"") -> 5 | AH5: =IFERROR(IF(LEN(INDEX(UnitBased!C$8:C$18,Calc!$B5))=0,"",INDEX(UnitBased!C$8:C$18,Calc!$B5)),"") -> Bag | AL5: February | AN5: =IFERROR(MATCH(MIN($AO5:$AS5),$AO5:$AS5,0),"") -> 1 | AO5: =IFERROR(IF(LEN(INDEX(ItemTrend!D$10:D$19,Calc!$B5))=0,"",INDEX(ItemTrend!D$10:D$19,Calc!$B5)),"") -> 40 | AP5: =IFERROR(IF(LEN(INDEX(ItemTrend!E$10:E$19,Calc!$B5))=0,"",INDEX(ItemTrend!E$10:E$19,Calc!$B5)),"") -> 43 | AQ5: =IFERROR(IF(LEN(INDEX(ItemTrend!F$10:F$19,Calc!$B5))=0,"",INDEX(ItemTrend!F$10:F$19,Calc!$B5)),"") -> 45 | AR5: =IFERROR(IF(LEN(INDEX(ItemTrend!G$10:G$19,Calc!$B5))=0,"",INDEX(ItemTrend!G$10:G$19,Calc!$B5)),"") -> 44 | AS5: =IFERROR(IF(LEN(INDEX(ItemTrend!H$10:H$19,Calc!$B5))=0,"",INDEX(ItemTrend!H$10:H$19,Calc!$B5)),"") -> 46
B6: 3 | C6: =IFERROR(IF(LEN(INDEX(ItemTrend!B$10:B$19,Calc!$B6))=0,"",INDEX(ItemTrend!B$10:B$19,Calc!$B6)),"") -> Tea | D6: =IFERROR(IF(LEN(INDEX(ItemTrend!D$10:D$19,Calc!$B6))=0,"",INDEX(ItemTrend!D$10:D$19,Calc!$B6)),"") -> 37 | E6: =IFERROR(IF(LEN(INDEX(ItemTrend!E$10:E$19,Calc!$B6))=0,"",INDEX(ItemTrend!E$10:E$19,Calc!$B6)),"") -> 36 | F6: =IFERROR(IF(LEN(INDEX(ItemTrend!F$10:F$19,Calc!$B6))=0,"",INDEX(ItemTrend!F$10:F$19,Calc!$B6)),"") -> 35 | G6: =IFERROR(IF(LEN(INDEX(ItemTrend!G$10:G$19,Calc!$B6))=0,"",INDEX(ItemTrend!G$10:G$19,Calc!$B6)),"") -> 37.5 | H6: =IFERROR(IF(LEN(INDEX(ItemTrend!H$10:H$19,Calc!$B6))=0,"",INDEX(ItemTrend!H$10:H$19,Calc!$B6)),"") -> 40 | J6: 3 | K6: =IFERROR(IF(LEN(INDEX(VendorTrend!C$14:N$14,Calc!$B6))=0,"",INDEX(VendorTrend!C$14:N$14,Calc!$B6)),"") -> March | L6: =IFERROR(IF(LEN(INDEX(VendorTrend!C$12:N$12,Calc!$J6))=0,"",INDEX(VendorTrend!C$12:N$12,Calc!$J6)),"") -> 175 | M6: =MIN($L$4:$L$15) -> 168.5 | P6: {=IFERROR(INDEX(TwoMonth!B$10:B$17,SMALL(IF(LEN(TwoMonth!B$10:B$17)>0,ROW(TwoMonth!B$10:B$17)-ROW(INDEX(TwoMonth!B$10:B$17,1,1))+1),ROW($O7)-ROW($O$4))),"")} -> Yogurt | Q6: =IFERROR(IF(LEN(Calc!P6)=0,"",INDEX(TwoMonth!$E$10:$E$17,MATCH(Calc!P6,TwoMonth!$B$10:$B$17,0))),"") -> 10 | R6: =IFERROR(IF(LEN(Calc!P6)=0,"",INDEX(TwoMonth!$G$10:$G$17,MATCH(Calc!P6,TwoMonth!$B$10:$B$17,0))),"") -> 20 | U6: =IFERROR((Weighted!$F11/Weighted!$E11),"") -> 1 | V6: =IFERROR((Weighted!$H11/Weighted!$G11),"") -> 1 | W6: =IFERROR((Weighted!$J11/Weighted!$I11),"") -> 1 | X6: =IFERROR((Weighted!$L11/Weighted!$K11),"") -> 1 | Y6: =IFERROR((Weighted!$N11/Weighted!$M11),"") -> 1 | AB6: =IFERROR(MATCH(MIN($AC6:$AG6),$AC6:$AG6,0),"") -> 3 | AC6: =IFERROR(IF(AND(LEN(UnitBased!$D10)>0,LEN(UnitBased!$E10)>0),(UnitBased!$E10/UnitBased!$D10),""),"") -> 2 | AD6: =IFERROR(IF(AND(LEN(UnitBased!$F10)>0,LEN(UnitBased!$G10)>0),(UnitBased!$G10/UnitBased!$F10),""),"") -> 2 | AE6: =IFERROR(IF(AND(LEN(UnitBased!$H10)>0,LEN(UnitBased!$I10)>0),(UnitBased!$I10/UnitBased!$H10),""),"") -> 1 | AF6: =IFERROR(IF(AND(LEN(UnitBased!$J10)>0,LEN(UnitBased!$K10)>0),(UnitBased!$K10/UnitBased!$J10),""),"") -> 4 | AG6: =IFERROR(IF(AND(LEN(UnitBased!$L10)>0,LEN(UnitBased!$M10)>0),(UnitBased!$M10/UnitBased!$L10),""),"") -> 5 | AH6: =IFERROR(IF(LEN(INDEX(UnitBased!C$8:C$18,Calc!$B6))=0,"",INDEX(UnitBased!C$8:C$18,Calc!$B6)),"") -> Pcs | AL6: March | AN6: =IFERROR(MATCH(MIN($AO6:$AS6),$AO6:$AS6,0),"") -> 3 | AO6: =IFERROR(IF(LEN(INDEX(ItemTrend!D$10:D$19,Calc!$B6))=0,"",INDEX(ItemTrend!D$10:D$19,Calc!$B6)),"") -> 37 | AP6: =IFERROR(IF(LEN(INDEX(ItemTrend!E$10:E$19,Calc!$B6))=0,"",INDEX(ItemTrend!E$10:E$19,Calc!$B6)),"") -> 36 | AQ6: =IFERROR(IF(LEN(INDEX(ItemTrend!F$10:F$19,Calc!$B6))=0,"",INDEX(ItemTrend!F$10:F$19,Calc!$B6)),"") -> 35 | AR6: =IFERROR(IF(LEN(INDEX(ItemTrend!G$10:G$19,Calc!$B6))=0,"",INDEX(ItemTrend!G$10:G$19,Calc!$B6)),"") -> 37.5 | AS6: =IFERROR(IF(LEN(INDEX(ItemTrend!H$10:H$19,Calc!$B6))=0,"",INDEX(ItemTrend!H$10:H$19,Calc!$B6)),"") -> 40
B7: 4 | C7: =IFERROR(IF(LEN(INDEX(ItemTrend!B$10:B$19,Calc!$B7))=0,"",INDEX(ItemTrend!B$10:B$19,Calc!$B7)),"") -> Coffee | D7: =IFERROR(IF(LEN(INDEX(ItemTrend!D$10:D$19,Calc!$B7))=0,"",INDEX(ItemTrend!D$10:D$19,Calc!$B7)),"") -> 32 | E7: =IFERROR(IF(LEN(INDEX(ItemTrend!E$10:E$19,Calc!$B7))=0,"",INDEX(ItemTrend!E$10:E$19,Calc!$B7)),"") -> 35 | F7: =IFERROR(IF(LEN(INDEX(ItemTrend!F$10:F$19,Calc!$B7))=0,"",INDEX(ItemTrend!F$10:F$19,Calc!$B7)),"") -> 15 | G7: =IFERROR(IF(LEN(INDEX(ItemTrend!G$10:G$19,Calc!$B7))=0,"",INDEX(ItemTrend!G$10:G$19,Calc!$B7)),"") -> 13 | H7: =IFERROR(IF(LEN(INDEX(ItemTrend!H$10:H$19,Calc!$B7))=0,"",INDEX(ItemTrend!H$10:H$19,Calc!$B7)),"") -> 17 | J7: 4 | K7: =IFERROR(IF(LEN(INDEX(VendorTrend!C$14:N$14,Calc!$B7))=0,"",INDEX(VendorTrend!C$14:N$14,Calc!$B7)),"") -> April | L7: =IFERROR(IF(LEN(INDEX(VendorTrend!C$12:N$12,Calc!$J7))=0,"",INDEX(VendorTrend!C$12:N$12,Calc!$J7)),"") -> 168.5 | M7: =MIN($L$4:$L$15) -> 168.5 | P7: {=IFERROR(INDEX(TwoMonth!B$10:B$17,SMALL(IF(LEN(TwoMonth!B$10:B$17)>0,ROW(TwoMonth!B$10:B$17)-ROW(INDEX(TwoMonth!B$10:B$17,1,1))+1),ROW($O8)-ROW($O$4))),"")} -> Salt | Q7: =IFERROR(IF(LEN(Calc!P7)=0,"",INDEX(TwoMonth!$E$10:$E$17,MATCH(Calc!P7,TwoMonth!$B$10:$B$17,0))),"") -> 5 | R7: =IFERROR(IF(LEN(Calc!P7)=0,"",INDEX(TwoMonth!$G$10:$G$17,MATCH(Calc!P7,TwoMonth!$B$10:$B$17,0))),"") -> 3 | U7: =IFERROR((Weighted!$F12/Weighted!$E12),"") -> 1 | V7: =IFERROR((Weighted!$H12/Weighted!$G12),"") -> 1 | W7: =IFERROR((Weighted!$J12/Weighted!$I12),"") -> 1 | X7: =IFERROR((Weighted!$L12/Weighted!$K12),"") -> 1 | Y7: =IFERROR((Weighted!$N12/Weighted!$M12),"") -> 1 | AB7: =IFERROR(MATCH(MIN($AC7:$AG7),$AC7:$AG7,0),"") -> 4 | AC7: =IFERROR(IF(AND(LEN(UnitBased!$D11)>0,LEN(UnitBased!$E11)>0),(UnitBased!$E11/UnitBased!$D11),""),"") -> 2 | AD7: =IFERROR(IF(AND(LEN(UnitBased!$F11)>0,LEN(UnitBased!$G11)>0),(UnitBased!$G11/UnitBased!$F11),""),"") -> 2 | AE7: =IFERROR(IF(AND(LEN(UnitBased!$H11)>0,LEN(UnitBased!$I11)>0),(UnitBased!$I11/UnitBased!$H11),""),"") -> 3 | AF7: =IFERROR(IF(AND(LEN(UnitBased!$J11)>0,LEN(UnitBased!$K11)>0),(UnitBased!$K11/UnitBased!$J11),""),"") -> 1 | AG7: =IFERROR(IF(AND(LEN(UnitBased!$L11)>0,LEN(UnitBased!$M11)>0),(UnitBased!$M11/UnitBased!$L11),""),"") -> 5 | AH7: =IFERROR(IF(LEN(INDEX(UnitBased!C$8:C$18,Calc!$B7))=0,"",INDEX(UnitBased!C$8:C$18,Calc!$B7)),"") -> Pcs | AL7: April | AN7: =IFERROR(MATCH(MIN($AO7:$AS7),$AO7:$AS7,0),"") -> 4 | AO7: =IFERROR(IF(LEN(INDEX(ItemTrend!D$10:D$19,Calc!$B7))=0,"",INDEX(ItemTrend!D$10:D$19,Calc!$B7)),"") -> 32 | AP7: =IFERROR(IF(LEN(INDEX(ItemTrend!E$10:E$19,Calc!$B7))=0,"",INDEX(ItemTrend!E$10:E$19,Calc!$B7)),"") -> 35 | AQ7: =IFERROR(IF(LEN(INDEX(ItemTrend!F$10:F$19,Calc!$B7))=0,"",INDEX(ItemTrend!F$10:F$19,Calc!$B7)),"") -> 15 | AR7: =IFERROR(IF(LEN(INDEX(ItemTrend!G$10:G$19,Calc!$B7))=0,"",INDEX(ItemTrend!G$10:G$19,Calc!$B7)),"") -> 13 | AS7: =IFERROR(IF(LEN(INDEX(ItemTrend!H$10:H$19,Calc!$B7))=0,"",INDEX(ItemTrend!H$10:H$19,Calc!$B7)),"") -> 17
B8: 5 | C8: =IFERROR(IF(LEN(INDEX(ItemTrend!B$10:B$19,Calc!$B8))=0,"",INDEX(ItemTrend!B$10:B$19,Calc!$B8)),"") -> Tomatoes | D8: =IFERROR(IF(LEN(INDEX(ItemTrend!D$10:D$19,Calc!$B8))=0,"",INDEX(ItemTrend!D$10:D$19,Calc!$B8)),"") -> 10 | E8: =IFERROR(IF(LEN(INDEX(ItemTrend!E$10:E$19,Calc!$B8))=0,"",INDEX(ItemTrend!E$10:E$19,Calc!$B8)),"") -> 12 | F8: =IFERROR(IF(LEN(INDEX(ItemTrend!F$10:F$19,Calc!$B8))=0,"",INDEX(ItemTrend!F$10:F$19,Calc!$B8)),"") -> 15 | G8: =IFERROR(IF(LEN(INDEX(ItemTrend!G$10:G$19,Calc!$B8))=0,"",INDEX(ItemTrend!G$10:G$19,Calc!$B8)),"") -> 13 | H8: =IFERROR(IF(LEN(INDEX(ItemTrend!H$10:H$19,Calc!$B8))=0,"",INDEX(ItemTrend!H$10:H$19,Calc!$B8)),"") -> 17 | J8: 5 | K8: =IFERROR(IF(LEN(INDEX(VendorTrend!C$14:N$14,Calc!$B8))=0,"",INDEX(VendorTrend!C$14:N$14,Calc!$B8)),"") -> May | L8: =IFERROR(IF(LEN(INDEX(VendorTrend!C$12:N$12,Calc!$J8))=0,"",INDEX(VendorTrend!C$12:N$12,Calc!$J8)),"") -> 205 | M8: =MIN($L$4:$L$15) -> 168.5 | P8: {=IFERROR(INDEX(TwoMonth!B$10:B$17,SMALL(IF(LEN(TwoMonth!B$10:B$17)>0,ROW(TwoMonth!B$10:B$17)-ROW(INDEX(TwoMonth!B$10:B$17,1,1))+1),ROW($O9)-ROW($O$4))),"")} -> Sugar | Q8: =IFERROR(IF(LEN(Calc!P8)=0,"",INDEX(TwoMonth!$E$10:$E$17,MATCH(Calc!P8,TwoMonth!$B$10:$B$17,0))),"") -> 8 | R8: =IFERROR(IF(LEN(Calc!P8)=0,"",INDEX(TwoMonth!$G$10:$G$17,MATCH(Calc!P8,TwoMonth!$B$10:$B$17,0))),"") -> 7.25 | U8: =IFERROR((Weighted!$F13/Weighted!$E13),"") -> 10 | V8: =IFERROR((Weighted!$H13/Weighted!$G13),"") -> 10 | W8: =IFERROR((Weighted!$J13/Weighted!$I13),"") -> 10 | X8: =IFERROR((Weighted!$L13/Weighted!$K13),"") -> 10 | Y8: =IFERROR((Weighted!$N13/Weighted!$M13),"") -> 10 | AB8: =IFERROR(MATCH(MIN($AC8:$AG8),$AC8:$AG8,0),"") -> 5 | AC8: =IFERROR(IF(AND(LEN(UnitBased!$D12)>0,LEN(UnitBased!$E12)>0),(UnitBased!$E12/UnitBased!$D12),""),"") -> 2 | AD8: =IFERROR(IF(AND(LEN(UnitBased!$F12)>0,LEN(UnitBased!$G12)>0),(UnitBased!$G12/UnitBased!$F12),""),"") -> 2 | AE8: =IFERROR(IF(AND(LEN(UnitBased!$H12)>0,LEN(UnitBased!$I12)>0),(UnitBased!$I12/UnitBased!$H12),""),"") -> 3 | AF8: =IFERROR(IF(AND(LEN(UnitBased!$J12)>0,LEN(UnitBased!$K12)>0),(UnitBased!$K12/UnitBased!$J12),""),"") -> 4 | AG8: =IFERROR(IF(AND(LEN(UnitBased!$L12)>0,LEN(UnitBased!$M12)>0),(UnitBased!$M12/UnitBased!$L12),""),"") -> 1 | AH8: =IFERROR(IF(LEN(INDEX(UnitBased!C$8:C$18,Calc!$B8))=0,"",INDEX(UnitBased!C$8:C$18,Calc!$B8)),"") -> Pcs | AL8: May | AN8: =IFERROR(MATCH(MIN($AO8:$AS8),$AO8:$AS8,0),"") -> 1 | AO8: =IFERROR(IF(LEN(INDEX(ItemTrend!D$10:D$19,Calc!$B8))=0,"",INDEX(ItemTrend!D$10:D$19,Calc!$B8)),"") -> 10 | AP8: =IFERROR(IF(LEN(INDEX(ItemTrend!E$10:E$19,Calc!$B8))=0,"",INDEX(ItemTrend!E$10:E$19,Calc!$B8)),"") -> 12 | AQ8: =IFERROR(IF(LEN(INDEX(ItemTrend!F$10:F$19,Calc!$B8))=0,"",INDEX(ItemTrend!F$10:F$19,Calc!$B8)),"") -> 15 | AR8: =IFERROR(IF(LEN(INDEX(ItemTrend!G$10:G$19,Calc!$B8))=0,"",INDEX(ItemTrend!G$10:G$19,Calc!$B8)),"") -> 13 | AS8: =IFERROR(IF(LEN(INDEX(ItemTrend!H$10:H$19,Calc!$B8))=0,"",INDEX(ItemTrend!H$10:H$19,Calc!$B8)),"") -> 17
B9: 6 | C9: =IFERROR(IF(LEN(INDEX(ItemTrend!B$10:B$19,Calc!$B9))=0,"",INDEX(ItemTrend!B$10:B$19,Calc!$B9)),"") -> Oil | D9: =IFERROR(IF(LEN(INDEX(ItemTrend!D$10:D$19,Calc!$B9))=0,"",INDEX(ItemTrend!D$10:D$19,Calc!$B9)),"") -> 15 | E9: =IFERROR(IF(LEN(INDEX(ItemTrend!E$10:E$19,Calc!$B9))=0,"",INDEX(ItemTrend!E$10:E$19,Calc!$B9)),"") -> 12 | F9: =IFERROR(IF(LEN(INDEX(ItemTrend!F$10:F$19,Calc!$B9))=0,"",INDEX(ItemTrend!F$10:F$19,Calc!$B9)),"") -> 15 | G9: =IFERROR(IF(LEN(INDEX(ItemTrend!G$10:G$19,Calc!$B9))=0,"",INDEX(ItemTrend!G$10:G$19,Calc!$B9)),"") -> 13 | H9: =IFERROR(IF(LEN(INDEX(ItemTrend!H$10:H$19,Calc!$B9))=0,"",INDEX(ItemTrend!H$10:H$19,Calc!$B9)),"") -> 17 | J9: 6 | K9: =IFERROR(IF(LEN(INDEX(VendorTrend!C$14:N$14,Calc!$B9))=0,"",INDEX(VendorTrend!C$14:N$14,Calc!$B9)),"") -> June | L9: =IFERROR(IF(LEN(INDEX(VendorTrend!C$12:N$12,Calc!$J9))=0,"",INDEX(VendorTrend!C$12:N$12,Calc!$J9)),"") -> 204.5 | M9: =MIN($L$4:$L$15) -> 168.5 | P9: {=IFERROR(INDEX(TwoMonth!B$10:B$17,SMALL(IF(LEN(TwoMonth!B$10:B$17)>0,ROW(TwoMonth!B$10:B$17)-ROW(INDEX(TwoMonth!B$10:B$17,1,1))+1),ROW($O10)-ROW($O$4))),"")} | Q9: =IFERROR(IF(LEN(Calc!P9)=0,"",INDEX(TwoMonth!$E$10:$E$17,MATCH(Calc!P9,TwoMonth!$B$10:$B$17,0))),"") | R9: =IFERROR(IF(LEN(Calc!P9)=0,"",INDEX(TwoMonth!$G$10:$G$17,MATCH(Calc!P9,TwoMonth!$B$10:$B$17,0))),"") | U9: =IFERROR((Weighted!$F14/Weighted!$E14),"") | V9: =IFERROR((Weighted!$H14/Weighted!$G14),"") | W9: =IFERROR((Weighted!$J14/Weighted!$I14),"") | X9: =IFERROR((Weighted!$L14/Weighted!$K14),"") | Y9: =IFERROR((Weighted!$N14/Weighted!$M14),"") | AB9: =IFERROR(MATCH(MIN($AC9:$AG9),$AC9:$AG9,0),"") -> 1 | AC9: =IFERROR(IF(AND(LEN(UnitBased!$D13)>0,LEN(UnitBased!$E13)>0),(UnitBased!$E13/UnitBased!$D13),""),"") -> 1 | AD9: =IFERROR(IF(AND(LEN(UnitBased!$F13)>0,LEN(UnitBased!$G13)>0),(UnitBased!$G13/UnitBased!$F13),""),"") -> 2 | AE9: =IFERROR(IF(AND(LEN(UnitBased!$H13)>0,LEN(UnitBased!$I13)>0),(UnitBased!$I13/UnitBased!$H13),""),"") -> 3 | AF9: =IFERROR(IF(AND(LEN(UnitBased!$J13)>0,LEN(UnitBased!$K13)>0),(UnitBased!$K13/UnitBased!$J13),""),"") -> 4 | AG9: =IFERROR(IF(AND(LEN(UnitBased!$L13)>0,LEN(UnitBased!$M13)>0),(UnitBased!$M13/UnitBased!$L13),""),"") -> 5 | AH9: =IFERROR(IF(LEN(INDEX(UnitBased!C$8:C$18,Calc!$B9))=0,"",INDEX(UnitBased!C$8:C$18,Calc!$B9)),"") -> Box | AL9: June | AN9: =IFERROR(MATCH(MIN($AO9:$AS9),$AO9:$AS9,0),"") -> 2 | AO9: =IFERROR(IF(LEN(INDEX(ItemTrend!D$10:D$19,Calc!$B9))=0,"",INDEX(ItemTrend!D$10:D$19,Calc!$B9)),"") -> 15 | AP9: =IFERROR(IF(LEN(INDEX(ItemTrend!E$10:E$19,Calc!$B9))=0,"",INDEX(ItemTrend!E$10:E$19,Calc!$B9)),"") -> 12 | AQ9: =IFERROR(IF(LEN(INDEX(ItemTrend!F$10:F$19,Calc!$B9))=0,"",INDEX(ItemTrend!F$10:F$19,Calc!$B9)),"") -> 15 | AR9: =IFERROR(IF(LEN(INDEX(ItemTrend!G$10:G$19,Calc!$B9))=0,"",INDEX(ItemTrend!G$10:G$19,Calc!$B9)),"") -> 13 | AS9: =IFERROR(IF(LEN(INDEX(ItemTrend!H$10:H$19,Calc!$B9))=0,"",INDEX(ItemTrend!H$10:H$19,Calc!$B9)),"") -> 17
B10: 7 | C10: =IFERROR(IF(LEN(INDEX(ItemTrend!B$10:B$19,Calc!$B10))=0,"",INDEX(ItemTrend!B$10:B$19,Calc!$B10)),"") -> Milk | D10: =IFERROR(IF(LEN(INDEX(ItemTrend!D$10:D$19,Calc!$B10))=0,"",INDEX(ItemTrend!D$10:D$19,Calc!$B10)),"") -> 10 | E10: =IFERROR(IF(LEN(INDEX(ItemTrend!E$10:E$19,Calc!$B10))=0,"",INDEX(ItemTrend!E$10:E$19,Calc!$B10)),"") -> 10 | F10: =IFERROR(IF(LEN(INDEX(ItemTrend!F$10:F$19,Calc!$B10))=0,"",INDEX(ItemTrend!F$10:F$19,Calc!$B10)),"") -> 10 | G10: =IFERROR(IF(LEN(INDEX(ItemTrend!G$10:G$19,Calc!$B10))=0,"",INDEX(ItemTrend!G$10:G$19,Calc!$B10)),"") -> 10 | H10: =IFERROR(IF(LEN(INDEX(ItemTrend!H$10:H$19,Calc!$B10))=0,"",INDEX(ItemTrend!H$10:H$19,Calc!$B10)),"") -> 10 | J10: 7 | K10: =IFERROR(IF(LEN(INDEX(VendorTrend!C$14:N$14,Calc!$B10))=0,"",INDEX(VendorTrend!C$14:N$14,Calc!$B10)),"") -> July | L10: =IFERROR(IF(LEN(INDEX(VendorTrend!C$12:N$12,Calc!$J10))=0,"",INDEX(VendorTrend!C$12:N$12,Calc!$J10)),"") -> 199.37 | M10: =MIN($L$4:$L$15) -> 168.5 | P10: {=IFERROR(INDEX(TwoMonth!B$10:B$17,SMALL(IF(LEN(TwoMonth!B$10:B$17)>0,ROW(TwoMonth!B$10:B$17)-ROW(INDEX(TwoMonth!B$10:B$17,1,1))+1),ROW($O11)-ROW($O$4))),"")} | Q10: =IFERROR(IF(LEN(Calc!P10)=0,"",INDEX(TwoMonth!$E$10:$E$17,MATCH(Calc!P10,TwoMonth!$B$10:$B$17,0))),"") | R10: =IFERROR(IF(LEN(Calc!P10)=0,"",INDEX(TwoMonth!$G$10:$G$17,MATCH(Calc!P10,TwoMonth!$B$10:$B$17,0))),"") | U10: =IFERROR((Weighted!$F15/Weighted!$E15),"") | V10: =IFERROR((Weighted!$H15/Weighted!$G15),"") | W10: =IFERROR((Weighted!$J15/Weighted!$I15),"") | X10: =IFERROR((Weighted!$L15/Weighted!$K15),"") | Y10: =IFERROR((Weighted!$N15/Weighted!$M15),"") | AB10: =IFERROR(MATCH(MIN($AC10:$AG10),$AC10:$AG10,0),"") -> 2 | AC10: =IFERROR(IF(AND(LEN(UnitBased!$D14)>0,LEN(UnitBased!$E14)>0),(UnitBased!$E14/UnitBased!$D14),""),"") -> 2 | AD10: =IFERROR(IF(AND(LEN(UnitBased!$F14)>0,LEN(UnitBased!$G14)>0),(UnitBased!$G14/UnitBased!$F14),""),"") -> 1 | AE10: =IFERROR(IF(AND(LEN(UnitBased!$H14)>0,LEN(UnitBased!$I14)>0),(UnitBased!$I14/UnitBased!$H14),""),"") -> 3 | AF10: =IFERROR(IF(AND(LEN(UnitBased!$J14)>0,LEN(UnitBased!$K14)>0),(UnitBased!$K14/UnitBased!$J14),""),"") -> 4 | AG10: =IFERROR(IF(AND(LEN(UnitBased!$L14)>0,LEN(UnitBased!$M14)>0),(UnitBased!$M14/UnitBased!$L14),""),"") -> 5 | AH10: =IFERROR(IF(LEN(INDEX(UnitBased!C$8:C$18,Calc!$B10))=0,"",INDEX(UnitBased!C$8:C$18,Calc!$B10)),"") -> Pcs | AL10: July | AN10: =IFERROR(MATCH(MIN($AO10:$AS10),$AO10:$AS10,0),"") -> 1 | AO10: =IFERROR(IF(LEN(INDEX(ItemTrend!D$10:D$19,Calc!$B10))=0,"",INDEX(ItemTrend!D$10:D$19,Calc!$B10)),"") -> 10 | AP10: =IFERROR(IF(LEN(INDEX(ItemTrend!E$10:E$19,Calc!$B10))=0,"",INDEX(ItemTrend!E$10:E$19,Calc!$B10)),"") -> 10 | AQ10: =IFERROR(IF(LEN(INDEX(ItemTrend!F$10:F$19,Calc!$B10))=0,"",INDEX(ItemTrend!F$10:F$19,Calc!$B10)),"") -> 10 | AR10: =IFERROR(IF(LEN(INDEX(ItemTrend!G$10:G$19,Calc!$B10))=0,"",INDEX(ItemTrend!G$10:G$19,Calc!$B10)),"") -> 10 | AS10: =IFERROR(IF(LEN(INDEX(ItemTrend!H$10:H$19,Calc!$B10))=0,"",INDEX(ItemTrend!H$10:H$19,Calc!$B10)),"") -> 10
B11: 8 | C11: =IFERROR(IF(LEN(INDEX(ItemTrend!B$10:B$19,Calc!$B11))=0,"",INDEX(ItemTrend!B$10:B$19,Calc!$B11)),"") -> Rice | D11: =IFERROR(IF(LEN(INDEX(ItemTrend!D$10:D$19,Calc!$B11))=0,"",INDEX(ItemTrend!D$10:D$19,Calc!$B11)),"") -> 5 | E11: =IFERROR(IF(LEN(INDEX(ItemTrend!E$10:E$19,Calc!$B11))=0,"",INDEX(ItemTrend!E$10:E$19,Calc!$B11)),"") -> 4 | F11: =IFERROR(IF(LEN(INDEX(ItemTrend!F$10:F$19,Calc!$B11))=0,"",INDEX(ItemTrend!F$10:F$19,Calc!$B11)),"") -> 5 | G11: =IFERROR(IF(LEN(INDEX(ItemTrend!G$10:G$19,Calc!$B11))=0,"",INDEX(ItemTrend!G$10:G$19,Calc!$B11)),"") -> 5 | H11: =IFERROR(IF(LEN(INDEX(ItemTrend!H$10:H$19,Calc!$B11))=0,"",INDEX(ItemTrend!H$10:H$19,Calc!$B11)),"") -> 2 | J11: 8 | K11: =IFERROR(IF(LEN(INDEX(VendorTrend!C$14:N$14,Calc!$B11))=0,"",INDEX(VendorTrend!C$14:N$14,Calc!$B11)),"") -> August | L11: =IFERROR(IF(LEN(INDEX(VendorTrend!C$12:N$12,Calc!$J11))=0,"",INDEX(VendorTrend!C$12:N$12,Calc!$J11)),"") -> 197.95 | M11: =MIN($L$4:$L$15) -> 168.5 | P11: {=IFERROR(INDEX(TwoMonth!B$10:B$17,SMALL(IF(LEN(TwoMonth!B$10:B$17)>0,ROW(TwoMonth!B$10:B$17)-ROW(INDEX(TwoMonth!B$10:B$17,1,1))+1),ROW($O12)-ROW($O$4))),"")} | Q11: =IFERROR(IF(LEN(Calc!P11)=0,"",INDEX(TwoMonth!$E$10:$E$17,MATCH(Calc!P11,TwoMonth!$B$10:$B$17,0))),"") | R11: =IFERROR(IF(LEN(Calc!P11)=0,"",INDEX(TwoMonth!$G$10:$G$17,MATCH(Calc!P11,TwoMonth!$B$10:$B$17,0))),"") | U11: =IFERROR((Weighted!$F16/Weighted!$E16),"") | V11: =IFERROR((Weighted!$H16/Weighted!$G16),"") | W11: =IFERROR((Weighted!$J16/Weighted!$I16),"") | X11: =IFERROR((Weighted!$L16/Weighted!$K16),"") | Y11: =IFERROR((Weighted!$N16/Weighted!$M16),"") | AB11: =IFERROR(MATCH(MIN($AC11:$AG11),$AC11:$AG11,0),"") | AC11: =IFERROR(IF(AND(LEN(UnitBased!$D15)>0,LEN(UnitBased!$E15)>0),(UnitBased!$E15/UnitBased!$D15),""),"") | AD11: =IFERROR(IF(AND(LEN(UnitBased!$F15)>0,LEN(UnitBased!$G15)>0),(UnitBased!$G15/UnitBased!$F15),""),"") | AE11: =IFERROR(IF(AND(LEN(UnitBased!$H15)>0,LEN(UnitBased!$I15)>0),(UnitBased!$I15/UnitBased!$H15),""),"") | AF11: =IFERROR(IF(AND(LEN(UnitBased!$J15)>0,LEN(UnitBased!$K15)>0),(UnitBased!$K15/UnitBased!$J15),""),"") | AG11: =IFERROR(IF(AND(LEN(UnitBased!$L15)>0,LEN(UnitBased!$M15)>0),(UnitBased!$M15/UnitBased!$L15),""),"") | AH11: =IFERROR(IF(LEN(INDEX(UnitBased!C$8:C$18,Calc!$B11))=0,"",INDEX(UnitBased!C$8:C$18,Calc!$B11)),"") | AL11: August | AN11: =IFERROR(MATCH(MIN($AO11:$AS11),$AO11:$AS11,0),"") -> 5 | AO11: =IFERROR(IF(LEN(INDEX(ItemTrend!D$10:D$19,Calc!$B11))=0,"",INDEX(ItemTrend!D$10:D$19,Calc!$B11)),"") -> 5 | AP11: =IFERROR(IF(LEN(INDEX(ItemTrend!E$10:E$19,Calc!$B11))=0,"",INDEX(ItemTrend!E$10:E$19,Calc!$B11)),"") -> 4 | AQ11: =IFERROR(IF(LEN(INDEX(ItemTrend!F$10:F$19,Calc!$B11))=0,"",INDEX(ItemTrend!F$10:F$19,Calc!$B11)),"") -> 5 | AR11: =IFERROR(IF(LEN(INDEX(ItemTrend!G$10:G$19,Calc!$B11))=0,"",INDEX(ItemTrend!G$10:G$19,Calc!$B11)),"") -> 5 | AS11: =IFERROR(IF(LEN(INDEX(ItemTrend!H$10:H$19,Calc!$B11))=0,"",INDEX(ItemTrend!H$10:H$19,Calc!$B11)),"") -> 2
B12: 9 | C12: =IFERROR(IF(LEN(INDEX(ItemTrend!B$10:B$19,Calc!$B12))=0,"",INDEX(ItemTrend!B$10:B$19,Calc!$B12)),"") | D12: =IFERROR(IF(LEN(INDEX(ItemTrend!D$10:D$19,Calc!$B12))=0,"",INDEX(ItemTrend!D$10:D$19,Calc!$B12)),"") | E12: =IFERROR(IF(LEN(INDEX(ItemTrend!E$10:E$19,Calc!$B12))=0,"",INDEX(ItemTrend!E$10:E$19,Calc!$B12)),"") | F12: =IFERROR(IF(LEN(INDEX(ItemTrend!F$10:F$19,Calc!$B12))=0,"",INDEX(ItemTrend!F$10:F$19,Calc!$B12)),"") | G12: =IFERROR(IF(LEN(INDEX(ItemTrend!G$10:G$19,Calc!$B12))=0,"",INDEX(ItemTrend!G$10:G$19,Calc!$B12)),"") | H12: =IFERROR(IF(LEN(INDEX(ItemTrend!H$10:H$19,Calc!$B12))=0,"",INDEX(ItemTrend!H$10:H$19,Calc!$B12)),"") | J12: 9 | K12: =IFERROR(IF(LEN(INDEX(VendorTrend!C$14:N$14,Calc!$B12))=0,"",INDEX(VendorTrend!C$14:N$14,Calc!$B12)),"") -> September | L12: =IFERROR(IF(LEN(INDEX(VendorTrend!C$12:N$12,Calc!$J12))=0,"",INDEX(VendorTrend!C$12:N$12,Calc!$J12)),"") -> 198.33 | M12: =MIN($L$4:$L$15) -> 168.5 | U12: =IFERROR((Weighted!$F17/Weighted!$E17),"") | V12: =IFERROR((Weighted!$H17/Weighted!$G17),"") | W12: =IFERROR((Weighted!$J17/Weighted!$I17),"") | X12: =IFERROR((Weighted!$L17/Weighted!$K17),"") | Y12: =IFERROR((Weighted!$N17/Weighted!$M17),"") | AB12: =IFERROR(MATCH(MIN($AC12:$AG12),$AC12:$AG12,0),"") | AC12: =IFERROR(IF(AND(LEN(UnitBased!$D16)>0,LEN(UnitBased!$E16)>0),(UnitBased!$E16/UnitBased!$D16),""),"") | AD12: =IFERROR(IF(AND(LEN(UnitBased!$F16)>0,LEN(UnitBased!$G16)>0),(UnitBased!$G16/UnitBased!$F16),""),"") | AE12: =IFERROR(IF(AND(LEN(UnitBased!$H16)>0,LEN(UnitBased!$I16)>0),(UnitBased!$I16/UnitBased!$H16),""),"") | AF12: =IFERROR(IF(AND(LEN(UnitBased!$J16)>0,LEN(UnitBased!$K16)>0),(UnitBased!$K16/UnitBased!$J16),""),"") | AG12: =IFERROR(IF(AND(LEN(UnitBased!$L16)>0,LEN(UnitBased!$M16)>0),(UnitBased!$M16/UnitBased!$L16),""),"") | AH12: =IFERROR(IF(LEN(INDEX(UnitBased!C$8:C$18,Calc!$B12))=0,"",INDEX(UnitBased!C$8:C$18,Calc!$B12)),"") | AL12: September | AN12: =IFERROR(MATCH(MIN($AO12:$AS12),$AO12:$AS12,0),"") | AO12: =IFERROR(IF(LEN(INDEX(ItemTrend!D$10:D$19,Calc!$B12))=0,"",INDEX(ItemTrend!D$10:D$19,Calc!$B12)),"") | AP12: =IFERROR(IF(LEN(INDEX(ItemTrend!E$10:E$19,Calc!$B12))=0,"",INDEX(ItemTrend!E$10:E$19,Calc!$B12)),"") | AQ12: =IFERROR(IF(LEN(INDEX(ItemTrend!F$10:F$19,Calc!$B12))=0,"",INDEX(ItemTrend!F$10:F$19,Calc!$B12)),"") | AR12: =IFERROR(IF(LEN(INDEX(ItemTrend!G$10:G$19,Calc!$B12))=0,"",INDEX(ItemTrend!G$10:G$19,Calc!$B12)),"") | AS12: =IFERROR(IF(LEN(INDEX(ItemTrend!H$10:H$19,Calc!$B12))=0,"",INDEX(ItemTrend!H$10:H$19,Calc!$B12)),"")
B13: 10 | C13: =IFERROR(IF(LEN(INDEX(ItemTrend!B$10:B$19,Calc!$B13))=0,"",INDEX(ItemTrend!B$10:B$19,Calc!$B13)),"") | D13: =IFERROR(IF(LEN(INDEX(ItemTrend!D$10:D$19,Calc!$B13))=0,"",INDEX(ItemTrend!D$10:D$19,Calc!$B13)),"") | E13: =IFERROR(IF(LEN(INDEX(ItemTrend!E$10:E$19,Calc!$B13))=0,"",INDEX(ItemTrend!E$10:E$19,Calc!$B13)),"") | F13: =IFERROR(IF(LEN(INDEX(ItemTrend!F$10:F$19,Calc!$B13))=0,"",INDEX(ItemTrend!F$10:F$19,Calc!$B13)),"") | G13: =IFERROR(IF(LEN(INDEX(ItemTrend!G$10:G$19,Calc!$B13))=0,"",INDEX(ItemTrend!G$10:G$19,Calc!$B13)),"") | H13: =IFERROR(IF(LEN(INDEX(ItemTrend!H$10:H$19,Calc!$B13))=0,"",INDEX(ItemTrend!H$10:H$19,Calc!$B13)),"") | J13: 10 | K13: =IFERROR(IF(LEN(INDEX(VendorTrend!C$14:N$14,Calc!$B13))=0,"",INDEX(VendorTrend!C$14:N$14,Calc!$B13)),"") -> October | L13: =IFERROR(IF(LEN(INDEX(VendorTrend!C$12:N$12,Calc!$J13))=0,"",INDEX(VendorTrend!C$12:N$12,Calc!$J13)),"") -> 198 | M13: =MIN($L$4:$L$15) -> 168.5 | U13: =IFERROR((Weighted!$F18/Weighted!$E18),"") | V13: =IFERROR((Weighted!$H18/Weighted!$G18),"") | W13: =IFERROR((Weighted!$J18/Weighted!$I18),"") | X13: =IFERROR((Weighted!$L18/Weighted!$K18),"") | Y13: =IFERROR((Weighted!$N18/Weighted!$M18),"") | AB13: =IFERROR(MATCH(MIN($AC13:$AG13),$AC13:$AG13,0),"") | AC13: =IFERROR(IF(AND(LEN(UnitBased!$D17)>0,LEN(UnitBased!$E17)>0),(UnitBased!$E17/UnitBased!$D17),""),"") | AD13: =IFERROR(IF(AND(LEN(UnitBased!$F17)>0,LEN(UnitBased!$G17)>0),(UnitBased!$G17/UnitBased!$F17),""),"") | AE13: =IFERROR(IF(AND(LEN(UnitBased!$H17)>0,LEN(UnitBased!$I17)>0),(UnitBased!$I17/UnitBased!$H17),""),"") | AF13: =IFERROR(IF(AND(LEN(UnitBased!$J17)>0,LEN(UnitBased!$K17)>0),(UnitBased!$K17/UnitBased!$J17),""),"") | AG13: =IFERROR(IF(AND(LEN(UnitBased!$L17)>0,LEN(UnitBased!$M17)>0),(UnitBased!$M17/UnitBased!$L17),""),"") | AH13: =IFERROR(IF(LEN(INDEX(UnitBased!C$8:C$18,Calc!$B13))=0,"",INDEX(UnitBased!C$8:C$18,Calc!$B13)),"") | AL13: October | AN13: =IFERROR(MATCH(MIN($AO13:$AS13),$AO13:$AS13,0),"") | AO13: =IFERROR(IF(LEN(INDEX(ItemTrend!D$10:D$19,Calc!$B13))=0,"",INDEX(ItemTrend!D$10:D$19,Calc!$B13)),"") | AP13: =IFERROR(IF(LEN(INDEX(ItemTrend!E$10:E$19,Calc!$B13))=0,"",INDEX(ItemTrend!E$10:E$19,Calc!$B13)),"") | AQ13: =IFERROR(IF(LEN(INDEX(ItemTrend!F$10:F$19,Calc!$B13))=0,"",INDEX(ItemTrend!F$10:F$19,Calc!$B13)),"") | AR13: =IFERROR(IF(LEN(INDEX(ItemTrend!G$10:G$19,Calc!$B13))=0,"",INDEX(ItemTrend!G$10:G$19,Calc!$B13)),"") | AS13: =IFERROR(IF(LEN(INDEX(ItemTrend!H$10:H$19,Calc!$B13))=0,"",INDEX(ItemTrend!H$10:H$19,Calc!$B13)),"")
J14: 11 | K14: =IFERROR(IF(LEN(INDEX(VendorTrend!C$14:N$14,Calc!$B14))=0,"",INDEX(VendorTrend!C$14:N$14,Calc!$B14)),"") -> September | L14: =IFERROR(IF(LEN(INDEX(VendorTrend!C$12:N$12,Calc!$J14))=0,"",INDEX(VendorTrend!C$12:N$12,Calc!$J14)),"") -> 197.27 | M14: =MIN($L$4:$L$15) -> 168.5 | AB14: =IFERROR(MATCH(MIN($AC14:$AG14),$AC14:$AG14,0),"") | AC14: =IFERROR(IF(AND(LEN(UnitBased!$D18)>0,LEN(UnitBased!$E18)>0),(UnitBased!$E18/UnitBased!$D18),""),"") | AD14: =IFERROR(IF(AND(LEN(UnitBased!$F18)>0,LEN(UnitBased!$G18)>0),(UnitBased!$G18/UnitBased!$F18),""),"") | AE14: =IFERROR(IF(AND(LEN(UnitBased!$H18)>0,LEN(UnitBased!$I18)>0),(UnitBased!$I18/UnitBased!$H18),""),"") | AF14: =IFERROR(IF(AND(LEN(UnitBased!$J18)>0,LEN(UnitBased!$K18)>0),(UnitBased!$K18/UnitBased!$J18),""),"") | AG14: =IFERROR(IF(AND(LEN(UnitBased!$L18)>0,LEN(UnitBased!$M18)>0),(UnitBased!$M18/UnitBased!$L18),""),"") | AH14: =IFERROR(IF(LEN(INDEX(UnitBased!C$8:C$18,Calc!$B14))=0,"",INDEX(UnitBased!C$8:C$18,Calc!$B14)),"") -> Pcs | AL14: November
J15: 12 | K15: =IFERROR(IF(LEN(INDEX(VendorTrend!C$14:N$14,Calc!$B15))=0,"",INDEX(VendorTrend!C$14:N$14,Calc!$B15)),"") -> September | L15: =IFERROR(IF(LEN(INDEX(VendorTrend!C$12:N$12,Calc!$J15))=0,"",INDEX(VendorTrend!C$12:N$12,Calc!$J15)),"") -> 195.46 | M15: =MIN($L$4:$L$15) -> 168.5 | AL15: December
J17: 22223b | AK17: DROPDOWNS | AQ17: =MAX(COUNTA($AQ$19:$AQ$30)-COUNTBLANK($AQ$19:$AQ$30),1) -> 6
J18: 4a4e69 | AL18: =MAX(COUNTA($AL$20:$AL$31)-COUNTBLANK($AL$20:$AL$31),1) -> 5 | AP18: Units | AQ18: No Blank
J19: 9a8c98 | AK19: Vendor Name | AL19: No Blank | AN19: 1 | AP19: =IFERROR(IF(LEN(INDEX(Dashboard!$G$10:$G$21,Calc!AN19,1))>0,INDEX(Dashboard!$G$10:$G$21,Calc!AN19,1),""),"") -> Pcs | AQ19: {=IFERROR(INDEX($AP$19:$AP$30,MATCH(0,INDEX((LEN($AP$19:$AP$30)=0)+COUNTIF($AQ$18:$AQ18,$AP$19:$AP$30),0),0)),"")} -> Pcs
J20: c9ada7 | AI20: 1 | AK20: =IFERROR(IF(LEN(INDEX(Dashboard!$E$10:$E$21,Calc!AI20,1))>0,INDEX(Dashboard!$E$10:$E$21,Calc!AI20,1),""),"") -> Amazon | AL20: {=IFERROR(INDEX($AK$20:$AK$31,MATCH(0,INDEX((LEN($AK$20:$AK$31)=0)+COUNTIF($AL$19:$AL19,$AK$20:$AK$31),0),0)),"")} -> Amazon | AN20: 2 | AP20: =IFERROR(IF(LEN(INDEX(Dashboard!$G$10:$G$21,Calc!AN20,1))>0,INDEX(Dashboard!$G$10:$G$21,Calc!AN20,1),""),"") -> Set | AQ20: {=IFERROR(INDEX($AP$19:$AP$30,MATCH(0,INDEX((LEN($AP$19:$AP$30)=0)+COUNTIF($AQ$18:$AQ19,$AP$19:$AP$30),0),0)),"")} -> Set
J21: f2e9e4 | AI21: 2 | AK21: =IFERROR(IF(LEN(INDEX(Dashboard!$E$10:$E$21,Calc!AI21,1))>0,INDEX(Dashboard!$E$10:$E$21,Calc!AI21,1),""),"") -> Carrefour | AL21: {=IFERROR(INDEX($AK$20:$AK$31,MATCH(0,INDEX((LEN($AK$20:$AK$31)=0)+COUNTIF($AL$19:$AL20,$AK$20:$AK$31),0),0)),"")} -> Carrefour | AN21: 3 | AP21: =IFERROR(IF(LEN(INDEX(Dashboard!$G$10:$G$21,Calc!AN21,1))>0,INDEX(Dashboard!$G$10:$G$21,Calc!AN21,1),""),"") -> Each | AQ21: {=IFERROR(INDEX($AP$19:$AP$30,MATCH(0,INDEX((LEN($AP$19:$AP$30)=0)+COUNTIF($AQ$18:$AQ20,$AP$19:$AP$30),0),0)),"")} -> Each
AI22: 3 | AK22: =IFERROR(IF(LEN(INDEX(Dashboard!$E$10:$E$21,Calc!AI22,1))>0,INDEX(Dashboard!$E$10:$E$21,Calc!AI22,1),""),"") -> Metro | AL22: {=IFERROR(INDEX($AK$20:$AK$31,MATCH(0,INDEX((LEN($AK$20:$AK$31)=0)+COUNTIF($AL$19:$AL21,$AK$20:$AK$31),0),0)),"")} -> Metro | AN22: 4 | AP22: =IFERROR(IF(LEN(INDEX(Dashboard!$G$10:$G$21,Calc!AN22,1))>0,INDEX(Dashboard!$G$10:$G$21,Calc!AN22,1),""),"") -> Box | AQ22: {=IFERROR(INDEX($AP$19:$AP$30,MATCH(0,INDEX((LEN($AP$19:$AP$30)=0)+COUNTIF($AQ$18:$AQ21,$AP$19:$AP$30),0),0)),"")} -> Box
AI23: 4 | AK23: =IFERROR(IF(LEN(INDEX(Dashboard!$E$10:$E$21,Calc!AI23,1))>0,INDEX(Dashboard!$E$10:$E$21,Calc!AI23,1),""),"") -> Tesco | AL23: {=IFERROR(INDEX($AK$20:$AK$31,MATCH(0,INDEX((LEN($AK$20:$AK$31)=0)+COUNTIF($AL$19:$AL22,$AK$20:$AK$31),0),0)),"")} -> Tesco | AN23: 5 | AP23: =IFERROR(IF(LEN(INDEX(Dashboard!$G$10:$G$21,Calc!AN23,1))>0,INDEX(Dashboard!$G$10:$G$21,Calc!AN23,1),""),"") -> Kg | AQ23: {=IFERROR(INDEX($AP$19:$AP$30,MATCH(0,INDEX((LEN($AP$19:$AP$30)=0)+COUNTIF($AQ$18:$AQ22,$AP$19:$AP$30),0),0)),"")} -> Kg
AI24: 5 | AK24: =IFERROR(IF(LEN(INDEX(Dashboard!$E$10:$E$21,Calc!AI24,1))>0,INDEX(Dashboard!$E$10:$E$21,Calc!AI24,1),""),"") -> Walmart | AL24: {=IFERROR(INDEX($AK$20:$AK$31,MATCH(0,INDEX((LEN($AK$20:$AK$31)=0)+COUNTIF($AL$19:$AL23,$AK$20:$AK$31),0),0)),"")} -> Walmart | AN24: 6 | AP24: =IFERROR(IF(LEN(INDEX(Dashboard!$G$10:$G$21,Calc!AN24,1))>0,INDEX(Dashboard!$G$10:$G$21,Calc!AN24,1),""),"") -> Bag | AQ24: {=IFERROR(INDEX($AP$19:$AP$30,MATCH(0,INDEX((LEN($AP$19:$AP$30)=0)+COUNTIF($AQ$18:$AQ23,$AP$19:$AP$30),0),0)),"")} -> Bag
AI25: 6 | AK25: =IFERROR(IF(LEN(INDEX(Dashboard!$E$10:$E$21,Calc!AI25,1))>0,INDEX(Dashboard!$E$10:$E$21,Calc!AI25,1),""),"") | AL25: {=IFERROR(INDEX($AK$20:$AK$31,MATCH(0,INDEX((LEN($AK$20:$AK$31)=0)+COUNTIF($AL$19:$AL24,$AK$20:$AK$31),0),0)),"")} | AN25: 7 | AP25: =IFERROR(IF(LEN(INDEX(Dashboard!$G$10:$G$21,Calc!AN25,1))>0,INDEX(Dashboard!$G$10:$G$21,Calc!AN25,1),""),"") | AQ25: {=IFERROR(INDEX($AP$19:$AP$30,MATCH(0,INDEX((LEN($AP$19:$AP$30)=0)+COUNTIF($AQ$18:$AQ24,$AP$19:$AP$30),0),0)),"")}
AI26: 7 | AK26: =IFERROR(IF(LEN(INDEX(Dashboard!$E$10:$E$21,Calc!AI26,1))>0,INDEX(Dashboard!$E$10:$E$21,Calc!AI26,1),""),"") | AL26: {=IFERROR(INDEX($AK$20:$AK$31,MATCH(0,INDEX((LEN($AK$20:$AK$31)=0)+COUNTIF($AL$19:$AL25,$AK$20:$AK$31),0),0)),"")} | AN26: 8 | AP26: =IFERROR(IF(LEN(INDEX(Dashboard!$G$10:$G$21,Calc!AN26,1))>0,INDEX(Dashboard!$G$10:$G$21,Calc!AN26,1),""),"") | AQ26: {=IFERROR(INDEX($AP$19:$AP$30,MATCH(0,INDEX((LEN($AP$19:$AP$30)=0)+COUNTIF($AQ$18:$AQ25,$AP$19:$AP$30),0),0)),"")}
AI27: 8 | AK27: =IFERROR(IF(LEN(INDEX(Dashboard!$E$10:$E$21,Calc!AI27,1))>0,INDEX(Dashboard!$E$10:$E$21,Calc!AI27,1),""),"") | AL27: {=IFERROR(INDEX($AK$20:$AK$31,MATCH(0,INDEX((LEN($AK$20:$AK$31)=0)+COUNTIF($AL$19:$AL26,$AK$20:$AK$31),0),0)),"")} | AN27: 9 | AP27: =IFERROR(IF(LEN(INDEX(Dashboard!$G$10:$G$21,Calc!AN27,1))>0,INDEX(Dashboard!$G$10:$G$21,Calc!AN27,1),""),"") | AQ27: {=IFERROR(INDEX($AP$19:$AP$30,MATCH(0,INDEX((LEN($AP$19:$AP$30)=0)+COUNTIF($AQ$18:$AQ26,$AP$19:$AP$30),0),0)),"")}
AI28: 9 | AK28: =IFERROR(IF(LEN(INDEX(Dashboard!$E$10:$E$21,Calc!AI28,1))>0,INDEX(Dashboard!$E$10:$E$21,Calc!AI28,1),""),"") | AL28: {=IFERROR(INDEX($AK$20:$AK$31,MATCH(0,INDEX((LEN($AK$20:$AK$31)=0)+COUNTIF($AL$19:$AL27,$AK$20:$AK$31),0),0)),"")} | AN28: 10 | AP28: =IFERROR(IF(LEN(INDEX(Dashboard!$G$10:$G$21,Calc!AN28,1))>0,INDEX(Dashboard!$G$10:$G$21,Calc!AN28,1),""),"") | AQ28: {=IFERROR(INDEX($AP$19:$AP$30,MATCH(0,INDEX((LEN($AP$19:$AP$30)=0)+COUNTIF($AQ$18:$AQ27,$AP$19:$AP$30),0),0)),"")}
AI29: 10 | AK29: =IFERROR(IF(LEN(INDEX(Dashboard!$E$10:$E$21,Calc!AI29,1))>0,INDEX(Dashboard!$E$10:$E$21,Calc!AI29,1),""),"") | AL29: {=IFERROR(INDEX($AK$20:$AK$31,MATCH(0,INDEX((LEN($AK$20:$AK$31)=0)+COUNTIF($AL$19:$AL28,$AK$20:$AK$31),0),0)),"")} | AN29: 11 | AP29: =IFERROR(IF(LEN(INDEX(Dashboard!$G$10:$G$21,Calc!AN29,1))>0,INDEX(Dashboard!$G$10:$G$21,Calc!AN29,1),""),"") | AQ29: {=IFERROR(INDEX($AP$19:$AP$30,MATCH(0,INDEX((LEN($AP$19:$AP$30)=0)+COUNTIF($AQ$18:$AQ28,$AP$19:$AP$30),0),0)),"")}
AI30: 11 | AK30: =IFERROR(IF(LEN(INDEX(Dashboard!$E$10:$E$21,Calc!AI30,1))>0,INDEX(Dashboard!$E$10:$E$21,Calc!AI30,1),""),"") | AL30: {=IFERROR(INDEX($AK$20:$AK$31,MATCH(0,INDEX((LEN($AK$20:$AK$31)=0)+COUNTIF($AL$19:$AL29,$AK$20:$AK$31),0),0)),"")} | AN30: 12 | AP30: =IFERROR(IF(LEN(INDEX(Dashboard!$G$10:$G$21,Calc!AN30,1))>0,INDEX(Dashboard!$G$10:$G$21,Calc!AN30,1),""),"") | AQ30: {=IFERROR(INDEX($AP$19:$AP$30,MATCH(0,INDEX((LEN($AP$19:$AP$30)=0)+COUNTIF($AQ$18:$AQ29,$AP$19:$AP$30),0),0)),"")}
AI31: 12 | AK31: =IFERROR(IF(LEN(INDEX(Dashboard!$E$10:$E$21,Calc!AI31,1))>0,INDEX(Dashboard!$E$10:$E$21,Calc!AI31,1),""),"") | AL31: {=IFERROR(INDEX($AK$20:$AK$31,MATCH(0,INDEX((LEN($AK$20:$AK$31)=0)+COUNTIF($AL$19:$AL30,$AK$20:$AK$31),0),0)),"")}
