Workbook

Sheet Menu
B2: COMPANY CASH FLOW PLANNER TEMPLATE
B3: MENU
C21: Settings
C23: Income Categories | E23: Expense Categories | G23: Start Date | H23: 45292
C24: Sales Revenue | E24: Operating Expenses | G24: End Date | H24: =IFERROR(H23+366,"") -> 45658
C25: Property Sale | E25: Lending
C26: Loan Collection | E26: Purchase of Property | G26: Starting Balance | H26: 2800
C27: Issuance of Debt | E27: Purchase of Equipment
C28: Revenue From Rentals | E28: Interest Paid
C29: Issuance of Equity

Sheet Input
B2: COMPANY CASH FLOW PLANNER TEMPLATE
B3: INCOME & EXPENSE INPUT
B5: Income/Expense | C5: Category | D5: Name | E5: Amount | F5: Type | G5: Frequency | H5: Every | I5: Start Date | J5: End Date
B6: Expense | C6: Operating Expenses | D6: Wages | E6: 1000 | F6: Recurring | G6: Weekly | H6: 2 weeks | I6: 45293 | J6: 45567 | K6: =IFERROR(IF(I6="","",IF(OR(I6<Menu!$H$23,Input!J6>Menu!$H$24,AND(F6=Calc!$B$12,Input!I6>Menu!$H$24),AND(F6=Calc!$B$11,Input!J6<Input!I6)),"!","")),"")
B7: Expense | C7: Operating Expenses | D7: Marketing | E7: 500 | F7: Recurring | G7: Monthly | H7: Month | I7: 45352 | J7: 45474 | K7: =IFERROR(IF(I7="","",IF(OR(I7<Menu!$H$23,Input!J7>Menu!$H$24,AND(F7=Calc!$B$12,Input!I7>Menu!$H$24),AND(F7=Calc!$B$11,Input!J7<Input!I7)),"!","")),"")
B8: Income | C8: Sales Revenue | D8: Sales from old factory | E8: 1500 | F8: Recurring | G8: Weekly | H8: Week | I8: 45293 | J8: 45657 | K8: =IFERROR(IF(I8="","",IF(OR(I8<Menu!$H$23,Input!J8>Menu!$H$24,AND(F8=Calc!$B$12,Input!I8>Menu!$H$24),AND(F8=Calc!$B$11,Input!J8<Input!I8)),"!","")),"")
B9: Income | C9: Property Sale | D9: Sales of the house | E9: 10000 | F9: One-time | I9: 45311 | K9: =IFERROR(IF(I9="","",IF(OR(I9<Menu!$H$23,Input!J9>Menu!$H$24,AND(F9=Calc!$B$12,Input!I9>Menu!$H$24),AND(F9=Calc!$B$11,Input!J9<Input!I9)),"!","")),"")
B10: Expense | C10: Lending | D10: Equipment Lending | E10: 500 | F10: Recurring | G10: Weekly | H10: 3 weeks | I10: 45293 | J10: 45657 | K10: =IFERROR(IF(I10="","",IF(OR(I10<Menu!$H$23,Input!J10>Menu!$H$24,AND(F10=Calc!$B$12,Input!I10>Menu!$H$24),AND(F10=Calc!$B$11,Input!J10<Input!I10)),"!","")),"")
B11: Income | C11: Issuance of Debt | D11: Debt Issuance | E11: 200 | F11: Recurring | G11: Weekly | H11: Week | I11: 45293 | J11: 45596 | K11: =IFERROR(IF(I11="","",IF(OR(I11<Menu!$H$23,Input!J11>Menu!$H$24,AND(F11=Calc!$B$12,Input!I11>Menu!$H$24),AND(F11=Calc!$B$11,Input!J11<Input!I11)),"!","")),"")
B12: Income | C12: Revenue From Rentals | D12: Property Rental | E12: 1000 | F12: Recurring | G12: Monthly | H12: 3 months | I12: 45433 | J12: 45657 | K12: =IFERROR(IF(I12="","",IF(OR(I12<Menu!$H$23,Input!J12>Menu!$H$24,AND(F12=Calc!$B$12,Input!I12>Menu!$H$24),AND(F12=Calc!$B$11,Input!J12<Input!I12)),"!","")),"")
B13: Expense | C13: Purchase of Property | D13: Purchase of the mill | E13: 11000 | F13: One-time | I13: 45312 | K13: =IFERROR(IF(I13="","",IF(OR(I13<Menu!$H$23,Input!J13>Menu!$H$24,AND(F13=Calc!$B$12,Input!I13>Menu!$H$24),AND(F13=Calc!$B$11,Input!J13<Input!I13)),"!","")),"")
K14: =IFERROR(IF(I14="","",IF(OR(I14<Menu!$H$23,Input!J14>Menu!$H$24,AND(F14=Calc!$B$12,Input!I14>Menu!$H$24),AND(F14=Calc!$B$11,Input!J14<Input!I14)),"!","")),"")
K15: =IFERROR(IF(I15="","",IF(OR(I15<Menu!$H$23,Input!J15>Menu!$H$24,AND(F15=Calc!$B$12,Input!I15>Menu!$H$24),AND(F15=Calc!$B$11,Input!J15<Input!I15)),"!","")),"")
K16: =IFERROR(IF(I16="","",IF(OR(I16<Menu!$H$23,Input!J16>Menu!$H$24,AND(F16=Calc!$B$12,Input!I16>Menu!$H$24),AND(F16=Calc!$B$11,Input!J16<Input!I16)),"!","")),"")
K17: =IFERROR(IF(I17="","",IF(OR(I17<Menu!$H$23,Input!J17>Menu!$H$24,AND(F17=Calc!$B$12,Input!I17>Menu!$H$24),AND(F17=Calc!$B$11,Input!J17<Input!I17)),"!","")),"")
K18: =IFERROR(IF(I18="","",IF(OR(I18<Menu!$H$23,Input!J18>Menu!$H$24,AND(F18=Calc!$B$12,Input!I18>Menu!$H$24),AND(F18=Calc!$B$11,Input!J18<Input!I18)),"!","")),"")
K19: =IFERROR(IF(I19="","",IF(OR(I19<Menu!$H$23,Input!J19>Menu!$H$24,AND(F19=Calc!$B$12,Input!I19>Menu!$H$24),AND(F19=Calc!$B$11,Input!J19<Input!I19)),"!","")),"")
K20: =IFERROR(IF(I20="","",IF(OR(I20<Menu!$H$23,Input!J20>Menu!$H$24,AND(F20=Calc!$B$12,Input!I20>Menu!$H$24),AND(F20=Calc!$B$11,Input!J20<Input!I20)),"!","")),"")
K21: =IFERROR(IF(I21="","",IF(OR(I21<Menu!$H$23,Input!J21>Menu!$H$24,AND(F21=Calc!$B$12,Input!I21>Menu!$H$24),AND(F21=Calc!$B$11,Input!J21<Input!I21)),"!","")),"")
K22: =IFERROR(IF(I22="","",IF(OR(I22<Menu!$H$23,Input!J22>Menu!$H$24,AND(F22=Calc!$B$12,Input!I22>Menu!$H$24),AND(F22=Calc!$B$11,Input!J22<Input!I22)),"!","")),"")
K23: =IFERROR(IF(I23="","",IF(OR(I23<Menu!$H$23,Input!J23>Menu!$H$24,AND(F23=Calc!$B$12,Input!I23>Menu!$H$24),AND(F23=Calc!$B$11,Input!J23<Input!I23)),"!","")),"")
K24: =IFERROR(IF(I24="","",IF(OR(I24<Menu!$H$23,Input!J24>Menu!$H$24,AND(F24=Calc!$B$12,Input!I24>Menu!$H$24),AND(F24=Calc!$B$11,Input!J24<Input!I24)),"!","")),"")
K25: =IFERROR(IF(I25="","",IF(OR(I25<Menu!$H$23,Input!J25>Menu!$H$24,AND(F25=Calc!$B$12,Input!I25>Menu!$H$24),AND(F25=Calc!$B$11,Input!J25<Input!I25)),"!","")),"")
... K505: =IFERROR(IF(I505="","",IF(OR(I505<Menu!$H$23,Input!J505>Menu!$H$24,AND(F505=Calc!$B$12,Input!I505>Menu!$H$24),AND(F505=Calc!$B$11,Input!J505<Input!I505)),"!","")),"")

Sheet Dashboard
B2: COMPANY CASH FLOW PLANNER TEMPLATE
B3: DASHBOARD
C7: MONTH FILTER | E7: Jan - 2024
G9: Overview Summary
G11: Opening Balance
G12: Your cash in the beginning of the period
G13: =IFERROR(Calc!PO23,"") -> 2800
G15: Total Income
G16: Total of income in the selected period
G17: =IFERROR(Calc!PO24,"") -> 18500
G19: Total Expense
G20: Total of expenses in the selected period
G21: =IFERROR(Calc!PO25,"") -> 15000
G23: Cash Balance
G24: Difference between Income and Expenses
G25: =IFERROR(Calc!PO26,"") -> 3500
G27: Closing Balance
G28: Opening balance plus your monthly balance
G29: =IFERROR(Calc!PO27,"") -> 6300

Sheet Table
B2: COMPANY CASH FLOW PLANNER TEMPLATE
B3: MONTHLY TABLE
D6: =Calc!O8 -> Jan - 2024 | E6: =Calc!O9 -> Feb - 2024 | F6: =Calc!O10 -> Mar - 2024 | G6: =Calc!O11 -> Apr - 2024 | H6: =Calc!O12 -> May - 2024 | I6: =Calc!O13 -> Jun - 2024 | J6: =Calc!O14 -> Jul - 2024 | K6: =Calc!O15 -> Aug - 2024 | L6: =Calc!O16 -> Sep - 2024 | M6: =Calc!O17 -> Oct - 2024 | N6: =Calc!O18 -> Nov - 2024 | O6: =Calc!O19 -> Dec - 2024 | P6: 12-MONTH
C8: Opening Balance | D8: =IFERROR(Menu!H26,"") -> 2800 | E8: =IFERROR(D8+D76,"") -> 6300 | F8: =IFERROR(E8+E76,"") -> 10600 | G8: =IFERROR(F8+F76,"") -> 13900 | H8: =IFERROR(G8+G76,"") -> 19400 | I8: =IFERROR(H8+H76,"") -> 23700 | J8: =IFERROR(I8+I76,"") -> 27500 | K8: =IFERROR(J8+J76,"") -> 31500 | L8: =IFERROR(K8+K76,"") -> 36800 | ... O8: =IFERROR(N8+N76,"") -> 55100 | P8: =IFERROR(D8,"") -> 2800
C10: Cash Incoming
C11: =IFERROR(IF(LEN(Menu!C24)=0,"",Menu!C24),"") -> Sales Revenue | D11: =IFERROR(IF($C11="","",SUMIFS(Calc!$OW$6:$OW$5005,Calc!$OT$6:$OT$5005,Calc!$B$7,Calc!$OU$6:$OU$5005,Table!$C11,Calc!$PB$6:$PB$5005,Table!D$6)),"") -> 7500 | E11: =IFERROR(IF($C11="","",SUMIFS(Calc!$OW$6:$OW$5005,Calc!$OT$6:$OT$5005,Calc!$B$7,Calc!$OU$6:$OU$5005,Table!$C11,Calc!$PB$6:$PB$5005,Table!E$6)),"") -> 6000 | F11: =IFERROR(IF($C11="","",SUMIFS(Calc!$OW$6:$OW$5005,Calc!$OT$6:$OT$5005,Calc!$B$7,Calc!$OU$6:$OU$5005,Table!$C11,Calc!$PB$6:$PB$5005,Table!F$6)),"") -> 6000 | G11: =IFERROR(IF($C11="","",SUMIFS(Calc!$OW$6:$OW$5005,Calc!$OT$6:$OT$5005,Calc!$B$7,Calc!$OU$6:$OU$5005,Table!$C11,Calc!$PB$6:$PB$5005,Table!G$6)),"") -> 7500 | H11: =IFERROR(IF($C11="","",SUMIFS(Calc!$OW$6:$OW$5005,Calc!$OT$6:$OT$5005,Calc!$B$7,Calc!$OU$6:$OU$5005,Table!$C11,Calc!$PB$6:$PB$5005,Table!H$6)),"") -> 6000 | I11: =IFERROR(IF($C11="","",SUMIFS(Calc!$OW$6:$OW$5005,Calc!$OT$6:$OT$5005,Calc!$B$7,Calc!$OU$6:$OU$5005,Table!$C11,Calc!$PB$6:$PB$5005,Table!I$6)),"") -> 6000 | J11: =IFERROR(IF($C11="","",SUMIFS(Calc!$OW$6:$OW$5005,Calc!$OT$6:$OT$5005,Calc!$B$7,Calc!$OU$6:$OU$5005,Table!$C11,Calc!$PB$6:$PB$5005,Table!J$6)),"") -> 7500 | K11: =IFERROR(IF($C11="","",SUMIFS(Calc!$OW$6:$OW$5005,Calc!$OT$6:$OT$5005,Calc!$B$7,Calc!$OU$6:$OU$5005,Table!$C11,Calc!$PB$6:$PB$5005,Table!K$6)),"") -> 6000 | ... O11: =IFERROR(IF($C11="","",SUMIFS(Calc!$OW$6:$OW$5005,Calc!$OT$6:$OT$5005,Calc!$B$7,Calc!$OU$6:$OU$5005,Table!$C11,Calc!$PB$6:$PB$5005,Table!O$6)),"") -> 7500 | P11: =IFERROR(IF($C11="","",SUM(D11:O11)),"") -> 79500
C12: =IFERROR(IF(LEN(Menu!C25)=0,"",Menu!C25),"") -> Property Sale | D12: =IFERROR(IF($C12="","",SUMIFS(Calc!$OW$6:$OW$5005,Calc!$OT$6:$OT$5005,Calc!$B$7,Calc!$OU$6:$OU$5005,Table!$C12,Calc!$PB$6:$PB$5005,Table!D$6)),"") -> 10000 | E12: =IFERROR(IF($C12="","",SUMIFS(Calc!$OW$6:$OW$5005,Calc!$OT$6:$OT$5005,Calc!$B$7,Calc!$OU$6:$OU$5005,Table!$C12,Calc!$PB$6:$PB$5005,Table!E$6)),"") -> 0 | F12: =IFERROR(IF($C12="","",SUMIFS(Calc!$OW$6:$OW$5005,Calc!$OT$6:$OT$5005,Calc!$B$7,Calc!$OU$6:$OU$5005,Table!$C12,Calc!$PB$6:$PB$5005,Table!F$6)),"") -> 0 | G12: =IFERROR(IF($C12="","",SUMIFS(Calc!$OW$6:$OW$5005,Calc!$OT$6:$OT$5005,Calc!$B$7,Calc!$OU$6:$OU$5005,Table!$C12,Calc!$PB$6:$PB$5005,Table!G$6)),"") -> 0 | H12: =IFERROR(IF($C12="","",SUMIFS(Calc!$OW$6:$OW$5005,Calc!$OT$6:$OT$5005,Calc!$B$7,Calc!$OU$6:$OU$5005,Table!$C12,Calc!$PB$6:$PB$5005,Table!H$6)),"") -> 0 | I12: =IFERROR(IF($C12="","",SUMIFS(Calc!$OW$6:$OW$5005,Calc!$OT$6:$OT$5005,Calc!$B$7,Calc!$OU$6:$OU$5005,Table!$C12,Calc!$PB$6:$PB$5005,Table!I$6)),"") -> 0 | J12: =IFERROR(IF($C12="","",SUMIFS(Calc!$OW$6:$OW$5005,Calc!$OT$6:$OT$5005,Calc!$B$7,Calc!$OU$6:$OU$5005,Table!$C12,Calc!$PB$6:$PB$5005,Table!J$6)),"") -> 0 | K12: =IFERROR(IF($C12="","",SUMIFS(Calc!$OW$6:$OW$5005,Calc!$OT$6:$OT$5005,Calc!$B$7,Calc!$OU$6:$OU$5005,Table!$C12,Calc!$PB$6:$PB$5005,Table!K$6)),"") -> 0 | ... O12: =IFERROR(IF($C12="","",SUMIFS(Calc!$OW$6:$OW$5005,Calc!$OT$6:$OT$5005,Calc!$B$7,Calc!$OU$6:$OU$5005,Table!$C12,Calc!$PB$6:$PB$5005,Table!O$6)),"") -> 0 | P12: =IFERROR(IF($C12="","",SUM(D12:O12)),"") -> 10000
C13: =IFERROR(IF(LEN(Menu!C26)=0,"",Menu!C26),"") -> Loan Collection | D13: =IFERROR(IF($C13="","",SUMIFS(Calc!$OW$6:$OW$5005,Calc!$OT$6:$OT$5005,Calc!$B$7,Calc!$OU$6:$OU$5005,Table!$C13,Calc!$PB$6:$PB$5005,Table!D$6)),"") -> 0 | E13: =IFERROR(IF($C13="","",SUMIFS(Calc!$OW$6:$OW$5005,Calc!$OT$6:$OT$5005,Calc!$B$7,Calc!$OU$6:$OU$5005,Table!$C13,Calc!$PB$6:$PB$5005,Table!E$6)),"") -> 0 | F13: =IFERROR(IF($C13="","",SUMIFS(Calc!$OW$6:$OW$5005,Calc!$OT$6:$OT$5005,Calc!$B$7,Calc!$OU$6:$OU$5005,Table!$C13,Calc!$PB$6:$PB$5005,Table!F$6)),"") -> 0 | G13: =IFERROR(IF($C13="","",SUMIFS(Calc!$OW$6:$OW$5005,Calc!$OT$6:$OT$5005,Calc!$B$7,Calc!$OU$6:$OU$5005,Table!$C13,Calc!$PB$6:$PB$5005,Table!G$6)),"") -> 0 | H13: =IFERROR(IF($C13="","",SUMIFS(Calc!$OW$6:$OW$5005,Calc!$OT$6:$OT$5005,Calc!$B$7,Calc!$OU$6:$OU$5005,Table!$C13,Calc!$PB$6:$PB$5005,Table!H$6)),"") -> 0 | I13: =IFERROR(IF($C13="","",SUMIFS(Calc!$OW$6:$OW$5005,Calc!$OT$6:$OT$5005,Calc!$B$7,Calc!$OU$6:$OU$5005,Table!$C13,Calc!$PB$6:$PB$5005,Table!I$6)),"") -> 0 | J13: =IFERROR(IF($C13="","",SUMIFS(Calc!$OW$6:$OW$5005,Calc!$OT$6:$OT$5005,Calc!$B$7,Calc!$OU$6:$OU$5005,Table!$C13,Calc!$PB$6:$PB$5005,Table!J$6)),"") -> 0 | K13: =IFERROR(IF($C13="","",SUMIFS(Calc!$OW$6:$OW$5005,Calc!$OT$6:$OT$5005,Calc!$B$7,Calc!$OU$6:$OU$5005,Table!$C13,Calc!$PB$6:$PB$5005,Table!K$6)),"") -> 0 | ... O13: =IFERROR(IF($C13="","",SUMIFS(Calc!$OW$6:$OW$5005,Calc!$OT$6:$OT$5005,Calc!$B$7,Calc!$OU$6:$OU$5005,Table!$C13,Calc!$PB$6:$PB$5005,Table!O$6)),"") -> 0 | P13: =IFERROR(IF($C13="","",SUM(D13:O13)),"") -> 0
C14: =IFERROR(IF(LEN(Menu!C27)=0,"",Menu!C27),"") -> Issuance of Debt | D14: =IFERROR(IF($C14="","",SUMIFS(Calc!$OW$6:$OW$5005,Calc!$OT$6:$OT$5005,Calc!$B$7,Calc!$OU$6:$OU$5005,Table!$C14,Calc!$PB$6:$PB$5005,Table!D$6)),"") -> 1000 | E14: =IFERROR(IF($C14="","",SUMIFS(Calc!$OW$6:$OW$5005,Calc!$OT$6:$OT$5005,Calc!$B$7,Calc!$OU$6:$OU$5005,Table!$C14,Calc!$PB$6:$PB$5005,Table!E$6)),"") -> 800 | F14: =IFERROR(IF($C14="","",SUMIFS(Calc!$OW$6:$OW$5005,Calc!$OT$6:$OT$5005,Calc!$B$7,Calc!$OU$6:$OU$5005,Table!$C14,Calc!$PB$6:$PB$5005,Table!F$6)),"") -> 800 | G14: =IFERROR(IF($C14="","",SUMIFS(Calc!$OW$6:$OW$5005,Calc!$OT$6:$OT$5005,Calc!$B$7,Calc!$OU$6:$OU$5005,Table!$C14,Calc!$PB$6:$PB$5005,Table!G$6)),"") -> 1000 | H14: =IFERROR(IF($C14="","",SUMIFS(Calc!$OW$6:$OW$5005,Calc!$OT$6:$OT$5005,Calc!$B$7,Calc!$OU$6:$OU$5005,Table!$C14,Calc!$PB$6:$PB$5005,Table!H$6)),"") -> 800 | I14: =IFERROR(IF($C14="","",SUMIFS(Calc!$OW$6:$OW$5005,Calc!$OT$6:$OT$5005,Calc!$B$7,Calc!$OU$6:$OU$5005,Table!$C14,Calc!$PB$6:$PB$5005,Table!I$6)),"") -> 800 | J14: =IFERROR(IF($C14="","",SUMIFS(Calc!$OW$6:$OW$5005,Calc!$OT$6:$OT$5005,Calc!$B$7,Calc!$OU$6:$OU$5005,Table!$C14,Calc!$PB$6:$PB$5005,Table!J$6)),"") -> 1000 | K14: =IFERROR(IF($C14="","",SUMIFS(Calc!$OW$6:$OW$5005,Calc!$OT$6:$OT$5005,Calc!$B$7,Calc!$OU$6:$OU$5005,Table!$C14,Calc!$PB$6:$PB$5005,Table!K$6)),"") -> 800 | ... O14: =IFERROR(IF($C14="","",SUMIFS(Calc!$OW$6:$OW$5005,Calc!$OT$6:$OT$5005,Calc!$B$7,Calc!$OU$6:$OU$5005,Table!$C14,Calc!$PB$6:$PB$5005,Table!O$6)),"") -> 0 | P14: =IFERROR(IF($C14="","",SUM(D14:O14)),"") -> 8800
C15: =IFERROR(IF(LEN(Menu!C28)=0,"",Menu!C28),"") -> Revenue From Rentals | D15: =IFERROR(IF($C15="","",SUMIFS(Calc!$OW$6:$OW$5005,Calc!$OT$6:$OT$5005,Calc!$B$7,Calc!$OU$6:$OU$5005,Table!$C15,Calc!$PB$6:$PB$5005,Table!D$6)),"") -> 0 | E15: =IFERROR(IF($C15="","",SUMIFS(Calc!$OW$6:$OW$5005,Calc!$OT$6:$OT$5005,Calc!$B$7,Calc!$OU$6:$OU$5005,Table!$C15,Calc!$PB$6:$PB$5005,Table!E$6)),"") -> 0 | F15: =IFERROR(IF($C15="","",SUMIFS(Calc!$OW$6:$OW$5005,Calc!$OT$6:$OT$5005,Calc!$B$7,Calc!$OU$6:$OU$5005,Table!$C15,Calc!$PB$6:$PB$5005,Table!F$6)),"") -> 0 | G15: =IFERROR(IF($C15="","",SUMIFS(Calc!$OW$6:$OW$5005,Calc!$OT$6:$OT$5005,Calc!$B$7,Calc!$OU$6:$OU$5005,Table!$C15,Calc!$PB$6:$PB$5005,Table!G$6)),"") -> 0 | H15: =IFERROR(IF($C15="","",SUMIFS(Calc!$OW$6:$OW$5005,Calc!$OT$6:$OT$5005,Calc!$B$7,Calc!$OU$6:$OU$5005,Table!$C15,Calc!$PB$6:$PB$5005,Table!H$6)),"") -> 1000 | I15: =IFERROR(IF($C15="","",SUMIFS(Calc!$OW$6:$OW$5005,Calc!$OT$6:$OT$5005,Calc!$B$7,Calc!$OU$6:$OU$5005,Table!$C15,Calc!$PB$6:$PB$5005,Table!I$6)),"") -> 0 | J15: =IFERROR(IF($C15="","",SUMIFS(Calc!$OW$6:$OW$5005,Calc!$OT$6:$OT$5005,Calc!$B$7,Calc!$OU$6:$OU$5005,Table!$C15,Calc!$PB$6:$PB$5005,Table!J$6)),"") -> 0 | K15: =IFERROR(IF($C15="","",SUMIFS(Calc!$OW$6:$OW$5005,Calc!$OT$6:$OT$5005,Calc!$B$7,Calc!$OU$6:$OU$5005,Table!$C15,Calc!$PB$6:$PB$5005,Table!K$6)),"") -> 1000 | ... O15: =IFERROR(IF($C15="","",SUMIFS(Calc!$OW$6:$OW$5005,Calc!$OT$6:$OT$5005,Calc!$B$7,Calc!$OU$6:$OU$5005,Table!$C15,Calc!$PB$6:$PB$5005,Table!O$6)),"") -> 0 | P15: =IFERROR(IF($C15="","",SUM(D15:O15)),"") -> 3000
C16: =IFERROR(IF(LEN(Menu!C29)=0,"",Menu!C29),"") -> Issuance of Equity | D16: =IFERROR(IF($C16="","",SUMIFS(Calc!$OW$6:$OW$5005,Calc!$OT$6:$OT$5005,Calc!$B$7,Calc!$OU$6:$OU$5005,Table!$C16,Calc!$PB$6:$PB$5005,Table!D$6)),"") -> 0 | E16: =IFERROR(IF($C16="","",SUMIFS(Calc!$OW$6:$OW$5005,Calc!$OT$6:$OT$5005,Calc!$B$7,Calc!$OU$6:$OU$5005,Table!$C16,Calc!$PB$6:$PB$5005,Table!E$6)),"") -> 0 | F16: =IFERROR(IF($C16="","",SUMIFS(Calc!$OW$6:$OW$5005,Calc!$OT$6:$OT$5005,Calc!$B$7,Calc!$OU$6:$OU$5005,Table!$C16,Calc!$PB$6:$PB$5005,Table!F$6)),"") -> 0 | G16: =IFERROR(IF($C16="","",SUMIFS(Calc!$OW$6:$OW$5005,Calc!$OT$6:$OT$5005,Calc!$B$7,Calc!$OU$6:$OU$5005,Table!$C16,Calc!$PB$6:$PB$5005,Table!G$6)),"") -> 0 | H16: =IFERROR(IF($C16="","",SUMIFS(Calc!$OW$6:$OW$5005,Calc!$OT$6:$OT$5005,Calc!$B$7,Calc!$OU$6:$OU$5005,Table!$C16,Calc!$PB$6:$PB$5005,Table!H$6)),"") -> 0 | I16: =IFERROR(IF($C16="","",SUMIFS(Calc!$OW$6:$OW$5005,Calc!$OT$6:$OT$5005,Calc!$B$7,Calc!$OU$6:$OU$5005,Table!$C16,Calc!$PB$6:$PB$5005,Table!I$6)),"") -> 0 | J16: =IFERROR(IF($C16="","",SUMIFS(Calc!$OW$6:$OW$5005,Calc!$OT$6:$OT$5005,Calc!$B$7,Calc!$OU$6:$OU$5005,Table!$C16,Calc!$PB$6:$PB$5005,Table!J$6)),"") -> 0 | K16: =IFERROR(IF($C16="","",SUMIFS(Calc!$OW$6:$OW$5005,Calc!$OT$6:$OT$5005,Calc!$B$7,Calc!$OU$6:$OU$5005,Table!$C16,Calc!$PB$6:$PB$5005,Table!K$6)),"") -> 0 | ... O16: =IFERROR(IF($C16="","",SUMIFS(Calc!$OW$6:$OW$5005,Calc!$OT$6:$OT$5005,Calc!$B$7,Calc!$OU$6:$OU$5005,Table!$C16,Calc!$PB$6:$PB$5005,Table!O$6)),"") -> 0 | P16: =IFERROR(IF($C16="","",SUM(D16:O16)),"") -> 0
C17: =IFERROR(IF(LEN(Menu!C30)=0,"",Menu!C30),"") | D17: =IFERROR(IF($C17="","",SUMIFS(Calc!$OW$6:$OW$5005,Calc!$OT$6:$OT$5005,Calc!$B$7,Calc!$OU$6:$OU$5005,Table!$C17,Calc!$PB$6:$PB$5005,Table!D$6)),"") | E17: =IFERROR(IF($C17="","",SUMIFS(Calc!$OW$6:$OW$5005,Calc!$OT$6:$OT$5005,Calc!$B$7,Calc!$OU$6:$OU$5005,Table!$C17,Calc!$PB$6:$PB$5005,Table!E$6)),"") | F17: =IFERROR(IF($C17="","",SUMIFS(Calc!$OW$6:$OW$5005,Calc!$OT$6:$OT$5005,Calc!$B$7,Calc!$OU$6:$OU$5005,Table!$C17,Calc!$PB$6:$PB$5005,Table!F$6)),"") | G17: =IFERROR(IF($C17="","",SUMIFS(Calc!$OW$6:$OW$5005,Calc!$OT$6:$OT$5005,Calc!$B$7,Calc!$OU$6:$OU$5005,Table!$C17,Calc!$PB$6:$PB$5005,Table!G$6)),"") | H17: =IFERROR(IF($C17="","",SUMIFS(Calc!$OW$6:$OW$5005,Calc!$OT$6:$OT$5005,Calc!$B$7,Calc!$OU$6:$OU$5005,Table!$C17,Calc!$PB$6:$PB$5005,Table!H$6)),"") | I17: =IFERROR(IF($C17="","",SUMIFS(Calc!$OW$6:$OW$5005,Calc!$OT$6:$OT$5005,Calc!$B$7,Calc!$OU$6:$OU$5005,Table!$C17,Calc!$PB$6:$PB$5005,Table!I$6)),"") | J17: =IFERROR(IF($C17="","",SUMIFS(Calc!$OW$6:$OW$5005,Calc!$OT$6:$OT$5005,Calc!$B$7,Calc!$OU$6:$OU$5005,Table!$C17,Calc!$PB$6:$PB$5005,Table!J$6)),"") | K17: =IFERROR(IF($C17="","",SUMIFS(Calc!$OW$6:$OW$5005,Calc!$OT$6:$OT$5005,Calc!$B$7,Calc!$OU$6:$OU$5005,Table!$C17,Calc!$PB$6:$PB$5005,Table!K$6)),"") | ... O17: =IFERROR(IF($C17="","",SUMIFS(Calc!$OW$6:$OW$5005,Calc!$OT$6:$OT$5005,Calc!$B$7,Calc!$OU$6:$OU$5005,Table!$C17,Calc!$PB$6:$PB$5005,Table!O$6)),"") | P17: =IFERROR(IF($C17="","",SUM(D17:O17)),"")
C18: =IFERROR(IF(LEN(Menu!C31)=0,"",Menu!C31),"") | D18: =IFERROR(IF($C18="","",SUMIFS(Calc!$OW$6:$OW$5005,Calc!$OT$6:$OT$5005,Calc!$B$7,Calc!$OU$6:$OU$5005,Table!$C18,Calc!$PB$6:$PB$5005,Table!D$6)),"") | E18: =IFERROR(IF($C18="","",SUMIFS(Calc!$OW$6:$OW$5005,Calc!$OT$6:$OT$5005,Calc!$B$7,Calc!$OU$6:$OU$5005,Table!$C18,Calc!$PB$6:$PB$5005,Table!E$6)),"") | F18: =IFERROR(IF($C18="","",SUMIFS(Calc!$OW$6:$OW$5005,Calc!$OT$6:$OT$5005,Calc!$B$7,Calc!$OU$6:$OU$5005,Table!$C18,Calc!$PB$6:$PB$5005,Table!F$6)),"") | G18: =IFERROR(IF($C18="","",SUMIFS(Calc!$OW$6:$OW$5005,Calc!$OT$6:$OT$5005,Calc!$B$7,Calc!$OU$6:$OU$5005,Table!$C18,Calc!$PB$6:$PB$5005,Table!G$6)),"") | H18: =IFERROR(IF($C18="","",SUMIFS(Calc!$OW$6:$OW$5005,Calc!$OT$6:$OT$5005,Calc!$B$7,Calc!$OU$6:$OU$5005,Table!$C18,Calc!$PB$6:$PB$5005,Table!H$6)),"") | I18: =IFERROR(IF($C18="","",SUMIFS(Calc!$OW$6:$OW$5005,Calc!$OT$6:$OT$5005,Calc!$B$7,Calc!$OU$6:$OU$5005,Table!$C18,Calc!$PB$6:$PB$5005,Table!I$6)),"") | J18: =IFERROR(IF($C18="","",SUMIFS(Calc!$OW$6:$OW$5005,Calc!$OT$6:$OT$5005,Calc!$B$7,Calc!$OU$6:$OU$5005,Table!$C18,Calc!$PB$6:$PB$5005,Table!J$6)),"") | K18: =IFERROR(IF($C18="","",SUMIFS(Calc!$OW$6:$OW$5005,Calc!$OT$6:$OT$5005,Calc!$B$7,Calc!$OU$6:$OU$5005,Table!$C18,Calc!$PB$6:$PB$5005,Table!K$6)),"") | ... O18: =IFERROR(IF($C18="","",SUMIFS(Calc!$OW$6:$OW$5005,Calc!$OT$6:$OT$5005,Calc!$B$7,Calc!$OU$6:$OU$5005,Table!$C18,Calc!$PB$6:$PB$5005,Table!O$6)),"") | P18: =IFERROR(IF($C18="","",SUM(D18:O18)),"")
C19: =IFERROR(IF(LEN(Menu!C32)=0,"",Menu!C32),"") | D19: =IFERROR(IF($C19="","",SUMIFS(Calc!$OW$6:$OW$5005,Calc!$OT$6:$OT$5005,Calc!$B$7,Calc!$OU$6:$OU$5005,Table!$C19,Calc!$PB$6:$PB$5005,Table!D$6)),"") | E19: =IFERROR(IF($C19="","",SUMIFS(Calc!$OW$6:$OW$5005,Calc!$OT$6:$OT$5005,Calc!$B$7,Calc!$OU$6:$OU$5005,Table!$C19,Calc!$PB$6:$PB$5005,Table!E$6)),"") | F19: =IFERROR(IF($C19="","",SUMIFS(Calc!$OW$6:$OW$5005,Calc!$OT$6:$OT$5005,Calc!$B$7,Calc!$OU$6:$OU$5005,Table!$C19,Calc!$PB$6:$PB$5005,Table!F$6)),"") | G19: =IFERROR(IF($C19="","",SUMIFS(Calc!$OW$6:$OW$5005,Calc!$OT$6:$OT$5005,Calc!$B$7,Calc!$OU$6:$OU$5005,Table!$C19,Calc!$PB$6:$PB$5005,Table!G$6)),"") | H19: =IFERROR(IF($C19="","",SUMIFS(Calc!$OW$6:$OW$5005,Calc!$OT$6:$OT$5005,Calc!$B$7,Calc!$OU$6:$OU$5005,Table!$C19,Calc!$PB$6:$PB$5005,Table!H$6)),"") | I19: =IFERROR(IF($C19="","",SUMIFS(Calc!$OW$6:$OW$5005,Calc!$OT$6:$OT$5005,Calc!$B$7,Calc!$OU$6:$OU$5005,Table!$C19,Calc!$PB$6:$PB$5005,Table!I$6)),"") | J19: =IFERROR(IF($C19="","",SUMIFS(Calc!$OW$6:$OW$5005,Calc!$OT$6:$OT$5005,Calc!$B$7,Calc!$OU$6:$OU$5005,Table!$C19,Calc!$PB$6:$PB$5005,Table!J$6)),"") | K19: =IFERROR(IF($C19="","",SUMIFS(Calc!$OW$6:$OW$5005,Calc!$OT$6:$OT$5005,Calc!$B$7,Calc!$OU$6:$OU$5005,Table!$C19,Calc!$PB$6:$PB$5005,Table!K$6)),"") | ... O19: =IFERROR(IF($C19="","",SUMIFS(Calc!$OW$6:$OW$5005,Calc!$OT$6:$OT$5005,Calc!$B$7,Calc!$OU$6:$OU$5005,Table!$C19,Calc!$PB$6:$PB$5005,Table!O$6)),"") | P19: =IFERROR(IF($C19="","",SUM(D19:O19)),"")
C20: =IFERROR(IF(LEN(Menu!C33)=0,"",Menu!C33),"") | D20: =IFERROR(IF($C20="","",SUMIFS(Calc!$OW$6:$OW$5005,Calc!$OT$6:$OT$5005,Calc!$B$7,Calc!$OU$6:$OU$5005,Table!$C20,Calc!$PB$6:$PB$5005,Table!D$6)),"") | E20: =IFERROR(IF($C20="","",SUMIFS(Calc!$OW$6:$OW$5005,Calc!$OT$6:$OT$5005,Calc!$B$7,Calc!$OU$6:$OU$5005,Table!$C20,Calc!$PB$6:$PB$5005,Table!E$6)),"") | F20: =IFERROR(IF($C20="","",SUMIFS(Calc!$OW$6:$OW$5005,Calc!$OT$6:$OT$5005,Calc!$B$7,Calc!$OU$6:$OU$5005,Table!$C20,Calc!$PB$6:$PB$5005,Table!F$6)),"") | G20: =IFERROR(IF($C20="","",SUMIFS(Calc!$OW$6:$OW$5005,Calc!$OT$6:$OT$5005,Calc!$B$7,Calc!$OU$6:$OU$5005,Table!$C20,Calc!$PB$6:$PB$5005,Table!G$6)),"") | H20: =IFERROR(IF($C20="","",SUMIFS(Calc!$OW$6:$OW$5005,Calc!$OT$6:$OT$5005,Calc!$B$7,Calc!$OU$6:$OU$5005,Table!$C20,Calc!$PB$6:$PB$5005,Table!H$6)),"") | I20: =IFERROR(IF($C20="","",SUMIFS(Calc!$OW$6:$OW$5005,Calc!$OT$6:$OT$5005,Calc!$B$7,Calc!$OU$6:$OU$5005,Table!$C20,Calc!$PB$6:$PB$5005,Table!I$6)),"") | J20: =IFERROR(IF($C20="","",SUMIFS(Calc!$OW$6:$OW$5005,Calc!$OT$6:$OT$5005,Calc!$B$7,Calc!$OU$6:$OU$5005,Table!$C20,Calc!$PB$6:$PB$5005,Table!J$6)),"") | K20: =IFERROR(IF($C20="","",SUMIFS(Calc!$OW$6:$OW$5005,Calc!$OT$6:$OT$5005,Calc!$B$7,Calc!$OU$6:$OU$5005,Table!$C20,Calc!$PB$6:$PB$5005,Table!K$6)),"") | ... O20: =IFERROR(IF($C20="","",SUMIFS(Calc!$OW$6:$OW$5005,Calc!$OT$6:$OT$5005,Calc!$B$7,Calc!$OU$6:$OU$5005,Table!$C20,Calc!$PB$6:$PB$5005,Table!O$6)),"") | P20: =IFERROR(IF($C20="","",SUM(D20:O20)),"")
C21: =IFERROR(IF(LEN(Menu!C34)=0,"",Menu!C34),"") | D21: =IFERROR(IF($C21="","",SUMIFS(Calc!$OW$6:$OW$5005,Calc!$OT$6:$OT$5005,Calc!$B$7,Calc!$OU$6:$OU$5005,Table!$C21,Calc!$PB$6:$PB$5005,Table!D$6)),"") | E21: =IFERROR(IF($C21="","",SUMIFS(Calc!$OW$6:$OW$5005,Calc!$OT$6:$OT$5005,Calc!$B$7,Calc!$OU$6:$OU$5005,Table!$C21,Calc!$PB$6:$PB$5005,Table!E$6)),"") | F21: =IFERROR(IF($C21="","",SUMIFS(Calc!$OW$6:$OW$5005,Calc!$OT$6:$OT$5005,Calc!$B$7,Calc!$OU$6:$OU$5005,Table!$C21,Calc!$PB$6:$PB$5005,Table!F$6)),"") | G21: =IFERROR(IF($C21="","",SUMIFS(Calc!$OW$6:$OW$5005,Calc!$OT$6:$OT$5005,Calc!$B$7,Calc!$OU$6:$OU$5005,Table!$C21,Calc!$PB$6:$PB$5005,Table!G$6)),"") | H21: =IFERROR(IF($C21="","",SUMIFS(Calc!$OW$6:$OW$5005,Calc!$OT$6:$OT$5005,Calc!$B$7,Calc!$OU$6:$OU$5005,Table!$C21,Calc!$PB$6:$PB$5005,Table!H$6)),"") | I21: =IFERROR(IF($C21="","",SUMIFS(Calc!$OW$6:$OW$5005,Calc!$OT$6:$OT$5005,Calc!$B$7,Calc!$OU$6:$OU$5005,Table!$C21,Calc!$PB$6:$PB$5005,Table!I$6)),"") | J21: =IFERROR(IF($C21="","",SUMIFS(Calc!$OW$6:$OW$5005,Calc!$OT$6:$OT$5005,Calc!$B$7,Calc!$OU$6:$OU$5005,Table!$C21,Calc!$PB$6:$PB$5005,Table!J$6)),"") | K21: =IFERROR(IF($C21="","",SUMIFS(Calc!$OW$6:$OW$5005,Calc!$OT$6:$OT$5005,Calc!$B$7,Calc!$OU$6:$OU$5005,Table!$C21,Calc!$PB$6:$PB$5005,Table!K$6)),"") | ... O21: =IFERROR(IF($C21="","",SUMIFS(Calc!$OW$6:$OW$5005,Calc!$OT$6:$OT$5005,Calc!$B$7,Calc!$OU$6:$OU$5005,Table!$C21,Calc!$PB$6:$PB$5005,Table!O$6)),"") | P21: =IFERROR(IF($C21="","",SUM(D21:O21)),"")
C22: =IFERROR(IF(LEN(Menu!C35)=0,"",Menu!C35),"") | D22: =IFERROR(IF($C22="","",SUMIFS(Calc!$OW$6:$OW$5005,Calc!$OT$6:$OT$5005,Calc!$B$7,Calc!$OU$6:$OU$5005,Table!$C22,Calc!$PB$6:$PB$5005,Table!D$6)),"") | E22: =IFERROR(IF($C22="","",SUMIFS(Calc!$OW$6:$OW$5005,Calc!$OT$6:$OT$5005,Calc!$B$7,Calc!$OU$6:$OU$5005,Table!$C22,Calc!$PB$6:$PB$5005,Table!E$6)),"") | F22: =IFERROR(IF($C22="","",SUMIFS(Calc!$OW$6:$OW$5005,Calc!$OT$6:$OT$5005,Calc!$B$7,Calc!$OU$6:$OU$5005,Table!$C22,Calc!$PB$6:$PB$5005,Table!F$6)),"") | G22: =IFERROR(IF($C22="","",SUMIFS(Calc!$OW$6:$OW$5005,Calc!$OT$6:$OT$5005,Calc!$B$7,Calc!$OU$6:$OU$5005,Table!$C22,Calc!$PB$6:$PB$5005,Table!G$6)),"") | H22: =IFERROR(IF($C22="","",SUMIFS(Calc!$OW$6:$OW$5005,Calc!$OT$6:$OT$5005,Calc!$B$7,Calc!$OU$6:$OU$5005,Table!$C22,Calc!$PB$6:$PB$5005,Table!H$6)),"") | I22: =IFERROR(IF($C22="","",SUMIFS(Calc!$OW$6:$OW$5005,Calc!$OT$6:$OT$5005,Calc!$B$7,Calc!$OU$6:$OU$5005,Table!$C22,Calc!$PB$6:$PB$5005,Table!I$6)),"") | J22: =IFERROR(IF($C22="","",SUMIFS(Calc!$OW$6:$OW$5005,Calc!$OT$6:$OT$5005,Calc!$B$7,Calc!$OU$6:$OU$5005,Table!$C22,Calc!$PB$6:$PB$5005,Table!J$6)),"") | K22: =IFERROR(IF($C22="","",SUMIFS(Calc!$OW$6:$OW$5005,Calc!$OT$6:$OT$5005,Calc!$B$7,Calc!$OU$6:$OU$5005,Table!$C22,Calc!$PB$6:$PB$5005,Table!K$6)),"") | ... O22: =IFERROR(IF($C22="","",SUMIFS(Calc!$OW$6:$OW$5005,Calc!$OT$6:$OT$5005,Calc!$B$7,Calc!$OU$6:$OU$5005,Table!$C22,Calc!$PB$6:$PB$5005,Table!O$6)),"") | P22: =IFERROR(IF($C22="","",SUM(D22:O22)),"")
... C40: =IFERROR(IF(LEN(Menu!C53)=0,"",Menu!C53),"") | D40: =IFERROR(IF($C40="","",SUMIFS(Calc!$OW$6:$OW$5005,Calc!$OT$6:$OT$5005,Calc!$B$7,Calc!$OU$6:$OU$5005,Table!$C40,Calc!$PB$6:$PB$5005,Table!D$6)),"") | E40: =IFERROR(IF($C40="","",SUMIFS(Calc!$OW$6:$OW$5005,Calc!$OT$6:$OT$5005,Calc!$B$7,Calc!$OU$6:$OU$5005,Table!$C40,Calc!$PB$6:$PB$5005,Table!E$6)),"") | F40: =IFERROR(IF($C40="","",SUMIFS(Calc!$OW$6:$OW$5005,Calc!$OT$6:$OT$5005,Calc!$B$7,Calc!$OU$6:$OU$5005,Table!$C40,Calc!$PB$6:$PB$5005,Table!F$6)),"") | G40: =IFERROR(IF($C40="","",SUMIFS(Calc!$OW$6:$OW$5005,Calc!$OT$6:$OT$5005,Calc!$B$7,Calc!$OU$6:$OU$5005,Table!$C40,Calc!$PB$6:$PB$5005,Table!G$6)),"") | H40: =IFERROR(IF($C40="","",SUMIFS(Calc!$OW$6:$OW$5005,Calc!$OT$6:$OT$5005,Calc!$B$7,Calc!$OU$6:$OU$5005,Table!$C40,Calc!$PB$6:$PB$5005,Table!H$6)),"") | I40: =IFERROR(IF($C40="","",SUMIFS(Calc!$OW$6:$OW$5005,Calc!$OT$6:$OT$5005,Calc!$B$7,Calc!$OU$6:$OU$5005,Table!$C40,Calc!$PB$6:$PB$5005,Table!I$6)),"") | J40: =IFERROR(IF($C40="","",SUMIFS(Calc!$OW$6:$OW$5005,Calc!$OT$6:$OT$5005,Calc!$B$7,Calc!$OU$6:$OU$5005,Table!$C40,Calc!$PB$6:$PB$5005,Table!J$6)),"") | K40: =IFERROR(IF($C40="","",SUMIFS(Calc!$OW$6:$OW$5005,Calc!$OT$6:$OT$5005,Calc!$B$7,Calc!$OU$6:$OU$5005,Table!$C40,Calc!$PB$6:$PB$5005,Table!K$6)),"") | ... O40: =IFERROR(IF($C40="","",SUMIFS(Calc!$OW$6:$OW$5005,Calc!$OT$6:$OT$5005,Calc!$B$7,Calc!$OU$6:$OU$5005,Table!$C40,Calc!$PB$6:$PB$5005,Table!O$6)),"") | P40: =IFERROR(IF($C40="","",SUM(D40:O40)),"")
C41: Income Totals | D41: =IFERROR(SUM(D11:D40),"") -> 18500 | E41: =IFERROR(SUM(E11:E40),"") -> 6800 | F41: =IFERROR(SUM(F11:F40),"") -> 6800 | G41: =IFERROR(SUM(G11:G40),"") -> 8500 | H41: =IFERROR(SUM(H11:H40),"") -> 7800 | I41: =IFERROR(SUM(I11:I40),"") -> 6800 | J41: =IFERROR(SUM(J11:J40),"") -> 8500 | K41: =IFERROR(SUM(K11:K40),"") -> 7800 | ... O41: =IFERROR(SUM(O11:O40),"") -> 7500 | P41: =IFERROR(IF($C41="","",SUM(D41:O41)),"") -> 101300
C43: Cash Outgoing
C44: =IFERROR(IF(LEN(Menu!E24)=0,"",Menu!E24),"") -> Operating Expenses | D44: =IFERROR(IF($C44="","",SUMIFS(Calc!$OW$6:$OW$5005,Calc!$OT$6:$OT$5005,Calc!$B$8,Calc!$OU$6:$OU$5005,Table!$C44,Calc!$PB$6:$PB$5005,Table!D$6)),"") -> 3000 | E44: =IFERROR(IF($C44="","",SUMIFS(Calc!$OW$6:$OW$5005,Calc!$OT$6:$OT$5005,Calc!$B$8,Calc!$OU$6:$OU$5005,Table!$C44,Calc!$PB$6:$PB$5005,Table!E$6)),"") -> 2000 | F44: =IFERROR(IF($C44="","",SUMIFS(Calc!$OW$6:$OW$5005,Calc!$OT$6:$OT$5005,Calc!$B$8,Calc!$OU$6:$OU$5005,Table!$C44,Calc!$PB$6:$PB$5005,Table!F$6)),"") -> 2500 | G44: =IFERROR(IF($C44="","",SUMIFS(Calc!$OW$6:$OW$5005,Calc!$OT$6:$OT$5005,Calc!$B$8,Calc!$OU$6:$OU$5005,Table!$C44,Calc!$PB$6:$PB$5005,Table!G$6)),"") -> 2500 | H44: =IFERROR(IF($C44="","",SUMIFS(Calc!$OW$6:$OW$5005,Calc!$OT$6:$OT$5005,Calc!$B$8,Calc!$OU$6:$OU$5005,Table!$C44,Calc!$PB$6:$PB$5005,Table!H$6)),"") -> 2500 | I44: =IFERROR(IF($C44="","",SUMIFS(Calc!$OW$6:$OW$5005,Calc!$OT$6:$OT$5005,Calc!$B$8,Calc!$OU$6:$OU$5005,Table!$C44,Calc!$PB$6:$PB$5005,Table!I$6)),"") -> 2500 | J44: =IFERROR(IF($C44="","",SUMIFS(Calc!$OW$6:$OW$5005,Calc!$OT$6:$OT$5005,Calc!$B$8,Calc!$OU$6:$OU$5005,Table!$C44,Calc!$PB$6:$PB$5005,Table!J$6)),"") -> 3500 | K44: =IFERROR(IF($C44="","",SUMIFS(Calc!$OW$6:$OW$5005,Calc!$OT$6:$OT$5005,Calc!$B$8,Calc!$OU$6:$OU$5005,Table!$C44,Calc!$PB$6:$PB$5005,Table!K$6)),"") -> 2000 | ... O44: =IFERROR(IF($C44="","",SUMIFS(Calc!$OW$6:$OW$5005,Calc!$OT$6:$OT$5005,Calc!$B$8,Calc!$OU$6:$OU$5005,Table!$C44,Calc!$PB$6:$PB$5005,Table!O$6)),"") -> 0 | P44: =IFERROR(IF($C44="","",SUM(D44:O44)),"") -> 22500
C45: =IFERROR(IF(LEN(Menu!E25)=0,"",Menu!E25),"") -> Lending | D45: =IFERROR(IF($C45="","",SUMIFS(Calc!$OW$6:$OW$5005,Calc!$OT$6:$OT$5005,Calc!$B$8,Calc!$OU$6:$OU$5005,Table!$C45,Calc!$PB$6:$PB$5005,Table!D$6)),"") -> 1000 | E45: =IFERROR(IF($C45="","",SUMIFS(Calc!$OW$6:$OW$5005,Calc!$OT$6:$OT$5005,Calc!$B$8,Calc!$OU$6:$OU$5005,Table!$C45,Calc!$PB$6:$PB$5005,Table!E$6)),"") -> 500 | F45: =IFERROR(IF($C45="","",SUMIFS(Calc!$OW$6:$OW$5005,Calc!$OT$6:$OT$5005,Calc!$B$8,Calc!$OU$6:$OU$5005,Table!$C45,Calc!$PB$6:$PB$5005,Table!F$6)),"") -> 1000 | G45: =IFERROR(IF($C45="","",SUMIFS(Calc!$OW$6:$OW$5005,Calc!$OT$6:$OT$5005,Calc!$B$8,Calc!$OU$6:$OU$5005,Table!$C45,Calc!$PB$6:$PB$5005,Table!G$6)),"") -> 500 | H45: =IFERROR(IF($C45="","",SUMIFS(Calc!$OW$6:$OW$5005,Calc!$OT$6:$OT$5005,Calc!$B$8,Calc!$OU$6:$OU$5005,Table!$C45,Calc!$PB$6:$PB$5005,Table!H$6)),"") -> 1000 | I45: =IFERROR(IF($C45="","",SUMIFS(Calc!$OW$6:$OW$5005,Calc!$OT$6:$OT$5005,Calc!$B$8,Calc!$OU$6:$OU$5005,Table!$C45,Calc!$PB$6:$PB$5005,Table!I$6)),"") -> 500 | J45: =IFERROR(IF($C45="","",SUMIFS(Calc!$OW$6:$OW$5005,Calc!$OT$6:$OT$5005,Calc!$B$8,Calc!$OU$6:$OU$5005,Table!$C45,Calc!$PB$6:$PB$5005,Table!J$6)),"") -> 1000 | K45: =IFERROR(IF($C45="","",SUMIFS(Calc!$OW$6:$OW$5005,Calc!$OT$6:$OT$5005,Calc!$B$8,Calc!$OU$6:$OU$5005,Table!$C45,Calc!$PB$6:$PB$5005,Table!K$6)),"") -> 500 | ... O45: =IFERROR(IF($C45="","",SUMIFS(Calc!$OW$6:$OW$5005,Calc!$OT$6:$OT$5005,Calc!$B$8,Calc!$OU$6:$OU$5005,Table!$C45,Calc!$PB$6:$PB$5005,Table!O$6)),"") -> 1000 | P45: =IFERROR(IF($C45="","",SUM(D45:O45)),"") -> 9000
C46: =IFERROR(IF(LEN(Menu!E26)=0,"",Menu!E26),"") -> Purchase of Property | D46: =IFERROR(IF($C46="","",SUMIFS(Calc!$OW$6:$OW$5005,Calc!$OT$6:$OT$5005,Calc!$B$8,Calc!$OU$6:$OU$5005,Table!$C46,Calc!$PB$6:$PB$5005,Table!D$6)),"") -> 11000 | E46: =IFERROR(IF($C46="","",SUMIFS(Calc!$OW$6:$OW$5005,Calc!$OT$6:$OT$5005,Calc!$B$8,Calc!$OU$6:$OU$5005,Table!$C46,Calc!$PB$6:$PB$5005,Table!E$6)),"") -> 0 | F46: =IFERROR(IF($C46="","",SUMIFS(Calc!$OW$6:$OW$5005,Calc!$OT$6:$OT$5005,Calc!$B$8,Calc!$OU$6:$OU$5005,Table!$C46,Calc!$PB$6:$PB$5005,Table!F$6)),"") -> 0 | G46: =IFERROR(IF($C46="","",SUMIFS(Calc!$OW$6:$OW$5005,Calc!$OT$6:$OT$5005,Calc!$B$8,Calc!$OU$6:$OU$5005,Table!$C46,Calc!$PB$6:$PB$5005,Table!G$6)),"") -> 0 | H46: =IFERROR(IF($C46="","",SUMIFS(Calc!$OW$6:$OW$5005,Calc!$OT$6:$OT$5005,Calc!$B$8,Calc!$OU$6:$OU$5005,Table!$C46,Calc!$PB$6:$PB$5005,Table!H$6)),"") -> 0 | I46: =IFERROR(IF($C46="","",SUMIFS(Calc!$OW$6:$OW$5005,Calc!$OT$6:$OT$5005,Calc!$B$8,Calc!$OU$6:$OU$5005,Table!$C46,Calc!$PB$6:$PB$5005,Table!I$6)),"") -> 0 | J46: =IFERROR(IF($C46="","",SUMIFS(Calc!$OW$6:$OW$5005,Calc!$OT$6:$OT$5005,Calc!$B$8,Calc!$OU$6:$OU$5005,Table!$C46,Calc!$PB$6:$PB$5005,Table!J$6)),"") -> 0 | K46: =IFERROR(IF($C46="","",SUMIFS(Calc!$OW$6:$OW$5005,Calc!$OT$6:$OT$5005,Calc!$B$8,Calc!$OU$6:$OU$5005,Table!$C46,Calc!$PB$6:$PB$5005,Table!K$6)),"") -> 0 | ... O46: =IFERROR(IF($C46="","",SUMIFS(Calc!$OW$6:$OW$5005,Calc!$OT$6:$OT$5005,Calc!$B$8,Calc!$OU$6:$OU$5005,Table!$C46,Calc!$PB$6:$PB$5005,Table!O$6)),"") -> 0 | P46: =IFERROR(IF($C46="","",SUM(D46:O46)),"") -> 11000
C47: =IFERROR(IF(LEN(Menu!E27)=0,"",Menu!E27),"") -> Purchase of Equipment | D47: =IFERROR(IF($C47="","",SUMIFS(Calc!$OW$6:$OW$5005,Calc!$OT$6:$OT$5005,Calc!$B$8,Calc!$OU$6:$OU$5005,Table!$C47,Calc!$PB$6:$PB$5005,Table!D$6)),"") -> 0 | E47: =IFERROR(IF($C47="","",SUMIFS(Calc!$OW$6:$OW$5005,Calc!$OT$6:$OT$5005,Calc!$B$8,Calc!$OU$6:$OU$5005,Table!$C47,Calc!$PB$6:$PB$5005,Table!E$6)),"") -> 0 | F47: =IFERROR(IF($C47="","",SUMIFS(Calc!$OW$6:$OW$5005,Calc!$OT$6:$OT$5005,Calc!$B$8,Calc!$OU$6:$OU$5005,Table!$C47,Calc!$PB$6:$PB$5005,Table!F$6)),"") -> 0 | G47: =IFERROR(IF($C47="","",SUMIFS(Calc!$OW$6:$OW$5005,Calc!$OT$6:$OT$5005,Calc!$B$8,Calc!$OU$6:$OU$5005,Table!$C47,Calc!$PB$6:$PB$5005,Table!G$6)),"") -> 0 | H47: =IFERROR(IF($C47="","",SUMIFS(Calc!$OW$6:$OW$5005,Calc!$OT$6:$OT$5005,Calc!$B$8,Calc!$OU$6:$OU$5005,Table!$C47,Calc!$PB$6:$PB$5005,Table!H$6)),"") -> 0 | I47: =IFERROR(IF($C47="","",SUMIFS(Calc!$OW$6:$OW$5005,Calc!$OT$6:$OT$5005,Calc!$B$8,Calc!$OU$6:$OU$5005,Table!$C47,Calc!$PB$6:$PB$5005,Table!I$6)),"") -> 0 | J47: =IFERROR(IF($C47="","",SUMIFS(Calc!$OW$6:$OW$5005,Calc!$OT$6:$OT$5005,Calc!$B$8,Calc!$OU$6:$OU$5005,Table!$C47,Calc!$PB$6:$PB$5005,Table!J$6)),"") -> 0 | K47: =IFERROR(IF($C47="","",SUMIFS(Calc!$OW$6:$OW$5005,Calc!$OT$6:$OT$5005,Calc!$B$8,Calc!$OU$6:$OU$5005,Table!$C47,Calc!$PB$6:$PB$5005,Table!K$6)),"") -> 0 | ... O47: =IFERROR(IF($C47="","",SUMIFS(Calc!$OW$6:$OW$5005,Calc!$OT$6:$OT$5005,Calc!$B$8,Calc!$OU$6:$OU$5005,Table!$C47,Calc!$PB$6:$PB$5005,Table!O$6)),"") -> 0 | P47: =IFERROR(IF($C47="","",SUM(D47:O47)),"") -> 0
C48: =IFERROR(IF(LEN(Menu!E28)=0,"",Menu!E28),"") -> Interest Paid | D48: =IFERROR(IF($C48="","",SUMIFS(Calc!$OW$6:$OW$5005,Calc!$OT$6:$OT$5005,Calc!$B$8,Calc!$OU$6:$OU$5005,Table!$C48,Calc!$PB$6:$PB$5005,Table!D$6)),"") -> 0 | E48: =IFERROR(IF($C48="","",SUMIFS(Calc!$OW$6:$OW$5005,Calc!$OT$6:$OT$5005,Calc!$B$8,Calc!$OU$6:$OU$5005,Table!$C48,Calc!$PB$6:$PB$5005,Table!E$6)),"") -> 0 | F48: =IFERROR(IF($C48="","",SUMIFS(Calc!$OW$6:$OW$5005,Calc!$OT$6:$OT$5005,Calc!$B$8,Calc!$OU$6:$OU$5005,Table!$C48,Calc!$PB$6:$PB$5005,Table!F$6)),"") -> 0 | G48: =IFERROR(IF($C48="","",SUMIFS(Calc!$OW$6:$OW$5005,Calc!$OT$6:$OT$5005,Calc!$B$8,Calc!$OU$6:$OU$5005,Table!$C48,Calc!$PB$6:$PB$5005,Table!G$6)),"") -> 0 | H48: =IFERROR(IF($C48="","",SUMIFS(Calc!$OW$6:$OW$5005,Calc!$OT$6:$OT$5005,Calc!$B$8,Calc!$OU$6:$OU$5005,Table!$C48,Calc!$PB$6:$PB$5005,Table!H$6)),"") -> 0 | I48: =IFERROR(IF($C48="","",SUMIFS(Calc!$OW$6:$OW$5005,Calc!$OT$6:$OT$5005,Calc!$B$8,Calc!$OU$6:$OU$5005,Table!$C48,Calc!$PB$6:$PB$5005,Table!I$6)),"") -> 0 | J48: =IFERROR(IF($C48="","",SUMIFS(Calc!$OW$6:$OW$5005,Calc!$OT$6:$OT$5005,Calc!$B$8,Calc!$OU$6:$OU$5005,Table!$C48,Calc!$PB$6:$PB$5005,Table!J$6)),"") -> 0 | K48: =IFERROR(IF($C48="","",SUMIFS(Calc!$OW$6:$OW$5005,Calc!$OT$6:$OT$5005,Calc!$B$8,Calc!$OU$6:$OU$5005,Table!$C48,Calc!$PB$6:$PB$5005,Table!K$6)),"") -> 0 | ... O48: =IFERROR(IF($C48="","",SUMIFS(Calc!$OW$6:$OW$5005,Calc!$OT$6:$OT$5005,Calc!$B$8,Calc!$OU$6:$OU$5005,Table!$C48,Calc!$PB$6:$PB$5005,Table!O$6)),"") -> 0 | P48: =IFERROR(IF($C48="","",SUM(D48:O48)),"") -> 0
C49: =IFERROR(IF(LEN(Menu!E29)=0,"",Menu!E29),"") | D49: =IFERROR(IF($C49="","",SUMIFS(Calc!$OW$6:$OW$5005,Calc!$OT$6:$OT$5005,Calc!$B$8,Calc!$OU$6:$OU$5005,Table!$C49,Calc!$PB$6:$PB$5005,Table!D$6)),"") | E49: =IFERROR(IF($C49="","",SUMIFS(Calc!$OW$6:$OW$5005,Calc!$OT$6:$OT$5005,Calc!$B$8,Calc!$OU$6:$OU$5005,Table!$C49,Calc!$PB$6:$PB$5005,Table!E$6)),"") | F49: =IFERROR(IF($C49="","",SUMIFS(Calc!$OW$6:$OW$5005,Calc!$OT$6:$OT$5005,Calc!$B$8,Calc!$OU$6:$OU$5005,Table!$C49,Calc!$PB$6:$PB$5005,Table!F$6)),"") | G49: =IFERROR(IF($C49="","",SUMIFS(Calc!$OW$6:$OW$5005,Calc!$OT$6:$OT$5005,Calc!$B$8,Calc!$OU$6:$OU$5005,Table!$C49,Calc!$PB$6:$PB$5005,Table!G$6)),"") | H49: =IFERROR(IF($C49="","",SUMIFS(Calc!$OW$6:$OW$5005,Calc!$OT$6:$OT$5005,Calc!$B$8,Calc!$OU$6:$OU$5005,Table!$C49,Calc!$PB$6:$PB$5005,Table!H$6)),"") | I49: =IFERROR(IF($C49="","",SUMIFS(Calc!$OW$6:$OW$5005,Calc!$OT$6:$OT$5005,Calc!$B$8,Calc!$OU$6:$OU$5005,Table!$C49,Calc!$PB$6:$PB$5005,Table!I$6)),"") | J49: =IFERROR(IF($C49="","",SUMIFS(Calc!$OW$6:$OW$5005,Calc!$OT$6:$OT$5005,Calc!$B$8,Calc!$OU$6:$OU$5005,Table!$C49,Calc!$PB$6:$PB$5005,Table!J$6)),"") | K49: =IFERROR(IF($C49="","",SUMIFS(Calc!$OW$6:$OW$5005,Calc!$OT$6:$OT$5005,Calc!$B$8,Calc!$OU$6:$OU$5005,Table!$C49,Calc!$PB$6:$PB$5005,Table!K$6)),"") | ... O49: =IFERROR(IF($C49="","",SUMIFS(Calc!$OW$6:$OW$5005,Calc!$OT$6:$OT$5005,Calc!$B$8,Calc!$OU$6:$OU$5005,Table!$C49,Calc!$PB$6:$PB$5005,Table!O$6)),"") | P49: =IFERROR(IF($C49="","",SUM(D49:O49)),"")
C50: =IFERROR(IF(LEN(Menu!E30)=0,"",Menu!E30),"") | D50: =IFERROR(IF($C50="","",SUMIFS(Calc!$OW$6:$OW$5005,Calc!$OT$6:$OT$5005,Calc!$B$8,Calc!$OU$6:$OU$5005,Table!$C50,Calc!$PB$6:$PB$5005,Table!D$6)),"") | E50: =IFERROR(IF($C50="","",SUMIFS(Calc!$OW$6:$OW$5005,Calc!$OT$6:$OT$5005,Calc!$B$8,Calc!$OU$6:$OU$5005,Table!$C50,Calc!$PB$6:$PB$5005,Table!E$6)),"") | F50: =IFERROR(IF($C50="","",SUMIFS(Calc!$OW$6:$OW$5005,Calc!$OT$6:$OT$5005,Calc!$B$8,Calc!$OU$6:$OU$5005,Table!$C50,Calc!$PB$6:$PB$5005,Table!F$6)),"") | G50: =IFERROR(IF($C50="","",SUMIFS(Calc!$OW$6:$OW$5005,Calc!$OT$6:$OT$5005,Calc!$B$8,Calc!$OU$6:$OU$5005,Table!$C50,Calc!$PB$6:$PB$5005,Table!G$6)),"") | H50: =IFERROR(IF($C50="","",SUMIFS(Calc!$OW$6:$OW$5005,Calc!$OT$6:$OT$5005,Calc!$B$8,Calc!$OU$6:$OU$5005,Table!$C50,Calc!$PB$6:$PB$5005,Table!H$6)),"") | I50: =IFERROR(IF($C50="","",SUMIFS(Calc!$OW$6:$OW$5005,Calc!$OT$6:$OT$5005,Calc!$B$8,Calc!$OU$6:$OU$5005,Table!$C50,Calc!$PB$6:$PB$5005,Table!I$6)),"") | J50: =IFERROR(IF($C50="","",SUMIFS(Calc!$OW$6:$OW$5005,Calc!$OT$6:$OT$5005,Calc!$B$8,Calc!$OU$6:$OU$5005,Table!$C50,Calc!$PB$6:$PB$5005,Table!J$6)),"") | K50: =IFERROR(IF($C50="","",SUMIFS(Calc!$OW$6:$OW$5005,Calc!$OT$6:$OT$5005,Calc!$B$8,Calc!$OU$6:$OU$5005,Table!$C50,Calc!$PB$6:$PB$5005,Table!K$6)),"") | ... O50: =IFERROR(IF($C50="","",SUMIFS(Calc!$OW$6:$OW$5005,Calc!$OT$6:$OT$5005,Calc!$B$8,Calc!$OU$6:$OU$5005,Table!$C50,Calc!$PB$6:$PB$5005,Table!O$6)),"") | P50: =IFERROR(IF($C50="","",SUM(D50:O50)),"")
C51: =IFERROR(IF(LEN(Menu!E31)=0,"",Menu!E31),"") | D51: =IFERROR(IF($C51="","",SUMIFS(Calc!$OW$6:$OW$5005,Calc!$OT$6:$OT$5005,Calc!$B$8,Calc!$OU$6:$OU$5005,Table!$C51,Calc!$PB$6:$PB$5005,Table!D$6)),"") | E51: =IFERROR(IF($C51="","",SUMIFS(Calc!$OW$6:$OW$5005,Calc!$OT$6:$OT$5005,Calc!$B$8,Calc!$OU$6:$OU$5005,Table!$C51,Calc!$PB$6:$PB$5005,Table!E$6)),"") | F51: =IFERROR(IF($C51="","",SUMIFS(Calc!$OW$6:$OW$5005,Calc!$OT$6:$OT$5005,Calc!$B$8,Calc!$OU$6:$OU$5005,Table!$C51,Calc!$PB$6:$PB$5005,Table!F$6)),"") | G51: =IFERROR(IF($C51="","",SUMIFS(Calc!$OW$6:$OW$5005,Calc!$OT$6:$OT$5005,Calc!$B$8,Calc!$OU$6:$OU$5005,Table!$C51,Calc!$PB$6:$PB$5005,Table!G$6)),"") | H51: =IFERROR(IF($C51="","",SUMIFS(Calc!$OW$6:$OW$5005,Calc!$OT$6:$OT$5005,Calc!$B$8,Calc!$OU$6:$OU$5005,Table!$C51,Calc!$PB$6:$PB$5005,Table!H$6)),"") | I51: =IFERROR(IF($C51="","",SUMIFS(Calc!$OW$6:$OW$5005,Calc!$OT$6:$OT$5005,Calc!$B$8,Calc!$OU$6:$OU$5005,Table!$C51,Calc!$PB$6:$PB$5005,Table!I$6)),"") | J51: =IFERROR(IF($C51="","",SUMIFS(Calc!$OW$6:$OW$5005,Calc!$OT$6:$OT$5005,Calc!$B$8,Calc!$OU$6:$OU$5005,Table!$C51,Calc!$PB$6:$PB$5005,Table!J$6)),"") | K51: =IFERROR(IF($C51="","",SUMIFS(Calc!$OW$6:$OW$5005,Calc!$OT$6:$OT$5005,Calc!$B$8,Calc!$OU$6:$OU$5005,Table!$C51,Calc!$PB$6:$PB$5005,Table!K$6)),"") | ... O51: =IFERROR(IF($C51="","",SUMIFS(Calc!$OW$6:$OW$5005,Calc!$OT$6:$OT$5005,Calc!$B$8,Calc!$OU$6:$OU$5005,Table!$C51,Calc!$PB$6:$PB$5005,Table!O$6)),"") | P51: =IFERROR(IF($C51="","",SUM(D51:O51)),"")
C52: =IFERROR(IF(LEN(Menu!E32)=0,"",Menu!E32),"") | D52: =IFERROR(IF($C52="","",SUMIFS(Calc!$OW$6:$OW$5005,Calc!$OT$6:$OT$5005,Calc!$B$8,Calc!$OU$6:$OU$5005,Table!$C52,Calc!$PB$6:$PB$5005,Table!D$6)),"") | E52: =IFERROR(IF($C52="","",SUMIFS(Calc!$OW$6:$OW$5005,Calc!$OT$6:$OT$5005,Calc!$B$8,Calc!$OU$6:$OU$5005,Table!$C52,Calc!$PB$6:$PB$5005,Table!E$6)),"") | F52: =IFERROR(IF($C52="","",SUMIFS(Calc!$OW$6:$OW$5005,Calc!$OT$6:$OT$5005,Calc!$B$8,Calc!$OU$6:$OU$5005,Table!$C52,Calc!$PB$6:$PB$5005,Table!F$6)),"") | G52: =IFERROR(IF($C52="","",SUMIFS(Calc!$OW$6:$OW$5005,Calc!$OT$6:$OT$5005,Calc!$B$8,Calc!$OU$6:$OU$5005,Table!$C52,Calc!$PB$6:$PB$5005,Table!G$6)),"") | H52: =IFERROR(IF($C52="","",SUMIFS(Calc!$OW$6:$OW$5005,Calc!$OT$6:$OT$5005,Calc!$B$8,Calc!$OU$6:$OU$5005,Table!$C52,Calc!$PB$6:$PB$5005,Table!H$6)),"") | I52: =IFERROR(IF($C52="","",SUMIFS(Calc!$OW$6:$OW$5005,Calc!$OT$6:$OT$5005,Calc!$B$8,Calc!$OU$6:$OU$5005,Table!$C52,Calc!$PB$6:$PB$5005,Table!I$6)),"") | J52: =IFERROR(IF($C52="","",SUMIFS(Calc!$OW$6:$OW$5005,Calc!$OT$6:$OT$5005,Calc!$B$8,Calc!$OU$6:$OU$5005,Table!$C52,Calc!$PB$6:$PB$5005,Table!J$6)),"") | K52: =IFERROR(IF($C52="","",SUMIFS(Calc!$OW$6:$OW$5005,Calc!$OT$6:$OT$5005,Calc!$B$8,Calc!$OU$6:$OU$5005,Table!$C52,Calc!$PB$6:$PB$5005,Table!K$6)),"") | ... O52: =IFERROR(IF($C52="","",SUMIFS(Calc!$OW$6:$OW$5005,Calc!$OT$6:$OT$5005,Calc!$B$8,Calc!$OU$6:$OU$5005,Table!$C52,Calc!$PB$6:$PB$5005,Table!O$6)),"") | P52: =IFERROR(IF($C52="","",SUM(D52:O52)),"")
C53: =IFERROR(IF(LEN(Menu!E33)=0,"",Menu!E33),"") | D53: =IFERROR(IF($C53="","",SUMIFS(Calc!$OW$6:$OW$5005,Calc!$OT$6:$OT$5005,Calc!$B$8,Calc!$OU$6:$OU$5005,Table!$C53,Calc!$PB$6:$PB$5005,Table!D$6)),"") | E53: =IFERROR(IF($C53="","",SUMIFS(Calc!$OW$6:$OW$5005,Calc!$OT$6:$OT$5005,Calc!$B$8,Calc!$OU$6:$OU$5005,Table!$C53,Calc!$PB$6:$PB$5005,Table!E$6)),"") | F53: =IFERROR(IF($C53="","",SUMIFS(Calc!$OW$6:$OW$5005,Calc!$OT$6:$OT$5005,Calc!$B$8,Calc!$OU$6:$OU$5005,Table!$C53,Calc!$PB$6:$PB$5005,Table!F$6)),"") | G53: =IFERROR(IF($C53="","",SUMIFS(Calc!$OW$6:$OW$5005,Calc!$OT$6:$OT$5005,Calc!$B$8,Calc!$OU$6:$OU$5005,Table!$C53,Calc!$PB$6:$PB$5005,Table!G$6)),"") | H53: =IFERROR(IF($C53="","",SUMIFS(Calc!$OW$6:$OW$5005,Calc!$OT$6:$OT$5005,Calc!$B$8,Calc!$OU$6:$OU$5005,Table!$C53,Calc!$PB$6:$PB$5005,Table!H$6)),"") | I53: =IFERROR(IF($C53="","",SUMIFS(Calc!$OW$6:$OW$5005,Calc!$OT$6:$OT$5005,Calc!$B$8,Calc!$OU$6:$OU$5005,Table!$C53,Calc!$PB$6:$PB$5005,Table!I$6)),"") | J53: =IFERROR(IF($C53="","",SUMIFS(Calc!$OW$6:$OW$5005,Calc!$OT$6:$OT$5005,Calc!$B$8,Calc!$OU$6:$OU$5005,Table!$C53,Calc!$PB$6:$PB$5005,Table!J$6)),"") | K53: =IFERROR(IF($C53="","",SUMIFS(Calc!$OW$6:$OW$5005,Calc!$OT$6:$OT$5005,Calc!$B$8,Calc!$OU$6:$OU$5005,Table!$C53,Calc!$PB$6:$PB$5005,Table!K$6)),"") | ... O53: =IFERROR(IF($C53="","",SUMIFS(Calc!$OW$6:$OW$5005,Calc!$OT$6:$OT$5005,Calc!$B$8,Calc!$OU$6:$OU$5005,Table!$C53,Calc!$PB$6:$PB$5005,Table!O$6)),"") | P53: =IFERROR(IF($C53="","",SUM(D53:O53)),"")
C54: =IFERROR(IF(LEN(Menu!E34)=0,"",Menu!E34),"") | D54: =IFERROR(IF($C54="","",SUMIFS(Calc!$OW$6:$OW$5005,Calc!$OT$6:$OT$5005,Calc!$B$8,Calc!$OU$6:$OU$5005,Table!$C54,Calc!$PB$6:$PB$5005,Table!D$6)),"") | E54: =IFERROR(IF($C54="","",SUMIFS(Calc!$OW$6:$OW$5005,Calc!$OT$6:$OT$5005,Calc!$B$8,Calc!$OU$6:$OU$5005,Table!$C54,Calc!$PB$6:$PB$5005,Table!E$6)),"") | F54: =IFERROR(IF($C54="","",SUMIFS(Calc!$OW$6:$OW$5005,Calc!$OT$6:$OT$5005,Calc!$B$8,Calc!$OU$6:$OU$5005,Table!$C54,Calc!$PB$6:$PB$5005,Table!F$6)),"") | G54: =IFERROR(IF($C54="","",SUMIFS(Calc!$OW$6:$OW$5005,Calc!$OT$6:$OT$5005,Calc!$B$8,Calc!$OU$6:$OU$5005,Table!$C54,Calc!$PB$6:$PB$5005,Table!G$6)),"") | H54: =IFERROR(IF($C54="","",SUMIFS(Calc!$OW$6:$OW$5005,Calc!$OT$6:$OT$5005,Calc!$B$8,Calc!$OU$6:$OU$5005,Table!$C54,Calc!$PB$6:$PB$5005,Table!H$6)),"") | I54: =IFERROR(IF($C54="","",SUMIFS(Calc!$OW$6:$OW$5005,Calc!$OT$6:$OT$5005,Calc!$B$8,Calc!$OU$6:$OU$5005,Table!$C54,Calc!$PB$6:$PB$5005,Table!I$6)),"") | J54: =IFERROR(IF($C54="","",SUMIFS(Calc!$OW$6:$OW$5005,Calc!$OT$6:$OT$5005,Calc!$B$8,Calc!$OU$6:$OU$5005,Table!$C54,Calc!$PB$6:$PB$5005,Table!J$6)),"") | K54: =IFERROR(IF($C54="","",SUMIFS(Calc!$OW$6:$OW$5005,Calc!$OT$6:$OT$5005,Calc!$B$8,Calc!$OU$6:$OU$5005,Table!$C54,Calc!$PB$6:$PB$5005,Table!K$6)),"") | ... O54: =IFERROR(IF($C54="","",SUMIFS(Calc!$OW$6:$OW$5005,Calc!$OT$6:$OT$5005,Calc!$B$8,Calc!$OU$6:$OU$5005,Table!$C54,Calc!$PB$6:$PB$5005,Table!O$6)),"") | P54: =IFERROR(IF($C54="","",SUM(D54:O54)),"")
C55: =IFERROR(IF(LEN(Menu!E35)=0,"",Menu!E35),"") | D55: =IFERROR(IF($C55="","",SUMIFS(Calc!$OW$6:$OW$5005,Calc!$OT$6:$OT$5005,Calc!$B$8,Calc!$OU$6:$OU$5005,Table!$C55,Calc!$PB$6:$PB$5005,Table!D$6)),"") | E55: =IFERROR(IF($C55="","",SUMIFS(Calc!$OW$6:$OW$5005,Calc!$OT$6:$OT$5005,Calc!$B$8,Calc!$OU$6:$OU$5005,Table!$C55,Calc!$PB$6:$PB$5005,Table!E$6)),"") | F55: =IFERROR(IF($C55="","",SUMIFS(Calc!$OW$6:$OW$5005,Calc!$OT$6:$OT$5005,Calc!$B$8,Calc!$OU$6:$OU$5005,Table!$C55,Calc!$PB$6:$PB$5005,Table!F$6)),"") | G55: =IFERROR(IF($C55="","",SUMIFS(Calc!$OW$6:$OW$5005,Calc!$OT$6:$OT$5005,Calc!$B$8,Calc!$OU$6:$OU$5005,Table!$C55,Calc!$PB$6:$PB$5005,Table!G$6)),"") | H55: =IFERROR(IF($C55="","",SUMIFS(Calc!$OW$6:$OW$5005,Calc!$OT$6:$OT$5005,Calc!$B$8,Calc!$OU$6:$OU$5005,Table!$C55,Calc!$PB$6:$PB$5005,Table!H$6)),"") | I55: =IFERROR(IF($C55="","",SUMIFS(Calc!$OW$6:$OW$5005,Calc!$OT$6:$OT$5005,Calc!$B$8,Calc!$OU$6:$OU$5005,Table!$C55,Calc!$PB$6:$PB$5005,Table!I$6)),"") | J55: =IFERROR(IF($C55="","",SUMIFS(Calc!$OW$6:$OW$5005,Calc!$OT$6:$OT$5005,Calc!$B$8,Calc!$OU$6:$OU$5005,Table!$C55,Calc!$PB$6:$PB$5005,Table!J$6)),"") | K55: =IFERROR(IF($C55="","",SUMIFS(Calc!$OW$6:$OW$5005,Calc!$OT$6:$OT$5005,Calc!$B$8,Calc!$OU$6:$OU$5005,Table!$C55,Calc!$PB$6:$PB$5005,Table!K$6)),"") | ... O55: =IFERROR(IF($C55="","",SUMIFS(Calc!$OW$6:$OW$5005,Calc!$OT$6:$OT$5005,Calc!$B$8,Calc!$OU$6:$OU$5005,Table!$C55,Calc!$PB$6:$PB$5005,Table!O$6)),"") | P55: =IFERROR(IF($C55="","",SUM(D55:O55)),"")
... C73: =IFERROR(IF(LEN(Menu!E53)=0,"",Menu!E53),"") | D73: =IFERROR(IF($C73="","",SUMIFS(Calc!$OW$6:$OW$5005,Calc!$OT$6:$OT$5005,Calc!$B$8,Calc!$OU$6:$OU$5005,Table!$C73,Calc!$PB$6:$PB$5005,Table!D$6)),"") | E73: =IFERROR(IF($C73="","",SUMIFS(Calc!$OW$6:$OW$5005,Calc!$OT$6:$OT$5005,Calc!$B$8,Calc!$OU$6:$OU$5005,Table!$C73,Calc!$PB$6:$PB$5005,Table!E$6)),"") | F73: =IFERROR(IF($C73="","",SUMIFS(Calc!$OW$6:$OW$5005,Calc!$OT$6:$OT$5005,Calc!$B$8,Calc!$OU$6:$OU$5005,Table!$C73,Calc!$PB$6:$PB$5005,Table!F$6)),"") | G73: =IFERROR(IF($C73="","",SUMIFS(Calc!$OW$6:$OW$5005,Calc!$OT$6:$OT$5005,Calc!$B$8,Calc!$OU$6:$OU$5005,Table!$C73,Calc!$PB$6:$PB$5005,Table!G$6)),"") | H73: =IFERROR(IF($C73="","",SUMIFS(Calc!$OW$6:$OW$5005,Calc!$OT$6:$OT$5005,Calc!$B$8,Calc!$OU$6:$OU$5005,Table!$C73,Calc!$PB$6:$PB$5005,Table!H$6)),"") | I73: =IFERROR(IF($C73="","",SUMIFS(Calc!$OW$6:$OW$5005,Calc!$OT$6:$OT$5005,Calc!$B$8,Calc!$OU$6:$OU$5005,Table!$C73,Calc!$PB$6:$PB$5005,Table!I$6)),"") | J73: =IFERROR(IF($C73="","",SUMIFS(Calc!$OW$6:$OW$5005,Calc!$OT$6:$OT$5005,Calc!$B$8,Calc!$OU$6:$OU$5005,Table!$C73,Calc!$PB$6:$PB$5005,Table!J$6)),"") | K73: =IFERROR(IF($C73="","",SUMIFS(Calc!$OW$6:$OW$5005,Calc!$OT$6:$OT$5005,Calc!$B$8,Calc!$OU$6:$OU$5005,Table!$C73,Calc!$PB$6:$PB$5005,Table!K$6)),"") | ... O73: =IFERROR(IF($C73="","",SUMIFS(Calc!$OW$6:$OW$5005,Calc!$OT$6:$OT$5005,Calc!$B$8,Calc!$OU$6:$OU$5005,Table!$C73,Calc!$PB$6:$PB$5005,Table!O$6)),"") | P73: =IFERROR(IF($C73="","",SUM(D73:O73)),"")
C74: Expense Totals | D74: =IFERROR(SUM(D44:D73),"") -> 15000 | E74: =IFERROR(SUM(E44:E73),"") -> 2500 | F74: =IFERROR(SUM(F44:F73),"") -> 3500 | G74: =IFERROR(SUM(G44:G73),"") -> 3000 | H74: =IFERROR(SUM(H44:H73),"") -> 3500 | I74: =IFERROR(SUM(I44:I73),"") -> 3000 | J74: =IFERROR(SUM(J44:J73),"") -> 4500 | K74: =IFERROR(SUM(K44:K73),"") -> 2500 | ... O74: =IFERROR(SUM(O44:O73),"") -> 1000 | P74: =IFERROR(IF($C74="","",SUM(D74:O74)),"") -> 42500
C76: Monthly Cash Balance | D76: =IFERROR(D41-D74,"") -> 3500 | E76: =IFERROR(E41-E74,"") -> 4300 | F76: =IFERROR(F41-F74,"") -> 3300 | G76: =IFERROR(G41-G74,"") -> 5500 | H76: =IFERROR(H41-H74,"") -> 4300 | I76: =IFERROR(I41-I74,"") -> 3800 | J76: =IFERROR(J41-J74,"") -> 4000 | K76: =IFERROR(K41-K74,"") -> 5300 | ... P76: =IFERROR(P41-P74,"") -> 58800
C78: Closing Balance | D78: =IFERROR(D76+D8,"") -> 6300 | E78: =IFERROR(E76+E8,"") -> 10600 | F78: =IFERROR(F76+F8,"") -> 13900 | G78: =IFERROR(G76+G8,"") -> 19400 | H78: =IFERROR(H76+H8,"") -> 23700 | I78: =IFERROR(I76+I8,"") -> 27500 | J78: =IFERROR(J76+J8,"") -> 31500 | K78: =IFERROR(K76+K8,"") -> 36800 | ... P78: =IFERROR(P76+P8,"") -> 61600

Sheet Log
B2: COMPANY CASH FLOW PLANNER TEMPLATE
B3: TRANSACTION LOG
B5: =Calc!OP5 -> Date | C5: =Calc!OT5 -> Income/Expense | D5: =Calc!OU5 -> Category | E5: =Calc!OV5 -> Name | F5: =Calc!OW5 -> Amount | G5: =Calc!OX5 -> Type
B6: =IFERROR(IF(LEN(Calc!$OT6)=0,"",Calc!OP6),"") -> 45293 | C6: =IFERROR(IF(LEN(Calc!$OT6)=0,"",Calc!OT6),"") -> Expense | D6: =IFERROR(IF(LEN(Calc!$OT6)=0,"",Calc!OU6),"") -> Operating Expenses | E6: =IFERROR(IF(LEN(Calc!$OT6)=0,"",Calc!OV6),"") -> Wages | F6: =IFERROR(IF(LEN(Calc!$OT6)=0,"",Calc!OW6),"") -> 1000 | G6: =IFERROR(IF(LEN(Calc!$OT6)=0,"",Calc!OX6),"") -> Recurring
B7: =IFERROR(IF(LEN(Calc!$OT7)=0,"",Calc!OP7),"") -> 45293 | C7: =IFERROR(IF(LEN(Calc!$OT7)=0,"",Calc!OT7),"") -> Income | D7: =IFERROR(IF(LEN(Calc!$OT7)=0,"",Calc!OU7),"") -> Sales Revenue | E7: =IFERROR(IF(LEN(Calc!$OT7)=0,"",Calc!OV7),"") -> Sales from old factory | F7: =IFERROR(IF(LEN(Calc!$OT7)=0,"",Calc!OW7),"") -> 1500 | G7: =IFERROR(IF(LEN(Calc!$OT7)=0,"",Calc!OX7),"") -> Recurring
B8: =IFERROR(IF(LEN(Calc!$OT8)=0,"",Calc!OP8),"") -> 45293 | C8: =IFERROR(IF(LEN(Calc!$OT8)=0,"",Calc!OT8),"") -> Expense | D8: =IFERROR(IF(LEN(Calc!$OT8)=0,"",Calc!OU8),"") -> Lending | E8: =IFERROR(IF(LEN(Calc!$OT8)=0,"",Calc!OV8),"") -> Equipment Lending | F8: =IFERROR(IF(LEN(Calc!$OT8)=0,"",Calc!OW8),"") -> 500 | G8: =IFERROR(IF(LEN(Calc!$OT8)=0,"",Calc!OX8),"") -> Recurring
B9: =IFERROR(IF(LEN(Calc!$OT9)=0,"",Calc!OP9),"") -> 45293 | C9: =IFERROR(IF(LEN(Calc!$OT9)=0,"",Calc!OT9),"") -> Income | D9: =IFERROR(IF(LEN(Calc!$OT9)=0,"",Calc!OU9),"") -> Issuance of Debt | E9: =IFERROR(IF(LEN(Calc!$OT9)=0,"",Calc!OV9),"") -> Debt Issuance | F9: =IFERROR(IF(LEN(Calc!$OT9)=0,"",Calc!OW9),"") -> 200 | G9: =IFERROR(IF(LEN(Calc!$OT9)=0,"",Calc!OX9),"") -> Recurring
B10: =IFERROR(IF(LEN(Calc!$OT10)=0,"",Calc!OP10),"") -> 45300 | C10: =IFERROR(IF(LEN(Calc!$OT10)=0,"",Calc!OT10),"") -> Income | D10: =IFERROR(IF(LEN(Calc!$OT10)=0,"",Calc!OU10),"") -> Sales Revenue | E10: =IFERROR(IF(LEN(Calc!$OT10)=0,"",Calc!OV10),"") -> Sales from old factory | F10: =IFERROR(IF(LEN(Calc!$OT10)=0,"",Calc!OW10),"") -> 1500 | G10: =IFERROR(IF(LEN(Calc!$OT10)=0,"",Calc!OX10),"") -> Recurring
B11: =IFERROR(IF(LEN(Calc!$OT11)=0,"",Calc!OP11),"") -> 45300 | C11: =IFERROR(IF(LEN(Calc!$OT11)=0,"",Calc!OT11),"") -> Income | D11: =IFERROR(IF(LEN(Calc!$OT11)=0,"",Calc!OU11),"") -> Issuance of Debt | E11: =IFERROR(IF(LEN(Calc!$OT11)=0,"",Calc!OV11),"") -> Debt Issuance | F11: =IFERROR(IF(LEN(Calc!$OT11)=0,"",Calc!OW11),"") -> 200 | G11: =IFERROR(IF(LEN(Calc!$OT11)=0,"",Calc!OX11),"") -> Recurring
B12: =IFERROR(IF(LEN(Calc!$OT12)=0,"",Calc!OP12),"") -> 45307 | C12: =IFERROR(IF(LEN(Calc!$OT12)=0,"",Calc!OT12),"") -> Expense | D12: =IFERROR(IF(LEN(Calc!$OT12)=0,"",Calc!OU12),"") -> Operating Expenses | E12: =IFERROR(IF(LEN(Calc!$OT12)=0,"",Calc!OV12),"") -> Wages | F12: =IFERROR(IF(LEN(Calc!$OT12)=0,"",Calc!OW12),"") -> 1000 | G12: =IFERROR(IF(LEN(Calc!$OT12)=0,"",Calc!OX12),"") -> Recurring
B13: =IFERROR(IF(LEN(Calc!$OT13)=0,"",Calc!OP13),"") -> 45307 | C13: =IFERROR(IF(LEN(Calc!$OT13)=0,"",Calc!OT13),"") -> Income | D13: =IFERROR(IF(LEN(Calc!$OT13)=0,"",Calc!OU13),"") -> Sales Revenue | E13: =IFERROR(IF(LEN(Calc!$OT13)=0,"",Calc!OV13),"") -> Sales from old factory | F13: =IFERROR(IF(LEN(Calc!$OT13)=0,"",Calc!OW13),"") -> 1500 | G13: =IFERROR(IF(LEN(Calc!$OT13)=0,"",Calc!OX13),"") -> Recurring
B14: =IFERROR(IF(LEN(Calc!$OT14)=0,"",Calc!OP14),"") -> 45307 | C14: =IFERROR(IF(LEN(Calc!$OT14)=0,"",Calc!OT14),"") -> Income | D14: =IFERROR(IF(LEN(Calc!$OT14)=0,"",Calc!OU14),"") -> Issuance of Debt | E14: =IFERROR(IF(LEN(Calc!$OT14)=0,"",Calc!OV14),"") -> Debt Issuance | F14: =IFERROR(IF(LEN(Calc!$OT14)=0,"",Calc!OW14),"") -> 200 | G14: =IFERROR(IF(LEN(Calc!$OT14)=0,"",Calc!OX14),"") -> Recurring
B15: =IFERROR(IF(LEN(Calc!$OT15)=0,"",Calc!OP15),"") -> 45311 | C15: =IFERROR(IF(LEN(Calc!$OT15)=0,"",Calc!OT15),"") -> Income | D15: =IFERROR(IF(LEN(Calc!$OT15)=0,"",Calc!OU15),"") -> Property Sale | E15: =IFERROR(IF(LEN(Calc!$OT15)=0,"",Calc!OV15),"") -> Sales of the house | F15: =IFERROR(IF(LEN(Calc!$OT15)=0,"",Calc!OW15),"") -> 10000 | G15: =IFERROR(IF(LEN(Calc!$OT15)=0,"",Calc!OX15),"") -> One-time
B16: =IFERROR(IF(LEN(Calc!$OT16)=0,"",Calc!OP16),"") -> 45312 | C16: =IFERROR(IF(LEN(Calc!$OT16)=0,"",Calc!OT16),"") -> Expense | D16: =IFERROR(IF(LEN(Calc!$OT16)=0,"",Calc!OU16),"") -> Purchase of Property | E16: =IFERROR(IF(LEN(Calc!$OT16)=0,"",Calc!OV16),"") -> Purchase of the mill | F16: =IFERROR(IF(LEN(Calc!$OT16)=0,"",Calc!OW16),"") -> 11000 | G16: =IFERROR(IF(LEN(Calc!$OT16)=0,"",Calc!OX16),"") -> One-time
B17: =IFERROR(IF(LEN(Calc!$OT17)=0,"",Calc!OP17),"") -> 45314 | C17: =IFERROR(IF(LEN(Calc!$OT17)=0,"",Calc!OT17),"") -> Income | D17: =IFERROR(IF(LEN(Calc!$OT17)=0,"",Calc!OU17),"") -> Sales Revenue | E17: =IFERROR(IF(LEN(Calc!$OT17)=0,"",Calc!OV17),"") -> Sales from old factory | F17: =IFERROR(IF(LEN(Calc!$OT17)=0,"",Calc!OW17),"") -> 1500 | G17: =IFERROR(IF(LEN(Calc!$OT17)=0,"",Calc!OX17),"") -> Recurring
... B3005: =IFERROR(IF(LEN(Calc!$OT3005)=0,"",Calc!OP3005),"") | C3005: =IFERROR(IF(LEN(Calc!$OT3005)=0,"",Calc!OT3005),"") | D3005: =IFERROR(IF(LEN(Calc!$OT3005)=0,"",Calc!OU3005),"") | E3005: =IFERROR(IF(LEN(Calc!$OT3005)=0,"",Calc!OV3005),"") | F3005: =IFERROR(IF(LEN(Calc!$OT3005)=0,"",Calc!OW3005),"") | G3005: =IFERROR(IF(LEN(Calc!$OT3005)=0,"",Calc!OX3005),"")

Sheet Calc
B2: Dropdown Menus | Q2: Item Allocation Section (These are the list of all items) | AB2: Calendar (This section turns each recurring item into individual items. We check for the date for each individual expense or income, and bring the index of that item.) | OK2: Transaction Log (This section creates a list of all transactions. We use a helper of dates. Then count item # for each date.And we find the first and last rows. Then create list of dates and give the nth order for each item. Then we bring the item index from the calendar table. The rest are index match.) | PD2: Table Section | PN2: Dashboard Calculations
Q3: Task Max | R3: =IFERROR(MAX(COUNTIF(R6:R505,"?*"),1),500) -> 8 | Y3: Start Date | Z3: =IFERROR(IF(Menu!$H$23="",45292,Menu!$H$23),"") -> 45292 | ON3: Max Row | PD3: Max Number | PH3: Max Number
Q4: Col.Ind. | R4: =IFERROR(MATCH(R5,Input!$B$5:$J$5,0),1) -> 1 | S4: =IFERROR(MATCH(S5,Input!$B$5:$J$5,0),1) -> 2 | T4: =IFERROR(MATCH(T5,Input!$B$5:$J$5,0),1) -> 3 | U4: =IFERROR(MATCH(U5,Input!$B$5:$J$5,0),1) -> 4 | V4: =IFERROR(MATCH(V5,Input!$B$5:$J$5,0),1) -> 5 | W4: =IFERROR(MATCH(W5,Input!$B$5:$J$5,0),1) -> 6 | X4: =IFERROR(MATCH(X5,Input!$B$5:$J$5,0),1) -> 7 | Y4: =IFERROR(MATCH(Y5,Input!$B$5:$J$5,0),1) -> 8 | Z4: =IFERROR(MATCH(Z5,Input!$B$5:$J$5,0),1) -> 9 | AA4: Daily Count | AB4: =IFERROR(COUNT(AB$6:AB$17),0) -> 0 | AC4: =IFERROR(COUNT(AC$6:AC$17),0) -> 4 | AD4: =IFERROR(COUNT(AD$6:AD$17),0) -> 0 | AE4: =IFERROR(COUNT(AE$6:AE$17),0) -> 0 | AF4: =IFERROR(COUNT(AF$6:AF$17),0) -> 0 | AG4: =IFERROR(COUNT(AG$6:AG$17),0) -> 0 | AH4: =IFERROR(COUNT(AH$6:AH$17),0) -> 0 | AI4: =IFERROR(COUNT(AI$6:AI$17),0) -> 0 | ... OH4: =IFERROR(COUNT(OH$6:OH$17),0) -> 0 | ON4: =IFERROR(MAX($OO$6:$OO$3005),"") -> 145 | OS4: Header Index | OT4: =R4 -> 1 | OU4: =S4 -> 2 | OV4: =T4 -> 3 | OW4: =U4 -> 4 | OX4: =V4 -> 5 | PD4: =IFERROR(MAX(COUNTIF(PD7:PD36,"?*"),1),30) -> 6 | PH4: =IFERROR(MAX(COUNTIF(PH7:PH36,"?*"),1),30) -> 5
Q5: Row Ind. | R5: =IFERROR(Input!B5,"") -> Income/Expense | S5: =IFERROR(Input!C5,"") -> Category | T5: =IFERROR(Input!D5,"") -> Name | U5: =IFERROR(Input!E5,"") -> Amount | V5: =IFERROR(Input!F5,"") -> Type | W5: =IFERROR(Input!G5,"") -> Frequency | X5: =IFERROR(Input!H5,"") -> Every | Y5: =IFERROR(Input!I5,"") -> Start Date | Z5: =IFERROR(Input!J5,"") -> End Date | AA5: Frequence Number | AB5: =IFERROR(IF(Z3="","",Z3),"") -> 45292 | AC5: =IFERROR(IF($Z$3="","",AB5+1),"") -> 45293 | AD5: =IFERROR(IF($Z$3="","",AC5+1),"") -> 45294 | AE5: =IFERROR(IF($Z$3="","",AD5+1),"") -> 45295 | AF5: =IFERROR(IF($Z$3="","",AE5+1),"") -> 45296 | AG5: =IFERROR(IF($Z$3="","",AF5+1),"") -> 45297 | AH5: =IFERROR(IF($Z$3="","",AG5+1),"") -> 45298 | AI5: =IFERROR(IF($Z$3="","",AH5+1),"") -> 45299 | AJ5: =IFERROR(IF($Z$3="","",AI5+1),"") -> 45300 | ... OE5: =IFERROR(IF($Z$3="","",OD5+1),"") -> 45659 | OK5: Index | OL5: Helper | OM5: Daily Count | ON5: First row | OO5: Last Row | OP5: Date | OQ5: nth of Day | OR5: Day Index | OS5: Item Index | OT5: =R5 -> Income/Expense | OU5: =S5 -> Category | OV5: =T5 -> Name | OW5: =U5 -> Amount | OX5: =V5 -> Type | OY5: Day | OZ5: Month | PA5: Year | PB5: Month-Year | PD5: Income | PH5: Expense
