Workbook
Name _Dashboard: Dashboard!$B$6:$J$39
Name _Exemptions: DataBase!$AF$3:$AF$17
Name AssetItems: OFFSET(DataBase!$N$3,0,0,MAX(1,COUNTIF(DataBase!$N$3:$N$152,"<>0")),1)
Name AssetValues1: OFFSET(DataBase!$O$3,0,0,MAX(1,COUNTIF(DataBase!$N$3:$N$152,"<>0")),1)
Name AssetValues2: OFFSET(DataBase!$P$3,0,0,MAX(1,COUNTIF(DataBase!$N$3:$N$152,"<>0")),1)
Name EquityItems: OFFSET(DataBase!$Z$3,0,0,MAX(1,COUNTIF(DataBase!$Z$3:$Z$152,"<>0")),1)
Name EquityValues1: OFFSET(DataBase!$AA$3,0,0,MAX(1,COUNTIF(DataBase!$Z$3:$Z$152,"<>0")),1)
Name EquityValues2: OFFSET(DataBase!$AB$3,0,0,MAX(1,COUNTIF(DataBase!$Z$3:$Z$152,"<>0")),1)
Name Input: Input!$B$5:$N$31
Name LiabilityItems: OFFSET(DataBase!$T$3,0,0,MAX(1,COUNTIF(DataBase!$T$3:$T$152,"<>0")),1)
Name LiabilityValues1: OFFSET(DataBase!$U$3,0,0,MAX(1,COUNTIF(DataBase!$T$3:$T$152,"<>0")),1)
Name LiabilityValues2: OFFSET(DataBase!$V$3,0,0,MAX(1,COUNTIF(DataBase!$T$3:$T$152,"<>0")),1)
Name PrnArea: PrintForm!$B$5:$G$43
Name SubA1_1: Input!$E$20
Name SubA1_2: Input!$F$20
Name SubA2_1: Input!$E$27
Name SubA2_2: Input!$F$27
Name SubC1_1: Input!$K$27
Name SubC1_2: Input!$L$27
Name SubL1_1: Input!$K$14
Name SubL1_2: Input!$L$14
Name SubL2_1: Input!$K$19
Name SubL2_2: Input!$L$19
Name TotalAssets1: Input!$E$28
Name TotalAssets2: Input!$F$28
Name TotalLiabilities1: Input!$K$20
Name TotalLiabilities2: Input!$L$20

Sheet Input
D2: BALANCE SHEET TEMPLATE
D3: INPUTS
D5: =IF(OR(E30<>K30,F30<>L30),"Total assets must be equal to total capital and liabilities. Please check and correct the figures!","")
D6: Line Item | E6: Beginning Balance | F6: End Balance | J6: Line Item | K6: Beginning Balance | L6: End Balance
D8: ASSETS | J8: LIABILITIES
D9: Current Assets | J9: Current Liabilities
D10: Cash | E10: 1000 | F10: 2500 | J10: Short-Term Debt | K10: 1400 | L10: 600
D11: Trade Accounts Receivable | E11: 1100 | F11: 550 | J11: Trade Accounts Payable | K11: 100 | L11: 550
D12: Inventories | E12: 700 | F12: 600 | J12: Other Accrued Liabilities | K12: 500 | L12: 800
J14: Total Current Liabilities | K14: =SUBTOTAL(109,Input!$K10:$K13) -> 2000 | L14: =SUBTOTAL(109,Input!$L10:$L13) -> 1950
J15: Non-Current Liabilities
J16: Long-Term Debt | K16: 1100 | L16: 1650
J19: Total Non-Current Liabilities | K19: =SUBTOTAL(109,Input!$K16:$K18) -> 1100 | L19: =SUBTOTAL(109,Input!$L16:$L18) -> 1650
D20: Total Current Assets | E20: =SUBTOTAL(109,Input!$E10:$E19) -> 2800 | F20: =SUBTOTAL(109,Input!$F$10:$F$19) -> 3650 | J20: Total Liabilities | K20: =SUM(SubL1_1,SubL2_1) -> 3100 | L20: =SUM(SubL1_2,SubL2_2) -> 3600
D21: Non-Current Assets | J21: EQUITY
D22: Property, Plant & Equipment | E22: 2500 | F22: 3000 | J22: Common Shares | K22: 700 | L22: 950
D23: Intangible Assets | E23: 150 | F23: 250 | J23: Retained Earnings | K23: 1700 | L23: 2450
D24: Equity Investments | E24: 250 | F24: 350 | J24: Revaluation Reserve | K24: 200 | L24: 250
D27: Total Non-Current Assets | E27: =SUBTOTAL(109,Input!$E22:$E26) -> 2900 | F27: =SUBTOTAL(109,Input!$F$22:$F$26) -> 3600 | J27: Total Equity | K27: =SUBTOTAL(109,Input!$K22:$K26) -> 2600 | L27: =SUBTOTAL(109,Input!$L22:$L26) -> 3650
D28: Total Assets | E28: =SUM(SubA1_1,SubA2_1) -> 5700 | F28: =SUM(SubA1_2,SubA2_2) -> 7250
D30: Total Assets | E30: =TotalAssets1 -> 5700 | F30: =TotalAssets2 -> 7250 | J30: Total Liabilities & Equity | K30: =SUM(TotalLiabilities1,SubC1_1) -> 5700 | L30: =SUM(TotalLiabilities2,SubC1_2) -> 7250

Sheet Dashboard
C2: BALANCE SHEET TEMPLATE
C3: DASHBOARD
H6: Total assets must be equal to total capital and liabilities. Please check and correct the figures!
G8: Financial Ratios | H8: Beginning | I8: End
G9: Current Ratio | H9: =Input!$E$20/Input!$K$14 -> 1.4 | I9: =Input!$F$20/Input!$L$14 -> 1.8717949
G10: Debt Ratio | H10: =TotalLiabilities1/TotalAssets1 -> 0.54385965 | I10: =TotalLiabilities2/TotalAssets2 -> 0.49655172
G11: Debt-To-Equity Ratio | H11: =TotalLiabilities1/Input!$K$27 -> 1.1923077 | I11: =TotalLiabilities2/Input!$L$27 -> 0.98630137
G12: Working Capital Amount | H12: =Input!$E$20-Input!$K$14 -> 800 | I12: =Input!$F$20-Input!$L$14 -> 1700
G14: =IF(OR(Input!E30<>Input!K30,Input!F30<>Input!L30),"Total assets must be equal to total capital and liabilities. Please check and correct the figures!","")
C17: ASSETS COMPOSITION | E17: LIABILITIES COMPOSITION | G17: EQUITY COMPOSITION

Sheet PrintForm
D2: BALANCE SHEET TEMPLATE
D3: PRINT FORM
D6: Balance Sheet
D8: Line Items | E8: Beginning Balance | F8: End Balance
D9: =PrnDB!P3 -> ASSETS | E9: =PrnDB!H3 -> 0 | F9: =PrnDB!I3 -> 0
D10: =PrnDB!P4 -> Current Assets | E10: =PrnDB!H4 -> 0 | F10: =PrnDB!I4 -> 0
D11: =PrnDB!P5 -> Cash | E11: =PrnDB!H5 -> 1000 | F11: =PrnDB!I5 -> 2500
D12: =PrnDB!P6 -> Trade Accounts Receivable | E12: =PrnDB!H6 -> 1100 | F12: =PrnDB!I6 -> 550
D13: =PrnDB!P7 -> Inventories | E13: =PrnDB!H7 -> 700 | F13: =PrnDB!I7 -> 600
D14: =PrnDB!P8 -> Total Current Assets | E14: =PrnDB!H8 -> 2800 | F14: =PrnDB!I8 -> 3650
D15: =PrnDB!P9 | E15: =PrnDB!H9 -> 0 | F15: =PrnDB!I9 -> 0
D16: =PrnDB!P10 -> Non-Current Assets | E16: =PrnDB!H10 -> 0 | F16: =PrnDB!I10 -> 0
D17: =PrnDB!P11 -> Property, Plant & Equipment | E17: =PrnDB!H11 -> 2500 | F17: =PrnDB!I11 -> 3000
D18: =PrnDB!P12 -> Intangible Assets | E18: =PrnDB!H12 -> 150 | F18: =PrnDB!I12 -> 250
D19: =PrnDB!P13 -> Equity Investments | E19: =PrnDB!H13 -> 250 | F19: =PrnDB!I13 -> 350
D20: =PrnDB!P14 -> Total Non-Current Assets | E20: =PrnDB!H14 -> 2900 | F20: =PrnDB!I14 -> 3600
... D453: =PrnDB!P447 | E453: =PrnDB!H447 -> 0 | F453: =PrnDB!I447 -> 0

Sheet DataBase
B2: Assets | C2: Beginning | D2: End | F2: Liabilities | G2: Beginning | H2: End | J2: Equity | K2: Beginning | L2: End | N2: Assets | O2: Beginning | P2: End | Q2: Valid | R2: 0 | T2: Liabilities | U2: Beginning | V2: End | W2: Valid | X2: 0 | Z2: Equity | AA2: Beginning | AB2: End | AC2: Valid | AD2: 0 | AF2: List Of Exemptions | AH2: Series | AI2: Assets | AJ2: Liabilities | AK2: Equity | AL2: Margin
B3: =IF(ROW()+4<=ROW(TotalAssets1),INDEX(Input,ROW()+1,3),0) -> ASSETS | C3: =IF(ROW()+4<=ROW(TotalAssets1),INDEX(Input,ROW()+1,4),0) -> 0 | D3: =IF(ROW()+4<=ROW(TotalAssets1),INDEX(Input,ROW()+1,5),0) -> 0 | F3: =IF(ROW()+4<=ROW(TotalLiabilities1),INDEX(Input,ROW()+1,9),0) -> LIABILITIES | G3: =IF(ROW()+4<=ROW(TotalLiabilities1),INDEX(Input,ROW()+1,10),0) -> 0 | H3: =IF(ROW()+4<=ROW(TotalLiabilities1),INDEX(Input,ROW()+1,11),0) -> 0 | J3: =IFERROR(IF(ROW()+4>ROW(TotalLiabilities1),INDEX(Input,ROW()+1,9),0),0) -> 0 | K3: =IFERROR(IF(ROW()+4>ROW(TotalLiabilities1),INDEX(Input,ROW()+1,10),0),0) -> 0 | L3: =IFERROR(IF(ROW()+4>ROW(TotalLiabilities1),INDEX(Input,ROW()+1,11),0),0) -> 0 | N3: =OFFSET(B3,DataBase!$R3,0) -> Cash | O3: =OFFSET(C3,DataBase!$R3,0) -> 1000 | P3: =OFFSET(D3,DataBase!$R3,0) -> 2500 | Q3: =IF(AND($B3<>0,ISNA(MATCH($B3,_Exemptions,0))),1,0) -> 0 | R3: =IFERROR(ROW(OFFSET(DataBase!$Q3,R2,,150))+MATCH(1,OFFSET(DataBase!$Q3,R2,,150),0)-1-ROW(),1000) -> 2 | T3: =OFFSET(F3,DataBase!$X3,0) -> Short-Term Debt | U3: =OFFSET(G3,DataBase!$X3,0) -> 1400 | V3: =OFFSET(H3,DataBase!$X3,0) -> 600 | W3: =IF(AND($F3<>0,ISNA(MATCH($F3,_Exemptions,0))),1,0) -> 0 | X3: =IFERROR(ROW(OFFSET(DataBase!$W3,X2,,150))+MATCH(1,OFFSET(DataBase!$W3,X2,,150),0)-1-ROW(),1000) -> 2 | Z3: =OFFSET(J3,DataBase!$AD3,0) -> Common Shares | AA3: =OFFSET(K3,DataBase!$AD3,0) -> 700 | AB3: =OFFSET(L3,DataBase!$AD3,0) -> 950 | AC3: =IF(AND($J3<>0,ISNA(MATCH($J3,_Exemptions,0))),1,0) -> 0 | AD3: =IFERROR(ROW(OFFSET(DataBase!$AC3,AD2,,150))+MATCH(1,OFFSET(DataBase!$AC3,AD2,,150),0)-1-ROW(),1000) -> 14 | AF3: ASSETS | AH3: Assets | AI3: =TotalAssets1 -> 5700 | AL3: =$AJ$12-AI3 -> 2300
B4: =IF(ROW()+4<=ROW(TotalAssets1),INDEX(Input,ROW()+1,3),0) -> Current Assets | C4: =IF(ROW()+4<=ROW(TotalAssets1),INDEX(Input,ROW()+1,4),0) -> 0 | D4: =IF(ROW()+4<=ROW(TotalAssets1),INDEX(Input,ROW()+1,5),0) -> 0 | F4: =IF(ROW()+4<=ROW(TotalLiabilities1),INDEX(Input,ROW()+1,9),0) -> Current Liabilities | G4: =IF(ROW()+4<=ROW(TotalLiabilities1),INDEX(Input,ROW()+1,10),0) -> 0 | H4: =IF(ROW()+4<=ROW(TotalLiabilities1),INDEX(Input,ROW()+1,11),0) -> 0 | J4: =IFERROR(IF(ROW()+4>ROW(TotalLiabilities1),INDEX(Input,ROW()+1,9),0),0) -> 0 | K4: =IFERROR(IF(ROW()+4>ROW(TotalLiabilities1),INDEX(Input,ROW()+1,10),0),0) -> 0 | L4: =IFERROR(IF(ROW()+4>ROW(TotalLiabilities1),INDEX(Input,ROW()+1,11),0),0) -> 0 | N4: =OFFSET(B4,DataBase!$R4,0) -> Trade Accounts Receivable | O4: =OFFSET(C4,DataBase!$R4,0) -> 1100 | P4: =OFFSET(D4,DataBase!$R4,0) -> 550 | Q4: =IF(AND($B4<>0,ISNA(MATCH($B4,_Exemptions,0))),1,0) -> 0 | R4: =IFERROR(ROW(OFFSET(DataBase!$Q4,R3,,150))+MATCH(1,OFFSET(DataBase!$Q4,R3,,150),0)-1-ROW(),1000) -> 2 | T4: =OFFSET(F4,DataBase!$X4,0) -> Trade Accounts Payable | U4: =OFFSET(G4,DataBase!$X4,0) -> 100 | V4: =OFFSET(H4,DataBase!$X4,0) -> 550 | W4: =IF(AND($F4<>0,ISNA(MATCH($F4,_Exemptions,0))),1,0) -> 0 | X4: =IFERROR(ROW(OFFSET(DataBase!$W4,X3,,150))+MATCH(1,OFFSET(DataBase!$W4,X3,,150),0)-1-ROW(),1000) -> 2 | Z4: =OFFSET(J4,DataBase!$AD4,0) -> Retained Earnings | AA4: =OFFSET(K4,DataBase!$AD4,0) -> 1700 | AB4: =OFFSET(L4,DataBase!$AD4,0) -> 2450 | AC4: =IF(AND($J4<>0,ISNA(MATCH($J4,_Exemptions,0))),1,0) -> 0 | AD4: =IFERROR(ROW(OFFSET(DataBase!$AC4,AD3,,150))+MATCH(1,OFFSET(DataBase!$AC4,AD3,,150),0)-1-ROW(),1000) -> 14 | AF4: Current Assets | AH4: Liabilities & Equity | AJ4: =TotalLiabilities1 -> 3100 | AK4: =Input!$K$27 -> 2600
B5: =IF(ROW()+4<=ROW(TotalAssets1),INDEX(Input,ROW()+1,3),0) -> Cash | C5: =IF(ROW()+4<=ROW(TotalAssets1),INDEX(Input,ROW()+1,4),0) -> 1000 | D5: =IF(ROW()+4<=ROW(TotalAssets1),INDEX(Input,ROW()+1,5),0) -> 2500 | F5: =IF(ROW()+4<=ROW(TotalLiabilities1),INDEX(Input,ROW()+1,9),0) -> Short-Term Debt | G5: =IF(ROW()+4<=ROW(TotalLiabilities1),INDEX(Input,ROW()+1,10),0) -> 1400 | H5: =IF(ROW()+4<=ROW(TotalLiabilities1),INDEX(Input,ROW()+1,11),0) -> 600 | J5: =IFERROR(IF(ROW()+4>ROW(TotalLiabilities1),INDEX(Input,ROW()+1,9),0),0) -> 0 | K5: =IFERROR(IF(ROW()+4>ROW(TotalLiabilities1),INDEX(Input,ROW()+1,10),0),0) -> 0 | L5: =IFERROR(IF(ROW()+4>ROW(TotalLiabilities1),INDEX(Input,ROW()+1,11),0),0) -> 0 | N5: =OFFSET(B5,DataBase!$R5,0) -> Inventories | O5: =OFFSET(C5,DataBase!$R5,0) -> 700 | P5: =OFFSET(D5,DataBase!$R5,0) -> 600 | Q5: =IF(AND($B5<>0,ISNA(MATCH($B5,_Exemptions,0))),1,0) -> 1 | R5: =IFERROR(ROW(OFFSET(DataBase!$Q5,R4,,150))+MATCH(1,OFFSET(DataBase!$Q5,R4,,150),0)-1-ROW(),1000) -> 2 | T5: =OFFSET(F5,DataBase!$X5,0) -> Other Accrued Liabilities | U5: =OFFSET(G5,DataBase!$X5,0) -> 500 | V5: =OFFSET(H5,DataBase!$X5,0) -> 800 | W5: =IF(AND($F5<>0,ISNA(MATCH($F5,_Exemptions,0))),1,0) -> 1 | X5: =IFERROR(ROW(OFFSET(DataBase!$W5,X4,,150))+MATCH(1,OFFSET(DataBase!$W5,X4,,150),0)-1-ROW(),1000) -> 2 | Z5: =OFFSET(J5,DataBase!$AD5,0) -> Revaluation Reserve | AA5: =OFFSET(K5,DataBase!$AD5,0) -> 200 | AB5: =OFFSET(L5,DataBase!$AD5,0) -> 250 | AC5: =IF(AND($J5<>0,ISNA(MATCH($J5,_Exemptions,0))),1,0) -> 0 | AD5: =IFERROR(ROW(OFFSET(DataBase!$AC5,AD4,,150))+MATCH(1,OFFSET(DataBase!$AC5,AD4,,150),0)-1-ROW(),1000) -> 14 | AF5: Total Current Assets
B6: =IF(ROW()+4<=ROW(TotalAssets1),INDEX(Input,ROW()+1,3),0) -> Trade Accounts Receivable | C6: =IF(ROW()+4<=ROW(TotalAssets1),INDEX(Input,ROW()+1,4),0) -> 1100 | D6: =IF(ROW()+4<=ROW(TotalAssets1),INDEX(Input,ROW()+1,5),0) -> 550 | F6: =IF(ROW()+4<=ROW(TotalLiabilities1),INDEX(Input,ROW()+1,9),0) -> Trade Accounts Payable | G6: =IF(ROW()+4<=ROW(TotalLiabilities1),INDEX(Input,ROW()+1,10),0) -> 100 | H6: =IF(ROW()+4<=ROW(TotalLiabilities1),INDEX(Input,ROW()+1,11),0) -> 550 | J6: =IFERROR(IF(ROW()+4>ROW(TotalLiabilities1),INDEX(Input,ROW()+1,9),0),0) -> 0 | K6: =IFERROR(IF(ROW()+4>ROW(TotalLiabilities1),INDEX(Input,ROW()+1,10),0),0) -> 0 | L6: =IFERROR(IF(ROW()+4>ROW(TotalLiabilities1),INDEX(Input,ROW()+1,11),0),0) -> 0 | N6: =OFFSET(B6,DataBase!$R6,0) -> Property, Plant & Equipment | O6: =OFFSET(C6,DataBase!$R6,0) -> 2500 | P6: =OFFSET(D6,DataBase!$R6,0) -> 3000 | Q6: =IF(AND($B6<>0,ISNA(MATCH($B6,_Exemptions,0))),1,0) -> 1 | R6: =IFERROR(ROW(OFFSET(DataBase!$Q6,R5,,150))+MATCH(1,OFFSET(DataBase!$Q6,R5,,150),0)-1-ROW(),1000) -> 11 | T6: =OFFSET(F6,DataBase!$X6,0) -> Long-Term Debt | U6: =OFFSET(G6,DataBase!$X6,0) -> 1100 | V6: =OFFSET(H6,DataBase!$X6,0) -> 1650 | W6: =IF(AND($F6<>0,ISNA(MATCH($F6,_Exemptions,0))),1,0) -> 1 | X6: =IFERROR(ROW(OFFSET(DataBase!$W6,X5,,150))+MATCH(1,OFFSET(DataBase!$W6,X5,,150),0)-1-ROW(),1000) -> 5 | Z6: =OFFSET(J6,DataBase!$AD6,0) -> 0 | AA6: =OFFSET(K6,DataBase!$AD6,0) -> 0 | AB6: =OFFSET(L6,DataBase!$AD6,0) -> 0 | AC6: =IF(AND($J6<>0,ISNA(MATCH($J6,_Exemptions,0))),1,0) -> 0 | AD6: =IFERROR(ROW(OFFSET(DataBase!$AC6,AD5,,150))+MATCH(1,OFFSET(DataBase!$AC6,AD5,,150),0)-1-ROW(),1000) -> 1000 | AF6: Non-Current Assets | AH6: Assets | AI6: =TotalAssets2 -> 7250 | AL6: =$AJ$12-AI6 -> 750
B7: =IF(ROW()+4<=ROW(TotalAssets1),INDEX(Input,ROW()+1,3),0) -> Inventories | C7: =IF(ROW()+4<=ROW(TotalAssets1),INDEX(Input,ROW()+1,4),0) -> 700 | D7: =IF(ROW()+4<=ROW(TotalAssets1),INDEX(Input,ROW()+1,5),0) -> 600 | F7: =IF(ROW()+4<=ROW(TotalLiabilities1),INDEX(Input,ROW()+1,9),0) -> Other Accrued Liabilities | G7: =IF(ROW()+4<=ROW(TotalLiabilities1),INDEX(Input,ROW()+1,10),0) -> 500 | H7: =IF(ROW()+4<=ROW(TotalLiabilities1),INDEX(Input,ROW()+1,11),0) -> 800 | J7: =IFERROR(IF(ROW()+4>ROW(TotalLiabilities1),INDEX(Input,ROW()+1,9),0),0) -> 0 | K7: =IFERROR(IF(ROW()+4>ROW(TotalLiabilities1),INDEX(Input,ROW()+1,10),0),0) -> 0 | L7: =IFERROR(IF(ROW()+4>ROW(TotalLiabilities1),INDEX(Input,ROW()+1,11),0),0) -> 0 | N7: =OFFSET(B7,DataBase!$R7,0) -> Intangible Assets | O7: =OFFSET(C7,DataBase!$R7,0) -> 150 | P7: =OFFSET(D7,DataBase!$R7,0) -> 250 | Q7: =IF(AND($B7<>0,ISNA(MATCH($B7,_Exemptions,0))),1,0) -> 1 | R7: =IFERROR(ROW(OFFSET(DataBase!$Q7,R6,,150))+MATCH(1,OFFSET(DataBase!$Q7,R6,,150),0)-1-ROW(),1000) -> 11 | T7: =OFFSET(F7,DataBase!$X7,0) -> 0 | U7: =OFFSET(G7,DataBase!$X7,0) -> 0 | V7: =OFFSET(H7,DataBase!$X7,0) -> 0 | W7: =IF(AND($F7<>0,ISNA(MATCH($F7,_Exemptions,0))),1,0) -> 1 | X7: =IFERROR(ROW(OFFSET(DataBase!$W7,X6,,150))+MATCH(1,OFFSET(DataBase!$W7,X6,,150),0)-1-ROW(),1000) -> 1000 | Z7: =OFFSET(J7,DataBase!$AD7,0) -> 0 | AA7: =OFFSET(K7,DataBase!$AD7,0) -> 0 | AB7: =OFFSET(L7,DataBase!$AD7,0) -> 0 | AC7: =IF(AND($J7<>0,ISNA(MATCH($J7,_Exemptions,0))),1,0) -> 0 | AD7: =IFERROR(ROW(OFFSET(DataBase!$AC7,AD6,,150))+MATCH(1,OFFSET(DataBase!$AC7,AD6,,150),0)-1-ROW(),1000) -> 1000 | AF7: Total Non-Current Assets | AH7: Liabilities & Equity | AJ7: =TotalLiabilities2 -> 3600 | AK7: =Input!$L$27 -> 3650
B8: =IF(ROW()+4<=ROW(TotalAssets1),INDEX(Input,ROW()+1,3),0) -> 0 | C8: =IF(ROW()+4<=ROW(TotalAssets1),INDEX(Input,ROW()+1,4),0) -> 0 | D8: =IF(ROW()+4<=ROW(TotalAssets1),INDEX(Input,ROW()+1,5),0) -> 0 | F8: =IF(ROW()+4<=ROW(TotalLiabilities1),INDEX(Input,ROW()+1,9),0) -> 0 | G8: =IF(ROW()+4<=ROW(TotalLiabilities1),INDEX(Input,ROW()+1,10),0) -> 0 | H8: =IF(ROW()+4<=ROW(TotalLiabilities1),INDEX(Input,ROW()+1,11),0) -> 0 | J8: =IFERROR(IF(ROW()+4>ROW(TotalLiabilities1),INDEX(Input,ROW()+1,9),0),0) -> 0 | K8: =IFERROR(IF(ROW()+4>ROW(TotalLiabilities1),INDEX(Input,ROW()+1,10),0),0) -> 0 | L8: =IFERROR(IF(ROW()+4>ROW(TotalLiabilities1),INDEX(Input,ROW()+1,11),0),0) -> 0 | N8: =OFFSET(B8,DataBase!$R8,0) -> Equity Investments | O8: =OFFSET(C8,DataBase!$R8,0) -> 250 | P8: =OFFSET(D8,DataBase!$R8,0) -> 350 | Q8: =IF(AND($B8<>0,ISNA(MATCH($B8,_Exemptions,0))),1,0) -> 0 | R8: =IFERROR(ROW(OFFSET(DataBase!$Q8,R7,,150))+MATCH(1,OFFSET(DataBase!$Q8,R7,,150),0)-1-ROW(),1000) -> 11 | T8: =OFFSET(F8,DataBase!$X8,0) -> 0 | U8: =OFFSET(G8,DataBase!$X8,0) -> 0 | V8: =OFFSET(H8,DataBase!$X8,0) -> 0 | W8: =IF(AND($F8<>0,ISNA(MATCH($F8,_Exemptions,0))),1,0) -> 0 | X8: =IFERROR(ROW(OFFSET(DataBase!$W8,X7,,150))+MATCH(1,OFFSET(DataBase!$W8,X7,,150),0)-1-ROW(),1000) -> 1000 | Z8: =OFFSET(J8,DataBase!$AD8,0) -> 0 | AA8: =OFFSET(K8,DataBase!$AD8,0) -> 0 | AB8: =OFFSET(L8,DataBase!$AD8,0) -> 0 | AC8: =IF(AND($J8<>0,ISNA(MATCH($J8,_Exemptions,0))),1,0) -> 0 | AD8: =IFERROR(ROW(OFFSET(DataBase!$AC8,AD7,,150))+MATCH(1,OFFSET(DataBase!$AC8,AD7,,150),0)-1-ROW(),1000) -> 1000 | AF8: Total Assets
B9: =IF(ROW()+4<=ROW(TotalAssets1),INDEX(Input,ROW()+1,3),0) -> 0 | C9: =IF(ROW()+4<=ROW(TotalAssets1),INDEX(Input,ROW()+1,4),0) -> 0 | D9: =IF(ROW()+4<=ROW(TotalAssets1),INDEX(Input,ROW()+1,5),0) -> 0 | F9: =IF(ROW()+4<=ROW(TotalLiabilities1),INDEX(Input,ROW()+1,9),0) -> Total Current Liabilities | G9: =IF(ROW()+4<=ROW(TotalLiabilities1),INDEX(Input,ROW()+1,10),0) -> 2000 | H9: =IF(ROW()+4<=ROW(TotalLiabilities1),INDEX(Input,ROW()+1,11),0) -> 1950 | J9: =IFERROR(IF(ROW()+4>ROW(TotalLiabilities1),INDEX(Input,ROW()+1,9),0),0) -> 0 | K9: =IFERROR(IF(ROW()+4>ROW(TotalLiabilities1),INDEX(Input,ROW()+1,10),0),0) -> 0 | L9: =IFERROR(IF(ROW()+4>ROW(TotalLiabilities1),INDEX(Input,ROW()+1,11),0),0) -> 0 | N9: =OFFSET(B9,DataBase!$R9,0) -> 0 | O9: =OFFSET(C9,DataBase!$R9,0) -> 0 | P9: =OFFSET(D9,DataBase!$R9,0) -> 0 | Q9: =IF(AND($B9<>0,ISNA(MATCH($B9,_Exemptions,0))),1,0) -> 0 | R9: =IFERROR(ROW(OFFSET(DataBase!$Q9,R8,,150))+MATCH(1,OFFSET(DataBase!$Q9,R8,,150),0)-1-ROW(),1000) -> 1000 | T9: =OFFSET(F9,DataBase!$X9,0) -> 0 | U9: =OFFSET(G9,DataBase!$X9,0) -> 0 | V9: =OFFSET(H9,DataBase!$X9,0) -> 0 | W9: =IF(AND($F9<>0,ISNA(MATCH($F9,_Exemptions,0))),1,0) -> 0 | X9: =IFERROR(ROW(OFFSET(DataBase!$W9,X8,,150))+MATCH(1,OFFSET(DataBase!$W9,X8,,150),0)-1-ROW(),1000) -> 1000 | Z9: =OFFSET(J9,DataBase!$AD9,0) -> 0 | AA9: =OFFSET(K9,DataBase!$AD9,0) -> 0 | AB9: =OFFSET(L9,DataBase!$AD9,0) -> 0 | AC9: =IF(AND($J9<>0,ISNA(MATCH($J9,_Exemptions,0))),1,0) -> 0 | AD9: =IFERROR(ROW(OFFSET(DataBase!$AC9,AD8,,150))+MATCH(1,OFFSET(DataBase!$AC9,AD8,,150),0)-1-ROW(),1000) -> 1000 | AF9: LIABILITIES
B10: =IF(ROW()+4<=ROW(TotalAssets1),INDEX(Input,ROW()+1,3),0) -> 0 | C10: =IF(ROW()+4<=ROW(TotalAssets1),INDEX(Input,ROW()+1,4),0) -> 0 | D10: =IF(ROW()+4<=ROW(TotalAssets1),INDEX(Input,ROW()+1,5),0) -> 0 | F10: =IF(ROW()+4<=ROW(TotalLiabilities1),INDEX(Input,ROW()+1,9),0) -> Non-Current Liabilities | G10: =IF(ROW()+4<=ROW(TotalLiabilities1),INDEX(Input,ROW()+1,10),0) -> 0 | H10: =IF(ROW()+4<=ROW(TotalLiabilities1),INDEX(Input,ROW()+1,11),0) -> 0 | J10: =IFERROR(IF(ROW()+4>ROW(TotalLiabilities1),INDEX(Input,ROW()+1,9),0),0) -> 0 | K10: =IFERROR(IF(ROW()+4>ROW(TotalLiabilities1),INDEX(Input,ROW()+1,10),0),0) -> 0 | L10: =IFERROR(IF(ROW()+4>ROW(TotalLiabilities1),INDEX(Input,ROW()+1,11),0),0) -> 0 | N10: =OFFSET(B10,DataBase!$R10,0) -> 0 | O10: =OFFSET(C10,DataBase!$R10,0) -> 0 | P10: =OFFSET(D10,DataBase!$R10,0) -> 0 | Q10: =IF(AND($B10<>0,ISNA(MATCH($B10,_Exemptions,0))),1,0) -> 0 | R10: =IFERROR(ROW(OFFSET(DataBase!$Q10,R9,,150))+MATCH(1,OFFSET(DataBase!$Q10,R9,,150),0)-1-ROW(),1000) -> 1000 | T10: =OFFSET(F10,DataBase!$X10,0) -> 0 | U10: =OFFSET(G10,DataBase!$X10,0) -> 0 | V10: =OFFSET(H10,DataBase!$X10,0) -> 0 | W10: =IF(AND($F10<>0,ISNA(MATCH($F10,_Exemptions,0))),1,0) -> 0 | X10: =IFERROR(ROW(OFFSET(DataBase!$W10,X9,,150))+MATCH(1,OFFSET(DataBase!$W10,X9,,150),0)-1-ROW(),1000) -> 1000 | Z10: =OFFSET(J10,DataBase!$AD10,0) -> 0 | AA10: =OFFSET(K10,DataBase!$AD10,0) -> 0 | AB10: =OFFSET(L10,DataBase!$AD10,0) -> 0 | AC10: =IF(AND($J10<>0,ISNA(MATCH($J10,_Exemptions,0))),1,0) -> 0 | AD10: =IFERROR(ROW(OFFSET(DataBase!$AC10,AD9,,150))+MATCH(1,OFFSET(DataBase!$AC10,AD9,,150),0)-1-ROW(),1000) -> 1000 | AF10: Current Liabilities | AI10: Actual Scale | AJ10: Scale Limits | AK10: Round
B11: =IF(ROW()+4<=ROW(TotalAssets1),INDEX(Input,ROW()+1,3),0) -> 0 | C11: =IF(ROW()+4<=ROW(TotalAssets1),INDEX(Input,ROW()+1,4),0) -> 0 | D11: =IF(ROW()+4<=ROW(TotalAssets1),INDEX(Input,ROW()+1,5),0) -> 0 | F11: =IF(ROW()+4<=ROW(TotalLiabilities1),INDEX(Input,ROW()+1,9),0) -> Long-Term Debt | G11: =IF(ROW()+4<=ROW(TotalLiabilities1),INDEX(Input,ROW()+1,10),0) -> 1100 | H11: =IF(ROW()+4<=ROW(TotalLiabilities1),INDEX(Input,ROW()+1,11),0) -> 1650 | J11: =IFERROR(IF(ROW()+4>ROW(TotalLiabilities1),INDEX(Input,ROW()+1,9),0),0) -> 0 | K11: =IFERROR(IF(ROW()+4>ROW(TotalLiabilities1),INDEX(Input,ROW()+1,10),0),0) -> 0 | L11: =IFERROR(IF(ROW()+4>ROW(TotalLiabilities1),INDEX(Input,ROW()+1,11),0),0) -> 0 | N11: =OFFSET(B11,DataBase!$R11,0) -> 0 | O11: =OFFSET(C11,DataBase!$R11,0) -> 0 | P11: =OFFSET(D11,DataBase!$R11,0) -> 0 | Q11: =IF(AND($B11<>0,ISNA(MATCH($B11,_Exemptions,0))),1,0) -> 0 | R11: =IFERROR(ROW(OFFSET(DataBase!$Q11,R10,,150))+MATCH(1,OFFSET(DataBase!$Q11,R10,,150),0)-1-ROW(),1000) -> 1000 | T11: =OFFSET(F11,DataBase!$X11,0) -> 0 | U11: =OFFSET(G11,DataBase!$X11,0) -> 0 | V11: =OFFSET(H11,DataBase!$X11,0) -> 0 | W11: =IF(AND($F11<>0,ISNA(MATCH($F11,_Exemptions,0))),1,0) -> 1 | X11: =IFERROR(ROW(OFFSET(DataBase!$W11,X10,,150))+MATCH(1,OFFSET(DataBase!$W11,X10,,150),0)-1-ROW(),1000) -> 1000 | Z11: =OFFSET(J11,DataBase!$AD11,0) -> 0 | AA11: =OFFSET(K11,DataBase!$AD11,0) -> 0 | AB11: =OFFSET(L11,DataBase!$AD11,0) -> 0 | AC11: =IF(AND($J11<>0,ISNA(MATCH($J11,_Exemptions,0))),1,0) -> 0 | AD11: =IFERROR(ROW(OFFSET(DataBase!$AC11,AD10,,150))+MATCH(1,OFFSET(DataBase!$AC11,AD10,,150),0)-1-ROW(),1000) -> 1000 | AF11: Total Current Liabilities | AH11: Min | AI11: =MIN($AI$3:$AI$7) -> 5700 | AJ11: =0 -> 0
B12: =IF(ROW()+4<=ROW(TotalAssets1),INDEX(Input,ROW()+1,3),0) -> 0 | C12: =IF(ROW()+4<=ROW(TotalAssets1),INDEX(Input,ROW()+1,4),0) -> 0 | D12: =IF(ROW()+4<=ROW(TotalAssets1),INDEX(Input,ROW()+1,5),0) -> 0 | F12: =IF(ROW()+4<=ROW(TotalLiabilities1),INDEX(Input,ROW()+1,9),0) -> 0 | G12: =IF(ROW()+4<=ROW(TotalLiabilities1),INDEX(Input,ROW()+1,10),0) -> 0 | H12: =IF(ROW()+4<=ROW(TotalLiabilities1),INDEX(Input,ROW()+1,11),0) -> 0 | J12: =IFERROR(IF(ROW()+4>ROW(TotalLiabilities1),INDEX(Input,ROW()+1,9),0),0) -> 0 | K12: =IFERROR(IF(ROW()+4>ROW(TotalLiabilities1),INDEX(Input,ROW()+1,10),0),0) -> 0 | L12: =IFERROR(IF(ROW()+4>ROW(TotalLiabilities1),INDEX(Input,ROW()+1,11),0),0) -> 0 | N12: =OFFSET(B12,DataBase!$R12,0) -> 0 | O12: =OFFSET(C12,DataBase!$R12,0) -> 0 | P12: =OFFSET(D12,DataBase!$R12,0) -> 0 | Q12: =IF(AND($B12<>0,ISNA(MATCH($B12,_Exemptions,0))),1,0) -> 0 | R12: =IFERROR(ROW(OFFSET(DataBase!$Q12,R11,,150))+MATCH(1,OFFSET(DataBase!$Q12,R11,,150),0)-1-ROW(),1000) -> 1000 | T12: =OFFSET(F12,DataBase!$X12,0) -> 0 | U12: =OFFSET(G12,DataBase!$X12,0) -> 0 | V12: =OFFSET(H12,DataBase!$X12,0) -> 0 | W12: =IF(AND($F12<>0,ISNA(MATCH($F12,_Exemptions,0))),1,0) -> 0 | X12: =IFERROR(ROW(OFFSET(DataBase!$W12,X11,,150))+MATCH(1,OFFSET(DataBase!$W12,X11,,150),0)-1-ROW(),1000) -> 1000 | Z12: =OFFSET(J12,DataBase!$AD12,0) -> 0 | AA12: =OFFSET(K12,DataBase!$AD12,0) -> 0 | AB12: =OFFSET(L12,DataBase!$AD12,0) -> 0 | AC12: =IF(AND($J12<>0,ISNA(MATCH($J12,_Exemptions,0))),1,0) -> 0 | AD12: =IFERROR(ROW(OFFSET(DataBase!$AC12,AD11,,150))+MATCH(1,OFFSET(DataBase!$AC12,AD11,,150),0)-1-ROW(),1000) -> 1000 | AF12: Non-Current Liabilities | AH12: Max | AI12: =MAX($AI$3:$AI$7) -> 7250 | AJ12: =CEILING(AI12,AK12) -> 8000 | AK12: =10^(ROUND(LOG10(AI12),0)-1) -> 1000
B13: =IF(ROW()+4<=ROW(TotalAssets1),INDEX(Input,ROW()+1,3),0) -> 0 | C13: =IF(ROW()+4<=ROW(TotalAssets1),INDEX(Input,ROW()+1,4),0) -> 0 | D13: =IF(ROW()+4<=ROW(TotalAssets1),INDEX(Input,ROW()+1,5),0) -> 0 | F13: =IF(ROW()+4<=ROW(TotalLiabilities1),INDEX(Input,ROW()+1,9),0) -> 0 | G13: =IF(ROW()+4<=ROW(TotalLiabilities1),INDEX(Input,ROW()+1,10),0) -> 0 | H13: =IF(ROW()+4<=ROW(TotalLiabilities1),INDEX(Input,ROW()+1,11),0) -> 0 | J13: =IFERROR(IF(ROW()+4>ROW(TotalLiabilities1),INDEX(Input,ROW()+1,9),0),0) -> 0 | K13: =IFERROR(IF(ROW()+4>ROW(TotalLiabilities1),INDEX(Input,ROW()+1,10),0),0) -> 0 | L13: =IFERROR(IF(ROW()+4>ROW(TotalLiabilities1),INDEX(Input,ROW()+1,11),0),0) -> 0 | N13: =OFFSET(B13,DataBase!$R13,0) -> 0 | O13: =OFFSET(C13,DataBase!$R13,0) -> 0 | P13: =OFFSET(D13,DataBase!$R13,0) -> 0 | Q13: =IF(AND($B13<>0,ISNA(MATCH($B13,_Exemptions,0))),1,0) -> 0 | R13: =IFERROR(ROW(OFFSET(DataBase!$Q13,R12,,150))+MATCH(1,OFFSET(DataBase!$Q13,R12,,150),0)-1-ROW(),1000) -> 1000 | T13: =OFFSET(F13,DataBase!$X13,0) -> 0 | U13: =OFFSET(G13,DataBase!$X13,0) -> 0 | V13: =OFFSET(H13,DataBase!$X13,0) -> 0 | W13: =IF(AND($F13<>0,ISNA(MATCH($F13,_Exemptions,0))),1,0) -> 0 | X13: =IFERROR(ROW(OFFSET(DataBase!$W13,X12,,150))+MATCH(1,OFFSET(DataBase!$W13,X12,,150),0)-1-ROW(),1000) -> 1000 | Z13: =OFFSET(J13,DataBase!$AD13,0) -> 0 | AA13: =OFFSET(K13,DataBase!$AD13,0) -> 0 | AB13: =OFFSET(L13,DataBase!$AD13,0) -> 0 | AC13: =IF(AND($J13<>0,ISNA(MATCH($J13,_Exemptions,0))),1,0) -> 0 | AD13: =IFERROR(ROW(OFFSET(DataBase!$AC13,AD12,,150))+MATCH(1,OFFSET(DataBase!$AC13,AD12,,150),0)-1-ROW(),1000) -> 1000 | AF13: Total Non-Current Liabilities
B14: =IF(ROW()+4<=ROW(TotalAssets1),INDEX(Input,ROW()+1,3),0) -> 0 | C14: =IF(ROW()+4<=ROW(TotalAssets1),INDEX(Input,ROW()+1,4),0) -> 0 | D14: =IF(ROW()+4<=ROW(TotalAssets1),INDEX(Input,ROW()+1,5),0) -> 0 | F14: =IF(ROW()+4<=ROW(TotalLiabilities1),INDEX(Input,ROW()+1,9),0) -> Total Non-Current Liabilities | G14: =IF(ROW()+4<=ROW(TotalLiabilities1),INDEX(Input,ROW()+1,10),0) -> 1100 | H14: =IF(ROW()+4<=ROW(TotalLiabilities1),INDEX(Input,ROW()+1,11),0) -> 1650 | J14: =IFERROR(IF(ROW()+4>ROW(TotalLiabilities1),INDEX(Input,ROW()+1,9),0),0) -> 0 | K14: =IFERROR(IF(ROW()+4>ROW(TotalLiabilities1),INDEX(Input,ROW()+1,10),0),0) -> 0 | L14: =IFERROR(IF(ROW()+4>ROW(TotalLiabilities1),INDEX(Input,ROW()+1,11),0),0) -> 0 | N14: =OFFSET(B14,DataBase!$R14,0) -> 0 | O14: =OFFSET(C14,DataBase!$R14,0) -> 0 | P14: =OFFSET(D14,DataBase!$R14,0) -> 0 | Q14: =IF(AND($B14<>0,ISNA(MATCH($B14,_Exemptions,0))),1,0) -> 0 | R14: =IFERROR(ROW(OFFSET(DataBase!$Q14,R13,,150))+MATCH(1,OFFSET(DataBase!$Q14,R13,,150),0)-1-ROW(),1000) -> 1000 | T14: =OFFSET(F14,DataBase!$X14,0) -> 0 | U14: =OFFSET(G14,DataBase!$X14,0) -> 0 | V14: =OFFSET(H14,DataBase!$X14,0) -> 0 | W14: =IF(AND($F14<>0,ISNA(MATCH($F14,_Exemptions,0))),1,0) -> 0 | X14: =IFERROR(ROW(OFFSET(DataBase!$W14,X13,,150))+MATCH(1,OFFSET(DataBase!$W14,X13,,150),0)-1-ROW(),1000) -> 1000 | Z14: =OFFSET(J14,DataBase!$AD14,0) -> 0 | AA14: =OFFSET(K14,DataBase!$AD14,0) -> 0 | AB14: =OFFSET(L14,DataBase!$AD14,0) -> 0 | AC14: =IF(AND($J14<>0,ISNA(MATCH($J14,_Exemptions,0))),1,0) -> 0 | AD14: =IFERROR(ROW(OFFSET(DataBase!$AC14,AD13,,150))+MATCH(1,OFFSET(DataBase!$AC14,AD13,,150),0)-1-ROW(),1000) -> 1000 | AF14: Total Liabilities
B15: =IF(ROW()+4<=ROW(TotalAssets1),INDEX(Input,ROW()+1,3),0) -> Total Current Assets | C15: =IF(ROW()+4<=ROW(TotalAssets1),INDEX(Input,ROW()+1,4),0) -> 2800 | D15: =IF(ROW()+4<=ROW(TotalAssets1),INDEX(Input,ROW()+1,5),0) -> 3650 | F15: =IF(ROW()+4<=ROW(TotalLiabilities1),INDEX(Input,ROW()+1,9),0) -> Total Liabilities | G15: =IF(ROW()+4<=ROW(TotalLiabilities1),INDEX(Input,ROW()+1,10),0) -> 3100 | H15: =IF(ROW()+4<=ROW(TotalLiabilities1),INDEX(Input,ROW()+1,11),0) -> 3600 | J15: =IFERROR(IF(ROW()+4>ROW(TotalLiabilities1),INDEX(Input,ROW()+1,9),0),0) -> 0 | K15: =IFERROR(IF(ROW()+4>ROW(TotalLiabilities1),INDEX(Input,ROW()+1,10),0),0) -> 0 | L15: =IFERROR(IF(ROW()+4>ROW(TotalLiabilities1),INDEX(Input,ROW()+1,11),0),0) -> 0 | N15: =OFFSET(B15,DataBase!$R15,0) -> 0 | O15: =OFFSET(C15,DataBase!$R15,0) -> 0 | P15: =OFFSET(D15,DataBase!$R15,0) -> 0 | Q15: =IF(AND($B15<>0,ISNA(MATCH($B15,_Exemptions,0))),1,0) -> 0 | R15: =IFERROR(ROW(OFFSET(DataBase!$Q15,R14,,150))+MATCH(1,OFFSET(DataBase!$Q15,R14,,150),0)-1-ROW(),1000) -> 1000 | T15: =OFFSET(F15,DataBase!$X15,0) -> 0 | U15: =OFFSET(G15,DataBase!$X15,0) -> 0 | V15: =OFFSET(H15,DataBase!$X15,0) -> 0 | W15: =IF(AND($F15<>0,ISNA(MATCH($F15,_Exemptions,0))),1,0) -> 0 | X15: =IFERROR(ROW(OFFSET(DataBase!$W15,X14,,150))+MATCH(1,OFFSET(DataBase!$W15,X14,,150),0)-1-ROW(),1000) -> 1000 | Z15: =OFFSET(J15,DataBase!$AD15,0) -> 0 | AA15: =OFFSET(K15,DataBase!$AD15,0) -> 0 | AB15: =OFFSET(L15,DataBase!$AD15,0) -> 0 | AC15: =IF(AND($J15<>0,ISNA(MATCH($J15,_Exemptions,0))),1,0) -> 0 | AD15: =IFERROR(ROW(OFFSET(DataBase!$AC15,AD14,,150))+MATCH(1,OFFSET(DataBase!$AC15,AD14,,150),0)-1-ROW(),1000) -> 1000 | AF15: EQUITY
B16: =IF(ROW()+4<=ROW(TotalAssets1),INDEX(Input,ROW()+1,3),0) -> Non-Current Assets | C16: =IF(ROW()+4<=ROW(TotalAssets1),INDEX(Input,ROW()+1,4),0) -> 0 | D16: =IF(ROW()+4<=ROW(TotalAssets1),INDEX(Input,ROW()+1,5),0) -> 0 | F16: =IF(ROW()+4<=ROW(TotalLiabilities1),INDEX(Input,ROW()+1,9),0) -> EQUITY | G16: =IF(ROW()+4<=ROW(TotalLiabilities1),INDEX(Input,ROW()+1,10),0) -> 0 | H16: =IF(ROW()+4<=ROW(TotalLiabilities1),INDEX(Input,ROW()+1,11),0) -> 0 | J16: =IFERROR(IF(ROW()+4>ROW(TotalLiabilities1),INDEX(Input,ROW()+1,9),0),0) -> 0 | K16: =IFERROR(IF(ROW()+4>ROW(TotalLiabilities1),INDEX(Input,ROW()+1,10),0),0) -> 0 | L16: =IFERROR(IF(ROW()+4>ROW(TotalLiabilities1),INDEX(Input,ROW()+1,11),0),0) -> 0 | N16: =OFFSET(B16,DataBase!$R16,0) -> 0 | O16: =OFFSET(C16,DataBase!$R16,0) -> 0 | P16: =OFFSET(D16,DataBase!$R16,0) -> 0 | Q16: =IF(AND($B16<>0,ISNA(MATCH($B16,_Exemptions,0))),1,0) -> 0 | R16: =IFERROR(ROW(OFFSET(DataBase!$Q16,R15,,150))+MATCH(1,OFFSET(DataBase!$Q16,R15,,150),0)-1-ROW(),1000) -> 1000 | T16: =OFFSET(F16,DataBase!$X16,0) -> 0 | U16: =OFFSET(G16,DataBase!$X16,0) -> 0 | V16: =OFFSET(H16,DataBase!$X16,0) -> 0 | W16: =IF(AND($F16<>0,ISNA(MATCH($F16,_Exemptions,0))),1,0) -> 0 | X16: =IFERROR(ROW(OFFSET(DataBase!$W16,X15,,150))+MATCH(1,OFFSET(DataBase!$W16,X15,,150),0)-1-ROW(),1000) -> 1000 | Z16: =OFFSET(J16,DataBase!$AD16,0) -> 0 | AA16: =OFFSET(K16,DataBase!$AD16,0) -> 0 | AB16: =OFFSET(L16,DataBase!$AD16,0) -> 0 | AC16: =IF(AND($J16<>0,ISNA(MATCH($J16,_Exemptions,0))),1,0) -> 0 | AD16: =IFERROR(ROW(OFFSET(DataBase!$AC16,AD15,,150))+MATCH(1,OFFSET(DataBase!$AC16,AD15,,150),0)-1-ROW(),1000) -> 1000 | AF16: Total Equity
B17: =IF(ROW()+4<=ROW(TotalAssets1),INDEX(Input,ROW()+1,3),0) -> Property, Plant & Equipment | C17: =IF(ROW()+4<=ROW(TotalAssets1),INDEX(Input,ROW()+1,4),0) -> 2500 | D17: =IF(ROW()+4<=ROW(TotalAssets1),INDEX(Input,ROW()+1,5),0) -> 3000 | F17: =IF(ROW()+4<=ROW(TotalLiabilities1),INDEX(Input,ROW()+1,9),0) -> 0 | G17: =IF(ROW()+4<=ROW(TotalLiabilities1),INDEX(Input,ROW()+1,10),0) -> 0 | H17: =IF(ROW()+4<=ROW(TotalLiabilities1),INDEX(Input,ROW()+1,11),0) -> 0 | J17: =IFERROR(IF(ROW()+4>ROW(TotalLiabilities1),INDEX(Input,ROW()+1,9),0),0) -> Common Shares | K17: =IFERROR(IF(ROW()+4>ROW(TotalLiabilities1),INDEX(Input,ROW()+1,10),0),0) -> 700 | L17: =IFERROR(IF(ROW()+4>ROW(TotalLiabilities1),INDEX(Input,ROW()+1,11),0),0) -> 950 | N17: =OFFSET(B17,DataBase!$R17,0) -> 0 | O17: =OFFSET(C17,DataBase!$R17,0) -> 0 | P17: =OFFSET(D17,DataBase!$R17,0) -> 0 | Q17: =IF(AND($B17<>0,ISNA(MATCH($B17,_Exemptions,0))),1,0) -> 1 | R17: =IFERROR(ROW(OFFSET(DataBase!$Q17,R16,,150))+MATCH(1,OFFSET(DataBase!$Q17,R16,,150),0)-1-ROW(),1000) -> 1000 | T17: =OFFSET(F17,DataBase!$X17,0) -> 0 | U17: =OFFSET(G17,DataBase!$X17,0) -> 0 | V17: =OFFSET(H17,DataBase!$X17,0) -> 0 | W17: =IF(AND($F17<>0,ISNA(MATCH($F17,_Exemptions,0))),1,0) -> 0 | X17: =IFERROR(ROW(OFFSET(DataBase!$W17,X16,,150))+MATCH(1,OFFSET(DataBase!$W17,X16,,150),0)-1-ROW(),1000) -> 1000 | Z17: =OFFSET(J17,DataBase!$AD17,0) -> 0 | AA17: =OFFSET(K17,DataBase!$AD17,0) -> 0 | AB17: =OFFSET(L17,DataBase!$AD17,0) -> 0 | AC17: =IF(AND($J17<>0,ISNA(MATCH($J17,_Exemptions,0))),1,0) -> 1 | AD17: =IFERROR(ROW(OFFSET(DataBase!$AC17,AD16,,150))+MATCH(1,OFFSET(DataBase!$AC17,AD16,,150),0)-1-ROW(),1000) -> 1000 | AF17: Total Liabilities & Equity
B18: =IF(ROW()+4<=ROW(TotalAssets1),INDEX(Input,ROW()+1,3),0) -> Intangible Assets | C18: =IF(ROW()+4<=ROW(TotalAssets1),INDEX(Input,ROW()+1,4),0) -> 150 | D18: =IF(ROW()+4<=ROW(TotalAssets1),INDEX(Input,ROW()+1,5),0) -> 250 | F18: =IF(ROW()+4<=ROW(TotalLiabilities1),INDEX(Input,ROW()+1,9),0) -> 0 | G18: =IF(ROW()+4<=ROW(TotalLiabilities1),INDEX(Input,ROW()+1,10),0) -> 0 | H18: =IF(ROW()+4<=ROW(TotalLiabilities1),INDEX(Input,ROW()+1,11),0) -> 0 | J18: =IFERROR(IF(ROW()+4>ROW(TotalLiabilities1),INDEX(Input,ROW()+1,9),0),0) -> Retained Earnings | K18: =IFERROR(IF(ROW()+4>ROW(TotalLiabilities1),INDEX(Input,ROW()+1,10),0),0) -> 1700 | L18: =IFERROR(IF(ROW()+4>ROW(TotalLiabilities1),INDEX(Input,ROW()+1,11),0),0) -> 2450 | N18: =OFFSET(B18,DataBase!$R18,0) -> 0 | O18: =OFFSET(C18,DataBase!$R18,0) -> 0 | P18: =OFFSET(D18,DataBase!$R18,0) -> 0 | Q18: =IF(AND($B18<>0,ISNA(MATCH($B18,_Exemptions,0))),1,0) -> 1 | R18: =IFERROR(ROW(OFFSET(DataBase!$Q18,R17,,150))+MATCH(1,OFFSET(DataBase!$Q18,R17,,150),0)-1-ROW(),1000) -> 1000 | T18: =OFFSET(F18,DataBase!$X18,0) -> 0 | U18: =OFFSET(G18,DataBase!$X18,0) -> 0 | V18: =OFFSET(H18,DataBase!$X18,0) -> 0 | W18: =IF(AND($F18<>0,ISNA(MATCH($F18,_Exemptions,0))),1,0) -> 0 | X18: =IFERROR(ROW(OFFSET(DataBase!$W18,X17,,150))+MATCH(1,OFFSET(DataBase!$W18,X17,,150),0)-1-ROW(),1000) -> 1000 | Z18: =OFFSET(J18,DataBase!$AD18,0) -> 0 | AA18: =OFFSET(K18,DataBase!$AD18,0) -> 0 | AB18: =OFFSET(L18,DataBase!$AD18,0) -> 0 | AC18: =IF(AND($J18<>0,ISNA(MATCH($J18,_Exemptions,0))),1,0) -> 1 | AD18: =IFERROR(ROW(OFFSET(DataBase!$AC18,AD17,,150))+MATCH(1,OFFSET(DataBase!$AC18,AD17,,150),0)-1-ROW(),1000) -> 1000
B19: =IF(ROW()+4<=ROW(TotalAssets1),INDEX(Input,ROW()+1,3),0) -> Equity Investments | C19: =IF(ROW()+4<=ROW(TotalAssets1),INDEX(Input,ROW()+1,4),0) -> 250 | D19: =IF(ROW()+4<=ROW(TotalAssets1),INDEX(Input,ROW()+1,5),0) -> 350 | F19: =IF(ROW()+4<=ROW(TotalLiabilities1),INDEX(Input,ROW()+1,9),0) -> 0 | G19: =IF(ROW()+4<=ROW(TotalLiabilities1),INDEX(Input,ROW()+1,10),0) -> 0 | H19: =IF(ROW()+4<=ROW(TotalLiabilities1),INDEX(Input,ROW()+1,11),0) -> 0 | J19: =IFERROR(IF(ROW()+4>ROW(TotalLiabilities1),INDEX(Input,ROW()+1,9),0),0) -> Revaluation Reserve | K19: =IFERROR(IF(ROW()+4>ROW(TotalLiabilities1),INDEX(Input,ROW()+1,10),0),0) -> 200 | L19: =IFERROR(IF(ROW()+4>ROW(TotalLiabilities1),INDEX(Input,ROW()+1,11),0),0) -> 250 | N19: =OFFSET(B19,DataBase!$R19,0) -> 0 | O19: =OFFSET(C19,DataBase!$R19,0) -> 0 | P19: =OFFSET(D19,DataBase!$R19,0) -> 0 | Q19: =IF(AND($B19<>0,ISNA(MATCH($B19,_Exemptions,0))),1,0) -> 1 | R19: =IFERROR(ROW(OFFSET(DataBase!$Q19,R18,,150))+MATCH(1,OFFSET(DataBase!$Q19,R18,,150),0)-1-ROW(),1000) -> 1000 | T19: =OFFSET(F19,DataBase!$X19,0) -> 0 | U19: =OFFSET(G19,DataBase!$X19,0) -> 0 | V19: =OFFSET(H19,DataBase!$X19,0) -> 0 | W19: =IF(AND($F19<>0,ISNA(MATCH($F19,_Exemptions,0))),1,0) -> 0 | X19: =IFERROR(ROW(OFFSET(DataBase!$W19,X18,,150))+MATCH(1,OFFSET(DataBase!$W19,X18,,150),0)-1-ROW(),1000) -> 1000 | Z19: =OFFSET(J19,DataBase!$AD19,0) -> 0 | AA19: =OFFSET(K19,DataBase!$AD19,0) -> 0 | AB19: =OFFSET(L19,DataBase!$AD19,0) -> 0 | AC19: =IF(AND($J19<>0,ISNA(MATCH($J19,_Exemptions,0))),1,0) -> 1 | AD19: =IFERROR(ROW(OFFSET(DataBase!$AC19,AD18,,150))+MATCH(1,OFFSET(DataBase!$AC19,AD18,,150),0)-1-ROW(),1000) -> 1000
B20: =IF(ROW()+4<=ROW(TotalAssets1),INDEX(Input,ROW()+1,3),0) -> 0 | C20: =IF(ROW()+4<=ROW(TotalAssets1),INDEX(Input,ROW()+1,4),0) -> 0 | D20: =IF(ROW()+4<=ROW(TotalAssets1),INDEX(Input,ROW()+1,5),0) -> 0 | F20: =IF(ROW()+4<=ROW(TotalLiabilities1),INDEX(Input,ROW()+1,9),0) -> 0 | G20: =IF(ROW()+4<=ROW(TotalLiabilities1),INDEX(Input,ROW()+1,10),0) -> 0 | H20: =IF(ROW()+4<=ROW(TotalLiabilities1),INDEX(Input,ROW()+1,11),0) -> 0 | J20: =IFERROR(IF(ROW()+4>ROW(TotalLiabilities1),INDEX(Input,ROW()+1,9),0),0) -> 0 | K20: =IFERROR(IF(ROW()+4>ROW(TotalLiabilities1),INDEX(Input,ROW()+1,10),0),0) -> 0 | L20: =IFERROR(IF(ROW()+4>ROW(TotalLiabilities1),INDEX(Input,ROW()+1,11),0),0) -> 0 | N20: =OFFSET(B20,DataBase!$R20,0) -> 0 | O20: =OFFSET(C20,DataBase!$R20,0) -> 0 | P20: =OFFSET(D20,DataBase!$R20,0) -> 0 | Q20: =IF(AND($B20<>0,ISNA(MATCH($B20,_Exemptions,0))),1,0) -> 0 | R20: =IFERROR(ROW(OFFSET(DataBase!$Q20,R19,,150))+MATCH(1,OFFSET(DataBase!$Q20,R19,,150),0)-1-ROW(),1000) -> 1000 | T20: =OFFSET(F20,DataBase!$X20,0) -> 0 | U20: =OFFSET(G20,DataBase!$X20,0) -> 0 | V20: =OFFSET(H20,DataBase!$X20,0) -> 0 | W20: =IF(AND($F20<>0,ISNA(MATCH($F20,_Exemptions,0))),1,0) -> 0 | X20: =IFERROR(ROW(OFFSET(DataBase!$W20,X19,,150))+MATCH(1,OFFSET(DataBase!$W20,X19,,150),0)-1-ROW(),1000) -> 1000 | Z20: =OFFSET(J20,DataBase!$AD20,0) -> 0 | AA20: =OFFSET(K20,DataBase!$AD20,0) -> 0 | AB20: =OFFSET(L20,DataBase!$AD20,0) -> 0 | AC20: =IF(AND($J20<>0,ISNA(MATCH($J20,_Exemptions,0))),1,0) -> 0 | AD20: =IFERROR(ROW(OFFSET(DataBase!$AC20,AD19,,150))+MATCH(1,OFFSET(DataBase!$AC20,AD19,,150),0)-1-ROW(),1000) -> 1000
B21: =IF(ROW()+4<=ROW(TotalAssets1),INDEX(Input,ROW()+1,3),0) -> 0 | C21: =IF(ROW()+4<=ROW(TotalAssets1),INDEX(Input,ROW()+1,4),0) -> 0 | D21: =IF(ROW()+4<=ROW(TotalAssets1),INDEX(Input,ROW()+1,5),0) -> 0 | F21: =IF(ROW()+4<=ROW(TotalLiabilities1),INDEX(Input,ROW()+1,9),0) -> 0 | G21: =IF(ROW()+4<=ROW(TotalLiabilities1),INDEX(Input,ROW()+1,10),0) -> 0 | H21: =IF(ROW()+4<=ROW(TotalLiabilities1),INDEX(Input,ROW()+1,11),0) -> 0 | J21: =IFERROR(IF(ROW()+4>ROW(TotalLiabilities1),INDEX(Input,ROW()+1,9),0),0) -> 0 | K21: =IFERROR(IF(ROW()+4>ROW(TotalLiabilities1),INDEX(Input,ROW()+1,10),0),0) -> 0 | L21: =IFERROR(IF(ROW()+4>ROW(TotalLiabilities1),INDEX(Input,ROW()+1,11),0),0) -> 0 | N21: =OFFSET(B21,DataBase!$R21,0) -> 0 | O21: =OFFSET(C21,DataBase!$R21,0) -> 0 | P21: =OFFSET(D21,DataBase!$R21,0) -> 0 | Q21: =IF(AND($B21<>0,ISNA(MATCH($B21,_Exemptions,0))),1,0) -> 0 | R21: =IFERROR(ROW(OFFSET(DataBase!$Q21,R20,,150))+MATCH(1,OFFSET(DataBase!$Q21,R20,,150),0)-1-ROW(),1000) -> 1000 | T21: =OFFSET(F21,DataBase!$X21,0) -> 0 | U21: =OFFSET(G21,DataBase!$X21,0) -> 0 | V21: =OFFSET(H21,DataBase!$X21,0) -> 0 | W21: =IF(AND($F21<>0,ISNA(MATCH($F21,_Exemptions,0))),1,0) -> 0 | X21: =IFERROR(ROW(OFFSET(DataBase!$W21,X20,,150))+MATCH(1,OFFSET(DataBase!$W21,X20,,150),0)-1-ROW(),1000) -> 1000 | Z21: =OFFSET(J21,DataBase!$AD21,0) -> 0 | AA21: =OFFSET(K21,DataBase!$AD21,0) -> 0 | AB21: =OFFSET(L21,DataBase!$AD21,0) -> 0 | AC21: =IF(AND($J21<>0,ISNA(MATCH($J21,_Exemptions,0))),1,0) -> 0 | AD21: =IFERROR(ROW(OFFSET(DataBase!$AC21,AD20,,150))+MATCH(1,OFFSET(DataBase!$AC21,AD20,,150),0)-1-ROW(),1000) -> 1000
B22: =IF(ROW()+4<=ROW(TotalAssets1),INDEX(Input,ROW()+1,3),0) -> Total Non-Current Assets | C22: =IF(ROW()+4<=ROW(TotalAssets1),INDEX(Input,ROW()+1,4),0) -> 2900 | D22: =IF(ROW()+4<=ROW(TotalAssets1),INDEX(Input,ROW()+1,5),0) -> 3600 | F22: =IF(ROW()+4<=ROW(TotalLiabilities1),INDEX(Input,ROW()+1,9),0) -> 0 | G22: =IF(ROW()+4<=ROW(TotalLiabilities1),INDEX(Input,ROW()+1,10),0) -> 0 | H22: =IF(ROW()+4<=ROW(TotalLiabilities1),INDEX(Input,ROW()+1,11),0) -> 0 | J22: =IFERROR(IF(ROW()+4>ROW(TotalLiabilities1),INDEX(Input,ROW()+1,9),0),0) -> Total Equity | K22: =IFERROR(IF(ROW()+4>ROW(TotalLiabilities1),INDEX(Input,ROW()+1,10),0),0) -> 2600 | L22: =IFERROR(IF(ROW()+4>ROW(TotalLiabilities1),INDEX(Input,ROW()+1,11),0),0) -> 3650 | N22: =OFFSET(B22,DataBase!$R22,0) -> 0 | O22: =OFFSET(C22,DataBase!$R22,0) -> 0 | P22: =OFFSET(D22,DataBase!$R22,0) -> 0 | Q22: =IF(AND($B22<>0,ISNA(MATCH($B22,_Exemptions,0))),1,0) -> 0 | R22: =IFERROR(ROW(OFFSET(DataBase!$Q22,R21,,150))+MATCH(1,OFFSET(DataBase!$Q22,R21,,150),0)-1-ROW(),1000) -> 1000 | T22: =OFFSET(F22,DataBase!$X22,0) -> 0 | U22: =OFFSET(G22,DataBase!$X22,0) -> 0 | V22: =OFFSET(H22,DataBase!$X22,0) -> 0 | W22: =IF(AND($F22<>0,ISNA(MATCH($F22,_Exemptions,0))),1,0) -> 0 | X22: =IFERROR(ROW(OFFSET(DataBase!$W22,X21,,150))+MATCH(1,OFFSET(DataBase!$W22,X21,,150),0)-1-ROW(),1000) -> 1000 | Z22: =OFFSET(J22,DataBase!$AD22,0) -> 0 | AA22: =OFFSET(K22,DataBase!$AD22,0) -> 0 | AB22: =OFFSET(L22,DataBase!$AD22,0) -> 0 | AC22: =IF(AND($J22<>0,ISNA(MATCH($J22,_Exemptions,0))),1,0) -> 0 | AD22: =IFERROR(ROW(OFFSET(DataBase!$AC22,AD21,,150))+MATCH(1,OFFSET(DataBase!$AC22,AD21,,150),0)-1-ROW(),1000) -> 1000
B23: =IF(ROW()+4<=ROW(TotalAssets1),INDEX(Input,ROW()+1,3),0) -> Total Assets | C23: =IF(ROW()+4<=ROW(TotalAssets1),INDEX(Input,ROW()+1,4),0) -> 5700 | D23: =IF(ROW()+4<=ROW(TotalAssets1),INDEX(Input,ROW()+1,5),0) -> 7250 | F23: =IF(ROW()+4<=ROW(TotalLiabilities1),INDEX(Input,ROW()+1,9),0) -> 0 | G23: =IF(ROW()+4<=ROW(TotalLiabilities1),INDEX(Input,ROW()+1,10),0) -> 0 | H23: =IF(ROW()+4<=ROW(TotalLiabilities1),INDEX(Input,ROW()+1,11),0) -> 0 | J23: =IFERROR(IF(ROW()+4>ROW(TotalLiabilities1),INDEX(Input,ROW()+1,9),0),0) -> 0 | K23: =IFERROR(IF(ROW()+4>ROW(TotalLiabilities1),INDEX(Input,ROW()+1,10),0),0) -> 0 | L23: =IFERROR(IF(ROW()+4>ROW(TotalLiabilities1),INDEX(Input,ROW()+1,11),0),0) -> 0 | N23: =OFFSET(B23,DataBase!$R23,0) -> 0 | O23: =OFFSET(C23,DataBase!$R23,0) -> 0 | P23: =OFFSET(D23,DataBase!$R23,0) -> 0 | Q23: =IF(AND($B23<>0,ISNA(MATCH($B23,_Exemptions,0))),1,0) -> 0 | R23: =IFERROR(ROW(OFFSET(DataBase!$Q23,R22,,150))+MATCH(1,OFFSET(DataBase!$Q23,R22,,150),0)-1-ROW(),1000) -> 1000 | T23: =OFFSET(F23,DataBase!$X23,0) -> 0 | U23: =OFFSET(G23,DataBase!$X23,0) -> 0 | V23: =OFFSET(H23,DataBase!$X23,0) -> 0 | W23: =IF(AND($F23<>0,ISNA(MATCH($F23,_Exemptions,0))),1,0) -> 0 | X23: =IFERROR(ROW(OFFSET(DataBase!$W23,X22,,150))+MATCH(1,OFFSET(DataBase!$W23,X22,,150),0)-1-ROW(),1000) -> 1000 | Z23: =OFFSET(J23,DataBase!$AD23,0) -> 0 | AA23: =OFFSET(K23,DataBase!$AD23,0) -> 0 | AB23: =OFFSET(L23,DataBase!$AD23,0) -> 0 | AC23: =IF(AND($J23<>0,ISNA(MATCH($J23,_Exemptions,0))),1,0) -> 0 | AD23: =IFERROR(ROW(OFFSET(DataBase!$AC23,AD22,,150))+MATCH(1,OFFSET(DataBase!$AC23,AD22,,150),0)-1-ROW(),1000) -> 1000
B24: =IF(ROW()+4<=ROW(TotalAssets1),INDEX(Input,ROW()+1,3),0) -> 0 | C24: =IF(ROW()+4<=ROW(TotalAssets1),INDEX(Input,ROW()+1,4),0) -> 0 | D24: =IF(ROW()+4<=ROW(TotalAssets1),INDEX(Input,ROW()+1,5),0) -> 0 | F24: =IF(ROW()+4<=ROW(TotalLiabilities1),INDEX(Input,ROW()+1,9),0) -> 0 | G24: =IF(ROW()+4<=ROW(TotalLiabilities1),INDEX(Input,ROW()+1,10),0) -> 0 | H24: =IF(ROW()+4<=ROW(TotalLiabilities1),INDEX(Input,ROW()+1,11),0) -> 0 | J24: =IFERROR(IF(ROW()+4>ROW(TotalLiabilities1),INDEX(Input,ROW()+1,9),0),0) -> 0 | K24: =IFERROR(IF(ROW()+4>ROW(TotalLiabilities1),INDEX(Input,ROW()+1,10),0),0) -> 0 | L24: =IFERROR(IF(ROW()+4>ROW(TotalLiabilities1),INDEX(Input,ROW()+1,11),0),0) -> 0 | N24: =OFFSET(B24,DataBase!$R24,0) -> 0 | O24: =OFFSET(C24,DataBase!$R24,0) -> 0 | P24: =OFFSET(D24,DataBase!$R24,0) -> 0 | Q24: =IF(AND($B24<>0,ISNA(MATCH($B24,_Exemptions,0))),1,0) -> 0 | R24: =IFERROR(ROW(OFFSET(DataBase!$Q24,R23,,150))+MATCH(1,OFFSET(DataBase!$Q24,R23,,150),0)-1-ROW(),1000) -> 1000 | T24: =OFFSET(F24,DataBase!$X24,0) -> 0 | U24: =OFFSET(G24,DataBase!$X24,0) -> 0 | V24: =OFFSET(H24,DataBase!$X24,0) -> 0 | W24: =IF(AND($F24<>0,ISNA(MATCH($F24,_Exemptions,0))),1,0) -> 0 | X24: =IFERROR(ROW(OFFSET(DataBase!$W24,X23,,150))+MATCH(1,OFFSET(DataBase!$W24,X23,,150),0)-1-ROW(),1000) -> 1000 | Z24: =OFFSET(J24,DataBase!$AD24,0) -> 0 | AA24: =OFFSET(K24,DataBase!$AD24,0) -> 0 | AB24: =OFFSET(L24,DataBase!$AD24,0) -> 0 | AC24: =IF(AND($J24<>0,ISNA(MATCH($J24,_Exemptions,0))),1,0) -> 0 | AD24: =IFERROR(ROW(OFFSET(DataBase!$AC24,AD23,,150))+MATCH(1,OFFSET(DataBase!$AC24,AD23,,150),0)-1-ROW(),1000) -> 1000
B25: =IF(ROW()+4<=ROW(TotalAssets1),INDEX(Input,ROW()+1,3),0) -> 0 | C25: =IF(ROW()+4<=ROW(TotalAssets1),INDEX(Input,ROW()+1,4),0) -> 0 | D25: =IF(ROW()+4<=ROW(TotalAssets1),INDEX(Input,ROW()+1,5),0) -> 0 | F25: =IF(ROW()+4<=ROW(TotalLiabilities1),INDEX(Input,ROW()+1,9),0) -> 0 | G25: =IF(ROW()+4<=ROW(TotalLiabilities1),INDEX(Input,ROW()+1,10),0) -> 0 | H25: =IF(ROW()+4<=ROW(TotalLiabilities1),INDEX(Input,ROW()+1,11),0) -> 0 | J25: =IFERROR(IF(ROW()+4>ROW(TotalLiabilities1),INDEX(Input,ROW()+1,9),0),0) -> Total Liabilities & Equity | K25: =IFERROR(IF(ROW()+4>ROW(TotalLiabilities1),INDEX(Input,ROW()+1,10),0),0) -> 5700 | L25: =IFERROR(IF(ROW()+4>ROW(TotalLiabilities1),INDEX(Input,ROW()+1,11),0),0) -> 7250 | N25: =OFFSET(B25,DataBase!$R25,0) -> 0 | O25: =OFFSET(C25,DataBase!$R25,0) -> 0 | P25: =OFFSET(D25,DataBase!$R25,0) -> 0 | Q25: =IF(AND($B25<>0,ISNA(MATCH($B25,_Exemptions,0))),1,0) -> 0 | R25: =IFERROR(ROW(OFFSET(DataBase!$Q25,R24,,150))+MATCH(1,OFFSET(DataBase!$Q25,R24,,150),0)-1-ROW(),1000) -> 1000 | T25: =OFFSET(F25,DataBase!$X25,0) -> 0 | U25: =OFFSET(G25,DataBase!$X25,0) -> 0 | V25: =OFFSET(H25,DataBase!$X25,0) -> 0 | W25: =IF(AND($F25<>0,ISNA(MATCH($F25,_Exemptions,0))),1,0) -> 0 | X25: =IFERROR(ROW(OFFSET(DataBase!$W25,X24,,150))+MATCH(1,OFFSET(DataBase!$W25,X24,,150),0)-1-ROW(),1000) -> 1000 | Z25: =OFFSET(J25,DataBase!$AD25,0) -> 0 | AA25: =OFFSET(K25,DataBase!$AD25,0) -> 0 | AB25: =OFFSET(L25,DataBase!$AD25,0) -> 0 | AC25: =IF(AND($J25<>0,ISNA(MATCH($J25,_Exemptions,0))),1,0) -> 0 | AD25: =IFERROR(ROW(OFFSET(DataBase!$AC25,AD24,,150))+MATCH(1,OFFSET(DataBase!$AC25,AD24,,150),0)-1-ROW(),1000) -> 1000
B26: =IF(ROW()+4<=ROW(TotalAssets1),INDEX(Input,ROW()+1,3),0) -> 0 | C26: =IF(ROW()+4<=ROW(TotalAssets1),INDEX(Input,ROW()+1,4),0) -> 0 | D26: =IF(ROW()+4<=ROW(TotalAssets1),INDEX(Input,ROW()+1,5),0) -> 0 | F26: =IF(ROW()+4<=ROW(TotalLiabilities1),INDEX(Input,ROW()+1,9),0) -> 0 | G26: =IF(ROW()+4<=ROW(TotalLiabilities1),INDEX(Input,ROW()+1,10),0) -> 0 | H26: =IF(ROW()+4<=ROW(TotalLiabilities1),INDEX(Input,ROW()+1,11),0) -> 0 | J26: =IFERROR(IF(ROW()+4>ROW(TotalLiabilities1),INDEX(Input,ROW()+1,9),0),0) -> 0 | K26: =IFERROR(IF(ROW()+4>ROW(TotalLiabilities1),INDEX(Input,ROW()+1,10),0),0) -> 0 | L26: =IFERROR(IF(ROW()+4>ROW(TotalLiabilities1),INDEX(Input,ROW()+1,11),0),0) -> 0 | N26: =OFFSET(B26,DataBase!$R26,0) -> 0 | O26: =OFFSET(C26,DataBase!$R26,0) -> 0 | P26: =OFFSET(D26,DataBase!$R26,0) -> 0 | Q26: =IF(AND($B26<>0,ISNA(MATCH($B26,_Exemptions,0))),1,0) -> 0 | R26: =IFERROR(ROW(OFFSET(DataBase!$Q26,R25,,150))+MATCH(1,OFFSET(DataBase!$Q26,R25,,150),0)-1-ROW(),1000) -> 1000 | T26: =OFFSET(F26,DataBase!$X26,0) -> 0 | U26: =OFFSET(G26,DataBase!$X26,0) -> 0 | V26: =OFFSET(H26,DataBase!$X26,0) -> 0 | W26: =IF(AND($F26<>0,ISNA(MATCH($F26,_Exemptions,0))),1,0) -> 0 | X26: =IFERROR(ROW(OFFSET(DataBase!$W26,X25,,150))+MATCH(1,OFFSET(DataBase!$W26,X25,,150),0)-1-ROW(),1000) -> 1000 | Z26: =OFFSET(J26,DataBase!$AD26,0) -> 0 | AA26: =OFFSET(K26,DataBase!$AD26,0) -> 0 | AB26: =OFFSET(L26,DataBase!$AD26,0) -> 0 | AC26: =IF(AND($J26<>0,ISNA(MATCH($J26,_Exemptions,0))),1,0) -> 0 | AD26: =IFERROR(ROW(OFFSET(DataBase!$AC26,AD25,,150))+MATCH(1,OFFSET(DataBase!$AC26,AD25,,150),0)-1-ROW(),1000) -> 1000
B27: =IF(ROW()+4<=ROW(TotalAssets1),INDEX(Input,ROW()+1,3),0) -> 0 | C27: =IF(ROW()+4<=ROW(TotalAssets1),INDEX(Input,ROW()+1,4),0) -> 0 | D27: =IF(ROW()+4<=ROW(TotalAssets1),INDEX(Input,ROW()+1,5),0) -> 0 | F27: =IF(ROW()+4<=ROW(TotalLiabilities1),INDEX(Input,ROW()+1,9),0) -> 0 | G27: =IF(ROW()+4<=ROW(TotalLiabilities1),INDEX(Input,ROW()+1,10),0) -> 0 | H27: =IF(ROW()+4<=ROW(TotalLiabilities1),INDEX(Input,ROW()+1,11),0) -> 0 | J27: =IFERROR(IF(ROW()+4>ROW(TotalLiabilities1),INDEX(Input,ROW()+1,9),0),0) -> 0 | K27: =IFERROR(IF(ROW()+4>ROW(TotalLiabilities1),INDEX(Input,ROW()+1,10),0),0) -> 0 | L27: =IFERROR(IF(ROW()+4>ROW(TotalLiabilities1),INDEX(Input,ROW()+1,11),0),0) -> 0 | N27: =OFFSET(B27,DataBase!$R27,0) -> 0 | O27: =OFFSET(C27,DataBase!$R27,0) -> 0 | P27: =OFFSET(D27,DataBase!$R27,0) -> 0 | Q27: =IF(AND($B27<>0,ISNA(MATCH($B27,_Exemptions,0))),1,0) -> 0 | R27: =IFERROR(ROW(OFFSET(DataBase!$Q27,R26,,150))+MATCH(1,OFFSET(DataBase!$Q27,R26,,150),0)-1-ROW(),1000) -> 1000 | T27: =OFFSET(F27,DataBase!$X27,0) -> 0 | U27: =OFFSET(G27,DataBase!$X27,0) -> 0 | V27: =OFFSET(H27,DataBase!$X27,0) -> 0 | W27: =IF(AND($F27<>0,ISNA(MATCH($F27,_Exemptions,0))),1,0) -> 0 | X27: =IFERROR(ROW(OFFSET(DataBase!$W27,X26,,150))+MATCH(1,OFFSET(DataBase!$W27,X26,,150),0)-1-ROW(),1000) -> 1000 | Z27: =OFFSET(J27,DataBase!$AD27,0) -> 0 | AA27: =OFFSET(K27,DataBase!$AD27,0) -> 0 | AB27: =OFFSET(L27,DataBase!$AD27,0) -> 0 | AC27: =IF(AND($J27<>0,ISNA(MATCH($J27,_Exemptions,0))),1,0) -> 0 | AD27: =IFERROR(ROW(OFFSET(DataBase!$AC27,AD26,,150))+MATCH(1,OFFSET(DataBase!$AC27,AD26,,150),0)-1-ROW(),1000) -> 1000
B28: =IF(ROW()+4<=ROW(TotalAssets1),INDEX(Input,ROW()+1,3),0) -> 0 | C28: =IF(ROW()+4<=ROW(TotalAssets1),INDEX(Input,ROW()+1,4),0) -> 0 | D28: =IF(ROW()+4<=ROW(TotalAssets1),INDEX(Input,ROW()+1,5),0) -> 0 | F28: =IF(ROW()+4<=ROW(TotalLiabilities1),INDEX(Input,ROW()+1,9),0) -> 0 | G28: =IF(ROW()+4<=ROW(TotalLiabilities1),INDEX(Input,ROW()+1,10),0) -> 0 | H28: =IF(ROW()+4<=ROW(TotalLiabilities1),INDEX(Input,ROW()+1,11),0) -> 0 | J28: =IFERROR(IF(ROW()+4>ROW(TotalLiabilities1),INDEX(Input,ROW()+1,9),0),0) -> 0 | K28: =IFERROR(IF(ROW()+4>ROW(TotalLiabilities1),INDEX(Input,ROW()+1,10),0),0) -> 0 | L28: =IFERROR(IF(ROW()+4>ROW(TotalLiabilities1),INDEX(Input,ROW()+1,11),0),0) -> 0 | N28: =OFFSET(B28,DataBase!$R28,0) -> 0 | O28: =OFFSET(C28,DataBase!$R28,0) -> 0 | P28: =OFFSET(D28,DataBase!$R28,0) -> 0 | Q28: =IF(AND($B28<>0,ISNA(MATCH($B28,_Exemptions,0))),1,0) -> 0 | R28: =IFERROR(ROW(OFFSET(DataBase!$Q28,R27,,150))+MATCH(1,OFFSET(DataBase!$Q28,R27,,150),0)-1-ROW(),1000) -> 1000 | T28: =OFFSET(F28,DataBase!$X28,0) -> 0 | U28: =OFFSET(G28,DataBase!$X28,0) -> 0 | V28: =OFFSET(H28,DataBase!$X28,0) -> 0 | W28: =IF(AND($F28<>0,ISNA(MATCH($F28,_Exemptions,0))),1,0) -> 0 | X28: =IFERROR(ROW(OFFSET(DataBase!$W28,X27,,150))+MATCH(1,OFFSET(DataBase!$W28,X27,,150),0)-1-ROW(),1000) -> 1000 | Z28: =OFFSET(J28,DataBase!$AD28,0) -> 0 | AA28: =OFFSET(K28,DataBase!$AD28,0) -> 0 | AB28: =OFFSET(L28,DataBase!$AD28,0) -> 0 | AC28: =IF(AND($J28<>0,ISNA(MATCH($J28,_Exemptions,0))),1,0) -> 0 | AD28: =IFERROR(ROW(OFFSET(DataBase!$AC28,AD27,,150))+MATCH(1,OFFSET(DataBase!$AC28,AD27,,150),0)-1-ROW(),1000) -> 1000
B29: =IF(ROW()+4<=ROW(TotalAssets1),INDEX(Input,ROW()+1,3),0) -> 0 | C29: =IF(ROW()+4<=ROW(TotalAssets1),INDEX(Input,ROW()+1,4),0) -> 0 | D29: =IF(ROW()+4<=ROW(TotalAssets1),INDEX(Input,ROW()+1,5),0) -> 0 | F29: =IF(ROW()+4<=ROW(TotalLiabilities1),INDEX(Input,ROW()+1,9),0) -> 0 | G29: =IF(ROW()+4<=ROW(TotalLiabilities1),INDEX(Input,ROW()+1,10),0) -> 0 | H29: =IF(ROW()+4<=ROW(TotalLiabilities1),INDEX(Input,ROW()+1,11),0) -> 0 | J29: =IFERROR(IF(ROW()+4>ROW(TotalLiabilities1),INDEX(Input,ROW()+1,9),0),0) -> 0 | K29: =IFERROR(IF(ROW()+4>ROW(TotalLiabilities1),INDEX(Input,ROW()+1,10),0),0) -> 0 | L29: =IFERROR(IF(ROW()+4>ROW(TotalLiabilities1),INDEX(Input,ROW()+1,11),0),0) -> 0 | N29: =OFFSET(B29,DataBase!$R29,0) -> 0 | O29: =OFFSET(C29,DataBase!$R29,0) -> 0 | P29: =OFFSET(D29,DataBase!$R29,0) -> 0 | Q29: =IF(AND($B29<>0,ISNA(MATCH($B29,_Exemptions,0))),1,0) -> 0 | R29: =IFERROR(ROW(OFFSET(DataBase!$Q29,R28,,150))+MATCH(1,OFFSET(DataBase!$Q29,R28,,150),0)-1-ROW(),1000) -> 1000 | T29: =OFFSET(F29,DataBase!$X29,0) -> 0 | U29: =OFFSET(G29,DataBase!$X29,0) -> 0 | V29: =OFFSET(H29,DataBase!$X29,0) -> 0 | W29: =IF(AND($F29<>0,ISNA(MATCH($F29,_Exemptions,0))),1,0) -> 0 | X29: =IFERROR(ROW(OFFSET(DataBase!$W29,X28,,150))+MATCH(1,OFFSET(DataBase!$W29,X28,,150),0)-1-ROW(),1000) -> 1000 | Z29: =OFFSET(J29,DataBase!$AD29,0) -> 0 | AA29: =OFFSET(K29,DataBase!$AD29,0) -> 0 | AB29: =OFFSET(L29,DataBase!$AD29,0) -> 0 | AC29: =IF(AND($J29<>0,ISNA(MATCH($J29,_Exemptions,0))),1,0) -> 0 | AD29: =IFERROR(ROW(OFFSET(DataBase!$AC29,AD28,,150))+MATCH(1,OFFSET(DataBase!$AC29,AD28,,150),0)-1-ROW(),1000) -> 1000
... B152: =IF(ROW()+4<=ROW(TotalAssets1),INDEX(Input,ROW()+1,3),0) -> 0 | C152: =IF(ROW()+4<=ROW(TotalAssets1),INDEX(Input,ROW()+1,4),0) -> 0 | D152: =IF(ROW()+4<=ROW(TotalAssets1),INDEX(Input,ROW()+1,5),0) -> 0 | F152: =IF(ROW()+4<=ROW(TotalLiabilities1),INDEX(Input,ROW()+1,9),0) -> 0 | G152: =IF(ROW()+4<=ROW(TotalLiabilities1),INDEX(Input,ROW()+1,10),0) -> 0 | H152: =IF(ROW()+4<=ROW(TotalLiabilities1),INDEX(Input,ROW()+1,11),0) -> 0 | J152: =IFERROR(IF(ROW()+4>ROW(TotalLiabilities1),INDEX(Input,ROW()+1,9),0),0) -> 0 | K152: =IFERROR(IF(ROW()+4>ROW(TotalLiabilities1),INDEX(Input,ROW()+1,10),0),0) -> 0 | L152: =IFERROR(IF(ROW()+4>ROW(TotalLiabilities1),INDEX(Input,ROW()+1,11),0),0) -> 0 | N152: =OFFSET(B152,DataBase!$R152,0) -> 0 | O152: =OFFSET(C152,DataBase!$R152,0) -> 0 | P152: =OFFSET(D152,DataBase!$R152,0) -> 0 | Q152: =IF(AND($B152<>0,ISNA(MATCH($B152,_Exemptions,0))),1,0) -> 0 | R152: =IFERROR(ROW(OFFSET(DataBase!$Q152,R151,,150))+MATCH(1,OFFSET(DataBase!$Q152,R151,,150),0)-1-ROW(),1000) -> 1000 | T152: =OFFSET(F152,DataBase!$X152,0) -> 0 | U152: =OFFSET(G152,DataBase!$X152,0) -> 0 | V152: =OFFSET(H152,DataBase!$X152,0) -> 0 | W152: =IF(AND($F152<>0,ISNA(MATCH($F152,_Exemptions,0))),1,0) -> 0 | X152: =IFERROR(ROW(OFFSET(DataBase!$W152,X151,,150))+MATCH(1,OFFSET(DataBase!$W152,X151,,150),0)-1-ROW(),1000) -> 1000 | Z152: =OFFSET(J152,DataBase!$AD152,0) -> 0 | AA152: =OFFSET(K152,DataBase!$AD152,0) -> 0 | AB152: =OFFSET(L152,DataBase!$AD152,0) -> 0 | AC152: =IF(AND($J152<>0,ISNA(MATCH($J152,_Exemptions,0))),1,0) -> 0 | AD152: =IFERROR(ROW(OFFSET(DataBase!$AC152,AD151,,150))+MATCH(1,OFFSET(DataBase!$AC152,AD151,,150),0)-1-ROW(),1000) -> 1000

Sheet PrnDB
B2: Item | C2: Beginning | D2: End | G2: Item | H2: Beginning | I2: End | J2: Valid | K2: 0 | L2: Lvl | M2: Tot | N2: Shft | O2: Prn | P2: Printable Name | R2: Item | S2: Level | T2: Totals | U2: Shift
B3: =IF(ROW(A3)+4<=ROW(TotalAssets1),INDEX(Input,ROW(A3)+1,3),0) -> ASSETS | C3: =IF(ROW()+4<=ROW(TotalAssets1),INDEX(Input,ROW()+1,4),0) -> 0 | D3: =IF(ROW()+4<=ROW(TotalAssets1),INDEX(Input,ROW()+1,5),0) -> 0 | G3: =IF(N2=1,0,OFFSET(B3,PrnDB!$K3,0)) -> ASSETS | H3: =OFFSET(C3,PrnDB!$K3,0) -> 0 | I3: =OFFSET(D3,PrnDB!$K3,0) -> 0 | J3: =IF(OR($B3<>0),1,0) -> 1 | K3: =IFERROR(ROW(OFFSET(PrnDB!$J3,K2,,450))+MATCH(1,OFFSET(PrnDB!$J3,K2,,450),0)-1-ROW()-IF(OR(N1=1,N1=2),N1,0),1000) -> 0 | L3: =IF(PrnDB!$G3=0,0,IFERROR(INDEX(PrnDB!$S$3:$S$17,MATCH(PrnDB!$G3,PrnDB!$R$3:$R$17,0),1),3)) -> 1 | M3: =IFERROR(INDEX(PrnDB!$T$3:$T$17,MATCH(PrnDB!$G3,PrnDB!$R$3:$R$17,0),1),0) -> 0 | N3: =IFERROR(INDEX(PrnDB!$U$3:$U$17,MATCH(PrnDB!$G3,PrnDB!$R$3:$R$17,0),1),0) -> 0 | O3: =K2<>1000 -> TRUE | P3: =IF(PrnDB!$L3=0,"",IF(PrnDB!$L3>1," ","")&IF(PrnDB!$L3=3," ","")&PrnDB!$G3) -> ASSETS | R3: ASSETS | S3: 1
B4: =IF(ROW(A4)+4<=ROW(TotalAssets1),INDEX(Input,ROW(A4)+1,3),0) -> Current Assets | C4: =IF(ROW()+4<=ROW(TotalAssets1),INDEX(Input,ROW()+1,4),0) -> 0 | D4: =IF(ROW()+4<=ROW(TotalAssets1),INDEX(Input,ROW()+1,5),0) -> 0 | G4: =IF(N3=1,0,OFFSET(B4,PrnDB!$K4,0)) -> Current Assets | H4: =OFFSET(C4,PrnDB!$K4,0) -> 0 | I4: =OFFSET(D4,PrnDB!$K4,0) -> 0 | J4: =IF(OR($B4<>0),1,0) -> 1 | K4: =IFERROR(ROW(OFFSET(PrnDB!$J4,K3,,450))+MATCH(1,OFFSET(PrnDB!$J4,K3,,450),0)-1-ROW()-IF(OR(N2=1,N2=2),N2,0),1000) -> 0 | L4: =IF(PrnDB!$G4=0,0,IFERROR(INDEX(PrnDB!$S$3:$S$17,MATCH(PrnDB!$G4,PrnDB!$R$3:$R$17,0),1),3)) -> 2 | M4: =IFERROR(INDEX(PrnDB!$T$3:$T$17,MATCH(PrnDB!$G4,PrnDB!$R$3:$R$17,0),1),0) -> 0 | N4: =IFERROR(INDEX(PrnDB!$U$3:$U$17,MATCH(PrnDB!$G4,PrnDB!$R$3:$R$17,0),1),0) -> 0 | O4: =K3<>1000 -> TRUE | P4: =IF(PrnDB!$L4=0,"",IF(PrnDB!$L4>1," ","")&IF(PrnDB!$L4=3," ","")&PrnDB!$G4) -> Current Assets | R4: Current Assets | S4: 2
B5: =IF(ROW(A5)+4<=ROW(TotalAssets1),INDEX(Input,ROW(A5)+1,3),0) -> Cash | C5: =IF(ROW()+4<=ROW(TotalAssets1),INDEX(Input,ROW()+1,4),0) -> 1000 | D5: =IF(ROW()+4<=ROW(TotalAssets1),INDEX(Input,ROW()+1,5),0) -> 2500 | G5: =IF(N4=1,0,OFFSET(B5,PrnDB!$K5,0)) -> Cash | H5: =OFFSET(C5,PrnDB!$K5,0) -> 1000 | I5: =OFFSET(D5,PrnDB!$K5,0) -> 2500 | J5: =IF(OR($B5<>0),1,0) -> 1 | K5: =IFERROR(ROW(OFFSET(PrnDB!$J5,K4,,450))+MATCH(1,OFFSET(PrnDB!$J5,K4,,450),0)-1-ROW()-IF(OR(N3=1,N3=2),N3,0),1000) -> 0 | L5: =IF(PrnDB!$G5=0,0,IFERROR(INDEX(PrnDB!$S$3:$S$17,MATCH(PrnDB!$G5,PrnDB!$R$3:$R$17,0),1),3)) -> 3 | M5: =IFERROR(INDEX(PrnDB!$T$3:$T$17,MATCH(PrnDB!$G5,PrnDB!$R$3:$R$17,0),1),0) -> 0 | N5: =IFERROR(INDEX(PrnDB!$U$3:$U$17,MATCH(PrnDB!$G5,PrnDB!$R$3:$R$17,0),1),0) -> 0 | O5: =K4<>1000 -> TRUE | P5: =IF(PrnDB!$L5=0,"",IF(PrnDB!$L5>1," ","")&IF(PrnDB!$L5=3," ","")&PrnDB!$G5) -> Cash | R5: Total Current Assets | S5: 2 | T5: 2 | U5: 1
B6: =IF(ROW(A6)+4<=ROW(TotalAssets1),INDEX(Input,ROW(A6)+1,3),0) -> Trade Accounts Receivable | C6: =IF(ROW()+4<=ROW(TotalAssets1),INDEX(Input,ROW()+1,4),0) -> 1100 | D6: =IF(ROW()+4<=ROW(TotalAssets1),INDEX(Input,ROW()+1,5),0) -> 550 | G6: =IF(N5=1,0,OFFSET(B6,PrnDB!$K6,0)) -> Trade Accounts Receivable | H6: =OFFSET(C6,PrnDB!$K6,0) -> 1100 | I6: =OFFSET(D6,PrnDB!$K6,0) -> 550 | J6: =IF(OR($B6<>0),1,0) -> 1 | K6: =IFERROR(ROW(OFFSET(PrnDB!$J6,K5,,450))+MATCH(1,OFFSET(PrnDB!$J6,K5,,450),0)-1-ROW()-IF(OR(N4=1,N4=2),N4,0),1000) -> 0 | L6: =IF(PrnDB!$G6=0,0,IFERROR(INDEX(PrnDB!$S$3:$S$17,MATCH(PrnDB!$G6,PrnDB!$R$3:$R$17,0),1),3)) -> 3 | M6: =IFERROR(INDEX(PrnDB!$T$3:$T$17,MATCH(PrnDB!$G6,PrnDB!$R$3:$R$17,0),1),0) -> 0 | N6: =IFERROR(INDEX(PrnDB!$U$3:$U$17,MATCH(PrnDB!$G6,PrnDB!$R$3:$R$17,0),1),0) -> 0 | O6: =K5<>1000 -> TRUE | P6: =IF(PrnDB!$L6=0,"",IF(PrnDB!$L6>1," ","")&IF(PrnDB!$L6=3," ","")&PrnDB!$G6) -> Trade Accounts Receivable | R6: Non-Current Assets | S6: 2
B7: =IF(ROW(A7)+4<=ROW(TotalAssets1),INDEX(Input,ROW(A7)+1,3),0) -> Inventories | C7: =IF(ROW()+4<=ROW(TotalAssets1),INDEX(Input,ROW()+1,4),0) -> 700 | D7: =IF(ROW()+4<=ROW(TotalAssets1),INDEX(Input,ROW()+1,5),0) -> 600 | G7: =IF(N6=1,0,OFFSET(B7,PrnDB!$K7,0)) -> Inventories | H7: =OFFSET(C7,PrnDB!$K7,0) -> 700 | I7: =OFFSET(D7,PrnDB!$K7,0) -> 600 | J7: =IF(OR($B7<>0),1,0) -> 1 | K7: =IFERROR(ROW(OFFSET(PrnDB!$J7,K6,,450))+MATCH(1,OFFSET(PrnDB!$J7,K6,,450),0)-1-ROW()-IF(OR(N5=1,N5=2),N5,0),1000) -> 0 | L7: =IF(PrnDB!$G7=0,0,IFERROR(INDEX(PrnDB!$S$3:$S$17,MATCH(PrnDB!$G7,PrnDB!$R$3:$R$17,0),1),3)) -> 3 | M7: =IFERROR(INDEX(PrnDB!$T$3:$T$17,MATCH(PrnDB!$G7,PrnDB!$R$3:$R$17,0),1),0) -> 0 | N7: =IFERROR(INDEX(PrnDB!$U$3:$U$17,MATCH(PrnDB!$G7,PrnDB!$R$3:$R$17,0),1),0) -> 0 | O7: =K6<>1000 -> TRUE | P7: =IF(PrnDB!$L7=0,"",IF(PrnDB!$L7>1," ","")&IF(PrnDB!$L7=3," ","")&PrnDB!$G7) -> Inventories | R7: Total Non-Current Assets | S7: 2 | T7: 2
B8: =IF(ROW(A8)+4<=ROW(TotalAssets1),INDEX(Input,ROW(A8)+1,3),0) -> 0 | C8: =IF(ROW()+4<=ROW(TotalAssets1),INDEX(Input,ROW()+1,4),0) -> 0 | D8: =IF(ROW()+4<=ROW(TotalAssets1),INDEX(Input,ROW()+1,5),0) -> 0 | G8: =IF(N7=1,0,OFFSET(B8,PrnDB!$K8,0)) -> Total Current Assets | H8: =OFFSET(C8,PrnDB!$K8,0) -> 2800 | I8: =OFFSET(D8,PrnDB!$K8,0) -> 3650 | J8: =IF(OR($B8<>0),1,0) -> 0 | K8: =IFERROR(ROW(OFFSET(PrnDB!$J8,K7,,450))+MATCH(1,OFFSET(PrnDB!$J8,K7,,450),0)-1-ROW()-IF(OR(N6=1,N6=2),N6,0),1000) -> 7 | L8: =IF(PrnDB!$G8=0,0,IFERROR(INDEX(PrnDB!$S$3:$S$17,MATCH(PrnDB!$G8,PrnDB!$R$3:$R$17,0),1),3)) -> 2 | M8: =IFERROR(INDEX(PrnDB!$T$3:$T$17,MATCH(PrnDB!$G8,PrnDB!$R$3:$R$17,0),1),0) -> 2 | N8: =IFERROR(INDEX(PrnDB!$U$3:$U$17,MATCH(PrnDB!$G8,PrnDB!$R$3:$R$17,0),1),0) -> 1 | O8: =K7<>1000 -> TRUE | P8: =IF(PrnDB!$L8=0,"",IF(PrnDB!$L8>1," ","")&IF(PrnDB!$L8=3," ","")&PrnDB!$G8) -> Total Current Assets | R8: Total Assets | S8: 1 | T8: 1 | U8: 1
B9: =IF(ROW(A9)+4<=ROW(TotalAssets1),INDEX(Input,ROW(A9)+1,3),0) -> 0 | C9: =IF(ROW()+4<=ROW(TotalAssets1),INDEX(Input,ROW()+1,4),0) -> 0 | D9: =IF(ROW()+4<=ROW(TotalAssets1),INDEX(Input,ROW()+1,5),0) -> 0 | G9: =IF(N8=1,0,OFFSET(B9,PrnDB!$K9,0)) -> 0 | H9: =OFFSET(C9,PrnDB!$K9,0) -> 0 | I9: =OFFSET(D9,PrnDB!$K9,0) -> 0 | J9: =IF(OR($B9<>0),1,0) -> 0 | K9: =IFERROR(ROW(OFFSET(PrnDB!$J9,K8,,450))+MATCH(1,OFFSET(PrnDB!$J9,K8,,450),0)-1-ROW()-IF(OR(N7=1,N7=2),N7,0),1000) -> 7 | L9: =IF(PrnDB!$G9=0,0,IFERROR(INDEX(PrnDB!$S$3:$S$17,MATCH(PrnDB!$G9,PrnDB!$R$3:$R$17,0),1),3)) -> 0 | M9: =IFERROR(INDEX(PrnDB!$T$3:$T$17,MATCH(PrnDB!$G9,PrnDB!$R$3:$R$17,0),1),0) -> 0 | N9: =IFERROR(INDEX(PrnDB!$U$3:$U$17,MATCH(PrnDB!$G9,PrnDB!$R$3:$R$17,0),1),0) -> 0 | O9: =K8<>1000 -> TRUE | P9: =IF(PrnDB!$L9=0,"",IF(PrnDB!$L9>1," ","")&IF(PrnDB!$L9=3," ","")&PrnDB!$G9) | R9: LIABILITIES | S9: 1
